{"text_format":"1","workbook":"xlsx","n_sheets":5,"sheets":["リスト","散布図データ(有)1","散布図データ(有)2","散布図データ(無)1","散布図データ(無)2"],"not_rendered":{"charts":0,"images":0,"macros":1,"external_links":0,"defined_names":16,"comments":0,"pivot_tables":0},"unopened":[],"bounds":{"document_bytes":16777216,"sheet_cells":100000,"rows_first":2000,"rows_last":500,"rows_between":2000,"halvings":0,"cell_chars":16384,"cell_head_chars":4096},"cells_cut":0,"cells_raw":0,"read":"whole","date_system":"1900"}

{"sheet":"リスト","index":0,"n_rows":87,"n_cols":35,"rows_kept":87,"cut":false,"hidden":false,"merged":[[3,27,4,27],[3,14,4,14],[3,15,4,15],[2,0,4,0],[2,1,4,1],[2,2,4,2],[2,3,4,3],[2,4,4,4],[3,16,4,16],[3,17,4,17],[84,0,84,10],[3,22,3,24],[3,25,4,25],[5,1,11,1],[12,1,20,1],[21,1,44,1],[45,1,83,1],[3,19,4,19],[3,28,4,28],[3,18,4,18],[2,5,4,5],[3,11,4,11],[3,12,4,12],[3,13,4,13],[2,6,4,6],[2,7,2,10],[3,7,4,7],[3,8,4,8],[3,10,4,10],[2,11,2,34],[3,29,3,33],[3,21,4,21],[3,20,4,20],[3,26,4,26]]}
["県内周産期医療体制における各医療機関の役割・機能リスト",null,null,null,null,null,null,null,null,null,null,null,null,null,null,null,null,null,null,null,null,null,null,null,null,null,null,null,null,null,null,null,null,null,"地域医療課調"]
[]
[null,"区分","医療機関名称","所在地","種別","標榜診療科","産科\n病床数","医療従事者の状況\n（令和７年３月時点）",null,null,null,"主な機能（令和７年３月時点）"]
[null,null,null,null,null,null,null,"\n\n産科医師数\n（非常勤含む）","\n\n小児科医数\n（非常勤含む）",null,"\n\n助産師数\n（非常勤含む）","産科領域の一次診療","妊婦健診","正常分娩","選択帝王切開術","緊急帝王切開術","EPDSによるメンタルヘルスチェック","メンタルヘルスケア","オープンシステム","セミオープンシステム","新生児聴覚検査","新生児マススクリーニング(追加検査含む)","産後ケア",null,null,"助産師外来","ＭＦＩＣＵ","NＩＣＵ","ＧＣＵ","NICU入院児等の退院支援",null,null,null,null,"（参考）"]
[null,null,null,null,null,null,null,null,null,"うち\n新生児\n専門医数\n（非常勤含む）",null,null,null,null,null,null,null,null,null,null,null,null,"宿泊型","デイサービス型","アウトリーチ型",null,null,null,null,"退院支援を行う者の設置","在宅ケアに向けた準備のための病床","退院支援の実施","母子保健事業に関する情報提供","レスパイトの実施","医療的ケア児者に係るレスパイト"]
[1,"周産期母子医療センター","福井県立病院","福井市","病院","産婦人科",25,12,9,1,41,"●","●","●","●","●","●","●",null,null,"●","●",null,"●",null,"●","●","●","●","●","●","●","●"]
[2,null,"福井大学医学部附属病院","永平寺町","病院","産婦人科",32,18,20,2,20,"●","●","●","●","●","●","●",null,null,"●","●",null,"●",null,null,"●","●","●","●","●","●","●","●"]
[3,null,"福井赤十字病院","福井市","病院","産婦人科",29,6,8,"ー",24,"●","●","●","●","●","●","●",null,null,"●","●",null,null,null,"●",null,"●","●","●","●","●","●"]
[4,null,"福井県済生会病院","福井市","病院","産婦人科",27,8,5,1,29,"●","●","●","●","●","●","●",null,null,"●","●","●","●",null,null,null,"●","●",null,null,null,"●",null,"●"]
[5,null,"医療法人　福井愛育病院","福井市","病院","産婦人科",54,6,8,1,25,"●","●","●","●","●","●","●",null,null,"●","●",null,"●",null,"●",null,"●","●",null,null,null,"●"]
[6,null,"市立敦賀病院","敦賀市","病院","産婦人科",35,4,6,"ー",19,"●","●","●","●","●","●","●",null,null,"●","●","●","●",null,null,null,"●","●","●","●","●","●"]
[7,null,"杉田玄白記念公立小浜病院","小浜市","病院","産婦人科",12,5,5,"ー",18,"●","●","●","●","●","●","●",null,null,"●","●",null,null,null,null,null,"●","●","●",null,"●","●","●","●"]
[8,"センター以外の分娩取扱施設","坂井市立三国病院","坂井市","病院","産婦人科",4,3,1,"ー",9,"●","●","●","●","●",null,null,null,null,"●","●","●","●"]
[9,null,"ホーカベレディースクリニック","福井市","診療所","産科・婦人科",19,6,3,"ー",13,"●","●","●","●","●","●","●",null,null,"●","●",null,"●"]
[10,null,"本多レディースクリニック","福井市","診療所","産科・婦人科",17,2,1,1,6,"●","●","●","●","●","●","●",null,null,"●","●","●","●"]
[11,null,"公立丹南病院","鯖江市","病院","産婦人科",7,4,4,"ー",11,"●","●","●","●","●","●","●",null,null,"●","●","●","●",null,null,null,null,null,null,null,null,null,"●","●"]
[12,null,"産婦人科　鈴木クリニック","鯖江市","診療所","産婦人科",17,2,2,"ー",1,"●","●","●","●","●","●","●",null,null,"●","●","●","●"]
[13,null,"医療法人　文生会 井元産婦人科医院","越前市","診療所","産婦人科",13,2,"ー","ー",5,"●","●","●","●","●","●","●",null,null,"●","●",null,null,null,"●"]
[14,null,"お産の家ささした助産所","越前市","助産所","ー","ー","ー","ー","ー",5,null,"●","●",null,null,"●","●","●","●",null,null,"●","●","●","●"]
[15,null,"産科・婦人科　井上クリニック","敦賀市","診療所","産科・婦人科",18,1,2,1,11,"●","●","●","●","●","●","●",null,null,"●","●","●","●"]
[16,null,"一般社団法人たきざわ助産院産前産後の家","敦賀市","助産所","ー","ー","ー","ー","ー",6,null,"●","●",null,null,null,"●","●","●",null,"●","●","●","●","●",null,null,null,null,null,null,null,"●"]
[17,"その他産婦人科・精神科標榜医療機関等","公益財団法人　松原病院","福井市","病院","精神科","ー","ー","ー","ー","ー",null,null,null,null,null,null,"●"]
[18,null,"こころの森病院","福井市","病院","精神科","ー","ー","ー","ー","ー",null,null,null,null,null,null,"●"]
[19,null,"福井総合病院","福井市","病院","産婦人科","－",2,1,"ー","ー","●","●"]
[20,null,"福仁会病院","福井市","病院","精神科","－","ー","ー","ー","ー",null,null,null,null,null,null,"●"]
[21,null,"医療法人初生会　福井中央クリニック","福井市","病院","精神科、心療内科","－","ー","ー","ー","ー",null,null,null,null,null,null,"●"]
[22,null,"福井厚生病院","福井市","病院","精神科","－","ー","ー","ー","ー",null,null,null,null,null,null,"●"]
[23,null,"福井県こども療育センター","福井市","病院","ー","ー","ー","ー","ー","ー",null,null,null,null,null,null,null,null,null,null,null,null,null,null,null,null,null,null,null,null,null,null,null,"●"]
[24,null,"福井総合クリニック","福井市","診療所","産婦人科","ー",2,2,"ー","ー","●","●",null,null,null,null,null,null,"●"]
[25,null,"医療法人英和会　貴志医院","福井市","診療所","精神科","ー","ー","ー","ー","ー",null,null,null,null,null,null,"●"]
[26,null,"木原クリニック","福井市","診療所","精神科、心療内科","ー","ー","ー","ー","ー",null,null,null,null,null,null,"●"]
[27,null,"加藤内科・婦人科クリニック","福井市","診療所","婦人科","ー",1,"ー","ー","ー","●","●",null,null,null,null,null,null,"●"]
[28,null,"平井医院","福井市","診療所","産婦人科","ー",1,"ー","ー","ー","●"]
[29,null,"長谷川医院","福井市","診療所","精神科","ー","ー","ー","ー","ー",null,null,null,null,null,null,"●"]
[30,null,"まきレディースクリニック","福井市","診療所","婦人科","ー","ー","ー","ー","ー","●",null,null,null,null,null,"●"]
[31,null,"ヒロセクリニック","福井市","診療所","精神科","ー","ー","ー","ー","ー",null,null,null,null,null,null,"●"]
[32,null,"打波外科胃腸科・婦人科","福井市","診療所","婦人科","－",1,"ー","ー","ー","●","●"]
[33,null,"西ウイミンズクリニック","福井市","診療所","産婦人科","ー",4,"ー","ー","ー","●","●"]
[34,null,"むかい心療内科クリニック","福井市","診療所","精神科、心療内科","ー","ー","ー","ー","ー",null,null,null,null,null,null,"●"]
[35,null,"メンタルクリニックもりた","福井市","診療所","精神科、心療内科","ー","ー","ー","ー","ー",null,null,null,null,null,null,"●"]
[36,null,"医療法人カンマ　こころとからだクリニック福井","福井市","診療所","精神科、心療内科","ー","ー","ー","ー","ー",null,null,null,null,null,null,"●"]
[37,null,"福井心のクリニック","福井市","診療所","精神科、神経内科","ー","ー","ー","ー","ー",null,null,null,null,null,null,"●"]
[38,null,"牧田心療内科クリニック","福井市","診療所","精神科、心療内科","ー","ー","ー","ー","ー",null,null,null,null,null,null,"●"]
[39,null,"母乳相談室マミークラブ","福井市","助産所","ー","ー","ー","ー","ー",1,null,null,null,null,null,"●","●",null,null,null,null,null,null,"●"]
[40,null,"三嶋母乳と育児の相談室Manma","福井市","助産所","ー","ー","ー","ー","ー",1,null,null,null,null,null,"●","●",null,null,null,null,null,"●","●"]
[41,"その他産婦人科・精神科標榜医療機関等","西村助産院まなかい母乳育児相談室","福井市","助産所","ー","ー","ー","ー","ー",1,null,null,null,null,null,"●","●",null,null,null,null,null,"●","●"]
[42,null,"千秋助産所","福井市","助産所","ー","ー","ー","ー","ー",1,null,null,null,null,null,"●","●",null,null,null,null,null,null,"●"]
[43,null,"かたおか助産所","福井市","助産所","ー","ー","ー","ー","ー",1,null,null,null,null,null,null,null,null,null,null,null,null,"●","●"]
[44,null,"宮前出張助産所","福井市","助産所","ー","ー","ー","ー","ー",1,null,null,null,null,null,null,null,null,null,null,null,null,null,"●"]
[45,null,"小林助産所","福井市","助産所","ー","ー","ー","ー","ー",1,null,null,null,null,null,null,null,null,null,null,null,null,null,"●"]
[46,null,"ままどれみ","福井市","助産所","ー","ー","ー","ー","ー",1,null,null,null,null,null,null,null,null,null,null,null,null,"●","●"]
[47,null,"たけのこ相談room","福井市","助産所","ー","ー","ー","ー","ー",1,null,null,null,null,null,null,null,null,null,null,null,null,null,"●"]
[48,null,"国立病院機構あわら病院","あわら市","病院","ー","ー","ー","ー","ー","ー",null,null,null,null,null,null,null,null,null,null,null,null,null,null,null,null,null,null,null,null,null,null,null,"●"]
[49,null,"金津産婦人科クリニック","あわら市","診療所","産婦人科","ー",1,"ー","ー","ー","●","●"]
[50,null,"菜の花こころのクリニック","坂井市","診療所","精神科","ー","ー","ー","ー","ー",null,null,null,null,null,null,"●"]
[51,null,"なばたけ助産院","坂井市","助産所","ー","ー","ー","ー","ー",1,null,null,null,null,null,null,null,null,null,null,null,null,null,"●"]
[52,null,"助産師ハルキママ母乳育児相談室","坂井市","助産所","ー","ー","ー","ー","ー",1,null,null,null,null,null,null,null,null,null,null,null,null,"●","●"]
[53,null,"ハッピー💛ベビー母乳育児相談室","坂井市","助産所","ー","ー","ー","ー","ー",1,null,null,null,null,null,null,null,null,null,null,null,null,"●","●"]
[54,null,"母乳ケア Baby's breath","坂井市","助産所","ー","ー","ー","ー","ー",1,null,null,null,null,null,null,null,null,null,null,null,null,null,"●"]
[55,null,"たけとう病院","勝山市","病院","ー","ー","ー","ー","ー","ー",null,null,null,null,null,null,"●"]
[56,null,"福井勝山総合病院","勝山市","病院","産婦人科","－",3,6,"ー",6,"●","●",null,null,null,"●","●",null,"●"]
[57,null,"はるひな助産院","勝山市","助産所","ー","ー","ー","ー","ー",1,null,null,null,null,null,null,null,null,null,null,null,null,"●","●"]
[58,null,"栃木産婦人科医院","大野市","診療所","産婦人科","－",1,"ー","ー",1,"●","●"]
[59,null,"広瀬病院","鯖江市","病院","婦人科","－",1,"ー","ー","ー",null,null,null,null,null,null,"●"]
[60,null,"みどりケ丘病院","鯖江市","病院","精神科","－","ー","ー","ー","ー",null,null,null,null,null,null,"●"]
[61,null,"津田クリニック","鯖江市","診療所","精神科","－","ー","ー","ー","ー",null,null,null,null,null,null,"●"]
[62,null,"たかはし医院","鯖江市","診療所","産婦人科","－",1,"ー","ー","ー","●","●"]
[63,null,"加藤産婦人科","鯖江市","診療所","産婦人科","ー",1,"ー","ー","ー","●","●"]
[64,null,"よしだ助産院 母乳育児相談室","鯖江市","助産所","ー","ー","ー","ー","ー",1,null,null,null,null,null,"●","●",null,null,null,null,"●","●","●"]
[65,null,"武生記念病院","越前市","病院","精神科","ー","ー","ー","ー","ー",null,null,null,null,null,null,"●"]
[66,null,"桑原心療内科クリニック","越前市","診療所","精神科","ー","ー","ー","ー","ー",null,null,null,null,null,null,"●"]
[67,null,"国立病院機構敦賀医療センター","敦賀市","病院","婦人科","－",2,4,"ー","ー","●","●",null,null,null,null,"●",null,"●",null,null,null,null,null,null,null,null,null,null,null,null,null,null,"●"]
[68,null,"医療法人　敦賀温泉病院","敦賀市","病院","精神科、心療内科","－","ー","ー","ー","ー",null,null,null,null,null,null,"●"]
[69,null,"医療法人 松田ﾏﾀﾆﾃｨｸﾘﾆｯｸ","敦賀市","診療所","産婦人科","ー",1,"ー","ー","ー",null,"●",null,null,null,null,null,"●","●"]
[70,null,"塚本助産所","敦賀市","助産所","ー","ー","ー","ー","ー",1,null,null,null,null,null,null,"●",null,null,null,null,null,null,"●"]
[71,null,"みちる助産院","敦賀市","助産所","ー","ー","ー","ー","ー",1,null,null,null,null,null,null,null,null,null,null,null,null,null,"●"]
[72,null,"いちご助産院","敦賀市","助産所","ー","ー","ー","ー","ー",1,null,null,null,null,null,null,"●",null,null,null,null,null,"●","●"]
[73,null,"高橋助産院","敦賀市","助産所","ー","ー","ー","ー","ー",1,null,null,null,null,null,null,"●",null,null,null,null,null,null,"●"]
[74,null,"うまじ助産所","若狭町","助産所","ー","ー","ー","ー","ー",1,null,null,null,null,null,null,null,null,null,null,null,null,"●","●"]
[75,null,"mom's harmony 母乳育児相談室","若狭町","助産所","ー","ー","ー","ー","ー",1,null,null,null,null,null,null,"●",null,null,null,null,null,"●","●"]
[76,null,"中山クリニック","小浜市","診療所","産婦人科","ー",2,1,"ー","ー","●","●",null,null,null,null,null,null,"●"]
[77,null,"やむろ助産所","小浜市","助産所","ー","ー","ー","ー","ー",1,null,null,null,null,null,null,null,null,null,null,null,null,"●","●"]
[78,null,"だいどう助産院","小浜市","助産所","ー","ー","ー","ー","ー",1,null,null,null,null,null,null,"●"]
[79,null,"地域医療機能推進機構　若狭高浜病院","高浜町","病院","婦人科","ー",2,"ー","ー","ー","●"]
["計",null,null,null,null,null,null,null,null,null,null,{"$f":"COUNTA(L6:L84)","v":29},{"$f":"COUNTA(M6:M84)","v":29},16,14,14,20,50,3,8,14,15,10,25,24,6,2,7,7,5,4,5,7,4,6]
[]
["※「主な機能」は休止中の場合は含まない。"]

{"sheet":"散布図データ(有)1","index":1,"n_rows":1003,"n_cols":10,"rows_kept":1003,"cut":false,"hidden":true,"merged":[]}
["1801","福井・坂井",null,null,{"$f":"INDEX($A:$A,MATCH(F1,$B:$B,0))","v":{"$error":"#REF!"}},{"$f":"#REF!","v":{"$error":"#REF!"}},"有","【散布図データ参照列】","【散布図データ参照列】"]
["1802","奥越",null,"病床外来管理番号","紹介受診重点外来医療機関への意向の有無","初診の外来の患者延べ数に対する割合","再診の外来の患者延べ数に対する割合","初診の外来の患者延べ数に対する割合","再診の外来の患者延べ数に対する割合"]
["1803","丹南",null,{"$f":"IF(#REF!=$E$1,IF(#REF!=$G$1,#REF!,NA()),NA())","v":{"$error":"#REF!"}},{"$f":"IF(#REF!=$E$1,IF(#REF!=$G$1,#REF!,NA()),NA())","v":{"$error":"#REF!"}},{"$f":"IF(#REF!=$E$1,IF(#REF!=$G$1,IF(#REF!=\"\",NA(),#REF!),NA()),NA())","v":{"$error":"#REF!"}},{"$f":"IF(#REF!=$E$1,IF(#REF!=$G$1,IF(#REF!=\"\",NA(),#REF!),NA()),NA())","v":{"$error":"#REF!"}},{"$f":"IF(AND(ISNUMBER(G3),F3=\"-\"),0,F3)","v":{"$error":"#REF!"}},{"$f":"IF(AND(ISNUMBER(F3),G3=\"-\"),0,G3)","v":{"$error":"#REF!"}}]
["1804","嶺南",null,{"$f":"IF(#REF!=$E$1,IF(#REF!=$G$1,#REF!,NA()),NA())","v":{"$error":"#REF!"}},{"$f":"IF(#REF!=$E$1,IF(#REF!=$G$1,#REF!,NA()),NA())","v":{"$error":"#REF!"}},{"$f":"IF(#REF!=$E$1,IF(#REF!=$G$1,IF(#REF!=\"\",NA(),#REF!),NA()),NA())","v":{"$error":"#REF!"}},{"$f":"IF(#REF!=$E$1,IF(#REF!=$G$1,IF(#REF!=\"\",NA(),#REF!),NA()),NA())","v":{"$error":"#REF!"}},{"$f":"IF(AND(ISNUMBER(G4),F4=\"-\"),0,F4)","v":{"$error":"#REF!"}},{"$f":"IF(AND(ISNUMBER(F4),G4=\"-\"),0,G4)","v":{"$error":"#REF!"}}]
[null,null,null,{"$f":"IF(#REF!=$E$1,IF(#REF!=$G$1,#REF!,NA()),NA())","v":{"$error":"#REF!"}},{"$f":"IF(#REF!=$E$1,IF(#REF!=$G$1,#REF!,NA()),NA())","v":{"$error":"#REF!"}},{"$f":"IF(#REF!=$E$1,IF(#REF!=$G$1,IF(#REF!=\"\",NA(),#REF!),NA()),NA())","v":{"$error":"#REF!"}},{"$f":"IF(#REF!=$E$1,IF(#REF!=$G$1,IF(#REF!=\"\",NA(),#REF!),NA()),NA())","v":{"$error":"#REF!"}},{"$error":"#REF!"},{"$error":"#REF!"}]
[null,null,null,{"$f":"IF(#REF!=$E$1,IF(#REF!=$G$1,#REF!,NA()),NA())","v":{"$error":"#REF!"}},{"$f":"IF(#REF!=$E$1,IF(#REF!=$G$1,#REF!,NA()),NA())","v":{"$error":"#REF!"}},{"$f":"IF(#REF!=$E$1,IF(#REF!=$G$1,IF(#REF!=\"\",NA(),#REF!),NA()),NA())","v":{"$error":"#REF!"}},{"$f":"IF(#REF!=$E$1,IF(#REF!=$G$1,IF(#REF!=\"\",NA(),#REF!),NA()),NA())","v":{"$error":"#REF!"}},{"$error":"#REF!"},{"$error":"#REF!"}]
[null,null,null,{"$f":"IF(#REF!=$E$1,IF(#REF!=$G$1,#REF!,NA()),NA())","v":{"$error":"#REF!"}},{"$f":"IF(#REF!=$E$1,IF(#REF!=$G$1,#REF!,NA()),NA())","v":{"$error":"#REF!"}},{"$f":"IF(#REF!=$E$1,IF(#REF!=$G$1,IF(#REF!=\"\",NA(),#REF!),NA()),NA())","v":{"$error":"#REF!"}},{"$f":"IF(#REF!=$E$1,IF(#REF!=$G$1,IF(#REF!=\"\",NA(),#REF!),NA()),NA())","v":{"$error":"#REF!"}},{"$error":"#REF!"},{"$error":"#REF!"}]
[null,null,null,{"$f":"IF(#REF!=$E$1,IF(#REF!=$G$1,#REF!,NA()),NA())","v":{"$error":"#REF!"}},{"$f":"IF(#REF!=$E$1,IF(#REF!=$G$1,#REF!,NA()),NA())","v":{"$error":"#REF!"}},{"$f":"IF(#REF!=$E$1,IF(#REF!=$G$1,IF(#REF!=\"\",NA(),#REF!),NA()),NA())","v":{"$error":"#REF!"}},{"$f":"IF(#REF!=$E$1,IF(#REF!=$G$1,IF(#REF!=\"\",NA(),#REF!),NA()),NA())","v":{"$error":"#REF!"}},{"$error":"#REF!"},{"$error":"#REF!"}]
[null,null,null,{"$f":"IF(#REF!=$E$1,IF(#REF!=$G$1,#REF!,NA()),NA())","v":{"$error":"#REF!"}},{"$f":"IF(#REF!=$E$1,IF(#REF!=$G$1,#REF!,NA()),NA())","v":{"$error":"#REF!"}},{"$f":"IF(#REF!=$E$1,IF(#REF!=$G$1,IF(#REF!=\"\",NA(),#REF!),NA()),NA())","v":{"$error":"#REF!"}},{"$f":"IF(#REF!=$E$1,IF(#REF!=$G$1,IF(#REF!=\"\",NA(),#REF!),NA()),NA())","v":{"$error":"#REF!"}},{"$error":"#REF!"},{"$error":"#REF!"}]
[null,null,null,{"$f":"IF(#REF!=$E$1,IF(#REF!=$G$1,#REF!,NA()),NA())","v":{"$error":"#REF!"}},{"$f":"IF(#REF!=$E$1,IF(#REF!=$G$1,#REF!,NA()),NA())","v":{"$error":"#REF!"}},{"$f":"IF(#REF!=$E$1,IF(#REF!=$G$1,IF(#REF!=\"\",NA(),#REF!),NA()),NA())","v":{"$error":"#REF!"}},{"$f":"IF(#REF!=$E$1,IF(#REF!=$G$1,IF(#REF!=\"\",NA(),#REF!),NA()),NA())","v":{"$error":"#REF!"}},{"$error":"#REF!"},{"$error":"#REF!"}]
[null,null,null,{"$f":"IF(#REF!=$E$1,IF(#REF!=$G$1,#REF!,NA()),NA())","v":{"$error":"#REF!"}},{"$f":"IF(#REF!=$E$1,IF(#REF!=$G$1,#REF!,NA()),NA())","v":{"$error":"#REF!"}},{"$f":"IF(#REF!=$E$1,IF(#REF!=$G$1,IF(#REF!=\"\",NA(),#REF!),NA()),NA())","v":{"$error":"#REF!"}},{"$f":"IF(#REF!=$E$1,IF(#REF!=$G$1,IF(#REF!=\"\",NA(),#REF!),NA()),NA())","v":{"$error":"#REF!"}},{"$error":"#REF!"},{"$error":"#REF!"}]
[null,null,null,{"$f":"IF(#REF!=$E$1,IF(#REF!=$G$1,#REF!,NA()),NA())","v":{"$error":"#REF!"}},{"$f":"IF(#REF!=$E$1,IF(#REF!=$G$1,#REF!,NA()),NA())","v":{"$error":"#REF!"}},{"$f":"IF(#REF!=$E$1,IF(#REF!=$G$1,IF(#REF!=\"\",NA(),#REF!),NA()),NA())","v":{"$error":"#REF!"}},{"$f":"IF(#REF!=$E$1,IF(#REF!=$G$1,IF(#REF!=\"\",NA(),#REF!),NA()),NA())","v":{"$error":"#REF!"}},{"$error":"#REF!"},{"$error":"#REF!"}]
[null,null,null,{"$f":"IF(#REF!=$E$1,IF(#REF!=$G$1,#REF!,NA()),NA())","v":{"$error":"#REF!"}},{"$f":"IF(#REF!=$E$1,IF(#REF!=$G$1,#REF!,NA()),NA())","v":{"$error":"#REF!"}},{"$f":"IF(#REF!=$E$1,IF(#REF!=$G$1,IF(#REF!=\"\",NA(),#REF!),NA()),NA())","v":{"$error":"#REF!"}},{"$f":"IF(#REF!=$E$1,IF(#REF!=$G$1,IF(#REF!=\"\",NA(),#REF!),NA()),NA())","v":{"$error":"#REF!"}},{"$error":"#REF!"},{"$error":"#REF!"}]
[null,null,null,{"$f":"IF(#REF!=$E$1,IF(#REF!=$G$1,#REF!,NA()),NA())","v":{"$error":"#REF!"}},{"$f":"IF(#REF!=$E$1,IF(#REF!=$G$1,#REF!,NA()),NA())","v":{"$error":"#REF!"}},{"$f":"IF(#REF!=$E$1,IF(#REF!=$G$1,IF(#REF!=\"\",NA(),#REF!),NA()),NA())","v":{"$error":"#REF!"}},{"$f":"IF(#REF!=$E$1,IF(#REF!=$G$1,IF(#REF!=\"\",NA(),#REF!),NA()),NA())","v":{"$error":"#REF!"}},{"$error":"#REF!"},{"$error":"#REF!"}]
[null,null,null,{"$f":"IF(#REF!=$E$1,IF(#REF!=$G$1,#REF!,NA()),NA())","v":{"$error":"#REF!"}},{"$f":"IF(#REF!=$E$1,IF(#REF!=$G$1,#REF!,NA()),NA())","v":{"$error":"#REF!"}},{"$f":"IF(#REF!=$E$1,IF(#REF!=$G$1,IF(#REF!=\"\",NA(),#REF!),NA()),NA())","v":{"$error":"#REF!"}},{"$f":"IF(#REF!=$E$1,IF(#REF!=$G$1,IF(#REF!=\"\",NA(),#REF!),NA()),NA())","v":{"$error":"#REF!"}},{"$error":"#REF!"},{"$error":"#REF!"}]
[null,null,null,{"$f":"IF(#REF!=$E$1,IF(#REF!=$G$1,#REF!,NA()),NA())","v":{"$error":"#REF!"}},{"$f":"IF(#REF!=$E$1,IF(#REF!=$G$1,#REF!,NA()),NA())","v":{"$error":"#REF!"}},{"$f":"IF(#REF!=$E$1,IF(#REF!=$G$1,IF(#REF!=\"\",NA(),#REF!),NA()),NA())","v":{"$error":"#REF!"}},{"$f":"IF(#REF!=$E$1,IF(#REF!=$G$1,IF(#REF!=\"\",NA(),#REF!),NA()),NA())","v":{"$error":"#REF!"}},{"$error":"#REF!"},{"$error":"#REF!"}]
[null,null,null,{"$f":"IF(#REF!=$E$1,IF(#REF!=$G$1,#REF!,NA()),NA())","v":{"$error":"#REF!"}},{"$f":"IF(#REF!=$E$1,IF(#REF!=$G$1,#REF!,NA()),NA())","v":{"$error":"#REF!"}},{"$f":"IF(#REF!=$E$1,IF(#REF!=$G$1,IF(#REF!=\"\",NA(),#REF!),NA()),NA())","v":{"$error":"#REF!"}},{"$f":"IF(#REF!=$E$1,IF(#REF!=$G$1,IF(#REF!=\"\",NA(),#REF!),NA()),NA())","v":{"$error":"#REF!"}},{"$error":"#REF!"},{"$error":"#REF!"}]
[null,null,null,{"$f":"IF(#REF!=$E$1,IF(#REF!=$G$1,#REF!,NA()),NA())","v":{"$error":"#REF!"}},{"$f":"IF(#REF!=$E$1,IF(#REF!=$G$1,#REF!,NA()),NA())","v":{"$error":"#REF!"}},{"$f":"IF(#REF!=$E$1,IF(#REF!=$G$1,IF(#REF!=\"\",NA(),#REF!),NA()),NA())","v":{"$error":"#REF!"}},{"$f":"IF(#REF!=$E$1,IF(#REF!=$G$1,IF(#REF!=\"\",NA(),#REF!),NA()),NA())","v":{"$error":"#REF!"}},{"$error":"#REF!"},{"$error":"#REF!"}]
[null,null,null,{"$f":"IF(#REF!=$E$1,IF(#REF!=$G$1,#REF!,NA()),NA())","v":{"$error":"#REF!"}},{"$f":"IF(#REF!=$E$1,IF(#REF!=$G$1,#REF!,NA()),NA())","v":{"$error":"#REF!"}},{"$f":"IF(#REF!=$E$1,IF(#REF!=$G$1,IF(#REF!=\"\",NA(),#REF!),NA()),NA())","v":{"$error":"#REF!"}},{"$f":"IF(#REF!=$E$1,IF(#REF!=$G$1,IF(#REF!=\"\",NA(),#REF!),NA()),NA())","v":{"$error":"#REF!"}},{"$error":"#REF!"},{"$error":"#REF!"}]
[null,null,null,{"$f":"IF(#REF!=$E$1,IF(#REF!=$G$1,#REF!,NA()),NA())","v":{"$error":"#REF!"}},{"$f":"IF(#REF!=$E$1,IF(#REF!=$G$1,#REF!,NA()),NA())","v":{"$error":"#REF!"}},{"$f":"IF(#REF!=$E$1,IF(#REF!=$G$1,IF(#REF!=\"\",NA(),#REF!),NA()),NA())","v":{"$error":"#REF!"}},{"$f":"IF(#REF!=$E$1,IF(#REF!=$G$1,IF(#REF!=\"\",NA(),#REF!),NA()),NA())","v":{"$error":"#REF!"}},{"$error":"#REF!"},{"$error":"#REF!"}]
[null,null,null,{"$f":"IF(#REF!=$E$1,IF(#REF!=$G$1,#REF!,NA()),NA())","v":{"$error":"#REF!"}},{"$f":"IF(#REF!=$E$1,IF(#REF!=$G$1,#REF!,NA()),NA())","v":{"$error":"#REF!"}},{"$f":"IF(#REF!=$E$1,IF(#REF!=$G$1,IF(#REF!=\"\",NA(),#REF!),NA()),NA())","v":{"$error":"#REF!"}},{"$f":"IF(#REF!=$E$1,IF(#REF!=$G$1,IF(#REF!=\"\",NA(),#REF!),NA()),NA())","v":{"$error":"#REF!"}},{"$error":"#REF!"},{"$error":"#REF!"}]
[null,null,null,{"$f":"IF(#REF!=$E$1,IF(#REF!=$G$1,#REF!,NA()),NA())","v":{"$error":"#REF!"}},{"$f":"IF(#REF!=$E$1,IF(#REF!=$G$1,#REF!,NA()),NA())","v":{"$error":"#REF!"}},{"$f":"IF(#REF!=$E$1,IF(#REF!=$G$1,IF(#REF!=\"\",NA(),#REF!),NA()),NA())","v":{"$error":"#REF!"}},{"$f":"IF(#REF!=$E$1,IF(#REF!=$G$1,IF(#REF!=\"\",NA(),#REF!),NA()),NA())","v":{"$error":"#REF!"}},{"$error":"#REF!"},{"$error":"#REF!"}]
[null,null,null,{"$f":"IF(#REF!=$E$1,IF(#REF!=$G$1,#REF!,NA()),NA())","v":{"$error":"#REF!"}},{"$f":"IF(#REF!=$E$1,IF(#REF!=$G$1,#REF!,NA()),NA())","v":{"$error":"#REF!"}},{"$f":"IF(#REF!=$E$1,IF(#REF!=$G$1,IF(#REF!=\"\",NA(),#REF!),NA()),NA())","v":{"$error":"#REF!"}},{"$f":"IF(#REF!=$E$1,IF(#REF!=$G$1,IF(#REF!=\"\",NA(),#REF!),NA()),NA())","v":{"$error":"#REF!"}},{"$error":"#REF!"},{"$error":"#REF!"}]
[null,null,null,{"$f":"IF(#REF!=$E$1,IF(#REF!=$G$1,#REF!,NA()),NA())","v":{"$error":"#REF!"}},{"$f":"IF(#REF!=$E$1,IF(#REF!=$G$1,#REF!,NA()),NA())","v":{"$error":"#REF!"}},{"$f":"IF(#REF!=$E$1,IF(#REF!=$G$1,IF(#REF!=\"\",NA(),#REF!),NA()),NA())","v":{"$error":"#REF!"}},{"$f":"IF(#REF!=$E$1,IF(#REF!=$G$1,IF(#REF!=\"\",NA(),#REF!),NA()),NA())","v":{"$error":"#REF!"}},{"$error":"#REF!"},{"$error":"#REF!"}]
[null,null,null,{"$f":"IF(#REF!=$E$1,IF(#REF!=$G$1,#REF!,NA()),NA())","v":{"$error":"#REF!"}},{"$f":"IF(#REF!=$E$1,IF(#REF!=$G$1,#REF!,NA()),NA())","v":{"$error":"#REF!"}},{"$f":"IF(#REF!=$E$1,IF(#REF!=$G$1,IF(#REF!=\"\",NA(),#REF!),NA()),NA())","v":{"$error":"#REF!"}},{"$f":"IF(#REF!=$E$1,IF(#REF!=$G$1,IF(#REF!=\"\",NA(),#REF!),NA()),NA())","v":{"$error":"#REF!"}},{"$error":"#REF!"},{"$error":"#REF!"}]
[null,null,null,{"$f":"IF(#REF!=$E$1,IF(#REF!=$G$1,#REF!,NA()),NA())","v":{"$error":"#REF!"}},{"$f":"IF(#REF!=$E$1,IF(#REF!=$G$1,#REF!,NA()),NA())","v":{"$error":"#REF!"}},{"$f":"IF(#REF!=$E$1,IF(#REF!=$G$1,IF(#REF!=\"\",NA(),#REF!),NA()),NA())","v":{"$error":"#REF!"}},{"$f":"IF(#REF!=$E$1,IF(#REF!=$G$1,IF(#REF!=\"\",NA(),#REF!),NA()),NA())","v":{"$error":"#REF!"}},{"$error":"#REF!"},{"$error":"#REF!"}]
[null,null,null,{"$f":"IF(#REF!=$E$1,IF(#REF!=$G$1,#REF!,NA()),NA())","v":{"$error":"#REF!"}},{"$f":"IF(#REF!=$E$1,IF(#REF!=$G$1,#REF!,NA()),NA())","v":{"$error":"#REF!"}},{"$f":"IF(#REF!=$E$1,IF(#REF!=$G$1,IF(#REF!=\"\",NA(),#REF!),NA()),NA())","v":{"$error":"#REF!"}},{"$f":"IF(#REF!=$E$1,IF(#REF!=$G$1,IF(#REF!=\"\",NA(),#REF!),NA()),NA())","v":{"$error":"#REF!"}},{"$error":"#REF!"},{"$error":"#REF!"}]
[null,null,null,{"$f":"IF(#REF!=$E$1,IF(#REF!=$G$1,#REF!,NA()),NA())","v":{"$error":"#REF!"}},{"$f":"IF(#REF!=$E$1,IF(#REF!=$G$1,#REF!,NA()),NA())","v":{"$error":"#REF!"}},{"$f":"IF(#REF!=$E$1,IF(#REF!=$G$1,IF(#REF!=\"\",NA(),#REF!),NA()),NA())","v":{"$error":"#REF!"}},{"$f":"IF(#REF!=$E$1,IF(#REF!=$G$1,IF(#REF!=\"\",NA(),#REF!),NA()),NA())","v":{"$error":"#REF!"}},{"$error":"#REF!"},{"$error":"#REF!"}]
[null,null,null,{"$f":"IF(#REF!=$E$1,IF(#REF!=$G$1,#REF!,NA()),NA())","v":{"$error":"#REF!"}},{"$f":"IF(#REF!=$E$1,IF(#REF!=$G$1,#REF!,NA()),NA())","v":{"$error":"#REF!"}},{"$f":"IF(#REF!=$E$1,IF(#REF!=$G$1,IF(#REF!=\"\",NA(),#REF!),NA()),NA())","v":{"$error":"#REF!"}},{"$f":"IF(#REF!=$E$1,IF(#REF!=$G$1,IF(#REF!=\"\",NA(),#REF!),NA()),NA())","v":{"$error":"#REF!"}},{"$error":"#REF!"},{"$error":"#REF!"}]
[null,null,null,{"$f":"IF(#REF!=$E$1,IF(#REF!=$G$1,#REF!,NA()),NA())","v":{"$error":"#REF!"}},{"$f":"IF(#REF!=$E$1,IF(#REF!=$G$1,#REF!,NA()),NA())","v":{"$error":"#REF!"}},{"$f":"IF(#REF!=$E$1,IF(#REF!=$G$1,IF(#REF!=\"\",NA(),#REF!),NA()),NA())","v":{"$error":"#REF!"}},{"$f":"IF(#REF!=$E$1,IF(#REF!=$G$1,IF(#REF!=\"\",NA(),#REF!),NA()),NA())","v":{"$error":"#REF!"}},{"$error":"#REF!"},{"$error":"#REF!"}]
[null,null,null,{"$f":"IF(#REF!=$E$1,IF(#REF!=$G$1,#REF!,NA()),NA())","v":{"$error":"#REF!"}},{"$f":"IF(#REF!=$E$1,IF(#REF!=$G$1,#REF!,NA()),NA())","v":{"$error":"#REF!"}},{"$f":"IF(#REF!=$E$1,IF(#REF!=$G$1,IF(#REF!=\"\",NA(),#REF!),NA()),NA())","v":{"$error":"#REF!"}},{"$f":"IF(#REF!=$E$1,IF(#REF!=$G$1,IF(#REF!=\"\",NA(),#REF!),NA()),NA())","v":{"$error":"#REF!"}},{"$error":"#REF!"},{"$error":"#REF!"}]
[null,null,null,{"$f":"IF(#REF!=$E$1,IF(#REF!=$G$1,#REF!,NA()),NA())","v":{"$error":"#REF!"}},{"$f":"IF(#REF!=$E$1,IF(#REF!=$G$1,#REF!,NA()),NA())","v":{"$error":"#REF!"}},{"$f":"IF(#REF!=$E$1,IF(#REF!=$G$1,IF(#REF!=\"\",NA(),#REF!),NA()),NA())","v":{"$error":"#REF!"}},{"$f":"IF(#REF!=$E$1,IF(#REF!=$G$1,IF(#REF!=\"\",NA(),#REF!),NA()),NA())","v":{"$error":"#REF!"}},{"$error":"#REF!"},{"$error":"#REF!"}]
[null,null,null,{"$f":"IF(#REF!=$E$1,IF(#REF!=$G$1,#REF!,NA()),NA())","v":{"$error":"#REF!"}},{"$f":"IF(#REF!=$E$1,IF(#REF!=$G$1,#REF!,NA()),NA())","v":{"$error":"#REF!"}},{"$f":"IF(#REF!=$E$1,IF(#REF!=$G$1,IF(#REF!=\"\",NA(),#REF!),NA()),NA())","v":{"$error":"#REF!"}},{"$f":"IF(#REF!=$E$1,IF(#REF!=$G$1,IF(#REF!=\"\",NA(),#REF!),NA()),NA())","v":{"$error":"#REF!"}},{"$error":"#REF!"},{"$error":"#REF!"}]
[null,null,null,{"$f":"IF(#REF!=$E$1,IF(#REF!=$G$1,#REF!,NA()),NA())","v":{"$error":"#REF!"}},{"$f":"IF(#REF!=$E$1,IF(#REF!=$G$1,#REF!,NA()),NA())","v":{"$error":"#REF!"}},{"$f":"IF(#REF!=$E$1,IF(#REF!=$G$1,IF(#REF!=\"\",NA(),#REF!),NA()),NA())","v":{"$error":"#REF!"}},{"$f":"IF(#REF!=$E$1,IF(#REF!=$G$1,IF(#REF!=\"\",NA(),#REF!),NA()),NA())","v":{"$error":"#REF!"}},{"$error":"#REF!"},{"$error":"#REF!"}]
[null,null,null,{"$f":"IF(#REF!=$E$1,IF(#REF!=$G$1,#REF!,NA()),NA())","v":{"$error":"#REF!"}},{"$f":"IF(#REF!=$E$1,IF(#REF!=$G$1,#REF!,NA()),NA())","v":{"$error":"#REF!"}},{"$f":"IF(#REF!=$E$1,IF(#REF!=$G$1,IF(#REF!=\"\",NA(),#REF!),NA()),NA())","v":{"$error":"#REF!"}},{"$f":"IF(#REF!=$E$1,IF(#REF!=$G$1,IF(#REF!=\"\",NA(),#REF!),NA()),NA())","v":{"$error":"#REF!"}},{"$error":"#REF!"},{"$error":"#REF!"}]
[null,null,null,{"$f":"IF(#REF!=$E$1,IF(#REF!=$G$1,#REF!,NA()),NA())","v":{"$error":"#REF!"}},{"$f":"IF(#REF!=$E$1,IF(#REF!=$G$1,#REF!,NA()),NA())","v":{"$error":"#REF!"}},{"$f":"IF(#REF!=$E$1,IF(#REF!=$G$1,IF(#REF!=\"\",NA(),#REF!),NA()),NA())","v":{"$error":"#REF!"}},{"$f":"IF(#REF!=$E$1,IF(#REF!=$G$1,IF(#REF!=\"\",NA(),#REF!),NA()),NA())","v":{"$error":"#REF!"}},{"$error":"#REF!"},{"$error":"#REF!"}]
[null,null,null,{"$f":"IF(#REF!=$E$1,IF(#REF!=$G$1,#REF!,NA()),NA())","v":{"$error":"#REF!"}},{"$f":"IF(#REF!=$E$1,IF(#REF!=$G$1,#REF!,NA()),NA())","v":{"$error":"#REF!"}},{"$f":"IF(#REF!=$E$1,IF(#REF!=$G$1,IF(#REF!=\"\",NA(),#REF!),NA()),NA())","v":{"$error":"#REF!"}},{"$f":"IF(#REF!=$E$1,IF(#REF!=$G$1,IF(#REF!=\"\",NA(),#REF!),NA()),NA())","v":{"$error":"#REF!"}},{"$error":"#REF!"},{"$error":"#REF!"}]
[null,null,null,{"$f":"IF(#REF!=$E$1,IF(#REF!=$G$1,#REF!,NA()),NA())","v":{"$error":"#REF!"}},{"$f":"IF(#REF!=$E$1,IF(#REF!=$G$1,#REF!,NA()),NA())","v":{"$error":"#REF!"}},{"$f":"IF(#REF!=$E$1,IF(#REF!=$G$1,IF(#REF!=\"\",NA(),#REF!),NA()),NA())","v":{"$error":"#REF!"}},{"$f":"IF(#REF!=$E$1,IF(#REF!=$G$1,IF(#REF!=\"\",NA(),#REF!),NA()),NA())","v":{"$error":"#REF!"}},{"$error":"#REF!"},{"$error":"#REF!"}]
[null,null,null,{"$f":"IF(#REF!=$E$1,IF(#REF!=$G$1,#REF!,NA()),NA())","v":{"$error":"#REF!"}},{"$f":"IF(#REF!=$E$1,IF(#REF!=$G$1,#REF!,NA()),NA())","v":{"$error":"#REF!"}},{"$f":"IF(#REF!=$E$1,IF(#REF!=$G$1,IF(#REF!=\"\",NA(),#REF!),NA()),NA())","v":{"$error":"#REF!"}},{"$f":"IF(#REF!=$E$1,IF(#REF!=$G$1,IF(#REF!=\"\",NA(),#REF!),NA()),NA())","v":{"$error":"#REF!"}},{"$error":"#REF!"},{"$error":"#REF!"}]
[null,null,null,{"$f":"IF(#REF!=$E$1,IF(#REF!=$G$1,#REF!,NA()),NA())","v":{"$error":"#REF!"}},{"$f":"IF(#REF!=$E$1,IF(#REF!=$G$1,#REF!,NA()),NA())","v":{"$error":"#REF!"}},{"$f":"IF(#REF!=$E$1,IF(#REF!=$G$1,IF(#REF!=\"\",NA(),#REF!),NA()),NA())","v":{"$error":"#REF!"}},{"$f":"IF(#REF!=$E$1,IF(#REF!=$G$1,IF(#REF!=\"\",NA(),#REF!),NA()),NA())","v":{"$error":"#REF!"}},{"$error":"#REF!"},{"$error":"#REF!"}]
[null,null,null,{"$f":"IF(#REF!=$E$1,IF(#REF!=$G$1,#REF!,NA()),NA())","v":{"$error":"#REF!"}},{"$f":"IF(#REF!=$E$1,IF(#REF!=$G$1,#REF!,NA()),NA())","v":{"$error":"#REF!"}},{"$f":"IF(#REF!=$E$1,IF(#REF!=$G$1,IF(#REF!=\"\",NA(),#REF!),NA()),NA())","v":{"$error":"#REF!"}},{"$f":"IF(#REF!=$E$1,IF(#REF!=$G$1,IF(#REF!=\"\",NA(),#REF!),NA()),NA())","v":{"$error":"#REF!"}},{"$error":"#REF!"},{"$error":"#REF!"}]
[null,null,null,{"$f":"IF(#REF!=$E$1,IF(#REF!=$G$1,#REF!,NA()),NA())","v":{"$error":"#REF!"}},{"$f":"IF(#REF!=$E$1,IF(#REF!=$G$1,#REF!,NA()),NA())","v":{"$error":"#REF!"}},{"$f":"IF(#REF!=$E$1,IF(#REF!=$G$1,IF(#REF!=\"\",NA(),#REF!),NA()),NA())","v":{"$error":"#REF!"}},{"$f":"IF(#REF!=$E$1,IF(#REF!=$G$1,IF(#REF!=\"\",NA(),#REF!),NA()),NA())","v":{"$error":"#REF!"}},{"$error":"#REF!"},{"$error":"#REF!"}]
[null,null,null,{"$f":"IF(#REF!=$E$1,IF(#REF!=$G$1,#REF!,NA()),NA())","v":{"$error":"#REF!"}},{"$f":"IF(#REF!=$E$1,IF(#REF!=$G$1,#REF!,NA()),NA())","v":{"$error":"#REF!"}},{"$f":"IF(#REF!=$E$1,IF(#REF!=$G$1,IF(#REF!=\"\",NA(),#REF!),NA()),NA())","v":{"$error":"#REF!"}},{"$f":"IF(#REF!=$E$1,IF(#REF!=$G$1,IF(#REF!=\"\",NA(),#REF!),NA()),NA())","v":{"$error":"#REF!"}},{"$error":"#REF!"},{"$error":"#REF!"}]
[null,null,null,{"$f":"IF(#REF!=$E$1,IF(#REF!=$G$1,#REF!,NA()),NA())","v":{"$error":"#REF!"}},{"$f":"IF(#REF!=$E$1,IF(#REF!=$G$1,#REF!,NA()),NA())","v":{"$error":"#REF!"}},{"$f":"IF(#REF!=$E$1,IF(#REF!=$G$1,IF(#REF!=\"\",NA(),#REF!),NA()),NA())","v":{"$error":"#REF!"}},{"$f":"IF(#REF!=$E$1,IF(#REF!=$G$1,IF(#REF!=\"\",NA(),#REF!),NA()),NA())","v":{"$error":"#REF!"}},{"$error":"#REF!"},{"$error":"#REF!"}]
[null,null,null,{"$f":"IF(#REF!=$E$1,IF(#REF!=$G$1,#REF!,NA()),NA())","v":{"$error":"#REF!"}},{"$f":"IF(#REF!=$E$1,IF(#REF!=$G$1,#REF!,NA()),NA())","v":{"$error":"#REF!"}},{"$f":"IF(#REF!=$E$1,IF(#REF!=$G$1,IF(#REF!=\"\",NA(),#REF!),NA()),NA())","v":{"$error":"#REF!"}},{"$f":"IF(#REF!=$E$1,IF(#REF!=$G$1,IF(#REF!=\"\",NA(),#REF!),NA()),NA())","v":{"$error":"#REF!"}},{"$error":"#REF!"},{"$error":"#REF!"}]
[null,null,null,{"$f":"IF(#REF!=$E$1,IF(#REF!=$G$1,#REF!,NA()),NA())","v":{"$error":"#REF!"}},{"$f":"IF(#REF!=$E$1,IF(#REF!=$G$1,#REF!,NA()),NA())","v":{"$error":"#REF!"}},{"$f":"IF(#REF!=$E$1,IF(#REF!=$G$1,IF(#REF!=\"\",NA(),#REF!),NA()),NA())","v":{"$error":"#REF!"}},{"$f":"IF(#REF!=$E$1,IF(#REF!=$G$1,IF(#REF!=\"\",NA(),#REF!),NA()),NA())","v":{"$error":"#REF!"}},{"$error":"#REF!"},{"$error":"#REF!"}]
[null,null,null,{"$f":"IF(#REF!=$E$1,IF(#REF!=$G$1,#REF!,NA()),NA())","v":{"$error":"#REF!"}},{"$f":"IF(#REF!=$E$1,IF(#REF!=$G$1,#REF!,NA()),NA())","v":{"$error":"#REF!"}},{"$f":"IF(#REF!=$E$1,IF(#REF!=$G$1,IF(#REF!=\"\",NA(),#REF!),NA()),NA())","v":{"$error":"#REF!"}},{"$f":"IF(#REF!=$E$1,IF(#REF!=$G$1,IF(#REF!=\"\",NA(),#REF!),NA()),NA())","v":{"$error":"#REF!"}},{"$error":"#REF!"},{"$error":"#REF!"}]
[null,null,null,{"$f":"IF(#REF!=$E$1,IF(#REF!=$G$1,#REF!,NA()),NA())","v":{"$error":"#REF!"}},{"$f":"IF(#REF!=$E$1,IF(#REF!=$G$1,#REF!,NA()),NA())","v":{"$error":"#REF!"}},{"$f":"IF(#REF!=$E$1,IF(#REF!=$G$1,IF(#REF!=\"\",NA(),#REF!),NA()),NA())","v":{"$error":"#REF!"}},{"$f":"IF(#REF!=$E$1,IF(#REF!=$G$1,IF(#REF!=\"\",NA(),#REF!),NA()),NA())","v":{"$error":"#REF!"}},{"$error":"#REF!"},{"$error":"#REF!"}]
[null,null,null,{"$f":"IF(#REF!=$E$1,IF(#REF!=$G$1,#REF!,NA()),NA())","v":{"$error":"#REF!"}},{"$f":"IF(#REF!=$E$1,IF(#REF!=$G$1,#REF!,NA()),NA())","v":{"$error":"#REF!"}},{"$f":"IF(#REF!=$E$1,IF(#REF!=$G$1,IF(#REF!=\"\",NA(),#REF!),NA()),NA())","v":{"$error":"#REF!"}},{"$f":"IF(#REF!=$E$1,IF(#REF!=$G$1,IF(#REF!=\"\",NA(),#REF!),NA()),NA())","v":{"$error":"#REF!"}},{"$error":"#REF!"},{"$error":"#REF!"}]
[null,null,null,{"$f":"IF(#REF!=$E$1,IF(#REF!=$G$1,#REF!,NA()),NA())","v":{"$error":"#REF!"}},{"$f":"IF(#REF!=$E$1,IF(#REF!=$G$1,#REF!,NA()),NA())","v":{"$error":"#REF!"}},{"$f":"IF(#REF!=$E$1,IF(#REF!=$G$1,IF(#REF!=\"\",NA(),#REF!),NA()),NA())","v":{"$error":"#REF!"}},{"$f":"IF(#REF!=$E$1,IF(#REF!=$G$1,IF(#REF!=\"\",NA(),#REF!),NA()),NA())","v":{"$error":"#REF!"}},{"$error":"#REF!"},{"$error":"#REF!"}]
[null,null,null,{"$f":"IF(#REF!=$E$1,IF(#REF!=$G$1,#REF!,NA()),NA())","v":{"$error":"#REF!"}},{"$f":"IF(#REF!=$E$1,IF(#REF!=$G$1,#REF!,NA()),NA())","v":{"$error":"#REF!"}},{"$f":"IF(#REF!=$E$1,IF(#REF!=$G$1,IF(#REF!=\"\",NA(),#REF!),NA()),NA())","v":{"$error":"#REF!"}},{"$f":"IF(#REF!=$E$1,IF(#REF!=$G$1,IF(#REF!=\"\",NA(),#REF!),NA()),NA())","v":{"$error":"#REF!"}},{"$error":"#REF!"},{"$error":"#REF!"}]
[null,null,null,{"$f":"IF(#REF!=$E$1,IF(#REF!=$G$1,#REF!,NA()),NA())","v":{"$error":"#REF!"}},{"$f":"IF(#REF!=$E$1,IF(#REF!=$G$1,#REF!,NA()),NA())","v":{"$error":"#REF!"}},{"$f":"IF(#REF!=$E$1,IF(#REF!=$G$1,IF(#REF!=\"\",NA(),#REF!),NA()),NA())","v":{"$error":"#REF!"}},{"$f":"IF(#REF!=$E$1,IF(#REF!=$G$1,IF(#REF!=\"\",NA(),#REF!),NA()),NA())","v":{"$error":"#REF!"}},{"$error":"#REF!"},{"$error":"#REF!"}]
[null,null,null,{"$f":"IF(#REF!=$E$1,IF(#REF!=$G$1,#REF!,NA()),NA())","v":{"$error":"#REF!"}},{"$f":"IF(#REF!=$E$1,IF(#REF!=$G$1,#REF!,NA()),NA())","v":{"$error":"#REF!"}},{"$f":"IF(#REF!=$E$1,IF(#REF!=$G$1,IF(#REF!=\"\",NA(),#REF!),NA()),NA())","v":{"$error":"#REF!"}},{"$f":"IF(#REF!=$E$1,IF(#REF!=$G$1,IF(#REF!=\"\",NA(),#REF!),NA()),NA())","v":{"$error":"#REF!"}},{"$error":"#REF!"},{"$error":"#REF!"}]
[null,null,null,{"$f":"IF(#REF!=$E$1,IF(#REF!=$G$1,#REF!,NA()),NA())","v":{"$error":"#REF!"}},{"$f":"IF(#REF!=$E$1,IF(#REF!=$G$1,#REF!,NA()),NA())","v":{"$error":"#REF!"}},{"$f":"IF(#REF!=$E$1,IF(#REF!=$G$1,IF(#REF!=\"\",NA(),#REF!),NA()),NA())","v":{"$error":"#REF!"}},{"$f":"IF(#REF!=$E$1,IF(#REF!=$G$1,IF(#REF!=\"\",NA(),#REF!),NA()),NA())","v":{"$error":"#REF!"}},{"$error":"#REF!"},{"$error":"#REF!"}]
[null,null,null,{"$f":"IF(#REF!=$E$1,IF(#REF!=$G$1,#REF!,NA()),NA())","v":{"$error":"#REF!"}},{"$f":"IF(#REF!=$E$1,IF(#REF!=$G$1,#REF!,NA()),NA())","v":{"$error":"#REF!"}},{"$f":"IF(#REF!=$E$1,IF(#REF!=$G$1,IF(#REF!=\"\",NA(),#REF!),NA()),NA())","v":{"$error":"#REF!"}},{"$f":"IF(#REF!=$E$1,IF(#REF!=$G$1,IF(#REF!=\"\",NA(),#REF!),NA()),NA())","v":{"$error":"#REF!"}},{"$error":"#REF!"},{"$error":"#REF!"}]
[null,null,null,{"$f":"IF(#REF!=$E$1,IF(#REF!=$G$1,#REF!,NA()),NA())","v":{"$error":"#REF!"}},{"$f":"IF(#REF!=$E$1,IF(#REF!=$G$1,#REF!,NA()),NA())","v":{"$error":"#REF!"}},{"$f":"IF(#REF!=$E$1,IF(#REF!=$G$1,IF(#REF!=\"\",NA(),#REF!),NA()),NA())","v":{"$error":"#REF!"}},{"$f":"IF(#REF!=$E$1,IF(#REF!=$G$1,IF(#REF!=\"\",NA(),#REF!),NA()),NA())","v":{"$error":"#REF!"}},{"$error":"#REF!"},{"$error":"#REF!"}]
[null,null,null,{"$f":"IF(#REF!=$E$1,IF(#REF!=$G$1,#REF!,NA()),NA())","v":{"$error":"#REF!"}},{"$f":"IF(#REF!=$E$1,IF(#REF!=$G$1,#REF!,NA()),NA())","v":{"$error":"#REF!"}},{"$f":"IF(#REF!=$E$1,IF(#REF!=$G$1,IF(#REF!=\"\",NA(),#REF!),NA()),NA())","v":{"$error":"#REF!"}},{"$f":"IF(#REF!=$E$1,IF(#REF!=$G$1,IF(#REF!=\"\",NA(),#REF!),NA()),NA())","v":{"$error":"#REF!"}},{"$error":"#REF!"},{"$error":"#REF!"}]
[null,null,null,{"$f":"IF(#REF!=$E$1,IF(#REF!=$G$1,#REF!,NA()),NA())","v":{"$error":"#REF!"}},{"$f":"IF(#REF!=$E$1,IF(#REF!=$G$1,#REF!,NA()),NA())","v":{"$error":"#REF!"}},{"$f":"IF(#REF!=$E$1,IF(#REF!=$G$1,IF(#REF!=\"\",NA(),#REF!),NA()),NA())","v":{"$error":"#REF!"}},{"$f":"IF(#REF!=$E$1,IF(#REF!=$G$1,IF(#REF!=\"\",NA(),#REF!),NA()),NA())","v":{"$error":"#REF!"}},{"$error":"#REF!"},{"$error":"#REF!"}]
[null,null,null,{"$f":"IF(#REF!=$E$1,IF(#REF!=$G$1,#REF!,NA()),NA())","v":{"$error":"#REF!"}},{"$f":"IF(#REF!=$E$1,IF(#REF!=$G$1,#REF!,NA()),NA())","v":{"$error":"#REF!"}},{"$f":"IF(#REF!=$E$1,IF(#REF!=$G$1,IF(#REF!=\"\",NA(),#REF!),NA()),NA())","v":{"$error":"#REF!"}},{"$f":"IF(#REF!=$E$1,IF(#REF!=$G$1,IF(#REF!=\"\",NA(),#REF!),NA()),NA())","v":{"$error":"#REF!"}},{"$error":"#REF!"},{"$error":"#REF!"}]
[null,null,null,{"$f":"IF(#REF!=$E$1,IF(#REF!=$G$1,#REF!,NA()),NA())","v":{"$error":"#REF!"}},{"$f":"IF(#REF!=$E$1,IF(#REF!=$G$1,#REF!,NA()),NA())","v":{"$error":"#REF!"}},{"$f":"IF(#REF!=$E$1,IF(#REF!=$G$1,IF(#REF!=\"\",NA(),#REF!),NA()),NA())","v":{"$error":"#REF!"}},{"$f":"IF(#REF!=$E$1,IF(#REF!=$G$1,IF(#REF!=\"\",NA(),#REF!),NA()),NA())","v":{"$error":"#REF!"}},{"$error":"#REF!"},{"$error":"#REF!"}]
[null,null,null,{"$f":"IF(#REF!=$E$1,IF(#REF!=$G$1,#REF!,NA()),NA())","v":{"$error":"#REF!"}},{"$f":"IF(#REF!=$E$1,IF(#REF!=$G$1,#REF!,NA()),NA())","v":{"$error":"#REF!"}},{"$f":"IF(#REF!=$E$1,IF(#REF!=$G$1,IF(#REF!=\"\",NA(),#REF!),NA()),NA())","v":{"$error":"#REF!"}},{"$f":"IF(#REF!=$E$1,IF(#REF!=$G$1,IF(#REF!=\"\",NA(),#REF!),NA()),NA())","v":{"$error":"#REF!"}},{"$error":"#REF!"},{"$error":"#REF!"}]
[null,null,null,{"$f":"IF(#REF!=$E$1,IF(#REF!=$G$1,#REF!,NA()),NA())","v":{"$error":"#REF!"}},{"$f":"IF(#REF!=$E$1,IF(#REF!=$G$1,#REF!,NA()),NA())","v":{"$error":"#REF!"}},{"$f":"IF(#REF!=$E$1,IF(#REF!=$G$1,IF(#REF!=\"\",NA(),#REF!),NA()),NA())","v":{"$error":"#REF!"}},{"$f":"IF(#REF!=$E$1,IF(#REF!=$G$1,IF(#REF!=\"\",NA(),#REF!),NA()),NA())","v":{"$error":"#REF!"}},{"$error":"#REF!"},{"$error":"#REF!"}]
[null,null,null,{"$f":"IF(#REF!=$E$1,IF(#REF!=$G$1,#REF!,NA()),NA())","v":{"$error":"#REF!"}},{"$f":"IF(#REF!=$E$1,IF(#REF!=$G$1,#REF!,NA()),NA())","v":{"$error":"#REF!"}},{"$f":"IF(#REF!=$E$1,IF(#REF!=$G$1,IF(#REF!=\"\",NA(),#REF!),NA()),NA())","v":{"$error":"#REF!"}},{"$f":"IF(#REF!=$E$1,IF(#REF!=$G$1,IF(#REF!=\"\",NA(),#REF!),NA()),NA())","v":{"$error":"#REF!"}},{"$error":"#REF!"},{"$error":"#REF!"}]
[null,null,null,{"$f":"IF(#REF!=$E$1,IF(#REF!=$G$1,#REF!,NA()),NA())","v":{"$error":"#REF!"}},{"$f":"IF(#REF!=$E$1,IF(#REF!=$G$1,#REF!,NA()),NA())","v":{"$error":"#REF!"}},{"$f":"IF(#REF!=$E$1,IF(#REF!=$G$1,IF(#REF!=\"\",NA(),#REF!),NA()),NA())","v":{"$error":"#REF!"}},{"$f":"IF(#REF!=$E$1,IF(#REF!=$G$1,IF(#REF!=\"\",NA(),#REF!),NA()),NA())","v":{"$error":"#REF!"}},{"$error":"#REF!"},{"$error":"#REF!"}]
[null,null,null,{"$f":"IF(#REF!=$E$1,IF(#REF!=$G$1,#REF!,NA()),NA())","v":{"$error":"#REF!"}},{"$f":"IF(#REF!=$E$1,IF(#REF!=$G$1,#REF!,NA()),NA())","v":{"$error":"#REF!"}},{"$f":"IF(#REF!=$E$1,IF(#REF!=$G$1,IF(#REF!=\"\",NA(),#REF!),NA()),NA())","v":{"$error":"#REF!"}},{"$f":"IF(#REF!=$E$1,IF(#REF!=$G$1,IF(#REF!=\"\",NA(),#REF!),NA()),NA())","v":{"$error":"#REF!"}},{"$error":"#REF!"},{"$error":"#REF!"}]
[null,null,null,{"$f":"IF(#REF!=$E$1,IF(#REF!=$G$1,#REF!,NA()),NA())","v":{"$error":"#REF!"}},{"$f":"IF(#REF!=$E$1,IF(#REF!=$G$1,#REF!,NA()),NA())","v":{"$error":"#REF!"}},{"$f":"IF(#REF!=$E$1,IF(#REF!=$G$1,IF(#REF!=\"\",NA(),#REF!),NA()),NA())","v":{"$error":"#REF!"}},{"$f":"IF(#REF!=$E$1,IF(#REF!=$G$1,IF(#REF!=\"\",NA(),#REF!),NA()),NA())","v":{"$error":"#REF!"}},{"$error":"#REF!"},{"$error":"#REF!"}]
[null,null,null,{"$f":"IF(#REF!=$E$1,IF(#REF!=$G$1,#REF!,NA()),NA())","v":{"$error":"#REF!"}},{"$f":"IF(#REF!=$E$1,IF(#REF!=$G$1,#REF!,NA()),NA())","v":{"$error":"#REF!"}},{"$f":"IF(#REF!=$E$1,IF(#REF!=$G$1,IF(#REF!=\"\",NA(),#REF!),NA()),NA())","v":{"$error":"#REF!"}},{"$f":"IF(#REF!=$E$1,IF(#REF!=$G$1,IF(#REF!=\"\",NA(),#REF!),NA()),NA())","v":{"$error":"#REF!"}},{"$error":"#REF!"},{"$error":"#REF!"}]
[null,null,null,{"$f":"IF(#REF!=$E$1,IF(#REF!=$G$1,#REF!,NA()),NA())","v":{"$error":"#REF!"}},{"$f":"IF(#REF!=$E$1,IF(#REF!=$G$1,#REF!,NA()),NA())","v":{"$error":"#REF!"}},{"$f":"IF(#REF!=$E$1,IF(#REF!=$G$1,IF(#REF!=\"\",NA(),#REF!),NA()),NA())","v":{"$error":"#REF!"}},{"$f":"IF(#REF!=$E$1,IF(#REF!=$G$1,IF(#REF!=\"\",NA(),#REF!),NA()),NA())","v":{"$error":"#REF!"}},{"$f":"IF(AND(ISNUMBER(G68),F68=\"-\"),0,F68)","v":{"$error":"#REF!"}},{"$f":"IF(AND(ISNUMBER(F68),G68=\"-\"),0,G68)","v":{"$error":"#REF!"}}]
[null,null,null,{"$f":"IF(#REF!=$E$1,IF(#REF!=$G$1,#REF!,NA()),NA())","v":{"$error":"#REF!"}},{"$f":"IF(#REF!=$E$1,IF(#REF!=$G$1,#REF!,NA()),NA())","v":{"$error":"#REF!"}},{"$f":"IF(#REF!=$E$1,IF(#REF!=$G$1,IF(#REF!=\"\",NA(),#REF!),NA()),NA())","v":{"$error":"#REF!"}},{"$f":"IF(#REF!=$E$1,IF(#REF!=$G$1,IF(#REF!=\"\",NA(),#REF!),NA()),NA())","v":{"$error":"#REF!"}},{"$error":"#REF!"},{"$error":"#REF!"}]
[null,null,null,{"$f":"IF(#REF!=$E$1,IF(#REF!=$G$1,#REF!,NA()),NA())","v":{"$error":"#REF!"}},{"$f":"IF(#REF!=$E$1,IF(#REF!=$G$1,#REF!,NA()),NA())","v":{"$error":"#REF!"}},{"$f":"IF(#REF!=$E$1,IF(#REF!=$G$1,IF(#REF!=\"\",NA(),#REF!),NA()),NA())","v":{"$error":"#REF!"}},{"$f":"IF(#REF!=$E$1,IF(#REF!=$G$1,IF(#REF!=\"\",NA(),#REF!),NA()),NA())","v":{"$error":"#REF!"}},{"$error":"#REF!"},{"$error":"#REF!"}]
[null,null,null,{"$f":"IF(#REF!=$E$1,IF(#REF!=$G$1,#REF!,NA()),NA())","v":{"$error":"#REF!"}},{"$f":"IF(#REF!=$E$1,IF(#REF!=$G$1,#REF!,NA()),NA())","v":{"$error":"#REF!"}},{"$f":"IF(#REF!=$E$1,IF(#REF!=$G$1,IF(#REF!=\"\",NA(),#REF!),NA()),NA())","v":{"$error":"#REF!"}},{"$f":"IF(#REF!=$E$1,IF(#REF!=$G$1,IF(#REF!=\"\",NA(),#REF!),NA()),NA())","v":{"$error":"#REF!"}},{"$error":"#REF!"},{"$error":"#REF!"}]
[null,null,null,{"$f":"IF(#REF!=$E$1,IF(#REF!=$G$1,#REF!,NA()),NA())","v":{"$error":"#REF!"}},{"$f":"IF(#REF!=$E$1,IF(#REF!=$G$1,#REF!,NA()),NA())","v":{"$error":"#REF!"}},{"$f":"IF(#REF!=$E$1,IF(#REF!=$G$1,IF(#REF!=\"\",NA(),#REF!),NA()),NA())","v":{"$error":"#REF!"}},{"$f":"IF(#REF!=$E$1,IF(#REF!=$G$1,IF(#REF!=\"\",NA(),#REF!),NA()),NA())","v":{"$error":"#REF!"}},{"$error":"#REF!"},{"$error":"#REF!"}]
[null,null,null,{"$f":"IF(#REF!=$E$1,IF(#REF!=$G$1,#REF!,NA()),NA())","v":{"$error":"#REF!"}},{"$f":"IF(#REF!=$E$1,IF(#REF!=$G$1,#REF!,NA()),NA())","v":{"$error":"#REF!"}},{"$f":"IF(#REF!=$E$1,IF(#REF!=$G$1,IF(#REF!=\"\",NA(),#REF!),NA()),NA())","v":{"$error":"#REF!"}},{"$f":"IF(#REF!=$E$1,IF(#REF!=$G$1,IF(#REF!=\"\",NA(),#REF!),NA()),NA())","v":{"$error":"#REF!"}},{"$error":"#REF!"},{"$error":"#REF!"}]
[null,null,null,{"$f":"IF(#REF!=$E$1,IF(#REF!=$G$1,#REF!,NA()),NA())","v":{"$error":"#REF!"}},{"$f":"IF(#REF!=$E$1,IF(#REF!=$G$1,#REF!,NA()),NA())","v":{"$error":"#REF!"}},{"$f":"IF(#REF!=$E$1,IF(#REF!=$G$1,IF(#REF!=\"\",NA(),#REF!),NA()),NA())","v":{"$error":"#REF!"}},{"$f":"IF(#REF!=$E$1,IF(#REF!=$G$1,IF(#REF!=\"\",NA(),#REF!),NA()),NA())","v":{"$error":"#REF!"}},{"$error":"#REF!"},{"$error":"#REF!"}]
[null,null,null,{"$f":"IF(#REF!=$E$1,IF(#REF!=$G$1,#REF!,NA()),NA())","v":{"$error":"#REF!"}},{"$f":"IF(#REF!=$E$1,IF(#REF!=$G$1,#REF!,NA()),NA())","v":{"$error":"#REF!"}},{"$f":"IF(#REF!=$E$1,IF(#REF!=$G$1,IF(#REF!=\"\",NA(),#REF!),NA()),NA())","v":{"$error":"#REF!"}},{"$f":"IF(#REF!=$E$1,IF(#REF!=$G$1,IF(#REF!=\"\",NA(),#REF!),NA()),NA())","v":{"$error":"#REF!"}},{"$error":"#REF!"},{"$error":"#REF!"}]
[null,null,null,{"$f":"IF(#REF!=$E$1,IF(#REF!=$G$1,#REF!,NA()),NA())","v":{"$error":"#REF!"}},{"$f":"IF(#REF!=$E$1,IF(#REF!=$G$1,#REF!,NA()),NA())","v":{"$error":"#REF!"}},{"$f":"IF(#REF!=$E$1,IF(#REF!=$G$1,IF(#REF!=\"\",NA(),#REF!),NA()),NA())","v":{"$error":"#REF!"}},{"$f":"IF(#REF!=$E$1,IF(#REF!=$G$1,IF(#REF!=\"\",NA(),#REF!),NA()),NA())","v":{"$error":"#REF!"}},{"$error":"#REF!"},{"$error":"#REF!"}]
[null,null,null,{"$f":"IF(#REF!=$E$1,IF(#REF!=$G$1,#REF!,NA()),NA())","v":{"$error":"#REF!"}},{"$f":"IF(#REF!=$E$1,IF(#REF!=$G$1,#REF!,NA()),NA())","v":{"$error":"#REF!"}},{"$f":"IF(#REF!=$E$1,IF(#REF!=$G$1,IF(#REF!=\"\",NA(),#REF!),NA()),NA())","v":{"$error":"#REF!"}},{"$f":"IF(#REF!=$E$1,IF(#REF!=$G$1,IF(#REF!=\"\",NA(),#REF!),NA()),NA())","v":{"$error":"#REF!"}},{"$error":"#REF!"},{"$error":"#REF!"}]
[null,null,null,{"$f":"IF(#REF!=$E$1,IF(#REF!=$G$1,#REF!,NA()),NA())","v":{"$error":"#REF!"}},{"$f":"IF(#REF!=$E$1,IF(#REF!=$G$1,#REF!,NA()),NA())","v":{"$error":"#REF!"}},{"$f":"IF(#REF!=$E$1,IF(#REF!=$G$1,IF(#REF!=\"\",NA(),#REF!),NA()),NA())","v":{"$error":"#REF!"}},{"$f":"IF(#REF!=$E$1,IF(#REF!=$G$1,IF(#REF!=\"\",NA(),#REF!),NA()),NA())","v":{"$error":"#REF!"}},{"$error":"#REF!"},{"$error":"#REF!"}]
[null,null,null,{"$f":"IF(#REF!=$E$1,IF(#REF!=$G$1,#REF!,NA()),NA())","v":{"$error":"#REF!"}},{"$f":"IF(#REF!=$E$1,IF(#REF!=$G$1,#REF!,NA()),NA())","v":{"$error":"#REF!"}},{"$f":"IF(#REF!=$E$1,IF(#REF!=$G$1,IF(#REF!=\"\",NA(),#REF!),NA()),NA())","v":{"$error":"#REF!"}},{"$f":"IF(#REF!=$E$1,IF(#REF!=$G$1,IF(#REF!=\"\",NA(),#REF!),NA()),NA())","v":{"$error":"#REF!"}},{"$error":"#REF!"},{"$error":"#REF!"}]
[null,null,null,{"$f":"IF(#REF!=$E$1,IF(#REF!=$G$1,#REF!,NA()),NA())","v":{"$error":"#REF!"}},{"$f":"IF(#REF!=$E$1,IF(#REF!=$G$1,#REF!,NA()),NA())","v":{"$error":"#REF!"}},{"$f":"IF(#REF!=$E$1,IF(#REF!=$G$1,IF(#REF!=\"\",NA(),#REF!),NA()),NA())","v":{"$error":"#REF!"}},{"$f":"IF(#REF!=$E$1,IF(#REF!=$G$1,IF(#REF!=\"\",NA(),#REF!),NA()),NA())","v":{"$error":"#REF!"}},{"$error":"#REF!"},{"$error":"#REF!"}]
[null,null,null,{"$f":"IF(#REF!=$E$1,IF(#REF!=$G$1,#REF!,NA()),NA())","v":{"$error":"#REF!"}},{"$f":"IF(#REF!=$E$1,IF(#REF!=$G$1,#REF!,NA()),NA())","v":{"$error":"#REF!"}},{"$f":"IF(#REF!=$E$1,IF(#REF!=$G$1,IF(#REF!=\"\",NA(),#REF!),NA()),NA())","v":{"$error":"#REF!"}},{"$f":"IF(#REF!=$E$1,IF(#REF!=$G$1,IF(#REF!=\"\",NA(),#REF!),NA()),NA())","v":{"$error":"#REF!"}},{"$error":"#REF!"},{"$error":"#REF!"}]
[null,null,null,{"$f":"IF(#REF!=$E$1,IF(#REF!=$G$1,#REF!,NA()),NA())","v":{"$error":"#REF!"}},{"$f":"IF(#REF!=$E$1,IF(#REF!=$G$1,#REF!,NA()),NA())","v":{"$error":"#REF!"}},{"$f":"IF(#REF!=$E$1,IF(#REF!=$G$1,IF(#REF!=\"\",NA(),#REF!),NA()),NA())","v":{"$error":"#REF!"}},{"$f":"IF(#REF!=$E$1,IF(#REF!=$G$1,IF(#REF!=\"\",NA(),#REF!),NA()),NA())","v":{"$error":"#REF!"}},{"$error":"#REF!"},{"$error":"#REF!"}]
[null,null,null,{"$f":"IF(#REF!=$E$1,IF(#REF!=$G$1,#REF!,NA()),NA())","v":{"$error":"#REF!"}},{"$f":"IF(#REF!=$E$1,IF(#REF!=$G$1,#REF!,NA()),NA())","v":{"$error":"#REF!"}},{"$f":"IF(#REF!=$E$1,IF(#REF!=$G$1,IF(#REF!=\"\",NA(),#REF!),NA()),NA())","v":{"$error":"#REF!"}},{"$f":"IF(#REF!=$E$1,IF(#REF!=$G$1,IF(#REF!=\"\",NA(),#REF!),NA()),NA())","v":{"$error":"#REF!"}},{"$error":"#REF!"},{"$error":"#REF!"}]
[null,null,null,{"$f":"IF(#REF!=$E$1,IF(#REF!=$G$1,#REF!,NA()),NA())","v":{"$error":"#REF!"}},{"$f":"IF(#REF!=$E$1,IF(#REF!=$G$1,#REF!,NA()),NA())","v":{"$error":"#REF!"}},{"$f":"IF(#REF!=$E$1,IF(#REF!=$G$1,IF(#REF!=\"\",NA(),#REF!),NA()),NA())","v":{"$error":"#REF!"}},{"$f":"IF(#REF!=$E$1,IF(#REF!=$G$1,IF(#REF!=\"\",NA(),#REF!),NA()),NA())","v":{"$error":"#REF!"}},{"$error":"#REF!"},{"$error":"#REF!"}]
[null,null,null,{"$f":"IF(#REF!=$E$1,IF(#REF!=$G$1,#REF!,NA()),NA())","v":{"$error":"#REF!"}},{"$f":"IF(#REF!=$E$1,IF(#REF!=$G$1,#REF!,NA()),NA())","v":{"$error":"#REF!"}},{"$f":"IF(#REF!=$E$1,IF(#REF!=$G$1,IF(#REF!=\"\",NA(),#REF!),NA()),NA())","v":{"$error":"#REF!"}},{"$f":"IF(#REF!=$E$1,IF(#REF!=$G$1,IF(#REF!=\"\",NA(),#REF!),NA()),NA())","v":{"$error":"#REF!"}},{"$error":"#REF!"},{"$error":"#REF!"}]
[null,null,null,{"$f":"IF(#REF!=$E$1,IF(#REF!=$G$1,#REF!,NA()),NA())","v":{"$error":"#REF!"}},{"$f":"IF(#REF!=$E$1,IF(#REF!=$G$1,#REF!,NA()),NA())","v":{"$error":"#REF!"}},{"$f":"IF(#REF!=$E$1,IF(#REF!=$G$1,IF(#REF!=\"\",NA(),#REF!),NA()),NA())","v":{"$error":"#REF!"}},{"$f":"IF(#REF!=$E$1,IF(#REF!=$G$1,IF(#REF!=\"\",NA(),#REF!),NA()),NA())","v":{"$error":"#REF!"}},{"$error":"#REF!"},{"$error":"#REF!"}]
[null,null,null,{"$f":"IF(#REF!=$E$1,IF(#REF!=$G$1,#REF!,NA()),NA())","v":{"$error":"#REF!"}},{"$f":"IF(#REF!=$E$1,IF(#REF!=$G$1,#REF!,NA()),NA())","v":{"$error":"#REF!"}},{"$f":"IF(#REF!=$E$1,IF(#REF!=$G$1,IF(#REF!=\"\",NA(),#REF!),NA()),NA())","v":{"$error":"#REF!"}},{"$f":"IF(#REF!=$E$1,IF(#REF!=$G$1,IF(#REF!=\"\",NA(),#REF!),NA()),NA())","v":{"$error":"#REF!"}},{"$error":"#REF!"},{"$error":"#REF!"}]
[null,null,null,{"$f":"IF(#REF!=$E$1,IF(#REF!=$G$1,#REF!,NA()),NA())","v":{"$error":"#REF!"}},{"$f":"IF(#REF!=$E$1,IF(#REF!=$G$1,#REF!,NA()),NA())","v":{"$error":"#REF!"}},{"$f":"IF(#REF!=$E$1,IF(#REF!=$G$1,IF(#REF!=\"\",NA(),#REF!),NA()),NA())","v":{"$error":"#REF!"}},{"$f":"IF(#REF!=$E$1,IF(#REF!=$G$1,IF(#REF!=\"\",NA(),#REF!),NA()),NA())","v":{"$error":"#REF!"}},{"$error":"#REF!"},{"$error":"#REF!"}]
[null,null,null,{"$f":"IF(#REF!=$E$1,IF(#REF!=$G$1,#REF!,NA()),NA())","v":{"$error":"#REF!"}},{"$f":"IF(#REF!=$E$1,IF(#REF!=$G$1,#REF!,NA()),NA())","v":{"$error":"#REF!"}},{"$f":"IF(#REF!=$E$1,IF(#REF!=$G$1,IF(#REF!=\"\",NA(),#REF!),NA()),NA())","v":{"$error":"#REF!"}},{"$f":"IF(#REF!=$E$1,IF(#REF!=$G$1,IF(#REF!=\"\",NA(),#REF!),NA()),NA())","v":{"$error":"#REF!"}},{"$error":"#REF!"},{"$error":"#REF!"}]
[null,null,null,{"$f":"IF(#REF!=$E$1,IF(#REF!=$G$1,#REF!,NA()),NA())","v":{"$error":"#REF!"}},{"$f":"IF(#REF!=$E$1,IF(#REF!=$G$1,#REF!,NA()),NA())","v":{"$error":"#REF!"}},{"$f":"IF(#REF!=$E$1,IF(#REF!=$G$1,IF(#REF!=\"\",NA(),#REF!),NA()),NA())","v":{"$error":"#REF!"}},{"$f":"IF(#REF!=$E$1,IF(#REF!=$G$1,IF(#REF!=\"\",NA(),#REF!),NA()),NA())","v":{"$error":"#REF!"}},{"$error":"#REF!"},{"$error":"#REF!"}]
[null,null,null,{"$f":"IF(#REF!=$E$1,IF(#REF!=$G$1,#REF!,NA()),NA())","v":{"$error":"#REF!"}},{"$f":"IF(#REF!=$E$1,IF(#REF!=$G$1,#REF!,NA()),NA())","v":{"$error":"#REF!"}},{"$f":"IF(#REF!=$E$1,IF(#REF!=$G$1,IF(#REF!=\"\",NA(),#REF!),NA()),NA())","v":{"$error":"#REF!"}},{"$f":"IF(#REF!=$E$1,IF(#REF!=$G$1,IF(#REF!=\"\",NA(),#REF!),NA()),NA())","v":{"$error":"#REF!"}},{"$error":"#REF!"},{"$error":"#REF!"}]
[null,null,null,{"$f":"IF(#REF!=$E$1,IF(#REF!=$G$1,#REF!,NA()),NA())","v":{"$error":"#REF!"}},{"$f":"IF(#REF!=$E$1,IF(#REF!=$G$1,#REF!,NA()),NA())","v":{"$error":"#REF!"}},{"$f":"IF(#REF!=$E$1,IF(#REF!=$G$1,IF(#REF!=\"\",NA(),#REF!),NA()),NA())","v":{"$error":"#REF!"}},{"$f":"IF(#REF!=$E$1,IF(#REF!=$G$1,IF(#REF!=\"\",NA(),#REF!),NA()),NA())","v":{"$error":"#REF!"}},{"$error":"#REF!"},{"$error":"#REF!"}]
[null,null,null,{"$f":"IF(#REF!=$E$1,IF(#REF!=$G$1,#REF!,NA()),NA())","v":{"$error":"#REF!"}},{"$f":"IF(#REF!=$E$1,IF(#REF!=$G$1,#REF!,NA()),NA())","v":{"$error":"#REF!"}},{"$f":"IF(#REF!=$E$1,IF(#REF!=$G$1,IF(#REF!=\"\",NA(),#REF!),NA()),NA())","v":{"$error":"#REF!"}},{"$f":"IF(#REF!=$E$1,IF(#REF!=$G$1,IF(#REF!=\"\",NA(),#REF!),NA()),NA())","v":{"$error":"#REF!"}},{"$error":"#REF!"},{"$error":"#REF!"}]
[null,null,null,{"$f":"IF(#REF!=$E$1,IF(#REF!=$G$1,#REF!,NA()),NA())","v":{"$error":"#REF!"}},{"$f":"IF(#REF!=$E$1,IF(#REF!=$G$1,#REF!,NA()),NA())","v":{"$error":"#REF!"}},{"$f":"IF(#REF!=$E$1,IF(#REF!=$G$1,IF(#REF!=\"\",NA(),#REF!),NA()),NA())","v":{"$error":"#REF!"}},{"$f":"IF(#REF!=$E$1,IF(#REF!=$G$1,IF(#REF!=\"\",NA(),#REF!),NA()),NA())","v":{"$error":"#REF!"}},{"$error":"#REF!"},{"$error":"#REF!"}]
[null,null,null,{"$f":"IF(#REF!=$E$1,IF(#REF!=$G$1,#REF!,NA()),NA())","v":{"$error":"#REF!"}},{"$f":"IF(#REF!=$E$1,IF(#REF!=$G$1,#REF!,NA()),NA())","v":{"$error":"#REF!"}},{"$f":"IF(#REF!=$E$1,IF(#REF!=$G$1,IF(#REF!=\"\",NA(),#REF!),NA()),NA())","v":{"$error":"#REF!"}},{"$f":"IF(#REF!=$E$1,IF(#REF!=$G$1,IF(#REF!=\"\",NA(),#REF!),NA()),NA())","v":{"$error":"#REF!"}},{"$error":"#REF!"},{"$error":"#REF!"}]
[null,null,null,{"$f":"IF(#REF!=$E$1,IF(#REF!=$G$1,#REF!,NA()),NA())","v":{"$error":"#REF!"}},{"$f":"IF(#REF!=$E$1,IF(#REF!=$G$1,#REF!,NA()),NA())","v":{"$error":"#REF!"}},{"$f":"IF(#REF!=$E$1,IF(#REF!=$G$1,IF(#REF!=\"\",NA(),#REF!),NA()),NA())","v":{"$error":"#REF!"}},{"$f":"IF(#REF!=$E$1,IF(#REF!=$G$1,IF(#REF!=\"\",NA(),#REF!),NA()),NA())","v":{"$error":"#REF!"}},{"$error":"#REF!"},{"$error":"#REF!"}]
[null,null,null,{"$f":"IF(#REF!=$E$1,IF(#REF!=$G$1,#REF!,NA()),NA())","v":{"$error":"#REF!"}},{"$f":"IF(#REF!=$E$1,IF(#REF!=$G$1,#REF!,NA()),NA())","v":{"$error":"#REF!"}},{"$f":"IF(#REF!=$E$1,IF(#REF!=$G$1,IF(#REF!=\"\",NA(),#REF!),NA()),NA())","v":{"$error":"#REF!"}},{"$f":"IF(#REF!=$E$1,IF(#REF!=$G$1,IF(#REF!=\"\",NA(),#REF!),NA()),NA())","v":{"$error":"#REF!"}},{"$error":"#REF!"},{"$error":"#REF!"}]
[null,null,null,{"$f":"IF(#REF!=$E$1,IF(#REF!=$G$1,#REF!,NA()),NA())","v":{"$error":"#REF!"}},{"$f":"IF(#REF!=$E$1,IF(#REF!=$G$1,#REF!,NA()),NA())","v":{"$error":"#REF!"}},{"$f":"IF(#REF!=$E$1,IF(#REF!=$G$1,IF(#REF!=\"\",NA(),#REF!),NA()),NA())","v":{"$error":"#REF!"}},{"$f":"IF(#REF!=$E$1,IF(#REF!=$G$1,IF(#REF!=\"\",NA(),#REF!),NA()),NA())","v":{"$error":"#REF!"}},{"$error":"#REF!"},{"$error":"#REF!"}]
[null,null,null,{"$f":"IF(#REF!=$E$1,IF(#REF!=$G$1,#REF!,NA()),NA())","v":{"$error":"#REF!"}},{"$f":"IF(#REF!=$E$1,IF(#REF!=$G$1,#REF!,NA()),NA())","v":{"$error":"#REF!"}},{"$f":"IF(#REF!=$E$1,IF(#REF!=$G$1,IF(#REF!=\"\",NA(),#REF!),NA()),NA())","v":{"$error":"#REF!"}},{"$f":"IF(#REF!=$E$1,IF(#REF!=$G$1,IF(#REF!=\"\",NA(),#REF!),NA()),NA())","v":{"$error":"#REF!"}},{"$error":"#REF!"},{"$error":"#REF!"}]
[null,null,null,{"$f":"IF(#REF!=$E$1,IF(#REF!=$G$1,#REF!,NA()),NA())","v":{"$error":"#REF!"}},{"$f":"IF(#REF!=$E$1,IF(#REF!=$G$1,#REF!,NA()),NA())","v":{"$error":"#REF!"}},{"$f":"IF(#REF!=$E$1,IF(#REF!=$G$1,IF(#REF!=\"\",NA(),#REF!),NA()),NA())","v":{"$error":"#REF!"}},{"$f":"IF(#REF!=$E$1,IF(#REF!=$G$1,IF(#REF!=\"\",NA(),#REF!),NA()),NA())","v":{"$error":"#REF!"}},{"$error":"#REF!"},{"$error":"#REF!"}]
[null,null,null,{"$f":"IF(#REF!=$E$1,IF(#REF!=$G$1,#REF!,NA()),NA())","v":{"$error":"#REF!"}},{"$f":"IF(#REF!=$E$1,IF(#REF!=$G$1,#REF!,NA()),NA())","v":{"$error":"#REF!"}},{"$f":"IF(#REF!=$E$1,IF(#REF!=$G$1,IF(#REF!=\"\",NA(),#REF!),NA()),NA())","v":{"$error":"#REF!"}},{"$f":"IF(#REF!=$E$1,IF(#REF!=$G$1,IF(#REF!=\"\",NA(),#REF!),NA()),NA())","v":{"$error":"#REF!"}},{"$error":"#REF!"},{"$error":"#REF!"}]
[null,null,null,{"$f":"IF(#REF!=$E$1,IF(#REF!=$G$1,#REF!,NA()),NA())","v":{"$error":"#REF!"}},{"$f":"IF(#REF!=$E$1,IF(#REF!=$G$1,#REF!,NA()),NA())","v":{"$error":"#REF!"}},{"$f":"IF(#REF!=$E$1,IF(#REF!=$G$1,IF(#REF!=\"\",NA(),#REF!),NA()),NA())","v":{"$error":"#REF!"}},{"$f":"IF(#REF!=$E$1,IF(#REF!=$G$1,IF(#REF!=\"\",NA(),#REF!),NA()),NA())","v":{"$error":"#REF!"}},{"$error":"#REF!"},{"$error":"#REF!"}]
[null,null,null,{"$f":"IF(#REF!=$E$1,IF(#REF!=$G$1,#REF!,NA()),NA())","v":{"$error":"#REF!"}},{"$f":"IF(#REF!=$E$1,IF(#REF!=$G$1,#REF!,NA()),NA())","v":{"$error":"#REF!"}},{"$f":"IF(#REF!=$E$1,IF(#REF!=$G$1,IF(#REF!=\"\",NA(),#REF!),NA()),NA())","v":{"$error":"#REF!"}},{"$f":"IF(#REF!=$E$1,IF(#REF!=$G$1,IF(#REF!=\"\",NA(),#REF!),NA()),NA())","v":{"$error":"#REF!"}},{"$error":"#REF!"},{"$error":"#REF!"}]
[null,null,null,{"$f":"IF(#REF!=$E$1,IF(#REF!=$G$1,#REF!,NA()),NA())","v":{"$error":"#REF!"}},{"$f":"IF(#REF!=$E$1,IF(#REF!=$G$1,#REF!,NA()),NA())","v":{"$error":"#REF!"}},{"$f":"IF(#REF!=$E$1,IF(#REF!=$G$1,IF(#REF!=\"\",NA(),#REF!),NA()),NA())","v":{"$error":"#REF!"}},{"$f":"IF(#REF!=$E$1,IF(#REF!=$G$1,IF(#REF!=\"\",NA(),#REF!),NA()),NA())","v":{"$error":"#REF!"}},{"$error":"#REF!"},{"$error":"#REF!"}]
[null,null,null,{"$f":"IF(#REF!=$E$1,IF(#REF!=$G$1,#REF!,NA()),NA())","v":{"$error":"#REF!"}},{"$f":"IF(#REF!=$E$1,IF(#REF!=$G$1,#REF!,NA()),NA())","v":{"$error":"#REF!"}},{"$f":"IF(#REF!=$E$1,IF(#REF!=$G$1,IF(#REF!=\"\",NA(),#REF!),NA()),NA())","v":{"$error":"#REF!"}},{"$f":"IF(#REF!=$E$1,IF(#REF!=$G$1,IF(#REF!=\"\",NA(),#REF!),NA()),NA())","v":{"$error":"#REF!"}},{"$error":"#REF!"},{"$error":"#REF!"}]
[null,null,null,{"$f":"IF(#REF!=$E$1,IF(#REF!=$G$1,#REF!,NA()),NA())","v":{"$error":"#REF!"}},{"$f":"IF(#REF!=$E$1,IF(#REF!=$G$1,#REF!,NA()),NA())","v":{"$error":"#REF!"}},{"$f":"IF(#REF!=$E$1,IF(#REF!=$G$1,IF(#REF!=\"\",NA(),#REF!),NA()),NA())","v":{"$error":"#REF!"}},{"$f":"IF(#REF!=$E$1,IF(#REF!=$G$1,IF(#REF!=\"\",NA(),#REF!),NA()),NA())","v":{"$error":"#REF!"}},{"$error":"#REF!"},{"$error":"#REF!"}]
[null,null,null,{"$f":"IF(#REF!=$E$1,IF(#REF!=$G$1,#REF!,NA()),NA())","v":{"$error":"#REF!"}},{"$f":"IF(#REF!=$E$1,IF(#REF!=$G$1,#REF!,NA()),NA())","v":{"$error":"#REF!"}},{"$f":"IF(#REF!=$E$1,IF(#REF!=$G$1,IF(#REF!=\"\",NA(),#REF!),NA()),NA())","v":{"$error":"#REF!"}},{"$f":"IF(#REF!=$E$1,IF(#REF!=$G$1,IF(#REF!=\"\",NA(),#REF!),NA()),NA())","v":{"$error":"#REF!"}},{"$error":"#REF!"},{"$error":"#REF!"}]
[null,null,null,{"$f":"IF(#REF!=$E$1,IF(#REF!=$G$1,#REF!,NA()),NA())","v":{"$error":"#REF!"}},{"$f":"IF(#REF!=$E$1,IF(#REF!=$G$1,#REF!,NA()),NA())","v":{"$error":"#REF!"}},{"$f":"IF(#REF!=$E$1,IF(#REF!=$G$1,IF(#REF!=\"\",NA(),#REF!),NA()),NA())","v":{"$error":"#REF!"}},{"$f":"IF(#REF!=$E$1,IF(#REF!=$G$1,IF(#REF!=\"\",NA(),#REF!),NA()),NA())","v":{"$error":"#REF!"}},{"$error":"#REF!"},{"$error":"#REF!"}]
[null,null,null,{"$f":"IF(#REF!=$E$1,IF(#REF!=$G$1,#REF!,NA()),NA())","v":{"$error":"#REF!"}},{"$f":"IF(#REF!=$E$1,IF(#REF!=$G$1,#REF!,NA()),NA())","v":{"$error":"#REF!"}},{"$f":"IF(#REF!=$E$1,IF(#REF!=$G$1,IF(#REF!=\"\",NA(),#REF!),NA()),NA())","v":{"$error":"#REF!"}},{"$f":"IF(#REF!=$E$1,IF(#REF!=$G$1,IF(#REF!=\"\",NA(),#REF!),NA()),NA())","v":{"$error":"#REF!"}},{"$error":"#REF!"},{"$error":"#REF!"}]
[null,null,null,{"$f":"IF(#REF!=$E$1,IF(#REF!=$G$1,#REF!,NA()),NA())","v":{"$error":"#REF!"}},{"$f":"IF(#REF!=$E$1,IF(#REF!=$G$1,#REF!,NA()),NA())","v":{"$error":"#REF!"}},{"$f":"IF(#REF!=$E$1,IF(#REF!=$G$1,IF(#REF!=\"\",NA(),#REF!),NA()),NA())","v":{"$error":"#REF!"}},{"$f":"IF(#REF!=$E$1,IF(#REF!=$G$1,IF(#REF!=\"\",NA(),#REF!),NA()),NA())","v":{"$error":"#REF!"}},{"$error":"#REF!"},{"$error":"#REF!"}]
[null,null,null,{"$f":"IF(#REF!=$E$1,IF(#REF!=$G$1,#REF!,NA()),NA())","v":{"$error":"#REF!"}},{"$f":"IF(#REF!=$E$1,IF(#REF!=$G$1,#REF!,NA()),NA())","v":{"$error":"#REF!"}},{"$f":"IF(#REF!=$E$1,IF(#REF!=$G$1,IF(#REF!=\"\",NA(),#REF!),NA()),NA())","v":{"$error":"#REF!"}},{"$f":"IF(#REF!=$E$1,IF(#REF!=$G$1,IF(#REF!=\"\",NA(),#REF!),NA()),NA())","v":{"$error":"#REF!"}},{"$error":"#REF!"},{"$error":"#REF!"}]
[null,null,null,{"$f":"IF(#REF!=$E$1,IF(#REF!=$G$1,#REF!,NA()),NA())","v":{"$error":"#REF!"}},{"$f":"IF(#REF!=$E$1,IF(#REF!=$G$1,#REF!,NA()),NA())","v":{"$error":"#REF!"}},{"$f":"IF(#REF!=$E$1,IF(#REF!=$G$1,IF(#REF!=\"\",NA(),#REF!),NA()),NA())","v":{"$error":"#REF!"}},{"$f":"IF(#REF!=$E$1,IF(#REF!=$G$1,IF(#REF!=\"\",NA(),#REF!),NA()),NA())","v":{"$error":"#REF!"}},{"$error":"#REF!"},{"$error":"#REF!"}]
[null,null,null,{"$f":"IF(#REF!=$E$1,IF(#REF!=$G$1,#REF!,NA()),NA())","v":{"$error":"#REF!"}},{"$f":"IF(#REF!=$E$1,IF(#REF!=$G$1,#REF!,NA()),NA())","v":{"$error":"#REF!"}},{"$f":"IF(#REF!=$E$1,IF(#REF!=$G$1,IF(#REF!=\"\",NA(),#REF!),NA()),NA())","v":{"$error":"#REF!"}},{"$f":"IF(#REF!=$E$1,IF(#REF!=$G$1,IF(#REF!=\"\",NA(),#REF!),NA()),NA())","v":{"$error":"#REF!"}},{"$error":"#REF!"},{"$error":"#REF!"}]
[null,null,null,{"$f":"IF(#REF!=$E$1,IF(#REF!=$G$1,#REF!,NA()),NA())","v":{"$error":"#REF!"}},{"$f":"IF(#REF!=$E$1,IF(#REF!=$G$1,#REF!,NA()),NA())","v":{"$error":"#REF!"}},{"$f":"IF(#REF!=$E$1,IF(#REF!=$G$1,IF(#REF!=\"\",NA(),#REF!),NA()),NA())","v":{"$error":"#REF!"}},{"$f":"IF(#REF!=$E$1,IF(#REF!=$G$1,IF(#REF!=\"\",NA(),#REF!),NA()),NA())","v":{"$error":"#REF!"}},{"$error":"#REF!"},{"$error":"#REF!"}]
[null,null,null,{"$f":"IF(#REF!=$E$1,IF(#REF!=$G$1,#REF!,NA()),NA())","v":{"$error":"#REF!"}},{"$f":"IF(#REF!=$E$1,IF(#REF!=$G$1,#REF!,NA()),NA())","v":{"$error":"#REF!"}},{"$f":"IF(#REF!=$E$1,IF(#REF!=$G$1,IF(#REF!=\"\",NA(),#REF!),NA()),NA())","v":{"$error":"#REF!"}},{"$f":"IF(#REF!=$E$1,IF(#REF!=$G$1,IF(#REF!=\"\",NA(),#REF!),NA()),NA())","v":{"$error":"#REF!"}},{"$error":"#REF!"},{"$error":"#REF!"}]
[null,null,null,{"$f":"IF(#REF!=$E$1,IF(#REF!=$G$1,#REF!,NA()),NA())","v":{"$error":"#REF!"}},{"$f":"IF(#REF!=$E$1,IF(#REF!=$G$1,#REF!,NA()),NA())","v":{"$error":"#REF!"}},{"$f":"IF(#REF!=$E$1,IF(#REF!=$G$1,IF(#REF!=\"\",NA(),#REF!),NA()),NA())","v":{"$error":"#REF!"}},{"$f":"IF(#REF!=$E$1,IF(#REF!=$G$1,IF(#REF!=\"\",NA(),#REF!),NA()),NA())","v":{"$error":"#REF!"}},{"$error":"#REF!"},{"$error":"#REF!"}]
[null,null,null,{"$f":"IF(#REF!=$E$1,IF(#REF!=$G$1,#REF!,NA()),NA())","v":{"$error":"#REF!"}},{"$f":"IF(#REF!=$E$1,IF(#REF!=$G$1,#REF!,NA()),NA())","v":{"$error":"#REF!"}},{"$f":"IF(#REF!=$E$1,IF(#REF!=$G$1,IF(#REF!=\"\",NA(),#REF!),NA()),NA())","v":{"$error":"#REF!"}},{"$f":"IF(#REF!=$E$1,IF(#REF!=$G$1,IF(#REF!=\"\",NA(),#REF!),NA()),NA())","v":{"$error":"#REF!"}},{"$error":"#REF!"},{"$error":"#REF!"}]
[null,null,null,{"$f":"IF(#REF!=$E$1,IF(#REF!=$G$1,#REF!,NA()),NA())","v":{"$error":"#REF!"}},{"$f":"IF(#REF!=$E$1,IF(#REF!=$G$1,#REF!,NA()),NA())","v":{"$error":"#REF!"}},{"$f":"IF(#REF!=$E$1,IF(#REF!=$G$1,IF(#REF!=\"\",NA(),#REF!),NA()),NA())","v":{"$error":"#REF!"}},{"$f":"IF(#REF!=$E$1,IF(#REF!=$G$1,IF(#REF!=\"\",NA(),#REF!),NA()),NA())","v":{"$error":"#REF!"}},{"$error":"#REF!"},{"$error":"#REF!"}]
[null,null,null,{"$f":"IF(#REF!=$E$1,IF(#REF!=$G$1,#REF!,NA()),NA())","v":{"$error":"#REF!"}},{"$f":"IF(#REF!=$E$1,IF(#REF!=$G$1,#REF!,NA()),NA())","v":{"$error":"#REF!"}},{"$f":"IF(#REF!=$E$1,IF(#REF!=$G$1,IF(#REF!=\"\",NA(),#REF!),NA()),NA())","v":{"$error":"#REF!"}},{"$f":"IF(#REF!=$E$1,IF(#REF!=$G$1,IF(#REF!=\"\",NA(),#REF!),NA()),NA())","v":{"$error":"#REF!"}},{"$error":"#REF!"},{"$error":"#REF!"}]
[null,null,null,{"$f":"IF(#REF!=$E$1,IF(#REF!=$G$1,#REF!,NA()),NA())","v":{"$error":"#REF!"}},{"$f":"IF(#REF!=$E$1,IF(#REF!=$G$1,#REF!,NA()),NA())","v":{"$error":"#REF!"}},{"$f":"IF(#REF!=$E$1,IF(#REF!=$G$1,IF(#REF!=\"\",NA(),#REF!),NA()),NA())","v":{"$error":"#REF!"}},{"$f":"IF(#REF!=$E$1,IF(#REF!=$G$1,IF(#REF!=\"\",NA(),#REF!),NA()),NA())","v":{"$error":"#REF!"}},{"$error":"#REF!"},{"$error":"#REF!"}]
[null,null,null,{"$f":"IF(#REF!=$E$1,IF(#REF!=$G$1,#REF!,NA()),NA())","v":{"$error":"#REF!"}},{"$f":"IF(#REF!=$E$1,IF(#REF!=$G$1,#REF!,NA()),NA())","v":{"$error":"#REF!"}},{"$f":"IF(#REF!=$E$1,IF(#REF!=$G$1,IF(#REF!=\"\",NA(),#REF!),NA()),NA())","v":{"$error":"#REF!"}},{"$f":"IF(#REF!=$E$1,IF(#REF!=$G$1,IF(#REF!=\"\",NA(),#REF!),NA()),NA())","v":{"$error":"#REF!"}},{"$error":"#REF!"},{"$error":"#REF!"}]
[null,null,null,{"$f":"IF(#REF!=$E$1,IF(#REF!=$G$1,#REF!,NA()),NA())","v":{"$error":"#REF!"}},{"$f":"IF(#REF!=$E$1,IF(#REF!=$G$1,#REF!,NA()),NA())","v":{"$error":"#REF!"}},{"$f":"IF(#REF!=$E$1,IF(#REF!=$G$1,IF(#REF!=\"\",NA(),#REF!),NA()),NA())","v":{"$error":"#REF!"}},{"$f":"IF(#REF!=$E$1,IF(#REF!=$G$1,IF(#REF!=\"\",NA(),#REF!),NA()),NA())","v":{"$error":"#REF!"}},{"$error":"#REF!"},{"$error":"#REF!"}]
[null,null,null,{"$f":"IF(#REF!=$E$1,IF(#REF!=$G$1,#REF!,NA()),NA())","v":{"$error":"#REF!"}},{"$f":"IF(#REF!=$E$1,IF(#REF!=$G$1,#REF!,NA()),NA())","v":{"$error":"#REF!"}},{"$f":"IF(#REF!=$E$1,IF(#REF!=$G$1,IF(#REF!=\"\",NA(),#REF!),NA()),NA())","v":{"$error":"#REF!"}},{"$f":"IF(#REF!=$E$1,IF(#REF!=$G$1,IF(#REF!=\"\",NA(),#REF!),NA()),NA())","v":{"$error":"#REF!"}},{"$error":"#REF!"},{"$error":"#REF!"}]
[null,null,null,{"$f":"IF(#REF!=$E$1,IF(#REF!=$G$1,#REF!,NA()),NA())","v":{"$error":"#REF!"}},{"$f":"IF(#REF!=$E$1,IF(#REF!=$G$1,#REF!,NA()),NA())","v":{"$error":"#REF!"}},{"$f":"IF(#REF!=$E$1,IF(#REF!=$G$1,IF(#REF!=\"\",NA(),#REF!),NA()),NA())","v":{"$error":"#REF!"}},{"$f":"IF(#REF!=$E$1,IF(#REF!=$G$1,IF(#REF!=\"\",NA(),#REF!),NA()),NA())","v":{"$error":"#REF!"}},{"$error":"#REF!"},{"$error":"#REF!"}]
[null,null,null,{"$f":"IF(#REF!=$E$1,IF(#REF!=$G$1,#REF!,NA()),NA())","v":{"$error":"#REF!"}},{"$f":"IF(#REF!=$E$1,IF(#REF!=$G$1,#REF!,NA()),NA())","v":{"$error":"#REF!"}},{"$f":"IF(#REF!=$E$1,IF(#REF!=$G$1,IF(#REF!=\"\",NA(),#REF!),NA()),NA())","v":{"$error":"#REF!"}},{"$f":"IF(#REF!=$E$1,IF(#REF!=$G$1,IF(#REF!=\"\",NA(),#REF!),NA()),NA())","v":{"$error":"#REF!"}},{"$error":"#REF!"},{"$error":"#REF!"}]
[null,null,null,{"$f":"IF(#REF!=$E$1,IF(#REF!=$G$1,#REF!,NA()),NA())","v":{"$error":"#REF!"}},{"$f":"IF(#REF!=$E$1,IF(#REF!=$G$1,#REF!,NA()),NA())","v":{"$error":"#REF!"}},{"$f":"IF(#REF!=$E$1,IF(#REF!=$G$1,IF(#REF!=\"\",NA(),#REF!),NA()),NA())","v":{"$error":"#REF!"}},{"$f":"IF(#REF!=$E$1,IF(#REF!=$G$1,IF(#REF!=\"\",NA(),#REF!),NA()),NA())","v":{"$error":"#REF!"}},{"$error":"#REF!"},{"$error":"#REF!"}]
[null,null,null,{"$f":"IF(#REF!=$E$1,IF(#REF!=$G$1,#REF!,NA()),NA())","v":{"$error":"#REF!"}},{"$f":"IF(#REF!=$E$1,IF(#REF!=$G$1,#REF!,NA()),NA())","v":{"$error":"#REF!"}},{"$f":"IF(#REF!=$E$1,IF(#REF!=$G$1,IF(#REF!=\"\",NA(),#REF!),NA()),NA())","v":{"$error":"#REF!"}},{"$f":"IF(#REF!=$E$1,IF(#REF!=$G$1,IF(#REF!=\"\",NA(),#REF!),NA()),NA())","v":{"$error":"#REF!"}},{"$error":"#REF!"},{"$error":"#REF!"}]
[null,null,null,{"$f":"IF(#REF!=$E$1,IF(#REF!=$G$1,#REF!,NA()),NA())","v":{"$error":"#REF!"}},{"$f":"IF(#REF!=$E$1,IF(#REF!=$G$1,#REF!,NA()),NA())","v":{"$error":"#REF!"}},{"$f":"IF(#REF!=$E$1,IF(#REF!=$G$1,IF(#REF!=\"\",NA(),#REF!),NA()),NA())","v":{"$error":"#REF!"}},{"$f":"IF(#REF!=$E$1,IF(#REF!=$G$1,IF(#REF!=\"\",NA(),#REF!),NA()),NA())","v":{"$error":"#REF!"}},{"$error":"#REF!"},{"$error":"#REF!"}]
[null,null,null,{"$f":"IF(#REF!=$E$1,IF(#REF!=$G$1,#REF!,NA()),NA())","v":{"$error":"#REF!"}},{"$f":"IF(#REF!=$E$1,IF(#REF!=$G$1,#REF!,NA()),NA())","v":{"$error":"#REF!"}},{"$f":"IF(#REF!=$E$1,IF(#REF!=$G$1,IF(#REF!=\"\",NA(),#REF!),NA()),NA())","v":{"$error":"#REF!"}},{"$f":"IF(#REF!=$E$1,IF(#REF!=$G$1,IF(#REF!=\"\",NA(),#REF!),NA()),NA())","v":{"$error":"#REF!"}},{"$error":"#REF!"},{"$error":"#REF!"}]
[null,null,null,{"$f":"IF(#REF!=$E$1,IF(#REF!=$G$1,#REF!,NA()),NA())","v":{"$error":"#REF!"}},{"$f":"IF(#REF!=$E$1,IF(#REF!=$G$1,#REF!,NA()),NA())","v":{"$error":"#REF!"}},{"$f":"IF(#REF!=$E$1,IF(#REF!=$G$1,IF(#REF!=\"\",NA(),#REF!),NA()),NA())","v":{"$error":"#REF!"}},{"$f":"IF(#REF!=$E$1,IF(#REF!=$G$1,IF(#REF!=\"\",NA(),#REF!),NA()),NA())","v":{"$error":"#REF!"}},{"$error":"#REF!"},{"$error":"#REF!"}]
[null,null,null,{"$f":"IF(#REF!=$E$1,IF(#REF!=$G$1,#REF!,NA()),NA())","v":{"$error":"#REF!"}},{"$f":"IF(#REF!=$E$1,IF(#REF!=$G$1,#REF!,NA()),NA())","v":{"$error":"#REF!"}},{"$f":"IF(#REF!=$E$1,IF(#REF!=$G$1,IF(#REF!=\"\",NA(),#REF!),NA()),NA())","v":{"$error":"#REF!"}},{"$f":"IF(#REF!=$E$1,IF(#REF!=$G$1,IF(#REF!=\"\",NA(),#REF!),NA()),NA())","v":{"$error":"#REF!"}},{"$error":"#REF!"},{"$error":"#REF!"}]
[null,null,null,{"$f":"IF(#REF!=$E$1,IF(#REF!=$G$1,#REF!,NA()),NA())","v":{"$error":"#REF!"}},{"$f":"IF(#REF!=$E$1,IF(#REF!=$G$1,#REF!,NA()),NA())","v":{"$error":"#REF!"}},{"$f":"IF(#REF!=$E$1,IF(#REF!=$G$1,IF(#REF!=\"\",NA(),#REF!),NA()),NA())","v":{"$error":"#REF!"}},{"$f":"IF(#REF!=$E$1,IF(#REF!=$G$1,IF(#REF!=\"\",NA(),#REF!),NA()),NA())","v":{"$error":"#REF!"}},{"$f":"IF(AND(ISNUMBER(G132),F132=\"-\"),0,F132)","v":{"$error":"#REF!"}},{"$f":"IF(AND(ISNUMBER(F132),G132=\"-\"),0,G132)","v":{"$error":"#REF!"}}]
[null,null,null,{"$f":"IF(#REF!=$E$1,IF(#REF!=$G$1,#REF!,NA()),NA())","v":{"$error":"#REF!"}},{"$f":"IF(#REF!=$E$1,IF(#REF!=$G$1,#REF!,NA()),NA())","v":{"$error":"#REF!"}},{"$f":"IF(#REF!=$E$1,IF(#REF!=$G$1,IF(#REF!=\"\",NA(),#REF!),NA()),NA())","v":{"$error":"#REF!"}},{"$f":"IF(#REF!=$E$1,IF(#REF!=$G$1,IF(#REF!=\"\",NA(),#REF!),NA()),NA())","v":{"$error":"#REF!"}},{"$error":"#REF!"},{"$error":"#REF!"}]
[null,null,null,{"$f":"IF(#REF!=$E$1,IF(#REF!=$G$1,#REF!,NA()),NA())","v":{"$error":"#REF!"}},{"$f":"IF(#REF!=$E$1,IF(#REF!=$G$1,#REF!,NA()),NA())","v":{"$error":"#REF!"}},{"$f":"IF(#REF!=$E$1,IF(#REF!=$G$1,IF(#REF!=\"\",NA(),#REF!),NA()),NA())","v":{"$error":"#REF!"}},{"$f":"IF(#REF!=$E$1,IF(#REF!=$G$1,IF(#REF!=\"\",NA(),#REF!),NA()),NA())","v":{"$error":"#REF!"}},{"$error":"#REF!"},{"$error":"#REF!"}]
[null,null,null,{"$f":"IF(#REF!=$E$1,IF(#REF!=$G$1,#REF!,NA()),NA())","v":{"$error":"#REF!"}},{"$f":"IF(#REF!=$E$1,IF(#REF!=$G$1,#REF!,NA()),NA())","v":{"$error":"#REF!"}},{"$f":"IF(#REF!=$E$1,IF(#REF!=$G$1,IF(#REF!=\"\",NA(),#REF!),NA()),NA())","v":{"$error":"#REF!"}},{"$f":"IF(#REF!=$E$1,IF(#REF!=$G$1,IF(#REF!=\"\",NA(),#REF!),NA()),NA())","v":{"$error":"#REF!"}},{"$error":"#REF!"},{"$error":"#REF!"}]
[null,null,null,{"$f":"IF(#REF!=$E$1,IF(#REF!=$G$1,#REF!,NA()),NA())","v":{"$error":"#REF!"}},{"$f":"IF(#REF!=$E$1,IF(#REF!=$G$1,#REF!,NA()),NA())","v":{"$error":"#REF!"}},{"$f":"IF(#REF!=$E$1,IF(#REF!=$G$1,IF(#REF!=\"\",NA(),#REF!),NA()),NA())","v":{"$error":"#REF!"}},{"$f":"IF(#REF!=$E$1,IF(#REF!=$G$1,IF(#REF!=\"\",NA(),#REF!),NA()),NA())","v":{"$error":"#REF!"}},{"$error":"#REF!"},{"$error":"#REF!"}]
[null,null,null,{"$f":"IF(#REF!=$E$1,IF(#REF!=$G$1,#REF!,NA()),NA())","v":{"$error":"#REF!"}},{"$f":"IF(#REF!=$E$1,IF(#REF!=$G$1,#REF!,NA()),NA())","v":{"$error":"#REF!"}},{"$f":"IF(#REF!=$E$1,IF(#REF!=$G$1,IF(#REF!=\"\",NA(),#REF!),NA()),NA())","v":{"$error":"#REF!"}},{"$f":"IF(#REF!=$E$1,IF(#REF!=$G$1,IF(#REF!=\"\",NA(),#REF!),NA()),NA())","v":{"$error":"#REF!"}},{"$error":"#REF!"},{"$error":"#REF!"}]
[null,null,null,{"$f":"IF(#REF!=$E$1,IF(#REF!=$G$1,#REF!,NA()),NA())","v":{"$error":"#REF!"}},{"$f":"IF(#REF!=$E$1,IF(#REF!=$G$1,#REF!,NA()),NA())","v":{"$error":"#REF!"}},{"$f":"IF(#REF!=$E$1,IF(#REF!=$G$1,IF(#REF!=\"\",NA(),#REF!),NA()),NA())","v":{"$error":"#REF!"}},{"$f":"IF(#REF!=$E$1,IF(#REF!=$G$1,IF(#REF!=\"\",NA(),#REF!),NA()),NA())","v":{"$error":"#REF!"}},{"$error":"#REF!"},{"$error":"#REF!"}]
[null,null,null,{"$f":"IF(#REF!=$E$1,IF(#REF!=$G$1,#REF!,NA()),NA())","v":{"$error":"#REF!"}},{"$f":"IF(#REF!=$E$1,IF(#REF!=$G$1,#REF!,NA()),NA())","v":{"$error":"#REF!"}},{"$f":"IF(#REF!=$E$1,IF(#REF!=$G$1,IF(#REF!=\"\",NA(),#REF!),NA()),NA())","v":{"$error":"#REF!"}},{"$f":"IF(#REF!=$E$1,IF(#REF!=$G$1,IF(#REF!=\"\",NA(),#REF!),NA()),NA())","v":{"$error":"#REF!"}},{"$error":"#REF!"},{"$error":"#REF!"}]
[null,null,null,{"$f":"IF(#REF!=$E$1,IF(#REF!=$G$1,#REF!,NA()),NA())","v":{"$error":"#REF!"}},{"$f":"IF(#REF!=$E$1,IF(#REF!=$G$1,#REF!,NA()),NA())","v":{"$error":"#REF!"}},{"$f":"IF(#REF!=$E$1,IF(#REF!=$G$1,IF(#REF!=\"\",NA(),#REF!),NA()),NA())","v":{"$error":"#REF!"}},{"$f":"IF(#REF!=$E$1,IF(#REF!=$G$1,IF(#REF!=\"\",NA(),#REF!),NA()),NA())","v":{"$error":"#REF!"}},{"$error":"#REF!"},{"$error":"#REF!"}]
[null,null,null,{"$f":"IF(#REF!=$E$1,IF(#REF!=$G$1,#REF!,NA()),NA())","v":{"$error":"#REF!"}},{"$f":"IF(#REF!=$E$1,IF(#REF!=$G$1,#REF!,NA()),NA())","v":{"$error":"#REF!"}},{"$f":"IF(#REF!=$E$1,IF(#REF!=$G$1,IF(#REF!=\"\",NA(),#REF!),NA()),NA())","v":{"$error":"#REF!"}},{"$f":"IF(#REF!=$E$1,IF(#REF!=$G$1,IF(#REF!=\"\",NA(),#REF!),NA()),NA())","v":{"$error":"#REF!"}},{"$error":"#REF!"},{"$error":"#REF!"}]
[null,null,null,{"$f":"IF(#REF!=$E$1,IF(#REF!=$G$1,#REF!,NA()),NA())","v":{"$error":"#REF!"}},{"$f":"IF(#REF!=$E$1,IF(#REF!=$G$1,#REF!,NA()),NA())","v":{"$error":"#REF!"}},{"$f":"IF(#REF!=$E$1,IF(#REF!=$G$1,IF(#REF!=\"\",NA(),#REF!),NA()),NA())","v":{"$error":"#REF!"}},{"$f":"IF(#REF!=$E$1,IF(#REF!=$G$1,IF(#REF!=\"\",NA(),#REF!),NA()),NA())","v":{"$error":"#REF!"}},{"$error":"#REF!"},{"$error":"#REF!"}]
[null,null,null,{"$f":"IF(#REF!=$E$1,IF(#REF!=$G$1,#REF!,NA()),NA())","v":{"$error":"#REF!"}},{"$f":"IF(#REF!=$E$1,IF(#REF!=$G$1,#REF!,NA()),NA())","v":{"$error":"#REF!"}},{"$f":"IF(#REF!=$E$1,IF(#REF!=$G$1,IF(#REF!=\"\",NA(),#REF!),NA()),NA())","v":{"$error":"#REF!"}},{"$f":"IF(#REF!=$E$1,IF(#REF!=$G$1,IF(#REF!=\"\",NA(),#REF!),NA()),NA())","v":{"$error":"#REF!"}},{"$error":"#REF!"},{"$error":"#REF!"}]
[null,null,null,{"$f":"IF(#REF!=$E$1,IF(#REF!=$G$1,#REF!,NA()),NA())","v":{"$error":"#REF!"}},{"$f":"IF(#REF!=$E$1,IF(#REF!=$G$1,#REF!,NA()),NA())","v":{"$error":"#REF!"}},{"$f":"IF(#REF!=$E$1,IF(#REF!=$G$1,IF(#REF!=\"\",NA(),#REF!),NA()),NA())","v":{"$error":"#REF!"}},{"$f":"IF(#REF!=$E$1,IF(#REF!=$G$1,IF(#REF!=\"\",NA(),#REF!),NA()),NA())","v":{"$error":"#REF!"}},{"$error":"#REF!"},{"$error":"#REF!"}]
[null,null,null,{"$f":"IF(#REF!=$E$1,IF(#REF!=$G$1,#REF!,NA()),NA())","v":{"$error":"#REF!"}},{"$f":"IF(#REF!=$E$1,IF(#REF!=$G$1,#REF!,NA()),NA())","v":{"$error":"#REF!"}},{"$f":"IF(#REF!=$E$1,IF(#REF!=$G$1,IF(#REF!=\"\",NA(),#REF!),NA()),NA())","v":{"$error":"#REF!"}},{"$f":"IF(#REF!=$E$1,IF(#REF!=$G$1,IF(#REF!=\"\",NA(),#REF!),NA()),NA())","v":{"$error":"#REF!"}},{"$error":"#REF!"},{"$error":"#REF!"}]
[null,null,null,{"$f":"IF(#REF!=$E$1,IF(#REF!=$G$1,#REF!,NA()),NA())","v":{"$error":"#REF!"}},{"$f":"IF(#REF!=$E$1,IF(#REF!=$G$1,#REF!,NA()),NA())","v":{"$error":"#REF!"}},{"$f":"IF(#REF!=$E$1,IF(#REF!=$G$1,IF(#REF!=\"\",NA(),#REF!),NA()),NA())","v":{"$error":"#REF!"}},{"$f":"IF(#REF!=$E$1,IF(#REF!=$G$1,IF(#REF!=\"\",NA(),#REF!),NA()),NA())","v":{"$error":"#REF!"}},{"$error":"#REF!"},{"$error":"#REF!"}]
[null,null,null,{"$f":"IF(#REF!=$E$1,IF(#REF!=$G$1,#REF!,NA()),NA())","v":{"$error":"#REF!"}},{"$f":"IF(#REF!=$E$1,IF(#REF!=$G$1,#REF!,NA()),NA())","v":{"$error":"#REF!"}},{"$f":"IF(#REF!=$E$1,IF(#REF!=$G$1,IF(#REF!=\"\",NA(),#REF!),NA()),NA())","v":{"$error":"#REF!"}},{"$f":"IF(#REF!=$E$1,IF(#REF!=$G$1,IF(#REF!=\"\",NA(),#REF!),NA()),NA())","v":{"$error":"#REF!"}},{"$error":"#REF!"},{"$error":"#REF!"}]
[null,null,null,{"$f":"IF(#REF!=$E$1,IF(#REF!=$G$1,#REF!,NA()),NA())","v":{"$error":"#REF!"}},{"$f":"IF(#REF!=$E$1,IF(#REF!=$G$1,#REF!,NA()),NA())","v":{"$error":"#REF!"}},{"$f":"IF(#REF!=$E$1,IF(#REF!=$G$1,IF(#REF!=\"\",NA(),#REF!),NA()),NA())","v":{"$error":"#REF!"}},{"$f":"IF(#REF!=$E$1,IF(#REF!=$G$1,IF(#REF!=\"\",NA(),#REF!),NA()),NA())","v":{"$error":"#REF!"}},{"$error":"#REF!"},{"$error":"#REF!"}]
[null,null,null,{"$f":"IF(#REF!=$E$1,IF(#REF!=$G$1,#REF!,NA()),NA())","v":{"$error":"#REF!"}},{"$f":"IF(#REF!=$E$1,IF(#REF!=$G$1,#REF!,NA()),NA())","v":{"$error":"#REF!"}},{"$f":"IF(#REF!=$E$1,IF(#REF!=$G$1,IF(#REF!=\"\",NA(),#REF!),NA()),NA())","v":{"$error":"#REF!"}},{"$f":"IF(#REF!=$E$1,IF(#REF!=$G$1,IF(#REF!=\"\",NA(),#REF!),NA()),NA())","v":{"$error":"#REF!"}},{"$error":"#REF!"},{"$error":"#REF!"}]
[null,null,null,{"$f":"IF(#REF!=$E$1,IF(#REF!=$G$1,#REF!,NA()),NA())","v":{"$error":"#REF!"}},{"$f":"IF(#REF!=$E$1,IF(#REF!=$G$1,#REF!,NA()),NA())","v":{"$error":"#REF!"}},{"$f":"IF(#REF!=$E$1,IF(#REF!=$G$1,IF(#REF!=\"\",NA(),#REF!),NA()),NA())","v":{"$error":"#REF!"}},{"$f":"IF(#REF!=$E$1,IF(#REF!=$G$1,IF(#REF!=\"\",NA(),#REF!),NA()),NA())","v":{"$error":"#REF!"}},{"$error":"#REF!"},{"$error":"#REF!"}]
[null,null,null,{"$f":"IF(#REF!=$E$1,IF(#REF!=$G$1,#REF!,NA()),NA())","v":{"$error":"#REF!"}},{"$f":"IF(#REF!=$E$1,IF(#REF!=$G$1,#REF!,NA()),NA())","v":{"$error":"#REF!"}},{"$f":"IF(#REF!=$E$1,IF(#REF!=$G$1,IF(#REF!=\"\",NA(),#REF!),NA()),NA())","v":{"$error":"#REF!"}},{"$f":"IF(#REF!=$E$1,IF(#REF!=$G$1,IF(#REF!=\"\",NA(),#REF!),NA()),NA())","v":{"$error":"#REF!"}},{"$error":"#REF!"},{"$error":"#REF!"}]
[null,null,null,{"$f":"IF(#REF!=$E$1,IF(#REF!=$G$1,#REF!,NA()),NA())","v":{"$error":"#REF!"}},{"$f":"IF(#REF!=$E$1,IF(#REF!=$G$1,#REF!,NA()),NA())","v":{"$error":"#REF!"}},{"$f":"IF(#REF!=$E$1,IF(#REF!=$G$1,IF(#REF!=\"\",NA(),#REF!),NA()),NA())","v":{"$error":"#REF!"}},{"$f":"IF(#REF!=$E$1,IF(#REF!=$G$1,IF(#REF!=\"\",NA(),#REF!),NA()),NA())","v":{"$error":"#REF!"}},{"$error":"#REF!"},{"$error":"#REF!"}]
[null,null,null,{"$f":"IF(#REF!=$E$1,IF(#REF!=$G$1,#REF!,NA()),NA())","v":{"$error":"#REF!"}},{"$f":"IF(#REF!=$E$1,IF(#REF!=$G$1,#REF!,NA()),NA())","v":{"$error":"#REF!"}},{"$f":"IF(#REF!=$E$1,IF(#REF!=$G$1,IF(#REF!=\"\",NA(),#REF!),NA()),NA())","v":{"$error":"#REF!"}},{"$f":"IF(#REF!=$E$1,IF(#REF!=$G$1,IF(#REF!=\"\",NA(),#REF!),NA()),NA())","v":{"$error":"#REF!"}},{"$error":"#REF!"},{"$error":"#REF!"}]
[null,null,null,{"$f":"IF(#REF!=$E$1,IF(#REF!=$G$1,#REF!,NA()),NA())","v":{"$error":"#REF!"}},{"$f":"IF(#REF!=$E$1,IF(#REF!=$G$1,#REF!,NA()),NA())","v":{"$error":"#REF!"}},{"$f":"IF(#REF!=$E$1,IF(#REF!=$G$1,IF(#REF!=\"\",NA(),#REF!),NA()),NA())","v":{"$error":"#REF!"}},{"$f":"IF(#REF!=$E$1,IF(#REF!=$G$1,IF(#REF!=\"\",NA(),#REF!),NA()),NA())","v":{"$error":"#REF!"}},{"$error":"#REF!"},{"$error":"#REF!"}]
[null,null,null,{"$f":"IF(#REF!=$E$1,IF(#REF!=$G$1,#REF!,NA()),NA())","v":{"$error":"#REF!"}},{"$f":"IF(#REF!=$E$1,IF(#REF!=$G$1,#REF!,NA()),NA())","v":{"$error":"#REF!"}},{"$f":"IF(#REF!=$E$1,IF(#REF!=$G$1,IF(#REF!=\"\",NA(),#REF!),NA()),NA())","v":{"$error":"#REF!"}},{"$f":"IF(#REF!=$E$1,IF(#REF!=$G$1,IF(#REF!=\"\",NA(),#REF!),NA()),NA())","v":{"$error":"#REF!"}},{"$error":"#REF!"},{"$error":"#REF!"}]
[null,null,null,{"$f":"IF(#REF!=$E$1,IF(#REF!=$G$1,#REF!,NA()),NA())","v":{"$error":"#REF!"}},{"$f":"IF(#REF!=$E$1,IF(#REF!=$G$1,#REF!,NA()),NA())","v":{"$error":"#REF!"}},{"$f":"IF(#REF!=$E$1,IF(#REF!=$G$1,IF(#REF!=\"\",NA(),#REF!),NA()),NA())","v":{"$error":"#REF!"}},{"$f":"IF(#REF!=$E$1,IF(#REF!=$G$1,IF(#REF!=\"\",NA(),#REF!),NA()),NA())","v":{"$error":"#REF!"}},{"$error":"#REF!"},{"$error":"#REF!"}]
[null,null,null,{"$f":"IF(#REF!=$E$1,IF(#REF!=$G$1,#REF!,NA()),NA())","v":{"$error":"#REF!"}},{"$f":"IF(#REF!=$E$1,IF(#REF!=$G$1,#REF!,NA()),NA())","v":{"$error":"#REF!"}},{"$f":"IF(#REF!=$E$1,IF(#REF!=$G$1,IF(#REF!=\"\",NA(),#REF!),NA()),NA())","v":{"$error":"#REF!"}},{"$f":"IF(#REF!=$E$1,IF(#REF!=$G$1,IF(#REF!=\"\",NA(),#REF!),NA()),NA())","v":{"$error":"#REF!"}},{"$error":"#REF!"},{"$error":"#REF!"}]
[null,null,null,{"$f":"IF(#REF!=$E$1,IF(#REF!=$G$1,#REF!,NA()),NA())","v":{"$error":"#REF!"}},{"$f":"IF(#REF!=$E$1,IF(#REF!=$G$1,#REF!,NA()),NA())","v":{"$error":"#REF!"}},{"$f":"IF(#REF!=$E$1,IF(#REF!=$G$1,IF(#REF!=\"\",NA(),#REF!),NA()),NA())","v":{"$error":"#REF!"}},{"$f":"IF(#REF!=$E$1,IF(#REF!=$G$1,IF(#REF!=\"\",NA(),#REF!),NA()),NA())","v":{"$error":"#REF!"}},{"$error":"#REF!"},{"$error":"#REF!"}]
[null,null,null,{"$f":"IF(#REF!=$E$1,IF(#REF!=$G$1,#REF!,NA()),NA())","v":{"$error":"#REF!"}},{"$f":"IF(#REF!=$E$1,IF(#REF!=$G$1,#REF!,NA()),NA())","v":{"$error":"#REF!"}},{"$f":"IF(#REF!=$E$1,IF(#REF!=$G$1,IF(#REF!=\"\",NA(),#REF!),NA()),NA())","v":{"$error":"#REF!"}},{"$f":"IF(#REF!=$E$1,IF(#REF!=$G$1,IF(#REF!=\"\",NA(),#REF!),NA()),NA())","v":{"$error":"#REF!"}},{"$error":"#REF!"},{"$error":"#REF!"}]
[null,null,null,{"$f":"IF(#REF!=$E$1,IF(#REF!=$G$1,#REF!,NA()),NA())","v":{"$error":"#REF!"}},{"$f":"IF(#REF!=$E$1,IF(#REF!=$G$1,#REF!,NA()),NA())","v":{"$error":"#REF!"}},{"$f":"IF(#REF!=$E$1,IF(#REF!=$G$1,IF(#REF!=\"\",NA(),#REF!),NA()),NA())","v":{"$error":"#REF!"}},{"$f":"IF(#REF!=$E$1,IF(#REF!=$G$1,IF(#REF!=\"\",NA(),#REF!),NA()),NA())","v":{"$error":"#REF!"}},{"$error":"#REF!"},{"$error":"#REF!"}]
[null,null,null,{"$f":"IF(#REF!=$E$1,IF(#REF!=$G$1,#REF!,NA()),NA())","v":{"$error":"#REF!"}},{"$f":"IF(#REF!=$E$1,IF(#REF!=$G$1,#REF!,NA()),NA())","v":{"$error":"#REF!"}},{"$f":"IF(#REF!=$E$1,IF(#REF!=$G$1,IF(#REF!=\"\",NA(),#REF!),NA()),NA())","v":{"$error":"#REF!"}},{"$f":"IF(#REF!=$E$1,IF(#REF!=$G$1,IF(#REF!=\"\",NA(),#REF!),NA()),NA())","v":{"$error":"#REF!"}},{"$error":"#REF!"},{"$error":"#REF!"}]
[null,null,null,{"$f":"IF(#REF!=$E$1,IF(#REF!=$G$1,#REF!,NA()),NA())","v":{"$error":"#REF!"}},{"$f":"IF(#REF!=$E$1,IF(#REF!=$G$1,#REF!,NA()),NA())","v":{"$error":"#REF!"}},{"$f":"IF(#REF!=$E$1,IF(#REF!=$G$1,IF(#REF!=\"\",NA(),#REF!),NA()),NA())","v":{"$error":"#REF!"}},{"$f":"IF(#REF!=$E$1,IF(#REF!=$G$1,IF(#REF!=\"\",NA(),#REF!),NA()),NA())","v":{"$error":"#REF!"}},{"$error":"#REF!"},{"$error":"#REF!"}]
[null,null,null,{"$f":"IF(#REF!=$E$1,IF(#REF!=$G$1,#REF!,NA()),NA())","v":{"$error":"#REF!"}},{"$f":"IF(#REF!=$E$1,IF(#REF!=$G$1,#REF!,NA()),NA())","v":{"$error":"#REF!"}},{"$f":"IF(#REF!=$E$1,IF(#REF!=$G$1,IF(#REF!=\"\",NA(),#REF!),NA()),NA())","v":{"$error":"#REF!"}},{"$f":"IF(#REF!=$E$1,IF(#REF!=$G$1,IF(#REF!=\"\",NA(),#REF!),NA()),NA())","v":{"$error":"#REF!"}},{"$error":"#REF!"},{"$error":"#REF!"}]
[null,null,null,{"$f":"IF(#REF!=$E$1,IF(#REF!=$G$1,#REF!,NA()),NA())","v":{"$error":"#REF!"}},{"$f":"IF(#REF!=$E$1,IF(#REF!=$G$1,#REF!,NA()),NA())","v":{"$error":"#REF!"}},{"$f":"IF(#REF!=$E$1,IF(#REF!=$G$1,IF(#REF!=\"\",NA(),#REF!),NA()),NA())","v":{"$error":"#REF!"}},{"$f":"IF(#REF!=$E$1,IF(#REF!=$G$1,IF(#REF!=\"\",NA(),#REF!),NA()),NA())","v":{"$error":"#REF!"}},{"$error":"#REF!"},{"$error":"#REF!"}]
[null,null,null,{"$f":"IF(#REF!=$E$1,IF(#REF!=$G$1,#REF!,NA()),NA())","v":{"$error":"#REF!"}},{"$f":"IF(#REF!=$E$1,IF(#REF!=$G$1,#REF!,NA()),NA())","v":{"$error":"#REF!"}},{"$f":"IF(#REF!=$E$1,IF(#REF!=$G$1,IF(#REF!=\"\",NA(),#REF!),NA()),NA())","v":{"$error":"#REF!"}},{"$f":"IF(#REF!=$E$1,IF(#REF!=$G$1,IF(#REF!=\"\",NA(),#REF!),NA()),NA())","v":{"$error":"#REF!"}},{"$error":"#REF!"},{"$error":"#REF!"}]
[null,null,null,{"$f":"IF(#REF!=$E$1,IF(#REF!=$G$1,#REF!,NA()),NA())","v":{"$error":"#REF!"}},{"$f":"IF(#REF!=$E$1,IF(#REF!=$G$1,#REF!,NA()),NA())","v":{"$error":"#REF!"}},{"$f":"IF(#REF!=$E$1,IF(#REF!=$G$1,IF(#REF!=\"\",NA(),#REF!),NA()),NA())","v":{"$error":"#REF!"}},{"$f":"IF(#REF!=$E$1,IF(#REF!=$G$1,IF(#REF!=\"\",NA(),#REF!),NA()),NA())","v":{"$error":"#REF!"}},{"$error":"#REF!"},{"$error":"#REF!"}]
[null,null,null,{"$f":"IF(#REF!=$E$1,IF(#REF!=$G$1,#REF!,NA()),NA())","v":{"$error":"#REF!"}},{"$f":"IF(#REF!=$E$1,IF(#REF!=$G$1,#REF!,NA()),NA())","v":{"$error":"#REF!"}},{"$f":"IF(#REF!=$E$1,IF(#REF!=$G$1,IF(#REF!=\"\",NA(),#REF!),NA()),NA())","v":{"$error":"#REF!"}},{"$f":"IF(#REF!=$E$1,IF(#REF!=$G$1,IF(#REF!=\"\",NA(),#REF!),NA()),NA())","v":{"$error":"#REF!"}},{"$error":"#REF!"},{"$error":"#REF!"}]
[null,null,null,{"$f":"IF(#REF!=$E$1,IF(#REF!=$G$1,#REF!,NA()),NA())","v":{"$error":"#REF!"}},{"$f":"IF(#REF!=$E$1,IF(#REF!=$G$1,#REF!,NA()),NA())","v":{"$error":"#REF!"}},{"$f":"IF(#REF!=$E$1,IF(#REF!=$G$1,IF(#REF!=\"\",NA(),#REF!),NA()),NA())","v":{"$error":"#REF!"}},{"$f":"IF(#REF!=$E$1,IF(#REF!=$G$1,IF(#REF!=\"\",NA(),#REF!),NA()),NA())","v":{"$error":"#REF!"}},{"$error":"#REF!"},{"$error":"#REF!"}]
[null,null,null,{"$f":"IF(#REF!=$E$1,IF(#REF!=$G$1,#REF!,NA()),NA())","v":{"$error":"#REF!"}},{"$f":"IF(#REF!=$E$1,IF(#REF!=$G$1,#REF!,NA()),NA())","v":{"$error":"#REF!"}},{"$f":"IF(#REF!=$E$1,IF(#REF!=$G$1,IF(#REF!=\"\",NA(),#REF!),NA()),NA())","v":{"$error":"#REF!"}},{"$f":"IF(#REF!=$E$1,IF(#REF!=$G$1,IF(#REF!=\"\",NA(),#REF!),NA()),NA())","v":{"$error":"#REF!"}},{"$error":"#REF!"},{"$error":"#REF!"}]
[null,null,null,{"$f":"IF(#REF!=$E$1,IF(#REF!=$G$1,#REF!,NA()),NA())","v":{"$error":"#REF!"}},{"$f":"IF(#REF!=$E$1,IF(#REF!=$G$1,#REF!,NA()),NA())","v":{"$error":"#REF!"}},{"$f":"IF(#REF!=$E$1,IF(#REF!=$G$1,IF(#REF!=\"\",NA(),#REF!),NA()),NA())","v":{"$error":"#REF!"}},{"$f":"IF(#REF!=$E$1,IF(#REF!=$G$1,IF(#REF!=\"\",NA(),#REF!),NA()),NA())","v":{"$error":"#REF!"}},{"$error":"#REF!"},{"$error":"#REF!"}]
[null,null,null,{"$f":"IF(#REF!=$E$1,IF(#REF!=$G$1,#REF!,NA()),NA())","v":{"$error":"#REF!"}},{"$f":"IF(#REF!=$E$1,IF(#REF!=$G$1,#REF!,NA()),NA())","v":{"$error":"#REF!"}},{"$f":"IF(#REF!=$E$1,IF(#REF!=$G$1,IF(#REF!=\"\",NA(),#REF!),NA()),NA())","v":{"$error":"#REF!"}},{"$f":"IF(#REF!=$E$1,IF(#REF!=$G$1,IF(#REF!=\"\",NA(),#REF!),NA()),NA())","v":{"$error":"#REF!"}},{"$error":"#REF!"},{"$error":"#REF!"}]
[null,null,null,{"$f":"IF(#REF!=$E$1,IF(#REF!=$G$1,#REF!,NA()),NA())","v":{"$error":"#REF!"}},{"$f":"IF(#REF!=$E$1,IF(#REF!=$G$1,#REF!,NA()),NA())","v":{"$error":"#REF!"}},{"$f":"IF(#REF!=$E$1,IF(#REF!=$G$1,IF(#REF!=\"\",NA(),#REF!),NA()),NA())","v":{"$error":"#REF!"}},{"$f":"IF(#REF!=$E$1,IF(#REF!=$G$1,IF(#REF!=\"\",NA(),#REF!),NA()),NA())","v":{"$error":"#REF!"}},{"$error":"#REF!"},{"$error":"#REF!"}]
[null,null,null,{"$f":"IF(#REF!=$E$1,IF(#REF!=$G$1,#REF!,NA()),NA())","v":{"$error":"#REF!"}},{"$f":"IF(#REF!=$E$1,IF(#REF!=$G$1,#REF!,NA()),NA())","v":{"$error":"#REF!"}},{"$f":"IF(#REF!=$E$1,IF(#REF!=$G$1,IF(#REF!=\"\",NA(),#REF!),NA()),NA())","v":{"$error":"#REF!"}},{"$f":"IF(#REF!=$E$1,IF(#REF!=$G$1,IF(#REF!=\"\",NA(),#REF!),NA()),NA())","v":{"$error":"#REF!"}},{"$error":"#REF!"},{"$error":"#REF!"}]
[null,null,null,{"$f":"IF(#REF!=$E$1,IF(#REF!=$G$1,#REF!,NA()),NA())","v":{"$error":"#REF!"}},{"$f":"IF(#REF!=$E$1,IF(#REF!=$G$1,#REF!,NA()),NA())","v":{"$error":"#REF!"}},{"$f":"IF(#REF!=$E$1,IF(#REF!=$G$1,IF(#REF!=\"\",NA(),#REF!),NA()),NA())","v":{"$error":"#REF!"}},{"$f":"IF(#REF!=$E$1,IF(#REF!=$G$1,IF(#REF!=\"\",NA(),#REF!),NA()),NA())","v":{"$error":"#REF!"}},{"$error":"#REF!"},{"$error":"#REF!"}]
[null,null,null,{"$f":"IF(#REF!=$E$1,IF(#REF!=$G$1,#REF!,NA()),NA())","v":{"$error":"#REF!"}},{"$f":"IF(#REF!=$E$1,IF(#REF!=$G$1,#REF!,NA()),NA())","v":{"$error":"#REF!"}},{"$f":"IF(#REF!=$E$1,IF(#REF!=$G$1,IF(#REF!=\"\",NA(),#REF!),NA()),NA())","v":{"$error":"#REF!"}},{"$f":"IF(#REF!=$E$1,IF(#REF!=$G$1,IF(#REF!=\"\",NA(),#REF!),NA()),NA())","v":{"$error":"#REF!"}},{"$error":"#REF!"},{"$error":"#REF!"}]
[null,null,null,{"$f":"IF(#REF!=$E$1,IF(#REF!=$G$1,#REF!,NA()),NA())","v":{"$error":"#REF!"}},{"$f":"IF(#REF!=$E$1,IF(#REF!=$G$1,#REF!,NA()),NA())","v":{"$error":"#REF!"}},{"$f":"IF(#REF!=$E$1,IF(#REF!=$G$1,IF(#REF!=\"\",NA(),#REF!),NA()),NA())","v":{"$error":"#REF!"}},{"$f":"IF(#REF!=$E$1,IF(#REF!=$G$1,IF(#REF!=\"\",NA(),#REF!),NA()),NA())","v":{"$error":"#REF!"}},{"$error":"#REF!"},{"$error":"#REF!"}]
[null,null,null,{"$f":"IF(#REF!=$E$1,IF(#REF!=$G$1,#REF!,NA()),NA())","v":{"$error":"#REF!"}},{"$f":"IF(#REF!=$E$1,IF(#REF!=$G$1,#REF!,NA()),NA())","v":{"$error":"#REF!"}},{"$f":"IF(#REF!=$E$1,IF(#REF!=$G$1,IF(#REF!=\"\",NA(),#REF!),NA()),NA())","v":{"$error":"#REF!"}},{"$f":"IF(#REF!=$E$1,IF(#REF!=$G$1,IF(#REF!=\"\",NA(),#REF!),NA()),NA())","v":{"$error":"#REF!"}},{"$error":"#REF!"},{"$error":"#REF!"}]
[null,null,null,{"$f":"IF(#REF!=$E$1,IF(#REF!=$G$1,#REF!,NA()),NA())","v":{"$error":"#REF!"}},{"$f":"IF(#REF!=$E$1,IF(#REF!=$G$1,#REF!,NA()),NA())","v":{"$error":"#REF!"}},{"$f":"IF(#REF!=$E$1,IF(#REF!=$G$1,IF(#REF!=\"\",NA(),#REF!),NA()),NA())","v":{"$error":"#REF!"}},{"$f":"IF(#REF!=$E$1,IF(#REF!=$G$1,IF(#REF!=\"\",NA(),#REF!),NA()),NA())","v":{"$error":"#REF!"}},{"$error":"#REF!"},{"$error":"#REF!"}]
[null,null,null,{"$f":"IF(#REF!=$E$1,IF(#REF!=$G$1,#REF!,NA()),NA())","v":{"$error":"#REF!"}},{"$f":"IF(#REF!=$E$1,IF(#REF!=$G$1,#REF!,NA()),NA())","v":{"$error":"#REF!"}},{"$f":"IF(#REF!=$E$1,IF(#REF!=$G$1,IF(#REF!=\"\",NA(),#REF!),NA()),NA())","v":{"$error":"#REF!"}},{"$f":"IF(#REF!=$E$1,IF(#REF!=$G$1,IF(#REF!=\"\",NA(),#REF!),NA()),NA())","v":{"$error":"#REF!"}},{"$error":"#REF!"},{"$error":"#REF!"}]
[null,null,null,{"$f":"IF(#REF!=$E$1,IF(#REF!=$G$1,#REF!,NA()),NA())","v":{"$error":"#REF!"}},{"$f":"IF(#REF!=$E$1,IF(#REF!=$G$1,#REF!,NA()),NA())","v":{"$error":"#REF!"}},{"$f":"IF(#REF!=$E$1,IF(#REF!=$G$1,IF(#REF!=\"\",NA(),#REF!),NA()),NA())","v":{"$error":"#REF!"}},{"$f":"IF(#REF!=$E$1,IF(#REF!=$G$1,IF(#REF!=\"\",NA(),#REF!),NA()),NA())","v":{"$error":"#REF!"}},{"$error":"#REF!"},{"$error":"#REF!"}]
[null,null,null,{"$f":"IF(#REF!=$E$1,IF(#REF!=$G$1,#REF!,NA()),NA())","v":{"$error":"#REF!"}},{"$f":"IF(#REF!=$E$1,IF(#REF!=$G$1,#REF!,NA()),NA())","v":{"$error":"#REF!"}},{"$f":"IF(#REF!=$E$1,IF(#REF!=$G$1,IF(#REF!=\"\",NA(),#REF!),NA()),NA())","v":{"$error":"#REF!"}},{"$f":"IF(#REF!=$E$1,IF(#REF!=$G$1,IF(#REF!=\"\",NA(),#REF!),NA()),NA())","v":{"$error":"#REF!"}},{"$error":"#REF!"},{"$error":"#REF!"}]
[null,null,null,{"$f":"IF(#REF!=$E$1,IF(#REF!=$G$1,#REF!,NA()),NA())","v":{"$error":"#REF!"}},{"$f":"IF(#REF!=$E$1,IF(#REF!=$G$1,#REF!,NA()),NA())","v":{"$error":"#REF!"}},{"$f":"IF(#REF!=$E$1,IF(#REF!=$G$1,IF(#REF!=\"\",NA(),#REF!),NA()),NA())","v":{"$error":"#REF!"}},{"$f":"IF(#REF!=$E$1,IF(#REF!=$G$1,IF(#REF!=\"\",NA(),#REF!),NA()),NA())","v":{"$error":"#REF!"}},{"$error":"#REF!"},{"$error":"#REF!"}]
[null,null,null,{"$f":"IF(#REF!=$E$1,IF(#REF!=$G$1,#REF!,NA()),NA())","v":{"$error":"#REF!"}},{"$f":"IF(#REF!=$E$1,IF(#REF!=$G$1,#REF!,NA()),NA())","v":{"$error":"#REF!"}},{"$f":"IF(#REF!=$E$1,IF(#REF!=$G$1,IF(#REF!=\"\",NA(),#REF!),NA()),NA())","v":{"$error":"#REF!"}},{"$f":"IF(#REF!=$E$1,IF(#REF!=$G$1,IF(#REF!=\"\",NA(),#REF!),NA()),NA())","v":{"$error":"#REF!"}},{"$error":"#REF!"},{"$error":"#REF!"}]
[null,null,null,{"$f":"IF(#REF!=$E$1,IF(#REF!=$G$1,#REF!,NA()),NA())","v":{"$error":"#REF!"}},{"$f":"IF(#REF!=$E$1,IF(#REF!=$G$1,#REF!,NA()),NA())","v":{"$error":"#REF!"}},{"$f":"IF(#REF!=$E$1,IF(#REF!=$G$1,IF(#REF!=\"\",NA(),#REF!),NA()),NA())","v":{"$error":"#REF!"}},{"$f":"IF(#REF!=$E$1,IF(#REF!=$G$1,IF(#REF!=\"\",NA(),#REF!),NA()),NA())","v":{"$error":"#REF!"}},{"$error":"#REF!"},{"$error":"#REF!"}]
[null,null,null,{"$f":"IF(#REF!=$E$1,IF(#REF!=$G$1,#REF!,NA()),NA())","v":{"$error":"#REF!"}},{"$f":"IF(#REF!=$E$1,IF(#REF!=$G$1,#REF!,NA()),NA())","v":{"$error":"#REF!"}},{"$f":"IF(#REF!=$E$1,IF(#REF!=$G$1,IF(#REF!=\"\",NA(),#REF!),NA()),NA())","v":{"$error":"#REF!"}},{"$f":"IF(#REF!=$E$1,IF(#REF!=$G$1,IF(#REF!=\"\",NA(),#REF!),NA()),NA())","v":{"$error":"#REF!"}},{"$error":"#REF!"},{"$error":"#REF!"}]
[null,null,null,{"$f":"IF(#REF!=$E$1,IF(#REF!=$G$1,#REF!,NA()),NA())","v":{"$error":"#REF!"}},{"$f":"IF(#REF!=$E$1,IF(#REF!=$G$1,#REF!,NA()),NA())","v":{"$error":"#REF!"}},{"$f":"IF(#REF!=$E$1,IF(#REF!=$G$1,IF(#REF!=\"\",NA(),#REF!),NA()),NA())","v":{"$error":"#REF!"}},{"$f":"IF(#REF!=$E$1,IF(#REF!=$G$1,IF(#REF!=\"\",NA(),#REF!),NA()),NA())","v":{"$error":"#REF!"}},{"$error":"#REF!"},{"$error":"#REF!"}]
[null,null,null,{"$f":"IF(#REF!=$E$1,IF(#REF!=$G$1,#REF!,NA()),NA())","v":{"$error":"#REF!"}},{"$f":"IF(#REF!=$E$1,IF(#REF!=$G$1,#REF!,NA()),NA())","v":{"$error":"#REF!"}},{"$f":"IF(#REF!=$E$1,IF(#REF!=$G$1,IF(#REF!=\"\",NA(),#REF!),NA()),NA())","v":{"$error":"#REF!"}},{"$f":"IF(#REF!=$E$1,IF(#REF!=$G$1,IF(#REF!=\"\",NA(),#REF!),NA()),NA())","v":{"$error":"#REF!"}},{"$error":"#REF!"},{"$error":"#REF!"}]
[null,null,null,{"$f":"IF(#REF!=$E$1,IF(#REF!=$G$1,#REF!,NA()),NA())","v":{"$error":"#REF!"}},{"$f":"IF(#REF!=$E$1,IF(#REF!=$G$1,#REF!,NA()),NA())","v":{"$error":"#REF!"}},{"$f":"IF(#REF!=$E$1,IF(#REF!=$G$1,IF(#REF!=\"\",NA(),#REF!),NA()),NA())","v":{"$error":"#REF!"}},{"$f":"IF(#REF!=$E$1,IF(#REF!=$G$1,IF(#REF!=\"\",NA(),#REF!),NA()),NA())","v":{"$error":"#REF!"}},{"$error":"#REF!"},{"$error":"#REF!"}]
[null,null,null,{"$f":"IF(#REF!=$E$1,IF(#REF!=$G$1,#REF!,NA()),NA())","v":{"$error":"#REF!"}},{"$f":"IF(#REF!=$E$1,IF(#REF!=$G$1,#REF!,NA()),NA())","v":{"$error":"#REF!"}},{"$f":"IF(#REF!=$E$1,IF(#REF!=$G$1,IF(#REF!=\"\",NA(),#REF!),NA()),NA())","v":{"$error":"#REF!"}},{"$f":"IF(#REF!=$E$1,IF(#REF!=$G$1,IF(#REF!=\"\",NA(),#REF!),NA()),NA())","v":{"$error":"#REF!"}},{"$error":"#REF!"},{"$error":"#REF!"}]
[null,null,null,{"$f":"IF(#REF!=$E$1,IF(#REF!=$G$1,#REF!,NA()),NA())","v":{"$error":"#REF!"}},{"$f":"IF(#REF!=$E$1,IF(#REF!=$G$1,#REF!,NA()),NA())","v":{"$error":"#REF!"}},{"$f":"IF(#REF!=$E$1,IF(#REF!=$G$1,IF(#REF!=\"\",NA(),#REF!),NA()),NA())","v":{"$error":"#REF!"}},{"$f":"IF(#REF!=$E$1,IF(#REF!=$G$1,IF(#REF!=\"\",NA(),#REF!),NA()),NA())","v":{"$error":"#REF!"}},{"$error":"#REF!"},{"$error":"#REF!"}]
[null,null,null,{"$f":"IF(#REF!=$E$1,IF(#REF!=$G$1,#REF!,NA()),NA())","v":{"$error":"#REF!"}},{"$f":"IF(#REF!=$E$1,IF(#REF!=$G$1,#REF!,NA()),NA())","v":{"$error":"#REF!"}},{"$f":"IF(#REF!=$E$1,IF(#REF!=$G$1,IF(#REF!=\"\",NA(),#REF!),NA()),NA())","v":{"$error":"#REF!"}},{"$f":"IF(#REF!=$E$1,IF(#REF!=$G$1,IF(#REF!=\"\",NA(),#REF!),NA()),NA())","v":{"$error":"#REF!"}},{"$error":"#REF!"},{"$error":"#REF!"}]
[null,null,null,{"$f":"IF(#REF!=$E$1,IF(#REF!=$G$1,#REF!,NA()),NA())","v":{"$error":"#REF!"}},{"$f":"IF(#REF!=$E$1,IF(#REF!=$G$1,#REF!,NA()),NA())","v":{"$error":"#REF!"}},{"$f":"IF(#REF!=$E$1,IF(#REF!=$G$1,IF(#REF!=\"\",NA(),#REF!),NA()),NA())","v":{"$error":"#REF!"}},{"$f":"IF(#REF!=$E$1,IF(#REF!=$G$1,IF(#REF!=\"\",NA(),#REF!),NA()),NA())","v":{"$error":"#REF!"}},{"$error":"#REF!"},{"$error":"#REF!"}]
[null,null,null,{"$f":"IF(#REF!=$E$1,IF(#REF!=$G$1,#REF!,NA()),NA())","v":{"$error":"#REF!"}},{"$f":"IF(#REF!=$E$1,IF(#REF!=$G$1,#REF!,NA()),NA())","v":{"$error":"#REF!"}},{"$f":"IF(#REF!=$E$1,IF(#REF!=$G$1,IF(#REF!=\"\",NA(),#REF!),NA()),NA())","v":{"$error":"#REF!"}},{"$f":"IF(#REF!=$E$1,IF(#REF!=$G$1,IF(#REF!=\"\",NA(),#REF!),NA()),NA())","v":{"$error":"#REF!"}},{"$error":"#REF!"},{"$error":"#REF!"}]
[null,null,null,{"$f":"IF(#REF!=$E$1,IF(#REF!=$G$1,#REF!,NA()),NA())","v":{"$error":"#REF!"}},{"$f":"IF(#REF!=$E$1,IF(#REF!=$G$1,#REF!,NA()),NA())","v":{"$error":"#REF!"}},{"$f":"IF(#REF!=$E$1,IF(#REF!=$G$1,IF(#REF!=\"\",NA(),#REF!),NA()),NA())","v":{"$error":"#REF!"}},{"$f":"IF(#REF!=$E$1,IF(#REF!=$G$1,IF(#REF!=\"\",NA(),#REF!),NA()),NA())","v":{"$error":"#REF!"}},{"$error":"#REF!"},{"$error":"#REF!"}]
[null,null,null,{"$f":"IF(#REF!=$E$1,IF(#REF!=$G$1,#REF!,NA()),NA())","v":{"$error":"#REF!"}},{"$f":"IF(#REF!=$E$1,IF(#REF!=$G$1,#REF!,NA()),NA())","v":{"$error":"#REF!"}},{"$f":"IF(#REF!=$E$1,IF(#REF!=$G$1,IF(#REF!=\"\",NA(),#REF!),NA()),NA())","v":{"$error":"#REF!"}},{"$f":"IF(#REF!=$E$1,IF(#REF!=$G$1,IF(#REF!=\"\",NA(),#REF!),NA()),NA())","v":{"$error":"#REF!"}},{"$error":"#REF!"},{"$error":"#REF!"}]
[null,null,null,{"$f":"IF(#REF!=$E$1,IF(#REF!=$G$1,#REF!,NA()),NA())","v":{"$error":"#REF!"}},{"$f":"IF(#REF!=$E$1,IF(#REF!=$G$1,#REF!,NA()),NA())","v":{"$error":"#REF!"}},{"$f":"IF(#REF!=$E$1,IF(#REF!=$G$1,IF(#REF!=\"\",NA(),#REF!),NA()),NA())","v":{"$error":"#REF!"}},{"$f":"IF(#REF!=$E$1,IF(#REF!=$G$1,IF(#REF!=\"\",NA(),#REF!),NA()),NA())","v":{"$error":"#REF!"}},{"$f":"IF(AND(ISNUMBER(G196),F196=\"-\"),0,F196)","v":{"$error":"#REF!"}},{"$f":"IF(AND(ISNUMBER(F196),G196=\"-\"),0,G196)","v":{"$error":"#REF!"}}]
[null,null,null,{"$f":"IF(#REF!=$E$1,IF(#REF!=$G$1,#REF!,NA()),NA())","v":{"$error":"#REF!"}},{"$f":"IF(#REF!=$E$1,IF(#REF!=$G$1,#REF!,NA()),NA())","v":{"$error":"#REF!"}},{"$f":"IF(#REF!=$E$1,IF(#REF!=$G$1,IF(#REF!=\"\",NA(),#REF!),NA()),NA())","v":{"$error":"#REF!"}},{"$f":"IF(#REF!=$E$1,IF(#REF!=$G$1,IF(#REF!=\"\",NA(),#REF!),NA()),NA())","v":{"$error":"#REF!"}},{"$error":"#REF!"},{"$error":"#REF!"}]
[null,null,null,{"$f":"IF(#REF!=$E$1,IF(#REF!=$G$1,#REF!,NA()),NA())","v":{"$error":"#REF!"}},{"$f":"IF(#REF!=$E$1,IF(#REF!=$G$1,#REF!,NA()),NA())","v":{"$error":"#REF!"}},{"$f":"IF(#REF!=$E$1,IF(#REF!=$G$1,IF(#REF!=\"\",NA(),#REF!),NA()),NA())","v":{"$error":"#REF!"}},{"$f":"IF(#REF!=$E$1,IF(#REF!=$G$1,IF(#REF!=\"\",NA(),#REF!),NA()),NA())","v":{"$error":"#REF!"}},{"$error":"#REF!"},{"$error":"#REF!"}]
[null,null,null,{"$f":"IF(#REF!=$E$1,IF(#REF!=$G$1,#REF!,NA()),NA())","v":{"$error":"#REF!"}},{"$f":"IF(#REF!=$E$1,IF(#REF!=$G$1,#REF!,NA()),NA())","v":{"$error":"#REF!"}},{"$f":"IF(#REF!=$E$1,IF(#REF!=$G$1,IF(#REF!=\"\",NA(),#REF!),NA()),NA())","v":{"$error":"#REF!"}},{"$f":"IF(#REF!=$E$1,IF(#REF!=$G$1,IF(#REF!=\"\",NA(),#REF!),NA()),NA())","v":{"$error":"#REF!"}},{"$error":"#REF!"},{"$error":"#REF!"}]
[null,null,null,{"$f":"IF(#REF!=$E$1,IF(#REF!=$G$1,#REF!,NA()),NA())","v":{"$error":"#REF!"}},{"$f":"IF(#REF!=$E$1,IF(#REF!=$G$1,#REF!,NA()),NA())","v":{"$error":"#REF!"}},{"$f":"IF(#REF!=$E$1,IF(#REF!=$G$1,IF(#REF!=\"\",NA(),#REF!),NA()),NA())","v":{"$error":"#REF!"}},{"$f":"IF(#REF!=$E$1,IF(#REF!=$G$1,IF(#REF!=\"\",NA(),#REF!),NA()),NA())","v":{"$error":"#REF!"}},{"$error":"#REF!"},{"$error":"#REF!"}]
[null,null,null,{"$f":"IF(#REF!=$E$1,IF(#REF!=$G$1,#REF!,NA()),NA())","v":{"$error":"#REF!"}},{"$f":"IF(#REF!=$E$1,IF(#REF!=$G$1,#REF!,NA()),NA())","v":{"$error":"#REF!"}},{"$f":"IF(#REF!=$E$1,IF(#REF!=$G$1,IF(#REF!=\"\",NA(),#REF!),NA()),NA())","v":{"$error":"#REF!"}},{"$f":"IF(#REF!=$E$1,IF(#REF!=$G$1,IF(#REF!=\"\",NA(),#REF!),NA()),NA())","v":{"$error":"#REF!"}},{"$error":"#REF!"},{"$error":"#REF!"}]
[null,null,null,{"$f":"IF(#REF!=$E$1,IF(#REF!=$G$1,#REF!,NA()),NA())","v":{"$error":"#REF!"}},{"$f":"IF(#REF!=$E$1,IF(#REF!=$G$1,#REF!,NA()),NA())","v":{"$error":"#REF!"}},{"$f":"IF(#REF!=$E$1,IF(#REF!=$G$1,IF(#REF!=\"\",NA(),#REF!),NA()),NA())","v":{"$error":"#REF!"}},{"$f":"IF(#REF!=$E$1,IF(#REF!=$G$1,IF(#REF!=\"\",NA(),#REF!),NA()),NA())","v":{"$error":"#REF!"}},{"$error":"#REF!"},{"$error":"#REF!"}]
[null,null,null,{"$f":"IF(#REF!=$E$1,IF(#REF!=$G$1,#REF!,NA()),NA())","v":{"$error":"#REF!"}},{"$f":"IF(#REF!=$E$1,IF(#REF!=$G$1,#REF!,NA()),NA())","v":{"$error":"#REF!"}},{"$f":"IF(#REF!=$E$1,IF(#REF!=$G$1,IF(#REF!=\"\",NA(),#REF!),NA()),NA())","v":{"$error":"#REF!"}},{"$f":"IF(#REF!=$E$1,IF(#REF!=$G$1,IF(#REF!=\"\",NA(),#REF!),NA()),NA())","v":{"$error":"#REF!"}},{"$error":"#REF!"},{"$error":"#REF!"}]
[null,null,null,{"$f":"IF(#REF!=$E$1,IF(#REF!=$G$1,#REF!,NA()),NA())","v":{"$error":"#REF!"}},{"$f":"IF(#REF!=$E$1,IF(#REF!=$G$1,#REF!,NA()),NA())","v":{"$error":"#REF!"}},{"$f":"IF(#REF!=$E$1,IF(#REF!=$G$1,IF(#REF!=\"\",NA(),#REF!),NA()),NA())","v":{"$error":"#REF!"}},{"$f":"IF(#REF!=$E$1,IF(#REF!=$G$1,IF(#REF!=\"\",NA(),#REF!),NA()),NA())","v":{"$error":"#REF!"}},{"$error":"#REF!"},{"$error":"#REF!"}]
[null,null,null,{"$f":"IF(#REF!=$E$1,IF(#REF!=$G$1,#REF!,NA()),NA())","v":{"$error":"#REF!"}},{"$f":"IF(#REF!=$E$1,IF(#REF!=$G$1,#REF!,NA()),NA())","v":{"$error":"#REF!"}},{"$f":"IF(#REF!=$E$1,IF(#REF!=$G$1,IF(#REF!=\"\",NA(),#REF!),NA()),NA())","v":{"$error":"#REF!"}},{"$f":"IF(#REF!=$E$1,IF(#REF!=$G$1,IF(#REF!=\"\",NA(),#REF!),NA()),NA())","v":{"$error":"#REF!"}},{"$error":"#REF!"},{"$error":"#REF!"}]
[null,null,null,{"$f":"IF(#REF!=$E$1,IF(#REF!=$G$1,#REF!,NA()),NA())","v":{"$error":"#REF!"}},{"$f":"IF(#REF!=$E$1,IF(#REF!=$G$1,#REF!,NA()),NA())","v":{"$error":"#REF!"}},{"$f":"IF(#REF!=$E$1,IF(#REF!=$G$1,IF(#REF!=\"\",NA(),#REF!),NA()),NA())","v":{"$error":"#REF!"}},{"$f":"IF(#REF!=$E$1,IF(#REF!=$G$1,IF(#REF!=\"\",NA(),#REF!),NA()),NA())","v":{"$error":"#REF!"}},{"$error":"#REF!"},{"$error":"#REF!"}]
[null,null,null,{"$f":"IF(#REF!=$E$1,IF(#REF!=$G$1,#REF!,NA()),NA())","v":{"$error":"#REF!"}},{"$f":"IF(#REF!=$E$1,IF(#REF!=$G$1,#REF!,NA()),NA())","v":{"$error":"#REF!"}},{"$f":"IF(#REF!=$E$1,IF(#REF!=$G$1,IF(#REF!=\"\",NA(),#REF!),NA()),NA())","v":{"$error":"#REF!"}},{"$f":"IF(#REF!=$E$1,IF(#REF!=$G$1,IF(#REF!=\"\",NA(),#REF!),NA()),NA())","v":{"$error":"#REF!"}},{"$error":"#REF!"},{"$error":"#REF!"}]
[null,null,null,{"$f":"IF(#REF!=$E$1,IF(#REF!=$G$1,#REF!,NA()),NA())","v":{"$error":"#REF!"}},{"$f":"IF(#REF!=$E$1,IF(#REF!=$G$1,#REF!,NA()),NA())","v":{"$error":"#REF!"}},{"$f":"IF(#REF!=$E$1,IF(#REF!=$G$1,IF(#REF!=\"\",NA(),#REF!),NA()),NA())","v":{"$error":"#REF!"}},{"$f":"IF(#REF!=$E$1,IF(#REF!=$G$1,IF(#REF!=\"\",NA(),#REF!),NA()),NA())","v":{"$error":"#REF!"}},{"$error":"#REF!"},{"$error":"#REF!"}]
[null,null,null,{"$f":"IF(#REF!=$E$1,IF(#REF!=$G$1,#REF!,NA()),NA())","v":{"$error":"#REF!"}},{"$f":"IF(#REF!=$E$1,IF(#REF!=$G$1,#REF!,NA()),NA())","v":{"$error":"#REF!"}},{"$f":"IF(#REF!=$E$1,IF(#REF!=$G$1,IF(#REF!=\"\",NA(),#REF!),NA()),NA())","v":{"$error":"#REF!"}},{"$f":"IF(#REF!=$E$1,IF(#REF!=$G$1,IF(#REF!=\"\",NA(),#REF!),NA()),NA())","v":{"$error":"#REF!"}},{"$error":"#REF!"},{"$error":"#REF!"}]
[null,null,null,{"$f":"IF(#REF!=$E$1,IF(#REF!=$G$1,#REF!,NA()),NA())","v":{"$error":"#REF!"}},{"$f":"IF(#REF!=$E$1,IF(#REF!=$G$1,#REF!,NA()),NA())","v":{"$error":"#REF!"}},{"$f":"IF(#REF!=$E$1,IF(#REF!=$G$1,IF(#REF!=\"\",NA(),#REF!),NA()),NA())","v":{"$error":"#REF!"}},{"$f":"IF(#REF!=$E$1,IF(#REF!=$G$1,IF(#REF!=\"\",NA(),#REF!),NA()),NA())","v":{"$error":"#REF!"}},{"$error":"#REF!"},{"$error":"#REF!"}]
[null,null,null,{"$f":"IF(#REF!=$E$1,IF(#REF!=$G$1,#REF!,NA()),NA())","v":{"$error":"#REF!"}},{"$f":"IF(#REF!=$E$1,IF(#REF!=$G$1,#REF!,NA()),NA())","v":{"$error":"#REF!"}},{"$f":"IF(#REF!=$E$1,IF(#REF!=$G$1,IF(#REF!=\"\",NA(),#REF!),NA()),NA())","v":{"$error":"#REF!"}},{"$f":"IF(#REF!=$E$1,IF(#REF!=$G$1,IF(#REF!=\"\",NA(),#REF!),NA()),NA())","v":{"$error":"#REF!"}},{"$error":"#REF!"},{"$error":"#REF!"}]
[null,null,null,{"$f":"IF(#REF!=$E$1,IF(#REF!=$G$1,#REF!,NA()),NA())","v":{"$error":"#REF!"}},{"$f":"IF(#REF!=$E$1,IF(#REF!=$G$1,#REF!,NA()),NA())","v":{"$error":"#REF!"}},{"$f":"IF(#REF!=$E$1,IF(#REF!=$G$1,IF(#REF!=\"\",NA(),#REF!),NA()),NA())","v":{"$error":"#REF!"}},{"$f":"IF(#REF!=$E$1,IF(#REF!=$G$1,IF(#REF!=\"\",NA(),#REF!),NA()),NA())","v":{"$error":"#REF!"}},{"$error":"#REF!"},{"$error":"#REF!"}]
[null,null,null,{"$f":"IF(#REF!=$E$1,IF(#REF!=$G$1,#REF!,NA()),NA())","v":{"$error":"#REF!"}},{"$f":"IF(#REF!=$E$1,IF(#REF!=$G$1,#REF!,NA()),NA())","v":{"$error":"#REF!"}},{"$f":"IF(#REF!=$E$1,IF(#REF!=$G$1,IF(#REF!=\"\",NA(),#REF!),NA()),NA())","v":{"$error":"#REF!"}},{"$f":"IF(#REF!=$E$1,IF(#REF!=$G$1,IF(#REF!=\"\",NA(),#REF!),NA()),NA())","v":{"$error":"#REF!"}},{"$error":"#REF!"},{"$error":"#REF!"}]
[null,null,null,{"$f":"IF(#REF!=$E$1,IF(#REF!=$G$1,#REF!,NA()),NA())","v":{"$error":"#REF!"}},{"$f":"IF(#REF!=$E$1,IF(#REF!=$G$1,#REF!,NA()),NA())","v":{"$error":"#REF!"}},{"$f":"IF(#REF!=$E$1,IF(#REF!=$G$1,IF(#REF!=\"\",NA(),#REF!),NA()),NA())","v":{"$error":"#REF!"}},{"$f":"IF(#REF!=$E$1,IF(#REF!=$G$1,IF(#REF!=\"\",NA(),#REF!),NA()),NA())","v":{"$error":"#REF!"}},{"$error":"#REF!"},{"$error":"#REF!"}]
[null,null,null,{"$f":"IF(#REF!=$E$1,IF(#REF!=$G$1,#REF!,NA()),NA())","v":{"$error":"#REF!"}},{"$f":"IF(#REF!=$E$1,IF(#REF!=$G$1,#REF!,NA()),NA())","v":{"$error":"#REF!"}},{"$f":"IF(#REF!=$E$1,IF(#REF!=$G$1,IF(#REF!=\"\",NA(),#REF!),NA()),NA())","v":{"$error":"#REF!"}},{"$f":"IF(#REF!=$E$1,IF(#REF!=$G$1,IF(#REF!=\"\",NA(),#REF!),NA()),NA())","v":{"$error":"#REF!"}},{"$error":"#REF!"},{"$error":"#REF!"}]
[null,null,null,{"$f":"IF(#REF!=$E$1,IF(#REF!=$G$1,#REF!,NA()),NA())","v":{"$error":"#REF!"}},{"$f":"IF(#REF!=$E$1,IF(#REF!=$G$1,#REF!,NA()),NA())","v":{"$error":"#REF!"}},{"$f":"IF(#REF!=$E$1,IF(#REF!=$G$1,IF(#REF!=\"\",NA(),#REF!),NA()),NA())","v":{"$error":"#REF!"}},{"$f":"IF(#REF!=$E$1,IF(#REF!=$G$1,IF(#REF!=\"\",NA(),#REF!),NA()),NA())","v":{"$error":"#REF!"}},{"$error":"#REF!"},{"$error":"#REF!"}]
[null,null,null,{"$f":"IF(#REF!=$E$1,IF(#REF!=$G$1,#REF!,NA()),NA())","v":{"$error":"#REF!"}},{"$f":"IF(#REF!=$E$1,IF(#REF!=$G$1,#REF!,NA()),NA())","v":{"$error":"#REF!"}},{"$f":"IF(#REF!=$E$1,IF(#REF!=$G$1,IF(#REF!=\"\",NA(),#REF!),NA()),NA())","v":{"$error":"#REF!"}},{"$f":"IF(#REF!=$E$1,IF(#REF!=$G$1,IF(#REF!=\"\",NA(),#REF!),NA()),NA())","v":{"$error":"#REF!"}},{"$error":"#REF!"},{"$error":"#REF!"}]
[null,null,null,{"$f":"IF(#REF!=$E$1,IF(#REF!=$G$1,#REF!,NA()),NA())","v":{"$error":"#REF!"}},{"$f":"IF(#REF!=$E$1,IF(#REF!=$G$1,#REF!,NA()),NA())","v":{"$error":"#REF!"}},{"$f":"IF(#REF!=$E$1,IF(#REF!=$G$1,IF(#REF!=\"\",NA(),#REF!),NA()),NA())","v":{"$error":"#REF!"}},{"$f":"IF(#REF!=$E$1,IF(#REF!=$G$1,IF(#REF!=\"\",NA(),#REF!),NA()),NA())","v":{"$error":"#REF!"}},{"$error":"#REF!"},{"$error":"#REF!"}]
[null,null,null,{"$f":"IF(#REF!=$E$1,IF(#REF!=$G$1,#REF!,NA()),NA())","v":{"$error":"#REF!"}},{"$f":"IF(#REF!=$E$1,IF(#REF!=$G$1,#REF!,NA()),NA())","v":{"$error":"#REF!"}},{"$f":"IF(#REF!=$E$1,IF(#REF!=$G$1,IF(#REF!=\"\",NA(),#REF!),NA()),NA())","v":{"$error":"#REF!"}},{"$f":"IF(#REF!=$E$1,IF(#REF!=$G$1,IF(#REF!=\"\",NA(),#REF!),NA()),NA())","v":{"$error":"#REF!"}},{"$error":"#REF!"},{"$error":"#REF!"}]
[null,null,null,{"$f":"IF(#REF!=$E$1,IF(#REF!=$G$1,#REF!,NA()),NA())","v":{"$error":"#REF!"}},{"$f":"IF(#REF!=$E$1,IF(#REF!=$G$1,#REF!,NA()),NA())","v":{"$error":"#REF!"}},{"$f":"IF(#REF!=$E$1,IF(#REF!=$G$1,IF(#REF!=\"\",NA(),#REF!),NA()),NA())","v":{"$error":"#REF!"}},{"$f":"IF(#REF!=$E$1,IF(#REF!=$G$1,IF(#REF!=\"\",NA(),#REF!),NA()),NA())","v":{"$error":"#REF!"}},{"$error":"#REF!"},{"$error":"#REF!"}]
[null,null,null,{"$f":"IF(#REF!=$E$1,IF(#REF!=$G$1,#REF!,NA()),NA())","v":{"$error":"#REF!"}},{"$f":"IF(#REF!=$E$1,IF(#REF!=$G$1,#REF!,NA()),NA())","v":{"$error":"#REF!"}},{"$f":"IF(#REF!=$E$1,IF(#REF!=$G$1,IF(#REF!=\"\",NA(),#REF!),NA()),NA())","v":{"$error":"#REF!"}},{"$f":"IF(#REF!=$E$1,IF(#REF!=$G$1,IF(#REF!=\"\",NA(),#REF!),NA()),NA())","v":{"$error":"#REF!"}},{"$error":"#REF!"},{"$error":"#REF!"}]
[null,null,null,{"$f":"IF(#REF!=$E$1,IF(#REF!=$G$1,#REF!,NA()),NA())","v":{"$error":"#REF!"}},{"$f":"IF(#REF!=$E$1,IF(#REF!=$G$1,#REF!,NA()),NA())","v":{"$error":"#REF!"}},{"$f":"IF(#REF!=$E$1,IF(#REF!=$G$1,IF(#REF!=\"\",NA(),#REF!),NA()),NA())","v":{"$error":"#REF!"}},{"$f":"IF(#REF!=$E$1,IF(#REF!=$G$1,IF(#REF!=\"\",NA(),#REF!),NA()),NA())","v":{"$error":"#REF!"}},{"$error":"#REF!"},{"$error":"#REF!"}]
[null,null,null,{"$f":"IF(#REF!=$E$1,IF(#REF!=$G$1,#REF!,NA()),NA())","v":{"$error":"#REF!"}},{"$f":"IF(#REF!=$E$1,IF(#REF!=$G$1,#REF!,NA()),NA())","v":{"$error":"#REF!"}},{"$f":"IF(#REF!=$E$1,IF(#REF!=$G$1,IF(#REF!=\"\",NA(),#REF!),NA()),NA())","v":{"$error":"#REF!"}},{"$f":"IF(#REF!=$E$1,IF(#REF!=$G$1,IF(#REF!=\"\",NA(),#REF!),NA()),NA())","v":{"$error":"#REF!"}},{"$error":"#REF!"},{"$error":"#REF!"}]
[null,null,null,{"$f":"IF(#REF!=$E$1,IF(#REF!=$G$1,#REF!,NA()),NA())","v":{"$error":"#REF!"}},{"$f":"IF(#REF!=$E$1,IF(#REF!=$G$1,#REF!,NA()),NA())","v":{"$error":"#REF!"}},{"$f":"IF(#REF!=$E$1,IF(#REF!=$G$1,IF(#REF!=\"\",NA(),#REF!),NA()),NA())","v":{"$error":"#REF!"}},{"$f":"IF(#REF!=$E$1,IF(#REF!=$G$1,IF(#REF!=\"\",NA(),#REF!),NA()),NA())","v":{"$error":"#REF!"}},{"$error":"#REF!"},{"$error":"#REF!"}]
[null,null,null,{"$f":"IF(#REF!=$E$1,IF(#REF!=$G$1,#REF!,NA()),NA())","v":{"$error":"#REF!"}},{"$f":"IF(#REF!=$E$1,IF(#REF!=$G$1,#REF!,NA()),NA())","v":{"$error":"#REF!"}},{"$f":"IF(#REF!=$E$1,IF(#REF!=$G$1,IF(#REF!=\"\",NA(),#REF!),NA()),NA())","v":{"$error":"#REF!"}},{"$f":"IF(#REF!=$E$1,IF(#REF!=$G$1,IF(#REF!=\"\",NA(),#REF!),NA()),NA())","v":{"$error":"#REF!"}},{"$error":"#REF!"},{"$error":"#REF!"}]
[null,null,null,{"$f":"IF(#REF!=$E$1,IF(#REF!=$G$1,#REF!,NA()),NA())","v":{"$error":"#REF!"}},{"$f":"IF(#REF!=$E$1,IF(#REF!=$G$1,#REF!,NA()),NA())","v":{"$error":"#REF!"}},{"$f":"IF(#REF!=$E$1,IF(#REF!=$G$1,IF(#REF!=\"\",NA(),#REF!),NA()),NA())","v":{"$error":"#REF!"}},{"$f":"IF(#REF!=$E$1,IF(#REF!=$G$1,IF(#REF!=\"\",NA(),#REF!),NA()),NA())","v":{"$error":"#REF!"}},{"$error":"#REF!"},{"$error":"#REF!"}]
[null,null,null,{"$f":"IF(#REF!=$E$1,IF(#REF!=$G$1,#REF!,NA()),NA())","v":{"$error":"#REF!"}},{"$f":"IF(#REF!=$E$1,IF(#REF!=$G$1,#REF!,NA()),NA())","v":{"$error":"#REF!"}},{"$f":"IF(#REF!=$E$1,IF(#REF!=$G$1,IF(#REF!=\"\",NA(),#REF!),NA()),NA())","v":{"$error":"#REF!"}},{"$f":"IF(#REF!=$E$1,IF(#REF!=$G$1,IF(#REF!=\"\",NA(),#REF!),NA()),NA())","v":{"$error":"#REF!"}},{"$error":"#REF!"},{"$error":"#REF!"}]
[null,null,null,{"$f":"IF(#REF!=$E$1,IF(#REF!=$G$1,#REF!,NA()),NA())","v":{"$error":"#REF!"}},{"$f":"IF(#REF!=$E$1,IF(#REF!=$G$1,#REF!,NA()),NA())","v":{"$error":"#REF!"}},{"$f":"IF(#REF!=$E$1,IF(#REF!=$G$1,IF(#REF!=\"\",NA(),#REF!),NA()),NA())","v":{"$error":"#REF!"}},{"$f":"IF(#REF!=$E$1,IF(#REF!=$G$1,IF(#REF!=\"\",NA(),#REF!),NA()),NA())","v":{"$error":"#REF!"}},{"$error":"#REF!"},{"$error":"#REF!"}]
[null,null,null,{"$f":"IF(#REF!=$E$1,IF(#REF!=$G$1,#REF!,NA()),NA())","v":{"$error":"#REF!"}},{"$f":"IF(#REF!=$E$1,IF(#REF!=$G$1,#REF!,NA()),NA())","v":{"$error":"#REF!"}},{"$f":"IF(#REF!=$E$1,IF(#REF!=$G$1,IF(#REF!=\"\",NA(),#REF!),NA()),NA())","v":{"$error":"#REF!"}},{"$f":"IF(#REF!=$E$1,IF(#REF!=$G$1,IF(#REF!=\"\",NA(),#REF!),NA()),NA())","v":{"$error":"#REF!"}},{"$error":"#REF!"},{"$error":"#REF!"}]
[null,null,null,{"$f":"IF(#REF!=$E$1,IF(#REF!=$G$1,#REF!,NA()),NA())","v":{"$error":"#REF!"}},{"$f":"IF(#REF!=$E$1,IF(#REF!=$G$1,#REF!,NA()),NA())","v":{"$error":"#REF!"}},{"$f":"IF(#REF!=$E$1,IF(#REF!=$G$1,IF(#REF!=\"\",NA(),#REF!),NA()),NA())","v":{"$error":"#REF!"}},{"$f":"IF(#REF!=$E$1,IF(#REF!=$G$1,IF(#REF!=\"\",NA(),#REF!),NA()),NA())","v":{"$error":"#REF!"}},{"$error":"#REF!"},{"$error":"#REF!"}]
[null,null,null,{"$f":"IF(#REF!=$E$1,IF(#REF!=$G$1,#REF!,NA()),NA())","v":{"$error":"#REF!"}},{"$f":"IF(#REF!=$E$1,IF(#REF!=$G$1,#REF!,NA()),NA())","v":{"$error":"#REF!"}},{"$f":"IF(#REF!=$E$1,IF(#REF!=$G$1,IF(#REF!=\"\",NA(),#REF!),NA()),NA())","v":{"$error":"#REF!"}},{"$f":"IF(#REF!=$E$1,IF(#REF!=$G$1,IF(#REF!=\"\",NA(),#REF!),NA()),NA())","v":{"$error":"#REF!"}},{"$error":"#REF!"},{"$error":"#REF!"}]
[null,null,null,{"$f":"IF(#REF!=$E$1,IF(#REF!=$G$1,#REF!,NA()),NA())","v":{"$error":"#REF!"}},{"$f":"IF(#REF!=$E$1,IF(#REF!=$G$1,#REF!,NA()),NA())","v":{"$error":"#REF!"}},{"$f":"IF(#REF!=$E$1,IF(#REF!=$G$1,IF(#REF!=\"\",NA(),#REF!),NA()),NA())","v":{"$error":"#REF!"}},{"$f":"IF(#REF!=$E$1,IF(#REF!=$G$1,IF(#REF!=\"\",NA(),#REF!),NA()),NA())","v":{"$error":"#REF!"}},{"$error":"#REF!"},{"$error":"#REF!"}]
[null,null,null,{"$f":"IF(#REF!=$E$1,IF(#REF!=$G$1,#REF!,NA()),NA())","v":{"$error":"#REF!"}},{"$f":"IF(#REF!=$E$1,IF(#REF!=$G$1,#REF!,NA()),NA())","v":{"$error":"#REF!"}},{"$f":"IF(#REF!=$E$1,IF(#REF!=$G$1,IF(#REF!=\"\",NA(),#REF!),NA()),NA())","v":{"$error":"#REF!"}},{"$f":"IF(#REF!=$E$1,IF(#REF!=$G$1,IF(#REF!=\"\",NA(),#REF!),NA()),NA())","v":{"$error":"#REF!"}},{"$error":"#REF!"},{"$error":"#REF!"}]
[null,null,null,{"$f":"IF(#REF!=$E$1,IF(#REF!=$G$1,#REF!,NA()),NA())","v":{"$error":"#REF!"}},{"$f":"IF(#REF!=$E$1,IF(#REF!=$G$1,#REF!,NA()),NA())","v":{"$error":"#REF!"}},{"$f":"IF(#REF!=$E$1,IF(#REF!=$G$1,IF(#REF!=\"\",NA(),#REF!),NA()),NA())","v":{"$error":"#REF!"}},{"$f":"IF(#REF!=$E$1,IF(#REF!=$G$1,IF(#REF!=\"\",NA(),#REF!),NA()),NA())","v":{"$error":"#REF!"}},{"$error":"#REF!"},{"$error":"#REF!"}]
[null,null,null,{"$f":"IF(#REF!=$E$1,IF(#REF!=$G$1,#REF!,NA()),NA())","v":{"$error":"#REF!"}},{"$f":"IF(#REF!=$E$1,IF(#REF!=$G$1,#REF!,NA()),NA())","v":{"$error":"#REF!"}},{"$f":"IF(#REF!=$E$1,IF(#REF!=$G$1,IF(#REF!=\"\",NA(),#REF!),NA()),NA())","v":{"$error":"#REF!"}},{"$f":"IF(#REF!=$E$1,IF(#REF!=$G$1,IF(#REF!=\"\",NA(),#REF!),NA()),NA())","v":{"$error":"#REF!"}},{"$error":"#REF!"},{"$error":"#REF!"}]
[null,null,null,{"$f":"IF(#REF!=$E$1,IF(#REF!=$G$1,#REF!,NA()),NA())","v":{"$error":"#REF!"}},{"$f":"IF(#REF!=$E$1,IF(#REF!=$G$1,#REF!,NA()),NA())","v":{"$error":"#REF!"}},{"$f":"IF(#REF!=$E$1,IF(#REF!=$G$1,IF(#REF!=\"\",NA(),#REF!),NA()),NA())","v":{"$error":"#REF!"}},{"$f":"IF(#REF!=$E$1,IF(#REF!=$G$1,IF(#REF!=\"\",NA(),#REF!),NA()),NA())","v":{"$error":"#REF!"}},{"$error":"#REF!"},{"$error":"#REF!"}]
[null,null,null,{"$f":"IF(#REF!=$E$1,IF(#REF!=$G$1,#REF!,NA()),NA())","v":{"$error":"#REF!"}},{"$f":"IF(#REF!=$E$1,IF(#REF!=$G$1,#REF!,NA()),NA())","v":{"$error":"#REF!"}},{"$f":"IF(#REF!=$E$1,IF(#REF!=$G$1,IF(#REF!=\"\",NA(),#REF!),NA()),NA())","v":{"$error":"#REF!"}},{"$f":"IF(#REF!=$E$1,IF(#REF!=$G$1,IF(#REF!=\"\",NA(),#REF!),NA()),NA())","v":{"$error":"#REF!"}},{"$error":"#REF!"},{"$error":"#REF!"}]
[null,null,null,{"$f":"IF(#REF!=$E$1,IF(#REF!=$G$1,#REF!,NA()),NA())","v":{"$error":"#REF!"}},{"$f":"IF(#REF!=$E$1,IF(#REF!=$G$1,#REF!,NA()),NA())","v":{"$error":"#REF!"}},{"$f":"IF(#REF!=$E$1,IF(#REF!=$G$1,IF(#REF!=\"\",NA(),#REF!),NA()),NA())","v":{"$error":"#REF!"}},{"$f":"IF(#REF!=$E$1,IF(#REF!=$G$1,IF(#REF!=\"\",NA(),#REF!),NA()),NA())","v":{"$error":"#REF!"}},{"$error":"#REF!"},{"$error":"#REF!"}]
[null,null,null,{"$f":"IF(#REF!=$E$1,IF(#REF!=$G$1,#REF!,NA()),NA())","v":{"$error":"#REF!"}},{"$f":"IF(#REF!=$E$1,IF(#REF!=$G$1,#REF!,NA()),NA())","v":{"$error":"#REF!"}},{"$f":"IF(#REF!=$E$1,IF(#REF!=$G$1,IF(#REF!=\"\",NA(),#REF!),NA()),NA())","v":{"$error":"#REF!"}},{"$f":"IF(#REF!=$E$1,IF(#REF!=$G$1,IF(#REF!=\"\",NA(),#REF!),NA()),NA())","v":{"$error":"#REF!"}},{"$error":"#REF!"},{"$error":"#REF!"}]
[null,null,null,{"$f":"IF(#REF!=$E$1,IF(#REF!=$G$1,#REF!,NA()),NA())","v":{"$error":"#REF!"}},{"$f":"IF(#REF!=$E$1,IF(#REF!=$G$1,#REF!,NA()),NA())","v":{"$error":"#REF!"}},{"$f":"IF(#REF!=$E$1,IF(#REF!=$G$1,IF(#REF!=\"\",NA(),#REF!),NA()),NA())","v":{"$error":"#REF!"}},{"$f":"IF(#REF!=$E$1,IF(#REF!=$G$1,IF(#REF!=\"\",NA(),#REF!),NA()),NA())","v":{"$error":"#REF!"}},{"$error":"#REF!"},{"$error":"#REF!"}]
[null,null,null,{"$f":"IF(#REF!=$E$1,IF(#REF!=$G$1,#REF!,NA()),NA())","v":{"$error":"#REF!"}},{"$f":"IF(#REF!=$E$1,IF(#REF!=$G$1,#REF!,NA()),NA())","v":{"$error":"#REF!"}},{"$f":"IF(#REF!=$E$1,IF(#REF!=$G$1,IF(#REF!=\"\",NA(),#REF!),NA()),NA())","v":{"$error":"#REF!"}},{"$f":"IF(#REF!=$E$1,IF(#REF!=$G$1,IF(#REF!=\"\",NA(),#REF!),NA()),NA())","v":{"$error":"#REF!"}},{"$error":"#REF!"},{"$error":"#REF!"}]
[null,null,null,{"$f":"IF(#REF!=$E$1,IF(#REF!=$G$1,#REF!,NA()),NA())","v":{"$error":"#REF!"}},{"$f":"IF(#REF!=$E$1,IF(#REF!=$G$1,#REF!,NA()),NA())","v":{"$error":"#REF!"}},{"$f":"IF(#REF!=$E$1,IF(#REF!=$G$1,IF(#REF!=\"\",NA(),#REF!),NA()),NA())","v":{"$error":"#REF!"}},{"$f":"IF(#REF!=$E$1,IF(#REF!=$G$1,IF(#REF!=\"\",NA(),#REF!),NA()),NA())","v":{"$error":"#REF!"}},{"$error":"#REF!"},{"$error":"#REF!"}]
[null,null,null,{"$f":"IF(#REF!=$E$1,IF(#REF!=$G$1,#REF!,NA()),NA())","v":{"$error":"#REF!"}},{"$f":"IF(#REF!=$E$1,IF(#REF!=$G$1,#REF!,NA()),NA())","v":{"$error":"#REF!"}},{"$f":"IF(#REF!=$E$1,IF(#REF!=$G$1,IF(#REF!=\"\",NA(),#REF!),NA()),NA())","v":{"$error":"#REF!"}},{"$f":"IF(#REF!=$E$1,IF(#REF!=$G$1,IF(#REF!=\"\",NA(),#REF!),NA()),NA())","v":{"$error":"#REF!"}},{"$error":"#REF!"},{"$error":"#REF!"}]
[null,null,null,{"$f":"IF(#REF!=$E$1,IF(#REF!=$G$1,#REF!,NA()),NA())","v":{"$error":"#REF!"}},{"$f":"IF(#REF!=$E$1,IF(#REF!=$G$1,#REF!,NA()),NA())","v":{"$error":"#REF!"}},{"$f":"IF(#REF!=$E$1,IF(#REF!=$G$1,IF(#REF!=\"\",NA(),#REF!),NA()),NA())","v":{"$error":"#REF!"}},{"$f":"IF(#REF!=$E$1,IF(#REF!=$G$1,IF(#REF!=\"\",NA(),#REF!),NA()),NA())","v":{"$error":"#REF!"}},{"$error":"#REF!"},{"$error":"#REF!"}]
[null,null,null,{"$f":"IF(#REF!=$E$1,IF(#REF!=$G$1,#REF!,NA()),NA())","v":{"$error":"#REF!"}},{"$f":"IF(#REF!=$E$1,IF(#REF!=$G$1,#REF!,NA()),NA())","v":{"$error":"#REF!"}},{"$f":"IF(#REF!=$E$1,IF(#REF!=$G$1,IF(#REF!=\"\",NA(),#REF!),NA()),NA())","v":{"$error":"#REF!"}},{"$f":"IF(#REF!=$E$1,IF(#REF!=$G$1,IF(#REF!=\"\",NA(),#REF!),NA()),NA())","v":{"$error":"#REF!"}},{"$error":"#REF!"},{"$error":"#REF!"}]
[null,null,null,{"$f":"IF(#REF!=$E$1,IF(#REF!=$G$1,#REF!,NA()),NA())","v":{"$error":"#REF!"}},{"$f":"IF(#REF!=$E$1,IF(#REF!=$G$1,#REF!,NA()),NA())","v":{"$error":"#REF!"}},{"$f":"IF(#REF!=$E$1,IF(#REF!=$G$1,IF(#REF!=\"\",NA(),#REF!),NA()),NA())","v":{"$error":"#REF!"}},{"$f":"IF(#REF!=$E$1,IF(#REF!=$G$1,IF(#REF!=\"\",NA(),#REF!),NA()),NA())","v":{"$error":"#REF!"}},{"$error":"#REF!"},{"$error":"#REF!"}]
[null,null,null,{"$f":"IF(#REF!=$E$1,IF(#REF!=$G$1,#REF!,NA()),NA())","v":{"$error":"#REF!"}},{"$f":"IF(#REF!=$E$1,IF(#REF!=$G$1,#REF!,NA()),NA())","v":{"$error":"#REF!"}},{"$f":"IF(#REF!=$E$1,IF(#REF!=$G$1,IF(#REF!=\"\",NA(),#REF!),NA()),NA())","v":{"$error":"#REF!"}},{"$f":"IF(#REF!=$E$1,IF(#REF!=$G$1,IF(#REF!=\"\",NA(),#REF!),NA()),NA())","v":{"$error":"#REF!"}},{"$error":"#REF!"},{"$error":"#REF!"}]
[null,null,null,{"$f":"IF(#REF!=$E$1,IF(#REF!=$G$1,#REF!,NA()),NA())","v":{"$error":"#REF!"}},{"$f":"IF(#REF!=$E$1,IF(#REF!=$G$1,#REF!,NA()),NA())","v":{"$error":"#REF!"}},{"$f":"IF(#REF!=$E$1,IF(#REF!=$G$1,IF(#REF!=\"\",NA(),#REF!),NA()),NA())","v":{"$error":"#REF!"}},{"$f":"IF(#REF!=$E$1,IF(#REF!=$G$1,IF(#REF!=\"\",NA(),#REF!),NA()),NA())","v":{"$error":"#REF!"}},{"$error":"#REF!"},{"$error":"#REF!"}]
[null,null,null,{"$f":"IF(#REF!=$E$1,IF(#REF!=$G$1,#REF!,NA()),NA())","v":{"$error":"#REF!"}},{"$f":"IF(#REF!=$E$1,IF(#REF!=$G$1,#REF!,NA()),NA())","v":{"$error":"#REF!"}},{"$f":"IF(#REF!=$E$1,IF(#REF!=$G$1,IF(#REF!=\"\",NA(),#REF!),NA()),NA())","v":{"$error":"#REF!"}},{"$f":"IF(#REF!=$E$1,IF(#REF!=$G$1,IF(#REF!=\"\",NA(),#REF!),NA()),NA())","v":{"$error":"#REF!"}},{"$error":"#REF!"},{"$error":"#REF!"}]
[null,null,null,{"$f":"IF(#REF!=$E$1,IF(#REF!=$G$1,#REF!,NA()),NA())","v":{"$error":"#REF!"}},{"$f":"IF(#REF!=$E$1,IF(#REF!=$G$1,#REF!,NA()),NA())","v":{"$error":"#REF!"}},{"$f":"IF(#REF!=$E$1,IF(#REF!=$G$1,IF(#REF!=\"\",NA(),#REF!),NA()),NA())","v":{"$error":"#REF!"}},{"$f":"IF(#REF!=$E$1,IF(#REF!=$G$1,IF(#REF!=\"\",NA(),#REF!),NA()),NA())","v":{"$error":"#REF!"}},{"$error":"#REF!"},{"$error":"#REF!"}]
[null,null,null,{"$f":"IF(#REF!=$E$1,IF(#REF!=$G$1,#REF!,NA()),NA())","v":{"$error":"#REF!"}},{"$f":"IF(#REF!=$E$1,IF(#REF!=$G$1,#REF!,NA()),NA())","v":{"$error":"#REF!"}},{"$f":"IF(#REF!=$E$1,IF(#REF!=$G$1,IF(#REF!=\"\",NA(),#REF!),NA()),NA())","v":{"$error":"#REF!"}},{"$f":"IF(#REF!=$E$1,IF(#REF!=$G$1,IF(#REF!=\"\",NA(),#REF!),NA()),NA())","v":{"$error":"#REF!"}},{"$error":"#REF!"},{"$error":"#REF!"}]
[null,null,null,{"$f":"IF(#REF!=$E$1,IF(#REF!=$G$1,#REF!,NA()),NA())","v":{"$error":"#REF!"}},{"$f":"IF(#REF!=$E$1,IF(#REF!=$G$1,#REF!,NA()),NA())","v":{"$error":"#REF!"}},{"$f":"IF(#REF!=$E$1,IF(#REF!=$G$1,IF(#REF!=\"\",NA(),#REF!),NA()),NA())","v":{"$error":"#REF!"}},{"$f":"IF(#REF!=$E$1,IF(#REF!=$G$1,IF(#REF!=\"\",NA(),#REF!),NA()),NA())","v":{"$error":"#REF!"}},{"$error":"#REF!"},{"$error":"#REF!"}]
[null,null,null,{"$f":"IF(#REF!=$E$1,IF(#REF!=$G$1,#REF!,NA()),NA())","v":{"$error":"#REF!"}},{"$f":"IF(#REF!=$E$1,IF(#REF!=$G$1,#REF!,NA()),NA())","v":{"$error":"#REF!"}},{"$f":"IF(#REF!=$E$1,IF(#REF!=$G$1,IF(#REF!=\"\",NA(),#REF!),NA()),NA())","v":{"$error":"#REF!"}},{"$f":"IF(#REF!=$E$1,IF(#REF!=$G$1,IF(#REF!=\"\",NA(),#REF!),NA()),NA())","v":{"$error":"#REF!"}},{"$error":"#REF!"},{"$error":"#REF!"}]
[null,null,null,{"$f":"IF(#REF!=$E$1,IF(#REF!=$G$1,#REF!,NA()),NA())","v":{"$error":"#REF!"}},{"$f":"IF(#REF!=$E$1,IF(#REF!=$G$1,#REF!,NA()),NA())","v":{"$error":"#REF!"}},{"$f":"IF(#REF!=$E$1,IF(#REF!=$G$1,IF(#REF!=\"\",NA(),#REF!),NA()),NA())","v":{"$error":"#REF!"}},{"$f":"IF(#REF!=$E$1,IF(#REF!=$G$1,IF(#REF!=\"\",NA(),#REF!),NA()),NA())","v":{"$error":"#REF!"}},{"$error":"#REF!"},{"$error":"#REF!"}]
[null,null,null,{"$f":"IF(#REF!=$E$1,IF(#REF!=$G$1,#REF!,NA()),NA())","v":{"$error":"#REF!"}},{"$f":"IF(#REF!=$E$1,IF(#REF!=$G$1,#REF!,NA()),NA())","v":{"$error":"#REF!"}},{"$f":"IF(#REF!=$E$1,IF(#REF!=$G$1,IF(#REF!=\"\",NA(),#REF!),NA()),NA())","v":{"$error":"#REF!"}},{"$f":"IF(#REF!=$E$1,IF(#REF!=$G$1,IF(#REF!=\"\",NA(),#REF!),NA()),NA())","v":{"$error":"#REF!"}},{"$error":"#REF!"},{"$error":"#REF!"}]
[null,null,null,{"$f":"IF(#REF!=$E$1,IF(#REF!=$G$1,#REF!,NA()),NA())","v":{"$error":"#REF!"}},{"$f":"IF(#REF!=$E$1,IF(#REF!=$G$1,#REF!,NA()),NA())","v":{"$error":"#REF!"}},{"$f":"IF(#REF!=$E$1,IF(#REF!=$G$1,IF(#REF!=\"\",NA(),#REF!),NA()),NA())","v":{"$error":"#REF!"}},{"$f":"IF(#REF!=$E$1,IF(#REF!=$G$1,IF(#REF!=\"\",NA(),#REF!),NA()),NA())","v":{"$error":"#REF!"}},{"$error":"#REF!"},{"$error":"#REF!"}]
[null,null,null,{"$f":"IF(#REF!=$E$1,IF(#REF!=$G$1,#REF!,NA()),NA())","v":{"$error":"#REF!"}},{"$f":"IF(#REF!=$E$1,IF(#REF!=$G$1,#REF!,NA()),NA())","v":{"$error":"#REF!"}},{"$f":"IF(#REF!=$E$1,IF(#REF!=$G$1,IF(#REF!=\"\",NA(),#REF!),NA()),NA())","v":{"$error":"#REF!"}},{"$f":"IF(#REF!=$E$1,IF(#REF!=$G$1,IF(#REF!=\"\",NA(),#REF!),NA()),NA())","v":{"$error":"#REF!"}},{"$error":"#REF!"},{"$error":"#REF!"}]
[null,null,null,{"$f":"IF(#REF!=$E$1,IF(#REF!=$G$1,#REF!,NA()),NA())","v":{"$error":"#REF!"}},{"$f":"IF(#REF!=$E$1,IF(#REF!=$G$1,#REF!,NA()),NA())","v":{"$error":"#REF!"}},{"$f":"IF(#REF!=$E$1,IF(#REF!=$G$1,IF(#REF!=\"\",NA(),#REF!),NA()),NA())","v":{"$error":"#REF!"}},{"$f":"IF(#REF!=$E$1,IF(#REF!=$G$1,IF(#REF!=\"\",NA(),#REF!),NA()),NA())","v":{"$error":"#REF!"}},{"$error":"#REF!"},{"$error":"#REF!"}]
[null,null,null,{"$f":"IF(#REF!=$E$1,IF(#REF!=$G$1,#REF!,NA()),NA())","v":{"$error":"#REF!"}},{"$f":"IF(#REF!=$E$1,IF(#REF!=$G$1,#REF!,NA()),NA())","v":{"$error":"#REF!"}},{"$f":"IF(#REF!=$E$1,IF(#REF!=$G$1,IF(#REF!=\"\",NA(),#REF!),NA()),NA())","v":{"$error":"#REF!"}},{"$f":"IF(#REF!=$E$1,IF(#REF!=$G$1,IF(#REF!=\"\",NA(),#REF!),NA()),NA())","v":{"$error":"#REF!"}},{"$error":"#REF!"},{"$error":"#REF!"}]
[null,null,null,{"$f":"IF(#REF!=$E$1,IF(#REF!=$G$1,#REF!,NA()),NA())","v":{"$error":"#REF!"}},{"$f":"IF(#REF!=$E$1,IF(#REF!=$G$1,#REF!,NA()),NA())","v":{"$error":"#REF!"}},{"$f":"IF(#REF!=$E$1,IF(#REF!=$G$1,IF(#REF!=\"\",NA(),#REF!),NA()),NA())","v":{"$error":"#REF!"}},{"$f":"IF(#REF!=$E$1,IF(#REF!=$G$1,IF(#REF!=\"\",NA(),#REF!),NA()),NA())","v":{"$error":"#REF!"}},{"$f":"IF(AND(ISNUMBER(G260),F260=\"-\"),0,F260)","v":{"$error":"#REF!"}},{"$f":"IF(AND(ISNUMBER(F260),G260=\"-\"),0,G260)","v":{"$error":"#REF!"}}]
[null,null,null,{"$f":"IF(#REF!=$E$1,IF(#REF!=$G$1,#REF!,NA()),NA())","v":{"$error":"#REF!"}},{"$f":"IF(#REF!=$E$1,IF(#REF!=$G$1,#REF!,NA()),NA())","v":{"$error":"#REF!"}},{"$f":"IF(#REF!=$E$1,IF(#REF!=$G$1,IF(#REF!=\"\",NA(),#REF!),NA()),NA())","v":{"$error":"#REF!"}},{"$f":"IF(#REF!=$E$1,IF(#REF!=$G$1,IF(#REF!=\"\",NA(),#REF!),NA()),NA())","v":{"$error":"#REF!"}},{"$error":"#REF!"},{"$error":"#REF!"}]
[null,null,null,{"$f":"IF(#REF!=$E$1,IF(#REF!=$G$1,#REF!,NA()),NA())","v":{"$error":"#REF!"}},{"$f":"IF(#REF!=$E$1,IF(#REF!=$G$1,#REF!,NA()),NA())","v":{"$error":"#REF!"}},{"$f":"IF(#REF!=$E$1,IF(#REF!=$G$1,IF(#REF!=\"\",NA(),#REF!),NA()),NA())","v":{"$error":"#REF!"}},{"$f":"IF(#REF!=$E$1,IF(#REF!=$G$1,IF(#REF!=\"\",NA(),#REF!),NA()),NA())","v":{"$error":"#REF!"}},{"$error":"#REF!"},{"$error":"#REF!"}]
[null,null,null,{"$f":"IF(#REF!=$E$1,IF(#REF!=$G$1,#REF!,NA()),NA())","v":{"$error":"#REF!"}},{"$f":"IF(#REF!=$E$1,IF(#REF!=$G$1,#REF!,NA()),NA())","v":{"$error":"#REF!"}},{"$f":"IF(#REF!=$E$1,IF(#REF!=$G$1,IF(#REF!=\"\",NA(),#REF!),NA()),NA())","v":{"$error":"#REF!"}},{"$f":"IF(#REF!=$E$1,IF(#REF!=$G$1,IF(#REF!=\"\",NA(),#REF!),NA()),NA())","v":{"$error":"#REF!"}},{"$error":"#REF!"},{"$error":"#REF!"}]
[null,null,null,{"$f":"IF(#REF!=$E$1,IF(#REF!=$G$1,#REF!,NA()),NA())","v":{"$error":"#REF!"}},{"$f":"IF(#REF!=$E$1,IF(#REF!=$G$1,#REF!,NA()),NA())","v":{"$error":"#REF!"}},{"$f":"IF(#REF!=$E$1,IF(#REF!=$G$1,IF(#REF!=\"\",NA(),#REF!),NA()),NA())","v":{"$error":"#REF!"}},{"$f":"IF(#REF!=$E$1,IF(#REF!=$G$1,IF(#REF!=\"\",NA(),#REF!),NA()),NA())","v":{"$error":"#REF!"}},{"$error":"#REF!"},{"$error":"#REF!"}]
[null,null,null,{"$f":"IF(#REF!=$E$1,IF(#REF!=$G$1,#REF!,NA()),NA())","v":{"$error":"#REF!"}},{"$f":"IF(#REF!=$E$1,IF(#REF!=$G$1,#REF!,NA()),NA())","v":{"$error":"#REF!"}},{"$f":"IF(#REF!=$E$1,IF(#REF!=$G$1,IF(#REF!=\"\",NA(),#REF!),NA()),NA())","v":{"$error":"#REF!"}},{"$f":"IF(#REF!=$E$1,IF(#REF!=$G$1,IF(#REF!=\"\",NA(),#REF!),NA()),NA())","v":{"$error":"#REF!"}},{"$error":"#REF!"},{"$error":"#REF!"}]
[null,null,null,{"$f":"IF(#REF!=$E$1,IF(#REF!=$G$1,#REF!,NA()),NA())","v":{"$error":"#REF!"}},{"$f":"IF(#REF!=$E$1,IF(#REF!=$G$1,#REF!,NA()),NA())","v":{"$error":"#REF!"}},{"$f":"IF(#REF!=$E$1,IF(#REF!=$G$1,IF(#REF!=\"\",NA(),#REF!),NA()),NA())","v":{"$error":"#REF!"}},{"$f":"IF(#REF!=$E$1,IF(#REF!=$G$1,IF(#REF!=\"\",NA(),#REF!),NA()),NA())","v":{"$error":"#REF!"}},{"$error":"#REF!"},{"$error":"#REF!"}]
[null,null,null,{"$f":"IF(#REF!=$E$1,IF(#REF!=$G$1,#REF!,NA()),NA())","v":{"$error":"#REF!"}},{"$f":"IF(#REF!=$E$1,IF(#REF!=$G$1,#REF!,NA()),NA())","v":{"$error":"#REF!"}},{"$f":"IF(#REF!=$E$1,IF(#REF!=$G$1,IF(#REF!=\"\",NA(),#REF!),NA()),NA())","v":{"$error":"#REF!"}},{"$f":"IF(#REF!=$E$1,IF(#REF!=$G$1,IF(#REF!=\"\",NA(),#REF!),NA()),NA())","v":{"$error":"#REF!"}},{"$error":"#REF!"},{"$error":"#REF!"}]
[null,null,null,{"$f":"IF(#REF!=$E$1,IF(#REF!=$G$1,#REF!,NA()),NA())","v":{"$error":"#REF!"}},{"$f":"IF(#REF!=$E$1,IF(#REF!=$G$1,#REF!,NA()),NA())","v":{"$error":"#REF!"}},{"$f":"IF(#REF!=$E$1,IF(#REF!=$G$1,IF(#REF!=\"\",NA(),#REF!),NA()),NA())","v":{"$error":"#REF!"}},{"$f":"IF(#REF!=$E$1,IF(#REF!=$G$1,IF(#REF!=\"\",NA(),#REF!),NA()),NA())","v":{"$error":"#REF!"}},{"$error":"#REF!"},{"$error":"#REF!"}]
[null,null,null,{"$f":"IF(#REF!=$E$1,IF(#REF!=$G$1,#REF!,NA()),NA())","v":{"$error":"#REF!"}},{"$f":"IF(#REF!=$E$1,IF(#REF!=$G$1,#REF!,NA()),NA())","v":{"$error":"#REF!"}},{"$f":"IF(#REF!=$E$1,IF(#REF!=$G$1,IF(#REF!=\"\",NA(),#REF!),NA()),NA())","v":{"$error":"#REF!"}},{"$f":"IF(#REF!=$E$1,IF(#REF!=$G$1,IF(#REF!=\"\",NA(),#REF!),NA()),NA())","v":{"$error":"#REF!"}},{"$error":"#REF!"},{"$error":"#REF!"}]
[null,null,null,{"$f":"IF(#REF!=$E$1,IF(#REF!=$G$1,#REF!,NA()),NA())","v":{"$error":"#REF!"}},{"$f":"IF(#REF!=$E$1,IF(#REF!=$G$1,#REF!,NA()),NA())","v":{"$error":"#REF!"}},{"$f":"IF(#REF!=$E$1,IF(#REF!=$G$1,IF(#REF!=\"\",NA(),#REF!),NA()),NA())","v":{"$error":"#REF!"}},{"$f":"IF(#REF!=$E$1,IF(#REF!=$G$1,IF(#REF!=\"\",NA(),#REF!),NA()),NA())","v":{"$error":"#REF!"}},{"$error":"#REF!"},{"$error":"#REF!"}]
[null,null,null,{"$f":"IF(#REF!=$E$1,IF(#REF!=$G$1,#REF!,NA()),NA())","v":{"$error":"#REF!"}},{"$f":"IF(#REF!=$E$1,IF(#REF!=$G$1,#REF!,NA()),NA())","v":{"$error":"#REF!"}},{"$f":"IF(#REF!=$E$1,IF(#REF!=$G$1,IF(#REF!=\"\",NA(),#REF!),NA()),NA())","v":{"$error":"#REF!"}},{"$f":"IF(#REF!=$E$1,IF(#REF!=$G$1,IF(#REF!=\"\",NA(),#REF!),NA()),NA())","v":{"$error":"#REF!"}},{"$error":"#REF!"},{"$error":"#REF!"}]
[null,null,null,{"$f":"IF(#REF!=$E$1,IF(#REF!=$G$1,#REF!,NA()),NA())","v":{"$error":"#REF!"}},{"$f":"IF(#REF!=$E$1,IF(#REF!=$G$1,#REF!,NA()),NA())","v":{"$error":"#REF!"}},{"$f":"IF(#REF!=$E$1,IF(#REF!=$G$1,IF(#REF!=\"\",NA(),#REF!),NA()),NA())","v":{"$error":"#REF!"}},{"$f":"IF(#REF!=$E$1,IF(#REF!=$G$1,IF(#REF!=\"\",NA(),#REF!),NA()),NA())","v":{"$error":"#REF!"}},{"$error":"#REF!"},{"$error":"#REF!"}]
[null,null,null,{"$f":"IF(#REF!=$E$1,IF(#REF!=$G$1,#REF!,NA()),NA())","v":{"$error":"#REF!"}},{"$f":"IF(#REF!=$E$1,IF(#REF!=$G$1,#REF!,NA()),NA())","v":{"$error":"#REF!"}},{"$f":"IF(#REF!=$E$1,IF(#REF!=$G$1,IF(#REF!=\"\",NA(),#REF!),NA()),NA())","v":{"$error":"#REF!"}},{"$f":"IF(#REF!=$E$1,IF(#REF!=$G$1,IF(#REF!=\"\",NA(),#REF!),NA()),NA())","v":{"$error":"#REF!"}},{"$error":"#REF!"},{"$error":"#REF!"}]
[null,null,null,{"$f":"IF(#REF!=$E$1,IF(#REF!=$G$1,#REF!,NA()),NA())","v":{"$error":"#REF!"}},{"$f":"IF(#REF!=$E$1,IF(#REF!=$G$1,#REF!,NA()),NA())","v":{"$error":"#REF!"}},{"$f":"IF(#REF!=$E$1,IF(#REF!=$G$1,IF(#REF!=\"\",NA(),#REF!),NA()),NA())","v":{"$error":"#REF!"}},{"$f":"IF(#REF!=$E$1,IF(#REF!=$G$1,IF(#REF!=\"\",NA(),#REF!),NA()),NA())","v":{"$error":"#REF!"}},{"$error":"#REF!"},{"$error":"#REF!"}]
[null,null,null,{"$f":"IF(#REF!=$E$1,IF(#REF!=$G$1,#REF!,NA()),NA())","v":{"$error":"#REF!"}},{"$f":"IF(#REF!=$E$1,IF(#REF!=$G$1,#REF!,NA()),NA())","v":{"$error":"#REF!"}},{"$f":"IF(#REF!=$E$1,IF(#REF!=$G$1,IF(#REF!=\"\",NA(),#REF!),NA()),NA())","v":{"$error":"#REF!"}},{"$f":"IF(#REF!=$E$1,IF(#REF!=$G$1,IF(#REF!=\"\",NA(),#REF!),NA()),NA())","v":{"$error":"#REF!"}},{"$error":"#REF!"},{"$error":"#REF!"}]
[null,null,null,{"$f":"IF(#REF!=$E$1,IF(#REF!=$G$1,#REF!,NA()),NA())","v":{"$error":"#REF!"}},{"$f":"IF(#REF!=$E$1,IF(#REF!=$G$1,#REF!,NA()),NA())","v":{"$error":"#REF!"}},{"$f":"IF(#REF!=$E$1,IF(#REF!=$G$1,IF(#REF!=\"\",NA(),#REF!),NA()),NA())","v":{"$error":"#REF!"}},{"$f":"IF(#REF!=$E$1,IF(#REF!=$G$1,IF(#REF!=\"\",NA(),#REF!),NA()),NA())","v":{"$error":"#REF!"}},{"$error":"#REF!"},{"$error":"#REF!"}]
[null,null,null,{"$f":"IF(#REF!=$E$1,IF(#REF!=$G$1,#REF!,NA()),NA())","v":{"$error":"#REF!"}},{"$f":"IF(#REF!=$E$1,IF(#REF!=$G$1,#REF!,NA()),NA())","v":{"$error":"#REF!"}},{"$f":"IF(#REF!=$E$1,IF(#REF!=$G$1,IF(#REF!=\"\",NA(),#REF!),NA()),NA())","v":{"$error":"#REF!"}},{"$f":"IF(#REF!=$E$1,IF(#REF!=$G$1,IF(#REF!=\"\",NA(),#REF!),NA()),NA())","v":{"$error":"#REF!"}},{"$error":"#REF!"},{"$error":"#REF!"}]
[null,null,null,{"$f":"IF(#REF!=$E$1,IF(#REF!=$G$1,#REF!,NA()),NA())","v":{"$error":"#REF!"}},{"$f":"IF(#REF!=$E$1,IF(#REF!=$G$1,#REF!,NA()),NA())","v":{"$error":"#REF!"}},{"$f":"IF(#REF!=$E$1,IF(#REF!=$G$1,IF(#REF!=\"\",NA(),#REF!),NA()),NA())","v":{"$error":"#REF!"}},{"$f":"IF(#REF!=$E$1,IF(#REF!=$G$1,IF(#REF!=\"\",NA(),#REF!),NA()),NA())","v":{"$error":"#REF!"}},{"$error":"#REF!"},{"$error":"#REF!"}]
[null,null,null,{"$f":"IF(#REF!=$E$1,IF(#REF!=$G$1,#REF!,NA()),NA())","v":{"$error":"#REF!"}},{"$f":"IF(#REF!=$E$1,IF(#REF!=$G$1,#REF!,NA()),NA())","v":{"$error":"#REF!"}},{"$f":"IF(#REF!=$E$1,IF(#REF!=$G$1,IF(#REF!=\"\",NA(),#REF!),NA()),NA())","v":{"$error":"#REF!"}},{"$f":"IF(#REF!=$E$1,IF(#REF!=$G$1,IF(#REF!=\"\",NA(),#REF!),NA()),NA())","v":{"$error":"#REF!"}},{"$error":"#REF!"},{"$error":"#REF!"}]
[null,null,null,{"$f":"IF(#REF!=$E$1,IF(#REF!=$G$1,#REF!,NA()),NA())","v":{"$error":"#REF!"}},{"$f":"IF(#REF!=$E$1,IF(#REF!=$G$1,#REF!,NA()),NA())","v":{"$error":"#REF!"}},{"$f":"IF(#REF!=$E$1,IF(#REF!=$G$1,IF(#REF!=\"\",NA(),#REF!),NA()),NA())","v":{"$error":"#REF!"}},{"$f":"IF(#REF!=$E$1,IF(#REF!=$G$1,IF(#REF!=\"\",NA(),#REF!),NA()),NA())","v":{"$error":"#REF!"}},{"$error":"#REF!"},{"$error":"#REF!"}]
[null,null,null,{"$f":"IF(#REF!=$E$1,IF(#REF!=$G$1,#REF!,NA()),NA())","v":{"$error":"#REF!"}},{"$f":"IF(#REF!=$E$1,IF(#REF!=$G$1,#REF!,NA()),NA())","v":{"$error":"#REF!"}},{"$f":"IF(#REF!=$E$1,IF(#REF!=$G$1,IF(#REF!=\"\",NA(),#REF!),NA()),NA())","v":{"$error":"#REF!"}},{"$f":"IF(#REF!=$E$1,IF(#REF!=$G$1,IF(#REF!=\"\",NA(),#REF!),NA()),NA())","v":{"$error":"#REF!"}},{"$error":"#REF!"},{"$error":"#REF!"}]
[null,null,null,{"$f":"IF(#REF!=$E$1,IF(#REF!=$G$1,#REF!,NA()),NA())","v":{"$error":"#REF!"}},{"$f":"IF(#REF!=$E$1,IF(#REF!=$G$1,#REF!,NA()),NA())","v":{"$error":"#REF!"}},{"$f":"IF(#REF!=$E$1,IF(#REF!=$G$1,IF(#REF!=\"\",NA(),#REF!),NA()),NA())","v":{"$error":"#REF!"}},{"$f":"IF(#REF!=$E$1,IF(#REF!=$G$1,IF(#REF!=\"\",NA(),#REF!),NA()),NA())","v":{"$error":"#REF!"}},{"$error":"#REF!"},{"$error":"#REF!"}]
[null,null,null,{"$f":"IF(#REF!=$E$1,IF(#REF!=$G$1,#REF!,NA()),NA())","v":{"$error":"#REF!"}},{"$f":"IF(#REF!=$E$1,IF(#REF!=$G$1,#REF!,NA()),NA())","v":{"$error":"#REF!"}},{"$f":"IF(#REF!=$E$1,IF(#REF!=$G$1,IF(#REF!=\"\",NA(),#REF!),NA()),NA())","v":{"$error":"#REF!"}},{"$f":"IF(#REF!=$E$1,IF(#REF!=$G$1,IF(#REF!=\"\",NA(),#REF!),NA()),NA())","v":{"$error":"#REF!"}},{"$error":"#REF!"},{"$error":"#REF!"}]
[null,null,null,{"$f":"IF(#REF!=$E$1,IF(#REF!=$G$1,#REF!,NA()),NA())","v":{"$error":"#REF!"}},{"$f":"IF(#REF!=$E$1,IF(#REF!=$G$1,#REF!,NA()),NA())","v":{"$error":"#REF!"}},{"$f":"IF(#REF!=$E$1,IF(#REF!=$G$1,IF(#REF!=\"\",NA(),#REF!),NA()),NA())","v":{"$error":"#REF!"}},{"$f":"IF(#REF!=$E$1,IF(#REF!=$G$1,IF(#REF!=\"\",NA(),#REF!),NA()),NA())","v":{"$error":"#REF!"}},{"$error":"#REF!"},{"$error":"#REF!"}]
[null,null,null,{"$f":"IF(#REF!=$E$1,IF(#REF!=$G$1,#REF!,NA()),NA())","v":{"$error":"#REF!"}},{"$f":"IF(#REF!=$E$1,IF(#REF!=$G$1,#REF!,NA()),NA())","v":{"$error":"#REF!"}},{"$f":"IF(#REF!=$E$1,IF(#REF!=$G$1,IF(#REF!=\"\",NA(),#REF!),NA()),NA())","v":{"$error":"#REF!"}},{"$f":"IF(#REF!=$E$1,IF(#REF!=$G$1,IF(#REF!=\"\",NA(),#REF!),NA()),NA())","v":{"$error":"#REF!"}},{"$error":"#REF!"},{"$error":"#REF!"}]
[null,null,null,{"$f":"IF(#REF!=$E$1,IF(#REF!=$G$1,#REF!,NA()),NA())","v":{"$error":"#REF!"}},{"$f":"IF(#REF!=$E$1,IF(#REF!=$G$1,#REF!,NA()),NA())","v":{"$error":"#REF!"}},{"$f":"IF(#REF!=$E$1,IF(#REF!=$G$1,IF(#REF!=\"\",NA(),#REF!),NA()),NA())","v":{"$error":"#REF!"}},{"$f":"IF(#REF!=$E$1,IF(#REF!=$G$1,IF(#REF!=\"\",NA(),#REF!),NA()),NA())","v":{"$error":"#REF!"}},{"$error":"#REF!"},{"$error":"#REF!"}]
[null,null,null,{"$f":"IF(#REF!=$E$1,IF(#REF!=$G$1,#REF!,NA()),NA())","v":{"$error":"#REF!"}},{"$f":"IF(#REF!=$E$1,IF(#REF!=$G$1,#REF!,NA()),NA())","v":{"$error":"#REF!"}},{"$f":"IF(#REF!=$E$1,IF(#REF!=$G$1,IF(#REF!=\"\",NA(),#REF!),NA()),NA())","v":{"$error":"#REF!"}},{"$f":"IF(#REF!=$E$1,IF(#REF!=$G$1,IF(#REF!=\"\",NA(),#REF!),NA()),NA())","v":{"$error":"#REF!"}},{"$error":"#REF!"},{"$error":"#REF!"}]
[null,null,null,{"$f":"IF(#REF!=$E$1,IF(#REF!=$G$1,#REF!,NA()),NA())","v":{"$error":"#REF!"}},{"$f":"IF(#REF!=$E$1,IF(#REF!=$G$1,#REF!,NA()),NA())","v":{"$error":"#REF!"}},{"$f":"IF(#REF!=$E$1,IF(#REF!=$G$1,IF(#REF!=\"\",NA(),#REF!),NA()),NA())","v":{"$error":"#REF!"}},{"$f":"IF(#REF!=$E$1,IF(#REF!=$G$1,IF(#REF!=\"\",NA(),#REF!),NA()),NA())","v":{"$error":"#REF!"}},{"$error":"#REF!"},{"$error":"#REF!"}]
[null,null,null,{"$f":"IF(#REF!=$E$1,IF(#REF!=$G$1,#REF!,NA()),NA())","v":{"$error":"#REF!"}},{"$f":"IF(#REF!=$E$1,IF(#REF!=$G$1,#REF!,NA()),NA())","v":{"$error":"#REF!"}},{"$f":"IF(#REF!=$E$1,IF(#REF!=$G$1,IF(#REF!=\"\",NA(),#REF!),NA()),NA())","v":{"$error":"#REF!"}},{"$f":"IF(#REF!=$E$1,IF(#REF!=$G$1,IF(#REF!=\"\",NA(),#REF!),NA()),NA())","v":{"$error":"#REF!"}},{"$error":"#REF!"},{"$error":"#REF!"}]
[null,null,null,{"$f":"IF(#REF!=$E$1,IF(#REF!=$G$1,#REF!,NA()),NA())","v":{"$error":"#REF!"}},{"$f":"IF(#REF!=$E$1,IF(#REF!=$G$1,#REF!,NA()),NA())","v":{"$error":"#REF!"}},{"$f":"IF(#REF!=$E$1,IF(#REF!=$G$1,IF(#REF!=\"\",NA(),#REF!),NA()),NA())","v":{"$error":"#REF!"}},{"$f":"IF(#REF!=$E$1,IF(#REF!=$G$1,IF(#REF!=\"\",NA(),#REF!),NA()),NA())","v":{"$error":"#REF!"}},{"$error":"#REF!"},{"$error":"#REF!"}]
[null,null,null,{"$f":"IF(#REF!=$E$1,IF(#REF!=$G$1,#REF!,NA()),NA())","v":{"$error":"#REF!"}},{"$f":"IF(#REF!=$E$1,IF(#REF!=$G$1,#REF!,NA()),NA())","v":{"$error":"#REF!"}},{"$f":"IF(#REF!=$E$1,IF(#REF!=$G$1,IF(#REF!=\"\",NA(),#REF!),NA()),NA())","v":{"$error":"#REF!"}},{"$f":"IF(#REF!=$E$1,IF(#REF!=$G$1,IF(#REF!=\"\",NA(),#REF!),NA()),NA())","v":{"$error":"#REF!"}},{"$error":"#REF!"},{"$error":"#REF!"}]
[null,null,null,{"$f":"IF(#REF!=$E$1,IF(#REF!=$G$1,#REF!,NA()),NA())","v":{"$error":"#REF!"}},{"$f":"IF(#REF!=$E$1,IF(#REF!=$G$1,#REF!,NA()),NA())","v":{"$error":"#REF!"}},{"$f":"IF(#REF!=$E$1,IF(#REF!=$G$1,IF(#REF!=\"\",NA(),#REF!),NA()),NA())","v":{"$error":"#REF!"}},{"$f":"IF(#REF!=$E$1,IF(#REF!=$G$1,IF(#REF!=\"\",NA(),#REF!),NA()),NA())","v":{"$error":"#REF!"}},{"$error":"#REF!"},{"$error":"#REF!"}]
[null,null,null,{"$f":"IF(#REF!=$E$1,IF(#REF!=$G$1,#REF!,NA()),NA())","v":{"$error":"#REF!"}},{"$f":"IF(#REF!=$E$1,IF(#REF!=$G$1,#REF!,NA()),NA())","v":{"$error":"#REF!"}},{"$f":"IF(#REF!=$E$1,IF(#REF!=$G$1,IF(#REF!=\"\",NA(),#REF!),NA()),NA())","v":{"$error":"#REF!"}},{"$f":"IF(#REF!=$E$1,IF(#REF!=$G$1,IF(#REF!=\"\",NA(),#REF!),NA()),NA())","v":{"$error":"#REF!"}},{"$error":"#REF!"},{"$error":"#REF!"}]
[null,null,null,{"$f":"IF(#REF!=$E$1,IF(#REF!=$G$1,#REF!,NA()),NA())","v":{"$error":"#REF!"}},{"$f":"IF(#REF!=$E$1,IF(#REF!=$G$1,#REF!,NA()),NA())","v":{"$error":"#REF!"}},{"$f":"IF(#REF!=$E$1,IF(#REF!=$G$1,IF(#REF!=\"\",NA(),#REF!),NA()),NA())","v":{"$error":"#REF!"}},{"$f":"IF(#REF!=$E$1,IF(#REF!=$G$1,IF(#REF!=\"\",NA(),#REF!),NA()),NA())","v":{"$error":"#REF!"}},{"$error":"#REF!"},{"$error":"#REF!"}]
[null,null,null,{"$f":"IF(#REF!=$E$1,IF(#REF!=$G$1,#REF!,NA()),NA())","v":{"$error":"#REF!"}},{"$f":"IF(#REF!=$E$1,IF(#REF!=$G$1,#REF!,NA()),NA())","v":{"$error":"#REF!"}},{"$f":"IF(#REF!=$E$1,IF(#REF!=$G$1,IF(#REF!=\"\",NA(),#REF!),NA()),NA())","v":{"$error":"#REF!"}},{"$f":"IF(#REF!=$E$1,IF(#REF!=$G$1,IF(#REF!=\"\",NA(),#REF!),NA()),NA())","v":{"$error":"#REF!"}},{"$error":"#REF!"},{"$error":"#REF!"}]
[null,null,null,{"$f":"IF(#REF!=$E$1,IF(#REF!=$G$1,#REF!,NA()),NA())","v":{"$error":"#REF!"}},{"$f":"IF(#REF!=$E$1,IF(#REF!=$G$1,#REF!,NA()),NA())","v":{"$error":"#REF!"}},{"$f":"IF(#REF!=$E$1,IF(#REF!=$G$1,IF(#REF!=\"\",NA(),#REF!),NA()),NA())","v":{"$error":"#REF!"}},{"$f":"IF(#REF!=$E$1,IF(#REF!=$G$1,IF(#REF!=\"\",NA(),#REF!),NA()),NA())","v":{"$error":"#REF!"}},{"$error":"#REF!"},{"$error":"#REF!"}]
[null,null,null,{"$f":"IF(#REF!=$E$1,IF(#REF!=$G$1,#REF!,NA()),NA())","v":{"$error":"#REF!"}},{"$f":"IF(#REF!=$E$1,IF(#REF!=$G$1,#REF!,NA()),NA())","v":{"$error":"#REF!"}},{"$f":"IF(#REF!=$E$1,IF(#REF!=$G$1,IF(#REF!=\"\",NA(),#REF!),NA()),NA())","v":{"$error":"#REF!"}},{"$f":"IF(#REF!=$E$1,IF(#REF!=$G$1,IF(#REF!=\"\",NA(),#REF!),NA()),NA())","v":{"$error":"#REF!"}},{"$error":"#REF!"},{"$error":"#REF!"}]
[null,null,null,{"$f":"IF(#REF!=$E$1,IF(#REF!=$G$1,#REF!,NA()),NA())","v":{"$error":"#REF!"}},{"$f":"IF(#REF!=$E$1,IF(#REF!=$G$1,#REF!,NA()),NA())","v":{"$error":"#REF!"}},{"$f":"IF(#REF!=$E$1,IF(#REF!=$G$1,IF(#REF!=\"\",NA(),#REF!),NA()),NA())","v":{"$error":"#REF!"}},{"$f":"IF(#REF!=$E$1,IF(#REF!=$G$1,IF(#REF!=\"\",NA(),#REF!),NA()),NA())","v":{"$error":"#REF!"}},{"$error":"#REF!"},{"$error":"#REF!"}]
[null,null,null,{"$f":"IF(#REF!=$E$1,IF(#REF!=$G$1,#REF!,NA()),NA())","v":{"$error":"#REF!"}},{"$f":"IF(#REF!=$E$1,IF(#REF!=$G$1,#REF!,NA()),NA())","v":{"$error":"#REF!"}},{"$f":"IF(#REF!=$E$1,IF(#REF!=$G$1,IF(#REF!=\"\",NA(),#REF!),NA()),NA())","v":{"$error":"#REF!"}},{"$f":"IF(#REF!=$E$1,IF(#REF!=$G$1,IF(#REF!=\"\",NA(),#REF!),NA()),NA())","v":{"$error":"#REF!"}},{"$error":"#REF!"},{"$error":"#REF!"}]
[null,null,null,{"$f":"IF(#REF!=$E$1,IF(#REF!=$G$1,#REF!,NA()),NA())","v":{"$error":"#REF!"}},{"$f":"IF(#REF!=$E$1,IF(#REF!=$G$1,#REF!,NA()),NA())","v":{"$error":"#REF!"}},{"$f":"IF(#REF!=$E$1,IF(#REF!=$G$1,IF(#REF!=\"\",NA(),#REF!),NA()),NA())","v":{"$error":"#REF!"}},{"$f":"IF(#REF!=$E$1,IF(#REF!=$G$1,IF(#REF!=\"\",NA(),#REF!),NA()),NA())","v":{"$error":"#REF!"}},{"$error":"#REF!"},{"$error":"#REF!"}]
[null,null,null,{"$f":"IF(#REF!=$E$1,IF(#REF!=$G$1,#REF!,NA()),NA())","v":{"$error":"#REF!"}},{"$f":"IF(#REF!=$E$1,IF(#REF!=$G$1,#REF!,NA()),NA())","v":{"$error":"#REF!"}},{"$f":"IF(#REF!=$E$1,IF(#REF!=$G$1,IF(#REF!=\"\",NA(),#REF!),NA()),NA())","v":{"$error":"#REF!"}},{"$f":"IF(#REF!=$E$1,IF(#REF!=$G$1,IF(#REF!=\"\",NA(),#REF!),NA()),NA())","v":{"$error":"#REF!"}},{"$error":"#REF!"},{"$error":"#REF!"}]
[null,null,null,{"$f":"IF(#REF!=$E$1,IF(#REF!=$G$1,#REF!,NA()),NA())","v":{"$error":"#REF!"}},{"$f":"IF(#REF!=$E$1,IF(#REF!=$G$1,#REF!,NA()),NA())","v":{"$error":"#REF!"}},{"$f":"IF(#REF!=$E$1,IF(#REF!=$G$1,IF(#REF!=\"\",NA(),#REF!),NA()),NA())","v":{"$error":"#REF!"}},{"$f":"IF(#REF!=$E$1,IF(#REF!=$G$1,IF(#REF!=\"\",NA(),#REF!),NA()),NA())","v":{"$error":"#REF!"}},{"$error":"#REF!"},{"$error":"#REF!"}]
[null,null,null,{"$f":"IF(#REF!=$E$1,IF(#REF!=$G$1,#REF!,NA()),NA())","v":{"$error":"#REF!"}},{"$f":"IF(#REF!=$E$1,IF(#REF!=$G$1,#REF!,NA()),NA())","v":{"$error":"#REF!"}},{"$f":"IF(#REF!=$E$1,IF(#REF!=$G$1,IF(#REF!=\"\",NA(),#REF!),NA()),NA())","v":{"$error":"#REF!"}},{"$f":"IF(#REF!=$E$1,IF(#REF!=$G$1,IF(#REF!=\"\",NA(),#REF!),NA()),NA())","v":{"$error":"#REF!"}},{"$error":"#REF!"},{"$error":"#REF!"}]
[null,null,null,{"$f":"IF(#REF!=$E$1,IF(#REF!=$G$1,#REF!,NA()),NA())","v":{"$error":"#REF!"}},{"$f":"IF(#REF!=$E$1,IF(#REF!=$G$1,#REF!,NA()),NA())","v":{"$error":"#REF!"}},{"$f":"IF(#REF!=$E$1,IF(#REF!=$G$1,IF(#REF!=\"\",NA(),#REF!),NA()),NA())","v":{"$error":"#REF!"}},{"$f":"IF(#REF!=$E$1,IF(#REF!=$G$1,IF(#REF!=\"\",NA(),#REF!),NA()),NA())","v":{"$error":"#REF!"}},{"$error":"#REF!"},{"$error":"#REF!"}]
[null,null,null,{"$f":"IF(#REF!=$E$1,IF(#REF!=$G$1,#REF!,NA()),NA())","v":{"$error":"#REF!"}},{"$f":"IF(#REF!=$E$1,IF(#REF!=$G$1,#REF!,NA()),NA())","v":{"$error":"#REF!"}},{"$f":"IF(#REF!=$E$1,IF(#REF!=$G$1,IF(#REF!=\"\",NA(),#REF!),NA()),NA())","v":{"$error":"#REF!"}},{"$f":"IF(#REF!=$E$1,IF(#REF!=$G$1,IF(#REF!=\"\",NA(),#REF!),NA()),NA())","v":{"$error":"#REF!"}},{"$error":"#REF!"},{"$error":"#REF!"}]
[null,null,null,{"$f":"IF(#REF!=$E$1,IF(#REF!=$G$1,#REF!,NA()),NA())","v":{"$error":"#REF!"}},{"$f":"IF(#REF!=$E$1,IF(#REF!=$G$1,#REF!,NA()),NA())","v":{"$error":"#REF!"}},{"$f":"IF(#REF!=$E$1,IF(#REF!=$G$1,IF(#REF!=\"\",NA(),#REF!),NA()),NA())","v":{"$error":"#REF!"}},{"$f":"IF(#REF!=$E$1,IF(#REF!=$G$1,IF(#REF!=\"\",NA(),#REF!),NA()),NA())","v":{"$error":"#REF!"}},{"$error":"#REF!"},{"$error":"#REF!"}]
[null,null,null,{"$f":"IF(#REF!=$E$1,IF(#REF!=$G$1,#REF!,NA()),NA())","v":{"$error":"#REF!"}},{"$f":"IF(#REF!=$E$1,IF(#REF!=$G$1,#REF!,NA()),NA())","v":{"$error":"#REF!"}},{"$f":"IF(#REF!=$E$1,IF(#REF!=$G$1,IF(#REF!=\"\",NA(),#REF!),NA()),NA())","v":{"$error":"#REF!"}},{"$f":"IF(#REF!=$E$1,IF(#REF!=$G$1,IF(#REF!=\"\",NA(),#REF!),NA()),NA())","v":{"$error":"#REF!"}},{"$error":"#REF!"},{"$error":"#REF!"}]
[null,null,null,{"$f":"IF(#REF!=$E$1,IF(#REF!=$G$1,#REF!,NA()),NA())","v":{"$error":"#REF!"}},{"$f":"IF(#REF!=$E$1,IF(#REF!=$G$1,#REF!,NA()),NA())","v":{"$error":"#REF!"}},{"$f":"IF(#REF!=$E$1,IF(#REF!=$G$1,IF(#REF!=\"\",NA(),#REF!),NA()),NA())","v":{"$error":"#REF!"}},{"$f":"IF(#REF!=$E$1,IF(#REF!=$G$1,IF(#REF!=\"\",NA(),#REF!),NA()),NA())","v":{"$error":"#REF!"}},{"$error":"#REF!"},{"$error":"#REF!"}]
[null,null,null,{"$f":"IF(#REF!=$E$1,IF(#REF!=$G$1,#REF!,NA()),NA())","v":{"$error":"#REF!"}},{"$f":"IF(#REF!=$E$1,IF(#REF!=$G$1,#REF!,NA()),NA())","v":{"$error":"#REF!"}},{"$f":"IF(#REF!=$E$1,IF(#REF!=$G$1,IF(#REF!=\"\",NA(),#REF!),NA()),NA())","v":{"$error":"#REF!"}},{"$f":"IF(#REF!=$E$1,IF(#REF!=$G$1,IF(#REF!=\"\",NA(),#REF!),NA()),NA())","v":{"$error":"#REF!"}},{"$error":"#REF!"},{"$error":"#REF!"}]
[null,null,null,{"$f":"IF(#REF!=$E$1,IF(#REF!=$G$1,#REF!,NA()),NA())","v":{"$error":"#REF!"}},{"$f":"IF(#REF!=$E$1,IF(#REF!=$G$1,#REF!,NA()),NA())","v":{"$error":"#REF!"}},{"$f":"IF(#REF!=$E$1,IF(#REF!=$G$1,IF(#REF!=\"\",NA(),#REF!),NA()),NA())","v":{"$error":"#REF!"}},{"$f":"IF(#REF!=$E$1,IF(#REF!=$G$1,IF(#REF!=\"\",NA(),#REF!),NA()),NA())","v":{"$error":"#REF!"}},{"$error":"#REF!"},{"$error":"#REF!"}]
[null,null,null,{"$f":"IF(#REF!=$E$1,IF(#REF!=$G$1,#REF!,NA()),NA())","v":{"$error":"#REF!"}},{"$f":"IF(#REF!=$E$1,IF(#REF!=$G$1,#REF!,NA()),NA())","v":{"$error":"#REF!"}},{"$f":"IF(#REF!=$E$1,IF(#REF!=$G$1,IF(#REF!=\"\",NA(),#REF!),NA()),NA())","v":{"$error":"#REF!"}},{"$f":"IF(#REF!=$E$1,IF(#REF!=$G$1,IF(#REF!=\"\",NA(),#REF!),NA()),NA())","v":{"$error":"#REF!"}},{"$error":"#REF!"},{"$error":"#REF!"}]
[null,null,null,{"$f":"IF(#REF!=$E$1,IF(#REF!=$G$1,#REF!,NA()),NA())","v":{"$error":"#REF!"}},{"$f":"IF(#REF!=$E$1,IF(#REF!=$G$1,#REF!,NA()),NA())","v":{"$error":"#REF!"}},{"$f":"IF(#REF!=$E$1,IF(#REF!=$G$1,IF(#REF!=\"\",NA(),#REF!),NA()),NA())","v":{"$error":"#REF!"}},{"$f":"IF(#REF!=$E$1,IF(#REF!=$G$1,IF(#REF!=\"\",NA(),#REF!),NA()),NA())","v":{"$error":"#REF!"}},{"$error":"#REF!"},{"$error":"#REF!"}]
[null,null,null,{"$f":"IF(#REF!=$E$1,IF(#REF!=$G$1,#REF!,NA()),NA())","v":{"$error":"#REF!"}},{"$f":"IF(#REF!=$E$1,IF(#REF!=$G$1,#REF!,NA()),NA())","v":{"$error":"#REF!"}},{"$f":"IF(#REF!=$E$1,IF(#REF!=$G$1,IF(#REF!=\"\",NA(),#REF!),NA()),NA())","v":{"$error":"#REF!"}},{"$f":"IF(#REF!=$E$1,IF(#REF!=$G$1,IF(#REF!=\"\",NA(),#REF!),NA()),NA())","v":{"$error":"#REF!"}},{"$error":"#REF!"},{"$error":"#REF!"}]
[null,null,null,{"$f":"IF(#REF!=$E$1,IF(#REF!=$G$1,#REF!,NA()),NA())","v":{"$error":"#REF!"}},{"$f":"IF(#REF!=$E$1,IF(#REF!=$G$1,#REF!,NA()),NA())","v":{"$error":"#REF!"}},{"$f":"IF(#REF!=$E$1,IF(#REF!=$G$1,IF(#REF!=\"\",NA(),#REF!),NA()),NA())","v":{"$error":"#REF!"}},{"$f":"IF(#REF!=$E$1,IF(#REF!=$G$1,IF(#REF!=\"\",NA(),#REF!),NA()),NA())","v":{"$error":"#REF!"}},{"$error":"#REF!"},{"$error":"#REF!"}]
[null,null,null,{"$f":"IF(#REF!=$E$1,IF(#REF!=$G$1,#REF!,NA()),NA())","v":{"$error":"#REF!"}},{"$f":"IF(#REF!=$E$1,IF(#REF!=$G$1,#REF!,NA()),NA())","v":{"$error":"#REF!"}},{"$f":"IF(#REF!=$E$1,IF(#REF!=$G$1,IF(#REF!=\"\",NA(),#REF!),NA()),NA())","v":{"$error":"#REF!"}},{"$f":"IF(#REF!=$E$1,IF(#REF!=$G$1,IF(#REF!=\"\",NA(),#REF!),NA()),NA())","v":{"$error":"#REF!"}},{"$error":"#REF!"},{"$error":"#REF!"}]
[null,null,null,{"$f":"IF(#REF!=$E$1,IF(#REF!=$G$1,#REF!,NA()),NA())","v":{"$error":"#REF!"}},{"$f":"IF(#REF!=$E$1,IF(#REF!=$G$1,#REF!,NA()),NA())","v":{"$error":"#REF!"}},{"$f":"IF(#REF!=$E$1,IF(#REF!=$G$1,IF(#REF!=\"\",NA(),#REF!),NA()),NA())","v":{"$error":"#REF!"}},{"$f":"IF(#REF!=$E$1,IF(#REF!=$G$1,IF(#REF!=\"\",NA(),#REF!),NA()),NA())","v":{"$error":"#REF!"}},{"$error":"#REF!"},{"$error":"#REF!"}]
[null,null,null,{"$f":"IF(#REF!=$E$1,IF(#REF!=$G$1,#REF!,NA()),NA())","v":{"$error":"#REF!"}},{"$f":"IF(#REF!=$E$1,IF(#REF!=$G$1,#REF!,NA()),NA())","v":{"$error":"#REF!"}},{"$f":"IF(#REF!=$E$1,IF(#REF!=$G$1,IF(#REF!=\"\",NA(),#REF!),NA()),NA())","v":{"$error":"#REF!"}},{"$f":"IF(#REF!=$E$1,IF(#REF!=$G$1,IF(#REF!=\"\",NA(),#REF!),NA()),NA())","v":{"$error":"#REF!"}},{"$error":"#REF!"},{"$error":"#REF!"}]
[null,null,null,{"$f":"IF(#REF!=$E$1,IF(#REF!=$G$1,#REF!,NA()),NA())","v":{"$error":"#REF!"}},{"$f":"IF(#REF!=$E$1,IF(#REF!=$G$1,#REF!,NA()),NA())","v":{"$error":"#REF!"}},{"$f":"IF(#REF!=$E$1,IF(#REF!=$G$1,IF(#REF!=\"\",NA(),#REF!),NA()),NA())","v":{"$error":"#REF!"}},{"$f":"IF(#REF!=$E$1,IF(#REF!=$G$1,IF(#REF!=\"\",NA(),#REF!),NA()),NA())","v":{"$error":"#REF!"}},{"$error":"#REF!"},{"$error":"#REF!"}]
[null,null,null,{"$f":"IF(#REF!=$E$1,IF(#REF!=$G$1,#REF!,NA()),NA())","v":{"$error":"#REF!"}},{"$f":"IF(#REF!=$E$1,IF(#REF!=$G$1,#REF!,NA()),NA())","v":{"$error":"#REF!"}},{"$f":"IF(#REF!=$E$1,IF(#REF!=$G$1,IF(#REF!=\"\",NA(),#REF!),NA()),NA())","v":{"$error":"#REF!"}},{"$f":"IF(#REF!=$E$1,IF(#REF!=$G$1,IF(#REF!=\"\",NA(),#REF!),NA()),NA())","v":{"$error":"#REF!"}},{"$error":"#REF!"},{"$error":"#REF!"}]
[null,null,null,{"$f":"IF(#REF!=$E$1,IF(#REF!=$G$1,#REF!,NA()),NA())","v":{"$error":"#REF!"}},{"$f":"IF(#REF!=$E$1,IF(#REF!=$G$1,#REF!,NA()),NA())","v":{"$error":"#REF!"}},{"$f":"IF(#REF!=$E$1,IF(#REF!=$G$1,IF(#REF!=\"\",NA(),#REF!),NA()),NA())","v":{"$error":"#REF!"}},{"$f":"IF(#REF!=$E$1,IF(#REF!=$G$1,IF(#REF!=\"\",NA(),#REF!),NA()),NA())","v":{"$error":"#REF!"}},{"$error":"#REF!"},{"$error":"#REF!"}]
[null,null,null,{"$f":"IF(#REF!=$E$1,IF(#REF!=$G$1,#REF!,NA()),NA())","v":{"$error":"#REF!"}},{"$f":"IF(#REF!=$E$1,IF(#REF!=$G$1,#REF!,NA()),NA())","v":{"$error":"#REF!"}},{"$f":"IF(#REF!=$E$1,IF(#REF!=$G$1,IF(#REF!=\"\",NA(),#REF!),NA()),NA())","v":{"$error":"#REF!"}},{"$f":"IF(#REF!=$E$1,IF(#REF!=$G$1,IF(#REF!=\"\",NA(),#REF!),NA()),NA())","v":{"$error":"#REF!"}},{"$error":"#REF!"},{"$error":"#REF!"}]
[null,null,null,{"$f":"IF(#REF!=$E$1,IF(#REF!=$G$1,#REF!,NA()),NA())","v":{"$error":"#REF!"}},{"$f":"IF(#REF!=$E$1,IF(#REF!=$G$1,#REF!,NA()),NA())","v":{"$error":"#REF!"}},{"$f":"IF(#REF!=$E$1,IF(#REF!=$G$1,IF(#REF!=\"\",NA(),#REF!),NA()),NA())","v":{"$error":"#REF!"}},{"$f":"IF(#REF!=$E$1,IF(#REF!=$G$1,IF(#REF!=\"\",NA(),#REF!),NA()),NA())","v":{"$error":"#REF!"}},{"$error":"#REF!"},{"$error":"#REF!"}]
[null,null,null,{"$f":"IF(#REF!=$E$1,IF(#REF!=$G$1,#REF!,NA()),NA())","v":{"$error":"#REF!"}},{"$f":"IF(#REF!=$E$1,IF(#REF!=$G$1,#REF!,NA()),NA())","v":{"$error":"#REF!"}},{"$f":"IF(#REF!=$E$1,IF(#REF!=$G$1,IF(#REF!=\"\",NA(),#REF!),NA()),NA())","v":{"$error":"#REF!"}},{"$f":"IF(#REF!=$E$1,IF(#REF!=$G$1,IF(#REF!=\"\",NA(),#REF!),NA()),NA())","v":{"$error":"#REF!"}},{"$error":"#REF!"},{"$error":"#REF!"}]
[null,null,null,{"$f":"IF(#REF!=$E$1,IF(#REF!=$G$1,#REF!,NA()),NA())","v":{"$error":"#REF!"}},{"$f":"IF(#REF!=$E$1,IF(#REF!=$G$1,#REF!,NA()),NA())","v":{"$error":"#REF!"}},{"$f":"IF(#REF!=$E$1,IF(#REF!=$G$1,IF(#REF!=\"\",NA(),#REF!),NA()),NA())","v":{"$error":"#REF!"}},{"$f":"IF(#REF!=$E$1,IF(#REF!=$G$1,IF(#REF!=\"\",NA(),#REF!),NA()),NA())","v":{"$error":"#REF!"}},{"$f":"IF(AND(ISNUMBER(G324),F324=\"-\"),0,F324)","v":{"$error":"#REF!"}},{"$f":"IF(AND(ISNUMBER(F324),G324=\"-\"),0,G324)","v":{"$error":"#REF!"}}]
[null,null,null,{"$f":"IF(#REF!=$E$1,IF(#REF!=$G$1,#REF!,NA()),NA())","v":{"$error":"#REF!"}},{"$f":"IF(#REF!=$E$1,IF(#REF!=$G$1,#REF!,NA()),NA())","v":{"$error":"#REF!"}},{"$f":"IF(#REF!=$E$1,IF(#REF!=$G$1,IF(#REF!=\"\",NA(),#REF!),NA()),NA())","v":{"$error":"#REF!"}},{"$f":"IF(#REF!=$E$1,IF(#REF!=$G$1,IF(#REF!=\"\",NA(),#REF!),NA()),NA())","v":{"$error":"#REF!"}},{"$error":"#REF!"},{"$error":"#REF!"}]
[null,null,null,{"$f":"IF(#REF!=$E$1,IF(#REF!=$G$1,#REF!,NA()),NA())","v":{"$error":"#REF!"}},{"$f":"IF(#REF!=$E$1,IF(#REF!=$G$1,#REF!,NA()),NA())","v":{"$error":"#REF!"}},{"$f":"IF(#REF!=$E$1,IF(#REF!=$G$1,IF(#REF!=\"\",NA(),#REF!),NA()),NA())","v":{"$error":"#REF!"}},{"$f":"IF(#REF!=$E$1,IF(#REF!=$G$1,IF(#REF!=\"\",NA(),#REF!),NA()),NA())","v":{"$error":"#REF!"}},{"$error":"#REF!"},{"$error":"#REF!"}]
[null,null,null,{"$f":"IF(#REF!=$E$1,IF(#REF!=$G$1,#REF!,NA()),NA())","v":{"$error":"#REF!"}},{"$f":"IF(#REF!=$E$1,IF(#REF!=$G$1,#REF!,NA()),NA())","v":{"$error":"#REF!"}},{"$f":"IF(#REF!=$E$1,IF(#REF!=$G$1,IF(#REF!=\"\",NA(),#REF!),NA()),NA())","v":{"$error":"#REF!"}},{"$f":"IF(#REF!=$E$1,IF(#REF!=$G$1,IF(#REF!=\"\",NA(),#REF!),NA()),NA())","v":{"$error":"#REF!"}},{"$error":"#REF!"},{"$error":"#REF!"}]
[null,null,null,{"$f":"IF(#REF!=$E$1,IF(#REF!=$G$1,#REF!,NA()),NA())","v":{"$error":"#REF!"}},{"$f":"IF(#REF!=$E$1,IF(#REF!=$G$1,#REF!,NA()),NA())","v":{"$error":"#REF!"}},{"$f":"IF(#REF!=$E$1,IF(#REF!=$G$1,IF(#REF!=\"\",NA(),#REF!),NA()),NA())","v":{"$error":"#REF!"}},{"$f":"IF(#REF!=$E$1,IF(#REF!=$G$1,IF(#REF!=\"\",NA(),#REF!),NA()),NA())","v":{"$error":"#REF!"}},{"$error":"#REF!"},{"$error":"#REF!"}]
[null,null,null,{"$f":"IF(#REF!=$E$1,IF(#REF!=$G$1,#REF!,NA()),NA())","v":{"$error":"#REF!"}},{"$f":"IF(#REF!=$E$1,IF(#REF!=$G$1,#REF!,NA()),NA())","v":{"$error":"#REF!"}},{"$f":"IF(#REF!=$E$1,IF(#REF!=$G$1,IF(#REF!=\"\",NA(),#REF!),NA()),NA())","v":{"$error":"#REF!"}},{"$f":"IF(#REF!=$E$1,IF(#REF!=$G$1,IF(#REF!=\"\",NA(),#REF!),NA()),NA())","v":{"$error":"#REF!"}},{"$error":"#REF!"},{"$error":"#REF!"}]
[null,null,null,{"$f":"IF(#REF!=$E$1,IF(#REF!=$G$1,#REF!,NA()),NA())","v":{"$error":"#REF!"}},{"$f":"IF(#REF!=$E$1,IF(#REF!=$G$1,#REF!,NA()),NA())","v":{"$error":"#REF!"}},{"$f":"IF(#REF!=$E$1,IF(#REF!=$G$1,IF(#REF!=\"\",NA(),#REF!),NA()),NA())","v":{"$error":"#REF!"}},{"$f":"IF(#REF!=$E$1,IF(#REF!=$G$1,IF(#REF!=\"\",NA(),#REF!),NA()),NA())","v":{"$error":"#REF!"}},{"$error":"#REF!"},{"$error":"#REF!"}]
[null,null,null,{"$f":"IF(#REF!=$E$1,IF(#REF!=$G$1,#REF!,NA()),NA())","v":{"$error":"#REF!"}},{"$f":"IF(#REF!=$E$1,IF(#REF!=$G$1,#REF!,NA()),NA())","v":{"$error":"#REF!"}},{"$f":"IF(#REF!=$E$1,IF(#REF!=$G$1,IF(#REF!=\"\",NA(),#REF!),NA()),NA())","v":{"$error":"#REF!"}},{"$f":"IF(#REF!=$E$1,IF(#REF!=$G$1,IF(#REF!=\"\",NA(),#REF!),NA()),NA())","v":{"$error":"#REF!"}},{"$error":"#REF!"},{"$error":"#REF!"}]
[null,null,null,{"$f":"IF(#REF!=$E$1,IF(#REF!=$G$1,#REF!,NA()),NA())","v":{"$error":"#REF!"}},{"$f":"IF(#REF!=$E$1,IF(#REF!=$G$1,#REF!,NA()),NA())","v":{"$error":"#REF!"}},{"$f":"IF(#REF!=$E$1,IF(#REF!=$G$1,IF(#REF!=\"\",NA(),#REF!),NA()),NA())","v":{"$error":"#REF!"}},{"$f":"IF(#REF!=$E$1,IF(#REF!=$G$1,IF(#REF!=\"\",NA(),#REF!),NA()),NA())","v":{"$error":"#REF!"}},{"$error":"#REF!"},{"$error":"#REF!"}]
[null,null,null,{"$f":"IF(#REF!=$E$1,IF(#REF!=$G$1,#REF!,NA()),NA())","v":{"$error":"#REF!"}},{"$f":"IF(#REF!=$E$1,IF(#REF!=$G$1,#REF!,NA()),NA())","v":{"$error":"#REF!"}},{"$f":"IF(#REF!=$E$1,IF(#REF!=$G$1,IF(#REF!=\"\",NA(),#REF!),NA()),NA())","v":{"$error":"#REF!"}},{"$f":"IF(#REF!=$E$1,IF(#REF!=$G$1,IF(#REF!=\"\",NA(),#REF!),NA()),NA())","v":{"$error":"#REF!"}},{"$error":"#REF!"},{"$error":"#REF!"}]
[null,null,null,{"$f":"IF(#REF!=$E$1,IF(#REF!=$G$1,#REF!,NA()),NA())","v":{"$error":"#REF!"}},{"$f":"IF(#REF!=$E$1,IF(#REF!=$G$1,#REF!,NA()),NA())","v":{"$error":"#REF!"}},{"$f":"IF(#REF!=$E$1,IF(#REF!=$G$1,IF(#REF!=\"\",NA(),#REF!),NA()),NA())","v":{"$error":"#REF!"}},{"$f":"IF(#REF!=$E$1,IF(#REF!=$G$1,IF(#REF!=\"\",NA(),#REF!),NA()),NA())","v":{"$error":"#REF!"}},{"$error":"#REF!"},{"$error":"#REF!"}]
[null,null,null,{"$f":"IF(#REF!=$E$1,IF(#REF!=$G$1,#REF!,NA()),NA())","v":{"$error":"#REF!"}},{"$f":"IF(#REF!=$E$1,IF(#REF!=$G$1,#REF!,NA()),NA())","v":{"$error":"#REF!"}},{"$f":"IF(#REF!=$E$1,IF(#REF!=$G$1,IF(#REF!=\"\",NA(),#REF!),NA()),NA())","v":{"$error":"#REF!"}},{"$f":"IF(#REF!=$E$1,IF(#REF!=$G$1,IF(#REF!=\"\",NA(),#REF!),NA()),NA())","v":{"$error":"#REF!"}},{"$error":"#REF!"},{"$error":"#REF!"}]
[null,null,null,{"$f":"IF(#REF!=$E$1,IF(#REF!=$G$1,#REF!,NA()),NA())","v":{"$error":"#REF!"}},{"$f":"IF(#REF!=$E$1,IF(#REF!=$G$1,#REF!,NA()),NA())","v":{"$error":"#REF!"}},{"$f":"IF(#REF!=$E$1,IF(#REF!=$G$1,IF(#REF!=\"\",NA(),#REF!),NA()),NA())","v":{"$error":"#REF!"}},{"$f":"IF(#REF!=$E$1,IF(#REF!=$G$1,IF(#REF!=\"\",NA(),#REF!),NA()),NA())","v":{"$error":"#REF!"}},{"$error":"#REF!"},{"$error":"#REF!"}]
[null,null,null,{"$f":"IF(#REF!=$E$1,IF(#REF!=$G$1,#REF!,NA()),NA())","v":{"$error":"#REF!"}},{"$f":"IF(#REF!=$E$1,IF(#REF!=$G$1,#REF!,NA()),NA())","v":{"$error":"#REF!"}},{"$f":"IF(#REF!=$E$1,IF(#REF!=$G$1,IF(#REF!=\"\",NA(),#REF!),NA()),NA())","v":{"$error":"#REF!"}},{"$f":"IF(#REF!=$E$1,IF(#REF!=$G$1,IF(#REF!=\"\",NA(),#REF!),NA()),NA())","v":{"$error":"#REF!"}},{"$error":"#REF!"},{"$error":"#REF!"}]
[null,null,null,{"$f":"IF(#REF!=$E$1,IF(#REF!=$G$1,#REF!,NA()),NA())","v":{"$error":"#REF!"}},{"$f":"IF(#REF!=$E$1,IF(#REF!=$G$1,#REF!,NA()),NA())","v":{"$error":"#REF!"}},{"$f":"IF(#REF!=$E$1,IF(#REF!=$G$1,IF(#REF!=\"\",NA(),#REF!),NA()),NA())","v":{"$error":"#REF!"}},{"$f":"IF(#REF!=$E$1,IF(#REF!=$G$1,IF(#REF!=\"\",NA(),#REF!),NA()),NA())","v":{"$error":"#REF!"}},{"$error":"#REF!"},{"$error":"#REF!"}]
[null,null,null,{"$f":"IF(#REF!=$E$1,IF(#REF!=$G$1,#REF!,NA()),NA())","v":{"$error":"#REF!"}},{"$f":"IF(#REF!=$E$1,IF(#REF!=$G$1,#REF!,NA()),NA())","v":{"$error":"#REF!"}},{"$f":"IF(#REF!=$E$1,IF(#REF!=$G$1,IF(#REF!=\"\",NA(),#REF!),NA()),NA())","v":{"$error":"#REF!"}},{"$f":"IF(#REF!=$E$1,IF(#REF!=$G$1,IF(#REF!=\"\",NA(),#REF!),NA()),NA())","v":{"$error":"#REF!"}},{"$error":"#REF!"},{"$error":"#REF!"}]
[null,null,null,{"$f":"IF(#REF!=$E$1,IF(#REF!=$G$1,#REF!,NA()),NA())","v":{"$error":"#REF!"}},{"$f":"IF(#REF!=$E$1,IF(#REF!=$G$1,#REF!,NA()),NA())","v":{"$error":"#REF!"}},{"$f":"IF(#REF!=$E$1,IF(#REF!=$G$1,IF(#REF!=\"\",NA(),#REF!),NA()),NA())","v":{"$error":"#REF!"}},{"$f":"IF(#REF!=$E$1,IF(#REF!=$G$1,IF(#REF!=\"\",NA(),#REF!),NA()),NA())","v":{"$error":"#REF!"}},{"$error":"#REF!"},{"$error":"#REF!"}]
[null,null,null,{"$f":"IF(#REF!=$E$1,IF(#REF!=$G$1,#REF!,NA()),NA())","v":{"$error":"#REF!"}},{"$f":"IF(#REF!=$E$1,IF(#REF!=$G$1,#REF!,NA()),NA())","v":{"$error":"#REF!"}},{"$f":"IF(#REF!=$E$1,IF(#REF!=$G$1,IF(#REF!=\"\",NA(),#REF!),NA()),NA())","v":{"$error":"#REF!"}},{"$f":"IF(#REF!=$E$1,IF(#REF!=$G$1,IF(#REF!=\"\",NA(),#REF!),NA()),NA())","v":{"$error":"#REF!"}},{"$error":"#REF!"},{"$error":"#REF!"}]
[null,null,null,{"$f":"IF(#REF!=$E$1,IF(#REF!=$G$1,#REF!,NA()),NA())","v":{"$error":"#REF!"}},{"$f":"IF(#REF!=$E$1,IF(#REF!=$G$1,#REF!,NA()),NA())","v":{"$error":"#REF!"}},{"$f":"IF(#REF!=$E$1,IF(#REF!=$G$1,IF(#REF!=\"\",NA(),#REF!),NA()),NA())","v":{"$error":"#REF!"}},{"$f":"IF(#REF!=$E$1,IF(#REF!=$G$1,IF(#REF!=\"\",NA(),#REF!),NA()),NA())","v":{"$error":"#REF!"}},{"$error":"#REF!"},{"$error":"#REF!"}]
[null,null,null,{"$f":"IF(#REF!=$E$1,IF(#REF!=$G$1,#REF!,NA()),NA())","v":{"$error":"#REF!"}},{"$f":"IF(#REF!=$E$1,IF(#REF!=$G$1,#REF!,NA()),NA())","v":{"$error":"#REF!"}},{"$f":"IF(#REF!=$E$1,IF(#REF!=$G$1,IF(#REF!=\"\",NA(),#REF!),NA()),NA())","v":{"$error":"#REF!"}},{"$f":"IF(#REF!=$E$1,IF(#REF!=$G$1,IF(#REF!=\"\",NA(),#REF!),NA()),NA())","v":{"$error":"#REF!"}},{"$error":"#REF!"},{"$error":"#REF!"}]
[null,null,null,{"$f":"IF(#REF!=$E$1,IF(#REF!=$G$1,#REF!,NA()),NA())","v":{"$error":"#REF!"}},{"$f":"IF(#REF!=$E$1,IF(#REF!=$G$1,#REF!,NA()),NA())","v":{"$error":"#REF!"}},{"$f":"IF(#REF!=$E$1,IF(#REF!=$G$1,IF(#REF!=\"\",NA(),#REF!),NA()),NA())","v":{"$error":"#REF!"}},{"$f":"IF(#REF!=$E$1,IF(#REF!=$G$1,IF(#REF!=\"\",NA(),#REF!),NA()),NA())","v":{"$error":"#REF!"}},{"$error":"#REF!"},{"$error":"#REF!"}]
[null,null,null,{"$f":"IF(#REF!=$E$1,IF(#REF!=$G$1,#REF!,NA()),NA())","v":{"$error":"#REF!"}},{"$f":"IF(#REF!=$E$1,IF(#REF!=$G$1,#REF!,NA()),NA())","v":{"$error":"#REF!"}},{"$f":"IF(#REF!=$E$1,IF(#REF!=$G$1,IF(#REF!=\"\",NA(),#REF!),NA()),NA())","v":{"$error":"#REF!"}},{"$f":"IF(#REF!=$E$1,IF(#REF!=$G$1,IF(#REF!=\"\",NA(),#REF!),NA()),NA())","v":{"$error":"#REF!"}},{"$error":"#REF!"},{"$error":"#REF!"}]
[null,null,null,{"$f":"IF(#REF!=$E$1,IF(#REF!=$G$1,#REF!,NA()),NA())","v":{"$error":"#REF!"}},{"$f":"IF(#REF!=$E$1,IF(#REF!=$G$1,#REF!,NA()),NA())","v":{"$error":"#REF!"}},{"$f":"IF(#REF!=$E$1,IF(#REF!=$G$1,IF(#REF!=\"\",NA(),#REF!),NA()),NA())","v":{"$error":"#REF!"}},{"$f":"IF(#REF!=$E$1,IF(#REF!=$G$1,IF(#REF!=\"\",NA(),#REF!),NA()),NA())","v":{"$error":"#REF!"}},{"$error":"#REF!"},{"$error":"#REF!"}]
[null,null,null,{"$f":"IF(#REF!=$E$1,IF(#REF!=$G$1,#REF!,NA()),NA())","v":{"$error":"#REF!"}},{"$f":"IF(#REF!=$E$1,IF(#REF!=$G$1,#REF!,NA()),NA())","v":{"$error":"#REF!"}},{"$f":"IF(#REF!=$E$1,IF(#REF!=$G$1,IF(#REF!=\"\",NA(),#REF!),NA()),NA())","v":{"$error":"#REF!"}},{"$f":"IF(#REF!=$E$1,IF(#REF!=$G$1,IF(#REF!=\"\",NA(),#REF!),NA()),NA())","v":{"$error":"#REF!"}},{"$error":"#REF!"},{"$error":"#REF!"}]
[null,null,null,{"$f":"IF(#REF!=$E$1,IF(#REF!=$G$1,#REF!,NA()),NA())","v":{"$error":"#REF!"}},{"$f":"IF(#REF!=$E$1,IF(#REF!=$G$1,#REF!,NA()),NA())","v":{"$error":"#REF!"}},{"$f":"IF(#REF!=$E$1,IF(#REF!=$G$1,IF(#REF!=\"\",NA(),#REF!),NA()),NA())","v":{"$error":"#REF!"}},{"$f":"IF(#REF!=$E$1,IF(#REF!=$G$1,IF(#REF!=\"\",NA(),#REF!),NA()),NA())","v":{"$error":"#REF!"}},{"$error":"#REF!"},{"$error":"#REF!"}]
[null,null,null,{"$f":"IF(#REF!=$E$1,IF(#REF!=$G$1,#REF!,NA()),NA())","v":{"$error":"#REF!"}},{"$f":"IF(#REF!=$E$1,IF(#REF!=$G$1,#REF!,NA()),NA())","v":{"$error":"#REF!"}},{"$f":"IF(#REF!=$E$1,IF(#REF!=$G$1,IF(#REF!=\"\",NA(),#REF!),NA()),NA())","v":{"$error":"#REF!"}},{"$f":"IF(#REF!=$E$1,IF(#REF!=$G$1,IF(#REF!=\"\",NA(),#REF!),NA()),NA())","v":{"$error":"#REF!"}},{"$error":"#REF!"},{"$error":"#REF!"}]
[null,null,null,{"$f":"IF(#REF!=$E$1,IF(#REF!=$G$1,#REF!,NA()),NA())","v":{"$error":"#REF!"}},{"$f":"IF(#REF!=$E$1,IF(#REF!=$G$1,#REF!,NA()),NA())","v":{"$error":"#REF!"}},{"$f":"IF(#REF!=$E$1,IF(#REF!=$G$1,IF(#REF!=\"\",NA(),#REF!),NA()),NA())","v":{"$error":"#REF!"}},{"$f":"IF(#REF!=$E$1,IF(#REF!=$G$1,IF(#REF!=\"\",NA(),#REF!),NA()),NA())","v":{"$error":"#REF!"}},{"$error":"#REF!"},{"$error":"#REF!"}]
[null,null,null,{"$f":"IF(#REF!=$E$1,IF(#REF!=$G$1,#REF!,NA()),NA())","v":{"$error":"#REF!"}},{"$f":"IF(#REF!=$E$1,IF(#REF!=$G$1,#REF!,NA()),NA())","v":{"$error":"#REF!"}},{"$f":"IF(#REF!=$E$1,IF(#REF!=$G$1,IF(#REF!=\"\",NA(),#REF!),NA()),NA())","v":{"$error":"#REF!"}},{"$f":"IF(#REF!=$E$1,IF(#REF!=$G$1,IF(#REF!=\"\",NA(),#REF!),NA()),NA())","v":{"$error":"#REF!"}},{"$error":"#REF!"},{"$error":"#REF!"}]
[null,null,null,{"$f":"IF(#REF!=$E$1,IF(#REF!=$G$1,#REF!,NA()),NA())","v":{"$error":"#REF!"}},{"$f":"IF(#REF!=$E$1,IF(#REF!=$G$1,#REF!,NA()),NA())","v":{"$error":"#REF!"}},{"$f":"IF(#REF!=$E$1,IF(#REF!=$G$1,IF(#REF!=\"\",NA(),#REF!),NA()),NA())","v":{"$error":"#REF!"}},{"$f":"IF(#REF!=$E$1,IF(#REF!=$G$1,IF(#REF!=\"\",NA(),#REF!),NA()),NA())","v":{"$error":"#REF!"}},{"$error":"#REF!"},{"$error":"#REF!"}]
[null,null,null,{"$f":"IF(#REF!=$E$1,IF(#REF!=$G$1,#REF!,NA()),NA())","v":{"$error":"#REF!"}},{"$f":"IF(#REF!=$E$1,IF(#REF!=$G$1,#REF!,NA()),NA())","v":{"$error":"#REF!"}},{"$f":"IF(#REF!=$E$1,IF(#REF!=$G$1,IF(#REF!=\"\",NA(),#REF!),NA()),NA())","v":{"$error":"#REF!"}},{"$f":"IF(#REF!=$E$1,IF(#REF!=$G$1,IF(#REF!=\"\",NA(),#REF!),NA()),NA())","v":{"$error":"#REF!"}},{"$error":"#REF!"},{"$error":"#REF!"}]
[null,null,null,{"$f":"IF(#REF!=$E$1,IF(#REF!=$G$1,#REF!,NA()),NA())","v":{"$error":"#REF!"}},{"$f":"IF(#REF!=$E$1,IF(#REF!=$G$1,#REF!,NA()),NA())","v":{"$error":"#REF!"}},{"$f":"IF(#REF!=$E$1,IF(#REF!=$G$1,IF(#REF!=\"\",NA(),#REF!),NA()),NA())","v":{"$error":"#REF!"}},{"$f":"IF(#REF!=$E$1,IF(#REF!=$G$1,IF(#REF!=\"\",NA(),#REF!),NA()),NA())","v":{"$error":"#REF!"}},{"$error":"#REF!"},{"$error":"#REF!"}]
[null,null,null,{"$f":"IF(#REF!=$E$1,IF(#REF!=$G$1,#REF!,NA()),NA())","v":{"$error":"#REF!"}},{"$f":"IF(#REF!=$E$1,IF(#REF!=$G$1,#REF!,NA()),NA())","v":{"$error":"#REF!"}},{"$f":"IF(#REF!=$E$1,IF(#REF!=$G$1,IF(#REF!=\"\",NA(),#REF!),NA()),NA())","v":{"$error":"#REF!"}},{"$f":"IF(#REF!=$E$1,IF(#REF!=$G$1,IF(#REF!=\"\",NA(),#REF!),NA()),NA())","v":{"$error":"#REF!"}},{"$error":"#REF!"},{"$error":"#REF!"}]
[null,null,null,{"$f":"IF(#REF!=$E$1,IF(#REF!=$G$1,#REF!,NA()),NA())","v":{"$error":"#REF!"}},{"$f":"IF(#REF!=$E$1,IF(#REF!=$G$1,#REF!,NA()),NA())","v":{"$error":"#REF!"}},{"$f":"IF(#REF!=$E$1,IF(#REF!=$G$1,IF(#REF!=\"\",NA(),#REF!),NA()),NA())","v":{"$error":"#REF!"}},{"$f":"IF(#REF!=$E$1,IF(#REF!=$G$1,IF(#REF!=\"\",NA(),#REF!),NA()),NA())","v":{"$error":"#REF!"}},{"$error":"#REF!"},{"$error":"#REF!"}]
[null,null,null,{"$f":"IF(#REF!=$E$1,IF(#REF!=$G$1,#REF!,NA()),NA())","v":{"$error":"#REF!"}},{"$f":"IF(#REF!=$E$1,IF(#REF!=$G$1,#REF!,NA()),NA())","v":{"$error":"#REF!"}},{"$f":"IF(#REF!=$E$1,IF(#REF!=$G$1,IF(#REF!=\"\",NA(),#REF!),NA()),NA())","v":{"$error":"#REF!"}},{"$f":"IF(#REF!=$E$1,IF(#REF!=$G$1,IF(#REF!=\"\",NA(),#REF!),NA()),NA())","v":{"$error":"#REF!"}},{"$error":"#REF!"},{"$error":"#REF!"}]
[null,null,null,{"$f":"IF(#REF!=$E$1,IF(#REF!=$G$1,#REF!,NA()),NA())","v":{"$error":"#REF!"}},{"$f":"IF(#REF!=$E$1,IF(#REF!=$G$1,#REF!,NA()),NA())","v":{"$error":"#REF!"}},{"$f":"IF(#REF!=$E$1,IF(#REF!=$G$1,IF(#REF!=\"\",NA(),#REF!),NA()),NA())","v":{"$error":"#REF!"}},{"$f":"IF(#REF!=$E$1,IF(#REF!=$G$1,IF(#REF!=\"\",NA(),#REF!),NA()),NA())","v":{"$error":"#REF!"}},{"$error":"#REF!"},{"$error":"#REF!"}]
[null,null,null,{"$f":"IF(#REF!=$E$1,IF(#REF!=$G$1,#REF!,NA()),NA())","v":{"$error":"#REF!"}},{"$f":"IF(#REF!=$E$1,IF(#REF!=$G$1,#REF!,NA()),NA())","v":{"$error":"#REF!"}},{"$f":"IF(#REF!=$E$1,IF(#REF!=$G$1,IF(#REF!=\"\",NA(),#REF!),NA()),NA())","v":{"$error":"#REF!"}},{"$f":"IF(#REF!=$E$1,IF(#REF!=$G$1,IF(#REF!=\"\",NA(),#REF!),NA()),NA())","v":{"$error":"#REF!"}},{"$error":"#REF!"},{"$error":"#REF!"}]
[null,null,null,{"$f":"IF(#REF!=$E$1,IF(#REF!=$G$1,#REF!,NA()),NA())","v":{"$error":"#REF!"}},{"$f":"IF(#REF!=$E$1,IF(#REF!=$G$1,#REF!,NA()),NA())","v":{"$error":"#REF!"}},{"$f":"IF(#REF!=$E$1,IF(#REF!=$G$1,IF(#REF!=\"\",NA(),#REF!),NA()),NA())","v":{"$error":"#REF!"}},{"$f":"IF(#REF!=$E$1,IF(#REF!=$G$1,IF(#REF!=\"\",NA(),#REF!),NA()),NA())","v":{"$error":"#REF!"}},{"$error":"#REF!"},{"$error":"#REF!"}]
[null,null,null,{"$f":"IF(#REF!=$E$1,IF(#REF!=$G$1,#REF!,NA()),NA())","v":{"$error":"#REF!"}},{"$f":"IF(#REF!=$E$1,IF(#REF!=$G$1,#REF!,NA()),NA())","v":{"$error":"#REF!"}},{"$f":"IF(#REF!=$E$1,IF(#REF!=$G$1,IF(#REF!=\"\",NA(),#REF!),NA()),NA())","v":{"$error":"#REF!"}},{"$f":"IF(#REF!=$E$1,IF(#REF!=$G$1,IF(#REF!=\"\",NA(),#REF!),NA()),NA())","v":{"$error":"#REF!"}},{"$error":"#REF!"},{"$error":"#REF!"}]
[null,null,null,{"$f":"IF(#REF!=$E$1,IF(#REF!=$G$1,#REF!,NA()),NA())","v":{"$error":"#REF!"}},{"$f":"IF(#REF!=$E$1,IF(#REF!=$G$1,#REF!,NA()),NA())","v":{"$error":"#REF!"}},{"$f":"IF(#REF!=$E$1,IF(#REF!=$G$1,IF(#REF!=\"\",NA(),#REF!),NA()),NA())","v":{"$error":"#REF!"}},{"$f":"IF(#REF!=$E$1,IF(#REF!=$G$1,IF(#REF!=\"\",NA(),#REF!),NA()),NA())","v":{"$error":"#REF!"}},{"$error":"#REF!"},{"$error":"#REF!"}]
[null,null,null,{"$f":"IF(#REF!=$E$1,IF(#REF!=$G$1,#REF!,NA()),NA())","v":{"$error":"#REF!"}},{"$f":"IF(#REF!=$E$1,IF(#REF!=$G$1,#REF!,NA()),NA())","v":{"$error":"#REF!"}},{"$f":"IF(#REF!=$E$1,IF(#REF!=$G$1,IF(#REF!=\"\",NA(),#REF!),NA()),NA())","v":{"$error":"#REF!"}},{"$f":"IF(#REF!=$E$1,IF(#REF!=$G$1,IF(#REF!=\"\",NA(),#REF!),NA()),NA())","v":{"$error":"#REF!"}},{"$error":"#REF!"},{"$error":"#REF!"}]
[null,null,null,{"$f":"IF(#REF!=$E$1,IF(#REF!=$G$1,#REF!,NA()),NA())","v":{"$error":"#REF!"}},{"$f":"IF(#REF!=$E$1,IF(#REF!=$G$1,#REF!,NA()),NA())","v":{"$error":"#REF!"}},{"$f":"IF(#REF!=$E$1,IF(#REF!=$G$1,IF(#REF!=\"\",NA(),#REF!),NA()),NA())","v":{"$error":"#REF!"}},{"$f":"IF(#REF!=$E$1,IF(#REF!=$G$1,IF(#REF!=\"\",NA(),#REF!),NA()),NA())","v":{"$error":"#REF!"}},{"$error":"#REF!"},{"$error":"#REF!"}]
[null,null,null,{"$f":"IF(#REF!=$E$1,IF(#REF!=$G$1,#REF!,NA()),NA())","v":{"$error":"#REF!"}},{"$f":"IF(#REF!=$E$1,IF(#REF!=$G$1,#REF!,NA()),NA())","v":{"$error":"#REF!"}},{"$f":"IF(#REF!=$E$1,IF(#REF!=$G$1,IF(#REF!=\"\",NA(),#REF!),NA()),NA())","v":{"$error":"#REF!"}},{"$f":"IF(#REF!=$E$1,IF(#REF!=$G$1,IF(#REF!=\"\",NA(),#REF!),NA()),NA())","v":{"$error":"#REF!"}},{"$error":"#REF!"},{"$error":"#REF!"}]
[null,null,null,{"$f":"IF(#REF!=$E$1,IF(#REF!=$G$1,#REF!,NA()),NA())","v":{"$error":"#REF!"}},{"$f":"IF(#REF!=$E$1,IF(#REF!=$G$1,#REF!,NA()),NA())","v":{"$error":"#REF!"}},{"$f":"IF(#REF!=$E$1,IF(#REF!=$G$1,IF(#REF!=\"\",NA(),#REF!),NA()),NA())","v":{"$error":"#REF!"}},{"$f":"IF(#REF!=$E$1,IF(#REF!=$G$1,IF(#REF!=\"\",NA(),#REF!),NA()),NA())","v":{"$error":"#REF!"}},{"$error":"#REF!"},{"$error":"#REF!"}]
[null,null,null,{"$f":"IF(#REF!=$E$1,IF(#REF!=$G$1,#REF!,NA()),NA())","v":{"$error":"#REF!"}},{"$f":"IF(#REF!=$E$1,IF(#REF!=$G$1,#REF!,NA()),NA())","v":{"$error":"#REF!"}},{"$f":"IF(#REF!=$E$1,IF(#REF!=$G$1,IF(#REF!=\"\",NA(),#REF!),NA()),NA())","v":{"$error":"#REF!"}},{"$f":"IF(#REF!=$E$1,IF(#REF!=$G$1,IF(#REF!=\"\",NA(),#REF!),NA()),NA())","v":{"$error":"#REF!"}},{"$error":"#REF!"},{"$error":"#REF!"}]
[null,null,null,{"$f":"IF(#REF!=$E$1,IF(#REF!=$G$1,#REF!,NA()),NA())","v":{"$error":"#REF!"}},{"$f":"IF(#REF!=$E$1,IF(#REF!=$G$1,#REF!,NA()),NA())","v":{"$error":"#REF!"}},{"$f":"IF(#REF!=$E$1,IF(#REF!=$G$1,IF(#REF!=\"\",NA(),#REF!),NA()),NA())","v":{"$error":"#REF!"}},{"$f":"IF(#REF!=$E$1,IF(#REF!=$G$1,IF(#REF!=\"\",NA(),#REF!),NA()),NA())","v":{"$error":"#REF!"}},{"$error":"#REF!"},{"$error":"#REF!"}]
[null,null,null,{"$f":"IF(#REF!=$E$1,IF(#REF!=$G$1,#REF!,NA()),NA())","v":{"$error":"#REF!"}},{"$f":"IF(#REF!=$E$1,IF(#REF!=$G$1,#REF!,NA()),NA())","v":{"$error":"#REF!"}},{"$f":"IF(#REF!=$E$1,IF(#REF!=$G$1,IF(#REF!=\"\",NA(),#REF!),NA()),NA())","v":{"$error":"#REF!"}},{"$f":"IF(#REF!=$E$1,IF(#REF!=$G$1,IF(#REF!=\"\",NA(),#REF!),NA()),NA())","v":{"$error":"#REF!"}},{"$error":"#REF!"},{"$error":"#REF!"}]
[null,null,null,{"$f":"IF(#REF!=$E$1,IF(#REF!=$G$1,#REF!,NA()),NA())","v":{"$error":"#REF!"}},{"$f":"IF(#REF!=$E$1,IF(#REF!=$G$1,#REF!,NA()),NA())","v":{"$error":"#REF!"}},{"$f":"IF(#REF!=$E$1,IF(#REF!=$G$1,IF(#REF!=\"\",NA(),#REF!),NA()),NA())","v":{"$error":"#REF!"}},{"$f":"IF(#REF!=$E$1,IF(#REF!=$G$1,IF(#REF!=\"\",NA(),#REF!),NA()),NA())","v":{"$error":"#REF!"}},{"$error":"#REF!"},{"$error":"#REF!"}]
[null,null,null,{"$f":"IF(#REF!=$E$1,IF(#REF!=$G$1,#REF!,NA()),NA())","v":{"$error":"#REF!"}},{"$f":"IF(#REF!=$E$1,IF(#REF!=$G$1,#REF!,NA()),NA())","v":{"$error":"#REF!"}},{"$f":"IF(#REF!=$E$1,IF(#REF!=$G$1,IF(#REF!=\"\",NA(),#REF!),NA()),NA())","v":{"$error":"#REF!"}},{"$f":"IF(#REF!=$E$1,IF(#REF!=$G$1,IF(#REF!=\"\",NA(),#REF!),NA()),NA())","v":{"$error":"#REF!"}},{"$error":"#REF!"},{"$error":"#REF!"}]
[null,null,null,{"$f":"IF(#REF!=$E$1,IF(#REF!=$G$1,#REF!,NA()),NA())","v":{"$error":"#REF!"}},{"$f":"IF(#REF!=$E$1,IF(#REF!=$G$1,#REF!,NA()),NA())","v":{"$error":"#REF!"}},{"$f":"IF(#REF!=$E$1,IF(#REF!=$G$1,IF(#REF!=\"\",NA(),#REF!),NA()),NA())","v":{"$error":"#REF!"}},{"$f":"IF(#REF!=$E$1,IF(#REF!=$G$1,IF(#REF!=\"\",NA(),#REF!),NA()),NA())","v":{"$error":"#REF!"}},{"$error":"#REF!"},{"$error":"#REF!"}]
[null,null,null,{"$f":"IF(#REF!=$E$1,IF(#REF!=$G$1,#REF!,NA()),NA())","v":{"$error":"#REF!"}},{"$f":"IF(#REF!=$E$1,IF(#REF!=$G$1,#REF!,NA()),NA())","v":{"$error":"#REF!"}},{"$f":"IF(#REF!=$E$1,IF(#REF!=$G$1,IF(#REF!=\"\",NA(),#REF!),NA()),NA())","v":{"$error":"#REF!"}},{"$f":"IF(#REF!=$E$1,IF(#REF!=$G$1,IF(#REF!=\"\",NA(),#REF!),NA()),NA())","v":{"$error":"#REF!"}},{"$error":"#REF!"},{"$error":"#REF!"}]
[null,null,null,{"$f":"IF(#REF!=$E$1,IF(#REF!=$G$1,#REF!,NA()),NA())","v":{"$error":"#REF!"}},{"$f":"IF(#REF!=$E$1,IF(#REF!=$G$1,#REF!,NA()),NA())","v":{"$error":"#REF!"}},{"$f":"IF(#REF!=$E$1,IF(#REF!=$G$1,IF(#REF!=\"\",NA(),#REF!),NA()),NA())","v":{"$error":"#REF!"}},{"$f":"IF(#REF!=$E$1,IF(#REF!=$G$1,IF(#REF!=\"\",NA(),#REF!),NA()),NA())","v":{"$error":"#REF!"}},{"$error":"#REF!"},{"$error":"#REF!"}]
[null,null,null,{"$f":"IF(#REF!=$E$1,IF(#REF!=$G$1,#REF!,NA()),NA())","v":{"$error":"#REF!"}},{"$f":"IF(#REF!=$E$1,IF(#REF!=$G$1,#REF!,NA()),NA())","v":{"$error":"#REF!"}},{"$f":"IF(#REF!=$E$1,IF(#REF!=$G$1,IF(#REF!=\"\",NA(),#REF!),NA()),NA())","v":{"$error":"#REF!"}},{"$f":"IF(#REF!=$E$1,IF(#REF!=$G$1,IF(#REF!=\"\",NA(),#REF!),NA()),NA())","v":{"$error":"#REF!"}},{"$error":"#REF!"},{"$error":"#REF!"}]
[null,null,null,{"$f":"IF(#REF!=$E$1,IF(#REF!=$G$1,#REF!,NA()),NA())","v":{"$error":"#REF!"}},{"$f":"IF(#REF!=$E$1,IF(#REF!=$G$1,#REF!,NA()),NA())","v":{"$error":"#REF!"}},{"$f":"IF(#REF!=$E$1,IF(#REF!=$G$1,IF(#REF!=\"\",NA(),#REF!),NA()),NA())","v":{"$error":"#REF!"}},{"$f":"IF(#REF!=$E$1,IF(#REF!=$G$1,IF(#REF!=\"\",NA(),#REF!),NA()),NA())","v":{"$error":"#REF!"}},{"$error":"#REF!"},{"$error":"#REF!"}]
[null,null,null,{"$f":"IF(#REF!=$E$1,IF(#REF!=$G$1,#REF!,NA()),NA())","v":{"$error":"#REF!"}},{"$f":"IF(#REF!=$E$1,IF(#REF!=$G$1,#REF!,NA()),NA())","v":{"$error":"#REF!"}},{"$f":"IF(#REF!=$E$1,IF(#REF!=$G$1,IF(#REF!=\"\",NA(),#REF!),NA()),NA())","v":{"$error":"#REF!"}},{"$f":"IF(#REF!=$E$1,IF(#REF!=$G$1,IF(#REF!=\"\",NA(),#REF!),NA()),NA())","v":{"$error":"#REF!"}},{"$error":"#REF!"},{"$error":"#REF!"}]
[null,null,null,{"$f":"IF(#REF!=$E$1,IF(#REF!=$G$1,#REF!,NA()),NA())","v":{"$error":"#REF!"}},{"$f":"IF(#REF!=$E$1,IF(#REF!=$G$1,#REF!,NA()),NA())","v":{"$error":"#REF!"}},{"$f":"IF(#REF!=$E$1,IF(#REF!=$G$1,IF(#REF!=\"\",NA(),#REF!),NA()),NA())","v":{"$error":"#REF!"}},{"$f":"IF(#REF!=$E$1,IF(#REF!=$G$1,IF(#REF!=\"\",NA(),#REF!),NA()),NA())","v":{"$error":"#REF!"}},{"$error":"#REF!"},{"$error":"#REF!"}]
[null,null,null,{"$f":"IF(#REF!=$E$1,IF(#REF!=$G$1,#REF!,NA()),NA())","v":{"$error":"#REF!"}},{"$f":"IF(#REF!=$E$1,IF(#REF!=$G$1,#REF!,NA()),NA())","v":{"$error":"#REF!"}},{"$f":"IF(#REF!=$E$1,IF(#REF!=$G$1,IF(#REF!=\"\",NA(),#REF!),NA()),NA())","v":{"$error":"#REF!"}},{"$f":"IF(#REF!=$E$1,IF(#REF!=$G$1,IF(#REF!=\"\",NA(),#REF!),NA()),NA())","v":{"$error":"#REF!"}},{"$error":"#REF!"},{"$error":"#REF!"}]
[null,null,null,{"$f":"IF(#REF!=$E$1,IF(#REF!=$G$1,#REF!,NA()),NA())","v":{"$error":"#REF!"}},{"$f":"IF(#REF!=$E$1,IF(#REF!=$G$1,#REF!,NA()),NA())","v":{"$error":"#REF!"}},{"$f":"IF(#REF!=$E$1,IF(#REF!=$G$1,IF(#REF!=\"\",NA(),#REF!),NA()),NA())","v":{"$error":"#REF!"}},{"$f":"IF(#REF!=$E$1,IF(#REF!=$G$1,IF(#REF!=\"\",NA(),#REF!),NA()),NA())","v":{"$error":"#REF!"}},{"$error":"#REF!"},{"$error":"#REF!"}]
[null,null,null,{"$f":"IF(#REF!=$E$1,IF(#REF!=$G$1,#REF!,NA()),NA())","v":{"$error":"#REF!"}},{"$f":"IF(#REF!=$E$1,IF(#REF!=$G$1,#REF!,NA()),NA())","v":{"$error":"#REF!"}},{"$f":"IF(#REF!=$E$1,IF(#REF!=$G$1,IF(#REF!=\"\",NA(),#REF!),NA()),NA())","v":{"$error":"#REF!"}},{"$f":"IF(#REF!=$E$1,IF(#REF!=$G$1,IF(#REF!=\"\",NA(),#REF!),NA()),NA())","v":{"$error":"#REF!"}},{"$error":"#REF!"},{"$error":"#REF!"}]
[null,null,null,{"$f":"IF(#REF!=$E$1,IF(#REF!=$G$1,#REF!,NA()),NA())","v":{"$error":"#REF!"}},{"$f":"IF(#REF!=$E$1,IF(#REF!=$G$1,#REF!,NA()),NA())","v":{"$error":"#REF!"}},{"$f":"IF(#REF!=$E$1,IF(#REF!=$G$1,IF(#REF!=\"\",NA(),#REF!),NA()),NA())","v":{"$error":"#REF!"}},{"$f":"IF(#REF!=$E$1,IF(#REF!=$G$1,IF(#REF!=\"\",NA(),#REF!),NA()),NA())","v":{"$error":"#REF!"}},{"$error":"#REF!"},{"$error":"#REF!"}]
[null,null,null,{"$f":"IF(#REF!=$E$1,IF(#REF!=$G$1,#REF!,NA()),NA())","v":{"$error":"#REF!"}},{"$f":"IF(#REF!=$E$1,IF(#REF!=$G$1,#REF!,NA()),NA())","v":{"$error":"#REF!"}},{"$f":"IF(#REF!=$E$1,IF(#REF!=$G$1,IF(#REF!=\"\",NA(),#REF!),NA()),NA())","v":{"$error":"#REF!"}},{"$f":"IF(#REF!=$E$1,IF(#REF!=$G$1,IF(#REF!=\"\",NA(),#REF!),NA()),NA())","v":{"$error":"#REF!"}},{"$error":"#REF!"},{"$error":"#REF!"}]
[null,null,null,{"$f":"IF(#REF!=$E$1,IF(#REF!=$G$1,#REF!,NA()),NA())","v":{"$error":"#REF!"}},{"$f":"IF(#REF!=$E$1,IF(#REF!=$G$1,#REF!,NA()),NA())","v":{"$error":"#REF!"}},{"$f":"IF(#REF!=$E$1,IF(#REF!=$G$1,IF(#REF!=\"\",NA(),#REF!),NA()),NA())","v":{"$error":"#REF!"}},{"$f":"IF(#REF!=$E$1,IF(#REF!=$G$1,IF(#REF!=\"\",NA(),#REF!),NA()),NA())","v":{"$error":"#REF!"}},{"$error":"#REF!"},{"$error":"#REF!"}]
[null,null,null,{"$f":"IF(#REF!=$E$1,IF(#REF!=$G$1,#REF!,NA()),NA())","v":{"$error":"#REF!"}},{"$f":"IF(#REF!=$E$1,IF(#REF!=$G$1,#REF!,NA()),NA())","v":{"$error":"#REF!"}},{"$f":"IF(#REF!=$E$1,IF(#REF!=$G$1,IF(#REF!=\"\",NA(),#REF!),NA()),NA())","v":{"$error":"#REF!"}},{"$f":"IF(#REF!=$E$1,IF(#REF!=$G$1,IF(#REF!=\"\",NA(),#REF!),NA()),NA())","v":{"$error":"#REF!"}},{"$error":"#REF!"},{"$error":"#REF!"}]
[null,null,null,{"$f":"IF(#REF!=$E$1,IF(#REF!=$G$1,#REF!,NA()),NA())","v":{"$error":"#REF!"}},{"$f":"IF(#REF!=$E$1,IF(#REF!=$G$1,#REF!,NA()),NA())","v":{"$error":"#REF!"}},{"$f":"IF(#REF!=$E$1,IF(#REF!=$G$1,IF(#REF!=\"\",NA(),#REF!),NA()),NA())","v":{"$error":"#REF!"}},{"$f":"IF(#REF!=$E$1,IF(#REF!=$G$1,IF(#REF!=\"\",NA(),#REF!),NA()),NA())","v":{"$error":"#REF!"}},{"$error":"#REF!"},{"$error":"#REF!"}]
[null,null,null,{"$f":"IF(#REF!=$E$1,IF(#REF!=$G$1,#REF!,NA()),NA())","v":{"$error":"#REF!"}},{"$f":"IF(#REF!=$E$1,IF(#REF!=$G$1,#REF!,NA()),NA())","v":{"$error":"#REF!"}},{"$f":"IF(#REF!=$E$1,IF(#REF!=$G$1,IF(#REF!=\"\",NA(),#REF!),NA()),NA())","v":{"$error":"#REF!"}},{"$f":"IF(#REF!=$E$1,IF(#REF!=$G$1,IF(#REF!=\"\",NA(),#REF!),NA()),NA())","v":{"$error":"#REF!"}},{"$error":"#REF!"},{"$error":"#REF!"}]
[null,null,null,{"$f":"IF(#REF!=$E$1,IF(#REF!=$G$1,#REF!,NA()),NA())","v":{"$error":"#REF!"}},{"$f":"IF(#REF!=$E$1,IF(#REF!=$G$1,#REF!,NA()),NA())","v":{"$error":"#REF!"}},{"$f":"IF(#REF!=$E$1,IF(#REF!=$G$1,IF(#REF!=\"\",NA(),#REF!),NA()),NA())","v":{"$error":"#REF!"}},{"$f":"IF(#REF!=$E$1,IF(#REF!=$G$1,IF(#REF!=\"\",NA(),#REF!),NA()),NA())","v":{"$error":"#REF!"}},{"$f":"IF(AND(ISNUMBER(G388),F388=\"-\"),0,F388)","v":{"$error":"#REF!"}},{"$f":"IF(AND(ISNUMBER(F388),G388=\"-\"),0,G388)","v":{"$error":"#REF!"}}]
[null,null,null,{"$f":"IF(#REF!=$E$1,IF(#REF!=$G$1,#REF!,NA()),NA())","v":{"$error":"#REF!"}},{"$f":"IF(#REF!=$E$1,IF(#REF!=$G$1,#REF!,NA()),NA())","v":{"$error":"#REF!"}},{"$f":"IF(#REF!=$E$1,IF(#REF!=$G$1,IF(#REF!=\"\",NA(),#REF!),NA()),NA())","v":{"$error":"#REF!"}},{"$f":"IF(#REF!=$E$1,IF(#REF!=$G$1,IF(#REF!=\"\",NA(),#REF!),NA()),NA())","v":{"$error":"#REF!"}},{"$error":"#REF!"},{"$error":"#REF!"}]
[null,null,null,{"$f":"IF(#REF!=$E$1,IF(#REF!=$G$1,#REF!,NA()),NA())","v":{"$error":"#REF!"}},{"$f":"IF(#REF!=$E$1,IF(#REF!=$G$1,#REF!,NA()),NA())","v":{"$error":"#REF!"}},{"$f":"IF(#REF!=$E$1,IF(#REF!=$G$1,IF(#REF!=\"\",NA(),#REF!),NA()),NA())","v":{"$error":"#REF!"}},{"$f":"IF(#REF!=$E$1,IF(#REF!=$G$1,IF(#REF!=\"\",NA(),#REF!),NA()),NA())","v":{"$error":"#REF!"}},{"$error":"#REF!"},{"$error":"#REF!"}]
[null,null,null,{"$f":"IF(#REF!=$E$1,IF(#REF!=$G$1,#REF!,NA()),NA())","v":{"$error":"#REF!"}},{"$f":"IF(#REF!=$E$1,IF(#REF!=$G$1,#REF!,NA()),NA())","v":{"$error":"#REF!"}},{"$f":"IF(#REF!=$E$1,IF(#REF!=$G$1,IF(#REF!=\"\",NA(),#REF!),NA()),NA())","v":{"$error":"#REF!"}},{"$f":"IF(#REF!=$E$1,IF(#REF!=$G$1,IF(#REF!=\"\",NA(),#REF!),NA()),NA())","v":{"$error":"#REF!"}},{"$error":"#REF!"},{"$error":"#REF!"}]
[null,null,null,{"$f":"IF(#REF!=$E$1,IF(#REF!=$G$1,#REF!,NA()),NA())","v":{"$error":"#REF!"}},{"$f":"IF(#REF!=$E$1,IF(#REF!=$G$1,#REF!,NA()),NA())","v":{"$error":"#REF!"}},{"$f":"IF(#REF!=$E$1,IF(#REF!=$G$1,IF(#REF!=\"\",NA(),#REF!),NA()),NA())","v":{"$error":"#REF!"}},{"$f":"IF(#REF!=$E$1,IF(#REF!=$G$1,IF(#REF!=\"\",NA(),#REF!),NA()),NA())","v":{"$error":"#REF!"}},{"$error":"#REF!"},{"$error":"#REF!"}]
[null,null,null,{"$f":"IF(#REF!=$E$1,IF(#REF!=$G$1,#REF!,NA()),NA())","v":{"$error":"#REF!"}},{"$f":"IF(#REF!=$E$1,IF(#REF!=$G$1,#REF!,NA()),NA())","v":{"$error":"#REF!"}},{"$f":"IF(#REF!=$E$1,IF(#REF!=$G$1,IF(#REF!=\"\",NA(),#REF!),NA()),NA())","v":{"$error":"#REF!"}},{"$f":"IF(#REF!=$E$1,IF(#REF!=$G$1,IF(#REF!=\"\",NA(),#REF!),NA()),NA())","v":{"$error":"#REF!"}},{"$error":"#REF!"},{"$error":"#REF!"}]
[null,null,null,{"$f":"IF(#REF!=$E$1,IF(#REF!=$G$1,#REF!,NA()),NA())","v":{"$error":"#REF!"}},{"$f":"IF(#REF!=$E$1,IF(#REF!=$G$1,#REF!,NA()),NA())","v":{"$error":"#REF!"}},{"$f":"IF(#REF!=$E$1,IF(#REF!=$G$1,IF(#REF!=\"\",NA(),#REF!),NA()),NA())","v":{"$error":"#REF!"}},{"$f":"IF(#REF!=$E$1,IF(#REF!=$G$1,IF(#REF!=\"\",NA(),#REF!),NA()),NA())","v":{"$error":"#REF!"}},{"$error":"#REF!"},{"$error":"#REF!"}]
[null,null,null,{"$f":"IF(#REF!=$E$1,IF(#REF!=$G$1,#REF!,NA()),NA())","v":{"$error":"#REF!"}},{"$f":"IF(#REF!=$E$1,IF(#REF!=$G$1,#REF!,NA()),NA())","v":{"$error":"#REF!"}},{"$f":"IF(#REF!=$E$1,IF(#REF!=$G$1,IF(#REF!=\"\",NA(),#REF!),NA()),NA())","v":{"$error":"#REF!"}},{"$f":"IF(#REF!=$E$1,IF(#REF!=$G$1,IF(#REF!=\"\",NA(),#REF!),NA()),NA())","v":{"$error":"#REF!"}},{"$error":"#REF!"},{"$error":"#REF!"}]
[null,null,null,{"$f":"IF(#REF!=$E$1,IF(#REF!=$G$1,#REF!,NA()),NA())","v":{"$error":"#REF!"}},{"$f":"IF(#REF!=$E$1,IF(#REF!=$G$1,#REF!,NA()),NA())","v":{"$error":"#REF!"}},{"$f":"IF(#REF!=$E$1,IF(#REF!=$G$1,IF(#REF!=\"\",NA(),#REF!),NA()),NA())","v":{"$error":"#REF!"}},{"$f":"IF(#REF!=$E$1,IF(#REF!=$G$1,IF(#REF!=\"\",NA(),#REF!),NA()),NA())","v":{"$error":"#REF!"}},{"$error":"#REF!"},{"$error":"#REF!"}]
[null,null,null,{"$f":"IF(#REF!=$E$1,IF(#REF!=$G$1,#REF!,NA()),NA())","v":{"$error":"#REF!"}},{"$f":"IF(#REF!=$E$1,IF(#REF!=$G$1,#REF!,NA()),NA())","v":{"$error":"#REF!"}},{"$f":"IF(#REF!=$E$1,IF(#REF!=$G$1,IF(#REF!=\"\",NA(),#REF!),NA()),NA())","v":{"$error":"#REF!"}},{"$f":"IF(#REF!=$E$1,IF(#REF!=$G$1,IF(#REF!=\"\",NA(),#REF!),NA()),NA())","v":{"$error":"#REF!"}},{"$error":"#REF!"},{"$error":"#REF!"}]
[null,null,null,{"$f":"IF(#REF!=$E$1,IF(#REF!=$G$1,#REF!,NA()),NA())","v":{"$error":"#REF!"}},{"$f":"IF(#REF!=$E$1,IF(#REF!=$G$1,#REF!,NA()),NA())","v":{"$error":"#REF!"}},{"$f":"IF(#REF!=$E$1,IF(#REF!=$G$1,IF(#REF!=\"\",NA(),#REF!),NA()),NA())","v":{"$error":"#REF!"}},{"$f":"IF(#REF!=$E$1,IF(#REF!=$G$1,IF(#REF!=\"\",NA(),#REF!),NA()),NA())","v":{"$error":"#REF!"}},{"$error":"#REF!"},{"$error":"#REF!"}]
[null,null,null,{"$f":"IF(#REF!=$E$1,IF(#REF!=$G$1,#REF!,NA()),NA())","v":{"$error":"#REF!"}},{"$f":"IF(#REF!=$E$1,IF(#REF!=$G$1,#REF!,NA()),NA())","v":{"$error":"#REF!"}},{"$f":"IF(#REF!=$E$1,IF(#REF!=$G$1,IF(#REF!=\"\",NA(),#REF!),NA()),NA())","v":{"$error":"#REF!"}},{"$f":"IF(#REF!=$E$1,IF(#REF!=$G$1,IF(#REF!=\"\",NA(),#REF!),NA()),NA())","v":{"$error":"#REF!"}},{"$error":"#REF!"},{"$error":"#REF!"}]
[null,null,null,{"$f":"IF(#REF!=$E$1,IF(#REF!=$G$1,#REF!,NA()),NA())","v":{"$error":"#REF!"}},{"$f":"IF(#REF!=$E$1,IF(#REF!=$G$1,#REF!,NA()),NA())","v":{"$error":"#REF!"}},{"$f":"IF(#REF!=$E$1,IF(#REF!=$G$1,IF(#REF!=\"\",NA(),#REF!),NA()),NA())","v":{"$error":"#REF!"}},{"$f":"IF(#REF!=$E$1,IF(#REF!=$G$1,IF(#REF!=\"\",NA(),#REF!),NA()),NA())","v":{"$error":"#REF!"}},{"$error":"#REF!"},{"$error":"#REF!"}]
[null,null,null,{"$f":"IF(#REF!=$E$1,IF(#REF!=$G$1,#REF!,NA()),NA())","v":{"$error":"#REF!"}},{"$f":"IF(#REF!=$E$1,IF(#REF!=$G$1,#REF!,NA()),NA())","v":{"$error":"#REF!"}},{"$f":"IF(#REF!=$E$1,IF(#REF!=$G$1,IF(#REF!=\"\",NA(),#REF!),NA()),NA())","v":{"$error":"#REF!"}},{"$f":"IF(#REF!=$E$1,IF(#REF!=$G$1,IF(#REF!=\"\",NA(),#REF!),NA()),NA())","v":{"$error":"#REF!"}},{"$error":"#REF!"},{"$error":"#REF!"}]
[null,null,null,{"$f":"IF(#REF!=$E$1,IF(#REF!=$G$1,#REF!,NA()),NA())","v":{"$error":"#REF!"}},{"$f":"IF(#REF!=$E$1,IF(#REF!=$G$1,#REF!,NA()),NA())","v":{"$error":"#REF!"}},{"$f":"IF(#REF!=$E$1,IF(#REF!=$G$1,IF(#REF!=\"\",NA(),#REF!),NA()),NA())","v":{"$error":"#REF!"}},{"$f":"IF(#REF!=$E$1,IF(#REF!=$G$1,IF(#REF!=\"\",NA(),#REF!),NA()),NA())","v":{"$error":"#REF!"}},{"$error":"#REF!"},{"$error":"#REF!"}]
[null,null,null,{"$f":"IF(#REF!=$E$1,IF(#REF!=$G$1,#REF!,NA()),NA())","v":{"$error":"#REF!"}},{"$f":"IF(#REF!=$E$1,IF(#REF!=$G$1,#REF!,NA()),NA())","v":{"$error":"#REF!"}},{"$f":"IF(#REF!=$E$1,IF(#REF!=$G$1,IF(#REF!=\"\",NA(),#REF!),NA()),NA())","v":{"$error":"#REF!"}},{"$f":"IF(#REF!=$E$1,IF(#REF!=$G$1,IF(#REF!=\"\",NA(),#REF!),NA()),NA())","v":{"$error":"#REF!"}},{"$error":"#REF!"},{"$error":"#REF!"}]
[null,null,null,{"$f":"IF(#REF!=$E$1,IF(#REF!=$G$1,#REF!,NA()),NA())","v":{"$error":"#REF!"}},{"$f":"IF(#REF!=$E$1,IF(#REF!=$G$1,#REF!,NA()),NA())","v":{"$error":"#REF!"}},{"$f":"IF(#REF!=$E$1,IF(#REF!=$G$1,IF(#REF!=\"\",NA(),#REF!),NA()),NA())","v":{"$error":"#REF!"}},{"$f":"IF(#REF!=$E$1,IF(#REF!=$G$1,IF(#REF!=\"\",NA(),#REF!),NA()),NA())","v":{"$error":"#REF!"}},{"$error":"#REF!"},{"$error":"#REF!"}]
[null,null,null,{"$f":"IF(#REF!=$E$1,IF(#REF!=$G$1,#REF!,NA()),NA())","v":{"$error":"#REF!"}},{"$f":"IF(#REF!=$E$1,IF(#REF!=$G$1,#REF!,NA()),NA())","v":{"$error":"#REF!"}},{"$f":"IF(#REF!=$E$1,IF(#REF!=$G$1,IF(#REF!=\"\",NA(),#REF!),NA()),NA())","v":{"$error":"#REF!"}},{"$f":"IF(#REF!=$E$1,IF(#REF!=$G$1,IF(#REF!=\"\",NA(),#REF!),NA()),NA())","v":{"$error":"#REF!"}},{"$error":"#REF!"},{"$error":"#REF!"}]
[null,null,null,{"$f":"IF(#REF!=$E$1,IF(#REF!=$G$1,#REF!,NA()),NA())","v":{"$error":"#REF!"}},{"$f":"IF(#REF!=$E$1,IF(#REF!=$G$1,#REF!,NA()),NA())","v":{"$error":"#REF!"}},{"$f":"IF(#REF!=$E$1,IF(#REF!=$G$1,IF(#REF!=\"\",NA(),#REF!),NA()),NA())","v":{"$error":"#REF!"}},{"$f":"IF(#REF!=$E$1,IF(#REF!=$G$1,IF(#REF!=\"\",NA(),#REF!),NA()),NA())","v":{"$error":"#REF!"}},{"$error":"#REF!"},{"$error":"#REF!"}]
[null,null,null,{"$f":"IF(#REF!=$E$1,IF(#REF!=$G$1,#REF!,NA()),NA())","v":{"$error":"#REF!"}},{"$f":"IF(#REF!=$E$1,IF(#REF!=$G$1,#REF!,NA()),NA())","v":{"$error":"#REF!"}},{"$f":"IF(#REF!=$E$1,IF(#REF!=$G$1,IF(#REF!=\"\",NA(),#REF!),NA()),NA())","v":{"$error":"#REF!"}},{"$f":"IF(#REF!=$E$1,IF(#REF!=$G$1,IF(#REF!=\"\",NA(),#REF!),NA()),NA())","v":{"$error":"#REF!"}},{"$error":"#REF!"},{"$error":"#REF!"}]
[null,null,null,{"$f":"IF(#REF!=$E$1,IF(#REF!=$G$1,#REF!,NA()),NA())","v":{"$error":"#REF!"}},{"$f":"IF(#REF!=$E$1,IF(#REF!=$G$1,#REF!,NA()),NA())","v":{"$error":"#REF!"}},{"$f":"IF(#REF!=$E$1,IF(#REF!=$G$1,IF(#REF!=\"\",NA(),#REF!),NA()),NA())","v":{"$error":"#REF!"}},{"$f":"IF(#REF!=$E$1,IF(#REF!=$G$1,IF(#REF!=\"\",NA(),#REF!),NA()),NA())","v":{"$error":"#REF!"}},{"$error":"#REF!"},{"$error":"#REF!"}]
[null,null,null,{"$f":"IF(#REF!=$E$1,IF(#REF!=$G$1,#REF!,NA()),NA())","v":{"$error":"#REF!"}},{"$f":"IF(#REF!=$E$1,IF(#REF!=$G$1,#REF!,NA()),NA())","v":{"$error":"#REF!"}},{"$f":"IF(#REF!=$E$1,IF(#REF!=$G$1,IF(#REF!=\"\",NA(),#REF!),NA()),NA())","v":{"$error":"#REF!"}},{"$f":"IF(#REF!=$E$1,IF(#REF!=$G$1,IF(#REF!=\"\",NA(),#REF!),NA()),NA())","v":{"$error":"#REF!"}},{"$error":"#REF!"},{"$error":"#REF!"}]
[null,null,null,{"$f":"IF(#REF!=$E$1,IF(#REF!=$G$1,#REF!,NA()),NA())","v":{"$error":"#REF!"}},{"$f":"IF(#REF!=$E$1,IF(#REF!=$G$1,#REF!,NA()),NA())","v":{"$error":"#REF!"}},{"$f":"IF(#REF!=$E$1,IF(#REF!=$G$1,IF(#REF!=\"\",NA(),#REF!),NA()),NA())","v":{"$error":"#REF!"}},{"$f":"IF(#REF!=$E$1,IF(#REF!=$G$1,IF(#REF!=\"\",NA(),#REF!),NA()),NA())","v":{"$error":"#REF!"}},{"$error":"#REF!"},{"$error":"#REF!"}]
[null,null,null,{"$f":"IF(#REF!=$E$1,IF(#REF!=$G$1,#REF!,NA()),NA())","v":{"$error":"#REF!"}},{"$f":"IF(#REF!=$E$1,IF(#REF!=$G$1,#REF!,NA()),NA())","v":{"$error":"#REF!"}},{"$f":"IF(#REF!=$E$1,IF(#REF!=$G$1,IF(#REF!=\"\",NA(),#REF!),NA()),NA())","v":{"$error":"#REF!"}},{"$f":"IF(#REF!=$E$1,IF(#REF!=$G$1,IF(#REF!=\"\",NA(),#REF!),NA()),NA())","v":{"$error":"#REF!"}},{"$error":"#REF!"},{"$error":"#REF!"}]
[null,null,null,{"$f":"IF(#REF!=$E$1,IF(#REF!=$G$1,#REF!,NA()),NA())","v":{"$error":"#REF!"}},{"$f":"IF(#REF!=$E$1,IF(#REF!=$G$1,#REF!,NA()),NA())","v":{"$error":"#REF!"}},{"$f":"IF(#REF!=$E$1,IF(#REF!=$G$1,IF(#REF!=\"\",NA(),#REF!),NA()),NA())","v":{"$error":"#REF!"}},{"$f":"IF(#REF!=$E$1,IF(#REF!=$G$1,IF(#REF!=\"\",NA(),#REF!),NA()),NA())","v":{"$error":"#REF!"}},{"$error":"#REF!"},{"$error":"#REF!"}]
[null,null,null,{"$f":"IF(#REF!=$E$1,IF(#REF!=$G$1,#REF!,NA()),NA())","v":{"$error":"#REF!"}},{"$f":"IF(#REF!=$E$1,IF(#REF!=$G$1,#REF!,NA()),NA())","v":{"$error":"#REF!"}},{"$f":"IF(#REF!=$E$1,IF(#REF!=$G$1,IF(#REF!=\"\",NA(),#REF!),NA()),NA())","v":{"$error":"#REF!"}},{"$f":"IF(#REF!=$E$1,IF(#REF!=$G$1,IF(#REF!=\"\",NA(),#REF!),NA()),NA())","v":{"$error":"#REF!"}},{"$error":"#REF!"},{"$error":"#REF!"}]
[null,null,null,{"$f":"IF(#REF!=$E$1,IF(#REF!=$G$1,#REF!,NA()),NA())","v":{"$error":"#REF!"}},{"$f":"IF(#REF!=$E$1,IF(#REF!=$G$1,#REF!,NA()),NA())","v":{"$error":"#REF!"}},{"$f":"IF(#REF!=$E$1,IF(#REF!=$G$1,IF(#REF!=\"\",NA(),#REF!),NA()),NA())","v":{"$error":"#REF!"}},{"$f":"IF(#REF!=$E$1,IF(#REF!=$G$1,IF(#REF!=\"\",NA(),#REF!),NA()),NA())","v":{"$error":"#REF!"}},{"$error":"#REF!"},{"$error":"#REF!"}]
[null,null,null,{"$f":"IF(#REF!=$E$1,IF(#REF!=$G$1,#REF!,NA()),NA())","v":{"$error":"#REF!"}},{"$f":"IF(#REF!=$E$1,IF(#REF!=$G$1,#REF!,NA()),NA())","v":{"$error":"#REF!"}},{"$f":"IF(#REF!=$E$1,IF(#REF!=$G$1,IF(#REF!=\"\",NA(),#REF!),NA()),NA())","v":{"$error":"#REF!"}},{"$f":"IF(#REF!=$E$1,IF(#REF!=$G$1,IF(#REF!=\"\",NA(),#REF!),NA()),NA())","v":{"$error":"#REF!"}},{"$error":"#REF!"},{"$error":"#REF!"}]
[null,null,null,{"$f":"IF(#REF!=$E$1,IF(#REF!=$G$1,#REF!,NA()),NA())","v":{"$error":"#REF!"}},{"$f":"IF(#REF!=$E$1,IF(#REF!=$G$1,#REF!,NA()),NA())","v":{"$error":"#REF!"}},{"$f":"IF(#REF!=$E$1,IF(#REF!=$G$1,IF(#REF!=\"\",NA(),#REF!),NA()),NA())","v":{"$error":"#REF!"}},{"$f":"IF(#REF!=$E$1,IF(#REF!=$G$1,IF(#REF!=\"\",NA(),#REF!),NA()),NA())","v":{"$error":"#REF!"}},{"$error":"#REF!"},{"$error":"#REF!"}]
[null,null,null,{"$f":"IF(#REF!=$E$1,IF(#REF!=$G$1,#REF!,NA()),NA())","v":{"$error":"#REF!"}},{"$f":"IF(#REF!=$E$1,IF(#REF!=$G$1,#REF!,NA()),NA())","v":{"$error":"#REF!"}},{"$f":"IF(#REF!=$E$1,IF(#REF!=$G$1,IF(#REF!=\"\",NA(),#REF!),NA()),NA())","v":{"$error":"#REF!"}},{"$f":"IF(#REF!=$E$1,IF(#REF!=$G$1,IF(#REF!=\"\",NA(),#REF!),NA()),NA())","v":{"$error":"#REF!"}},{"$error":"#REF!"},{"$error":"#REF!"}]
[null,null,null,{"$f":"IF(#REF!=$E$1,IF(#REF!=$G$1,#REF!,NA()),NA())","v":{"$error":"#REF!"}},{"$f":"IF(#REF!=$E$1,IF(#REF!=$G$1,#REF!,NA()),NA())","v":{"$error":"#REF!"}},{"$f":"IF(#REF!=$E$1,IF(#REF!=$G$1,IF(#REF!=\"\",NA(),#REF!),NA()),NA())","v":{"$error":"#REF!"}},{"$f":"IF(#REF!=$E$1,IF(#REF!=$G$1,IF(#REF!=\"\",NA(),#REF!),NA()),NA())","v":{"$error":"#REF!"}},{"$error":"#REF!"},{"$error":"#REF!"}]
[null,null,null,{"$f":"IF(#REF!=$E$1,IF(#REF!=$G$1,#REF!,NA()),NA())","v":{"$error":"#REF!"}},{"$f":"IF(#REF!=$E$1,IF(#REF!=$G$1,#REF!,NA()),NA())","v":{"$error":"#REF!"}},{"$f":"IF(#REF!=$E$1,IF(#REF!=$G$1,IF(#REF!=\"\",NA(),#REF!),NA()),NA())","v":{"$error":"#REF!"}},{"$f":"IF(#REF!=$E$1,IF(#REF!=$G$1,IF(#REF!=\"\",NA(),#REF!),NA()),NA())","v":{"$error":"#REF!"}},{"$error":"#REF!"},{"$error":"#REF!"}]
[null,null,null,{"$f":"IF(#REF!=$E$1,IF(#REF!=$G$1,#REF!,NA()),NA())","v":{"$error":"#REF!"}},{"$f":"IF(#REF!=$E$1,IF(#REF!=$G$1,#REF!,NA()),NA())","v":{"$error":"#REF!"}},{"$f":"IF(#REF!=$E$1,IF(#REF!=$G$1,IF(#REF!=\"\",NA(),#REF!),NA()),NA())","v":{"$error":"#REF!"}},{"$f":"IF(#REF!=$E$1,IF(#REF!=$G$1,IF(#REF!=\"\",NA(),#REF!),NA()),NA())","v":{"$error":"#REF!"}},{"$error":"#REF!"},{"$error":"#REF!"}]
[null,null,null,{"$f":"IF(#REF!=$E$1,IF(#REF!=$G$1,#REF!,NA()),NA())","v":{"$error":"#REF!"}},{"$f":"IF(#REF!=$E$1,IF(#REF!=$G$1,#REF!,NA()),NA())","v":{"$error":"#REF!"}},{"$f":"IF(#REF!=$E$1,IF(#REF!=$G$1,IF(#REF!=\"\",NA(),#REF!),NA()),NA())","v":{"$error":"#REF!"}},{"$f":"IF(#REF!=$E$1,IF(#REF!=$G$1,IF(#REF!=\"\",NA(),#REF!),NA()),NA())","v":{"$error":"#REF!"}},{"$error":"#REF!"},{"$error":"#REF!"}]
[null,null,null,{"$f":"IF(#REF!=$E$1,IF(#REF!=$G$1,#REF!,NA()),NA())","v":{"$error":"#REF!"}},{"$f":"IF(#REF!=$E$1,IF(#REF!=$G$1,#REF!,NA()),NA())","v":{"$error":"#REF!"}},{"$f":"IF(#REF!=$E$1,IF(#REF!=$G$1,IF(#REF!=\"\",NA(),#REF!),NA()),NA())","v":{"$error":"#REF!"}},{"$f":"IF(#REF!=$E$1,IF(#REF!=$G$1,IF(#REF!=\"\",NA(),#REF!),NA()),NA())","v":{"$error":"#REF!"}},{"$error":"#REF!"},{"$error":"#REF!"}]
[null,null,null,{"$f":"IF(#REF!=$E$1,IF(#REF!=$G$1,#REF!,NA()),NA())","v":{"$error":"#REF!"}},{"$f":"IF(#REF!=$E$1,IF(#REF!=$G$1,#REF!,NA()),NA())","v":{"$error":"#REF!"}},{"$f":"IF(#REF!=$E$1,IF(#REF!=$G$1,IF(#REF!=\"\",NA(),#REF!),NA()),NA())","v":{"$error":"#REF!"}},{"$f":"IF(#REF!=$E$1,IF(#REF!=$G$1,IF(#REF!=\"\",NA(),#REF!),NA()),NA())","v":{"$error":"#REF!"}},{"$error":"#REF!"},{"$error":"#REF!"}]
[null,null,null,{"$f":"IF(#REF!=$E$1,IF(#REF!=$G$1,#REF!,NA()),NA())","v":{"$error":"#REF!"}},{"$f":"IF(#REF!=$E$1,IF(#REF!=$G$1,#REF!,NA()),NA())","v":{"$error":"#REF!"}},{"$f":"IF(#REF!=$E$1,IF(#REF!=$G$1,IF(#REF!=\"\",NA(),#REF!),NA()),NA())","v":{"$error":"#REF!"}},{"$f":"IF(#REF!=$E$1,IF(#REF!=$G$1,IF(#REF!=\"\",NA(),#REF!),NA()),NA())","v":{"$error":"#REF!"}},{"$error":"#REF!"},{"$error":"#REF!"}]
[null,null,null,{"$f":"IF(#REF!=$E$1,IF(#REF!=$G$1,#REF!,NA()),NA())","v":{"$error":"#REF!"}},{"$f":"IF(#REF!=$E$1,IF(#REF!=$G$1,#REF!,NA()),NA())","v":{"$error":"#REF!"}},{"$f":"IF(#REF!=$E$1,IF(#REF!=$G$1,IF(#REF!=\"\",NA(),#REF!),NA()),NA())","v":{"$error":"#REF!"}},{"$f":"IF(#REF!=$E$1,IF(#REF!=$G$1,IF(#REF!=\"\",NA(),#REF!),NA()),NA())","v":{"$error":"#REF!"}},{"$error":"#REF!"},{"$error":"#REF!"}]
[null,null,null,{"$f":"IF(#REF!=$E$1,IF(#REF!=$G$1,#REF!,NA()),NA())","v":{"$error":"#REF!"}},{"$f":"IF(#REF!=$E$1,IF(#REF!=$G$1,#REF!,NA()),NA())","v":{"$error":"#REF!"}},{"$f":"IF(#REF!=$E$1,IF(#REF!=$G$1,IF(#REF!=\"\",NA(),#REF!),NA()),NA())","v":{"$error":"#REF!"}},{"$f":"IF(#REF!=$E$1,IF(#REF!=$G$1,IF(#REF!=\"\",NA(),#REF!),NA()),NA())","v":{"$error":"#REF!"}},{"$error":"#REF!"},{"$error":"#REF!"}]
[null,null,null,{"$f":"IF(#REF!=$E$1,IF(#REF!=$G$1,#REF!,NA()),NA())","v":{"$error":"#REF!"}},{"$f":"IF(#REF!=$E$1,IF(#REF!=$G$1,#REF!,NA()),NA())","v":{"$error":"#REF!"}},{"$f":"IF(#REF!=$E$1,IF(#REF!=$G$1,IF(#REF!=\"\",NA(),#REF!),NA()),NA())","v":{"$error":"#REF!"}},{"$f":"IF(#REF!=$E$1,IF(#REF!=$G$1,IF(#REF!=\"\",NA(),#REF!),NA()),NA())","v":{"$error":"#REF!"}},{"$error":"#REF!"},{"$error":"#REF!"}]
[null,null,null,{"$f":"IF(#REF!=$E$1,IF(#REF!=$G$1,#REF!,NA()),NA())","v":{"$error":"#REF!"}},{"$f":"IF(#REF!=$E$1,IF(#REF!=$G$1,#REF!,NA()),NA())","v":{"$error":"#REF!"}},{"$f":"IF(#REF!=$E$1,IF(#REF!=$G$1,IF(#REF!=\"\",NA(),#REF!),NA()),NA())","v":{"$error":"#REF!"}},{"$f":"IF(#REF!=$E$1,IF(#REF!=$G$1,IF(#REF!=\"\",NA(),#REF!),NA()),NA())","v":{"$error":"#REF!"}},{"$error":"#REF!"},{"$error":"#REF!"}]
[null,null,null,{"$f":"IF(#REF!=$E$1,IF(#REF!=$G$1,#REF!,NA()),NA())","v":{"$error":"#REF!"}},{"$f":"IF(#REF!=$E$1,IF(#REF!=$G$1,#REF!,NA()),NA())","v":{"$error":"#REF!"}},{"$f":"IF(#REF!=$E$1,IF(#REF!=$G$1,IF(#REF!=\"\",NA(),#REF!),NA()),NA())","v":{"$error":"#REF!"}},{"$f":"IF(#REF!=$E$1,IF(#REF!=$G$1,IF(#REF!=\"\",NA(),#REF!),NA()),NA())","v":{"$error":"#REF!"}},{"$error":"#REF!"},{"$error":"#REF!"}]
[null,null,null,{"$f":"IF(#REF!=$E$1,IF(#REF!=$G$1,#REF!,NA()),NA())","v":{"$error":"#REF!"}},{"$f":"IF(#REF!=$E$1,IF(#REF!=$G$1,#REF!,NA()),NA())","v":{"$error":"#REF!"}},{"$f":"IF(#REF!=$E$1,IF(#REF!=$G$1,IF(#REF!=\"\",NA(),#REF!),NA()),NA())","v":{"$error":"#REF!"}},{"$f":"IF(#REF!=$E$1,IF(#REF!=$G$1,IF(#REF!=\"\",NA(),#REF!),NA()),NA())","v":{"$error":"#REF!"}},{"$error":"#REF!"},{"$error":"#REF!"}]
[null,null,null,{"$f":"IF(#REF!=$E$1,IF(#REF!=$G$1,#REF!,NA()),NA())","v":{"$error":"#REF!"}},{"$f":"IF(#REF!=$E$1,IF(#REF!=$G$1,#REF!,NA()),NA())","v":{"$error":"#REF!"}},{"$f":"IF(#REF!=$E$1,IF(#REF!=$G$1,IF(#REF!=\"\",NA(),#REF!),NA()),NA())","v":{"$error":"#REF!"}},{"$f":"IF(#REF!=$E$1,IF(#REF!=$G$1,IF(#REF!=\"\",NA(),#REF!),NA()),NA())","v":{"$error":"#REF!"}},{"$error":"#REF!"},{"$error":"#REF!"}]
[null,null,null,{"$f":"IF(#REF!=$E$1,IF(#REF!=$G$1,#REF!,NA()),NA())","v":{"$error":"#REF!"}},{"$f":"IF(#REF!=$E$1,IF(#REF!=$G$1,#REF!,NA()),NA())","v":{"$error":"#REF!"}},{"$f":"IF(#REF!=$E$1,IF(#REF!=$G$1,IF(#REF!=\"\",NA(),#REF!),NA()),NA())","v":{"$error":"#REF!"}},{"$f":"IF(#REF!=$E$1,IF(#REF!=$G$1,IF(#REF!=\"\",NA(),#REF!),NA()),NA())","v":{"$error":"#REF!"}},{"$error":"#REF!"},{"$error":"#REF!"}]
[null,null,null,{"$f":"IF(#REF!=$E$1,IF(#REF!=$G$1,#REF!,NA()),NA())","v":{"$error":"#REF!"}},{"$f":"IF(#REF!=$E$1,IF(#REF!=$G$1,#REF!,NA()),NA())","v":{"$error":"#REF!"}},{"$f":"IF(#REF!=$E$1,IF(#REF!=$G$1,IF(#REF!=\"\",NA(),#REF!),NA()),NA())","v":{"$error":"#REF!"}},{"$f":"IF(#REF!=$E$1,IF(#REF!=$G$1,IF(#REF!=\"\",NA(),#REF!),NA()),NA())","v":{"$error":"#REF!"}},{"$error":"#REF!"},{"$error":"#REF!"}]
[null,null,null,{"$f":"IF(#REF!=$E$1,IF(#REF!=$G$1,#REF!,NA()),NA())","v":{"$error":"#REF!"}},{"$f":"IF(#REF!=$E$1,IF(#REF!=$G$1,#REF!,NA()),NA())","v":{"$error":"#REF!"}},{"$f":"IF(#REF!=$E$1,IF(#REF!=$G$1,IF(#REF!=\"\",NA(),#REF!),NA()),NA())","v":{"$error":"#REF!"}},{"$f":"IF(#REF!=$E$1,IF(#REF!=$G$1,IF(#REF!=\"\",NA(),#REF!),NA()),NA())","v":{"$error":"#REF!"}},{"$error":"#REF!"},{"$error":"#REF!"}]
[null,null,null,{"$f":"IF(#REF!=$E$1,IF(#REF!=$G$1,#REF!,NA()),NA())","v":{"$error":"#REF!"}},{"$f":"IF(#REF!=$E$1,IF(#REF!=$G$1,#REF!,NA()),NA())","v":{"$error":"#REF!"}},{"$f":"IF(#REF!=$E$1,IF(#REF!=$G$1,IF(#REF!=\"\",NA(),#REF!),NA()),NA())","v":{"$error":"#REF!"}},{"$f":"IF(#REF!=$E$1,IF(#REF!=$G$1,IF(#REF!=\"\",NA(),#REF!),NA()),NA())","v":{"$error":"#REF!"}},{"$error":"#REF!"},{"$error":"#REF!"}]
[null,null,null,{"$f":"IF(#REF!=$E$1,IF(#REF!=$G$1,#REF!,NA()),NA())","v":{"$error":"#REF!"}},{"$f":"IF(#REF!=$E$1,IF(#REF!=$G$1,#REF!,NA()),NA())","v":{"$error":"#REF!"}},{"$f":"IF(#REF!=$E$1,IF(#REF!=$G$1,IF(#REF!=\"\",NA(),#REF!),NA()),NA())","v":{"$error":"#REF!"}},{"$f":"IF(#REF!=$E$1,IF(#REF!=$G$1,IF(#REF!=\"\",NA(),#REF!),NA()),NA())","v":{"$error":"#REF!"}},{"$error":"#REF!"},{"$error":"#REF!"}]
[null,null,null,{"$f":"IF(#REF!=$E$1,IF(#REF!=$G$1,#REF!,NA()),NA())","v":{"$error":"#REF!"}},{"$f":"IF(#REF!=$E$1,IF(#REF!=$G$1,#REF!,NA()),NA())","v":{"$error":"#REF!"}},{"$f":"IF(#REF!=$E$1,IF(#REF!=$G$1,IF(#REF!=\"\",NA(),#REF!),NA()),NA())","v":{"$error":"#REF!"}},{"$f":"IF(#REF!=$E$1,IF(#REF!=$G$1,IF(#REF!=\"\",NA(),#REF!),NA()),NA())","v":{"$error":"#REF!"}},{"$error":"#REF!"},{"$error":"#REF!"}]
[null,null,null,{"$f":"IF(#REF!=$E$1,IF(#REF!=$G$1,#REF!,NA()),NA())","v":{"$error":"#REF!"}},{"$f":"IF(#REF!=$E$1,IF(#REF!=$G$1,#REF!,NA()),NA())","v":{"$error":"#REF!"}},{"$f":"IF(#REF!=$E$1,IF(#REF!=$G$1,IF(#REF!=\"\",NA(),#REF!),NA()),NA())","v":{"$error":"#REF!"}},{"$f":"IF(#REF!=$E$1,IF(#REF!=$G$1,IF(#REF!=\"\",NA(),#REF!),NA()),NA())","v":{"$error":"#REF!"}},{"$error":"#REF!"},{"$error":"#REF!"}]
[null,null,null,{"$f":"IF(#REF!=$E$1,IF(#REF!=$G$1,#REF!,NA()),NA())","v":{"$error":"#REF!"}},{"$f":"IF(#REF!=$E$1,IF(#REF!=$G$1,#REF!,NA()),NA())","v":{"$error":"#REF!"}},{"$f":"IF(#REF!=$E$1,IF(#REF!=$G$1,IF(#REF!=\"\",NA(),#REF!),NA()),NA())","v":{"$error":"#REF!"}},{"$f":"IF(#REF!=$E$1,IF(#REF!=$G$1,IF(#REF!=\"\",NA(),#REF!),NA()),NA())","v":{"$error":"#REF!"}},{"$error":"#REF!"},{"$error":"#REF!"}]
[null,null,null,{"$f":"IF(#REF!=$E$1,IF(#REF!=$G$1,#REF!,NA()),NA())","v":{"$error":"#REF!"}},{"$f":"IF(#REF!=$E$1,IF(#REF!=$G$1,#REF!,NA()),NA())","v":{"$error":"#REF!"}},{"$f":"IF(#REF!=$E$1,IF(#REF!=$G$1,IF(#REF!=\"\",NA(),#REF!),NA()),NA())","v":{"$error":"#REF!"}},{"$f":"IF(#REF!=$E$1,IF(#REF!=$G$1,IF(#REF!=\"\",NA(),#REF!),NA()),NA())","v":{"$error":"#REF!"}},{"$error":"#REF!"},{"$error":"#REF!"}]
[null,null,null,{"$f":"IF(#REF!=$E$1,IF(#REF!=$G$1,#REF!,NA()),NA())","v":{"$error":"#REF!"}},{"$f":"IF(#REF!=$E$1,IF(#REF!=$G$1,#REF!,NA()),NA())","v":{"$error":"#REF!"}},{"$f":"IF(#REF!=$E$1,IF(#REF!=$G$1,IF(#REF!=\"\",NA(),#REF!),NA()),NA())","v":{"$error":"#REF!"}},{"$f":"IF(#REF!=$E$1,IF(#REF!=$G$1,IF(#REF!=\"\",NA(),#REF!),NA()),NA())","v":{"$error":"#REF!"}},{"$error":"#REF!"},{"$error":"#REF!"}]
[null,null,null,{"$f":"IF(#REF!=$E$1,IF(#REF!=$G$1,#REF!,NA()),NA())","v":{"$error":"#REF!"}},{"$f":"IF(#REF!=$E$1,IF(#REF!=$G$1,#REF!,NA()),NA())","v":{"$error":"#REF!"}},{"$f":"IF(#REF!=$E$1,IF(#REF!=$G$1,IF(#REF!=\"\",NA(),#REF!),NA()),NA())","v":{"$error":"#REF!"}},{"$f":"IF(#REF!=$E$1,IF(#REF!=$G$1,IF(#REF!=\"\",NA(),#REF!),NA()),NA())","v":{"$error":"#REF!"}},{"$error":"#REF!"},{"$error":"#REF!"}]
[null,null,null,{"$f":"IF(#REF!=$E$1,IF(#REF!=$G$1,#REF!,NA()),NA())","v":{"$error":"#REF!"}},{"$f":"IF(#REF!=$E$1,IF(#REF!=$G$1,#REF!,NA()),NA())","v":{"$error":"#REF!"}},{"$f":"IF(#REF!=$E$1,IF(#REF!=$G$1,IF(#REF!=\"\",NA(),#REF!),NA()),NA())","v":{"$error":"#REF!"}},{"$f":"IF(#REF!=$E$1,IF(#REF!=$G$1,IF(#REF!=\"\",NA(),#REF!),NA()),NA())","v":{"$error":"#REF!"}},{"$error":"#REF!"},{"$error":"#REF!"}]
[null,null,null,{"$f":"IF(#REF!=$E$1,IF(#REF!=$G$1,#REF!,NA()),NA())","v":{"$error":"#REF!"}},{"$f":"IF(#REF!=$E$1,IF(#REF!=$G$1,#REF!,NA()),NA())","v":{"$error":"#REF!"}},{"$f":"IF(#REF!=$E$1,IF(#REF!=$G$1,IF(#REF!=\"\",NA(),#REF!),NA()),NA())","v":{"$error":"#REF!"}},{"$f":"IF(#REF!=$E$1,IF(#REF!=$G$1,IF(#REF!=\"\",NA(),#REF!),NA()),NA())","v":{"$error":"#REF!"}},{"$error":"#REF!"},{"$error":"#REF!"}]
[null,null,null,{"$f":"IF(#REF!=$E$1,IF(#REF!=$G$1,#REF!,NA()),NA())","v":{"$error":"#REF!"}},{"$f":"IF(#REF!=$E$1,IF(#REF!=$G$1,#REF!,NA()),NA())","v":{"$error":"#REF!"}},{"$f":"IF(#REF!=$E$1,IF(#REF!=$G$1,IF(#REF!=\"\",NA(),#REF!),NA()),NA())","v":{"$error":"#REF!"}},{"$f":"IF(#REF!=$E$1,IF(#REF!=$G$1,IF(#REF!=\"\",NA(),#REF!),NA()),NA())","v":{"$error":"#REF!"}},{"$error":"#REF!"},{"$error":"#REF!"}]
[null,null,null,{"$f":"IF(#REF!=$E$1,IF(#REF!=$G$1,#REF!,NA()),NA())","v":{"$error":"#REF!"}},{"$f":"IF(#REF!=$E$1,IF(#REF!=$G$1,#REF!,NA()),NA())","v":{"$error":"#REF!"}},{"$f":"IF(#REF!=$E$1,IF(#REF!=$G$1,IF(#REF!=\"\",NA(),#REF!),NA()),NA())","v":{"$error":"#REF!"}},{"$f":"IF(#REF!=$E$1,IF(#REF!=$G$1,IF(#REF!=\"\",NA(),#REF!),NA()),NA())","v":{"$error":"#REF!"}},{"$error":"#REF!"},{"$error":"#REF!"}]
[null,null,null,{"$f":"IF(#REF!=$E$1,IF(#REF!=$G$1,#REF!,NA()),NA())","v":{"$error":"#REF!"}},{"$f":"IF(#REF!=$E$1,IF(#REF!=$G$1,#REF!,NA()),NA())","v":{"$error":"#REF!"}},{"$f":"IF(#REF!=$E$1,IF(#REF!=$G$1,IF(#REF!=\"\",NA(),#REF!),NA()),NA())","v":{"$error":"#REF!"}},{"$f":"IF(#REF!=$E$1,IF(#REF!=$G$1,IF(#REF!=\"\",NA(),#REF!),NA()),NA())","v":{"$error":"#REF!"}},{"$error":"#REF!"},{"$error":"#REF!"}]
[null,null,null,{"$f":"IF(#REF!=$E$1,IF(#REF!=$G$1,#REF!,NA()),NA())","v":{"$error":"#REF!"}},{"$f":"IF(#REF!=$E$1,IF(#REF!=$G$1,#REF!,NA()),NA())","v":{"$error":"#REF!"}},{"$f":"IF(#REF!=$E$1,IF(#REF!=$G$1,IF(#REF!=\"\",NA(),#REF!),NA()),NA())","v":{"$error":"#REF!"}},{"$f":"IF(#REF!=$E$1,IF(#REF!=$G$1,IF(#REF!=\"\",NA(),#REF!),NA()),NA())","v":{"$error":"#REF!"}},{"$error":"#REF!"},{"$error":"#REF!"}]
[null,null,null,{"$f":"IF(#REF!=$E$1,IF(#REF!=$G$1,#REF!,NA()),NA())","v":{"$error":"#REF!"}},{"$f":"IF(#REF!=$E$1,IF(#REF!=$G$1,#REF!,NA()),NA())","v":{"$error":"#REF!"}},{"$f":"IF(#REF!=$E$1,IF(#REF!=$G$1,IF(#REF!=\"\",NA(),#REF!),NA()),NA())","v":{"$error":"#REF!"}},{"$f":"IF(#REF!=$E$1,IF(#REF!=$G$1,IF(#REF!=\"\",NA(),#REF!),NA()),NA())","v":{"$error":"#REF!"}},{"$error":"#REF!"},{"$error":"#REF!"}]
[null,null,null,{"$f":"IF(#REF!=$E$1,IF(#REF!=$G$1,#REF!,NA()),NA())","v":{"$error":"#REF!"}},{"$f":"IF(#REF!=$E$1,IF(#REF!=$G$1,#REF!,NA()),NA())","v":{"$error":"#REF!"}},{"$f":"IF(#REF!=$E$1,IF(#REF!=$G$1,IF(#REF!=\"\",NA(),#REF!),NA()),NA())","v":{"$error":"#REF!"}},{"$f":"IF(#REF!=$E$1,IF(#REF!=$G$1,IF(#REF!=\"\",NA(),#REF!),NA()),NA())","v":{"$error":"#REF!"}},{"$error":"#REF!"},{"$error":"#REF!"}]
[null,null,null,{"$f":"IF(#REF!=$E$1,IF(#REF!=$G$1,#REF!,NA()),NA())","v":{"$error":"#REF!"}},{"$f":"IF(#REF!=$E$1,IF(#REF!=$G$1,#REF!,NA()),NA())","v":{"$error":"#REF!"}},{"$f":"IF(#REF!=$E$1,IF(#REF!=$G$1,IF(#REF!=\"\",NA(),#REF!),NA()),NA())","v":{"$error":"#REF!"}},{"$f":"IF(#REF!=$E$1,IF(#REF!=$G$1,IF(#REF!=\"\",NA(),#REF!),NA()),NA())","v":{"$error":"#REF!"}},{"$error":"#REF!"},{"$error":"#REF!"}]
[null,null,null,{"$f":"IF(#REF!=$E$1,IF(#REF!=$G$1,#REF!,NA()),NA())","v":{"$error":"#REF!"}},{"$f":"IF(#REF!=$E$1,IF(#REF!=$G$1,#REF!,NA()),NA())","v":{"$error":"#REF!"}},{"$f":"IF(#REF!=$E$1,IF(#REF!=$G$1,IF(#REF!=\"\",NA(),#REF!),NA()),NA())","v":{"$error":"#REF!"}},{"$f":"IF(#REF!=$E$1,IF(#REF!=$G$1,IF(#REF!=\"\",NA(),#REF!),NA()),NA())","v":{"$error":"#REF!"}},{"$f":"IF(AND(ISNUMBER(G452),F452=\"-\"),0,F452)","v":{"$error":"#REF!"}},{"$f":"IF(AND(ISNUMBER(F452),G452=\"-\"),0,G452)","v":{"$error":"#REF!"}}]
[null,null,null,{"$f":"IF(#REF!=$E$1,IF(#REF!=$G$1,#REF!,NA()),NA())","v":{"$error":"#REF!"}},{"$f":"IF(#REF!=$E$1,IF(#REF!=$G$1,#REF!,NA()),NA())","v":{"$error":"#REF!"}},{"$f":"IF(#REF!=$E$1,IF(#REF!=$G$1,IF(#REF!=\"\",NA(),#REF!),NA()),NA())","v":{"$error":"#REF!"}},{"$f":"IF(#REF!=$E$1,IF(#REF!=$G$1,IF(#REF!=\"\",NA(),#REF!),NA()),NA())","v":{"$error":"#REF!"}},{"$error":"#REF!"},{"$error":"#REF!"}]
[null,null,null,{"$f":"IF(#REF!=$E$1,IF(#REF!=$G$1,#REF!,NA()),NA())","v":{"$error":"#REF!"}},{"$f":"IF(#REF!=$E$1,IF(#REF!=$G$1,#REF!,NA()),NA())","v":{"$error":"#REF!"}},{"$f":"IF(#REF!=$E$1,IF(#REF!=$G$1,IF(#REF!=\"\",NA(),#REF!),NA()),NA())","v":{"$error":"#REF!"}},{"$f":"IF(#REF!=$E$1,IF(#REF!=$G$1,IF(#REF!=\"\",NA(),#REF!),NA()),NA())","v":{"$error":"#REF!"}},{"$error":"#REF!"},{"$error":"#REF!"}]
[null,null,null,{"$f":"IF(#REF!=$E$1,IF(#REF!=$G$1,#REF!,NA()),NA())","v":{"$error":"#REF!"}},{"$f":"IF(#REF!=$E$1,IF(#REF!=$G$1,#REF!,NA()),NA())","v":{"$error":"#REF!"}},{"$f":"IF(#REF!=$E$1,IF(#REF!=$G$1,IF(#REF!=\"\",NA(),#REF!),NA()),NA())","v":{"$error":"#REF!"}},{"$f":"IF(#REF!=$E$1,IF(#REF!=$G$1,IF(#REF!=\"\",NA(),#REF!),NA()),NA())","v":{"$error":"#REF!"}},{"$error":"#REF!"},{"$error":"#REF!"}]
[null,null,null,{"$f":"IF(#REF!=$E$1,IF(#REF!=$G$1,#REF!,NA()),NA())","v":{"$error":"#REF!"}},{"$f":"IF(#REF!=$E$1,IF(#REF!=$G$1,#REF!,NA()),NA())","v":{"$error":"#REF!"}},{"$f":"IF(#REF!=$E$1,IF(#REF!=$G$1,IF(#REF!=\"\",NA(),#REF!),NA()),NA())","v":{"$error":"#REF!"}},{"$f":"IF(#REF!=$E$1,IF(#REF!=$G$1,IF(#REF!=\"\",NA(),#REF!),NA()),NA())","v":{"$error":"#REF!"}},{"$error":"#REF!"},{"$error":"#REF!"}]
[null,null,null,{"$f":"IF(#REF!=$E$1,IF(#REF!=$G$1,#REF!,NA()),NA())","v":{"$error":"#REF!"}},{"$f":"IF(#REF!=$E$1,IF(#REF!=$G$1,#REF!,NA()),NA())","v":{"$error":"#REF!"}},{"$f":"IF(#REF!=$E$1,IF(#REF!=$G$1,IF(#REF!=\"\",NA(),#REF!),NA()),NA())","v":{"$error":"#REF!"}},{"$f":"IF(#REF!=$E$1,IF(#REF!=$G$1,IF(#REF!=\"\",NA(),#REF!),NA()),NA())","v":{"$error":"#REF!"}},{"$error":"#REF!"},{"$error":"#REF!"}]
[null,null,null,{"$f":"IF(#REF!=$E$1,IF(#REF!=$G$1,#REF!,NA()),NA())","v":{"$error":"#REF!"}},{"$f":"IF(#REF!=$E$1,IF(#REF!=$G$1,#REF!,NA()),NA())","v":{"$error":"#REF!"}},{"$f":"IF(#REF!=$E$1,IF(#REF!=$G$1,IF(#REF!=\"\",NA(),#REF!),NA()),NA())","v":{"$error":"#REF!"}},{"$f":"IF(#REF!=$E$1,IF(#REF!=$G$1,IF(#REF!=\"\",NA(),#REF!),NA()),NA())","v":{"$error":"#REF!"}},{"$error":"#REF!"},{"$error":"#REF!"}]
[null,null,null,{"$f":"IF(#REF!=$E$1,IF(#REF!=$G$1,#REF!,NA()),NA())","v":{"$error":"#REF!"}},{"$f":"IF(#REF!=$E$1,IF(#REF!=$G$1,#REF!,NA()),NA())","v":{"$error":"#REF!"}},{"$f":"IF(#REF!=$E$1,IF(#REF!=$G$1,IF(#REF!=\"\",NA(),#REF!),NA()),NA())","v":{"$error":"#REF!"}},{"$f":"IF(#REF!=$E$1,IF(#REF!=$G$1,IF(#REF!=\"\",NA(),#REF!),NA()),NA())","v":{"$error":"#REF!"}},{"$error":"#REF!"},{"$error":"#REF!"}]
[null,null,null,{"$f":"IF(#REF!=$E$1,IF(#REF!=$G$1,#REF!,NA()),NA())","v":{"$error":"#REF!"}},{"$f":"IF(#REF!=$E$1,IF(#REF!=$G$1,#REF!,NA()),NA())","v":{"$error":"#REF!"}},{"$f":"IF(#REF!=$E$1,IF(#REF!=$G$1,IF(#REF!=\"\",NA(),#REF!),NA()),NA())","v":{"$error":"#REF!"}},{"$f":"IF(#REF!=$E$1,IF(#REF!=$G$1,IF(#REF!=\"\",NA(),#REF!),NA()),NA())","v":{"$error":"#REF!"}},{"$error":"#REF!"},{"$error":"#REF!"}]
[null,null,null,{"$f":"IF(#REF!=$E$1,IF(#REF!=$G$1,#REF!,NA()),NA())","v":{"$error":"#REF!"}},{"$f":"IF(#REF!=$E$1,IF(#REF!=$G$1,#REF!,NA()),NA())","v":{"$error":"#REF!"}},{"$f":"IF(#REF!=$E$1,IF(#REF!=$G$1,IF(#REF!=\"\",NA(),#REF!),NA()),NA())","v":{"$error":"#REF!"}},{"$f":"IF(#REF!=$E$1,IF(#REF!=$G$1,IF(#REF!=\"\",NA(),#REF!),NA()),NA())","v":{"$error":"#REF!"}},{"$error":"#REF!"},{"$error":"#REF!"}]
[null,null,null,{"$f":"IF(#REF!=$E$1,IF(#REF!=$G$1,#REF!,NA()),NA())","v":{"$error":"#REF!"}},{"$f":"IF(#REF!=$E$1,IF(#REF!=$G$1,#REF!,NA()),NA())","v":{"$error":"#REF!"}},{"$f":"IF(#REF!=$E$1,IF(#REF!=$G$1,IF(#REF!=\"\",NA(),#REF!),NA()),NA())","v":{"$error":"#REF!"}},{"$f":"IF(#REF!=$E$1,IF(#REF!=$G$1,IF(#REF!=\"\",NA(),#REF!),NA()),NA())","v":{"$error":"#REF!"}},{"$error":"#REF!"},{"$error":"#REF!"}]
[null,null,null,{"$f":"IF(#REF!=$E$1,IF(#REF!=$G$1,#REF!,NA()),NA())","v":{"$error":"#REF!"}},{"$f":"IF(#REF!=$E$1,IF(#REF!=$G$1,#REF!,NA()),NA())","v":{"$error":"#REF!"}},{"$f":"IF(#REF!=$E$1,IF(#REF!=$G$1,IF(#REF!=\"\",NA(),#REF!),NA()),NA())","v":{"$error":"#REF!"}},{"$f":"IF(#REF!=$E$1,IF(#REF!=$G$1,IF(#REF!=\"\",NA(),#REF!),NA()),NA())","v":{"$error":"#REF!"}},{"$error":"#REF!"},{"$error":"#REF!"}]
[null,null,null,{"$f":"IF(#REF!=$E$1,IF(#REF!=$G$1,#REF!,NA()),NA())","v":{"$error":"#REF!"}},{"$f":"IF(#REF!=$E$1,IF(#REF!=$G$1,#REF!,NA()),NA())","v":{"$error":"#REF!"}},{"$f":"IF(#REF!=$E$1,IF(#REF!=$G$1,IF(#REF!=\"\",NA(),#REF!),NA()),NA())","v":{"$error":"#REF!"}},{"$f":"IF(#REF!=$E$1,IF(#REF!=$G$1,IF(#REF!=\"\",NA(),#REF!),NA()),NA())","v":{"$error":"#REF!"}},{"$error":"#REF!"},{"$error":"#REF!"}]
[null,null,null,{"$f":"IF(#REF!=$E$1,IF(#REF!=$G$1,#REF!,NA()),NA())","v":{"$error":"#REF!"}},{"$f":"IF(#REF!=$E$1,IF(#REF!=$G$1,#REF!,NA()),NA())","v":{"$error":"#REF!"}},{"$f":"IF(#REF!=$E$1,IF(#REF!=$G$1,IF(#REF!=\"\",NA(),#REF!),NA()),NA())","v":{"$error":"#REF!"}},{"$f":"IF(#REF!=$E$1,IF(#REF!=$G$1,IF(#REF!=\"\",NA(),#REF!),NA()),NA())","v":{"$error":"#REF!"}},{"$error":"#REF!"},{"$error":"#REF!"}]
[null,null,null,{"$f":"IF(#REF!=$E$1,IF(#REF!=$G$1,#REF!,NA()),NA())","v":{"$error":"#REF!"}},{"$f":"IF(#REF!=$E$1,IF(#REF!=$G$1,#REF!,NA()),NA())","v":{"$error":"#REF!"}},{"$f":"IF(#REF!=$E$1,IF(#REF!=$G$1,IF(#REF!=\"\",NA(),#REF!),NA()),NA())","v":{"$error":"#REF!"}},{"$f":"IF(#REF!=$E$1,IF(#REF!=$G$1,IF(#REF!=\"\",NA(),#REF!),NA()),NA())","v":{"$error":"#REF!"}},{"$error":"#REF!"},{"$error":"#REF!"}]
[null,null,null,{"$f":"IF(#REF!=$E$1,IF(#REF!=$G$1,#REF!,NA()),NA())","v":{"$error":"#REF!"}},{"$f":"IF(#REF!=$E$1,IF(#REF!=$G$1,#REF!,NA()),NA())","v":{"$error":"#REF!"}},{"$f":"IF(#REF!=$E$1,IF(#REF!=$G$1,IF(#REF!=\"\",NA(),#REF!),NA()),NA())","v":{"$error":"#REF!"}},{"$f":"IF(#REF!=$E$1,IF(#REF!=$G$1,IF(#REF!=\"\",NA(),#REF!),NA()),NA())","v":{"$error":"#REF!"}},{"$error":"#REF!"},{"$error":"#REF!"}]
[null,null,null,{"$f":"IF(#REF!=$E$1,IF(#REF!=$G$1,#REF!,NA()),NA())","v":{"$error":"#REF!"}},{"$f":"IF(#REF!=$E$1,IF(#REF!=$G$1,#REF!,NA()),NA())","v":{"$error":"#REF!"}},{"$f":"IF(#REF!=$E$1,IF(#REF!=$G$1,IF(#REF!=\"\",NA(),#REF!),NA()),NA())","v":{"$error":"#REF!"}},{"$f":"IF(#REF!=$E$1,IF(#REF!=$G$1,IF(#REF!=\"\",NA(),#REF!),NA()),NA())","v":{"$error":"#REF!"}},{"$error":"#REF!"},{"$error":"#REF!"}]
[null,null,null,{"$f":"IF(#REF!=$E$1,IF(#REF!=$G$1,#REF!,NA()),NA())","v":{"$error":"#REF!"}},{"$f":"IF(#REF!=$E$1,IF(#REF!=$G$1,#REF!,NA()),NA())","v":{"$error":"#REF!"}},{"$f":"IF(#REF!=$E$1,IF(#REF!=$G$1,IF(#REF!=\"\",NA(),#REF!),NA()),NA())","v":{"$error":"#REF!"}},{"$f":"IF(#REF!=$E$1,IF(#REF!=$G$1,IF(#REF!=\"\",NA(),#REF!),NA()),NA())","v":{"$error":"#REF!"}},{"$error":"#REF!"},{"$error":"#REF!"}]
[null,null,null,{"$f":"IF(#REF!=$E$1,IF(#REF!=$G$1,#REF!,NA()),NA())","v":{"$error":"#REF!"}},{"$f":"IF(#REF!=$E$1,IF(#REF!=$G$1,#REF!,NA()),NA())","v":{"$error":"#REF!"}},{"$f":"IF(#REF!=$E$1,IF(#REF!=$G$1,IF(#REF!=\"\",NA(),#REF!),NA()),NA())","v":{"$error":"#REF!"}},{"$f":"IF(#REF!=$E$1,IF(#REF!=$G$1,IF(#REF!=\"\",NA(),#REF!),NA()),NA())","v":{"$error":"#REF!"}},{"$error":"#REF!"},{"$error":"#REF!"}]
[null,null,null,{"$f":"IF(#REF!=$E$1,IF(#REF!=$G$1,#REF!,NA()),NA())","v":{"$error":"#REF!"}},{"$f":"IF(#REF!=$E$1,IF(#REF!=$G$1,#REF!,NA()),NA())","v":{"$error":"#REF!"}},{"$f":"IF(#REF!=$E$1,IF(#REF!=$G$1,IF(#REF!=\"\",NA(),#REF!),NA()),NA())","v":{"$error":"#REF!"}},{"$f":"IF(#REF!=$E$1,IF(#REF!=$G$1,IF(#REF!=\"\",NA(),#REF!),NA()),NA())","v":{"$error":"#REF!"}},{"$error":"#REF!"},{"$error":"#REF!"}]
[null,null,null,{"$f":"IF(#REF!=$E$1,IF(#REF!=$G$1,#REF!,NA()),NA())","v":{"$error":"#REF!"}},{"$f":"IF(#REF!=$E$1,IF(#REF!=$G$1,#REF!,NA()),NA())","v":{"$error":"#REF!"}},{"$f":"IF(#REF!=$E$1,IF(#REF!=$G$1,IF(#REF!=\"\",NA(),#REF!),NA()),NA())","v":{"$error":"#REF!"}},{"$f":"IF(#REF!=$E$1,IF(#REF!=$G$1,IF(#REF!=\"\",NA(),#REF!),NA()),NA())","v":{"$error":"#REF!"}},{"$error":"#REF!"},{"$error":"#REF!"}]
[null,null,null,{"$f":"IF(#REF!=$E$1,IF(#REF!=$G$1,#REF!,NA()),NA())","v":{"$error":"#REF!"}},{"$f":"IF(#REF!=$E$1,IF(#REF!=$G$1,#REF!,NA()),NA())","v":{"$error":"#REF!"}},{"$f":"IF(#REF!=$E$1,IF(#REF!=$G$1,IF(#REF!=\"\",NA(),#REF!),NA()),NA())","v":{"$error":"#REF!"}},{"$f":"IF(#REF!=$E$1,IF(#REF!=$G$1,IF(#REF!=\"\",NA(),#REF!),NA()),NA())","v":{"$error":"#REF!"}},{"$error":"#REF!"},{"$error":"#REF!"}]
[null,null,null,{"$f":"IF(#REF!=$E$1,IF(#REF!=$G$1,#REF!,NA()),NA())","v":{"$error":"#REF!"}},{"$f":"IF(#REF!=$E$1,IF(#REF!=$G$1,#REF!,NA()),NA())","v":{"$error":"#REF!"}},{"$f":"IF(#REF!=$E$1,IF(#REF!=$G$1,IF(#REF!=\"\",NA(),#REF!),NA()),NA())","v":{"$error":"#REF!"}},{"$f":"IF(#REF!=$E$1,IF(#REF!=$G$1,IF(#REF!=\"\",NA(),#REF!),NA()),NA())","v":{"$error":"#REF!"}},{"$error":"#REF!"},{"$error":"#REF!"}]
[null,null,null,{"$f":"IF(#REF!=$E$1,IF(#REF!=$G$1,#REF!,NA()),NA())","v":{"$error":"#REF!"}},{"$f":"IF(#REF!=$E$1,IF(#REF!=$G$1,#REF!,NA()),NA())","v":{"$error":"#REF!"}},{"$f":"IF(#REF!=$E$1,IF(#REF!=$G$1,IF(#REF!=\"\",NA(),#REF!),NA()),NA())","v":{"$error":"#REF!"}},{"$f":"IF(#REF!=$E$1,IF(#REF!=$G$1,IF(#REF!=\"\",NA(),#REF!),NA()),NA())","v":{"$error":"#REF!"}},{"$error":"#REF!"},{"$error":"#REF!"}]
[null,null,null,{"$f":"IF(#REF!=$E$1,IF(#REF!=$G$1,#REF!,NA()),NA())","v":{"$error":"#REF!"}},{"$f":"IF(#REF!=$E$1,IF(#REF!=$G$1,#REF!,NA()),NA())","v":{"$error":"#REF!"}},{"$f":"IF(#REF!=$E$1,IF(#REF!=$G$1,IF(#REF!=\"\",NA(),#REF!),NA()),NA())","v":{"$error":"#REF!"}},{"$f":"IF(#REF!=$E$1,IF(#REF!=$G$1,IF(#REF!=\"\",NA(),#REF!),NA()),NA())","v":{"$error":"#REF!"}},{"$error":"#REF!"},{"$error":"#REF!"}]
[null,null,null,{"$f":"IF(#REF!=$E$1,IF(#REF!=$G$1,#REF!,NA()),NA())","v":{"$error":"#REF!"}},{"$f":"IF(#REF!=$E$1,IF(#REF!=$G$1,#REF!,NA()),NA())","v":{"$error":"#REF!"}},{"$f":"IF(#REF!=$E$1,IF(#REF!=$G$1,IF(#REF!=\"\",NA(),#REF!),NA()),NA())","v":{"$error":"#REF!"}},{"$f":"IF(#REF!=$E$1,IF(#REF!=$G$1,IF(#REF!=\"\",NA(),#REF!),NA()),NA())","v":{"$error":"#REF!"}},{"$error":"#REF!"},{"$error":"#REF!"}]
[null,null,null,{"$f":"IF(#REF!=$E$1,IF(#REF!=$G$1,#REF!,NA()),NA())","v":{"$error":"#REF!"}},{"$f":"IF(#REF!=$E$1,IF(#REF!=$G$1,#REF!,NA()),NA())","v":{"$error":"#REF!"}},{"$f":"IF(#REF!=$E$1,IF(#REF!=$G$1,IF(#REF!=\"\",NA(),#REF!),NA()),NA())","v":{"$error":"#REF!"}},{"$f":"IF(#REF!=$E$1,IF(#REF!=$G$1,IF(#REF!=\"\",NA(),#REF!),NA()),NA())","v":{"$error":"#REF!"}},{"$error":"#REF!"},{"$error":"#REF!"}]
[null,null,null,{"$f":"IF(#REF!=$E$1,IF(#REF!=$G$1,#REF!,NA()),NA())","v":{"$error":"#REF!"}},{"$f":"IF(#REF!=$E$1,IF(#REF!=$G$1,#REF!,NA()),NA())","v":{"$error":"#REF!"}},{"$f":"IF(#REF!=$E$1,IF(#REF!=$G$1,IF(#REF!=\"\",NA(),#REF!),NA()),NA())","v":{"$error":"#REF!"}},{"$f":"IF(#REF!=$E$1,IF(#REF!=$G$1,IF(#REF!=\"\",NA(),#REF!),NA()),NA())","v":{"$error":"#REF!"}},{"$error":"#REF!"},{"$error":"#REF!"}]
[null,null,null,{"$f":"IF(#REF!=$E$1,IF(#REF!=$G$1,#REF!,NA()),NA())","v":{"$error":"#REF!"}},{"$f":"IF(#REF!=$E$1,IF(#REF!=$G$1,#REF!,NA()),NA())","v":{"$error":"#REF!"}},{"$f":"IF(#REF!=$E$1,IF(#REF!=$G$1,IF(#REF!=\"\",NA(),#REF!),NA()),NA())","v":{"$error":"#REF!"}},{"$f":"IF(#REF!=$E$1,IF(#REF!=$G$1,IF(#REF!=\"\",NA(),#REF!),NA()),NA())","v":{"$error":"#REF!"}},{"$error":"#REF!"},{"$error":"#REF!"}]
[null,null,null,{"$f":"IF(#REF!=$E$1,IF(#REF!=$G$1,#REF!,NA()),NA())","v":{"$error":"#REF!"}},{"$f":"IF(#REF!=$E$1,IF(#REF!=$G$1,#REF!,NA()),NA())","v":{"$error":"#REF!"}},{"$f":"IF(#REF!=$E$1,IF(#REF!=$G$1,IF(#REF!=\"\",NA(),#REF!),NA()),NA())","v":{"$error":"#REF!"}},{"$f":"IF(#REF!=$E$1,IF(#REF!=$G$1,IF(#REF!=\"\",NA(),#REF!),NA()),NA())","v":{"$error":"#REF!"}},{"$error":"#REF!"},{"$error":"#REF!"}]
[null,null,null,{"$f":"IF(#REF!=$E$1,IF(#REF!=$G$1,#REF!,NA()),NA())","v":{"$error":"#REF!"}},{"$f":"IF(#REF!=$E$1,IF(#REF!=$G$1,#REF!,NA()),NA())","v":{"$error":"#REF!"}},{"$f":"IF(#REF!=$E$1,IF(#REF!=$G$1,IF(#REF!=\"\",NA(),#REF!),NA()),NA())","v":{"$error":"#REF!"}},{"$f":"IF(#REF!=$E$1,IF(#REF!=$G$1,IF(#REF!=\"\",NA(),#REF!),NA()),NA())","v":{"$error":"#REF!"}},{"$error":"#REF!"},{"$error":"#REF!"}]
[null,null,null,{"$f":"IF(#REF!=$E$1,IF(#REF!=$G$1,#REF!,NA()),NA())","v":{"$error":"#REF!"}},{"$f":"IF(#REF!=$E$1,IF(#REF!=$G$1,#REF!,NA()),NA())","v":{"$error":"#REF!"}},{"$f":"IF(#REF!=$E$1,IF(#REF!=$G$1,IF(#REF!=\"\",NA(),#REF!),NA()),NA())","v":{"$error":"#REF!"}},{"$f":"IF(#REF!=$E$1,IF(#REF!=$G$1,IF(#REF!=\"\",NA(),#REF!),NA()),NA())","v":{"$error":"#REF!"}},{"$error":"#REF!"},{"$error":"#REF!"}]
[null,null,null,{"$f":"IF(#REF!=$E$1,IF(#REF!=$G$1,#REF!,NA()),NA())","v":{"$error":"#REF!"}},{"$f":"IF(#REF!=$E$1,IF(#REF!=$G$1,#REF!,NA()),NA())","v":{"$error":"#REF!"}},{"$f":"IF(#REF!=$E$1,IF(#REF!=$G$1,IF(#REF!=\"\",NA(),#REF!),NA()),NA())","v":{"$error":"#REF!"}},{"$f":"IF(#REF!=$E$1,IF(#REF!=$G$1,IF(#REF!=\"\",NA(),#REF!),NA()),NA())","v":{"$error":"#REF!"}},{"$error":"#REF!"},{"$error":"#REF!"}]
[null,null,null,{"$f":"IF(#REF!=$E$1,IF(#REF!=$G$1,#REF!,NA()),NA())","v":{"$error":"#REF!"}},{"$f":"IF(#REF!=$E$1,IF(#REF!=$G$1,#REF!,NA()),NA())","v":{"$error":"#REF!"}},{"$f":"IF(#REF!=$E$1,IF(#REF!=$G$1,IF(#REF!=\"\",NA(),#REF!),NA()),NA())","v":{"$error":"#REF!"}},{"$f":"IF(#REF!=$E$1,IF(#REF!=$G$1,IF(#REF!=\"\",NA(),#REF!),NA()),NA())","v":{"$error":"#REF!"}},{"$error":"#REF!"},{"$error":"#REF!"}]
[null,null,null,{"$f":"IF(#REF!=$E$1,IF(#REF!=$G$1,#REF!,NA()),NA())","v":{"$error":"#REF!"}},{"$f":"IF(#REF!=$E$1,IF(#REF!=$G$1,#REF!,NA()),NA())","v":{"$error":"#REF!"}},{"$f":"IF(#REF!=$E$1,IF(#REF!=$G$1,IF(#REF!=\"\",NA(),#REF!),NA()),NA())","v":{"$error":"#REF!"}},{"$f":"IF(#REF!=$E$1,IF(#REF!=$G$1,IF(#REF!=\"\",NA(),#REF!),NA()),NA())","v":{"$error":"#REF!"}},{"$error":"#REF!"},{"$error":"#REF!"}]
[null,null,null,{"$f":"IF(#REF!=$E$1,IF(#REF!=$G$1,#REF!,NA()),NA())","v":{"$error":"#REF!"}},{"$f":"IF(#REF!=$E$1,IF(#REF!=$G$1,#REF!,NA()),NA())","v":{"$error":"#REF!"}},{"$f":"IF(#REF!=$E$1,IF(#REF!=$G$1,IF(#REF!=\"\",NA(),#REF!),NA()),NA())","v":{"$error":"#REF!"}},{"$f":"IF(#REF!=$E$1,IF(#REF!=$G$1,IF(#REF!=\"\",NA(),#REF!),NA()),NA())","v":{"$error":"#REF!"}},{"$error":"#REF!"},{"$error":"#REF!"}]
[null,null,null,{"$f":"IF(#REF!=$E$1,IF(#REF!=$G$1,#REF!,NA()),NA())","v":{"$error":"#REF!"}},{"$f":"IF(#REF!=$E$1,IF(#REF!=$G$1,#REF!,NA()),NA())","v":{"$error":"#REF!"}},{"$f":"IF(#REF!=$E$1,IF(#REF!=$G$1,IF(#REF!=\"\",NA(),#REF!),NA()),NA())","v":{"$error":"#REF!"}},{"$f":"IF(#REF!=$E$1,IF(#REF!=$G$1,IF(#REF!=\"\",NA(),#REF!),NA()),NA())","v":{"$error":"#REF!"}},{"$error":"#REF!"},{"$error":"#REF!"}]
[null,null,null,{"$f":"IF(#REF!=$E$1,IF(#REF!=$G$1,#REF!,NA()),NA())","v":{"$error":"#REF!"}},{"$f":"IF(#REF!=$E$1,IF(#REF!=$G$1,#REF!,NA()),NA())","v":{"$error":"#REF!"}},{"$f":"IF(#REF!=$E$1,IF(#REF!=$G$1,IF(#REF!=\"\",NA(),#REF!),NA()),NA())","v":{"$error":"#REF!"}},{"$f":"IF(#REF!=$E$1,IF(#REF!=$G$1,IF(#REF!=\"\",NA(),#REF!),NA()),NA())","v":{"$error":"#REF!"}},{"$error":"#REF!"},{"$error":"#REF!"}]
[null,null,null,{"$f":"IF(#REF!=$E$1,IF(#REF!=$G$1,#REF!,NA()),NA())","v":{"$error":"#REF!"}},{"$f":"IF(#REF!=$E$1,IF(#REF!=$G$1,#REF!,NA()),NA())","v":{"$error":"#REF!"}},{"$f":"IF(#REF!=$E$1,IF(#REF!=$G$1,IF(#REF!=\"\",NA(),#REF!),NA()),NA())","v":{"$error":"#REF!"}},{"$f":"IF(#REF!=$E$1,IF(#REF!=$G$1,IF(#REF!=\"\",NA(),#REF!),NA()),NA())","v":{"$error":"#REF!"}},{"$error":"#REF!"},{"$error":"#REF!"}]
[null,null,null,{"$f":"IF(#REF!=$E$1,IF(#REF!=$G$1,#REF!,NA()),NA())","v":{"$error":"#REF!"}},{"$f":"IF(#REF!=$E$1,IF(#REF!=$G$1,#REF!,NA()),NA())","v":{"$error":"#REF!"}},{"$f":"IF(#REF!=$E$1,IF(#REF!=$G$1,IF(#REF!=\"\",NA(),#REF!),NA()),NA())","v":{"$error":"#REF!"}},{"$f":"IF(#REF!=$E$1,IF(#REF!=$G$1,IF(#REF!=\"\",NA(),#REF!),NA()),NA())","v":{"$error":"#REF!"}},{"$error":"#REF!"},{"$error":"#REF!"}]
[null,null,null,{"$f":"IF(#REF!=$E$1,IF(#REF!=$G$1,#REF!,NA()),NA())","v":{"$error":"#REF!"}},{"$f":"IF(#REF!=$E$1,IF(#REF!=$G$1,#REF!,NA()),NA())","v":{"$error":"#REF!"}},{"$f":"IF(#REF!=$E$1,IF(#REF!=$G$1,IF(#REF!=\"\",NA(),#REF!),NA()),NA())","v":{"$error":"#REF!"}},{"$f":"IF(#REF!=$E$1,IF(#REF!=$G$1,IF(#REF!=\"\",NA(),#REF!),NA()),NA())","v":{"$error":"#REF!"}},{"$error":"#REF!"},{"$error":"#REF!"}]
[null,null,null,{"$f":"IF(#REF!=$E$1,IF(#REF!=$G$1,#REF!,NA()),NA())","v":{"$error":"#REF!"}},{"$f":"IF(#REF!=$E$1,IF(#REF!=$G$1,#REF!,NA()),NA())","v":{"$error":"#REF!"}},{"$f":"IF(#REF!=$E$1,IF(#REF!=$G$1,IF(#REF!=\"\",NA(),#REF!),NA()),NA())","v":{"$error":"#REF!"}},{"$f":"IF(#REF!=$E$1,IF(#REF!=$G$1,IF(#REF!=\"\",NA(),#REF!),NA()),NA())","v":{"$error":"#REF!"}},{"$error":"#REF!"},{"$error":"#REF!"}]
[null,null,null,{"$f":"IF(#REF!=$E$1,IF(#REF!=$G$1,#REF!,NA()),NA())","v":{"$error":"#REF!"}},{"$f":"IF(#REF!=$E$1,IF(#REF!=$G$1,#REF!,NA()),NA())","v":{"$error":"#REF!"}},{"$f":"IF(#REF!=$E$1,IF(#REF!=$G$1,IF(#REF!=\"\",NA(),#REF!),NA()),NA())","v":{"$error":"#REF!"}},{"$f":"IF(#REF!=$E$1,IF(#REF!=$G$1,IF(#REF!=\"\",NA(),#REF!),NA()),NA())","v":{"$error":"#REF!"}},{"$error":"#REF!"},{"$error":"#REF!"}]
[null,null,null,{"$f":"IF(#REF!=$E$1,IF(#REF!=$G$1,#REF!,NA()),NA())","v":{"$error":"#REF!"}},{"$f":"IF(#REF!=$E$1,IF(#REF!=$G$1,#REF!,NA()),NA())","v":{"$error":"#REF!"}},{"$f":"IF(#REF!=$E$1,IF(#REF!=$G$1,IF(#REF!=\"\",NA(),#REF!),NA()),NA())","v":{"$error":"#REF!"}},{"$f":"IF(#REF!=$E$1,IF(#REF!=$G$1,IF(#REF!=\"\",NA(),#REF!),NA()),NA())","v":{"$error":"#REF!"}},{"$error":"#REF!"},{"$error":"#REF!"}]
[null,null,null,{"$f":"IF(#REF!=$E$1,IF(#REF!=$G$1,#REF!,NA()),NA())","v":{"$error":"#REF!"}},{"$f":"IF(#REF!=$E$1,IF(#REF!=$G$1,#REF!,NA()),NA())","v":{"$error":"#REF!"}},{"$f":"IF(#REF!=$E$1,IF(#REF!=$G$1,IF(#REF!=\"\",NA(),#REF!),NA()),NA())","v":{"$error":"#REF!"}},{"$f":"IF(#REF!=$E$1,IF(#REF!=$G$1,IF(#REF!=\"\",NA(),#REF!),NA()),NA())","v":{"$error":"#REF!"}},{"$error":"#REF!"},{"$error":"#REF!"}]
[null,null,null,{"$f":"IF(#REF!=$E$1,IF(#REF!=$G$1,#REF!,NA()),NA())","v":{"$error":"#REF!"}},{"$f":"IF(#REF!=$E$1,IF(#REF!=$G$1,#REF!,NA()),NA())","v":{"$error":"#REF!"}},{"$f":"IF(#REF!=$E$1,IF(#REF!=$G$1,IF(#REF!=\"\",NA(),#REF!),NA()),NA())","v":{"$error":"#REF!"}},{"$f":"IF(#REF!=$E$1,IF(#REF!=$G$1,IF(#REF!=\"\",NA(),#REF!),NA()),NA())","v":{"$error":"#REF!"}},{"$error":"#REF!"},{"$error":"#REF!"}]
[null,null,null,{"$f":"IF(#REF!=$E$1,IF(#REF!=$G$1,#REF!,NA()),NA())","v":{"$error":"#REF!"}},{"$f":"IF(#REF!=$E$1,IF(#REF!=$G$1,#REF!,NA()),NA())","v":{"$error":"#REF!"}},{"$f":"IF(#REF!=$E$1,IF(#REF!=$G$1,IF(#REF!=\"\",NA(),#REF!),NA()),NA())","v":{"$error":"#REF!"}},{"$f":"IF(#REF!=$E$1,IF(#REF!=$G$1,IF(#REF!=\"\",NA(),#REF!),NA()),NA())","v":{"$error":"#REF!"}},{"$error":"#REF!"},{"$error":"#REF!"}]
[null,null,null,{"$f":"IF(#REF!=$E$1,IF(#REF!=$G$1,#REF!,NA()),NA())","v":{"$error":"#REF!"}},{"$f":"IF(#REF!=$E$1,IF(#REF!=$G$1,#REF!,NA()),NA())","v":{"$error":"#REF!"}},{"$f":"IF(#REF!=$E$1,IF(#REF!=$G$1,IF(#REF!=\"\",NA(),#REF!),NA()),NA())","v":{"$error":"#REF!"}},{"$f":"IF(#REF!=$E$1,IF(#REF!=$G$1,IF(#REF!=\"\",NA(),#REF!),NA()),NA())","v":{"$error":"#REF!"}},{"$error":"#REF!"},{"$error":"#REF!"}]
[null,null,null,{"$f":"IF(#REF!=$E$1,IF(#REF!=$G$1,#REF!,NA()),NA())","v":{"$error":"#REF!"}},{"$f":"IF(#REF!=$E$1,IF(#REF!=$G$1,#REF!,NA()),NA())","v":{"$error":"#REF!"}},{"$f":"IF(#REF!=$E$1,IF(#REF!=$G$1,IF(#REF!=\"\",NA(),#REF!),NA()),NA())","v":{"$error":"#REF!"}},{"$f":"IF(#REF!=$E$1,IF(#REF!=$G$1,IF(#REF!=\"\",NA(),#REF!),NA()),NA())","v":{"$error":"#REF!"}},{"$error":"#REF!"},{"$error":"#REF!"}]
[null,null,null,{"$f":"IF(#REF!=$E$1,IF(#REF!=$G$1,#REF!,NA()),NA())","v":{"$error":"#REF!"}},{"$f":"IF(#REF!=$E$1,IF(#REF!=$G$1,#REF!,NA()),NA())","v":{"$error":"#REF!"}},{"$f":"IF(#REF!=$E$1,IF(#REF!=$G$1,IF(#REF!=\"\",NA(),#REF!),NA()),NA())","v":{"$error":"#REF!"}},{"$f":"IF(#REF!=$E$1,IF(#REF!=$G$1,IF(#REF!=\"\",NA(),#REF!),NA()),NA())","v":{"$error":"#REF!"}},{"$error":"#REF!"},{"$error":"#REF!"}]
[null,null,null,{"$f":"IF(#REF!=$E$1,IF(#REF!=$G$1,#REF!,NA()),NA())","v":{"$error":"#REF!"}},{"$f":"IF(#REF!=$E$1,IF(#REF!=$G$1,#REF!,NA()),NA())","v":{"$error":"#REF!"}},{"$f":"IF(#REF!=$E$1,IF(#REF!=$G$1,IF(#REF!=\"\",NA(),#REF!),NA()),NA())","v":{"$error":"#REF!"}},{"$f":"IF(#REF!=$E$1,IF(#REF!=$G$1,IF(#REF!=\"\",NA(),#REF!),NA()),NA())","v":{"$error":"#REF!"}},{"$error":"#REF!"},{"$error":"#REF!"}]
[null,null,null,{"$f":"IF(#REF!=$E$1,IF(#REF!=$G$1,#REF!,NA()),NA())","v":{"$error":"#REF!"}},{"$f":"IF(#REF!=$E$1,IF(#REF!=$G$1,#REF!,NA()),NA())","v":{"$error":"#REF!"}},{"$f":"IF(#REF!=$E$1,IF(#REF!=$G$1,IF(#REF!=\"\",NA(),#REF!),NA()),NA())","v":{"$error":"#REF!"}},{"$f":"IF(#REF!=$E$1,IF(#REF!=$G$1,IF(#REF!=\"\",NA(),#REF!),NA()),NA())","v":{"$error":"#REF!"}},{"$error":"#REF!"},{"$error":"#REF!"}]
[null,null,null,{"$f":"IF(#REF!=$E$1,IF(#REF!=$G$1,#REF!,NA()),NA())","v":{"$error":"#REF!"}},{"$f":"IF(#REF!=$E$1,IF(#REF!=$G$1,#REF!,NA()),NA())","v":{"$error":"#REF!"}},{"$f":"IF(#REF!=$E$1,IF(#REF!=$G$1,IF(#REF!=\"\",NA(),#REF!),NA()),NA())","v":{"$error":"#REF!"}},{"$f":"IF(#REF!=$E$1,IF(#REF!=$G$1,IF(#REF!=\"\",NA(),#REF!),NA()),NA())","v":{"$error":"#REF!"}},{"$error":"#REF!"},{"$error":"#REF!"}]
[null,null,null,{"$f":"IF(#REF!=$E$1,IF(#REF!=$G$1,#REF!,NA()),NA())","v":{"$error":"#REF!"}},{"$f":"IF(#REF!=$E$1,IF(#REF!=$G$1,#REF!,NA()),NA())","v":{"$error":"#REF!"}},{"$f":"IF(#REF!=$E$1,IF(#REF!=$G$1,IF(#REF!=\"\",NA(),#REF!),NA()),NA())","v":{"$error":"#REF!"}},{"$f":"IF(#REF!=$E$1,IF(#REF!=$G$1,IF(#REF!=\"\",NA(),#REF!),NA()),NA())","v":{"$error":"#REF!"}},{"$error":"#REF!"},{"$error":"#REF!"}]
[null,null,null,{"$f":"IF(#REF!=$E$1,IF(#REF!=$G$1,#REF!,NA()),NA())","v":{"$error":"#REF!"}},{"$f":"IF(#REF!=$E$1,IF(#REF!=$G$1,#REF!,NA()),NA())","v":{"$error":"#REF!"}},{"$f":"IF(#REF!=$E$1,IF(#REF!=$G$1,IF(#REF!=\"\",NA(),#REF!),NA()),NA())","v":{"$error":"#REF!"}},{"$f":"IF(#REF!=$E$1,IF(#REF!=$G$1,IF(#REF!=\"\",NA(),#REF!),NA()),NA())","v":{"$error":"#REF!"}},{"$error":"#REF!"},{"$error":"#REF!"}]
[null,null,null,{"$f":"IF(#REF!=$E$1,IF(#REF!=$G$1,#REF!,NA()),NA())","v":{"$error":"#REF!"}},{"$f":"IF(#REF!=$E$1,IF(#REF!=$G$1,#REF!,NA()),NA())","v":{"$error":"#REF!"}},{"$f":"IF(#REF!=$E$1,IF(#REF!=$G$1,IF(#REF!=\"\",NA(),#REF!),NA()),NA())","v":{"$error":"#REF!"}},{"$f":"IF(#REF!=$E$1,IF(#REF!=$G$1,IF(#REF!=\"\",NA(),#REF!),NA()),NA())","v":{"$error":"#REF!"}},{"$error":"#REF!"},{"$error":"#REF!"}]
[null,null,null,{"$f":"IF(#REF!=$E$1,IF(#REF!=$G$1,#REF!,NA()),NA())","v":{"$error":"#REF!"}},{"$f":"IF(#REF!=$E$1,IF(#REF!=$G$1,#REF!,NA()),NA())","v":{"$error":"#REF!"}},{"$f":"IF(#REF!=$E$1,IF(#REF!=$G$1,IF(#REF!=\"\",NA(),#REF!),NA()),NA())","v":{"$error":"#REF!"}},{"$f":"IF(#REF!=$E$1,IF(#REF!=$G$1,IF(#REF!=\"\",NA(),#REF!),NA()),NA())","v":{"$error":"#REF!"}},{"$error":"#REF!"},{"$error":"#REF!"}]
[null,null,null,{"$f":"IF(#REF!=$E$1,IF(#REF!=$G$1,#REF!,NA()),NA())","v":{"$error":"#REF!"}},{"$f":"IF(#REF!=$E$1,IF(#REF!=$G$1,#REF!,NA()),NA())","v":{"$error":"#REF!"}},{"$f":"IF(#REF!=$E$1,IF(#REF!=$G$1,IF(#REF!=\"\",NA(),#REF!),NA()),NA())","v":{"$error":"#REF!"}},{"$f":"IF(#REF!=$E$1,IF(#REF!=$G$1,IF(#REF!=\"\",NA(),#REF!),NA()),NA())","v":{"$error":"#REF!"}},{"$error":"#REF!"},{"$error":"#REF!"}]
[null,null,null,{"$f":"IF(#REF!=$E$1,IF(#REF!=$G$1,#REF!,NA()),NA())","v":{"$error":"#REF!"}},{"$f":"IF(#REF!=$E$1,IF(#REF!=$G$1,#REF!,NA()),NA())","v":{"$error":"#REF!"}},{"$f":"IF(#REF!=$E$1,IF(#REF!=$G$1,IF(#REF!=\"\",NA(),#REF!),NA()),NA())","v":{"$error":"#REF!"}},{"$f":"IF(#REF!=$E$1,IF(#REF!=$G$1,IF(#REF!=\"\",NA(),#REF!),NA()),NA())","v":{"$error":"#REF!"}},{"$error":"#REF!"},{"$error":"#REF!"}]
[null,null,null,{"$f":"IF(#REF!=$E$1,IF(#REF!=$G$1,#REF!,NA()),NA())","v":{"$error":"#REF!"}},{"$f":"IF(#REF!=$E$1,IF(#REF!=$G$1,#REF!,NA()),NA())","v":{"$error":"#REF!"}},{"$f":"IF(#REF!=$E$1,IF(#REF!=$G$1,IF(#REF!=\"\",NA(),#REF!),NA()),NA())","v":{"$error":"#REF!"}},{"$f":"IF(#REF!=$E$1,IF(#REF!=$G$1,IF(#REF!=\"\",NA(),#REF!),NA()),NA())","v":{"$error":"#REF!"}},{"$error":"#REF!"},{"$error":"#REF!"}]
[null,null,null,{"$f":"IF(#REF!=$E$1,IF(#REF!=$G$1,#REF!,NA()),NA())","v":{"$error":"#REF!"}},{"$f":"IF(#REF!=$E$1,IF(#REF!=$G$1,#REF!,NA()),NA())","v":{"$error":"#REF!"}},{"$f":"IF(#REF!=$E$1,IF(#REF!=$G$1,IF(#REF!=\"\",NA(),#REF!),NA()),NA())","v":{"$error":"#REF!"}},{"$f":"IF(#REF!=$E$1,IF(#REF!=$G$1,IF(#REF!=\"\",NA(),#REF!),NA()),NA())","v":{"$error":"#REF!"}},{"$error":"#REF!"},{"$error":"#REF!"}]
[null,null,null,{"$f":"IF(#REF!=$E$1,IF(#REF!=$G$1,#REF!,NA()),NA())","v":{"$error":"#REF!"}},{"$f":"IF(#REF!=$E$1,IF(#REF!=$G$1,#REF!,NA()),NA())","v":{"$error":"#REF!"}},{"$f":"IF(#REF!=$E$1,IF(#REF!=$G$1,IF(#REF!=\"\",NA(),#REF!),NA()),NA())","v":{"$error":"#REF!"}},{"$f":"IF(#REF!=$E$1,IF(#REF!=$G$1,IF(#REF!=\"\",NA(),#REF!),NA()),NA())","v":{"$error":"#REF!"}},{"$error":"#REF!"},{"$error":"#REF!"}]
[null,null,null,{"$f":"IF(#REF!=$E$1,IF(#REF!=$G$1,#REF!,NA()),NA())","v":{"$error":"#REF!"}},{"$f":"IF(#REF!=$E$1,IF(#REF!=$G$1,#REF!,NA()),NA())","v":{"$error":"#REF!"}},{"$f":"IF(#REF!=$E$1,IF(#REF!=$G$1,IF(#REF!=\"\",NA(),#REF!),NA()),NA())","v":{"$error":"#REF!"}},{"$f":"IF(#REF!=$E$1,IF(#REF!=$G$1,IF(#REF!=\"\",NA(),#REF!),NA()),NA())","v":{"$error":"#REF!"}},{"$error":"#REF!"},{"$error":"#REF!"}]
[null,null,null,{"$f":"IF(#REF!=$E$1,IF(#REF!=$G$1,#REF!,NA()),NA())","v":{"$error":"#REF!"}},{"$f":"IF(#REF!=$E$1,IF(#REF!=$G$1,#REF!,NA()),NA())","v":{"$error":"#REF!"}},{"$f":"IF(#REF!=$E$1,IF(#REF!=$G$1,IF(#REF!=\"\",NA(),#REF!),NA()),NA())","v":{"$error":"#REF!"}},{"$f":"IF(#REF!=$E$1,IF(#REF!=$G$1,IF(#REF!=\"\",NA(),#REF!),NA()),NA())","v":{"$error":"#REF!"}},{"$error":"#REF!"},{"$error":"#REF!"}]
[null,null,null,{"$f":"IF(#REF!=$E$1,IF(#REF!=$G$1,#REF!,NA()),NA())","v":{"$error":"#REF!"}},{"$f":"IF(#REF!=$E$1,IF(#REF!=$G$1,#REF!,NA()),NA())","v":{"$error":"#REF!"}},{"$f":"IF(#REF!=$E$1,IF(#REF!=$G$1,IF(#REF!=\"\",NA(),#REF!),NA()),NA())","v":{"$error":"#REF!"}},{"$f":"IF(#REF!=$E$1,IF(#REF!=$G$1,IF(#REF!=\"\",NA(),#REF!),NA()),NA())","v":{"$error":"#REF!"}},{"$f":"IF(AND(ISNUMBER(G516),F516=\"-\"),0,F516)","v":{"$error":"#REF!"}},{"$f":"IF(AND(ISNUMBER(F516),G516=\"-\"),0,G516)","v":{"$error":"#REF!"}}]
[null,null,null,{"$f":"IF(#REF!=$E$1,IF(#REF!=$G$1,#REF!,NA()),NA())","v":{"$error":"#REF!"}},{"$f":"IF(#REF!=$E$1,IF(#REF!=$G$1,#REF!,NA()),NA())","v":{"$error":"#REF!"}},{"$f":"IF(#REF!=$E$1,IF(#REF!=$G$1,IF(#REF!=\"\",NA(),#REF!),NA()),NA())","v":{"$error":"#REF!"}},{"$f":"IF(#REF!=$E$1,IF(#REF!=$G$1,IF(#REF!=\"\",NA(),#REF!),NA()),NA())","v":{"$error":"#REF!"}},{"$error":"#REF!"},{"$error":"#REF!"}]
[null,null,null,{"$f":"IF(#REF!=$E$1,IF(#REF!=$G$1,#REF!,NA()),NA())","v":{"$error":"#REF!"}},{"$f":"IF(#REF!=$E$1,IF(#REF!=$G$1,#REF!,NA()),NA())","v":{"$error":"#REF!"}},{"$f":"IF(#REF!=$E$1,IF(#REF!=$G$1,IF(#REF!=\"\",NA(),#REF!),NA()),NA())","v":{"$error":"#REF!"}},{"$f":"IF(#REF!=$E$1,IF(#REF!=$G$1,IF(#REF!=\"\",NA(),#REF!),NA()),NA())","v":{"$error":"#REF!"}},{"$error":"#REF!"},{"$error":"#REF!"}]
[null,null,null,{"$f":"IF(#REF!=$E$1,IF(#REF!=$G$1,#REF!,NA()),NA())","v":{"$error":"#REF!"}},{"$f":"IF(#REF!=$E$1,IF(#REF!=$G$1,#REF!,NA()),NA())","v":{"$error":"#REF!"}},{"$f":"IF(#REF!=$E$1,IF(#REF!=$G$1,IF(#REF!=\"\",NA(),#REF!),NA()),NA())","v":{"$error":"#REF!"}},{"$f":"IF(#REF!=$E$1,IF(#REF!=$G$1,IF(#REF!=\"\",NA(),#REF!),NA()),NA())","v":{"$error":"#REF!"}},{"$error":"#REF!"},{"$error":"#REF!"}]
[null,null,null,{"$f":"IF(#REF!=$E$1,IF(#REF!=$G$1,#REF!,NA()),NA())","v":{"$error":"#REF!"}},{"$f":"IF(#REF!=$E$1,IF(#REF!=$G$1,#REF!,NA()),NA())","v":{"$error":"#REF!"}},{"$f":"IF(#REF!=$E$1,IF(#REF!=$G$1,IF(#REF!=\"\",NA(),#REF!),NA()),NA())","v":{"$error":"#REF!"}},{"$f":"IF(#REF!=$E$1,IF(#REF!=$G$1,IF(#REF!=\"\",NA(),#REF!),NA()),NA())","v":{"$error":"#REF!"}},{"$error":"#REF!"},{"$error":"#REF!"}]
[null,null,null,{"$f":"IF(#REF!=$E$1,IF(#REF!=$G$1,#REF!,NA()),NA())","v":{"$error":"#REF!"}},{"$f":"IF(#REF!=$E$1,IF(#REF!=$G$1,#REF!,NA()),NA())","v":{"$error":"#REF!"}},{"$f":"IF(#REF!=$E$1,IF(#REF!=$G$1,IF(#REF!=\"\",NA(),#REF!),NA()),NA())","v":{"$error":"#REF!"}},{"$f":"IF(#REF!=$E$1,IF(#REF!=$G$1,IF(#REF!=\"\",NA(),#REF!),NA()),NA())","v":{"$error":"#REF!"}},{"$error":"#REF!"},{"$error":"#REF!"}]
[null,null,null,{"$f":"IF(#REF!=$E$1,IF(#REF!=$G$1,#REF!,NA()),NA())","v":{"$error":"#REF!"}},{"$f":"IF(#REF!=$E$1,IF(#REF!=$G$1,#REF!,NA()),NA())","v":{"$error":"#REF!"}},{"$f":"IF(#REF!=$E$1,IF(#REF!=$G$1,IF(#REF!=\"\",NA(),#REF!),NA()),NA())","v":{"$error":"#REF!"}},{"$f":"IF(#REF!=$E$1,IF(#REF!=$G$1,IF(#REF!=\"\",NA(),#REF!),NA()),NA())","v":{"$error":"#REF!"}},{"$error":"#REF!"},{"$error":"#REF!"}]
[null,null,null,{"$f":"IF(#REF!=$E$1,IF(#REF!=$G$1,#REF!,NA()),NA())","v":{"$error":"#REF!"}},{"$f":"IF(#REF!=$E$1,IF(#REF!=$G$1,#REF!,NA()),NA())","v":{"$error":"#REF!"}},{"$f":"IF(#REF!=$E$1,IF(#REF!=$G$1,IF(#REF!=\"\",NA(),#REF!),NA()),NA())","v":{"$error":"#REF!"}},{"$f":"IF(#REF!=$E$1,IF(#REF!=$G$1,IF(#REF!=\"\",NA(),#REF!),NA()),NA())","v":{"$error":"#REF!"}},{"$error":"#REF!"},{"$error":"#REF!"}]
[null,null,null,{"$f":"IF(#REF!=$E$1,IF(#REF!=$G$1,#REF!,NA()),NA())","v":{"$error":"#REF!"}},{"$f":"IF(#REF!=$E$1,IF(#REF!=$G$1,#REF!,NA()),NA())","v":{"$error":"#REF!"}},{"$f":"IF(#REF!=$E$1,IF(#REF!=$G$1,IF(#REF!=\"\",NA(),#REF!),NA()),NA())","v":{"$error":"#REF!"}},{"$f":"IF(#REF!=$E$1,IF(#REF!=$G$1,IF(#REF!=\"\",NA(),#REF!),NA()),NA())","v":{"$error":"#REF!"}},{"$error":"#REF!"},{"$error":"#REF!"}]
[null,null,null,{"$f":"IF(#REF!=$E$1,IF(#REF!=$G$1,#REF!,NA()),NA())","v":{"$error":"#REF!"}},{"$f":"IF(#REF!=$E$1,IF(#REF!=$G$1,#REF!,NA()),NA())","v":{"$error":"#REF!"}},{"$f":"IF(#REF!=$E$1,IF(#REF!=$G$1,IF(#REF!=\"\",NA(),#REF!),NA()),NA())","v":{"$error":"#REF!"}},{"$f":"IF(#REF!=$E$1,IF(#REF!=$G$1,IF(#REF!=\"\",NA(),#REF!),NA()),NA())","v":{"$error":"#REF!"}},{"$error":"#REF!"},{"$error":"#REF!"}]
[null,null,null,{"$f":"IF(#REF!=$E$1,IF(#REF!=$G$1,#REF!,NA()),NA())","v":{"$error":"#REF!"}},{"$f":"IF(#REF!=$E$1,IF(#REF!=$G$1,#REF!,NA()),NA())","v":{"$error":"#REF!"}},{"$f":"IF(#REF!=$E$1,IF(#REF!=$G$1,IF(#REF!=\"\",NA(),#REF!),NA()),NA())","v":{"$error":"#REF!"}},{"$f":"IF(#REF!=$E$1,IF(#REF!=$G$1,IF(#REF!=\"\",NA(),#REF!),NA()),NA())","v":{"$error":"#REF!"}},{"$error":"#REF!"},{"$error":"#REF!"}]
[null,null,null,{"$f":"IF(#REF!=$E$1,IF(#REF!=$G$1,#REF!,NA()),NA())","v":{"$error":"#REF!"}},{"$f":"IF(#REF!=$E$1,IF(#REF!=$G$1,#REF!,NA()),NA())","v":{"$error":"#REF!"}},{"$f":"IF(#REF!=$E$1,IF(#REF!=$G$1,IF(#REF!=\"\",NA(),#REF!),NA()),NA())","v":{"$error":"#REF!"}},{"$f":"IF(#REF!=$E$1,IF(#REF!=$G$1,IF(#REF!=\"\",NA(),#REF!),NA()),NA())","v":{"$error":"#REF!"}},{"$error":"#REF!"},{"$error":"#REF!"}]
[null,null,null,{"$f":"IF(#REF!=$E$1,IF(#REF!=$G$1,#REF!,NA()),NA())","v":{"$error":"#REF!"}},{"$f":"IF(#REF!=$E$1,IF(#REF!=$G$1,#REF!,NA()),NA())","v":{"$error":"#REF!"}},{"$f":"IF(#REF!=$E$1,IF(#REF!=$G$1,IF(#REF!=\"\",NA(),#REF!),NA()),NA())","v":{"$error":"#REF!"}},{"$f":"IF(#REF!=$E$1,IF(#REF!=$G$1,IF(#REF!=\"\",NA(),#REF!),NA()),NA())","v":{"$error":"#REF!"}},{"$error":"#REF!"},{"$error":"#REF!"}]
[null,null,null,{"$f":"IF(#REF!=$E$1,IF(#REF!=$G$1,#REF!,NA()),NA())","v":{"$error":"#REF!"}},{"$f":"IF(#REF!=$E$1,IF(#REF!=$G$1,#REF!,NA()),NA())","v":{"$error":"#REF!"}},{"$f":"IF(#REF!=$E$1,IF(#REF!=$G$1,IF(#REF!=\"\",NA(),#REF!),NA()),NA())","v":{"$error":"#REF!"}},{"$f":"IF(#REF!=$E$1,IF(#REF!=$G$1,IF(#REF!=\"\",NA(),#REF!),NA()),NA())","v":{"$error":"#REF!"}},{"$error":"#REF!"},{"$error":"#REF!"}]
[null,null,null,{"$f":"IF(#REF!=$E$1,IF(#REF!=$G$1,#REF!,NA()),NA())","v":{"$error":"#REF!"}},{"$f":"IF(#REF!=$E$1,IF(#REF!=$G$1,#REF!,NA()),NA())","v":{"$error":"#REF!"}},{"$f":"IF(#REF!=$E$1,IF(#REF!=$G$1,IF(#REF!=\"\",NA(),#REF!),NA()),NA())","v":{"$error":"#REF!"}},{"$f":"IF(#REF!=$E$1,IF(#REF!=$G$1,IF(#REF!=\"\",NA(),#REF!),NA()),NA())","v":{"$error":"#REF!"}},{"$error":"#REF!"},{"$error":"#REF!"}]
[null,null,null,{"$f":"IF(#REF!=$E$1,IF(#REF!=$G$1,#REF!,NA()),NA())","v":{"$error":"#REF!"}},{"$f":"IF(#REF!=$E$1,IF(#REF!=$G$1,#REF!,NA()),NA())","v":{"$error":"#REF!"}},{"$f":"IF(#REF!=$E$1,IF(#REF!=$G$1,IF(#REF!=\"\",NA(),#REF!),NA()),NA())","v":{"$error":"#REF!"}},{"$f":"IF(#REF!=$E$1,IF(#REF!=$G$1,IF(#REF!=\"\",NA(),#REF!),NA()),NA())","v":{"$error":"#REF!"}},{"$error":"#REF!"},{"$error":"#REF!"}]
[null,null,null,{"$f":"IF(#REF!=$E$1,IF(#REF!=$G$1,#REF!,NA()),NA())","v":{"$error":"#REF!"}},{"$f":"IF(#REF!=$E$1,IF(#REF!=$G$1,#REF!,NA()),NA())","v":{"$error":"#REF!"}},{"$f":"IF(#REF!=$E$1,IF(#REF!=$G$1,IF(#REF!=\"\",NA(),#REF!),NA()),NA())","v":{"$error":"#REF!"}},{"$f":"IF(#REF!=$E$1,IF(#REF!=$G$1,IF(#REF!=\"\",NA(),#REF!),NA()),NA())","v":{"$error":"#REF!"}},{"$error":"#REF!"},{"$error":"#REF!"}]
[null,null,null,{"$f":"IF(#REF!=$E$1,IF(#REF!=$G$1,#REF!,NA()),NA())","v":{"$error":"#REF!"}},{"$f":"IF(#REF!=$E$1,IF(#REF!=$G$1,#REF!,NA()),NA())","v":{"$error":"#REF!"}},{"$f":"IF(#REF!=$E$1,IF(#REF!=$G$1,IF(#REF!=\"\",NA(),#REF!),NA()),NA())","v":{"$error":"#REF!"}},{"$f":"IF(#REF!=$E$1,IF(#REF!=$G$1,IF(#REF!=\"\",NA(),#REF!),NA()),NA())","v":{"$error":"#REF!"}},{"$error":"#REF!"},{"$error":"#REF!"}]
[null,null,null,{"$f":"IF(#REF!=$E$1,IF(#REF!=$G$1,#REF!,NA()),NA())","v":{"$error":"#REF!"}},{"$f":"IF(#REF!=$E$1,IF(#REF!=$G$1,#REF!,NA()),NA())","v":{"$error":"#REF!"}},{"$f":"IF(#REF!=$E$1,IF(#REF!=$G$1,IF(#REF!=\"\",NA(),#REF!),NA()),NA())","v":{"$error":"#REF!"}},{"$f":"IF(#REF!=$E$1,IF(#REF!=$G$1,IF(#REF!=\"\",NA(),#REF!),NA()),NA())","v":{"$error":"#REF!"}},{"$error":"#REF!"},{"$error":"#REF!"}]
[null,null,null,{"$f":"IF(#REF!=$E$1,IF(#REF!=$G$1,#REF!,NA()),NA())","v":{"$error":"#REF!"}},{"$f":"IF(#REF!=$E$1,IF(#REF!=$G$1,#REF!,NA()),NA())","v":{"$error":"#REF!"}},{"$f":"IF(#REF!=$E$1,IF(#REF!=$G$1,IF(#REF!=\"\",NA(),#REF!),NA()),NA())","v":{"$error":"#REF!"}},{"$f":"IF(#REF!=$E$1,IF(#REF!=$G$1,IF(#REF!=\"\",NA(),#REF!),NA()),NA())","v":{"$error":"#REF!"}},{"$error":"#REF!"},{"$error":"#REF!"}]
[null,null,null,{"$f":"IF(#REF!=$E$1,IF(#REF!=$G$1,#REF!,NA()),NA())","v":{"$error":"#REF!"}},{"$f":"IF(#REF!=$E$1,IF(#REF!=$G$1,#REF!,NA()),NA())","v":{"$error":"#REF!"}},{"$f":"IF(#REF!=$E$1,IF(#REF!=$G$1,IF(#REF!=\"\",NA(),#REF!),NA()),NA())","v":{"$error":"#REF!"}},{"$f":"IF(#REF!=$E$1,IF(#REF!=$G$1,IF(#REF!=\"\",NA(),#REF!),NA()),NA())","v":{"$error":"#REF!"}},{"$error":"#REF!"},{"$error":"#REF!"}]
[null,null,null,{"$f":"IF(#REF!=$E$1,IF(#REF!=$G$1,#REF!,NA()),NA())","v":{"$error":"#REF!"}},{"$f":"IF(#REF!=$E$1,IF(#REF!=$G$1,#REF!,NA()),NA())","v":{"$error":"#REF!"}},{"$f":"IF(#REF!=$E$1,IF(#REF!=$G$1,IF(#REF!=\"\",NA(),#REF!),NA()),NA())","v":{"$error":"#REF!"}},{"$f":"IF(#REF!=$E$1,IF(#REF!=$G$1,IF(#REF!=\"\",NA(),#REF!),NA()),NA())","v":{"$error":"#REF!"}},{"$error":"#REF!"},{"$error":"#REF!"}]
[null,null,null,{"$f":"IF(#REF!=$E$1,IF(#REF!=$G$1,#REF!,NA()),NA())","v":{"$error":"#REF!"}},{"$f":"IF(#REF!=$E$1,IF(#REF!=$G$1,#REF!,NA()),NA())","v":{"$error":"#REF!"}},{"$f":"IF(#REF!=$E$1,IF(#REF!=$G$1,IF(#REF!=\"\",NA(),#REF!),NA()),NA())","v":{"$error":"#REF!"}},{"$f":"IF(#REF!=$E$1,IF(#REF!=$G$1,IF(#REF!=\"\",NA(),#REF!),NA()),NA())","v":{"$error":"#REF!"}},{"$error":"#REF!"},{"$error":"#REF!"}]
[null,null,null,{"$f":"IF(#REF!=$E$1,IF(#REF!=$G$1,#REF!,NA()),NA())","v":{"$error":"#REF!"}},{"$f":"IF(#REF!=$E$1,IF(#REF!=$G$1,#REF!,NA()),NA())","v":{"$error":"#REF!"}},{"$f":"IF(#REF!=$E$1,IF(#REF!=$G$1,IF(#REF!=\"\",NA(),#REF!),NA()),NA())","v":{"$error":"#REF!"}},{"$f":"IF(#REF!=$E$1,IF(#REF!=$G$1,IF(#REF!=\"\",NA(),#REF!),NA()),NA())","v":{"$error":"#REF!"}},{"$error":"#REF!"},{"$error":"#REF!"}]
[null,null,null,{"$f":"IF(#REF!=$E$1,IF(#REF!=$G$1,#REF!,NA()),NA())","v":{"$error":"#REF!"}},{"$f":"IF(#REF!=$E$1,IF(#REF!=$G$1,#REF!,NA()),NA())","v":{"$error":"#REF!"}},{"$f":"IF(#REF!=$E$1,IF(#REF!=$G$1,IF(#REF!=\"\",NA(),#REF!),NA()),NA())","v":{"$error":"#REF!"}},{"$f":"IF(#REF!=$E$1,IF(#REF!=$G$1,IF(#REF!=\"\",NA(),#REF!),NA()),NA())","v":{"$error":"#REF!"}},{"$error":"#REF!"},{"$error":"#REF!"}]
[null,null,null,{"$f":"IF(#REF!=$E$1,IF(#REF!=$G$1,#REF!,NA()),NA())","v":{"$error":"#REF!"}},{"$f":"IF(#REF!=$E$1,IF(#REF!=$G$1,#REF!,NA()),NA())","v":{"$error":"#REF!"}},{"$f":"IF(#REF!=$E$1,IF(#REF!=$G$1,IF(#REF!=\"\",NA(),#REF!),NA()),NA())","v":{"$error":"#REF!"}},{"$f":"IF(#REF!=$E$1,IF(#REF!=$G$1,IF(#REF!=\"\",NA(),#REF!),NA()),NA())","v":{"$error":"#REF!"}},{"$error":"#REF!"},{"$error":"#REF!"}]
[null,null,null,{"$f":"IF(#REF!=$E$1,IF(#REF!=$G$1,#REF!,NA()),NA())","v":{"$error":"#REF!"}},{"$f":"IF(#REF!=$E$1,IF(#REF!=$G$1,#REF!,NA()),NA())","v":{"$error":"#REF!"}},{"$f":"IF(#REF!=$E$1,IF(#REF!=$G$1,IF(#REF!=\"\",NA(),#REF!),NA()),NA())","v":{"$error":"#REF!"}},{"$f":"IF(#REF!=$E$1,IF(#REF!=$G$1,IF(#REF!=\"\",NA(),#REF!),NA()),NA())","v":{"$error":"#REF!"}},{"$error":"#REF!"},{"$error":"#REF!"}]
[null,null,null,{"$f":"IF(#REF!=$E$1,IF(#REF!=$G$1,#REF!,NA()),NA())","v":{"$error":"#REF!"}},{"$f":"IF(#REF!=$E$1,IF(#REF!=$G$1,#REF!,NA()),NA())","v":{"$error":"#REF!"}},{"$f":"IF(#REF!=$E$1,IF(#REF!=$G$1,IF(#REF!=\"\",NA(),#REF!),NA()),NA())","v":{"$error":"#REF!"}},{"$f":"IF(#REF!=$E$1,IF(#REF!=$G$1,IF(#REF!=\"\",NA(),#REF!),NA()),NA())","v":{"$error":"#REF!"}},{"$error":"#REF!"},{"$error":"#REF!"}]
[null,null,null,{"$f":"IF(#REF!=$E$1,IF(#REF!=$G$1,#REF!,NA()),NA())","v":{"$error":"#REF!"}},{"$f":"IF(#REF!=$E$1,IF(#REF!=$G$1,#REF!,NA()),NA())","v":{"$error":"#REF!"}},{"$f":"IF(#REF!=$E$1,IF(#REF!=$G$1,IF(#REF!=\"\",NA(),#REF!),NA()),NA())","v":{"$error":"#REF!"}},{"$f":"IF(#REF!=$E$1,IF(#REF!=$G$1,IF(#REF!=\"\",NA(),#REF!),NA()),NA())","v":{"$error":"#REF!"}},{"$error":"#REF!"},{"$error":"#REF!"}]
[null,null,null,{"$f":"IF(#REF!=$E$1,IF(#REF!=$G$1,#REF!,NA()),NA())","v":{"$error":"#REF!"}},{"$f":"IF(#REF!=$E$1,IF(#REF!=$G$1,#REF!,NA()),NA())","v":{"$error":"#REF!"}},{"$f":"IF(#REF!=$E$1,IF(#REF!=$G$1,IF(#REF!=\"\",NA(),#REF!),NA()),NA())","v":{"$error":"#REF!"}},{"$f":"IF(#REF!=$E$1,IF(#REF!=$G$1,IF(#REF!=\"\",NA(),#REF!),NA()),NA())","v":{"$error":"#REF!"}},{"$error":"#REF!"},{"$error":"#REF!"}]
[null,null,null,{"$f":"IF(#REF!=$E$1,IF(#REF!=$G$1,#REF!,NA()),NA())","v":{"$error":"#REF!"}},{"$f":"IF(#REF!=$E$1,IF(#REF!=$G$1,#REF!,NA()),NA())","v":{"$error":"#REF!"}},{"$f":"IF(#REF!=$E$1,IF(#REF!=$G$1,IF(#REF!=\"\",NA(),#REF!),NA()),NA())","v":{"$error":"#REF!"}},{"$f":"IF(#REF!=$E$1,IF(#REF!=$G$1,IF(#REF!=\"\",NA(),#REF!),NA()),NA())","v":{"$error":"#REF!"}},{"$error":"#REF!"},{"$error":"#REF!"}]
[null,null,null,{"$f":"IF(#REF!=$E$1,IF(#REF!=$G$1,#REF!,NA()),NA())","v":{"$error":"#REF!"}},{"$f":"IF(#REF!=$E$1,IF(#REF!=$G$1,#REF!,NA()),NA())","v":{"$error":"#REF!"}},{"$f":"IF(#REF!=$E$1,IF(#REF!=$G$1,IF(#REF!=\"\",NA(),#REF!),NA()),NA())","v":{"$error":"#REF!"}},{"$f":"IF(#REF!=$E$1,IF(#REF!=$G$1,IF(#REF!=\"\",NA(),#REF!),NA()),NA())","v":{"$error":"#REF!"}},{"$error":"#REF!"},{"$error":"#REF!"}]
[null,null,null,{"$f":"IF(#REF!=$E$1,IF(#REF!=$G$1,#REF!,NA()),NA())","v":{"$error":"#REF!"}},{"$f":"IF(#REF!=$E$1,IF(#REF!=$G$1,#REF!,NA()),NA())","v":{"$error":"#REF!"}},{"$f":"IF(#REF!=$E$1,IF(#REF!=$G$1,IF(#REF!=\"\",NA(),#REF!),NA()),NA())","v":{"$error":"#REF!"}},{"$f":"IF(#REF!=$E$1,IF(#REF!=$G$1,IF(#REF!=\"\",NA(),#REF!),NA()),NA())","v":{"$error":"#REF!"}},{"$error":"#REF!"},{"$error":"#REF!"}]
[null,null,null,{"$f":"IF(#REF!=$E$1,IF(#REF!=$G$1,#REF!,NA()),NA())","v":{"$error":"#REF!"}},{"$f":"IF(#REF!=$E$1,IF(#REF!=$G$1,#REF!,NA()),NA())","v":{"$error":"#REF!"}},{"$f":"IF(#REF!=$E$1,IF(#REF!=$G$1,IF(#REF!=\"\",NA(),#REF!),NA()),NA())","v":{"$error":"#REF!"}},{"$f":"IF(#REF!=$E$1,IF(#REF!=$G$1,IF(#REF!=\"\",NA(),#REF!),NA()),NA())","v":{"$error":"#REF!"}},{"$error":"#REF!"},{"$error":"#REF!"}]
[null,null,null,{"$f":"IF(#REF!=$E$1,IF(#REF!=$G$1,#REF!,NA()),NA())","v":{"$error":"#REF!"}},{"$f":"IF(#REF!=$E$1,IF(#REF!=$G$1,#REF!,NA()),NA())","v":{"$error":"#REF!"}},{"$f":"IF(#REF!=$E$1,IF(#REF!=$G$1,IF(#REF!=\"\",NA(),#REF!),NA()),NA())","v":{"$error":"#REF!"}},{"$f":"IF(#REF!=$E$1,IF(#REF!=$G$1,IF(#REF!=\"\",NA(),#REF!),NA()),NA())","v":{"$error":"#REF!"}},{"$error":"#REF!"},{"$error":"#REF!"}]
[null,null,null,{"$f":"IF(#REF!=$E$1,IF(#REF!=$G$1,#REF!,NA()),NA())","v":{"$error":"#REF!"}},{"$f":"IF(#REF!=$E$1,IF(#REF!=$G$1,#REF!,NA()),NA())","v":{"$error":"#REF!"}},{"$f":"IF(#REF!=$E$1,IF(#REF!=$G$1,IF(#REF!=\"\",NA(),#REF!),NA()),NA())","v":{"$error":"#REF!"}},{"$f":"IF(#REF!=$E$1,IF(#REF!=$G$1,IF(#REF!=\"\",NA(),#REF!),NA()),NA())","v":{"$error":"#REF!"}},{"$error":"#REF!"},{"$error":"#REF!"}]
[null,null,null,{"$f":"IF(#REF!=$E$1,IF(#REF!=$G$1,#REF!,NA()),NA())","v":{"$error":"#REF!"}},{"$f":"IF(#REF!=$E$1,IF(#REF!=$G$1,#REF!,NA()),NA())","v":{"$error":"#REF!"}},{"$f":"IF(#REF!=$E$1,IF(#REF!=$G$1,IF(#REF!=\"\",NA(),#REF!),NA()),NA())","v":{"$error":"#REF!"}},{"$f":"IF(#REF!=$E$1,IF(#REF!=$G$1,IF(#REF!=\"\",NA(),#REF!),NA()),NA())","v":{"$error":"#REF!"}},{"$error":"#REF!"},{"$error":"#REF!"}]
[null,null,null,{"$f":"IF(#REF!=$E$1,IF(#REF!=$G$1,#REF!,NA()),NA())","v":{"$error":"#REF!"}},{"$f":"IF(#REF!=$E$1,IF(#REF!=$G$1,#REF!,NA()),NA())","v":{"$error":"#REF!"}},{"$f":"IF(#REF!=$E$1,IF(#REF!=$G$1,IF(#REF!=\"\",NA(),#REF!),NA()),NA())","v":{"$error":"#REF!"}},{"$f":"IF(#REF!=$E$1,IF(#REF!=$G$1,IF(#REF!=\"\",NA(),#REF!),NA()),NA())","v":{"$error":"#REF!"}},{"$error":"#REF!"},{"$error":"#REF!"}]
[null,null,null,{"$f":"IF(#REF!=$E$1,IF(#REF!=$G$1,#REF!,NA()),NA())","v":{"$error":"#REF!"}},{"$f":"IF(#REF!=$E$1,IF(#REF!=$G$1,#REF!,NA()),NA())","v":{"$error":"#REF!"}},{"$f":"IF(#REF!=$E$1,IF(#REF!=$G$1,IF(#REF!=\"\",NA(),#REF!),NA()),NA())","v":{"$error":"#REF!"}},{"$f":"IF(#REF!=$E$1,IF(#REF!=$G$1,IF(#REF!=\"\",NA(),#REF!),NA()),NA())","v":{"$error":"#REF!"}},{"$error":"#REF!"},{"$error":"#REF!"}]
[null,null,null,{"$f":"IF(#REF!=$E$1,IF(#REF!=$G$1,#REF!,NA()),NA())","v":{"$error":"#REF!"}},{"$f":"IF(#REF!=$E$1,IF(#REF!=$G$1,#REF!,NA()),NA())","v":{"$error":"#REF!"}},{"$f":"IF(#REF!=$E$1,IF(#REF!=$G$1,IF(#REF!=\"\",NA(),#REF!),NA()),NA())","v":{"$error":"#REF!"}},{"$f":"IF(#REF!=$E$1,IF(#REF!=$G$1,IF(#REF!=\"\",NA(),#REF!),NA()),NA())","v":{"$error":"#REF!"}},{"$error":"#REF!"},{"$error":"#REF!"}]
[null,null,null,{"$f":"IF(#REF!=$E$1,IF(#REF!=$G$1,#REF!,NA()),NA())","v":{"$error":"#REF!"}},{"$f":"IF(#REF!=$E$1,IF(#REF!=$G$1,#REF!,NA()),NA())","v":{"$error":"#REF!"}},{"$f":"IF(#REF!=$E$1,IF(#REF!=$G$1,IF(#REF!=\"\",NA(),#REF!),NA()),NA())","v":{"$error":"#REF!"}},{"$f":"IF(#REF!=$E$1,IF(#REF!=$G$1,IF(#REF!=\"\",NA(),#REF!),NA()),NA())","v":{"$error":"#REF!"}},{"$error":"#REF!"},{"$error":"#REF!"}]
[null,null,null,{"$f":"IF(#REF!=$E$1,IF(#REF!=$G$1,#REF!,NA()),NA())","v":{"$error":"#REF!"}},{"$f":"IF(#REF!=$E$1,IF(#REF!=$G$1,#REF!,NA()),NA())","v":{"$error":"#REF!"}},{"$f":"IF(#REF!=$E$1,IF(#REF!=$G$1,IF(#REF!=\"\",NA(),#REF!),NA()),NA())","v":{"$error":"#REF!"}},{"$f":"IF(#REF!=$E$1,IF(#REF!=$G$1,IF(#REF!=\"\",NA(),#REF!),NA()),NA())","v":{"$error":"#REF!"}},{"$error":"#REF!"},{"$error":"#REF!"}]
[null,null,null,{"$f":"IF(#REF!=$E$1,IF(#REF!=$G$1,#REF!,NA()),NA())","v":{"$error":"#REF!"}},{"$f":"IF(#REF!=$E$1,IF(#REF!=$G$1,#REF!,NA()),NA())","v":{"$error":"#REF!"}},{"$f":"IF(#REF!=$E$1,IF(#REF!=$G$1,IF(#REF!=\"\",NA(),#REF!),NA()),NA())","v":{"$error":"#REF!"}},{"$f":"IF(#REF!=$E$1,IF(#REF!=$G$1,IF(#REF!=\"\",NA(),#REF!),NA()),NA())","v":{"$error":"#REF!"}},{"$error":"#REF!"},{"$error":"#REF!"}]
[null,null,null,{"$f":"IF(#REF!=$E$1,IF(#REF!=$G$1,#REF!,NA()),NA())","v":{"$error":"#REF!"}},{"$f":"IF(#REF!=$E$1,IF(#REF!=$G$1,#REF!,NA()),NA())","v":{"$error":"#REF!"}},{"$f":"IF(#REF!=$E$1,IF(#REF!=$G$1,IF(#REF!=\"\",NA(),#REF!),NA()),NA())","v":{"$error":"#REF!"}},{"$f":"IF(#REF!=$E$1,IF(#REF!=$G$1,IF(#REF!=\"\",NA(),#REF!),NA()),NA())","v":{"$error":"#REF!"}},{"$error":"#REF!"},{"$error":"#REF!"}]
[null,null,null,{"$f":"IF(#REF!=$E$1,IF(#REF!=$G$1,#REF!,NA()),NA())","v":{"$error":"#REF!"}},{"$f":"IF(#REF!=$E$1,IF(#REF!=$G$1,#REF!,NA()),NA())","v":{"$error":"#REF!"}},{"$f":"IF(#REF!=$E$1,IF(#REF!=$G$1,IF(#REF!=\"\",NA(),#REF!),NA()),NA())","v":{"$error":"#REF!"}},{"$f":"IF(#REF!=$E$1,IF(#REF!=$G$1,IF(#REF!=\"\",NA(),#REF!),NA()),NA())","v":{"$error":"#REF!"}},{"$error":"#REF!"},{"$error":"#REF!"}]
[null,null,null,{"$f":"IF(#REF!=$E$1,IF(#REF!=$G$1,#REF!,NA()),NA())","v":{"$error":"#REF!"}},{"$f":"IF(#REF!=$E$1,IF(#REF!=$G$1,#REF!,NA()),NA())","v":{"$error":"#REF!"}},{"$f":"IF(#REF!=$E$1,IF(#REF!=$G$1,IF(#REF!=\"\",NA(),#REF!),NA()),NA())","v":{"$error":"#REF!"}},{"$f":"IF(#REF!=$E$1,IF(#REF!=$G$1,IF(#REF!=\"\",NA(),#REF!),NA()),NA())","v":{"$error":"#REF!"}},{"$error":"#REF!"},{"$error":"#REF!"}]
[null,null,null,{"$f":"IF(#REF!=$E$1,IF(#REF!=$G$1,#REF!,NA()),NA())","v":{"$error":"#REF!"}},{"$f":"IF(#REF!=$E$1,IF(#REF!=$G$1,#REF!,NA()),NA())","v":{"$error":"#REF!"}},{"$f":"IF(#REF!=$E$1,IF(#REF!=$G$1,IF(#REF!=\"\",NA(),#REF!),NA()),NA())","v":{"$error":"#REF!"}},{"$f":"IF(#REF!=$E$1,IF(#REF!=$G$1,IF(#REF!=\"\",NA(),#REF!),NA()),NA())","v":{"$error":"#REF!"}},{"$error":"#REF!"},{"$error":"#REF!"}]
[null,null,null,{"$f":"IF(#REF!=$E$1,IF(#REF!=$G$1,#REF!,NA()),NA())","v":{"$error":"#REF!"}},{"$f":"IF(#REF!=$E$1,IF(#REF!=$G$1,#REF!,NA()),NA())","v":{"$error":"#REF!"}},{"$f":"IF(#REF!=$E$1,IF(#REF!=$G$1,IF(#REF!=\"\",NA(),#REF!),NA()),NA())","v":{"$error":"#REF!"}},{"$f":"IF(#REF!=$E$1,IF(#REF!=$G$1,IF(#REF!=\"\",NA(),#REF!),NA()),NA())","v":{"$error":"#REF!"}},{"$error":"#REF!"},{"$error":"#REF!"}]
[null,null,null,{"$f":"IF(#REF!=$E$1,IF(#REF!=$G$1,#REF!,NA()),NA())","v":{"$error":"#REF!"}},{"$f":"IF(#REF!=$E$1,IF(#REF!=$G$1,#REF!,NA()),NA())","v":{"$error":"#REF!"}},{"$f":"IF(#REF!=$E$1,IF(#REF!=$G$1,IF(#REF!=\"\",NA(),#REF!),NA()),NA())","v":{"$error":"#REF!"}},{"$f":"IF(#REF!=$E$1,IF(#REF!=$G$1,IF(#REF!=\"\",NA(),#REF!),NA()),NA())","v":{"$error":"#REF!"}},{"$error":"#REF!"},{"$error":"#REF!"}]
[null,null,null,{"$f":"IF(#REF!=$E$1,IF(#REF!=$G$1,#REF!,NA()),NA())","v":{"$error":"#REF!"}},{"$f":"IF(#REF!=$E$1,IF(#REF!=$G$1,#REF!,NA()),NA())","v":{"$error":"#REF!"}},{"$f":"IF(#REF!=$E$1,IF(#REF!=$G$1,IF(#REF!=\"\",NA(),#REF!),NA()),NA())","v":{"$error":"#REF!"}},{"$f":"IF(#REF!=$E$1,IF(#REF!=$G$1,IF(#REF!=\"\",NA(),#REF!),NA()),NA())","v":{"$error":"#REF!"}},{"$error":"#REF!"},{"$error":"#REF!"}]
[null,null,null,{"$f":"IF(#REF!=$E$1,IF(#REF!=$G$1,#REF!,NA()),NA())","v":{"$error":"#REF!"}},{"$f":"IF(#REF!=$E$1,IF(#REF!=$G$1,#REF!,NA()),NA())","v":{"$error":"#REF!"}},{"$f":"IF(#REF!=$E$1,IF(#REF!=$G$1,IF(#REF!=\"\",NA(),#REF!),NA()),NA())","v":{"$error":"#REF!"}},{"$f":"IF(#REF!=$E$1,IF(#REF!=$G$1,IF(#REF!=\"\",NA(),#REF!),NA()),NA())","v":{"$error":"#REF!"}},{"$error":"#REF!"},{"$error":"#REF!"}]
[null,null,null,{"$f":"IF(#REF!=$E$1,IF(#REF!=$G$1,#REF!,NA()),NA())","v":{"$error":"#REF!"}},{"$f":"IF(#REF!=$E$1,IF(#REF!=$G$1,#REF!,NA()),NA())","v":{"$error":"#REF!"}},{"$f":"IF(#REF!=$E$1,IF(#REF!=$G$1,IF(#REF!=\"\",NA(),#REF!),NA()),NA())","v":{"$error":"#REF!"}},{"$f":"IF(#REF!=$E$1,IF(#REF!=$G$1,IF(#REF!=\"\",NA(),#REF!),NA()),NA())","v":{"$error":"#REF!"}},{"$error":"#REF!"},{"$error":"#REF!"}]
[null,null,null,{"$f":"IF(#REF!=$E$1,IF(#REF!=$G$1,#REF!,NA()),NA())","v":{"$error":"#REF!"}},{"$f":"IF(#REF!=$E$1,IF(#REF!=$G$1,#REF!,NA()),NA())","v":{"$error":"#REF!"}},{"$f":"IF(#REF!=$E$1,IF(#REF!=$G$1,IF(#REF!=\"\",NA(),#REF!),NA()),NA())","v":{"$error":"#REF!"}},{"$f":"IF(#REF!=$E$1,IF(#REF!=$G$1,IF(#REF!=\"\",NA(),#REF!),NA()),NA())","v":{"$error":"#REF!"}},{"$error":"#REF!"},{"$error":"#REF!"}]
[null,null,null,{"$f":"IF(#REF!=$E$1,IF(#REF!=$G$1,#REF!,NA()),NA())","v":{"$error":"#REF!"}},{"$f":"IF(#REF!=$E$1,IF(#REF!=$G$1,#REF!,NA()),NA())","v":{"$error":"#REF!"}},{"$f":"IF(#REF!=$E$1,IF(#REF!=$G$1,IF(#REF!=\"\",NA(),#REF!),NA()),NA())","v":{"$error":"#REF!"}},{"$f":"IF(#REF!=$E$1,IF(#REF!=$G$1,IF(#REF!=\"\",NA(),#REF!),NA()),NA())","v":{"$error":"#REF!"}},{"$error":"#REF!"},{"$error":"#REF!"}]
[null,null,null,{"$f":"IF(#REF!=$E$1,IF(#REF!=$G$1,#REF!,NA()),NA())","v":{"$error":"#REF!"}},{"$f":"IF(#REF!=$E$1,IF(#REF!=$G$1,#REF!,NA()),NA())","v":{"$error":"#REF!"}},{"$f":"IF(#REF!=$E$1,IF(#REF!=$G$1,IF(#REF!=\"\",NA(),#REF!),NA()),NA())","v":{"$error":"#REF!"}},{"$f":"IF(#REF!=$E$1,IF(#REF!=$G$1,IF(#REF!=\"\",NA(),#REF!),NA()),NA())","v":{"$error":"#REF!"}},{"$error":"#REF!"},{"$error":"#REF!"}]
[null,null,null,{"$f":"IF(#REF!=$E$1,IF(#REF!=$G$1,#REF!,NA()),NA())","v":{"$error":"#REF!"}},{"$f":"IF(#REF!=$E$1,IF(#REF!=$G$1,#REF!,NA()),NA())","v":{"$error":"#REF!"}},{"$f":"IF(#REF!=$E$1,IF(#REF!=$G$1,IF(#REF!=\"\",NA(),#REF!),NA()),NA())","v":{"$error":"#REF!"}},{"$f":"IF(#REF!=$E$1,IF(#REF!=$G$1,IF(#REF!=\"\",NA(),#REF!),NA()),NA())","v":{"$error":"#REF!"}},{"$error":"#REF!"},{"$error":"#REF!"}]
[null,null,null,{"$f":"IF(#REF!=$E$1,IF(#REF!=$G$1,#REF!,NA()),NA())","v":{"$error":"#REF!"}},{"$f":"IF(#REF!=$E$1,IF(#REF!=$G$1,#REF!,NA()),NA())","v":{"$error":"#REF!"}},{"$f":"IF(#REF!=$E$1,IF(#REF!=$G$1,IF(#REF!=\"\",NA(),#REF!),NA()),NA())","v":{"$error":"#REF!"}},{"$f":"IF(#REF!=$E$1,IF(#REF!=$G$1,IF(#REF!=\"\",NA(),#REF!),NA()),NA())","v":{"$error":"#REF!"}},{"$error":"#REF!"},{"$error":"#REF!"}]
[null,null,null,{"$f":"IF(#REF!=$E$1,IF(#REF!=$G$1,#REF!,NA()),NA())","v":{"$error":"#REF!"}},{"$f":"IF(#REF!=$E$1,IF(#REF!=$G$1,#REF!,NA()),NA())","v":{"$error":"#REF!"}},{"$f":"IF(#REF!=$E$1,IF(#REF!=$G$1,IF(#REF!=\"\",NA(),#REF!),NA()),NA())","v":{"$error":"#REF!"}},{"$f":"IF(#REF!=$E$1,IF(#REF!=$G$1,IF(#REF!=\"\",NA(),#REF!),NA()),NA())","v":{"$error":"#REF!"}},{"$error":"#REF!"},{"$error":"#REF!"}]
[null,null,null,{"$f":"IF(#REF!=$E$1,IF(#REF!=$G$1,#REF!,NA()),NA())","v":{"$error":"#REF!"}},{"$f":"IF(#REF!=$E$1,IF(#REF!=$G$1,#REF!,NA()),NA())","v":{"$error":"#REF!"}},{"$f":"IF(#REF!=$E$1,IF(#REF!=$G$1,IF(#REF!=\"\",NA(),#REF!),NA()),NA())","v":{"$error":"#REF!"}},{"$f":"IF(#REF!=$E$1,IF(#REF!=$G$1,IF(#REF!=\"\",NA(),#REF!),NA()),NA())","v":{"$error":"#REF!"}},{"$error":"#REF!"},{"$error":"#REF!"}]
[null,null,null,{"$f":"IF(#REF!=$E$1,IF(#REF!=$G$1,#REF!,NA()),NA())","v":{"$error":"#REF!"}},{"$f":"IF(#REF!=$E$1,IF(#REF!=$G$1,#REF!,NA()),NA())","v":{"$error":"#REF!"}},{"$f":"IF(#REF!=$E$1,IF(#REF!=$G$1,IF(#REF!=\"\",NA(),#REF!),NA()),NA())","v":{"$error":"#REF!"}},{"$f":"IF(#REF!=$E$1,IF(#REF!=$G$1,IF(#REF!=\"\",NA(),#REF!),NA()),NA())","v":{"$error":"#REF!"}},{"$error":"#REF!"},{"$error":"#REF!"}]
[null,null,null,{"$f":"IF(#REF!=$E$1,IF(#REF!=$G$1,#REF!,NA()),NA())","v":{"$error":"#REF!"}},{"$f":"IF(#REF!=$E$1,IF(#REF!=$G$1,#REF!,NA()),NA())","v":{"$error":"#REF!"}},{"$f":"IF(#REF!=$E$1,IF(#REF!=$G$1,IF(#REF!=\"\",NA(),#REF!),NA()),NA())","v":{"$error":"#REF!"}},{"$f":"IF(#REF!=$E$1,IF(#REF!=$G$1,IF(#REF!=\"\",NA(),#REF!),NA()),NA())","v":{"$error":"#REF!"}},{"$error":"#REF!"},{"$error":"#REF!"}]
[null,null,null,{"$f":"IF(#REF!=$E$1,IF(#REF!=$G$1,#REF!,NA()),NA())","v":{"$error":"#REF!"}},{"$f":"IF(#REF!=$E$1,IF(#REF!=$G$1,#REF!,NA()),NA())","v":{"$error":"#REF!"}},{"$f":"IF(#REF!=$E$1,IF(#REF!=$G$1,IF(#REF!=\"\",NA(),#REF!),NA()),NA())","v":{"$error":"#REF!"}},{"$f":"IF(#REF!=$E$1,IF(#REF!=$G$1,IF(#REF!=\"\",NA(),#REF!),NA()),NA())","v":{"$error":"#REF!"}},{"$error":"#REF!"},{"$error":"#REF!"}]
[null,null,null,{"$f":"IF(#REF!=$E$1,IF(#REF!=$G$1,#REF!,NA()),NA())","v":{"$error":"#REF!"}},{"$f":"IF(#REF!=$E$1,IF(#REF!=$G$1,#REF!,NA()),NA())","v":{"$error":"#REF!"}},{"$f":"IF(#REF!=$E$1,IF(#REF!=$G$1,IF(#REF!=\"\",NA(),#REF!),NA()),NA())","v":{"$error":"#REF!"}},{"$f":"IF(#REF!=$E$1,IF(#REF!=$G$1,IF(#REF!=\"\",NA(),#REF!),NA()),NA())","v":{"$error":"#REF!"}},{"$error":"#REF!"},{"$error":"#REF!"}]
[null,null,null,{"$f":"IF(#REF!=$E$1,IF(#REF!=$G$1,#REF!,NA()),NA())","v":{"$error":"#REF!"}},{"$f":"IF(#REF!=$E$1,IF(#REF!=$G$1,#REF!,NA()),NA())","v":{"$error":"#REF!"}},{"$f":"IF(#REF!=$E$1,IF(#REF!=$G$1,IF(#REF!=\"\",NA(),#REF!),NA()),NA())","v":{"$error":"#REF!"}},{"$f":"IF(#REF!=$E$1,IF(#REF!=$G$1,IF(#REF!=\"\",NA(),#REF!),NA()),NA())","v":{"$error":"#REF!"}},{"$error":"#REF!"},{"$error":"#REF!"}]
[null,null,null,{"$f":"IF(#REF!=$E$1,IF(#REF!=$G$1,#REF!,NA()),NA())","v":{"$error":"#REF!"}},{"$f":"IF(#REF!=$E$1,IF(#REF!=$G$1,#REF!,NA()),NA())","v":{"$error":"#REF!"}},{"$f":"IF(#REF!=$E$1,IF(#REF!=$G$1,IF(#REF!=\"\",NA(),#REF!),NA()),NA())","v":{"$error":"#REF!"}},{"$f":"IF(#REF!=$E$1,IF(#REF!=$G$1,IF(#REF!=\"\",NA(),#REF!),NA()),NA())","v":{"$error":"#REF!"}},{"$f":"IF(AND(ISNUMBER(G580),F580=\"-\"),0,F580)","v":{"$error":"#REF!"}},{"$f":"IF(AND(ISNUMBER(F580),G580=\"-\"),0,G580)","v":{"$error":"#REF!"}}]
[null,null,null,{"$f":"IF(#REF!=$E$1,IF(#REF!=$G$1,#REF!,NA()),NA())","v":{"$error":"#REF!"}},{"$f":"IF(#REF!=$E$1,IF(#REF!=$G$1,#REF!,NA()),NA())","v":{"$error":"#REF!"}},{"$f":"IF(#REF!=$E$1,IF(#REF!=$G$1,IF(#REF!=\"\",NA(),#REF!),NA()),NA())","v":{"$error":"#REF!"}},{"$f":"IF(#REF!=$E$1,IF(#REF!=$G$1,IF(#REF!=\"\",NA(),#REF!),NA()),NA())","v":{"$error":"#REF!"}},{"$error":"#REF!"},{"$error":"#REF!"}]
[null,null,null,{"$f":"IF(#REF!=$E$1,IF(#REF!=$G$1,#REF!,NA()),NA())","v":{"$error":"#REF!"}},{"$f":"IF(#REF!=$E$1,IF(#REF!=$G$1,#REF!,NA()),NA())","v":{"$error":"#REF!"}},{"$f":"IF(#REF!=$E$1,IF(#REF!=$G$1,IF(#REF!=\"\",NA(),#REF!),NA()),NA())","v":{"$error":"#REF!"}},{"$f":"IF(#REF!=$E$1,IF(#REF!=$G$1,IF(#REF!=\"\",NA(),#REF!),NA()),NA())","v":{"$error":"#REF!"}},{"$error":"#REF!"},{"$error":"#REF!"}]
[null,null,null,{"$f":"IF(#REF!=$E$1,IF(#REF!=$G$1,#REF!,NA()),NA())","v":{"$error":"#REF!"}},{"$f":"IF(#REF!=$E$1,IF(#REF!=$G$1,#REF!,NA()),NA())","v":{"$error":"#REF!"}},{"$f":"IF(#REF!=$E$1,IF(#REF!=$G$1,IF(#REF!=\"\",NA(),#REF!),NA()),NA())","v":{"$error":"#REF!"}},{"$f":"IF(#REF!=$E$1,IF(#REF!=$G$1,IF(#REF!=\"\",NA(),#REF!),NA()),NA())","v":{"$error":"#REF!"}},{"$error":"#REF!"},{"$error":"#REF!"}]
[null,null,null,{"$f":"IF(#REF!=$E$1,IF(#REF!=$G$1,#REF!,NA()),NA())","v":{"$error":"#REF!"}},{"$f":"IF(#REF!=$E$1,IF(#REF!=$G$1,#REF!,NA()),NA())","v":{"$error":"#REF!"}},{"$f":"IF(#REF!=$E$1,IF(#REF!=$G$1,IF(#REF!=\"\",NA(),#REF!),NA()),NA())","v":{"$error":"#REF!"}},{"$f":"IF(#REF!=$E$1,IF(#REF!=$G$1,IF(#REF!=\"\",NA(),#REF!),NA()),NA())","v":{"$error":"#REF!"}},{"$error":"#REF!"},{"$error":"#REF!"}]
[null,null,null,{"$f":"IF(#REF!=$E$1,IF(#REF!=$G$1,#REF!,NA()),NA())","v":{"$error":"#REF!"}},{"$f":"IF(#REF!=$E$1,IF(#REF!=$G$1,#REF!,NA()),NA())","v":{"$error":"#REF!"}},{"$f":"IF(#REF!=$E$1,IF(#REF!=$G$1,IF(#REF!=\"\",NA(),#REF!),NA()),NA())","v":{"$error":"#REF!"}},{"$f":"IF(#REF!=$E$1,IF(#REF!=$G$1,IF(#REF!=\"\",NA(),#REF!),NA()),NA())","v":{"$error":"#REF!"}},{"$error":"#REF!"},{"$error":"#REF!"}]
[null,null,null,{"$f":"IF(#REF!=$E$1,IF(#REF!=$G$1,#REF!,NA()),NA())","v":{"$error":"#REF!"}},{"$f":"IF(#REF!=$E$1,IF(#REF!=$G$1,#REF!,NA()),NA())","v":{"$error":"#REF!"}},{"$f":"IF(#REF!=$E$1,IF(#REF!=$G$1,IF(#REF!=\"\",NA(),#REF!),NA()),NA())","v":{"$error":"#REF!"}},{"$f":"IF(#REF!=$E$1,IF(#REF!=$G$1,IF(#REF!=\"\",NA(),#REF!),NA()),NA())","v":{"$error":"#REF!"}},{"$error":"#REF!"},{"$error":"#REF!"}]
[null,null,null,{"$f":"IF(#REF!=$E$1,IF(#REF!=$G$1,#REF!,NA()),NA())","v":{"$error":"#REF!"}},{"$f":"IF(#REF!=$E$1,IF(#REF!=$G$1,#REF!,NA()),NA())","v":{"$error":"#REF!"}},{"$f":"IF(#REF!=$E$1,IF(#REF!=$G$1,IF(#REF!=\"\",NA(),#REF!),NA()),NA())","v":{"$error":"#REF!"}},{"$f":"IF(#REF!=$E$1,IF(#REF!=$G$1,IF(#REF!=\"\",NA(),#REF!),NA()),NA())","v":{"$error":"#REF!"}},{"$error":"#REF!"},{"$error":"#REF!"}]
[null,null,null,{"$f":"IF(#REF!=$E$1,IF(#REF!=$G$1,#REF!,NA()),NA())","v":{"$error":"#REF!"}},{"$f":"IF(#REF!=$E$1,IF(#REF!=$G$1,#REF!,NA()),NA())","v":{"$error":"#REF!"}},{"$f":"IF(#REF!=$E$1,IF(#REF!=$G$1,IF(#REF!=\"\",NA(),#REF!),NA()),NA())","v":{"$error":"#REF!"}},{"$f":"IF(#REF!=$E$1,IF(#REF!=$G$1,IF(#REF!=\"\",NA(),#REF!),NA()),NA())","v":{"$error":"#REF!"}},{"$error":"#REF!"},{"$error":"#REF!"}]
[null,null,null,{"$f":"IF(#REF!=$E$1,IF(#REF!=$G$1,#REF!,NA()),NA())","v":{"$error":"#REF!"}},{"$f":"IF(#REF!=$E$1,IF(#REF!=$G$1,#REF!,NA()),NA())","v":{"$error":"#REF!"}},{"$f":"IF(#REF!=$E$1,IF(#REF!=$G$1,IF(#REF!=\"\",NA(),#REF!),NA()),NA())","v":{"$error":"#REF!"}},{"$f":"IF(#REF!=$E$1,IF(#REF!=$G$1,IF(#REF!=\"\",NA(),#REF!),NA()),NA())","v":{"$error":"#REF!"}},{"$error":"#REF!"},{"$error":"#REF!"}]
[null,null,null,{"$f":"IF(#REF!=$E$1,IF(#REF!=$G$1,#REF!,NA()),NA())","v":{"$error":"#REF!"}},{"$f":"IF(#REF!=$E$1,IF(#REF!=$G$1,#REF!,NA()),NA())","v":{"$error":"#REF!"}},{"$f":"IF(#REF!=$E$1,IF(#REF!=$G$1,IF(#REF!=\"\",NA(),#REF!),NA()),NA())","v":{"$error":"#REF!"}},{"$f":"IF(#REF!=$E$1,IF(#REF!=$G$1,IF(#REF!=\"\",NA(),#REF!),NA()),NA())","v":{"$error":"#REF!"}},{"$error":"#REF!"},{"$error":"#REF!"}]
[null,null,null,{"$f":"IF(#REF!=$E$1,IF(#REF!=$G$1,#REF!,NA()),NA())","v":{"$error":"#REF!"}},{"$f":"IF(#REF!=$E$1,IF(#REF!=$G$1,#REF!,NA()),NA())","v":{"$error":"#REF!"}},{"$f":"IF(#REF!=$E$1,IF(#REF!=$G$1,IF(#REF!=\"\",NA(),#REF!),NA()),NA())","v":{"$error":"#REF!"}},{"$f":"IF(#REF!=$E$1,IF(#REF!=$G$1,IF(#REF!=\"\",NA(),#REF!),NA()),NA())","v":{"$error":"#REF!"}},{"$error":"#REF!"},{"$error":"#REF!"}]
[null,null,null,{"$f":"IF(#REF!=$E$1,IF(#REF!=$G$1,#REF!,NA()),NA())","v":{"$error":"#REF!"}},{"$f":"IF(#REF!=$E$1,IF(#REF!=$G$1,#REF!,NA()),NA())","v":{"$error":"#REF!"}},{"$f":"IF(#REF!=$E$1,IF(#REF!=$G$1,IF(#REF!=\"\",NA(),#REF!),NA()),NA())","v":{"$error":"#REF!"}},{"$f":"IF(#REF!=$E$1,IF(#REF!=$G$1,IF(#REF!=\"\",NA(),#REF!),NA()),NA())","v":{"$error":"#REF!"}},{"$error":"#REF!"},{"$error":"#REF!"}]
[null,null,null,{"$f":"IF(#REF!=$E$1,IF(#REF!=$G$1,#REF!,NA()),NA())","v":{"$error":"#REF!"}},{"$f":"IF(#REF!=$E$1,IF(#REF!=$G$1,#REF!,NA()),NA())","v":{"$error":"#REF!"}},{"$f":"IF(#REF!=$E$1,IF(#REF!=$G$1,IF(#REF!=\"\",NA(),#REF!),NA()),NA())","v":{"$error":"#REF!"}},{"$f":"IF(#REF!=$E$1,IF(#REF!=$G$1,IF(#REF!=\"\",NA(),#REF!),NA()),NA())","v":{"$error":"#REF!"}},{"$error":"#REF!"},{"$error":"#REF!"}]
[null,null,null,{"$f":"IF(#REF!=$E$1,IF(#REF!=$G$1,#REF!,NA()),NA())","v":{"$error":"#REF!"}},{"$f":"IF(#REF!=$E$1,IF(#REF!=$G$1,#REF!,NA()),NA())","v":{"$error":"#REF!"}},{"$f":"IF(#REF!=$E$1,IF(#REF!=$G$1,IF(#REF!=\"\",NA(),#REF!),NA()),NA())","v":{"$error":"#REF!"}},{"$f":"IF(#REF!=$E$1,IF(#REF!=$G$1,IF(#REF!=\"\",NA(),#REF!),NA()),NA())","v":{"$error":"#REF!"}},{"$error":"#REF!"},{"$error":"#REF!"}]
[null,null,null,{"$f":"IF(#REF!=$E$1,IF(#REF!=$G$1,#REF!,NA()),NA())","v":{"$error":"#REF!"}},{"$f":"IF(#REF!=$E$1,IF(#REF!=$G$1,#REF!,NA()),NA())","v":{"$error":"#REF!"}},{"$f":"IF(#REF!=$E$1,IF(#REF!=$G$1,IF(#REF!=\"\",NA(),#REF!),NA()),NA())","v":{"$error":"#REF!"}},{"$f":"IF(#REF!=$E$1,IF(#REF!=$G$1,IF(#REF!=\"\",NA(),#REF!),NA()),NA())","v":{"$error":"#REF!"}},{"$error":"#REF!"},{"$error":"#REF!"}]
[null,null,null,{"$f":"IF(#REF!=$E$1,IF(#REF!=$G$1,#REF!,NA()),NA())","v":{"$error":"#REF!"}},{"$f":"IF(#REF!=$E$1,IF(#REF!=$G$1,#REF!,NA()),NA())","v":{"$error":"#REF!"}},{"$f":"IF(#REF!=$E$1,IF(#REF!=$G$1,IF(#REF!=\"\",NA(),#REF!),NA()),NA())","v":{"$error":"#REF!"}},{"$f":"IF(#REF!=$E$1,IF(#REF!=$G$1,IF(#REF!=\"\",NA(),#REF!),NA()),NA())","v":{"$error":"#REF!"}},{"$error":"#REF!"},{"$error":"#REF!"}]
[null,null,null,{"$f":"IF(#REF!=$E$1,IF(#REF!=$G$1,#REF!,NA()),NA())","v":{"$error":"#REF!"}},{"$f":"IF(#REF!=$E$1,IF(#REF!=$G$1,#REF!,NA()),NA())","v":{"$error":"#REF!"}},{"$f":"IF(#REF!=$E$1,IF(#REF!=$G$1,IF(#REF!=\"\",NA(),#REF!),NA()),NA())","v":{"$error":"#REF!"}},{"$f":"IF(#REF!=$E$1,IF(#REF!=$G$1,IF(#REF!=\"\",NA(),#REF!),NA()),NA())","v":{"$error":"#REF!"}},{"$error":"#REF!"},{"$error":"#REF!"}]
[null,null,null,{"$f":"IF(#REF!=$E$1,IF(#REF!=$G$1,#REF!,NA()),NA())","v":{"$error":"#REF!"}},{"$f":"IF(#REF!=$E$1,IF(#REF!=$G$1,#REF!,NA()),NA())","v":{"$error":"#REF!"}},{"$f":"IF(#REF!=$E$1,IF(#REF!=$G$1,IF(#REF!=\"\",NA(),#REF!),NA()),NA())","v":{"$error":"#REF!"}},{"$f":"IF(#REF!=$E$1,IF(#REF!=$G$1,IF(#REF!=\"\",NA(),#REF!),NA()),NA())","v":{"$error":"#REF!"}},{"$error":"#REF!"},{"$error":"#REF!"}]
[null,null,null,{"$f":"IF(#REF!=$E$1,IF(#REF!=$G$1,#REF!,NA()),NA())","v":{"$error":"#REF!"}},{"$f":"IF(#REF!=$E$1,IF(#REF!=$G$1,#REF!,NA()),NA())","v":{"$error":"#REF!"}},{"$f":"IF(#REF!=$E$1,IF(#REF!=$G$1,IF(#REF!=\"\",NA(),#REF!),NA()),NA())","v":{"$error":"#REF!"}},{"$f":"IF(#REF!=$E$1,IF(#REF!=$G$1,IF(#REF!=\"\",NA(),#REF!),NA()),NA())","v":{"$error":"#REF!"}},{"$error":"#REF!"},{"$error":"#REF!"}]
[null,null,null,{"$f":"IF(#REF!=$E$1,IF(#REF!=$G$1,#REF!,NA()),NA())","v":{"$error":"#REF!"}},{"$f":"IF(#REF!=$E$1,IF(#REF!=$G$1,#REF!,NA()),NA())","v":{"$error":"#REF!"}},{"$f":"IF(#REF!=$E$1,IF(#REF!=$G$1,IF(#REF!=\"\",NA(),#REF!),NA()),NA())","v":{"$error":"#REF!"}},{"$f":"IF(#REF!=$E$1,IF(#REF!=$G$1,IF(#REF!=\"\",NA(),#REF!),NA()),NA())","v":{"$error":"#REF!"}},{"$error":"#REF!"},{"$error":"#REF!"}]
[null,null,null,{"$f":"IF(#REF!=$E$1,IF(#REF!=$G$1,#REF!,NA()),NA())","v":{"$error":"#REF!"}},{"$f":"IF(#REF!=$E$1,IF(#REF!=$G$1,#REF!,NA()),NA())","v":{"$error":"#REF!"}},{"$f":"IF(#REF!=$E$1,IF(#REF!=$G$1,IF(#REF!=\"\",NA(),#REF!),NA()),NA())","v":{"$error":"#REF!"}},{"$f":"IF(#REF!=$E$1,IF(#REF!=$G$1,IF(#REF!=\"\",NA(),#REF!),NA()),NA())","v":{"$error":"#REF!"}},{"$error":"#REF!"},{"$error":"#REF!"}]
[null,null,null,{"$f":"IF(#REF!=$E$1,IF(#REF!=$G$1,#REF!,NA()),NA())","v":{"$error":"#REF!"}},{"$f":"IF(#REF!=$E$1,IF(#REF!=$G$1,#REF!,NA()),NA())","v":{"$error":"#REF!"}},{"$f":"IF(#REF!=$E$1,IF(#REF!=$G$1,IF(#REF!=\"\",NA(),#REF!),NA()),NA())","v":{"$error":"#REF!"}},{"$f":"IF(#REF!=$E$1,IF(#REF!=$G$1,IF(#REF!=\"\",NA(),#REF!),NA()),NA())","v":{"$error":"#REF!"}},{"$error":"#REF!"},{"$error":"#REF!"}]
[null,null,null,{"$f":"IF(#REF!=$E$1,IF(#REF!=$G$1,#REF!,NA()),NA())","v":{"$error":"#REF!"}},{"$f":"IF(#REF!=$E$1,IF(#REF!=$G$1,#REF!,NA()),NA())","v":{"$error":"#REF!"}},{"$f":"IF(#REF!=$E$1,IF(#REF!=$G$1,IF(#REF!=\"\",NA(),#REF!),NA()),NA())","v":{"$error":"#REF!"}},{"$f":"IF(#REF!=$E$1,IF(#REF!=$G$1,IF(#REF!=\"\",NA(),#REF!),NA()),NA())","v":{"$error":"#REF!"}},{"$error":"#REF!"},{"$error":"#REF!"}]
[null,null,null,{"$f":"IF(#REF!=$E$1,IF(#REF!=$G$1,#REF!,NA()),NA())","v":{"$error":"#REF!"}},{"$f":"IF(#REF!=$E$1,IF(#REF!=$G$1,#REF!,NA()),NA())","v":{"$error":"#REF!"}},{"$f":"IF(#REF!=$E$1,IF(#REF!=$G$1,IF(#REF!=\"\",NA(),#REF!),NA()),NA())","v":{"$error":"#REF!"}},{"$f":"IF(#REF!=$E$1,IF(#REF!=$G$1,IF(#REF!=\"\",NA(),#REF!),NA()),NA())","v":{"$error":"#REF!"}},{"$error":"#REF!"},{"$error":"#REF!"}]
[null,null,null,{"$f":"IF(#REF!=$E$1,IF(#REF!=$G$1,#REF!,NA()),NA())","v":{"$error":"#REF!"}},{"$f":"IF(#REF!=$E$1,IF(#REF!=$G$1,#REF!,NA()),NA())","v":{"$error":"#REF!"}},{"$f":"IF(#REF!=$E$1,IF(#REF!=$G$1,IF(#REF!=\"\",NA(),#REF!),NA()),NA())","v":{"$error":"#REF!"}},{"$f":"IF(#REF!=$E$1,IF(#REF!=$G$1,IF(#REF!=\"\",NA(),#REF!),NA()),NA())","v":{"$error":"#REF!"}},{"$error":"#REF!"},{"$error":"#REF!"}]
[null,null,null,{"$f":"IF(#REF!=$E$1,IF(#REF!=$G$1,#REF!,NA()),NA())","v":{"$error":"#REF!"}},{"$f":"IF(#REF!=$E$1,IF(#REF!=$G$1,#REF!,NA()),NA())","v":{"$error":"#REF!"}},{"$f":"IF(#REF!=$E$1,IF(#REF!=$G$1,IF(#REF!=\"\",NA(),#REF!),NA()),NA())","v":{"$error":"#REF!"}},{"$f":"IF(#REF!=$E$1,IF(#REF!=$G$1,IF(#REF!=\"\",NA(),#REF!),NA()),NA())","v":{"$error":"#REF!"}},{"$error":"#REF!"},{"$error":"#REF!"}]
[null,null,null,{"$f":"IF(#REF!=$E$1,IF(#REF!=$G$1,#REF!,NA()),NA())","v":{"$error":"#REF!"}},{"$f":"IF(#REF!=$E$1,IF(#REF!=$G$1,#REF!,NA()),NA())","v":{"$error":"#REF!"}},{"$f":"IF(#REF!=$E$1,IF(#REF!=$G$1,IF(#REF!=\"\",NA(),#REF!),NA()),NA())","v":{"$error":"#REF!"}},{"$f":"IF(#REF!=$E$1,IF(#REF!=$G$1,IF(#REF!=\"\",NA(),#REF!),NA()),NA())","v":{"$error":"#REF!"}},{"$error":"#REF!"},{"$error":"#REF!"}]
[null,null,null,{"$f":"IF(#REF!=$E$1,IF(#REF!=$G$1,#REF!,NA()),NA())","v":{"$error":"#REF!"}},{"$f":"IF(#REF!=$E$1,IF(#REF!=$G$1,#REF!,NA()),NA())","v":{"$error":"#REF!"}},{"$f":"IF(#REF!=$E$1,IF(#REF!=$G$1,IF(#REF!=\"\",NA(),#REF!),NA()),NA())","v":{"$error":"#REF!"}},{"$f":"IF(#REF!=$E$1,IF(#REF!=$G$1,IF(#REF!=\"\",NA(),#REF!),NA()),NA())","v":{"$error":"#REF!"}},{"$error":"#REF!"},{"$error":"#REF!"}]
[null,null,null,{"$f":"IF(#REF!=$E$1,IF(#REF!=$G$1,#REF!,NA()),NA())","v":{"$error":"#REF!"}},{"$f":"IF(#REF!=$E$1,IF(#REF!=$G$1,#REF!,NA()),NA())","v":{"$error":"#REF!"}},{"$f":"IF(#REF!=$E$1,IF(#REF!=$G$1,IF(#REF!=\"\",NA(),#REF!),NA()),NA())","v":{"$error":"#REF!"}},{"$f":"IF(#REF!=$E$1,IF(#REF!=$G$1,IF(#REF!=\"\",NA(),#REF!),NA()),NA())","v":{"$error":"#REF!"}},{"$error":"#REF!"},{"$error":"#REF!"}]
[null,null,null,{"$f":"IF(#REF!=$E$1,IF(#REF!=$G$1,#REF!,NA()),NA())","v":{"$error":"#REF!"}},{"$f":"IF(#REF!=$E$1,IF(#REF!=$G$1,#REF!,NA()),NA())","v":{"$error":"#REF!"}},{"$f":"IF(#REF!=$E$1,IF(#REF!=$G$1,IF(#REF!=\"\",NA(),#REF!),NA()),NA())","v":{"$error":"#REF!"}},{"$f":"IF(#REF!=$E$1,IF(#REF!=$G$1,IF(#REF!=\"\",NA(),#REF!),NA()),NA())","v":{"$error":"#REF!"}},{"$error":"#REF!"},{"$error":"#REF!"}]
[null,null,null,{"$f":"IF(#REF!=$E$1,IF(#REF!=$G$1,#REF!,NA()),NA())","v":{"$error":"#REF!"}},{"$f":"IF(#REF!=$E$1,IF(#REF!=$G$1,#REF!,NA()),NA())","v":{"$error":"#REF!"}},{"$f":"IF(#REF!=$E$1,IF(#REF!=$G$1,IF(#REF!=\"\",NA(),#REF!),NA()),NA())","v":{"$error":"#REF!"}},{"$f":"IF(#REF!=$E$1,IF(#REF!=$G$1,IF(#REF!=\"\",NA(),#REF!),NA()),NA())","v":{"$error":"#REF!"}},{"$error":"#REF!"},{"$error":"#REF!"}]
[null,null,null,{"$f":"IF(#REF!=$E$1,IF(#REF!=$G$1,#REF!,NA()),NA())","v":{"$error":"#REF!"}},{"$f":"IF(#REF!=$E$1,IF(#REF!=$G$1,#REF!,NA()),NA())","v":{"$error":"#REF!"}},{"$f":"IF(#REF!=$E$1,IF(#REF!=$G$1,IF(#REF!=\"\",NA(),#REF!),NA()),NA())","v":{"$error":"#REF!"}},{"$f":"IF(#REF!=$E$1,IF(#REF!=$G$1,IF(#REF!=\"\",NA(),#REF!),NA()),NA())","v":{"$error":"#REF!"}},{"$error":"#REF!"},{"$error":"#REF!"}]
[null,null,null,{"$f":"IF(#REF!=$E$1,IF(#REF!=$G$1,#REF!,NA()),NA())","v":{"$error":"#REF!"}},{"$f":"IF(#REF!=$E$1,IF(#REF!=$G$1,#REF!,NA()),NA())","v":{"$error":"#REF!"}},{"$f":"IF(#REF!=$E$1,IF(#REF!=$G$1,IF(#REF!=\"\",NA(),#REF!),NA()),NA())","v":{"$error":"#REF!"}},{"$f":"IF(#REF!=$E$1,IF(#REF!=$G$1,IF(#REF!=\"\",NA(),#REF!),NA()),NA())","v":{"$error":"#REF!"}},{"$error":"#REF!"},{"$error":"#REF!"}]
[null,null,null,{"$f":"IF(#REF!=$E$1,IF(#REF!=$G$1,#REF!,NA()),NA())","v":{"$error":"#REF!"}},{"$f":"IF(#REF!=$E$1,IF(#REF!=$G$1,#REF!,NA()),NA())","v":{"$error":"#REF!"}},{"$f":"IF(#REF!=$E$1,IF(#REF!=$G$1,IF(#REF!=\"\",NA(),#REF!),NA()),NA())","v":{"$error":"#REF!"}},{"$f":"IF(#REF!=$E$1,IF(#REF!=$G$1,IF(#REF!=\"\",NA(),#REF!),NA()),NA())","v":{"$error":"#REF!"}},{"$error":"#REF!"},{"$error":"#REF!"}]
[null,null,null,{"$f":"IF(#REF!=$E$1,IF(#REF!=$G$1,#REF!,NA()),NA())","v":{"$error":"#REF!"}},{"$f":"IF(#REF!=$E$1,IF(#REF!=$G$1,#REF!,NA()),NA())","v":{"$error":"#REF!"}},{"$f":"IF(#REF!=$E$1,IF(#REF!=$G$1,IF(#REF!=\"\",NA(),#REF!),NA()),NA())","v":{"$error":"#REF!"}},{"$f":"IF(#REF!=$E$1,IF(#REF!=$G$1,IF(#REF!=\"\",NA(),#REF!),NA()),NA())","v":{"$error":"#REF!"}},{"$error":"#REF!"},{"$error":"#REF!"}]
[null,null,null,{"$f":"IF(#REF!=$E$1,IF(#REF!=$G$1,#REF!,NA()),NA())","v":{"$error":"#REF!"}},{"$f":"IF(#REF!=$E$1,IF(#REF!=$G$1,#REF!,NA()),NA())","v":{"$error":"#REF!"}},{"$f":"IF(#REF!=$E$1,IF(#REF!=$G$1,IF(#REF!=\"\",NA(),#REF!),NA()),NA())","v":{"$error":"#REF!"}},{"$f":"IF(#REF!=$E$1,IF(#REF!=$G$1,IF(#REF!=\"\",NA(),#REF!),NA()),NA())","v":{"$error":"#REF!"}},{"$error":"#REF!"},{"$error":"#REF!"}]
[null,null,null,{"$f":"IF(#REF!=$E$1,IF(#REF!=$G$1,#REF!,NA()),NA())","v":{"$error":"#REF!"}},{"$f":"IF(#REF!=$E$1,IF(#REF!=$G$1,#REF!,NA()),NA())","v":{"$error":"#REF!"}},{"$f":"IF(#REF!=$E$1,IF(#REF!=$G$1,IF(#REF!=\"\",NA(),#REF!),NA()),NA())","v":{"$error":"#REF!"}},{"$f":"IF(#REF!=$E$1,IF(#REF!=$G$1,IF(#REF!=\"\",NA(),#REF!),NA()),NA())","v":{"$error":"#REF!"}},{"$error":"#REF!"},{"$error":"#REF!"}]
[null,null,null,{"$f":"IF(#REF!=$E$1,IF(#REF!=$G$1,#REF!,NA()),NA())","v":{"$error":"#REF!"}},{"$f":"IF(#REF!=$E$1,IF(#REF!=$G$1,#REF!,NA()),NA())","v":{"$error":"#REF!"}},{"$f":"IF(#REF!=$E$1,IF(#REF!=$G$1,IF(#REF!=\"\",NA(),#REF!),NA()),NA())","v":{"$error":"#REF!"}},{"$f":"IF(#REF!=$E$1,IF(#REF!=$G$1,IF(#REF!=\"\",NA(),#REF!),NA()),NA())","v":{"$error":"#REF!"}},{"$error":"#REF!"},{"$error":"#REF!"}]
[null,null,null,{"$f":"IF(#REF!=$E$1,IF(#REF!=$G$1,#REF!,NA()),NA())","v":{"$error":"#REF!"}},{"$f":"IF(#REF!=$E$1,IF(#REF!=$G$1,#REF!,NA()),NA())","v":{"$error":"#REF!"}},{"$f":"IF(#REF!=$E$1,IF(#REF!=$G$1,IF(#REF!=\"\",NA(),#REF!),NA()),NA())","v":{"$error":"#REF!"}},{"$f":"IF(#REF!=$E$1,IF(#REF!=$G$1,IF(#REF!=\"\",NA(),#REF!),NA()),NA())","v":{"$error":"#REF!"}},{"$error":"#REF!"},{"$error":"#REF!"}]
[null,null,null,{"$f":"IF(#REF!=$E$1,IF(#REF!=$G$1,#REF!,NA()),NA())","v":{"$error":"#REF!"}},{"$f":"IF(#REF!=$E$1,IF(#REF!=$G$1,#REF!,NA()),NA())","v":{"$error":"#REF!"}},{"$f":"IF(#REF!=$E$1,IF(#REF!=$G$1,IF(#REF!=\"\",NA(),#REF!),NA()),NA())","v":{"$error":"#REF!"}},{"$f":"IF(#REF!=$E$1,IF(#REF!=$G$1,IF(#REF!=\"\",NA(),#REF!),NA()),NA())","v":{"$error":"#REF!"}},{"$error":"#REF!"},{"$error":"#REF!"}]
[null,null,null,{"$f":"IF(#REF!=$E$1,IF(#REF!=$G$1,#REF!,NA()),NA())","v":{"$error":"#REF!"}},{"$f":"IF(#REF!=$E$1,IF(#REF!=$G$1,#REF!,NA()),NA())","v":{"$error":"#REF!"}},{"$f":"IF(#REF!=$E$1,IF(#REF!=$G$1,IF(#REF!=\"\",NA(),#REF!),NA()),NA())","v":{"$error":"#REF!"}},{"$f":"IF(#REF!=$E$1,IF(#REF!=$G$1,IF(#REF!=\"\",NA(),#REF!),NA()),NA())","v":{"$error":"#REF!"}},{"$error":"#REF!"},{"$error":"#REF!"}]
[null,null,null,{"$f":"IF(#REF!=$E$1,IF(#REF!=$G$1,#REF!,NA()),NA())","v":{"$error":"#REF!"}},{"$f":"IF(#REF!=$E$1,IF(#REF!=$G$1,#REF!,NA()),NA())","v":{"$error":"#REF!"}},{"$f":"IF(#REF!=$E$1,IF(#REF!=$G$1,IF(#REF!=\"\",NA(),#REF!),NA()),NA())","v":{"$error":"#REF!"}},{"$f":"IF(#REF!=$E$1,IF(#REF!=$G$1,IF(#REF!=\"\",NA(),#REF!),NA()),NA())","v":{"$error":"#REF!"}},{"$error":"#REF!"},{"$error":"#REF!"}]
[null,null,null,{"$f":"IF(#REF!=$E$1,IF(#REF!=$G$1,#REF!,NA()),NA())","v":{"$error":"#REF!"}},{"$f":"IF(#REF!=$E$1,IF(#REF!=$G$1,#REF!,NA()),NA())","v":{"$error":"#REF!"}},{"$f":"IF(#REF!=$E$1,IF(#REF!=$G$1,IF(#REF!=\"\",NA(),#REF!),NA()),NA())","v":{"$error":"#REF!"}},{"$f":"IF(#REF!=$E$1,IF(#REF!=$G$1,IF(#REF!=\"\",NA(),#REF!),NA()),NA())","v":{"$error":"#REF!"}},{"$error":"#REF!"},{"$error":"#REF!"}]
[null,null,null,{"$f":"IF(#REF!=$E$1,IF(#REF!=$G$1,#REF!,NA()),NA())","v":{"$error":"#REF!"}},{"$f":"IF(#REF!=$E$1,IF(#REF!=$G$1,#REF!,NA()),NA())","v":{"$error":"#REF!"}},{"$f":"IF(#REF!=$E$1,IF(#REF!=$G$1,IF(#REF!=\"\",NA(),#REF!),NA()),NA())","v":{"$error":"#REF!"}},{"$f":"IF(#REF!=$E$1,IF(#REF!=$G$1,IF(#REF!=\"\",NA(),#REF!),NA()),NA())","v":{"$error":"#REF!"}},{"$error":"#REF!"},{"$error":"#REF!"}]
[null,null,null,{"$f":"IF(#REF!=$E$1,IF(#REF!=$G$1,#REF!,NA()),NA())","v":{"$error":"#REF!"}},{"$f":"IF(#REF!=$E$1,IF(#REF!=$G$1,#REF!,NA()),NA())","v":{"$error":"#REF!"}},{"$f":"IF(#REF!=$E$1,IF(#REF!=$G$1,IF(#REF!=\"\",NA(),#REF!),NA()),NA())","v":{"$error":"#REF!"}},{"$f":"IF(#REF!=$E$1,IF(#REF!=$G$1,IF(#REF!=\"\",NA(),#REF!),NA()),NA())","v":{"$error":"#REF!"}},{"$error":"#REF!"},{"$error":"#REF!"}]
[null,null,null,{"$f":"IF(#REF!=$E$1,IF(#REF!=$G$1,#REF!,NA()),NA())","v":{"$error":"#REF!"}},{"$f":"IF(#REF!=$E$1,IF(#REF!=$G$1,#REF!,NA()),NA())","v":{"$error":"#REF!"}},{"$f":"IF(#REF!=$E$1,IF(#REF!=$G$1,IF(#REF!=\"\",NA(),#REF!),NA()),NA())","v":{"$error":"#REF!"}},{"$f":"IF(#REF!=$E$1,IF(#REF!=$G$1,IF(#REF!=\"\",NA(),#REF!),NA()),NA())","v":{"$error":"#REF!"}},{"$error":"#REF!"},{"$error":"#REF!"}]
[null,null,null,{"$f":"IF(#REF!=$E$1,IF(#REF!=$G$1,#REF!,NA()),NA())","v":{"$error":"#REF!"}},{"$f":"IF(#REF!=$E$1,IF(#REF!=$G$1,#REF!,NA()),NA())","v":{"$error":"#REF!"}},{"$f":"IF(#REF!=$E$1,IF(#REF!=$G$1,IF(#REF!=\"\",NA(),#REF!),NA()),NA())","v":{"$error":"#REF!"}},{"$f":"IF(#REF!=$E$1,IF(#REF!=$G$1,IF(#REF!=\"\",NA(),#REF!),NA()),NA())","v":{"$error":"#REF!"}},{"$error":"#REF!"},{"$error":"#REF!"}]
[null,null,null,{"$f":"IF(#REF!=$E$1,IF(#REF!=$G$1,#REF!,NA()),NA())","v":{"$error":"#REF!"}},{"$f":"IF(#REF!=$E$1,IF(#REF!=$G$1,#REF!,NA()),NA())","v":{"$error":"#REF!"}},{"$f":"IF(#REF!=$E$1,IF(#REF!=$G$1,IF(#REF!=\"\",NA(),#REF!),NA()),NA())","v":{"$error":"#REF!"}},{"$f":"IF(#REF!=$E$1,IF(#REF!=$G$1,IF(#REF!=\"\",NA(),#REF!),NA()),NA())","v":{"$error":"#REF!"}},{"$error":"#REF!"},{"$error":"#REF!"}]
[null,null,null,{"$f":"IF(#REF!=$E$1,IF(#REF!=$G$1,#REF!,NA()),NA())","v":{"$error":"#REF!"}},{"$f":"IF(#REF!=$E$1,IF(#REF!=$G$1,#REF!,NA()),NA())","v":{"$error":"#REF!"}},{"$f":"IF(#REF!=$E$1,IF(#REF!=$G$1,IF(#REF!=\"\",NA(),#REF!),NA()),NA())","v":{"$error":"#REF!"}},{"$f":"IF(#REF!=$E$1,IF(#REF!=$G$1,IF(#REF!=\"\",NA(),#REF!),NA()),NA())","v":{"$error":"#REF!"}},{"$error":"#REF!"},{"$error":"#REF!"}]
[null,null,null,{"$f":"IF(#REF!=$E$1,IF(#REF!=$G$1,#REF!,NA()),NA())","v":{"$error":"#REF!"}},{"$f":"IF(#REF!=$E$1,IF(#REF!=$G$1,#REF!,NA()),NA())","v":{"$error":"#REF!"}},{"$f":"IF(#REF!=$E$1,IF(#REF!=$G$1,IF(#REF!=\"\",NA(),#REF!),NA()),NA())","v":{"$error":"#REF!"}},{"$f":"IF(#REF!=$E$1,IF(#REF!=$G$1,IF(#REF!=\"\",NA(),#REF!),NA()),NA())","v":{"$error":"#REF!"}},{"$error":"#REF!"},{"$error":"#REF!"}]
[null,null,null,{"$f":"IF(#REF!=$E$1,IF(#REF!=$G$1,#REF!,NA()),NA())","v":{"$error":"#REF!"}},{"$f":"IF(#REF!=$E$1,IF(#REF!=$G$1,#REF!,NA()),NA())","v":{"$error":"#REF!"}},{"$f":"IF(#REF!=$E$1,IF(#REF!=$G$1,IF(#REF!=\"\",NA(),#REF!),NA()),NA())","v":{"$error":"#REF!"}},{"$f":"IF(#REF!=$E$1,IF(#REF!=$G$1,IF(#REF!=\"\",NA(),#REF!),NA()),NA())","v":{"$error":"#REF!"}},{"$error":"#REF!"},{"$error":"#REF!"}]
[null,null,null,{"$f":"IF(#REF!=$E$1,IF(#REF!=$G$1,#REF!,NA()),NA())","v":{"$error":"#REF!"}},{"$f":"IF(#REF!=$E$1,IF(#REF!=$G$1,#REF!,NA()),NA())","v":{"$error":"#REF!"}},{"$f":"IF(#REF!=$E$1,IF(#REF!=$G$1,IF(#REF!=\"\",NA(),#REF!),NA()),NA())","v":{"$error":"#REF!"}},{"$f":"IF(#REF!=$E$1,IF(#REF!=$G$1,IF(#REF!=\"\",NA(),#REF!),NA()),NA())","v":{"$error":"#REF!"}},{"$error":"#REF!"},{"$error":"#REF!"}]
[null,null,null,{"$f":"IF(#REF!=$E$1,IF(#REF!=$G$1,#REF!,NA()),NA())","v":{"$error":"#REF!"}},{"$f":"IF(#REF!=$E$1,IF(#REF!=$G$1,#REF!,NA()),NA())","v":{"$error":"#REF!"}},{"$f":"IF(#REF!=$E$1,IF(#REF!=$G$1,IF(#REF!=\"\",NA(),#REF!),NA()),NA())","v":{"$error":"#REF!"}},{"$f":"IF(#REF!=$E$1,IF(#REF!=$G$1,IF(#REF!=\"\",NA(),#REF!),NA()),NA())","v":{"$error":"#REF!"}},{"$error":"#REF!"},{"$error":"#REF!"}]
[null,null,null,{"$f":"IF(#REF!=$E$1,IF(#REF!=$G$1,#REF!,NA()),NA())","v":{"$error":"#REF!"}},{"$f":"IF(#REF!=$E$1,IF(#REF!=$G$1,#REF!,NA()),NA())","v":{"$error":"#REF!"}},{"$f":"IF(#REF!=$E$1,IF(#REF!=$G$1,IF(#REF!=\"\",NA(),#REF!),NA()),NA())","v":{"$error":"#REF!"}},{"$f":"IF(#REF!=$E$1,IF(#REF!=$G$1,IF(#REF!=\"\",NA(),#REF!),NA()),NA())","v":{"$error":"#REF!"}},{"$error":"#REF!"},{"$error":"#REF!"}]
[null,null,null,{"$f":"IF(#REF!=$E$1,IF(#REF!=$G$1,#REF!,NA()),NA())","v":{"$error":"#REF!"}},{"$f":"IF(#REF!=$E$1,IF(#REF!=$G$1,#REF!,NA()),NA())","v":{"$error":"#REF!"}},{"$f":"IF(#REF!=$E$1,IF(#REF!=$G$1,IF(#REF!=\"\",NA(),#REF!),NA()),NA())","v":{"$error":"#REF!"}},{"$f":"IF(#REF!=$E$1,IF(#REF!=$G$1,IF(#REF!=\"\",NA(),#REF!),NA()),NA())","v":{"$error":"#REF!"}},{"$error":"#REF!"},{"$error":"#REF!"}]
[null,null,null,{"$f":"IF(#REF!=$E$1,IF(#REF!=$G$1,#REF!,NA()),NA())","v":{"$error":"#REF!"}},{"$f":"IF(#REF!=$E$1,IF(#REF!=$G$1,#REF!,NA()),NA())","v":{"$error":"#REF!"}},{"$f":"IF(#REF!=$E$1,IF(#REF!=$G$1,IF(#REF!=\"\",NA(),#REF!),NA()),NA())","v":{"$error":"#REF!"}},{"$f":"IF(#REF!=$E$1,IF(#REF!=$G$1,IF(#REF!=\"\",NA(),#REF!),NA()),NA())","v":{"$error":"#REF!"}},{"$error":"#REF!"},{"$error":"#REF!"}]
[null,null,null,{"$f":"IF(#REF!=$E$1,IF(#REF!=$G$1,#REF!,NA()),NA())","v":{"$error":"#REF!"}},{"$f":"IF(#REF!=$E$1,IF(#REF!=$G$1,#REF!,NA()),NA())","v":{"$error":"#REF!"}},{"$f":"IF(#REF!=$E$1,IF(#REF!=$G$1,IF(#REF!=\"\",NA(),#REF!),NA()),NA())","v":{"$error":"#REF!"}},{"$f":"IF(#REF!=$E$1,IF(#REF!=$G$1,IF(#REF!=\"\",NA(),#REF!),NA()),NA())","v":{"$error":"#REF!"}},{"$error":"#REF!"},{"$error":"#REF!"}]
[null,null,null,{"$f":"IF(#REF!=$E$1,IF(#REF!=$G$1,#REF!,NA()),NA())","v":{"$error":"#REF!"}},{"$f":"IF(#REF!=$E$1,IF(#REF!=$G$1,#REF!,NA()),NA())","v":{"$error":"#REF!"}},{"$f":"IF(#REF!=$E$1,IF(#REF!=$G$1,IF(#REF!=\"\",NA(),#REF!),NA()),NA())","v":{"$error":"#REF!"}},{"$f":"IF(#REF!=$E$1,IF(#REF!=$G$1,IF(#REF!=\"\",NA(),#REF!),NA()),NA())","v":{"$error":"#REF!"}},{"$error":"#REF!"},{"$error":"#REF!"}]
[null,null,null,{"$f":"IF(#REF!=$E$1,IF(#REF!=$G$1,#REF!,NA()),NA())","v":{"$error":"#REF!"}},{"$f":"IF(#REF!=$E$1,IF(#REF!=$G$1,#REF!,NA()),NA())","v":{"$error":"#REF!"}},{"$f":"IF(#REF!=$E$1,IF(#REF!=$G$1,IF(#REF!=\"\",NA(),#REF!),NA()),NA())","v":{"$error":"#REF!"}},{"$f":"IF(#REF!=$E$1,IF(#REF!=$G$1,IF(#REF!=\"\",NA(),#REF!),NA()),NA())","v":{"$error":"#REF!"}},{"$error":"#REF!"},{"$error":"#REF!"}]
[null,null,null,{"$f":"IF(#REF!=$E$1,IF(#REF!=$G$1,#REF!,NA()),NA())","v":{"$error":"#REF!"}},{"$f":"IF(#REF!=$E$1,IF(#REF!=$G$1,#REF!,NA()),NA())","v":{"$error":"#REF!"}},{"$f":"IF(#REF!=$E$1,IF(#REF!=$G$1,IF(#REF!=\"\",NA(),#REF!),NA()),NA())","v":{"$error":"#REF!"}},{"$f":"IF(#REF!=$E$1,IF(#REF!=$G$1,IF(#REF!=\"\",NA(),#REF!),NA()),NA())","v":{"$error":"#REF!"}},{"$error":"#REF!"},{"$error":"#REF!"}]
[null,null,null,{"$f":"IF(#REF!=$E$1,IF(#REF!=$G$1,#REF!,NA()),NA())","v":{"$error":"#REF!"}},{"$f":"IF(#REF!=$E$1,IF(#REF!=$G$1,#REF!,NA()),NA())","v":{"$error":"#REF!"}},{"$f":"IF(#REF!=$E$1,IF(#REF!=$G$1,IF(#REF!=\"\",NA(),#REF!),NA()),NA())","v":{"$error":"#REF!"}},{"$f":"IF(#REF!=$E$1,IF(#REF!=$G$1,IF(#REF!=\"\",NA(),#REF!),NA()),NA())","v":{"$error":"#REF!"}},{"$error":"#REF!"},{"$error":"#REF!"}]
[null,null,null,{"$f":"IF(#REF!=$E$1,IF(#REF!=$G$1,#REF!,NA()),NA())","v":{"$error":"#REF!"}},{"$f":"IF(#REF!=$E$1,IF(#REF!=$G$1,#REF!,NA()),NA())","v":{"$error":"#REF!"}},{"$f":"IF(#REF!=$E$1,IF(#REF!=$G$1,IF(#REF!=\"\",NA(),#REF!),NA()),NA())","v":{"$error":"#REF!"}},{"$f":"IF(#REF!=$E$1,IF(#REF!=$G$1,IF(#REF!=\"\",NA(),#REF!),NA()),NA())","v":{"$error":"#REF!"}},{"$error":"#REF!"},{"$error":"#REF!"}]
[null,null,null,{"$f":"IF(#REF!=$E$1,IF(#REF!=$G$1,#REF!,NA()),NA())","v":{"$error":"#REF!"}},{"$f":"IF(#REF!=$E$1,IF(#REF!=$G$1,#REF!,NA()),NA())","v":{"$error":"#REF!"}},{"$f":"IF(#REF!=$E$1,IF(#REF!=$G$1,IF(#REF!=\"\",NA(),#REF!),NA()),NA())","v":{"$error":"#REF!"}},{"$f":"IF(#REF!=$E$1,IF(#REF!=$G$1,IF(#REF!=\"\",NA(),#REF!),NA()),NA())","v":{"$error":"#REF!"}},{"$error":"#REF!"},{"$error":"#REF!"}]
[null,null,null,{"$f":"IF(#REF!=$E$1,IF(#REF!=$G$1,#REF!,NA()),NA())","v":{"$error":"#REF!"}},{"$f":"IF(#REF!=$E$1,IF(#REF!=$G$1,#REF!,NA()),NA())","v":{"$error":"#REF!"}},{"$f":"IF(#REF!=$E$1,IF(#REF!=$G$1,IF(#REF!=\"\",NA(),#REF!),NA()),NA())","v":{"$error":"#REF!"}},{"$f":"IF(#REF!=$E$1,IF(#REF!=$G$1,IF(#REF!=\"\",NA(),#REF!),NA()),NA())","v":{"$error":"#REF!"}},{"$f":"IF(AND(ISNUMBER(G644),F644=\"-\"),0,F644)","v":{"$error":"#REF!"}},{"$f":"IF(AND(ISNUMBER(F644),G644=\"-\"),0,G644)","v":{"$error":"#REF!"}}]
[null,null,null,{"$f":"IF(#REF!=$E$1,IF(#REF!=$G$1,#REF!,NA()),NA())","v":{"$error":"#REF!"}},{"$f":"IF(#REF!=$E$1,IF(#REF!=$G$1,#REF!,NA()),NA())","v":{"$error":"#REF!"}},{"$f":"IF(#REF!=$E$1,IF(#REF!=$G$1,IF(#REF!=\"\",NA(),#REF!),NA()),NA())","v":{"$error":"#REF!"}},{"$f":"IF(#REF!=$E$1,IF(#REF!=$G$1,IF(#REF!=\"\",NA(),#REF!),NA()),NA())","v":{"$error":"#REF!"}},{"$error":"#REF!"},{"$error":"#REF!"}]
[null,null,null,{"$f":"IF(#REF!=$E$1,IF(#REF!=$G$1,#REF!,NA()),NA())","v":{"$error":"#REF!"}},{"$f":"IF(#REF!=$E$1,IF(#REF!=$G$1,#REF!,NA()),NA())","v":{"$error":"#REF!"}},{"$f":"IF(#REF!=$E$1,IF(#REF!=$G$1,IF(#REF!=\"\",NA(),#REF!),NA()),NA())","v":{"$error":"#REF!"}},{"$f":"IF(#REF!=$E$1,IF(#REF!=$G$1,IF(#REF!=\"\",NA(),#REF!),NA()),NA())","v":{"$error":"#REF!"}},{"$error":"#REF!"},{"$error":"#REF!"}]
[null,null,null,{"$f":"IF(#REF!=$E$1,IF(#REF!=$G$1,#REF!,NA()),NA())","v":{"$error":"#REF!"}},{"$f":"IF(#REF!=$E$1,IF(#REF!=$G$1,#REF!,NA()),NA())","v":{"$error":"#REF!"}},{"$f":"IF(#REF!=$E$1,IF(#REF!=$G$1,IF(#REF!=\"\",NA(),#REF!),NA()),NA())","v":{"$error":"#REF!"}},{"$f":"IF(#REF!=$E$1,IF(#REF!=$G$1,IF(#REF!=\"\",NA(),#REF!),NA()),NA())","v":{"$error":"#REF!"}},{"$error":"#REF!"},{"$error":"#REF!"}]
[null,null,null,{"$f":"IF(#REF!=$E$1,IF(#REF!=$G$1,#REF!,NA()),NA())","v":{"$error":"#REF!"}},{"$f":"IF(#REF!=$E$1,IF(#REF!=$G$1,#REF!,NA()),NA())","v":{"$error":"#REF!"}},{"$f":"IF(#REF!=$E$1,IF(#REF!=$G$1,IF(#REF!=\"\",NA(),#REF!),NA()),NA())","v":{"$error":"#REF!"}},{"$f":"IF(#REF!=$E$1,IF(#REF!=$G$1,IF(#REF!=\"\",NA(),#REF!),NA()),NA())","v":{"$error":"#REF!"}},{"$error":"#REF!"},{"$error":"#REF!"}]
[null,null,null,{"$f":"IF(#REF!=$E$1,IF(#REF!=$G$1,#REF!,NA()),NA())","v":{"$error":"#REF!"}},{"$f":"IF(#REF!=$E$1,IF(#REF!=$G$1,#REF!,NA()),NA())","v":{"$error":"#REF!"}},{"$f":"IF(#REF!=$E$1,IF(#REF!=$G$1,IF(#REF!=\"\",NA(),#REF!),NA()),NA())","v":{"$error":"#REF!"}},{"$f":"IF(#REF!=$E$1,IF(#REF!=$G$1,IF(#REF!=\"\",NA(),#REF!),NA()),NA())","v":{"$error":"#REF!"}},{"$error":"#REF!"},{"$error":"#REF!"}]
[null,null,null,{"$f":"IF(#REF!=$E$1,IF(#REF!=$G$1,#REF!,NA()),NA())","v":{"$error":"#REF!"}},{"$f":"IF(#REF!=$E$1,IF(#REF!=$G$1,#REF!,NA()),NA())","v":{"$error":"#REF!"}},{"$f":"IF(#REF!=$E$1,IF(#REF!=$G$1,IF(#REF!=\"\",NA(),#REF!),NA()),NA())","v":{"$error":"#REF!"}},{"$f":"IF(#REF!=$E$1,IF(#REF!=$G$1,IF(#REF!=\"\",NA(),#REF!),NA()),NA())","v":{"$error":"#REF!"}},{"$error":"#REF!"},{"$error":"#REF!"}]
[null,null,null,{"$f":"IF(#REF!=$E$1,IF(#REF!=$G$1,#REF!,NA()),NA())","v":{"$error":"#REF!"}},{"$f":"IF(#REF!=$E$1,IF(#REF!=$G$1,#REF!,NA()),NA())","v":{"$error":"#REF!"}},{"$f":"IF(#REF!=$E$1,IF(#REF!=$G$1,IF(#REF!=\"\",NA(),#REF!),NA()),NA())","v":{"$error":"#REF!"}},{"$f":"IF(#REF!=$E$1,IF(#REF!=$G$1,IF(#REF!=\"\",NA(),#REF!),NA()),NA())","v":{"$error":"#REF!"}},{"$error":"#REF!"},{"$error":"#REF!"}]
[null,null,null,{"$f":"IF(#REF!=$E$1,IF(#REF!=$G$1,#REF!,NA()),NA())","v":{"$error":"#REF!"}},{"$f":"IF(#REF!=$E$1,IF(#REF!=$G$1,#REF!,NA()),NA())","v":{"$error":"#REF!"}},{"$f":"IF(#REF!=$E$1,IF(#REF!=$G$1,IF(#REF!=\"\",NA(),#REF!),NA()),NA())","v":{"$error":"#REF!"}},{"$f":"IF(#REF!=$E$1,IF(#REF!=$G$1,IF(#REF!=\"\",NA(),#REF!),NA()),NA())","v":{"$error":"#REF!"}},{"$error":"#REF!"},{"$error":"#REF!"}]
[null,null,null,{"$f":"IF(#REF!=$E$1,IF(#REF!=$G$1,#REF!,NA()),NA())","v":{"$error":"#REF!"}},{"$f":"IF(#REF!=$E$1,IF(#REF!=$G$1,#REF!,NA()),NA())","v":{"$error":"#REF!"}},{"$f":"IF(#REF!=$E$1,IF(#REF!=$G$1,IF(#REF!=\"\",NA(),#REF!),NA()),NA())","v":{"$error":"#REF!"}},{"$f":"IF(#REF!=$E$1,IF(#REF!=$G$1,IF(#REF!=\"\",NA(),#REF!),NA()),NA())","v":{"$error":"#REF!"}},{"$error":"#REF!"},{"$error":"#REF!"}]
[null,null,null,{"$f":"IF(#REF!=$E$1,IF(#REF!=$G$1,#REF!,NA()),NA())","v":{"$error":"#REF!"}},{"$f":"IF(#REF!=$E$1,IF(#REF!=$G$1,#REF!,NA()),NA())","v":{"$error":"#REF!"}},{"$f":"IF(#REF!=$E$1,IF(#REF!=$G$1,IF(#REF!=\"\",NA(),#REF!),NA()),NA())","v":{"$error":"#REF!"}},{"$f":"IF(#REF!=$E$1,IF(#REF!=$G$1,IF(#REF!=\"\",NA(),#REF!),NA()),NA())","v":{"$error":"#REF!"}},{"$error":"#REF!"},{"$error":"#REF!"}]
[null,null,null,{"$f":"IF(#REF!=$E$1,IF(#REF!=$G$1,#REF!,NA()),NA())","v":{"$error":"#REF!"}},{"$f":"IF(#REF!=$E$1,IF(#REF!=$G$1,#REF!,NA()),NA())","v":{"$error":"#REF!"}},{"$f":"IF(#REF!=$E$1,IF(#REF!=$G$1,IF(#REF!=\"\",NA(),#REF!),NA()),NA())","v":{"$error":"#REF!"}},{"$f":"IF(#REF!=$E$1,IF(#REF!=$G$1,IF(#REF!=\"\",NA(),#REF!),NA()),NA())","v":{"$error":"#REF!"}},{"$error":"#REF!"},{"$error":"#REF!"}]
[null,null,null,{"$f":"IF(#REF!=$E$1,IF(#REF!=$G$1,#REF!,NA()),NA())","v":{"$error":"#REF!"}},{"$f":"IF(#REF!=$E$1,IF(#REF!=$G$1,#REF!,NA()),NA())","v":{"$error":"#REF!"}},{"$f":"IF(#REF!=$E$1,IF(#REF!=$G$1,IF(#REF!=\"\",NA(),#REF!),NA()),NA())","v":{"$error":"#REF!"}},{"$f":"IF(#REF!=$E$1,IF(#REF!=$G$1,IF(#REF!=\"\",NA(),#REF!),NA()),NA())","v":{"$error":"#REF!"}},{"$error":"#REF!"},{"$error":"#REF!"}]
[null,null,null,{"$f":"IF(#REF!=$E$1,IF(#REF!=$G$1,#REF!,NA()),NA())","v":{"$error":"#REF!"}},{"$f":"IF(#REF!=$E$1,IF(#REF!=$G$1,#REF!,NA()),NA())","v":{"$error":"#REF!"}},{"$f":"IF(#REF!=$E$1,IF(#REF!=$G$1,IF(#REF!=\"\",NA(),#REF!),NA()),NA())","v":{"$error":"#REF!"}},{"$f":"IF(#REF!=$E$1,IF(#REF!=$G$1,IF(#REF!=\"\",NA(),#REF!),NA()),NA())","v":{"$error":"#REF!"}},{"$error":"#REF!"},{"$error":"#REF!"}]
[null,null,null,{"$f":"IF(#REF!=$E$1,IF(#REF!=$G$1,#REF!,NA()),NA())","v":{"$error":"#REF!"}},{"$f":"IF(#REF!=$E$1,IF(#REF!=$G$1,#REF!,NA()),NA())","v":{"$error":"#REF!"}},{"$f":"IF(#REF!=$E$1,IF(#REF!=$G$1,IF(#REF!=\"\",NA(),#REF!),NA()),NA())","v":{"$error":"#REF!"}},{"$f":"IF(#REF!=$E$1,IF(#REF!=$G$1,IF(#REF!=\"\",NA(),#REF!),NA()),NA())","v":{"$error":"#REF!"}},{"$error":"#REF!"},{"$error":"#REF!"}]
[null,null,null,{"$f":"IF(#REF!=$E$1,IF(#REF!=$G$1,#REF!,NA()),NA())","v":{"$error":"#REF!"}},{"$f":"IF(#REF!=$E$1,IF(#REF!=$G$1,#REF!,NA()),NA())","v":{"$error":"#REF!"}},{"$f":"IF(#REF!=$E$1,IF(#REF!=$G$1,IF(#REF!=\"\",NA(),#REF!),NA()),NA())","v":{"$error":"#REF!"}},{"$f":"IF(#REF!=$E$1,IF(#REF!=$G$1,IF(#REF!=\"\",NA(),#REF!),NA()),NA())","v":{"$error":"#REF!"}},{"$error":"#REF!"},{"$error":"#REF!"}]
[null,null,null,{"$f":"IF(#REF!=$E$1,IF(#REF!=$G$1,#REF!,NA()),NA())","v":{"$error":"#REF!"}},{"$f":"IF(#REF!=$E$1,IF(#REF!=$G$1,#REF!,NA()),NA())","v":{"$error":"#REF!"}},{"$f":"IF(#REF!=$E$1,IF(#REF!=$G$1,IF(#REF!=\"\",NA(),#REF!),NA()),NA())","v":{"$error":"#REF!"}},{"$f":"IF(#REF!=$E$1,IF(#REF!=$G$1,IF(#REF!=\"\",NA(),#REF!),NA()),NA())","v":{"$error":"#REF!"}},{"$error":"#REF!"},{"$error":"#REF!"}]
[null,null,null,{"$f":"IF(#REF!=$E$1,IF(#REF!=$G$1,#REF!,NA()),NA())","v":{"$error":"#REF!"}},{"$f":"IF(#REF!=$E$1,IF(#REF!=$G$1,#REF!,NA()),NA())","v":{"$error":"#REF!"}},{"$f":"IF(#REF!=$E$1,IF(#REF!=$G$1,IF(#REF!=\"\",NA(),#REF!),NA()),NA())","v":{"$error":"#REF!"}},{"$f":"IF(#REF!=$E$1,IF(#REF!=$G$1,IF(#REF!=\"\",NA(),#REF!),NA()),NA())","v":{"$error":"#REF!"}},{"$error":"#REF!"},{"$error":"#REF!"}]
[null,null,null,{"$f":"IF(#REF!=$E$1,IF(#REF!=$G$1,#REF!,NA()),NA())","v":{"$error":"#REF!"}},{"$f":"IF(#REF!=$E$1,IF(#REF!=$G$1,#REF!,NA()),NA())","v":{"$error":"#REF!"}},{"$f":"IF(#REF!=$E$1,IF(#REF!=$G$1,IF(#REF!=\"\",NA(),#REF!),NA()),NA())","v":{"$error":"#REF!"}},{"$f":"IF(#REF!=$E$1,IF(#REF!=$G$1,IF(#REF!=\"\",NA(),#REF!),NA()),NA())","v":{"$error":"#REF!"}},{"$error":"#REF!"},{"$error":"#REF!"}]
[null,null,null,{"$f":"IF(#REF!=$E$1,IF(#REF!=$G$1,#REF!,NA()),NA())","v":{"$error":"#REF!"}},{"$f":"IF(#REF!=$E$1,IF(#REF!=$G$1,#REF!,NA()),NA())","v":{"$error":"#REF!"}},{"$f":"IF(#REF!=$E$1,IF(#REF!=$G$1,IF(#REF!=\"\",NA(),#REF!),NA()),NA())","v":{"$error":"#REF!"}},{"$f":"IF(#REF!=$E$1,IF(#REF!=$G$1,IF(#REF!=\"\",NA(),#REF!),NA()),NA())","v":{"$error":"#REF!"}},{"$error":"#REF!"},{"$error":"#REF!"}]
[null,null,null,{"$f":"IF(#REF!=$E$1,IF(#REF!=$G$1,#REF!,NA()),NA())","v":{"$error":"#REF!"}},{"$f":"IF(#REF!=$E$1,IF(#REF!=$G$1,#REF!,NA()),NA())","v":{"$error":"#REF!"}},{"$f":"IF(#REF!=$E$1,IF(#REF!=$G$1,IF(#REF!=\"\",NA(),#REF!),NA()),NA())","v":{"$error":"#REF!"}},{"$f":"IF(#REF!=$E$1,IF(#REF!=$G$1,IF(#REF!=\"\",NA(),#REF!),NA()),NA())","v":{"$error":"#REF!"}},{"$error":"#REF!"},{"$error":"#REF!"}]
[null,null,null,{"$f":"IF(#REF!=$E$1,IF(#REF!=$G$1,#REF!,NA()),NA())","v":{"$error":"#REF!"}},{"$f":"IF(#REF!=$E$1,IF(#REF!=$G$1,#REF!,NA()),NA())","v":{"$error":"#REF!"}},{"$f":"IF(#REF!=$E$1,IF(#REF!=$G$1,IF(#REF!=\"\",NA(),#REF!),NA()),NA())","v":{"$error":"#REF!"}},{"$f":"IF(#REF!=$E$1,IF(#REF!=$G$1,IF(#REF!=\"\",NA(),#REF!),NA()),NA())","v":{"$error":"#REF!"}},{"$error":"#REF!"},{"$error":"#REF!"}]
[null,null,null,{"$f":"IF(#REF!=$E$1,IF(#REF!=$G$1,#REF!,NA()),NA())","v":{"$error":"#REF!"}},{"$f":"IF(#REF!=$E$1,IF(#REF!=$G$1,#REF!,NA()),NA())","v":{"$error":"#REF!"}},{"$f":"IF(#REF!=$E$1,IF(#REF!=$G$1,IF(#REF!=\"\",NA(),#REF!),NA()),NA())","v":{"$error":"#REF!"}},{"$f":"IF(#REF!=$E$1,IF(#REF!=$G$1,IF(#REF!=\"\",NA(),#REF!),NA()),NA())","v":{"$error":"#REF!"}},{"$error":"#REF!"},{"$error":"#REF!"}]
[null,null,null,{"$f":"IF(#REF!=$E$1,IF(#REF!=$G$1,#REF!,NA()),NA())","v":{"$error":"#REF!"}},{"$f":"IF(#REF!=$E$1,IF(#REF!=$G$1,#REF!,NA()),NA())","v":{"$error":"#REF!"}},{"$f":"IF(#REF!=$E$1,IF(#REF!=$G$1,IF(#REF!=\"\",NA(),#REF!),NA()),NA())","v":{"$error":"#REF!"}},{"$f":"IF(#REF!=$E$1,IF(#REF!=$G$1,IF(#REF!=\"\",NA(),#REF!),NA()),NA())","v":{"$error":"#REF!"}},{"$error":"#REF!"},{"$error":"#REF!"}]
[null,null,null,{"$f":"IF(#REF!=$E$1,IF(#REF!=$G$1,#REF!,NA()),NA())","v":{"$error":"#REF!"}},{"$f":"IF(#REF!=$E$1,IF(#REF!=$G$1,#REF!,NA()),NA())","v":{"$error":"#REF!"}},{"$f":"IF(#REF!=$E$1,IF(#REF!=$G$1,IF(#REF!=\"\",NA(),#REF!),NA()),NA())","v":{"$error":"#REF!"}},{"$f":"IF(#REF!=$E$1,IF(#REF!=$G$1,IF(#REF!=\"\",NA(),#REF!),NA()),NA())","v":{"$error":"#REF!"}},{"$error":"#REF!"},{"$error":"#REF!"}]
[null,null,null,{"$f":"IF(#REF!=$E$1,IF(#REF!=$G$1,#REF!,NA()),NA())","v":{"$error":"#REF!"}},{"$f":"IF(#REF!=$E$1,IF(#REF!=$G$1,#REF!,NA()),NA())","v":{"$error":"#REF!"}},{"$f":"IF(#REF!=$E$1,IF(#REF!=$G$1,IF(#REF!=\"\",NA(),#REF!),NA()),NA())","v":{"$error":"#REF!"}},{"$f":"IF(#REF!=$E$1,IF(#REF!=$G$1,IF(#REF!=\"\",NA(),#REF!),NA()),NA())","v":{"$error":"#REF!"}},{"$error":"#REF!"},{"$error":"#REF!"}]
[null,null,null,{"$f":"IF(#REF!=$E$1,IF(#REF!=$G$1,#REF!,NA()),NA())","v":{"$error":"#REF!"}},{"$f":"IF(#REF!=$E$1,IF(#REF!=$G$1,#REF!,NA()),NA())","v":{"$error":"#REF!"}},{"$f":"IF(#REF!=$E$1,IF(#REF!=$G$1,IF(#REF!=\"\",NA(),#REF!),NA()),NA())","v":{"$error":"#REF!"}},{"$f":"IF(#REF!=$E$1,IF(#REF!=$G$1,IF(#REF!=\"\",NA(),#REF!),NA()),NA())","v":{"$error":"#REF!"}},{"$error":"#REF!"},{"$error":"#REF!"}]
[null,null,null,{"$f":"IF(#REF!=$E$1,IF(#REF!=$G$1,#REF!,NA()),NA())","v":{"$error":"#REF!"}},{"$f":"IF(#REF!=$E$1,IF(#REF!=$G$1,#REF!,NA()),NA())","v":{"$error":"#REF!"}},{"$f":"IF(#REF!=$E$1,IF(#REF!=$G$1,IF(#REF!=\"\",NA(),#REF!),NA()),NA())","v":{"$error":"#REF!"}},{"$f":"IF(#REF!=$E$1,IF(#REF!=$G$1,IF(#REF!=\"\",NA(),#REF!),NA()),NA())","v":{"$error":"#REF!"}},{"$error":"#REF!"},{"$error":"#REF!"}]
[null,null,null,{"$f":"IF(#REF!=$E$1,IF(#REF!=$G$1,#REF!,NA()),NA())","v":{"$error":"#REF!"}},{"$f":"IF(#REF!=$E$1,IF(#REF!=$G$1,#REF!,NA()),NA())","v":{"$error":"#REF!"}},{"$f":"IF(#REF!=$E$1,IF(#REF!=$G$1,IF(#REF!=\"\",NA(),#REF!),NA()),NA())","v":{"$error":"#REF!"}},{"$f":"IF(#REF!=$E$1,IF(#REF!=$G$1,IF(#REF!=\"\",NA(),#REF!),NA()),NA())","v":{"$error":"#REF!"}},{"$error":"#REF!"},{"$error":"#REF!"}]
[null,null,null,{"$f":"IF(#REF!=$E$1,IF(#REF!=$G$1,#REF!,NA()),NA())","v":{"$error":"#REF!"}},{"$f":"IF(#REF!=$E$1,IF(#REF!=$G$1,#REF!,NA()),NA())","v":{"$error":"#REF!"}},{"$f":"IF(#REF!=$E$1,IF(#REF!=$G$1,IF(#REF!=\"\",NA(),#REF!),NA()),NA())","v":{"$error":"#REF!"}},{"$f":"IF(#REF!=$E$1,IF(#REF!=$G$1,IF(#REF!=\"\",NA(),#REF!),NA()),NA())","v":{"$error":"#REF!"}},{"$error":"#REF!"},{"$error":"#REF!"}]
[null,null,null,{"$f":"IF(#REF!=$E$1,IF(#REF!=$G$1,#REF!,NA()),NA())","v":{"$error":"#REF!"}},{"$f":"IF(#REF!=$E$1,IF(#REF!=$G$1,#REF!,NA()),NA())","v":{"$error":"#REF!"}},{"$f":"IF(#REF!=$E$1,IF(#REF!=$G$1,IF(#REF!=\"\",NA(),#REF!),NA()),NA())","v":{"$error":"#REF!"}},{"$f":"IF(#REF!=$E$1,IF(#REF!=$G$1,IF(#REF!=\"\",NA(),#REF!),NA()),NA())","v":{"$error":"#REF!"}},{"$error":"#REF!"},{"$error":"#REF!"}]
[null,null,null,{"$f":"IF(#REF!=$E$1,IF(#REF!=$G$1,#REF!,NA()),NA())","v":{"$error":"#REF!"}},{"$f":"IF(#REF!=$E$1,IF(#REF!=$G$1,#REF!,NA()),NA())","v":{"$error":"#REF!"}},{"$f":"IF(#REF!=$E$1,IF(#REF!=$G$1,IF(#REF!=\"\",NA(),#REF!),NA()),NA())","v":{"$error":"#REF!"}},{"$f":"IF(#REF!=$E$1,IF(#REF!=$G$1,IF(#REF!=\"\",NA(),#REF!),NA()),NA())","v":{"$error":"#REF!"}},{"$error":"#REF!"},{"$error":"#REF!"}]
[null,null,null,{"$f":"IF(#REF!=$E$1,IF(#REF!=$G$1,#REF!,NA()),NA())","v":{"$error":"#REF!"}},{"$f":"IF(#REF!=$E$1,IF(#REF!=$G$1,#REF!,NA()),NA())","v":{"$error":"#REF!"}},{"$f":"IF(#REF!=$E$1,IF(#REF!=$G$1,IF(#REF!=\"\",NA(),#REF!),NA()),NA())","v":{"$error":"#REF!"}},{"$f":"IF(#REF!=$E$1,IF(#REF!=$G$1,IF(#REF!=\"\",NA(),#REF!),NA()),NA())","v":{"$error":"#REF!"}},{"$error":"#REF!"},{"$error":"#REF!"}]
[null,null,null,{"$f":"IF(#REF!=$E$1,IF(#REF!=$G$1,#REF!,NA()),NA())","v":{"$error":"#REF!"}},{"$f":"IF(#REF!=$E$1,IF(#REF!=$G$1,#REF!,NA()),NA())","v":{"$error":"#REF!"}},{"$f":"IF(#REF!=$E$1,IF(#REF!=$G$1,IF(#REF!=\"\",NA(),#REF!),NA()),NA())","v":{"$error":"#REF!"}},{"$f":"IF(#REF!=$E$1,IF(#REF!=$G$1,IF(#REF!=\"\",NA(),#REF!),NA()),NA())","v":{"$error":"#REF!"}},{"$error":"#REF!"},{"$error":"#REF!"}]
[null,null,null,{"$f":"IF(#REF!=$E$1,IF(#REF!=$G$1,#REF!,NA()),NA())","v":{"$error":"#REF!"}},{"$f":"IF(#REF!=$E$1,IF(#REF!=$G$1,#REF!,NA()),NA())","v":{"$error":"#REF!"}},{"$f":"IF(#REF!=$E$1,IF(#REF!=$G$1,IF(#REF!=\"\",NA(),#REF!),NA()),NA())","v":{"$error":"#REF!"}},{"$f":"IF(#REF!=$E$1,IF(#REF!=$G$1,IF(#REF!=\"\",NA(),#REF!),NA()),NA())","v":{"$error":"#REF!"}},{"$error":"#REF!"},{"$error":"#REF!"}]
[null,null,null,{"$f":"IF(#REF!=$E$1,IF(#REF!=$G$1,#REF!,NA()),NA())","v":{"$error":"#REF!"}},{"$f":"IF(#REF!=$E$1,IF(#REF!=$G$1,#REF!,NA()),NA())","v":{"$error":"#REF!"}},{"$f":"IF(#REF!=$E$1,IF(#REF!=$G$1,IF(#REF!=\"\",NA(),#REF!),NA()),NA())","v":{"$error":"#REF!"}},{"$f":"IF(#REF!=$E$1,IF(#REF!=$G$1,IF(#REF!=\"\",NA(),#REF!),NA()),NA())","v":{"$error":"#REF!"}},{"$error":"#REF!"},{"$error":"#REF!"}]
[null,null,null,{"$f":"IF(#REF!=$E$1,IF(#REF!=$G$1,#REF!,NA()),NA())","v":{"$error":"#REF!"}},{"$f":"IF(#REF!=$E$1,IF(#REF!=$G$1,#REF!,NA()),NA())","v":{"$error":"#REF!"}},{"$f":"IF(#REF!=$E$1,IF(#REF!=$G$1,IF(#REF!=\"\",NA(),#REF!),NA()),NA())","v":{"$error":"#REF!"}},{"$f":"IF(#REF!=$E$1,IF(#REF!=$G$1,IF(#REF!=\"\",NA(),#REF!),NA()),NA())","v":{"$error":"#REF!"}},{"$error":"#REF!"},{"$error":"#REF!"}]
[null,null,null,{"$f":"IF(#REF!=$E$1,IF(#REF!=$G$1,#REF!,NA()),NA())","v":{"$error":"#REF!"}},{"$f":"IF(#REF!=$E$1,IF(#REF!=$G$1,#REF!,NA()),NA())","v":{"$error":"#REF!"}},{"$f":"IF(#REF!=$E$1,IF(#REF!=$G$1,IF(#REF!=\"\",NA(),#REF!),NA()),NA())","v":{"$error":"#REF!"}},{"$f":"IF(#REF!=$E$1,IF(#REF!=$G$1,IF(#REF!=\"\",NA(),#REF!),NA()),NA())","v":{"$error":"#REF!"}},{"$error":"#REF!"},{"$error":"#REF!"}]
[null,null,null,{"$f":"IF(#REF!=$E$1,IF(#REF!=$G$1,#REF!,NA()),NA())","v":{"$error":"#REF!"}},{"$f":"IF(#REF!=$E$1,IF(#REF!=$G$1,#REF!,NA()),NA())","v":{"$error":"#REF!"}},{"$f":"IF(#REF!=$E$1,IF(#REF!=$G$1,IF(#REF!=\"\",NA(),#REF!),NA()),NA())","v":{"$error":"#REF!"}},{"$f":"IF(#REF!=$E$1,IF(#REF!=$G$1,IF(#REF!=\"\",NA(),#REF!),NA()),NA())","v":{"$error":"#REF!"}},{"$error":"#REF!"},{"$error":"#REF!"}]
[null,null,null,{"$f":"IF(#REF!=$E$1,IF(#REF!=$G$1,#REF!,NA()),NA())","v":{"$error":"#REF!"}},{"$f":"IF(#REF!=$E$1,IF(#REF!=$G$1,#REF!,NA()),NA())","v":{"$error":"#REF!"}},{"$f":"IF(#REF!=$E$1,IF(#REF!=$G$1,IF(#REF!=\"\",NA(),#REF!),NA()),NA())","v":{"$error":"#REF!"}},{"$f":"IF(#REF!=$E$1,IF(#REF!=$G$1,IF(#REF!=\"\",NA(),#REF!),NA()),NA())","v":{"$error":"#REF!"}},{"$error":"#REF!"},{"$error":"#REF!"}]
[null,null,null,{"$f":"IF(#REF!=$E$1,IF(#REF!=$G$1,#REF!,NA()),NA())","v":{"$error":"#REF!"}},{"$f":"IF(#REF!=$E$1,IF(#REF!=$G$1,#REF!,NA()),NA())","v":{"$error":"#REF!"}},{"$f":"IF(#REF!=$E$1,IF(#REF!=$G$1,IF(#REF!=\"\",NA(),#REF!),NA()),NA())","v":{"$error":"#REF!"}},{"$f":"IF(#REF!=$E$1,IF(#REF!=$G$1,IF(#REF!=\"\",NA(),#REF!),NA()),NA())","v":{"$error":"#REF!"}},{"$error":"#REF!"},{"$error":"#REF!"}]
[null,null,null,{"$f":"IF(#REF!=$E$1,IF(#REF!=$G$1,#REF!,NA()),NA())","v":{"$error":"#REF!"}},{"$f":"IF(#REF!=$E$1,IF(#REF!=$G$1,#REF!,NA()),NA())","v":{"$error":"#REF!"}},{"$f":"IF(#REF!=$E$1,IF(#REF!=$G$1,IF(#REF!=\"\",NA(),#REF!),NA()),NA())","v":{"$error":"#REF!"}},{"$f":"IF(#REF!=$E$1,IF(#REF!=$G$1,IF(#REF!=\"\",NA(),#REF!),NA()),NA())","v":{"$error":"#REF!"}},{"$error":"#REF!"},{"$error":"#REF!"}]
[null,null,null,{"$f":"IF(#REF!=$E$1,IF(#REF!=$G$1,#REF!,NA()),NA())","v":{"$error":"#REF!"}},{"$f":"IF(#REF!=$E$1,IF(#REF!=$G$1,#REF!,NA()),NA())","v":{"$error":"#REF!"}},{"$f":"IF(#REF!=$E$1,IF(#REF!=$G$1,IF(#REF!=\"\",NA(),#REF!),NA()),NA())","v":{"$error":"#REF!"}},{"$f":"IF(#REF!=$E$1,IF(#REF!=$G$1,IF(#REF!=\"\",NA(),#REF!),NA()),NA())","v":{"$error":"#REF!"}},{"$error":"#REF!"},{"$error":"#REF!"}]
[null,null,null,{"$f":"IF(#REF!=$E$1,IF(#REF!=$G$1,#REF!,NA()),NA())","v":{"$error":"#REF!"}},{"$f":"IF(#REF!=$E$1,IF(#REF!=$G$1,#REF!,NA()),NA())","v":{"$error":"#REF!"}},{"$f":"IF(#REF!=$E$1,IF(#REF!=$G$1,IF(#REF!=\"\",NA(),#REF!),NA()),NA())","v":{"$error":"#REF!"}},{"$f":"IF(#REF!=$E$1,IF(#REF!=$G$1,IF(#REF!=\"\",NA(),#REF!),NA()),NA())","v":{"$error":"#REF!"}},{"$error":"#REF!"},{"$error":"#REF!"}]
[null,null,null,{"$f":"IF(#REF!=$E$1,IF(#REF!=$G$1,#REF!,NA()),NA())","v":{"$error":"#REF!"}},{"$f":"IF(#REF!=$E$1,IF(#REF!=$G$1,#REF!,NA()),NA())","v":{"$error":"#REF!"}},{"$f":"IF(#REF!=$E$1,IF(#REF!=$G$1,IF(#REF!=\"\",NA(),#REF!),NA()),NA())","v":{"$error":"#REF!"}},{"$f":"IF(#REF!=$E$1,IF(#REF!=$G$1,IF(#REF!=\"\",NA(),#REF!),NA()),NA())","v":{"$error":"#REF!"}},{"$error":"#REF!"},{"$error":"#REF!"}]
[null,null,null,{"$f":"IF(#REF!=$E$1,IF(#REF!=$G$1,#REF!,NA()),NA())","v":{"$error":"#REF!"}},{"$f":"IF(#REF!=$E$1,IF(#REF!=$G$1,#REF!,NA()),NA())","v":{"$error":"#REF!"}},{"$f":"IF(#REF!=$E$1,IF(#REF!=$G$1,IF(#REF!=\"\",NA(),#REF!),NA()),NA())","v":{"$error":"#REF!"}},{"$f":"IF(#REF!=$E$1,IF(#REF!=$G$1,IF(#REF!=\"\",NA(),#REF!),NA()),NA())","v":{"$error":"#REF!"}},{"$error":"#REF!"},{"$error":"#REF!"}]
[null,null,null,{"$f":"IF(#REF!=$E$1,IF(#REF!=$G$1,#REF!,NA()),NA())","v":{"$error":"#REF!"}},{"$f":"IF(#REF!=$E$1,IF(#REF!=$G$1,#REF!,NA()),NA())","v":{"$error":"#REF!"}},{"$f":"IF(#REF!=$E$1,IF(#REF!=$G$1,IF(#REF!=\"\",NA(),#REF!),NA()),NA())","v":{"$error":"#REF!"}},{"$f":"IF(#REF!=$E$1,IF(#REF!=$G$1,IF(#REF!=\"\",NA(),#REF!),NA()),NA())","v":{"$error":"#REF!"}},{"$error":"#REF!"},{"$error":"#REF!"}]
[null,null,null,{"$f":"IF(#REF!=$E$1,IF(#REF!=$G$1,#REF!,NA()),NA())","v":{"$error":"#REF!"}},{"$f":"IF(#REF!=$E$1,IF(#REF!=$G$1,#REF!,NA()),NA())","v":{"$error":"#REF!"}},{"$f":"IF(#REF!=$E$1,IF(#REF!=$G$1,IF(#REF!=\"\",NA(),#REF!),NA()),NA())","v":{"$error":"#REF!"}},{"$f":"IF(#REF!=$E$1,IF(#REF!=$G$1,IF(#REF!=\"\",NA(),#REF!),NA()),NA())","v":{"$error":"#REF!"}},{"$error":"#REF!"},{"$error":"#REF!"}]
[null,null,null,{"$f":"IF(#REF!=$E$1,IF(#REF!=$G$1,#REF!,NA()),NA())","v":{"$error":"#REF!"}},{"$f":"IF(#REF!=$E$1,IF(#REF!=$G$1,#REF!,NA()),NA())","v":{"$error":"#REF!"}},{"$f":"IF(#REF!=$E$1,IF(#REF!=$G$1,IF(#REF!=\"\",NA(),#REF!),NA()),NA())","v":{"$error":"#REF!"}},{"$f":"IF(#REF!=$E$1,IF(#REF!=$G$1,IF(#REF!=\"\",NA(),#REF!),NA()),NA())","v":{"$error":"#REF!"}},{"$error":"#REF!"},{"$error":"#REF!"}]
[null,null,null,{"$f":"IF(#REF!=$E$1,IF(#REF!=$G$1,#REF!,NA()),NA())","v":{"$error":"#REF!"}},{"$f":"IF(#REF!=$E$1,IF(#REF!=$G$1,#REF!,NA()),NA())","v":{"$error":"#REF!"}},{"$f":"IF(#REF!=$E$1,IF(#REF!=$G$1,IF(#REF!=\"\",NA(),#REF!),NA()),NA())","v":{"$error":"#REF!"}},{"$f":"IF(#REF!=$E$1,IF(#REF!=$G$1,IF(#REF!=\"\",NA(),#REF!),NA()),NA())","v":{"$error":"#REF!"}},{"$error":"#REF!"},{"$error":"#REF!"}]
[null,null,null,{"$f":"IF(#REF!=$E$1,IF(#REF!=$G$1,#REF!,NA()),NA())","v":{"$error":"#REF!"}},{"$f":"IF(#REF!=$E$1,IF(#REF!=$G$1,#REF!,NA()),NA())","v":{"$error":"#REF!"}},{"$f":"IF(#REF!=$E$1,IF(#REF!=$G$1,IF(#REF!=\"\",NA(),#REF!),NA()),NA())","v":{"$error":"#REF!"}},{"$f":"IF(#REF!=$E$1,IF(#REF!=$G$1,IF(#REF!=\"\",NA(),#REF!),NA()),NA())","v":{"$error":"#REF!"}},{"$error":"#REF!"},{"$error":"#REF!"}]
[null,null,null,{"$f":"IF(#REF!=$E$1,IF(#REF!=$G$1,#REF!,NA()),NA())","v":{"$error":"#REF!"}},{"$f":"IF(#REF!=$E$1,IF(#REF!=$G$1,#REF!,NA()),NA())","v":{"$error":"#REF!"}},{"$f":"IF(#REF!=$E$1,IF(#REF!=$G$1,IF(#REF!=\"\",NA(),#REF!),NA()),NA())","v":{"$error":"#REF!"}},{"$f":"IF(#REF!=$E$1,IF(#REF!=$G$1,IF(#REF!=\"\",NA(),#REF!),NA()),NA())","v":{"$error":"#REF!"}},{"$error":"#REF!"},{"$error":"#REF!"}]
[null,null,null,{"$f":"IF(#REF!=$E$1,IF(#REF!=$G$1,#REF!,NA()),NA())","v":{"$error":"#REF!"}},{"$f":"IF(#REF!=$E$1,IF(#REF!=$G$1,#REF!,NA()),NA())","v":{"$error":"#REF!"}},{"$f":"IF(#REF!=$E$1,IF(#REF!=$G$1,IF(#REF!=\"\",NA(),#REF!),NA()),NA())","v":{"$error":"#REF!"}},{"$f":"IF(#REF!=$E$1,IF(#REF!=$G$1,IF(#REF!=\"\",NA(),#REF!),NA()),NA())","v":{"$error":"#REF!"}},{"$error":"#REF!"},{"$error":"#REF!"}]
[null,null,null,{"$f":"IF(#REF!=$E$1,IF(#REF!=$G$1,#REF!,NA()),NA())","v":{"$error":"#REF!"}},{"$f":"IF(#REF!=$E$1,IF(#REF!=$G$1,#REF!,NA()),NA())","v":{"$error":"#REF!"}},{"$f":"IF(#REF!=$E$1,IF(#REF!=$G$1,IF(#REF!=\"\",NA(),#REF!),NA()),NA())","v":{"$error":"#REF!"}},{"$f":"IF(#REF!=$E$1,IF(#REF!=$G$1,IF(#REF!=\"\",NA(),#REF!),NA()),NA())","v":{"$error":"#REF!"}},{"$error":"#REF!"},{"$error":"#REF!"}]
[null,null,null,{"$f":"IF(#REF!=$E$1,IF(#REF!=$G$1,#REF!,NA()),NA())","v":{"$error":"#REF!"}},{"$f":"IF(#REF!=$E$1,IF(#REF!=$G$1,#REF!,NA()),NA())","v":{"$error":"#REF!"}},{"$f":"IF(#REF!=$E$1,IF(#REF!=$G$1,IF(#REF!=\"\",NA(),#REF!),NA()),NA())","v":{"$error":"#REF!"}},{"$f":"IF(#REF!=$E$1,IF(#REF!=$G$1,IF(#REF!=\"\",NA(),#REF!),NA()),NA())","v":{"$error":"#REF!"}},{"$error":"#REF!"},{"$error":"#REF!"}]
[null,null,null,{"$f":"IF(#REF!=$E$1,IF(#REF!=$G$1,#REF!,NA()),NA())","v":{"$error":"#REF!"}},{"$f":"IF(#REF!=$E$1,IF(#REF!=$G$1,#REF!,NA()),NA())","v":{"$error":"#REF!"}},{"$f":"IF(#REF!=$E$1,IF(#REF!=$G$1,IF(#REF!=\"\",NA(),#REF!),NA()),NA())","v":{"$error":"#REF!"}},{"$f":"IF(#REF!=$E$1,IF(#REF!=$G$1,IF(#REF!=\"\",NA(),#REF!),NA()),NA())","v":{"$error":"#REF!"}},{"$error":"#REF!"},{"$error":"#REF!"}]
[null,null,null,{"$f":"IF(#REF!=$E$1,IF(#REF!=$G$1,#REF!,NA()),NA())","v":{"$error":"#REF!"}},{"$f":"IF(#REF!=$E$1,IF(#REF!=$G$1,#REF!,NA()),NA())","v":{"$error":"#REF!"}},{"$f":"IF(#REF!=$E$1,IF(#REF!=$G$1,IF(#REF!=\"\",NA(),#REF!),NA()),NA())","v":{"$error":"#REF!"}},{"$f":"IF(#REF!=$E$1,IF(#REF!=$G$1,IF(#REF!=\"\",NA(),#REF!),NA()),NA())","v":{"$error":"#REF!"}},{"$error":"#REF!"},{"$error":"#REF!"}]
[null,null,null,{"$f":"IF(#REF!=$E$1,IF(#REF!=$G$1,#REF!,NA()),NA())","v":{"$error":"#REF!"}},{"$f":"IF(#REF!=$E$1,IF(#REF!=$G$1,#REF!,NA()),NA())","v":{"$error":"#REF!"}},{"$f":"IF(#REF!=$E$1,IF(#REF!=$G$1,IF(#REF!=\"\",NA(),#REF!),NA()),NA())","v":{"$error":"#REF!"}},{"$f":"IF(#REF!=$E$1,IF(#REF!=$G$1,IF(#REF!=\"\",NA(),#REF!),NA()),NA())","v":{"$error":"#REF!"}},{"$error":"#REF!"},{"$error":"#REF!"}]
[null,null,null,{"$f":"IF(#REF!=$E$1,IF(#REF!=$G$1,#REF!,NA()),NA())","v":{"$error":"#REF!"}},{"$f":"IF(#REF!=$E$1,IF(#REF!=$G$1,#REF!,NA()),NA())","v":{"$error":"#REF!"}},{"$f":"IF(#REF!=$E$1,IF(#REF!=$G$1,IF(#REF!=\"\",NA(),#REF!),NA()),NA())","v":{"$error":"#REF!"}},{"$f":"IF(#REF!=$E$1,IF(#REF!=$G$1,IF(#REF!=\"\",NA(),#REF!),NA()),NA())","v":{"$error":"#REF!"}},{"$error":"#REF!"},{"$error":"#REF!"}]
[null,null,null,{"$f":"IF(#REF!=$E$1,IF(#REF!=$G$1,#REF!,NA()),NA())","v":{"$error":"#REF!"}},{"$f":"IF(#REF!=$E$1,IF(#REF!=$G$1,#REF!,NA()),NA())","v":{"$error":"#REF!"}},{"$f":"IF(#REF!=$E$1,IF(#REF!=$G$1,IF(#REF!=\"\",NA(),#REF!),NA()),NA())","v":{"$error":"#REF!"}},{"$f":"IF(#REF!=$E$1,IF(#REF!=$G$1,IF(#REF!=\"\",NA(),#REF!),NA()),NA())","v":{"$error":"#REF!"}},{"$error":"#REF!"},{"$error":"#REF!"}]
[null,null,null,{"$f":"IF(#REF!=$E$1,IF(#REF!=$G$1,#REF!,NA()),NA())","v":{"$error":"#REF!"}},{"$f":"IF(#REF!=$E$1,IF(#REF!=$G$1,#REF!,NA()),NA())","v":{"$error":"#REF!"}},{"$f":"IF(#REF!=$E$1,IF(#REF!=$G$1,IF(#REF!=\"\",NA(),#REF!),NA()),NA())","v":{"$error":"#REF!"}},{"$f":"IF(#REF!=$E$1,IF(#REF!=$G$1,IF(#REF!=\"\",NA(),#REF!),NA()),NA())","v":{"$error":"#REF!"}},{"$error":"#REF!"},{"$error":"#REF!"}]
[null,null,null,{"$f":"IF(#REF!=$E$1,IF(#REF!=$G$1,#REF!,NA()),NA())","v":{"$error":"#REF!"}},{"$f":"IF(#REF!=$E$1,IF(#REF!=$G$1,#REF!,NA()),NA())","v":{"$error":"#REF!"}},{"$f":"IF(#REF!=$E$1,IF(#REF!=$G$1,IF(#REF!=\"\",NA(),#REF!),NA()),NA())","v":{"$error":"#REF!"}},{"$f":"IF(#REF!=$E$1,IF(#REF!=$G$1,IF(#REF!=\"\",NA(),#REF!),NA()),NA())","v":{"$error":"#REF!"}},{"$error":"#REF!"},{"$error":"#REF!"}]
[null,null,null,{"$f":"IF(#REF!=$E$1,IF(#REF!=$G$1,#REF!,NA()),NA())","v":{"$error":"#REF!"}},{"$f":"IF(#REF!=$E$1,IF(#REF!=$G$1,#REF!,NA()),NA())","v":{"$error":"#REF!"}},{"$f":"IF(#REF!=$E$1,IF(#REF!=$G$1,IF(#REF!=\"\",NA(),#REF!),NA()),NA())","v":{"$error":"#REF!"}},{"$f":"IF(#REF!=$E$1,IF(#REF!=$G$1,IF(#REF!=\"\",NA(),#REF!),NA()),NA())","v":{"$error":"#REF!"}},{"$error":"#REF!"},{"$error":"#REF!"}]
[null,null,null,{"$f":"IF(#REF!=$E$1,IF(#REF!=$G$1,#REF!,NA()),NA())","v":{"$error":"#REF!"}},{"$f":"IF(#REF!=$E$1,IF(#REF!=$G$1,#REF!,NA()),NA())","v":{"$error":"#REF!"}},{"$f":"IF(#REF!=$E$1,IF(#REF!=$G$1,IF(#REF!=\"\",NA(),#REF!),NA()),NA())","v":{"$error":"#REF!"}},{"$f":"IF(#REF!=$E$1,IF(#REF!=$G$1,IF(#REF!=\"\",NA(),#REF!),NA()),NA())","v":{"$error":"#REF!"}},{"$error":"#REF!"},{"$error":"#REF!"}]
[null,null,null,{"$f":"IF(#REF!=$E$1,IF(#REF!=$G$1,#REF!,NA()),NA())","v":{"$error":"#REF!"}},{"$f":"IF(#REF!=$E$1,IF(#REF!=$G$1,#REF!,NA()),NA())","v":{"$error":"#REF!"}},{"$f":"IF(#REF!=$E$1,IF(#REF!=$G$1,IF(#REF!=\"\",NA(),#REF!),NA()),NA())","v":{"$error":"#REF!"}},{"$f":"IF(#REF!=$E$1,IF(#REF!=$G$1,IF(#REF!=\"\",NA(),#REF!),NA()),NA())","v":{"$error":"#REF!"}},{"$f":"IF(AND(ISNUMBER(G708),F708=\"-\"),0,F708)","v":{"$error":"#REF!"}},{"$f":"IF(AND(ISNUMBER(F708),G708=\"-\"),0,G708)","v":{"$error":"#REF!"}}]
[null,null,null,{"$f":"IF(#REF!=$E$1,IF(#REF!=$G$1,#REF!,NA()),NA())","v":{"$error":"#REF!"}},{"$f":"IF(#REF!=$E$1,IF(#REF!=$G$1,#REF!,NA()),NA())","v":{"$error":"#REF!"}},{"$f":"IF(#REF!=$E$1,IF(#REF!=$G$1,IF(#REF!=\"\",NA(),#REF!),NA()),NA())","v":{"$error":"#REF!"}},{"$f":"IF(#REF!=$E$1,IF(#REF!=$G$1,IF(#REF!=\"\",NA(),#REF!),NA()),NA())","v":{"$error":"#REF!"}},{"$error":"#REF!"},{"$error":"#REF!"}]
[null,null,null,{"$f":"IF(#REF!=$E$1,IF(#REF!=$G$1,#REF!,NA()),NA())","v":{"$error":"#REF!"}},{"$f":"IF(#REF!=$E$1,IF(#REF!=$G$1,#REF!,NA()),NA())","v":{"$error":"#REF!"}},{"$f":"IF(#REF!=$E$1,IF(#REF!=$G$1,IF(#REF!=\"\",NA(),#REF!),NA()),NA())","v":{"$error":"#REF!"}},{"$f":"IF(#REF!=$E$1,IF(#REF!=$G$1,IF(#REF!=\"\",NA(),#REF!),NA()),NA())","v":{"$error":"#REF!"}},{"$error":"#REF!"},{"$error":"#REF!"}]
[null,null,null,{"$f":"IF(#REF!=$E$1,IF(#REF!=$G$1,#REF!,NA()),NA())","v":{"$error":"#REF!"}},{"$f":"IF(#REF!=$E$1,IF(#REF!=$G$1,#REF!,NA()),NA())","v":{"$error":"#REF!"}},{"$f":"IF(#REF!=$E$1,IF(#REF!=$G$1,IF(#REF!=\"\",NA(),#REF!),NA()),NA())","v":{"$error":"#REF!"}},{"$f":"IF(#REF!=$E$1,IF(#REF!=$G$1,IF(#REF!=\"\",NA(),#REF!),NA()),NA())","v":{"$error":"#REF!"}},{"$error":"#REF!"},{"$error":"#REF!"}]
[null,null,null,{"$f":"IF(#REF!=$E$1,IF(#REF!=$G$1,#REF!,NA()),NA())","v":{"$error":"#REF!"}},{"$f":"IF(#REF!=$E$1,IF(#REF!=$G$1,#REF!,NA()),NA())","v":{"$error":"#REF!"}},{"$f":"IF(#REF!=$E$1,IF(#REF!=$G$1,IF(#REF!=\"\",NA(),#REF!),NA()),NA())","v":{"$error":"#REF!"}},{"$f":"IF(#REF!=$E$1,IF(#REF!=$G$1,IF(#REF!=\"\",NA(),#REF!),NA()),NA())","v":{"$error":"#REF!"}},{"$error":"#REF!"},{"$error":"#REF!"}]
[null,null,null,{"$f":"IF(#REF!=$E$1,IF(#REF!=$G$1,#REF!,NA()),NA())","v":{"$error":"#REF!"}},{"$f":"IF(#REF!=$E$1,IF(#REF!=$G$1,#REF!,NA()),NA())","v":{"$error":"#REF!"}},{"$f":"IF(#REF!=$E$1,IF(#REF!=$G$1,IF(#REF!=\"\",NA(),#REF!),NA()),NA())","v":{"$error":"#REF!"}},{"$f":"IF(#REF!=$E$1,IF(#REF!=$G$1,IF(#REF!=\"\",NA(),#REF!),NA()),NA())","v":{"$error":"#REF!"}},{"$error":"#REF!"},{"$error":"#REF!"}]
[null,null,null,{"$f":"IF(#REF!=$E$1,IF(#REF!=$G$1,#REF!,NA()),NA())","v":{"$error":"#REF!"}},{"$f":"IF(#REF!=$E$1,IF(#REF!=$G$1,#REF!,NA()),NA())","v":{"$error":"#REF!"}},{"$f":"IF(#REF!=$E$1,IF(#REF!=$G$1,IF(#REF!=\"\",NA(),#REF!),NA()),NA())","v":{"$error":"#REF!"}},{"$f":"IF(#REF!=$E$1,IF(#REF!=$G$1,IF(#REF!=\"\",NA(),#REF!),NA()),NA())","v":{"$error":"#REF!"}},{"$error":"#REF!"},{"$error":"#REF!"}]
[null,null,null,{"$f":"IF(#REF!=$E$1,IF(#REF!=$G$1,#REF!,NA()),NA())","v":{"$error":"#REF!"}},{"$f":"IF(#REF!=$E$1,IF(#REF!=$G$1,#REF!,NA()),NA())","v":{"$error":"#REF!"}},{"$f":"IF(#REF!=$E$1,IF(#REF!=$G$1,IF(#REF!=\"\",NA(),#REF!),NA()),NA())","v":{"$error":"#REF!"}},{"$f":"IF(#REF!=$E$1,IF(#REF!=$G$1,IF(#REF!=\"\",NA(),#REF!),NA()),NA())","v":{"$error":"#REF!"}},{"$error":"#REF!"},{"$error":"#REF!"}]
[null,null,null,{"$f":"IF(#REF!=$E$1,IF(#REF!=$G$1,#REF!,NA()),NA())","v":{"$error":"#REF!"}},{"$f":"IF(#REF!=$E$1,IF(#REF!=$G$1,#REF!,NA()),NA())","v":{"$error":"#REF!"}},{"$f":"IF(#REF!=$E$1,IF(#REF!=$G$1,IF(#REF!=\"\",NA(),#REF!),NA()),NA())","v":{"$error":"#REF!"}},{"$f":"IF(#REF!=$E$1,IF(#REF!=$G$1,IF(#REF!=\"\",NA(),#REF!),NA()),NA())","v":{"$error":"#REF!"}},{"$error":"#REF!"},{"$error":"#REF!"}]
[null,null,null,{"$f":"IF(#REF!=$E$1,IF(#REF!=$G$1,#REF!,NA()),NA())","v":{"$error":"#REF!"}},{"$f":"IF(#REF!=$E$1,IF(#REF!=$G$1,#REF!,NA()),NA())","v":{"$error":"#REF!"}},{"$f":"IF(#REF!=$E$1,IF(#REF!=$G$1,IF(#REF!=\"\",NA(),#REF!),NA()),NA())","v":{"$error":"#REF!"}},{"$f":"IF(#REF!=$E$1,IF(#REF!=$G$1,IF(#REF!=\"\",NA(),#REF!),NA()),NA())","v":{"$error":"#REF!"}},{"$error":"#REF!"},{"$error":"#REF!"}]
[null,null,null,{"$f":"IF(#REF!=$E$1,IF(#REF!=$G$1,#REF!,NA()),NA())","v":{"$error":"#REF!"}},{"$f":"IF(#REF!=$E$1,IF(#REF!=$G$1,#REF!,NA()),NA())","v":{"$error":"#REF!"}},{"$f":"IF(#REF!=$E$1,IF(#REF!=$G$1,IF(#REF!=\"\",NA(),#REF!),NA()),NA())","v":{"$error":"#REF!"}},{"$f":"IF(#REF!=$E$1,IF(#REF!=$G$1,IF(#REF!=\"\",NA(),#REF!),NA()),NA())","v":{"$error":"#REF!"}},{"$error":"#REF!"},{"$error":"#REF!"}]
[null,null,null,{"$f":"IF(#REF!=$E$1,IF(#REF!=$G$1,#REF!,NA()),NA())","v":{"$error":"#REF!"}},{"$f":"IF(#REF!=$E$1,IF(#REF!=$G$1,#REF!,NA()),NA())","v":{"$error":"#REF!"}},{"$f":"IF(#REF!=$E$1,IF(#REF!=$G$1,IF(#REF!=\"\",NA(),#REF!),NA()),NA())","v":{"$error":"#REF!"}},{"$f":"IF(#REF!=$E$1,IF(#REF!=$G$1,IF(#REF!=\"\",NA(),#REF!),NA()),NA())","v":{"$error":"#REF!"}},{"$error":"#REF!"},{"$error":"#REF!"}]
[null,null,null,{"$f":"IF(#REF!=$E$1,IF(#REF!=$G$1,#REF!,NA()),NA())","v":{"$error":"#REF!"}},{"$f":"IF(#REF!=$E$1,IF(#REF!=$G$1,#REF!,NA()),NA())","v":{"$error":"#REF!"}},{"$f":"IF(#REF!=$E$1,IF(#REF!=$G$1,IF(#REF!=\"\",NA(),#REF!),NA()),NA())","v":{"$error":"#REF!"}},{"$f":"IF(#REF!=$E$1,IF(#REF!=$G$1,IF(#REF!=\"\",NA(),#REF!),NA()),NA())","v":{"$error":"#REF!"}},{"$error":"#REF!"},{"$error":"#REF!"}]
[null,null,null,{"$f":"IF(#REF!=$E$1,IF(#REF!=$G$1,#REF!,NA()),NA())","v":{"$error":"#REF!"}},{"$f":"IF(#REF!=$E$1,IF(#REF!=$G$1,#REF!,NA()),NA())","v":{"$error":"#REF!"}},{"$f":"IF(#REF!=$E$1,IF(#REF!=$G$1,IF(#REF!=\"\",NA(),#REF!),NA()),NA())","v":{"$error":"#REF!"}},{"$f":"IF(#REF!=$E$1,IF(#REF!=$G$1,IF(#REF!=\"\",NA(),#REF!),NA()),NA())","v":{"$error":"#REF!"}},{"$error":"#REF!"},{"$error":"#REF!"}]
[null,null,null,{"$f":"IF(#REF!=$E$1,IF(#REF!=$G$1,#REF!,NA()),NA())","v":{"$error":"#REF!"}},{"$f":"IF(#REF!=$E$1,IF(#REF!=$G$1,#REF!,NA()),NA())","v":{"$error":"#REF!"}},{"$f":"IF(#REF!=$E$1,IF(#REF!=$G$1,IF(#REF!=\"\",NA(),#REF!),NA()),NA())","v":{"$error":"#REF!"}},{"$f":"IF(#REF!=$E$1,IF(#REF!=$G$1,IF(#REF!=\"\",NA(),#REF!),NA()),NA())","v":{"$error":"#REF!"}},{"$error":"#REF!"},{"$error":"#REF!"}]
[null,null,null,{"$f":"IF(#REF!=$E$1,IF(#REF!=$G$1,#REF!,NA()),NA())","v":{"$error":"#REF!"}},{"$f":"IF(#REF!=$E$1,IF(#REF!=$G$1,#REF!,NA()),NA())","v":{"$error":"#REF!"}},{"$f":"IF(#REF!=$E$1,IF(#REF!=$G$1,IF(#REF!=\"\",NA(),#REF!),NA()),NA())","v":{"$error":"#REF!"}},{"$f":"IF(#REF!=$E$1,IF(#REF!=$G$1,IF(#REF!=\"\",NA(),#REF!),NA()),NA())","v":{"$error":"#REF!"}},{"$error":"#REF!"},{"$error":"#REF!"}]
[null,null,null,{"$f":"IF(#REF!=$E$1,IF(#REF!=$G$1,#REF!,NA()),NA())","v":{"$error":"#REF!"}},{"$f":"IF(#REF!=$E$1,IF(#REF!=$G$1,#REF!,NA()),NA())","v":{"$error":"#REF!"}},{"$f":"IF(#REF!=$E$1,IF(#REF!=$G$1,IF(#REF!=\"\",NA(),#REF!),NA()),NA())","v":{"$error":"#REF!"}},{"$f":"IF(#REF!=$E$1,IF(#REF!=$G$1,IF(#REF!=\"\",NA(),#REF!),NA()),NA())","v":{"$error":"#REF!"}},{"$error":"#REF!"},{"$error":"#REF!"}]
[null,null,null,{"$f":"IF(#REF!=$E$1,IF(#REF!=$G$1,#REF!,NA()),NA())","v":{"$error":"#REF!"}},{"$f":"IF(#REF!=$E$1,IF(#REF!=$G$1,#REF!,NA()),NA())","v":{"$error":"#REF!"}},{"$f":"IF(#REF!=$E$1,IF(#REF!=$G$1,IF(#REF!=\"\",NA(),#REF!),NA()),NA())","v":{"$error":"#REF!"}},{"$f":"IF(#REF!=$E$1,IF(#REF!=$G$1,IF(#REF!=\"\",NA(),#REF!),NA()),NA())","v":{"$error":"#REF!"}},{"$error":"#REF!"},{"$error":"#REF!"}]
[null,null,null,{"$f":"IF(#REF!=$E$1,IF(#REF!=$G$1,#REF!,NA()),NA())","v":{"$error":"#REF!"}},{"$f":"IF(#REF!=$E$1,IF(#REF!=$G$1,#REF!,NA()),NA())","v":{"$error":"#REF!"}},{"$f":"IF(#REF!=$E$1,IF(#REF!=$G$1,IF(#REF!=\"\",NA(),#REF!),NA()),NA())","v":{"$error":"#REF!"}},{"$f":"IF(#REF!=$E$1,IF(#REF!=$G$1,IF(#REF!=\"\",NA(),#REF!),NA()),NA())","v":{"$error":"#REF!"}},{"$error":"#REF!"},{"$error":"#REF!"}]
[null,null,null,{"$f":"IF(#REF!=$E$1,IF(#REF!=$G$1,#REF!,NA()),NA())","v":{"$error":"#REF!"}},{"$f":"IF(#REF!=$E$1,IF(#REF!=$G$1,#REF!,NA()),NA())","v":{"$error":"#REF!"}},{"$f":"IF(#REF!=$E$1,IF(#REF!=$G$1,IF(#REF!=\"\",NA(),#REF!),NA()),NA())","v":{"$error":"#REF!"}},{"$f":"IF(#REF!=$E$1,IF(#REF!=$G$1,IF(#REF!=\"\",NA(),#REF!),NA()),NA())","v":{"$error":"#REF!"}},{"$error":"#REF!"},{"$error":"#REF!"}]
[null,null,null,{"$f":"IF(#REF!=$E$1,IF(#REF!=$G$1,#REF!,NA()),NA())","v":{"$error":"#REF!"}},{"$f":"IF(#REF!=$E$1,IF(#REF!=$G$1,#REF!,NA()),NA())","v":{"$error":"#REF!"}},{"$f":"IF(#REF!=$E$1,IF(#REF!=$G$1,IF(#REF!=\"\",NA(),#REF!),NA()),NA())","v":{"$error":"#REF!"}},{"$f":"IF(#REF!=$E$1,IF(#REF!=$G$1,IF(#REF!=\"\",NA(),#REF!),NA()),NA())","v":{"$error":"#REF!"}},{"$error":"#REF!"},{"$error":"#REF!"}]
[null,null,null,{"$f":"IF(#REF!=$E$1,IF(#REF!=$G$1,#REF!,NA()),NA())","v":{"$error":"#REF!"}},{"$f":"IF(#REF!=$E$1,IF(#REF!=$G$1,#REF!,NA()),NA())","v":{"$error":"#REF!"}},{"$f":"IF(#REF!=$E$1,IF(#REF!=$G$1,IF(#REF!=\"\",NA(),#REF!),NA()),NA())","v":{"$error":"#REF!"}},{"$f":"IF(#REF!=$E$1,IF(#REF!=$G$1,IF(#REF!=\"\",NA(),#REF!),NA()),NA())","v":{"$error":"#REF!"}},{"$error":"#REF!"},{"$error":"#REF!"}]
[null,null,null,{"$f":"IF(#REF!=$E$1,IF(#REF!=$G$1,#REF!,NA()),NA())","v":{"$error":"#REF!"}},{"$f":"IF(#REF!=$E$1,IF(#REF!=$G$1,#REF!,NA()),NA())","v":{"$error":"#REF!"}},{"$f":"IF(#REF!=$E$1,IF(#REF!=$G$1,IF(#REF!=\"\",NA(),#REF!),NA()),NA())","v":{"$error":"#REF!"}},{"$f":"IF(#REF!=$E$1,IF(#REF!=$G$1,IF(#REF!=\"\",NA(),#REF!),NA()),NA())","v":{"$error":"#REF!"}},{"$error":"#REF!"},{"$error":"#REF!"}]
[null,null,null,{"$f":"IF(#REF!=$E$1,IF(#REF!=$G$1,#REF!,NA()),NA())","v":{"$error":"#REF!"}},{"$f":"IF(#REF!=$E$1,IF(#REF!=$G$1,#REF!,NA()),NA())","v":{"$error":"#REF!"}},{"$f":"IF(#REF!=$E$1,IF(#REF!=$G$1,IF(#REF!=\"\",NA(),#REF!),NA()),NA())","v":{"$error":"#REF!"}},{"$f":"IF(#REF!=$E$1,IF(#REF!=$G$1,IF(#REF!=\"\",NA(),#REF!),NA()),NA())","v":{"$error":"#REF!"}},{"$error":"#REF!"},{"$error":"#REF!"}]
[null,null,null,{"$f":"IF(#REF!=$E$1,IF(#REF!=$G$1,#REF!,NA()),NA())","v":{"$error":"#REF!"}},{"$f":"IF(#REF!=$E$1,IF(#REF!=$G$1,#REF!,NA()),NA())","v":{"$error":"#REF!"}},{"$f":"IF(#REF!=$E$1,IF(#REF!=$G$1,IF(#REF!=\"\",NA(),#REF!),NA()),NA())","v":{"$error":"#REF!"}},{"$f":"IF(#REF!=$E$1,IF(#REF!=$G$1,IF(#REF!=\"\",NA(),#REF!),NA()),NA())","v":{"$error":"#REF!"}},{"$error":"#REF!"},{"$error":"#REF!"}]
[null,null,null,{"$f":"IF(#REF!=$E$1,IF(#REF!=$G$1,#REF!,NA()),NA())","v":{"$error":"#REF!"}},{"$f":"IF(#REF!=$E$1,IF(#REF!=$G$1,#REF!,NA()),NA())","v":{"$error":"#REF!"}},{"$f":"IF(#REF!=$E$1,IF(#REF!=$G$1,IF(#REF!=\"\",NA(),#REF!),NA()),NA())","v":{"$error":"#REF!"}},{"$f":"IF(#REF!=$E$1,IF(#REF!=$G$1,IF(#REF!=\"\",NA(),#REF!),NA()),NA())","v":{"$error":"#REF!"}},{"$error":"#REF!"},{"$error":"#REF!"}]
[null,null,null,{"$f":"IF(#REF!=$E$1,IF(#REF!=$G$1,#REF!,NA()),NA())","v":{"$error":"#REF!"}},{"$f":"IF(#REF!=$E$1,IF(#REF!=$G$1,#REF!,NA()),NA())","v":{"$error":"#REF!"}},{"$f":"IF(#REF!=$E$1,IF(#REF!=$G$1,IF(#REF!=\"\",NA(),#REF!),NA()),NA())","v":{"$error":"#REF!"}},{"$f":"IF(#REF!=$E$1,IF(#REF!=$G$1,IF(#REF!=\"\",NA(),#REF!),NA()),NA())","v":{"$error":"#REF!"}},{"$error":"#REF!"},{"$error":"#REF!"}]
[null,null,null,{"$f":"IF(#REF!=$E$1,IF(#REF!=$G$1,#REF!,NA()),NA())","v":{"$error":"#REF!"}},{"$f":"IF(#REF!=$E$1,IF(#REF!=$G$1,#REF!,NA()),NA())","v":{"$error":"#REF!"}},{"$f":"IF(#REF!=$E$1,IF(#REF!=$G$1,IF(#REF!=\"\",NA(),#REF!),NA()),NA())","v":{"$error":"#REF!"}},{"$f":"IF(#REF!=$E$1,IF(#REF!=$G$1,IF(#REF!=\"\",NA(),#REF!),NA()),NA())","v":{"$error":"#REF!"}},{"$error":"#REF!"},{"$error":"#REF!"}]
[null,null,null,{"$f":"IF(#REF!=$E$1,IF(#REF!=$G$1,#REF!,NA()),NA())","v":{"$error":"#REF!"}},{"$f":"IF(#REF!=$E$1,IF(#REF!=$G$1,#REF!,NA()),NA())","v":{"$error":"#REF!"}},{"$f":"IF(#REF!=$E$1,IF(#REF!=$G$1,IF(#REF!=\"\",NA(),#REF!),NA()),NA())","v":{"$error":"#REF!"}},{"$f":"IF(#REF!=$E$1,IF(#REF!=$G$1,IF(#REF!=\"\",NA(),#REF!),NA()),NA())","v":{"$error":"#REF!"}},{"$error":"#REF!"},{"$error":"#REF!"}]
[null,null,null,{"$f":"IF(#REF!=$E$1,IF(#REF!=$G$1,#REF!,NA()),NA())","v":{"$error":"#REF!"}},{"$f":"IF(#REF!=$E$1,IF(#REF!=$G$1,#REF!,NA()),NA())","v":{"$error":"#REF!"}},{"$f":"IF(#REF!=$E$1,IF(#REF!=$G$1,IF(#REF!=\"\",NA(),#REF!),NA()),NA())","v":{"$error":"#REF!"}},{"$f":"IF(#REF!=$E$1,IF(#REF!=$G$1,IF(#REF!=\"\",NA(),#REF!),NA()),NA())","v":{"$error":"#REF!"}},{"$error":"#REF!"},{"$error":"#REF!"}]
[null,null,null,{"$f":"IF(#REF!=$E$1,IF(#REF!=$G$1,#REF!,NA()),NA())","v":{"$error":"#REF!"}},{"$f":"IF(#REF!=$E$1,IF(#REF!=$G$1,#REF!,NA()),NA())","v":{"$error":"#REF!"}},{"$f":"IF(#REF!=$E$1,IF(#REF!=$G$1,IF(#REF!=\"\",NA(),#REF!),NA()),NA())","v":{"$error":"#REF!"}},{"$f":"IF(#REF!=$E$1,IF(#REF!=$G$1,IF(#REF!=\"\",NA(),#REF!),NA()),NA())","v":{"$error":"#REF!"}},{"$error":"#REF!"},{"$error":"#REF!"}]
[null,null,null,{"$f":"IF(#REF!=$E$1,IF(#REF!=$G$1,#REF!,NA()),NA())","v":{"$error":"#REF!"}},{"$f":"IF(#REF!=$E$1,IF(#REF!=$G$1,#REF!,NA()),NA())","v":{"$error":"#REF!"}},{"$f":"IF(#REF!=$E$1,IF(#REF!=$G$1,IF(#REF!=\"\",NA(),#REF!),NA()),NA())","v":{"$error":"#REF!"}},{"$f":"IF(#REF!=$E$1,IF(#REF!=$G$1,IF(#REF!=\"\",NA(),#REF!),NA()),NA())","v":{"$error":"#REF!"}},{"$error":"#REF!"},{"$error":"#REF!"}]
[null,null,null,{"$f":"IF(#REF!=$E$1,IF(#REF!=$G$1,#REF!,NA()),NA())","v":{"$error":"#REF!"}},{"$f":"IF(#REF!=$E$1,IF(#REF!=$G$1,#REF!,NA()),NA())","v":{"$error":"#REF!"}},{"$f":"IF(#REF!=$E$1,IF(#REF!=$G$1,IF(#REF!=\"\",NA(),#REF!),NA()),NA())","v":{"$error":"#REF!"}},{"$f":"IF(#REF!=$E$1,IF(#REF!=$G$1,IF(#REF!=\"\",NA(),#REF!),NA()),NA())","v":{"$error":"#REF!"}},{"$error":"#REF!"},{"$error":"#REF!"}]
[null,null,null,{"$f":"IF(#REF!=$E$1,IF(#REF!=$G$1,#REF!,NA()),NA())","v":{"$error":"#REF!"}},{"$f":"IF(#REF!=$E$1,IF(#REF!=$G$1,#REF!,NA()),NA())","v":{"$error":"#REF!"}},{"$f":"IF(#REF!=$E$1,IF(#REF!=$G$1,IF(#REF!=\"\",NA(),#REF!),NA()),NA())","v":{"$error":"#REF!"}},{"$f":"IF(#REF!=$E$1,IF(#REF!=$G$1,IF(#REF!=\"\",NA(),#REF!),NA()),NA())","v":{"$error":"#REF!"}},{"$error":"#REF!"},{"$error":"#REF!"}]
[null,null,null,{"$f":"IF(#REF!=$E$1,IF(#REF!=$G$1,#REF!,NA()),NA())","v":{"$error":"#REF!"}},{"$f":"IF(#REF!=$E$1,IF(#REF!=$G$1,#REF!,NA()),NA())","v":{"$error":"#REF!"}},{"$f":"IF(#REF!=$E$1,IF(#REF!=$G$1,IF(#REF!=\"\",NA(),#REF!),NA()),NA())","v":{"$error":"#REF!"}},{"$f":"IF(#REF!=$E$1,IF(#REF!=$G$1,IF(#REF!=\"\",NA(),#REF!),NA()),NA())","v":{"$error":"#REF!"}},{"$error":"#REF!"},{"$error":"#REF!"}]
[null,null,null,{"$f":"IF(#REF!=$E$1,IF(#REF!=$G$1,#REF!,NA()),NA())","v":{"$error":"#REF!"}},{"$f":"IF(#REF!=$E$1,IF(#REF!=$G$1,#REF!,NA()),NA())","v":{"$error":"#REF!"}},{"$f":"IF(#REF!=$E$1,IF(#REF!=$G$1,IF(#REF!=\"\",NA(),#REF!),NA()),NA())","v":{"$error":"#REF!"}},{"$f":"IF(#REF!=$E$1,IF(#REF!=$G$1,IF(#REF!=\"\",NA(),#REF!),NA()),NA())","v":{"$error":"#REF!"}},{"$error":"#REF!"},{"$error":"#REF!"}]
[null,null,null,{"$f":"IF(#REF!=$E$1,IF(#REF!=$G$1,#REF!,NA()),NA())","v":{"$error":"#REF!"}},{"$f":"IF(#REF!=$E$1,IF(#REF!=$G$1,#REF!,NA()),NA())","v":{"$error":"#REF!"}},{"$f":"IF(#REF!=$E$1,IF(#REF!=$G$1,IF(#REF!=\"\",NA(),#REF!),NA()),NA())","v":{"$error":"#REF!"}},{"$f":"IF(#REF!=$E$1,IF(#REF!=$G$1,IF(#REF!=\"\",NA(),#REF!),NA()),NA())","v":{"$error":"#REF!"}},{"$error":"#REF!"},{"$error":"#REF!"}]
[null,null,null,{"$f":"IF(#REF!=$E$1,IF(#REF!=$G$1,#REF!,NA()),NA())","v":{"$error":"#REF!"}},{"$f":"IF(#REF!=$E$1,IF(#REF!=$G$1,#REF!,NA()),NA())","v":{"$error":"#REF!"}},{"$f":"IF(#REF!=$E$1,IF(#REF!=$G$1,IF(#REF!=\"\",NA(),#REF!),NA()),NA())","v":{"$error":"#REF!"}},{"$f":"IF(#REF!=$E$1,IF(#REF!=$G$1,IF(#REF!=\"\",NA(),#REF!),NA()),NA())","v":{"$error":"#REF!"}},{"$error":"#REF!"},{"$error":"#REF!"}]
[null,null,null,{"$f":"IF(#REF!=$E$1,IF(#REF!=$G$1,#REF!,NA()),NA())","v":{"$error":"#REF!"}},{"$f":"IF(#REF!=$E$1,IF(#REF!=$G$1,#REF!,NA()),NA())","v":{"$error":"#REF!"}},{"$f":"IF(#REF!=$E$1,IF(#REF!=$G$1,IF(#REF!=\"\",NA(),#REF!),NA()),NA())","v":{"$error":"#REF!"}},{"$f":"IF(#REF!=$E$1,IF(#REF!=$G$1,IF(#REF!=\"\",NA(),#REF!),NA()),NA())","v":{"$error":"#REF!"}},{"$error":"#REF!"},{"$error":"#REF!"}]
[null,null,null,{"$f":"IF(#REF!=$E$1,IF(#REF!=$G$1,#REF!,NA()),NA())","v":{"$error":"#REF!"}},{"$f":"IF(#REF!=$E$1,IF(#REF!=$G$1,#REF!,NA()),NA())","v":{"$error":"#REF!"}},{"$f":"IF(#REF!=$E$1,IF(#REF!=$G$1,IF(#REF!=\"\",NA(),#REF!),NA()),NA())","v":{"$error":"#REF!"}},{"$f":"IF(#REF!=$E$1,IF(#REF!=$G$1,IF(#REF!=\"\",NA(),#REF!),NA()),NA())","v":{"$error":"#REF!"}},{"$error":"#REF!"},{"$error":"#REF!"}]
[null,null,null,{"$f":"IF(#REF!=$E$1,IF(#REF!=$G$1,#REF!,NA()),NA())","v":{"$error":"#REF!"}},{"$f":"IF(#REF!=$E$1,IF(#REF!=$G$1,#REF!,NA()),NA())","v":{"$error":"#REF!"}},{"$f":"IF(#REF!=$E$1,IF(#REF!=$G$1,IF(#REF!=\"\",NA(),#REF!),NA()),NA())","v":{"$error":"#REF!"}},{"$f":"IF(#REF!=$E$1,IF(#REF!=$G$1,IF(#REF!=\"\",NA(),#REF!),NA()),NA())","v":{"$error":"#REF!"}},{"$error":"#REF!"},{"$error":"#REF!"}]
[null,null,null,{"$f":"IF(#REF!=$E$1,IF(#REF!=$G$1,#REF!,NA()),NA())","v":{"$error":"#REF!"}},{"$f":"IF(#REF!=$E$1,IF(#REF!=$G$1,#REF!,NA()),NA())","v":{"$error":"#REF!"}},{"$f":"IF(#REF!=$E$1,IF(#REF!=$G$1,IF(#REF!=\"\",NA(),#REF!),NA()),NA())","v":{"$error":"#REF!"}},{"$f":"IF(#REF!=$E$1,IF(#REF!=$G$1,IF(#REF!=\"\",NA(),#REF!),NA()),NA())","v":{"$error":"#REF!"}},{"$error":"#REF!"},{"$error":"#REF!"}]
[null,null,null,{"$f":"IF(#REF!=$E$1,IF(#REF!=$G$1,#REF!,NA()),NA())","v":{"$error":"#REF!"}},{"$f":"IF(#REF!=$E$1,IF(#REF!=$G$1,#REF!,NA()),NA())","v":{"$error":"#REF!"}},{"$f":"IF(#REF!=$E$1,IF(#REF!=$G$1,IF(#REF!=\"\",NA(),#REF!),NA()),NA())","v":{"$error":"#REF!"}},{"$f":"IF(#REF!=$E$1,IF(#REF!=$G$1,IF(#REF!=\"\",NA(),#REF!),NA()),NA())","v":{"$error":"#REF!"}},{"$error":"#REF!"},{"$error":"#REF!"}]
[null,null,null,{"$f":"IF(#REF!=$E$1,IF(#REF!=$G$1,#REF!,NA()),NA())","v":{"$error":"#REF!"}},{"$f":"IF(#REF!=$E$1,IF(#REF!=$G$1,#REF!,NA()),NA())","v":{"$error":"#REF!"}},{"$f":"IF(#REF!=$E$1,IF(#REF!=$G$1,IF(#REF!=\"\",NA(),#REF!),NA()),NA())","v":{"$error":"#REF!"}},{"$f":"IF(#REF!=$E$1,IF(#REF!=$G$1,IF(#REF!=\"\",NA(),#REF!),NA()),NA())","v":{"$error":"#REF!"}},{"$error":"#REF!"},{"$error":"#REF!"}]
[null,null,null,{"$f":"IF(#REF!=$E$1,IF(#REF!=$G$1,#REF!,NA()),NA())","v":{"$error":"#REF!"}},{"$f":"IF(#REF!=$E$1,IF(#REF!=$G$1,#REF!,NA()),NA())","v":{"$error":"#REF!"}},{"$f":"IF(#REF!=$E$1,IF(#REF!=$G$1,IF(#REF!=\"\",NA(),#REF!),NA()),NA())","v":{"$error":"#REF!"}},{"$f":"IF(#REF!=$E$1,IF(#REF!=$G$1,IF(#REF!=\"\",NA(),#REF!),NA()),NA())","v":{"$error":"#REF!"}},{"$error":"#REF!"},{"$error":"#REF!"}]
[null,null,null,{"$f":"IF(#REF!=$E$1,IF(#REF!=$G$1,#REF!,NA()),NA())","v":{"$error":"#REF!"}},{"$f":"IF(#REF!=$E$1,IF(#REF!=$G$1,#REF!,NA()),NA())","v":{"$error":"#REF!"}},{"$f":"IF(#REF!=$E$1,IF(#REF!=$G$1,IF(#REF!=\"\",NA(),#REF!),NA()),NA())","v":{"$error":"#REF!"}},{"$f":"IF(#REF!=$E$1,IF(#REF!=$G$1,IF(#REF!=\"\",NA(),#REF!),NA()),NA())","v":{"$error":"#REF!"}},{"$error":"#REF!"},{"$error":"#REF!"}]
[null,null,null,{"$f":"IF(#REF!=$E$1,IF(#REF!=$G$1,#REF!,NA()),NA())","v":{"$error":"#REF!"}},{"$f":"IF(#REF!=$E$1,IF(#REF!=$G$1,#REF!,NA()),NA())","v":{"$error":"#REF!"}},{"$f":"IF(#REF!=$E$1,IF(#REF!=$G$1,IF(#REF!=\"\",NA(),#REF!),NA()),NA())","v":{"$error":"#REF!"}},{"$f":"IF(#REF!=$E$1,IF(#REF!=$G$1,IF(#REF!=\"\",NA(),#REF!),NA()),NA())","v":{"$error":"#REF!"}},{"$error":"#REF!"},{"$error":"#REF!"}]
[null,null,null,{"$f":"IF(#REF!=$E$1,IF(#REF!=$G$1,#REF!,NA()),NA())","v":{"$error":"#REF!"}},{"$f":"IF(#REF!=$E$1,IF(#REF!=$G$1,#REF!,NA()),NA())","v":{"$error":"#REF!"}},{"$f":"IF(#REF!=$E$1,IF(#REF!=$G$1,IF(#REF!=\"\",NA(),#REF!),NA()),NA())","v":{"$error":"#REF!"}},{"$f":"IF(#REF!=$E$1,IF(#REF!=$G$1,IF(#REF!=\"\",NA(),#REF!),NA()),NA())","v":{"$error":"#REF!"}},{"$error":"#REF!"},{"$error":"#REF!"}]
[null,null,null,{"$f":"IF(#REF!=$E$1,IF(#REF!=$G$1,#REF!,NA()),NA())","v":{"$error":"#REF!"}},{"$f":"IF(#REF!=$E$1,IF(#REF!=$G$1,#REF!,NA()),NA())","v":{"$error":"#REF!"}},{"$f":"IF(#REF!=$E$1,IF(#REF!=$G$1,IF(#REF!=\"\",NA(),#REF!),NA()),NA())","v":{"$error":"#REF!"}},{"$f":"IF(#REF!=$E$1,IF(#REF!=$G$1,IF(#REF!=\"\",NA(),#REF!),NA()),NA())","v":{"$error":"#REF!"}},{"$error":"#REF!"},{"$error":"#REF!"}]
[null,null,null,{"$f":"IF(#REF!=$E$1,IF(#REF!=$G$1,#REF!,NA()),NA())","v":{"$error":"#REF!"}},{"$f":"IF(#REF!=$E$1,IF(#REF!=$G$1,#REF!,NA()),NA())","v":{"$error":"#REF!"}},{"$f":"IF(#REF!=$E$1,IF(#REF!=$G$1,IF(#REF!=\"\",NA(),#REF!),NA()),NA())","v":{"$error":"#REF!"}},{"$f":"IF(#REF!=$E$1,IF(#REF!=$G$1,IF(#REF!=\"\",NA(),#REF!),NA()),NA())","v":{"$error":"#REF!"}},{"$error":"#REF!"},{"$error":"#REF!"}]
[null,null,null,{"$f":"IF(#REF!=$E$1,IF(#REF!=$G$1,#REF!,NA()),NA())","v":{"$error":"#REF!"}},{"$f":"IF(#REF!=$E$1,IF(#REF!=$G$1,#REF!,NA()),NA())","v":{"$error":"#REF!"}},{"$f":"IF(#REF!=$E$1,IF(#REF!=$G$1,IF(#REF!=\"\",NA(),#REF!),NA()),NA())","v":{"$error":"#REF!"}},{"$f":"IF(#REF!=$E$1,IF(#REF!=$G$1,IF(#REF!=\"\",NA(),#REF!),NA()),NA())","v":{"$error":"#REF!"}},{"$error":"#REF!"},{"$error":"#REF!"}]
[null,null,null,{"$f":"IF(#REF!=$E$1,IF(#REF!=$G$1,#REF!,NA()),NA())","v":{"$error":"#REF!"}},{"$f":"IF(#REF!=$E$1,IF(#REF!=$G$1,#REF!,NA()),NA())","v":{"$error":"#REF!"}},{"$f":"IF(#REF!=$E$1,IF(#REF!=$G$1,IF(#REF!=\"\",NA(),#REF!),NA()),NA())","v":{"$error":"#REF!"}},{"$f":"IF(#REF!=$E$1,IF(#REF!=$G$1,IF(#REF!=\"\",NA(),#REF!),NA()),NA())","v":{"$error":"#REF!"}},{"$error":"#REF!"},{"$error":"#REF!"}]
[null,null,null,{"$f":"IF(#REF!=$E$1,IF(#REF!=$G$1,#REF!,NA()),NA())","v":{"$error":"#REF!"}},{"$f":"IF(#REF!=$E$1,IF(#REF!=$G$1,#REF!,NA()),NA())","v":{"$error":"#REF!"}},{"$f":"IF(#REF!=$E$1,IF(#REF!=$G$1,IF(#REF!=\"\",NA(),#REF!),NA()),NA())","v":{"$error":"#REF!"}},{"$f":"IF(#REF!=$E$1,IF(#REF!=$G$1,IF(#REF!=\"\",NA(),#REF!),NA()),NA())","v":{"$error":"#REF!"}},{"$error":"#REF!"},{"$error":"#REF!"}]
[null,null,null,{"$f":"IF(#REF!=$E$1,IF(#REF!=$G$1,#REF!,NA()),NA())","v":{"$error":"#REF!"}},{"$f":"IF(#REF!=$E$1,IF(#REF!=$G$1,#REF!,NA()),NA())","v":{"$error":"#REF!"}},{"$f":"IF(#REF!=$E$1,IF(#REF!=$G$1,IF(#REF!=\"\",NA(),#REF!),NA()),NA())","v":{"$error":"#REF!"}},{"$f":"IF(#REF!=$E$1,IF(#REF!=$G$1,IF(#REF!=\"\",NA(),#REF!),NA()),NA())","v":{"$error":"#REF!"}},{"$error":"#REF!"},{"$error":"#REF!"}]
[null,null,null,{"$f":"IF(#REF!=$E$1,IF(#REF!=$G$1,#REF!,NA()),NA())","v":{"$error":"#REF!"}},{"$f":"IF(#REF!=$E$1,IF(#REF!=$G$1,#REF!,NA()),NA())","v":{"$error":"#REF!"}},{"$f":"IF(#REF!=$E$1,IF(#REF!=$G$1,IF(#REF!=\"\",NA(),#REF!),NA()),NA())","v":{"$error":"#REF!"}},{"$f":"IF(#REF!=$E$1,IF(#REF!=$G$1,IF(#REF!=\"\",NA(),#REF!),NA()),NA())","v":{"$error":"#REF!"}},{"$error":"#REF!"},{"$error":"#REF!"}]
[null,null,null,{"$f":"IF(#REF!=$E$1,IF(#REF!=$G$1,#REF!,NA()),NA())","v":{"$error":"#REF!"}},{"$f":"IF(#REF!=$E$1,IF(#REF!=$G$1,#REF!,NA()),NA())","v":{"$error":"#REF!"}},{"$f":"IF(#REF!=$E$1,IF(#REF!=$G$1,IF(#REF!=\"\",NA(),#REF!),NA()),NA())","v":{"$error":"#REF!"}},{"$f":"IF(#REF!=$E$1,IF(#REF!=$G$1,IF(#REF!=\"\",NA(),#REF!),NA()),NA())","v":{"$error":"#REF!"}},{"$error":"#REF!"},{"$error":"#REF!"}]
[null,null,null,{"$f":"IF(#REF!=$E$1,IF(#REF!=$G$1,#REF!,NA()),NA())","v":{"$error":"#REF!"}},{"$f":"IF(#REF!=$E$1,IF(#REF!=$G$1,#REF!,NA()),NA())","v":{"$error":"#REF!"}},{"$f":"IF(#REF!=$E$1,IF(#REF!=$G$1,IF(#REF!=\"\",NA(),#REF!),NA()),NA())","v":{"$error":"#REF!"}},{"$f":"IF(#REF!=$E$1,IF(#REF!=$G$1,IF(#REF!=\"\",NA(),#REF!),NA()),NA())","v":{"$error":"#REF!"}},{"$error":"#REF!"},{"$error":"#REF!"}]
[null,null,null,{"$f":"IF(#REF!=$E$1,IF(#REF!=$G$1,#REF!,NA()),NA())","v":{"$error":"#REF!"}},{"$f":"IF(#REF!=$E$1,IF(#REF!=$G$1,#REF!,NA()),NA())","v":{"$error":"#REF!"}},{"$f":"IF(#REF!=$E$1,IF(#REF!=$G$1,IF(#REF!=\"\",NA(),#REF!),NA()),NA())","v":{"$error":"#REF!"}},{"$f":"IF(#REF!=$E$1,IF(#REF!=$G$1,IF(#REF!=\"\",NA(),#REF!),NA()),NA())","v":{"$error":"#REF!"}},{"$error":"#REF!"},{"$error":"#REF!"}]
[null,null,null,{"$f":"IF(#REF!=$E$1,IF(#REF!=$G$1,#REF!,NA()),NA())","v":{"$error":"#REF!"}},{"$f":"IF(#REF!=$E$1,IF(#REF!=$G$1,#REF!,NA()),NA())","v":{"$error":"#REF!"}},{"$f":"IF(#REF!=$E$1,IF(#REF!=$G$1,IF(#REF!=\"\",NA(),#REF!),NA()),NA())","v":{"$error":"#REF!"}},{"$f":"IF(#REF!=$E$1,IF(#REF!=$G$1,IF(#REF!=\"\",NA(),#REF!),NA()),NA())","v":{"$error":"#REF!"}},{"$error":"#REF!"},{"$error":"#REF!"}]
[null,null,null,{"$f":"IF(#REF!=$E$1,IF(#REF!=$G$1,#REF!,NA()),NA())","v":{"$error":"#REF!"}},{"$f":"IF(#REF!=$E$1,IF(#REF!=$G$1,#REF!,NA()),NA())","v":{"$error":"#REF!"}},{"$f":"IF(#REF!=$E$1,IF(#REF!=$G$1,IF(#REF!=\"\",NA(),#REF!),NA()),NA())","v":{"$error":"#REF!"}},{"$f":"IF(#REF!=$E$1,IF(#REF!=$G$1,IF(#REF!=\"\",NA(),#REF!),NA()),NA())","v":{"$error":"#REF!"}},{"$error":"#REF!"},{"$error":"#REF!"}]
[null,null,null,{"$f":"IF(#REF!=$E$1,IF(#REF!=$G$1,#REF!,NA()),NA())","v":{"$error":"#REF!"}},{"$f":"IF(#REF!=$E$1,IF(#REF!=$G$1,#REF!,NA()),NA())","v":{"$error":"#REF!"}},{"$f":"IF(#REF!=$E$1,IF(#REF!=$G$1,IF(#REF!=\"\",NA(),#REF!),NA()),NA())","v":{"$error":"#REF!"}},{"$f":"IF(#REF!=$E$1,IF(#REF!=$G$1,IF(#REF!=\"\",NA(),#REF!),NA()),NA())","v":{"$error":"#REF!"}},{"$error":"#REF!"},{"$error":"#REF!"}]
[null,null,null,{"$f":"IF(#REF!=$E$1,IF(#REF!=$G$1,#REF!,NA()),NA())","v":{"$error":"#REF!"}},{"$f":"IF(#REF!=$E$1,IF(#REF!=$G$1,#REF!,NA()),NA())","v":{"$error":"#REF!"}},{"$f":"IF(#REF!=$E$1,IF(#REF!=$G$1,IF(#REF!=\"\",NA(),#REF!),NA()),NA())","v":{"$error":"#REF!"}},{"$f":"IF(#REF!=$E$1,IF(#REF!=$G$1,IF(#REF!=\"\",NA(),#REF!),NA()),NA())","v":{"$error":"#REF!"}},{"$error":"#REF!"},{"$error":"#REF!"}]
[null,null,null,{"$f":"IF(#REF!=$E$1,IF(#REF!=$G$1,#REF!,NA()),NA())","v":{"$error":"#REF!"}},{"$f":"IF(#REF!=$E$1,IF(#REF!=$G$1,#REF!,NA()),NA())","v":{"$error":"#REF!"}},{"$f":"IF(#REF!=$E$1,IF(#REF!=$G$1,IF(#REF!=\"\",NA(),#REF!),NA()),NA())","v":{"$error":"#REF!"}},{"$f":"IF(#REF!=$E$1,IF(#REF!=$G$1,IF(#REF!=\"\",NA(),#REF!),NA()),NA())","v":{"$error":"#REF!"}},{"$error":"#REF!"},{"$error":"#REF!"}]
[null,null,null,{"$f":"IF(#REF!=$E$1,IF(#REF!=$G$1,#REF!,NA()),NA())","v":{"$error":"#REF!"}},{"$f":"IF(#REF!=$E$1,IF(#REF!=$G$1,#REF!,NA()),NA())","v":{"$error":"#REF!"}},{"$f":"IF(#REF!=$E$1,IF(#REF!=$G$1,IF(#REF!=\"\",NA(),#REF!),NA()),NA())","v":{"$error":"#REF!"}},{"$f":"IF(#REF!=$E$1,IF(#REF!=$G$1,IF(#REF!=\"\",NA(),#REF!),NA()),NA())","v":{"$error":"#REF!"}},{"$error":"#REF!"},{"$error":"#REF!"}]
[null,null,null,{"$f":"IF(#REF!=$E$1,IF(#REF!=$G$1,#REF!,NA()),NA())","v":{"$error":"#REF!"}},{"$f":"IF(#REF!=$E$1,IF(#REF!=$G$1,#REF!,NA()),NA())","v":{"$error":"#REF!"}},{"$f":"IF(#REF!=$E$1,IF(#REF!=$G$1,IF(#REF!=\"\",NA(),#REF!),NA()),NA())","v":{"$error":"#REF!"}},{"$f":"IF(#REF!=$E$1,IF(#REF!=$G$1,IF(#REF!=\"\",NA(),#REF!),NA()),NA())","v":{"$error":"#REF!"}},{"$f":"IF(AND(ISNUMBER(G772),F772=\"-\"),0,F772)","v":{"$error":"#REF!"}},{"$f":"IF(AND(ISNUMBER(F772),G772=\"-\"),0,G772)","v":{"$error":"#REF!"}}]
[null,null,null,{"$f":"IF(#REF!=$E$1,IF(#REF!=$G$1,#REF!,NA()),NA())","v":{"$error":"#REF!"}},{"$f":"IF(#REF!=$E$1,IF(#REF!=$G$1,#REF!,NA()),NA())","v":{"$error":"#REF!"}},{"$f":"IF(#REF!=$E$1,IF(#REF!=$G$1,IF(#REF!=\"\",NA(),#REF!),NA()),NA())","v":{"$error":"#REF!"}},{"$f":"IF(#REF!=$E$1,IF(#REF!=$G$1,IF(#REF!=\"\",NA(),#REF!),NA()),NA())","v":{"$error":"#REF!"}},{"$error":"#REF!"},{"$error":"#REF!"}]
[null,null,null,{"$f":"IF(#REF!=$E$1,IF(#REF!=$G$1,#REF!,NA()),NA())","v":{"$error":"#REF!"}},{"$f":"IF(#REF!=$E$1,IF(#REF!=$G$1,#REF!,NA()),NA())","v":{"$error":"#REF!"}},{"$f":"IF(#REF!=$E$1,IF(#REF!=$G$1,IF(#REF!=\"\",NA(),#REF!),NA()),NA())","v":{"$error":"#REF!"}},{"$f":"IF(#REF!=$E$1,IF(#REF!=$G$1,IF(#REF!=\"\",NA(),#REF!),NA()),NA())","v":{"$error":"#REF!"}},{"$error":"#REF!"},{"$error":"#REF!"}]
[null,null,null,{"$f":"IF(#REF!=$E$1,IF(#REF!=$G$1,#REF!,NA()),NA())","v":{"$error":"#REF!"}},{"$f":"IF(#REF!=$E$1,IF(#REF!=$G$1,#REF!,NA()),NA())","v":{"$error":"#REF!"}},{"$f":"IF(#REF!=$E$1,IF(#REF!=$G$1,IF(#REF!=\"\",NA(),#REF!),NA()),NA())","v":{"$error":"#REF!"}},{"$f":"IF(#REF!=$E$1,IF(#REF!=$G$1,IF(#REF!=\"\",NA(),#REF!),NA()),NA())","v":{"$error":"#REF!"}},{"$error":"#REF!"},{"$error":"#REF!"}]
[null,null,null,{"$f":"IF(#REF!=$E$1,IF(#REF!=$G$1,#REF!,NA()),NA())","v":{"$error":"#REF!"}},{"$f":"IF(#REF!=$E$1,IF(#REF!=$G$1,#REF!,NA()),NA())","v":{"$error":"#REF!"}},{"$f":"IF(#REF!=$E$1,IF(#REF!=$G$1,IF(#REF!=\"\",NA(),#REF!),NA()),NA())","v":{"$error":"#REF!"}},{"$f":"IF(#REF!=$E$1,IF(#REF!=$G$1,IF(#REF!=\"\",NA(),#REF!),NA()),NA())","v":{"$error":"#REF!"}},{"$error":"#REF!"},{"$error":"#REF!"}]
[null,null,null,{"$f":"IF(#REF!=$E$1,IF(#REF!=$G$1,#REF!,NA()),NA())","v":{"$error":"#REF!"}},{"$f":"IF(#REF!=$E$1,IF(#REF!=$G$1,#REF!,NA()),NA())","v":{"$error":"#REF!"}},{"$f":"IF(#REF!=$E$1,IF(#REF!=$G$1,IF(#REF!=\"\",NA(),#REF!),NA()),NA())","v":{"$error":"#REF!"}},{"$f":"IF(#REF!=$E$1,IF(#REF!=$G$1,IF(#REF!=\"\",NA(),#REF!),NA()),NA())","v":{"$error":"#REF!"}},{"$error":"#REF!"},{"$error":"#REF!"}]
[null,null,null,{"$f":"IF(#REF!=$E$1,IF(#REF!=$G$1,#REF!,NA()),NA())","v":{"$error":"#REF!"}},{"$f":"IF(#REF!=$E$1,IF(#REF!=$G$1,#REF!,NA()),NA())","v":{"$error":"#REF!"}},{"$f":"IF(#REF!=$E$1,IF(#REF!=$G$1,IF(#REF!=\"\",NA(),#REF!),NA()),NA())","v":{"$error":"#REF!"}},{"$f":"IF(#REF!=$E$1,IF(#REF!=$G$1,IF(#REF!=\"\",NA(),#REF!),NA()),NA())","v":{"$error":"#REF!"}},{"$error":"#REF!"},{"$error":"#REF!"}]
[null,null,null,{"$f":"IF(#REF!=$E$1,IF(#REF!=$G$1,#REF!,NA()),NA())","v":{"$error":"#REF!"}},{"$f":"IF(#REF!=$E$1,IF(#REF!=$G$1,#REF!,NA()),NA())","v":{"$error":"#REF!"}},{"$f":"IF(#REF!=$E$1,IF(#REF!=$G$1,IF(#REF!=\"\",NA(),#REF!),NA()),NA())","v":{"$error":"#REF!"}},{"$f":"IF(#REF!=$E$1,IF(#REF!=$G$1,IF(#REF!=\"\",NA(),#REF!),NA()),NA())","v":{"$error":"#REF!"}},{"$error":"#REF!"},{"$error":"#REF!"}]
[null,null,null,{"$f":"IF(#REF!=$E$1,IF(#REF!=$G$1,#REF!,NA()),NA())","v":{"$error":"#REF!"}},{"$f":"IF(#REF!=$E$1,IF(#REF!=$G$1,#REF!,NA()),NA())","v":{"$error":"#REF!"}},{"$f":"IF(#REF!=$E$1,IF(#REF!=$G$1,IF(#REF!=\"\",NA(),#REF!),NA()),NA())","v":{"$error":"#REF!"}},{"$f":"IF(#REF!=$E$1,IF(#REF!=$G$1,IF(#REF!=\"\",NA(),#REF!),NA()),NA())","v":{"$error":"#REF!"}},{"$error":"#REF!"},{"$error":"#REF!"}]
[null,null,null,{"$f":"IF(#REF!=$E$1,IF(#REF!=$G$1,#REF!,NA()),NA())","v":{"$error":"#REF!"}},{"$f":"IF(#REF!=$E$1,IF(#REF!=$G$1,#REF!,NA()),NA())","v":{"$error":"#REF!"}},{"$f":"IF(#REF!=$E$1,IF(#REF!=$G$1,IF(#REF!=\"\",NA(),#REF!),NA()),NA())","v":{"$error":"#REF!"}},{"$f":"IF(#REF!=$E$1,IF(#REF!=$G$1,IF(#REF!=\"\",NA(),#REF!),NA()),NA())","v":{"$error":"#REF!"}},{"$error":"#REF!"},{"$error":"#REF!"}]
[null,null,null,{"$f":"IF(#REF!=$E$1,IF(#REF!=$G$1,#REF!,NA()),NA())","v":{"$error":"#REF!"}},{"$f":"IF(#REF!=$E$1,IF(#REF!=$G$1,#REF!,NA()),NA())","v":{"$error":"#REF!"}},{"$f":"IF(#REF!=$E$1,IF(#REF!=$G$1,IF(#REF!=\"\",NA(),#REF!),NA()),NA())","v":{"$error":"#REF!"}},{"$f":"IF(#REF!=$E$1,IF(#REF!=$G$1,IF(#REF!=\"\",NA(),#REF!),NA()),NA())","v":{"$error":"#REF!"}},{"$error":"#REF!"},{"$error":"#REF!"}]
[null,null,null,{"$f":"IF(#REF!=$E$1,IF(#REF!=$G$1,#REF!,NA()),NA())","v":{"$error":"#REF!"}},{"$f":"IF(#REF!=$E$1,IF(#REF!=$G$1,#REF!,NA()),NA())","v":{"$error":"#REF!"}},{"$f":"IF(#REF!=$E$1,IF(#REF!=$G$1,IF(#REF!=\"\",NA(),#REF!),NA()),NA())","v":{"$error":"#REF!"}},{"$f":"IF(#REF!=$E$1,IF(#REF!=$G$1,IF(#REF!=\"\",NA(),#REF!),NA()),NA())","v":{"$error":"#REF!"}},{"$error":"#REF!"},{"$error":"#REF!"}]
[null,null,null,{"$f":"IF(#REF!=$E$1,IF(#REF!=$G$1,#REF!,NA()),NA())","v":{"$error":"#REF!"}},{"$f":"IF(#REF!=$E$1,IF(#REF!=$G$1,#REF!,NA()),NA())","v":{"$error":"#REF!"}},{"$f":"IF(#REF!=$E$1,IF(#REF!=$G$1,IF(#REF!=\"\",NA(),#REF!),NA()),NA())","v":{"$error":"#REF!"}},{"$f":"IF(#REF!=$E$1,IF(#REF!=$G$1,IF(#REF!=\"\",NA(),#REF!),NA()),NA())","v":{"$error":"#REF!"}},{"$error":"#REF!"},{"$error":"#REF!"}]
[null,null,null,{"$f":"IF(#REF!=$E$1,IF(#REF!=$G$1,#REF!,NA()),NA())","v":{"$error":"#REF!"}},{"$f":"IF(#REF!=$E$1,IF(#REF!=$G$1,#REF!,NA()),NA())","v":{"$error":"#REF!"}},{"$f":"IF(#REF!=$E$1,IF(#REF!=$G$1,IF(#REF!=\"\",NA(),#REF!),NA()),NA())","v":{"$error":"#REF!"}},{"$f":"IF(#REF!=$E$1,IF(#REF!=$G$1,IF(#REF!=\"\",NA(),#REF!),NA()),NA())","v":{"$error":"#REF!"}},{"$error":"#REF!"},{"$error":"#REF!"}]
[null,null,null,{"$f":"IF(#REF!=$E$1,IF(#REF!=$G$1,#REF!,NA()),NA())","v":{"$error":"#REF!"}},{"$f":"IF(#REF!=$E$1,IF(#REF!=$G$1,#REF!,NA()),NA())","v":{"$error":"#REF!"}},{"$f":"IF(#REF!=$E$1,IF(#REF!=$G$1,IF(#REF!=\"\",NA(),#REF!),NA()),NA())","v":{"$error":"#REF!"}},{"$f":"IF(#REF!=$E$1,IF(#REF!=$G$1,IF(#REF!=\"\",NA(),#REF!),NA()),NA())","v":{"$error":"#REF!"}},{"$error":"#REF!"},{"$error":"#REF!"}]
[null,null,null,{"$f":"IF(#REF!=$E$1,IF(#REF!=$G$1,#REF!,NA()),NA())","v":{"$error":"#REF!"}},{"$f":"IF(#REF!=$E$1,IF(#REF!=$G$1,#REF!,NA()),NA())","v":{"$error":"#REF!"}},{"$f":"IF(#REF!=$E$1,IF(#REF!=$G$1,IF(#REF!=\"\",NA(),#REF!),NA()),NA())","v":{"$error":"#REF!"}},{"$f":"IF(#REF!=$E$1,IF(#REF!=$G$1,IF(#REF!=\"\",NA(),#REF!),NA()),NA())","v":{"$error":"#REF!"}},{"$error":"#REF!"},{"$error":"#REF!"}]
[null,null,null,{"$f":"IF(#REF!=$E$1,IF(#REF!=$G$1,#REF!,NA()),NA())","v":{"$error":"#REF!"}},{"$f":"IF(#REF!=$E$1,IF(#REF!=$G$1,#REF!,NA()),NA())","v":{"$error":"#REF!"}},{"$f":"IF(#REF!=$E$1,IF(#REF!=$G$1,IF(#REF!=\"\",NA(),#REF!),NA()),NA())","v":{"$error":"#REF!"}},{"$f":"IF(#REF!=$E$1,IF(#REF!=$G$1,IF(#REF!=\"\",NA(),#REF!),NA()),NA())","v":{"$error":"#REF!"}},{"$error":"#REF!"},{"$error":"#REF!"}]
[null,null,null,{"$f":"IF(#REF!=$E$1,IF(#REF!=$G$1,#REF!,NA()),NA())","v":{"$error":"#REF!"}},{"$f":"IF(#REF!=$E$1,IF(#REF!=$G$1,#REF!,NA()),NA())","v":{"$error":"#REF!"}},{"$f":"IF(#REF!=$E$1,IF(#REF!=$G$1,IF(#REF!=\"\",NA(),#REF!),NA()),NA())","v":{"$error":"#REF!"}},{"$f":"IF(#REF!=$E$1,IF(#REF!=$G$1,IF(#REF!=\"\",NA(),#REF!),NA()),NA())","v":{"$error":"#REF!"}},{"$error":"#REF!"},{"$error":"#REF!"}]
[null,null,null,{"$f":"IF(#REF!=$E$1,IF(#REF!=$G$1,#REF!,NA()),NA())","v":{"$error":"#REF!"}},{"$f":"IF(#REF!=$E$1,IF(#REF!=$G$1,#REF!,NA()),NA())","v":{"$error":"#REF!"}},{"$f":"IF(#REF!=$E$1,IF(#REF!=$G$1,IF(#REF!=\"\",NA(),#REF!),NA()),NA())","v":{"$error":"#REF!"}},{"$f":"IF(#REF!=$E$1,IF(#REF!=$G$1,IF(#REF!=\"\",NA(),#REF!),NA()),NA())","v":{"$error":"#REF!"}},{"$error":"#REF!"},{"$error":"#REF!"}]
[null,null,null,{"$f":"IF(#REF!=$E$1,IF(#REF!=$G$1,#REF!,NA()),NA())","v":{"$error":"#REF!"}},{"$f":"IF(#REF!=$E$1,IF(#REF!=$G$1,#REF!,NA()),NA())","v":{"$error":"#REF!"}},{"$f":"IF(#REF!=$E$1,IF(#REF!=$G$1,IF(#REF!=\"\",NA(),#REF!),NA()),NA())","v":{"$error":"#REF!"}},{"$f":"IF(#REF!=$E$1,IF(#REF!=$G$1,IF(#REF!=\"\",NA(),#REF!),NA()),NA())","v":{"$error":"#REF!"}},{"$error":"#REF!"},{"$error":"#REF!"}]
[null,null,null,{"$f":"IF(#REF!=$E$1,IF(#REF!=$G$1,#REF!,NA()),NA())","v":{"$error":"#REF!"}},{"$f":"IF(#REF!=$E$1,IF(#REF!=$G$1,#REF!,NA()),NA())","v":{"$error":"#REF!"}},{"$f":"IF(#REF!=$E$1,IF(#REF!=$G$1,IF(#REF!=\"\",NA(),#REF!),NA()),NA())","v":{"$error":"#REF!"}},{"$f":"IF(#REF!=$E$1,IF(#REF!=$G$1,IF(#REF!=\"\",NA(),#REF!),NA()),NA())","v":{"$error":"#REF!"}},{"$error":"#REF!"},{"$error":"#REF!"}]
[null,null,null,{"$f":"IF(#REF!=$E$1,IF(#REF!=$G$1,#REF!,NA()),NA())","v":{"$error":"#REF!"}},{"$f":"IF(#REF!=$E$1,IF(#REF!=$G$1,#REF!,NA()),NA())","v":{"$error":"#REF!"}},{"$f":"IF(#REF!=$E$1,IF(#REF!=$G$1,IF(#REF!=\"\",NA(),#REF!),NA()),NA())","v":{"$error":"#REF!"}},{"$f":"IF(#REF!=$E$1,IF(#REF!=$G$1,IF(#REF!=\"\",NA(),#REF!),NA()),NA())","v":{"$error":"#REF!"}},{"$error":"#REF!"},{"$error":"#REF!"}]
[null,null,null,{"$f":"IF(#REF!=$E$1,IF(#REF!=$G$1,#REF!,NA()),NA())","v":{"$error":"#REF!"}},{"$f":"IF(#REF!=$E$1,IF(#REF!=$G$1,#REF!,NA()),NA())","v":{"$error":"#REF!"}},{"$f":"IF(#REF!=$E$1,IF(#REF!=$G$1,IF(#REF!=\"\",NA(),#REF!),NA()),NA())","v":{"$error":"#REF!"}},{"$f":"IF(#REF!=$E$1,IF(#REF!=$G$1,IF(#REF!=\"\",NA(),#REF!),NA()),NA())","v":{"$error":"#REF!"}},{"$error":"#REF!"},{"$error":"#REF!"}]
[null,null,null,{"$f":"IF(#REF!=$E$1,IF(#REF!=$G$1,#REF!,NA()),NA())","v":{"$error":"#REF!"}},{"$f":"IF(#REF!=$E$1,IF(#REF!=$G$1,#REF!,NA()),NA())","v":{"$error":"#REF!"}},{"$f":"IF(#REF!=$E$1,IF(#REF!=$G$1,IF(#REF!=\"\",NA(),#REF!),NA()),NA())","v":{"$error":"#REF!"}},{"$f":"IF(#REF!=$E$1,IF(#REF!=$G$1,IF(#REF!=\"\",NA(),#REF!),NA()),NA())","v":{"$error":"#REF!"}},{"$error":"#REF!"},{"$error":"#REF!"}]
[null,null,null,{"$f":"IF(#REF!=$E$1,IF(#REF!=$G$1,#REF!,NA()),NA())","v":{"$error":"#REF!"}},{"$f":"IF(#REF!=$E$1,IF(#REF!=$G$1,#REF!,NA()),NA())","v":{"$error":"#REF!"}},{"$f":"IF(#REF!=$E$1,IF(#REF!=$G$1,IF(#REF!=\"\",NA(),#REF!),NA()),NA())","v":{"$error":"#REF!"}},{"$f":"IF(#REF!=$E$1,IF(#REF!=$G$1,IF(#REF!=\"\",NA(),#REF!),NA()),NA())","v":{"$error":"#REF!"}},{"$error":"#REF!"},{"$error":"#REF!"}]
[null,null,null,{"$f":"IF(#REF!=$E$1,IF(#REF!=$G$1,#REF!,NA()),NA())","v":{"$error":"#REF!"}},{"$f":"IF(#REF!=$E$1,IF(#REF!=$G$1,#REF!,NA()),NA())","v":{"$error":"#REF!"}},{"$f":"IF(#REF!=$E$1,IF(#REF!=$G$1,IF(#REF!=\"\",NA(),#REF!),NA()),NA())","v":{"$error":"#REF!"}},{"$f":"IF(#REF!=$E$1,IF(#REF!=$G$1,IF(#REF!=\"\",NA(),#REF!),NA()),NA())","v":{"$error":"#REF!"}},{"$error":"#REF!"},{"$error":"#REF!"}]
[null,null,null,{"$f":"IF(#REF!=$E$1,IF(#REF!=$G$1,#REF!,NA()),NA())","v":{"$error":"#REF!"}},{"$f":"IF(#REF!=$E$1,IF(#REF!=$G$1,#REF!,NA()),NA())","v":{"$error":"#REF!"}},{"$f":"IF(#REF!=$E$1,IF(#REF!=$G$1,IF(#REF!=\"\",NA(),#REF!),NA()),NA())","v":{"$error":"#REF!"}},{"$f":"IF(#REF!=$E$1,IF(#REF!=$G$1,IF(#REF!=\"\",NA(),#REF!),NA()),NA())","v":{"$error":"#REF!"}},{"$error":"#REF!"},{"$error":"#REF!"}]
[null,null,null,{"$f":"IF(#REF!=$E$1,IF(#REF!=$G$1,#REF!,NA()),NA())","v":{"$error":"#REF!"}},{"$f":"IF(#REF!=$E$1,IF(#REF!=$G$1,#REF!,NA()),NA())","v":{"$error":"#REF!"}},{"$f":"IF(#REF!=$E$1,IF(#REF!=$G$1,IF(#REF!=\"\",NA(),#REF!),NA()),NA())","v":{"$error":"#REF!"}},{"$f":"IF(#REF!=$E$1,IF(#REF!=$G$1,IF(#REF!=\"\",NA(),#REF!),NA()),NA())","v":{"$error":"#REF!"}},{"$error":"#REF!"},{"$error":"#REF!"}]
[null,null,null,{"$f":"IF(#REF!=$E$1,IF(#REF!=$G$1,#REF!,NA()),NA())","v":{"$error":"#REF!"}},{"$f":"IF(#REF!=$E$1,IF(#REF!=$G$1,#REF!,NA()),NA())","v":{"$error":"#REF!"}},{"$f":"IF(#REF!=$E$1,IF(#REF!=$G$1,IF(#REF!=\"\",NA(),#REF!),NA()),NA())","v":{"$error":"#REF!"}},{"$f":"IF(#REF!=$E$1,IF(#REF!=$G$1,IF(#REF!=\"\",NA(),#REF!),NA()),NA())","v":{"$error":"#REF!"}},{"$error":"#REF!"},{"$error":"#REF!"}]
[null,null,null,{"$f":"IF(#REF!=$E$1,IF(#REF!=$G$1,#REF!,NA()),NA())","v":{"$error":"#REF!"}},{"$f":"IF(#REF!=$E$1,IF(#REF!=$G$1,#REF!,NA()),NA())","v":{"$error":"#REF!"}},{"$f":"IF(#REF!=$E$1,IF(#REF!=$G$1,IF(#REF!=\"\",NA(),#REF!),NA()),NA())","v":{"$error":"#REF!"}},{"$f":"IF(#REF!=$E$1,IF(#REF!=$G$1,IF(#REF!=\"\",NA(),#REF!),NA()),NA())","v":{"$error":"#REF!"}},{"$error":"#REF!"},{"$error":"#REF!"}]
[null,null,null,{"$f":"IF(#REF!=$E$1,IF(#REF!=$G$1,#REF!,NA()),NA())","v":{"$error":"#REF!"}},{"$f":"IF(#REF!=$E$1,IF(#REF!=$G$1,#REF!,NA()),NA())","v":{"$error":"#REF!"}},{"$f":"IF(#REF!=$E$1,IF(#REF!=$G$1,IF(#REF!=\"\",NA(),#REF!),NA()),NA())","v":{"$error":"#REF!"}},{"$f":"IF(#REF!=$E$1,IF(#REF!=$G$1,IF(#REF!=\"\",NA(),#REF!),NA()),NA())","v":{"$error":"#REF!"}},{"$error":"#REF!"},{"$error":"#REF!"}]
[null,null,null,{"$f":"IF(#REF!=$E$1,IF(#REF!=$G$1,#REF!,NA()),NA())","v":{"$error":"#REF!"}},{"$f":"IF(#REF!=$E$1,IF(#REF!=$G$1,#REF!,NA()),NA())","v":{"$error":"#REF!"}},{"$f":"IF(#REF!=$E$1,IF(#REF!=$G$1,IF(#REF!=\"\",NA(),#REF!),NA()),NA())","v":{"$error":"#REF!"}},{"$f":"IF(#REF!=$E$1,IF(#REF!=$G$1,IF(#REF!=\"\",NA(),#REF!),NA()),NA())","v":{"$error":"#REF!"}},{"$error":"#REF!"},{"$error":"#REF!"}]
[null,null,null,{"$f":"IF(#REF!=$E$1,IF(#REF!=$G$1,#REF!,NA()),NA())","v":{"$error":"#REF!"}},{"$f":"IF(#REF!=$E$1,IF(#REF!=$G$1,#REF!,NA()),NA())","v":{"$error":"#REF!"}},{"$f":"IF(#REF!=$E$1,IF(#REF!=$G$1,IF(#REF!=\"\",NA(),#REF!),NA()),NA())","v":{"$error":"#REF!"}},{"$f":"IF(#REF!=$E$1,IF(#REF!=$G$1,IF(#REF!=\"\",NA(),#REF!),NA()),NA())","v":{"$error":"#REF!"}},{"$error":"#REF!"},{"$error":"#REF!"}]
[null,null,null,{"$f":"IF(#REF!=$E$1,IF(#REF!=$G$1,#REF!,NA()),NA())","v":{"$error":"#REF!"}},{"$f":"IF(#REF!=$E$1,IF(#REF!=$G$1,#REF!,NA()),NA())","v":{"$error":"#REF!"}},{"$f":"IF(#REF!=$E$1,IF(#REF!=$G$1,IF(#REF!=\"\",NA(),#REF!),NA()),NA())","v":{"$error":"#REF!"}},{"$f":"IF(#REF!=$E$1,IF(#REF!=$G$1,IF(#REF!=\"\",NA(),#REF!),NA()),NA())","v":{"$error":"#REF!"}},{"$error":"#REF!"},{"$error":"#REF!"}]
[null,null,null,{"$f":"IF(#REF!=$E$1,IF(#REF!=$G$1,#REF!,NA()),NA())","v":{"$error":"#REF!"}},{"$f":"IF(#REF!=$E$1,IF(#REF!=$G$1,#REF!,NA()),NA())","v":{"$error":"#REF!"}},{"$f":"IF(#REF!=$E$1,IF(#REF!=$G$1,IF(#REF!=\"\",NA(),#REF!),NA()),NA())","v":{"$error":"#REF!"}},{"$f":"IF(#REF!=$E$1,IF(#REF!=$G$1,IF(#REF!=\"\",NA(),#REF!),NA()),NA())","v":{"$error":"#REF!"}},{"$error":"#REF!"},{"$error":"#REF!"}]
[null,null,null,{"$f":"IF(#REF!=$E$1,IF(#REF!=$G$1,#REF!,NA()),NA())","v":{"$error":"#REF!"}},{"$f":"IF(#REF!=$E$1,IF(#REF!=$G$1,#REF!,NA()),NA())","v":{"$error":"#REF!"}},{"$f":"IF(#REF!=$E$1,IF(#REF!=$G$1,IF(#REF!=\"\",NA(),#REF!),NA()),NA())","v":{"$error":"#REF!"}},{"$f":"IF(#REF!=$E$1,IF(#REF!=$G$1,IF(#REF!=\"\",NA(),#REF!),NA()),NA())","v":{"$error":"#REF!"}},{"$error":"#REF!"},{"$error":"#REF!"}]
[null,null,null,{"$f":"IF(#REF!=$E$1,IF(#REF!=$G$1,#REF!,NA()),NA())","v":{"$error":"#REF!"}},{"$f":"IF(#REF!=$E$1,IF(#REF!=$G$1,#REF!,NA()),NA())","v":{"$error":"#REF!"}},{"$f":"IF(#REF!=$E$1,IF(#REF!=$G$1,IF(#REF!=\"\",NA(),#REF!),NA()),NA())","v":{"$error":"#REF!"}},{"$f":"IF(#REF!=$E$1,IF(#REF!=$G$1,IF(#REF!=\"\",NA(),#REF!),NA()),NA())","v":{"$error":"#REF!"}},{"$error":"#REF!"},{"$error":"#REF!"}]
[null,null,null,{"$f":"IF(#REF!=$E$1,IF(#REF!=$G$1,#REF!,NA()),NA())","v":{"$error":"#REF!"}},{"$f":"IF(#REF!=$E$1,IF(#REF!=$G$1,#REF!,NA()),NA())","v":{"$error":"#REF!"}},{"$f":"IF(#REF!=$E$1,IF(#REF!=$G$1,IF(#REF!=\"\",NA(),#REF!),NA()),NA())","v":{"$error":"#REF!"}},{"$f":"IF(#REF!=$E$1,IF(#REF!=$G$1,IF(#REF!=\"\",NA(),#REF!),NA()),NA())","v":{"$error":"#REF!"}},{"$error":"#REF!"},{"$error":"#REF!"}]
[null,null,null,{"$f":"IF(#REF!=$E$1,IF(#REF!=$G$1,#REF!,NA()),NA())","v":{"$error":"#REF!"}},{"$f":"IF(#REF!=$E$1,IF(#REF!=$G$1,#REF!,NA()),NA())","v":{"$error":"#REF!"}},{"$f":"IF(#REF!=$E$1,IF(#REF!=$G$1,IF(#REF!=\"\",NA(),#REF!),NA()),NA())","v":{"$error":"#REF!"}},{"$f":"IF(#REF!=$E$1,IF(#REF!=$G$1,IF(#REF!=\"\",NA(),#REF!),NA()),NA())","v":{"$error":"#REF!"}},{"$error":"#REF!"},{"$error":"#REF!"}]
[null,null,null,{"$f":"IF(#REF!=$E$1,IF(#REF!=$G$1,#REF!,NA()),NA())","v":{"$error":"#REF!"}},{"$f":"IF(#REF!=$E$1,IF(#REF!=$G$1,#REF!,NA()),NA())","v":{"$error":"#REF!"}},{"$f":"IF(#REF!=$E$1,IF(#REF!=$G$1,IF(#REF!=\"\",NA(),#REF!),NA()),NA())","v":{"$error":"#REF!"}},{"$f":"IF(#REF!=$E$1,IF(#REF!=$G$1,IF(#REF!=\"\",NA(),#REF!),NA()),NA())","v":{"$error":"#REF!"}},{"$error":"#REF!"},{"$error":"#REF!"}]
[null,null,null,{"$f":"IF(#REF!=$E$1,IF(#REF!=$G$1,#REF!,NA()),NA())","v":{"$error":"#REF!"}},{"$f":"IF(#REF!=$E$1,IF(#REF!=$G$1,#REF!,NA()),NA())","v":{"$error":"#REF!"}},{"$f":"IF(#REF!=$E$1,IF(#REF!=$G$1,IF(#REF!=\"\",NA(),#REF!),NA()),NA())","v":{"$error":"#REF!"}},{"$f":"IF(#REF!=$E$1,IF(#REF!=$G$1,IF(#REF!=\"\",NA(),#REF!),NA()),NA())","v":{"$error":"#REF!"}},{"$error":"#REF!"},{"$error":"#REF!"}]
[null,null,null,{"$f":"IF(#REF!=$E$1,IF(#REF!=$G$1,#REF!,NA()),NA())","v":{"$error":"#REF!"}},{"$f":"IF(#REF!=$E$1,IF(#REF!=$G$1,#REF!,NA()),NA())","v":{"$error":"#REF!"}},{"$f":"IF(#REF!=$E$1,IF(#REF!=$G$1,IF(#REF!=\"\",NA(),#REF!),NA()),NA())","v":{"$error":"#REF!"}},{"$f":"IF(#REF!=$E$1,IF(#REF!=$G$1,IF(#REF!=\"\",NA(),#REF!),NA()),NA())","v":{"$error":"#REF!"}},{"$error":"#REF!"},{"$error":"#REF!"}]
[null,null,null,{"$f":"IF(#REF!=$E$1,IF(#REF!=$G$1,#REF!,NA()),NA())","v":{"$error":"#REF!"}},{"$f":"IF(#REF!=$E$1,IF(#REF!=$G$1,#REF!,NA()),NA())","v":{"$error":"#REF!"}},{"$f":"IF(#REF!=$E$1,IF(#REF!=$G$1,IF(#REF!=\"\",NA(),#REF!),NA()),NA())","v":{"$error":"#REF!"}},{"$f":"IF(#REF!=$E$1,IF(#REF!=$G$1,IF(#REF!=\"\",NA(),#REF!),NA()),NA())","v":{"$error":"#REF!"}},{"$error":"#REF!"},{"$error":"#REF!"}]
[null,null,null,{"$f":"IF(#REF!=$E$1,IF(#REF!=$G$1,#REF!,NA()),NA())","v":{"$error":"#REF!"}},{"$f":"IF(#REF!=$E$1,IF(#REF!=$G$1,#REF!,NA()),NA())","v":{"$error":"#REF!"}},{"$f":"IF(#REF!=$E$1,IF(#REF!=$G$1,IF(#REF!=\"\",NA(),#REF!),NA()),NA())","v":{"$error":"#REF!"}},{"$f":"IF(#REF!=$E$1,IF(#REF!=$G$1,IF(#REF!=\"\",NA(),#REF!),NA()),NA())","v":{"$error":"#REF!"}},{"$error":"#REF!"},{"$error":"#REF!"}]
[null,null,null,{"$f":"IF(#REF!=$E$1,IF(#REF!=$G$1,#REF!,NA()),NA())","v":{"$error":"#REF!"}},{"$f":"IF(#REF!=$E$1,IF(#REF!=$G$1,#REF!,NA()),NA())","v":{"$error":"#REF!"}},{"$f":"IF(#REF!=$E$1,IF(#REF!=$G$1,IF(#REF!=\"\",NA(),#REF!),NA()),NA())","v":{"$error":"#REF!"}},{"$f":"IF(#REF!=$E$1,IF(#REF!=$G$1,IF(#REF!=\"\",NA(),#REF!),NA()),NA())","v":{"$error":"#REF!"}},{"$error":"#REF!"},{"$error":"#REF!"}]
[null,null,null,{"$f":"IF(#REF!=$E$1,IF(#REF!=$G$1,#REF!,NA()),NA())","v":{"$error":"#REF!"}},{"$f":"IF(#REF!=$E$1,IF(#REF!=$G$1,#REF!,NA()),NA())","v":{"$error":"#REF!"}},{"$f":"IF(#REF!=$E$1,IF(#REF!=$G$1,IF(#REF!=\"\",NA(),#REF!),NA()),NA())","v":{"$error":"#REF!"}},{"$f":"IF(#REF!=$E$1,IF(#REF!=$G$1,IF(#REF!=\"\",NA(),#REF!),NA()),NA())","v":{"$error":"#REF!"}},{"$error":"#REF!"},{"$error":"#REF!"}]
[null,null,null,{"$f":"IF(#REF!=$E$1,IF(#REF!=$G$1,#REF!,NA()),NA())","v":{"$error":"#REF!"}},{"$f":"IF(#REF!=$E$1,IF(#REF!=$G$1,#REF!,NA()),NA())","v":{"$error":"#REF!"}},{"$f":"IF(#REF!=$E$1,IF(#REF!=$G$1,IF(#REF!=\"\",NA(),#REF!),NA()),NA())","v":{"$error":"#REF!"}},{"$f":"IF(#REF!=$E$1,IF(#REF!=$G$1,IF(#REF!=\"\",NA(),#REF!),NA()),NA())","v":{"$error":"#REF!"}},{"$error":"#REF!"},{"$error":"#REF!"}]
[null,null,null,{"$f":"IF(#REF!=$E$1,IF(#REF!=$G$1,#REF!,NA()),NA())","v":{"$error":"#REF!"}},{"$f":"IF(#REF!=$E$1,IF(#REF!=$G$1,#REF!,NA()),NA())","v":{"$error":"#REF!"}},{"$f":"IF(#REF!=$E$1,IF(#REF!=$G$1,IF(#REF!=\"\",NA(),#REF!),NA()),NA())","v":{"$error":"#REF!"}},{"$f":"IF(#REF!=$E$1,IF(#REF!=$G$1,IF(#REF!=\"\",NA(),#REF!),NA()),NA())","v":{"$error":"#REF!"}},{"$error":"#REF!"},{"$error":"#REF!"}]
[null,null,null,{"$f":"IF(#REF!=$E$1,IF(#REF!=$G$1,#REF!,NA()),NA())","v":{"$error":"#REF!"}},{"$f":"IF(#REF!=$E$1,IF(#REF!=$G$1,#REF!,NA()),NA())","v":{"$error":"#REF!"}},{"$f":"IF(#REF!=$E$1,IF(#REF!=$G$1,IF(#REF!=\"\",NA(),#REF!),NA()),NA())","v":{"$error":"#REF!"}},{"$f":"IF(#REF!=$E$1,IF(#REF!=$G$1,IF(#REF!=\"\",NA(),#REF!),NA()),NA())","v":{"$error":"#REF!"}},{"$error":"#REF!"},{"$error":"#REF!"}]
[null,null,null,{"$f":"IF(#REF!=$E$1,IF(#REF!=$G$1,#REF!,NA()),NA())","v":{"$error":"#REF!"}},{"$f":"IF(#REF!=$E$1,IF(#REF!=$G$1,#REF!,NA()),NA())","v":{"$error":"#REF!"}},{"$f":"IF(#REF!=$E$1,IF(#REF!=$G$1,IF(#REF!=\"\",NA(),#REF!),NA()),NA())","v":{"$error":"#REF!"}},{"$f":"IF(#REF!=$E$1,IF(#REF!=$G$1,IF(#REF!=\"\",NA(),#REF!),NA()),NA())","v":{"$error":"#REF!"}},{"$error":"#REF!"},{"$error":"#REF!"}]
[null,null,null,{"$f":"IF(#REF!=$E$1,IF(#REF!=$G$1,#REF!,NA()),NA())","v":{"$error":"#REF!"}},{"$f":"IF(#REF!=$E$1,IF(#REF!=$G$1,#REF!,NA()),NA())","v":{"$error":"#REF!"}},{"$f":"IF(#REF!=$E$1,IF(#REF!=$G$1,IF(#REF!=\"\",NA(),#REF!),NA()),NA())","v":{"$error":"#REF!"}},{"$f":"IF(#REF!=$E$1,IF(#REF!=$G$1,IF(#REF!=\"\",NA(),#REF!),NA()),NA())","v":{"$error":"#REF!"}},{"$error":"#REF!"},{"$error":"#REF!"}]
[null,null,null,{"$f":"IF(#REF!=$E$1,IF(#REF!=$G$1,#REF!,NA()),NA())","v":{"$error":"#REF!"}},{"$f":"IF(#REF!=$E$1,IF(#REF!=$G$1,#REF!,NA()),NA())","v":{"$error":"#REF!"}},{"$f":"IF(#REF!=$E$1,IF(#REF!=$G$1,IF(#REF!=\"\",NA(),#REF!),NA()),NA())","v":{"$error":"#REF!"}},{"$f":"IF(#REF!=$E$1,IF(#REF!=$G$1,IF(#REF!=\"\",NA(),#REF!),NA()),NA())","v":{"$error":"#REF!"}},{"$error":"#REF!"},{"$error":"#REF!"}]
[null,null,null,{"$f":"IF(#REF!=$E$1,IF(#REF!=$G$1,#REF!,NA()),NA())","v":{"$error":"#REF!"}},{"$f":"IF(#REF!=$E$1,IF(#REF!=$G$1,#REF!,NA()),NA())","v":{"$error":"#REF!"}},{"$f":"IF(#REF!=$E$1,IF(#REF!=$G$1,IF(#REF!=\"\",NA(),#REF!),NA()),NA())","v":{"$error":"#REF!"}},{"$f":"IF(#REF!=$E$1,IF(#REF!=$G$1,IF(#REF!=\"\",NA(),#REF!),NA()),NA())","v":{"$error":"#REF!"}},{"$error":"#REF!"},{"$error":"#REF!"}]
[null,null,null,{"$f":"IF(#REF!=$E$1,IF(#REF!=$G$1,#REF!,NA()),NA())","v":{"$error":"#REF!"}},{"$f":"IF(#REF!=$E$1,IF(#REF!=$G$1,#REF!,NA()),NA())","v":{"$error":"#REF!"}},{"$f":"IF(#REF!=$E$1,IF(#REF!=$G$1,IF(#REF!=\"\",NA(),#REF!),NA()),NA())","v":{"$error":"#REF!"}},{"$f":"IF(#REF!=$E$1,IF(#REF!=$G$1,IF(#REF!=\"\",NA(),#REF!),NA()),NA())","v":{"$error":"#REF!"}},{"$error":"#REF!"},{"$error":"#REF!"}]
[null,null,null,{"$f":"IF(#REF!=$E$1,IF(#REF!=$G$1,#REF!,NA()),NA())","v":{"$error":"#REF!"}},{"$f":"IF(#REF!=$E$1,IF(#REF!=$G$1,#REF!,NA()),NA())","v":{"$error":"#REF!"}},{"$f":"IF(#REF!=$E$1,IF(#REF!=$G$1,IF(#REF!=\"\",NA(),#REF!),NA()),NA())","v":{"$error":"#REF!"}},{"$f":"IF(#REF!=$E$1,IF(#REF!=$G$1,IF(#REF!=\"\",NA(),#REF!),NA()),NA())","v":{"$error":"#REF!"}},{"$error":"#REF!"},{"$error":"#REF!"}]
[null,null,null,{"$f":"IF(#REF!=$E$1,IF(#REF!=$G$1,#REF!,NA()),NA())","v":{"$error":"#REF!"}},{"$f":"IF(#REF!=$E$1,IF(#REF!=$G$1,#REF!,NA()),NA())","v":{"$error":"#REF!"}},{"$f":"IF(#REF!=$E$1,IF(#REF!=$G$1,IF(#REF!=\"\",NA(),#REF!),NA()),NA())","v":{"$error":"#REF!"}},{"$f":"IF(#REF!=$E$1,IF(#REF!=$G$1,IF(#REF!=\"\",NA(),#REF!),NA()),NA())","v":{"$error":"#REF!"}},{"$error":"#REF!"},{"$error":"#REF!"}]
[null,null,null,{"$f":"IF(#REF!=$E$1,IF(#REF!=$G$1,#REF!,NA()),NA())","v":{"$error":"#REF!"}},{"$f":"IF(#REF!=$E$1,IF(#REF!=$G$1,#REF!,NA()),NA())","v":{"$error":"#REF!"}},{"$f":"IF(#REF!=$E$1,IF(#REF!=$G$1,IF(#REF!=\"\",NA(),#REF!),NA()),NA())","v":{"$error":"#REF!"}},{"$f":"IF(#REF!=$E$1,IF(#REF!=$G$1,IF(#REF!=\"\",NA(),#REF!),NA()),NA())","v":{"$error":"#REF!"}},{"$error":"#REF!"},{"$error":"#REF!"}]
[null,null,null,{"$f":"IF(#REF!=$E$1,IF(#REF!=$G$1,#REF!,NA()),NA())","v":{"$error":"#REF!"}},{"$f":"IF(#REF!=$E$1,IF(#REF!=$G$1,#REF!,NA()),NA())","v":{"$error":"#REF!"}},{"$f":"IF(#REF!=$E$1,IF(#REF!=$G$1,IF(#REF!=\"\",NA(),#REF!),NA()),NA())","v":{"$error":"#REF!"}},{"$f":"IF(#REF!=$E$1,IF(#REF!=$G$1,IF(#REF!=\"\",NA(),#REF!),NA()),NA())","v":{"$error":"#REF!"}},{"$error":"#REF!"},{"$error":"#REF!"}]
[null,null,null,{"$f":"IF(#REF!=$E$1,IF(#REF!=$G$1,#REF!,NA()),NA())","v":{"$error":"#REF!"}},{"$f":"IF(#REF!=$E$1,IF(#REF!=$G$1,#REF!,NA()),NA())","v":{"$error":"#REF!"}},{"$f":"IF(#REF!=$E$1,IF(#REF!=$G$1,IF(#REF!=\"\",NA(),#REF!),NA()),NA())","v":{"$error":"#REF!"}},{"$f":"IF(#REF!=$E$1,IF(#REF!=$G$1,IF(#REF!=\"\",NA(),#REF!),NA()),NA())","v":{"$error":"#REF!"}},{"$error":"#REF!"},{"$error":"#REF!"}]
[null,null,null,{"$f":"IF(#REF!=$E$1,IF(#REF!=$G$1,#REF!,NA()),NA())","v":{"$error":"#REF!"}},{"$f":"IF(#REF!=$E$1,IF(#REF!=$G$1,#REF!,NA()),NA())","v":{"$error":"#REF!"}},{"$f":"IF(#REF!=$E$1,IF(#REF!=$G$1,IF(#REF!=\"\",NA(),#REF!),NA()),NA())","v":{"$error":"#REF!"}},{"$f":"IF(#REF!=$E$1,IF(#REF!=$G$1,IF(#REF!=\"\",NA(),#REF!),NA()),NA())","v":{"$error":"#REF!"}},{"$error":"#REF!"},{"$error":"#REF!"}]
[null,null,null,{"$f":"IF(#REF!=$E$1,IF(#REF!=$G$1,#REF!,NA()),NA())","v":{"$error":"#REF!"}},{"$f":"IF(#REF!=$E$1,IF(#REF!=$G$1,#REF!,NA()),NA())","v":{"$error":"#REF!"}},{"$f":"IF(#REF!=$E$1,IF(#REF!=$G$1,IF(#REF!=\"\",NA(),#REF!),NA()),NA())","v":{"$error":"#REF!"}},{"$f":"IF(#REF!=$E$1,IF(#REF!=$G$1,IF(#REF!=\"\",NA(),#REF!),NA()),NA())","v":{"$error":"#REF!"}},{"$error":"#REF!"},{"$error":"#REF!"}]
[null,null,null,{"$f":"IF(#REF!=$E$1,IF(#REF!=$G$1,#REF!,NA()),NA())","v":{"$error":"#REF!"}},{"$f":"IF(#REF!=$E$1,IF(#REF!=$G$1,#REF!,NA()),NA())","v":{"$error":"#REF!"}},{"$f":"IF(#REF!=$E$1,IF(#REF!=$G$1,IF(#REF!=\"\",NA(),#REF!),NA()),NA())","v":{"$error":"#REF!"}},{"$f":"IF(#REF!=$E$1,IF(#REF!=$G$1,IF(#REF!=\"\",NA(),#REF!),NA()),NA())","v":{"$error":"#REF!"}},{"$error":"#REF!"},{"$error":"#REF!"}]
[null,null,null,{"$f":"IF(#REF!=$E$1,IF(#REF!=$G$1,#REF!,NA()),NA())","v":{"$error":"#REF!"}},{"$f":"IF(#REF!=$E$1,IF(#REF!=$G$1,#REF!,NA()),NA())","v":{"$error":"#REF!"}},{"$f":"IF(#REF!=$E$1,IF(#REF!=$G$1,IF(#REF!=\"\",NA(),#REF!),NA()),NA())","v":{"$error":"#REF!"}},{"$f":"IF(#REF!=$E$1,IF(#REF!=$G$1,IF(#REF!=\"\",NA(),#REF!),NA()),NA())","v":{"$error":"#REF!"}},{"$error":"#REF!"},{"$error":"#REF!"}]
[null,null,null,{"$f":"IF(#REF!=$E$1,IF(#REF!=$G$1,#REF!,NA()),NA())","v":{"$error":"#REF!"}},{"$f":"IF(#REF!=$E$1,IF(#REF!=$G$1,#REF!,NA()),NA())","v":{"$error":"#REF!"}},{"$f":"IF(#REF!=$E$1,IF(#REF!=$G$1,IF(#REF!=\"\",NA(),#REF!),NA()),NA())","v":{"$error":"#REF!"}},{"$f":"IF(#REF!=$E$1,IF(#REF!=$G$1,IF(#REF!=\"\",NA(),#REF!),NA()),NA())","v":{"$error":"#REF!"}},{"$error":"#REF!"},{"$error":"#REF!"}]
[null,null,null,{"$f":"IF(#REF!=$E$1,IF(#REF!=$G$1,#REF!,NA()),NA())","v":{"$error":"#REF!"}},{"$f":"IF(#REF!=$E$1,IF(#REF!=$G$1,#REF!,NA()),NA())","v":{"$error":"#REF!"}},{"$f":"IF(#REF!=$E$1,IF(#REF!=$G$1,IF(#REF!=\"\",NA(),#REF!),NA()),NA())","v":{"$error":"#REF!"}},{"$f":"IF(#REF!=$E$1,IF(#REF!=$G$1,IF(#REF!=\"\",NA(),#REF!),NA()),NA())","v":{"$error":"#REF!"}},{"$f":"IF(AND(ISNUMBER(G836),F836=\"-\"),0,F836)","v":{"$error":"#REF!"}},{"$f":"IF(AND(ISNUMBER(F836),G836=\"-\"),0,G836)","v":{"$error":"#REF!"}}]
[null,null,null,{"$f":"IF(#REF!=$E$1,IF(#REF!=$G$1,#REF!,NA()),NA())","v":{"$error":"#REF!"}},{"$f":"IF(#REF!=$E$1,IF(#REF!=$G$1,#REF!,NA()),NA())","v":{"$error":"#REF!"}},{"$f":"IF(#REF!=$E$1,IF(#REF!=$G$1,IF(#REF!=\"\",NA(),#REF!),NA()),NA())","v":{"$error":"#REF!"}},{"$f":"IF(#REF!=$E$1,IF(#REF!=$G$1,IF(#REF!=\"\",NA(),#REF!),NA()),NA())","v":{"$error":"#REF!"}},{"$error":"#REF!"},{"$error":"#REF!"}]
[null,null,null,{"$f":"IF(#REF!=$E$1,IF(#REF!=$G$1,#REF!,NA()),NA())","v":{"$error":"#REF!"}},{"$f":"IF(#REF!=$E$1,IF(#REF!=$G$1,#REF!,NA()),NA())","v":{"$error":"#REF!"}},{"$f":"IF(#REF!=$E$1,IF(#REF!=$G$1,IF(#REF!=\"\",NA(),#REF!),NA()),NA())","v":{"$error":"#REF!"}},{"$f":"IF(#REF!=$E$1,IF(#REF!=$G$1,IF(#REF!=\"\",NA(),#REF!),NA()),NA())","v":{"$error":"#REF!"}},{"$error":"#REF!"},{"$error":"#REF!"}]
[null,null,null,{"$f":"IF(#REF!=$E$1,IF(#REF!=$G$1,#REF!,NA()),NA())","v":{"$error":"#REF!"}},{"$f":"IF(#REF!=$E$1,IF(#REF!=$G$1,#REF!,NA()),NA())","v":{"$error":"#REF!"}},{"$f":"IF(#REF!=$E$1,IF(#REF!=$G$1,IF(#REF!=\"\",NA(),#REF!),NA()),NA())","v":{"$error":"#REF!"}},{"$f":"IF(#REF!=$E$1,IF(#REF!=$G$1,IF(#REF!=\"\",NA(),#REF!),NA()),NA())","v":{"$error":"#REF!"}},{"$error":"#REF!"},{"$error":"#REF!"}]
[null,null,null,{"$f":"IF(#REF!=$E$1,IF(#REF!=$G$1,#REF!,NA()),NA())","v":{"$error":"#REF!"}},{"$f":"IF(#REF!=$E$1,IF(#REF!=$G$1,#REF!,NA()),NA())","v":{"$error":"#REF!"}},{"$f":"IF(#REF!=$E$1,IF(#REF!=$G$1,IF(#REF!=\"\",NA(),#REF!),NA()),NA())","v":{"$error":"#REF!"}},{"$f":"IF(#REF!=$E$1,IF(#REF!=$G$1,IF(#REF!=\"\",NA(),#REF!),NA()),NA())","v":{"$error":"#REF!"}},{"$error":"#REF!"},{"$error":"#REF!"}]
[null,null,null,{"$f":"IF(#REF!=$E$1,IF(#REF!=$G$1,#REF!,NA()),NA())","v":{"$error":"#REF!"}},{"$f":"IF(#REF!=$E$1,IF(#REF!=$G$1,#REF!,NA()),NA())","v":{"$error":"#REF!"}},{"$f":"IF(#REF!=$E$1,IF(#REF!=$G$1,IF(#REF!=\"\",NA(),#REF!),NA()),NA())","v":{"$error":"#REF!"}},{"$f":"IF(#REF!=$E$1,IF(#REF!=$G$1,IF(#REF!=\"\",NA(),#REF!),NA()),NA())","v":{"$error":"#REF!"}},{"$error":"#REF!"},{"$error":"#REF!"}]
[null,null,null,{"$f":"IF(#REF!=$E$1,IF(#REF!=$G$1,#REF!,NA()),NA())","v":{"$error":"#REF!"}},{"$f":"IF(#REF!=$E$1,IF(#REF!=$G$1,#REF!,NA()),NA())","v":{"$error":"#REF!"}},{"$f":"IF(#REF!=$E$1,IF(#REF!=$G$1,IF(#REF!=\"\",NA(),#REF!),NA()),NA())","v":{"$error":"#REF!"}},{"$f":"IF(#REF!=$E$1,IF(#REF!=$G$1,IF(#REF!=\"\",NA(),#REF!),NA()),NA())","v":{"$error":"#REF!"}},{"$error":"#REF!"},{"$error":"#REF!"}]
[null,null,null,{"$f":"IF(#REF!=$E$1,IF(#REF!=$G$1,#REF!,NA()),NA())","v":{"$error":"#REF!"}},{"$f":"IF(#REF!=$E$1,IF(#REF!=$G$1,#REF!,NA()),NA())","v":{"$error":"#REF!"}},{"$f":"IF(#REF!=$E$1,IF(#REF!=$G$1,IF(#REF!=\"\",NA(),#REF!),NA()),NA())","v":{"$error":"#REF!"}},{"$f":"IF(#REF!=$E$1,IF(#REF!=$G$1,IF(#REF!=\"\",NA(),#REF!),NA()),NA())","v":{"$error":"#REF!"}},{"$error":"#REF!"},{"$error":"#REF!"}]
[null,null,null,{"$f":"IF(#REF!=$E$1,IF(#REF!=$G$1,#REF!,NA()),NA())","v":{"$error":"#REF!"}},{"$f":"IF(#REF!=$E$1,IF(#REF!=$G$1,#REF!,NA()),NA())","v":{"$error":"#REF!"}},{"$f":"IF(#REF!=$E$1,IF(#REF!=$G$1,IF(#REF!=\"\",NA(),#REF!),NA()),NA())","v":{"$error":"#REF!"}},{"$f":"IF(#REF!=$E$1,IF(#REF!=$G$1,IF(#REF!=\"\",NA(),#REF!),NA()),NA())","v":{"$error":"#REF!"}},{"$error":"#REF!"},{"$error":"#REF!"}]
[null,null,null,{"$f":"IF(#REF!=$E$1,IF(#REF!=$G$1,#REF!,NA()),NA())","v":{"$error":"#REF!"}},{"$f":"IF(#REF!=$E$1,IF(#REF!=$G$1,#REF!,NA()),NA())","v":{"$error":"#REF!"}},{"$f":"IF(#REF!=$E$1,IF(#REF!=$G$1,IF(#REF!=\"\",NA(),#REF!),NA()),NA())","v":{"$error":"#REF!"}},{"$f":"IF(#REF!=$E$1,IF(#REF!=$G$1,IF(#REF!=\"\",NA(),#REF!),NA()),NA())","v":{"$error":"#REF!"}},{"$error":"#REF!"},{"$error":"#REF!"}]
[null,null,null,{"$f":"IF(#REF!=$E$1,IF(#REF!=$G$1,#REF!,NA()),NA())","v":{"$error":"#REF!"}},{"$f":"IF(#REF!=$E$1,IF(#REF!=$G$1,#REF!,NA()),NA())","v":{"$error":"#REF!"}},{"$f":"IF(#REF!=$E$1,IF(#REF!=$G$1,IF(#REF!=\"\",NA(),#REF!),NA()),NA())","v":{"$error":"#REF!"}},{"$f":"IF(#REF!=$E$1,IF(#REF!=$G$1,IF(#REF!=\"\",NA(),#REF!),NA()),NA())","v":{"$error":"#REF!"}},{"$error":"#REF!"},{"$error":"#REF!"}]
[null,null,null,{"$f":"IF(#REF!=$E$1,IF(#REF!=$G$1,#REF!,NA()),NA())","v":{"$error":"#REF!"}},{"$f":"IF(#REF!=$E$1,IF(#REF!=$G$1,#REF!,NA()),NA())","v":{"$error":"#REF!"}},{"$f":"IF(#REF!=$E$1,IF(#REF!=$G$1,IF(#REF!=\"\",NA(),#REF!),NA()),NA())","v":{"$error":"#REF!"}},{"$f":"IF(#REF!=$E$1,IF(#REF!=$G$1,IF(#REF!=\"\",NA(),#REF!),NA()),NA())","v":{"$error":"#REF!"}},{"$error":"#REF!"},{"$error":"#REF!"}]
[null,null,null,{"$f":"IF(#REF!=$E$1,IF(#REF!=$G$1,#REF!,NA()),NA())","v":{"$error":"#REF!"}},{"$f":"IF(#REF!=$E$1,IF(#REF!=$G$1,#REF!,NA()),NA())","v":{"$error":"#REF!"}},{"$f":"IF(#REF!=$E$1,IF(#REF!=$G$1,IF(#REF!=\"\",NA(),#REF!),NA()),NA())","v":{"$error":"#REF!"}},{"$f":"IF(#REF!=$E$1,IF(#REF!=$G$1,IF(#REF!=\"\",NA(),#REF!),NA()),NA())","v":{"$error":"#REF!"}},{"$error":"#REF!"},{"$error":"#REF!"}]
[null,null,null,{"$f":"IF(#REF!=$E$1,IF(#REF!=$G$1,#REF!,NA()),NA())","v":{"$error":"#REF!"}},{"$f":"IF(#REF!=$E$1,IF(#REF!=$G$1,#REF!,NA()),NA())","v":{"$error":"#REF!"}},{"$f":"IF(#REF!=$E$1,IF(#REF!=$G$1,IF(#REF!=\"\",NA(),#REF!),NA()),NA())","v":{"$error":"#REF!"}},{"$f":"IF(#REF!=$E$1,IF(#REF!=$G$1,IF(#REF!=\"\",NA(),#REF!),NA()),NA())","v":{"$error":"#REF!"}},{"$error":"#REF!"},{"$error":"#REF!"}]
[null,null,null,{"$f":"IF(#REF!=$E$1,IF(#REF!=$G$1,#REF!,NA()),NA())","v":{"$error":"#REF!"}},{"$f":"IF(#REF!=$E$1,IF(#REF!=$G$1,#REF!,NA()),NA())","v":{"$error":"#REF!"}},{"$f":"IF(#REF!=$E$1,IF(#REF!=$G$1,IF(#REF!=\"\",NA(),#REF!),NA()),NA())","v":{"$error":"#REF!"}},{"$f":"IF(#REF!=$E$1,IF(#REF!=$G$1,IF(#REF!=\"\",NA(),#REF!),NA()),NA())","v":{"$error":"#REF!"}},{"$error":"#REF!"},{"$error":"#REF!"}]
[null,null,null,{"$f":"IF(#REF!=$E$1,IF(#REF!=$G$1,#REF!,NA()),NA())","v":{"$error":"#REF!"}},{"$f":"IF(#REF!=$E$1,IF(#REF!=$G$1,#REF!,NA()),NA())","v":{"$error":"#REF!"}},{"$f":"IF(#REF!=$E$1,IF(#REF!=$G$1,IF(#REF!=\"\",NA(),#REF!),NA()),NA())","v":{"$error":"#REF!"}},{"$f":"IF(#REF!=$E$1,IF(#REF!=$G$1,IF(#REF!=\"\",NA(),#REF!),NA()),NA())","v":{"$error":"#REF!"}},{"$error":"#REF!"},{"$error":"#REF!"}]
[null,null,null,{"$f":"IF(#REF!=$E$1,IF(#REF!=$G$1,#REF!,NA()),NA())","v":{"$error":"#REF!"}},{"$f":"IF(#REF!=$E$1,IF(#REF!=$G$1,#REF!,NA()),NA())","v":{"$error":"#REF!"}},{"$f":"IF(#REF!=$E$1,IF(#REF!=$G$1,IF(#REF!=\"\",NA(),#REF!),NA()),NA())","v":{"$error":"#REF!"}},{"$f":"IF(#REF!=$E$1,IF(#REF!=$G$1,IF(#REF!=\"\",NA(),#REF!),NA()),NA())","v":{"$error":"#REF!"}},{"$error":"#REF!"},{"$error":"#REF!"}]
[null,null,null,{"$f":"IF(#REF!=$E$1,IF(#REF!=$G$1,#REF!,NA()),NA())","v":{"$error":"#REF!"}},{"$f":"IF(#REF!=$E$1,IF(#REF!=$G$1,#REF!,NA()),NA())","v":{"$error":"#REF!"}},{"$f":"IF(#REF!=$E$1,IF(#REF!=$G$1,IF(#REF!=\"\",NA(),#REF!),NA()),NA())","v":{"$error":"#REF!"}},{"$f":"IF(#REF!=$E$1,IF(#REF!=$G$1,IF(#REF!=\"\",NA(),#REF!),NA()),NA())","v":{"$error":"#REF!"}},{"$error":"#REF!"},{"$error":"#REF!"}]
[null,null,null,{"$f":"IF(#REF!=$E$1,IF(#REF!=$G$1,#REF!,NA()),NA())","v":{"$error":"#REF!"}},{"$f":"IF(#REF!=$E$1,IF(#REF!=$G$1,#REF!,NA()),NA())","v":{"$error":"#REF!"}},{"$f":"IF(#REF!=$E$1,IF(#REF!=$G$1,IF(#REF!=\"\",NA(),#REF!),NA()),NA())","v":{"$error":"#REF!"}},{"$f":"IF(#REF!=$E$1,IF(#REF!=$G$1,IF(#REF!=\"\",NA(),#REF!),NA()),NA())","v":{"$error":"#REF!"}},{"$error":"#REF!"},{"$error":"#REF!"}]
[null,null,null,{"$f":"IF(#REF!=$E$1,IF(#REF!=$G$1,#REF!,NA()),NA())","v":{"$error":"#REF!"}},{"$f":"IF(#REF!=$E$1,IF(#REF!=$G$1,#REF!,NA()),NA())","v":{"$error":"#REF!"}},{"$f":"IF(#REF!=$E$1,IF(#REF!=$G$1,IF(#REF!=\"\",NA(),#REF!),NA()),NA())","v":{"$error":"#REF!"}},{"$f":"IF(#REF!=$E$1,IF(#REF!=$G$1,IF(#REF!=\"\",NA(),#REF!),NA()),NA())","v":{"$error":"#REF!"}},{"$error":"#REF!"},{"$error":"#REF!"}]
[null,null,null,{"$f":"IF(#REF!=$E$1,IF(#REF!=$G$1,#REF!,NA()),NA())","v":{"$error":"#REF!"}},{"$f":"IF(#REF!=$E$1,IF(#REF!=$G$1,#REF!,NA()),NA())","v":{"$error":"#REF!"}},{"$f":"IF(#REF!=$E$1,IF(#REF!=$G$1,IF(#REF!=\"\",NA(),#REF!),NA()),NA())","v":{"$error":"#REF!"}},{"$f":"IF(#REF!=$E$1,IF(#REF!=$G$1,IF(#REF!=\"\",NA(),#REF!),NA()),NA())","v":{"$error":"#REF!"}},{"$error":"#REF!"},{"$error":"#REF!"}]
[null,null,null,{"$f":"IF(#REF!=$E$1,IF(#REF!=$G$1,#REF!,NA()),NA())","v":{"$error":"#REF!"}},{"$f":"IF(#REF!=$E$1,IF(#REF!=$G$1,#REF!,NA()),NA())","v":{"$error":"#REF!"}},{"$f":"IF(#REF!=$E$1,IF(#REF!=$G$1,IF(#REF!=\"\",NA(),#REF!),NA()),NA())","v":{"$error":"#REF!"}},{"$f":"IF(#REF!=$E$1,IF(#REF!=$G$1,IF(#REF!=\"\",NA(),#REF!),NA()),NA())","v":{"$error":"#REF!"}},{"$error":"#REF!"},{"$error":"#REF!"}]
[null,null,null,{"$f":"IF(#REF!=$E$1,IF(#REF!=$G$1,#REF!,NA()),NA())","v":{"$error":"#REF!"}},{"$f":"IF(#REF!=$E$1,IF(#REF!=$G$1,#REF!,NA()),NA())","v":{"$error":"#REF!"}},{"$f":"IF(#REF!=$E$1,IF(#REF!=$G$1,IF(#REF!=\"\",NA(),#REF!),NA()),NA())","v":{"$error":"#REF!"}},{"$f":"IF(#REF!=$E$1,IF(#REF!=$G$1,IF(#REF!=\"\",NA(),#REF!),NA()),NA())","v":{"$error":"#REF!"}},{"$error":"#REF!"},{"$error":"#REF!"}]
[null,null,null,{"$f":"IF(#REF!=$E$1,IF(#REF!=$G$1,#REF!,NA()),NA())","v":{"$error":"#REF!"}},{"$f":"IF(#REF!=$E$1,IF(#REF!=$G$1,#REF!,NA()),NA())","v":{"$error":"#REF!"}},{"$f":"IF(#REF!=$E$1,IF(#REF!=$G$1,IF(#REF!=\"\",NA(),#REF!),NA()),NA())","v":{"$error":"#REF!"}},{"$f":"IF(#REF!=$E$1,IF(#REF!=$G$1,IF(#REF!=\"\",NA(),#REF!),NA()),NA())","v":{"$error":"#REF!"}},{"$error":"#REF!"},{"$error":"#REF!"}]
[null,null,null,{"$f":"IF(#REF!=$E$1,IF(#REF!=$G$1,#REF!,NA()),NA())","v":{"$error":"#REF!"}},{"$f":"IF(#REF!=$E$1,IF(#REF!=$G$1,#REF!,NA()),NA())","v":{"$error":"#REF!"}},{"$f":"IF(#REF!=$E$1,IF(#REF!=$G$1,IF(#REF!=\"\",NA(),#REF!),NA()),NA())","v":{"$error":"#REF!"}},{"$f":"IF(#REF!=$E$1,IF(#REF!=$G$1,IF(#REF!=\"\",NA(),#REF!),NA()),NA())","v":{"$error":"#REF!"}},{"$error":"#REF!"},{"$error":"#REF!"}]
[null,null,null,{"$f":"IF(#REF!=$E$1,IF(#REF!=$G$1,#REF!,NA()),NA())","v":{"$error":"#REF!"}},{"$f":"IF(#REF!=$E$1,IF(#REF!=$G$1,#REF!,NA()),NA())","v":{"$error":"#REF!"}},{"$f":"IF(#REF!=$E$1,IF(#REF!=$G$1,IF(#REF!=\"\",NA(),#REF!),NA()),NA())","v":{"$error":"#REF!"}},{"$f":"IF(#REF!=$E$1,IF(#REF!=$G$1,IF(#REF!=\"\",NA(),#REF!),NA()),NA())","v":{"$error":"#REF!"}},{"$error":"#REF!"},{"$error":"#REF!"}]
[null,null,null,{"$f":"IF(#REF!=$E$1,IF(#REF!=$G$1,#REF!,NA()),NA())","v":{"$error":"#REF!"}},{"$f":"IF(#REF!=$E$1,IF(#REF!=$G$1,#REF!,NA()),NA())","v":{"$error":"#REF!"}},{"$f":"IF(#REF!=$E$1,IF(#REF!=$G$1,IF(#REF!=\"\",NA(),#REF!),NA()),NA())","v":{"$error":"#REF!"}},{"$f":"IF(#REF!=$E$1,IF(#REF!=$G$1,IF(#REF!=\"\",NA(),#REF!),NA()),NA())","v":{"$error":"#REF!"}},{"$error":"#REF!"},{"$error":"#REF!"}]
[null,null,null,{"$f":"IF(#REF!=$E$1,IF(#REF!=$G$1,#REF!,NA()),NA())","v":{"$error":"#REF!"}},{"$f":"IF(#REF!=$E$1,IF(#REF!=$G$1,#REF!,NA()),NA())","v":{"$error":"#REF!"}},{"$f":"IF(#REF!=$E$1,IF(#REF!=$G$1,IF(#REF!=\"\",NA(),#REF!),NA()),NA())","v":{"$error":"#REF!"}},{"$f":"IF(#REF!=$E$1,IF(#REF!=$G$1,IF(#REF!=\"\",NA(),#REF!),NA()),NA())","v":{"$error":"#REF!"}},{"$error":"#REF!"},{"$error":"#REF!"}]
[null,null,null,{"$f":"IF(#REF!=$E$1,IF(#REF!=$G$1,#REF!,NA()),NA())","v":{"$error":"#REF!"}},{"$f":"IF(#REF!=$E$1,IF(#REF!=$G$1,#REF!,NA()),NA())","v":{"$error":"#REF!"}},{"$f":"IF(#REF!=$E$1,IF(#REF!=$G$1,IF(#REF!=\"\",NA(),#REF!),NA()),NA())","v":{"$error":"#REF!"}},{"$f":"IF(#REF!=$E$1,IF(#REF!=$G$1,IF(#REF!=\"\",NA(),#REF!),NA()),NA())","v":{"$error":"#REF!"}},{"$error":"#REF!"},{"$error":"#REF!"}]
[null,null,null,{"$f":"IF(#REF!=$E$1,IF(#REF!=$G$1,#REF!,NA()),NA())","v":{"$error":"#REF!"}},{"$f":"IF(#REF!=$E$1,IF(#REF!=$G$1,#REF!,NA()),NA())","v":{"$error":"#REF!"}},{"$f":"IF(#REF!=$E$1,IF(#REF!=$G$1,IF(#REF!=\"\",NA(),#REF!),NA()),NA())","v":{"$error":"#REF!"}},{"$f":"IF(#REF!=$E$1,IF(#REF!=$G$1,IF(#REF!=\"\",NA(),#REF!),NA()),NA())","v":{"$error":"#REF!"}},{"$error":"#REF!"},{"$error":"#REF!"}]
[null,null,null,{"$f":"IF(#REF!=$E$1,IF(#REF!=$G$1,#REF!,NA()),NA())","v":{"$error":"#REF!"}},{"$f":"IF(#REF!=$E$1,IF(#REF!=$G$1,#REF!,NA()),NA())","v":{"$error":"#REF!"}},{"$f":"IF(#REF!=$E$1,IF(#REF!=$G$1,IF(#REF!=\"\",NA(),#REF!),NA()),NA())","v":{"$error":"#REF!"}},{"$f":"IF(#REF!=$E$1,IF(#REF!=$G$1,IF(#REF!=\"\",NA(),#REF!),NA()),NA())","v":{"$error":"#REF!"}},{"$error":"#REF!"},{"$error":"#REF!"}]
[null,null,null,{"$f":"IF(#REF!=$E$1,IF(#REF!=$G$1,#REF!,NA()),NA())","v":{"$error":"#REF!"}},{"$f":"IF(#REF!=$E$1,IF(#REF!=$G$1,#REF!,NA()),NA())","v":{"$error":"#REF!"}},{"$f":"IF(#REF!=$E$1,IF(#REF!=$G$1,IF(#REF!=\"\",NA(),#REF!),NA()),NA())","v":{"$error":"#REF!"}},{"$f":"IF(#REF!=$E$1,IF(#REF!=$G$1,IF(#REF!=\"\",NA(),#REF!),NA()),NA())","v":{"$error":"#REF!"}},{"$error":"#REF!"},{"$error":"#REF!"}]
[null,null,null,{"$f":"IF(#REF!=$E$1,IF(#REF!=$G$1,#REF!,NA()),NA())","v":{"$error":"#REF!"}},{"$f":"IF(#REF!=$E$1,IF(#REF!=$G$1,#REF!,NA()),NA())","v":{"$error":"#REF!"}},{"$f":"IF(#REF!=$E$1,IF(#REF!=$G$1,IF(#REF!=\"\",NA(),#REF!),NA()),NA())","v":{"$error":"#REF!"}},{"$f":"IF(#REF!=$E$1,IF(#REF!=$G$1,IF(#REF!=\"\",NA(),#REF!),NA()),NA())","v":{"$error":"#REF!"}},{"$error":"#REF!"},{"$error":"#REF!"}]
[null,null,null,{"$f":"IF(#REF!=$E$1,IF(#REF!=$G$1,#REF!,NA()),NA())","v":{"$error":"#REF!"}},{"$f":"IF(#REF!=$E$1,IF(#REF!=$G$1,#REF!,NA()),NA())","v":{"$error":"#REF!"}},{"$f":"IF(#REF!=$E$1,IF(#REF!=$G$1,IF(#REF!=\"\",NA(),#REF!),NA()),NA())","v":{"$error":"#REF!"}},{"$f":"IF(#REF!=$E$1,IF(#REF!=$G$1,IF(#REF!=\"\",NA(),#REF!),NA()),NA())","v":{"$error":"#REF!"}},{"$error":"#REF!"},{"$error":"#REF!"}]
[null,null,null,{"$f":"IF(#REF!=$E$1,IF(#REF!=$G$1,#REF!,NA()),NA())","v":{"$error":"#REF!"}},{"$f":"IF(#REF!=$E$1,IF(#REF!=$G$1,#REF!,NA()),NA())","v":{"$error":"#REF!"}},{"$f":"IF(#REF!=$E$1,IF(#REF!=$G$1,IF(#REF!=\"\",NA(),#REF!),NA()),NA())","v":{"$error":"#REF!"}},{"$f":"IF(#REF!=$E$1,IF(#REF!=$G$1,IF(#REF!=\"\",NA(),#REF!),NA()),NA())","v":{"$error":"#REF!"}},{"$error":"#REF!"},{"$error":"#REF!"}]
[null,null,null,{"$f":"IF(#REF!=$E$1,IF(#REF!=$G$1,#REF!,NA()),NA())","v":{"$error":"#REF!"}},{"$f":"IF(#REF!=$E$1,IF(#REF!=$G$1,#REF!,NA()),NA())","v":{"$error":"#REF!"}},{"$f":"IF(#REF!=$E$1,IF(#REF!=$G$1,IF(#REF!=\"\",NA(),#REF!),NA()),NA())","v":{"$error":"#REF!"}},{"$f":"IF(#REF!=$E$1,IF(#REF!=$G$1,IF(#REF!=\"\",NA(),#REF!),NA()),NA())","v":{"$error":"#REF!"}},{"$error":"#REF!"},{"$error":"#REF!"}]
[null,null,null,{"$f":"IF(#REF!=$E$1,IF(#REF!=$G$1,#REF!,NA()),NA())","v":{"$error":"#REF!"}},{"$f":"IF(#REF!=$E$1,IF(#REF!=$G$1,#REF!,NA()),NA())","v":{"$error":"#REF!"}},{"$f":"IF(#REF!=$E$1,IF(#REF!=$G$1,IF(#REF!=\"\",NA(),#REF!),NA()),NA())","v":{"$error":"#REF!"}},{"$f":"IF(#REF!=$E$1,IF(#REF!=$G$1,IF(#REF!=\"\",NA(),#REF!),NA()),NA())","v":{"$error":"#REF!"}},{"$error":"#REF!"},{"$error":"#REF!"}]
[null,null,null,{"$f":"IF(#REF!=$E$1,IF(#REF!=$G$1,#REF!,NA()),NA())","v":{"$error":"#REF!"}},{"$f":"IF(#REF!=$E$1,IF(#REF!=$G$1,#REF!,NA()),NA())","v":{"$error":"#REF!"}},{"$f":"IF(#REF!=$E$1,IF(#REF!=$G$1,IF(#REF!=\"\",NA(),#REF!),NA()),NA())","v":{"$error":"#REF!"}},{"$f":"IF(#REF!=$E$1,IF(#REF!=$G$1,IF(#REF!=\"\",NA(),#REF!),NA()),NA())","v":{"$error":"#REF!"}},{"$error":"#REF!"},{"$error":"#REF!"}]
[null,null,null,{"$f":"IF(#REF!=$E$1,IF(#REF!=$G$1,#REF!,NA()),NA())","v":{"$error":"#REF!"}},{"$f":"IF(#REF!=$E$1,IF(#REF!=$G$1,#REF!,NA()),NA())","v":{"$error":"#REF!"}},{"$f":"IF(#REF!=$E$1,IF(#REF!=$G$1,IF(#REF!=\"\",NA(),#REF!),NA()),NA())","v":{"$error":"#REF!"}},{"$f":"IF(#REF!=$E$1,IF(#REF!=$G$1,IF(#REF!=\"\",NA(),#REF!),NA()),NA())","v":{"$error":"#REF!"}},{"$error":"#REF!"},{"$error":"#REF!"}]
[null,null,null,{"$f":"IF(#REF!=$E$1,IF(#REF!=$G$1,#REF!,NA()),NA())","v":{"$error":"#REF!"}},{"$f":"IF(#REF!=$E$1,IF(#REF!=$G$1,#REF!,NA()),NA())","v":{"$error":"#REF!"}},{"$f":"IF(#REF!=$E$1,IF(#REF!=$G$1,IF(#REF!=\"\",NA(),#REF!),NA()),NA())","v":{"$error":"#REF!"}},{"$f":"IF(#REF!=$E$1,IF(#REF!=$G$1,IF(#REF!=\"\",NA(),#REF!),NA()),NA())","v":{"$error":"#REF!"}},{"$error":"#REF!"},{"$error":"#REF!"}]
[null,null,null,{"$f":"IF(#REF!=$E$1,IF(#REF!=$G$1,#REF!,NA()),NA())","v":{"$error":"#REF!"}},{"$f":"IF(#REF!=$E$1,IF(#REF!=$G$1,#REF!,NA()),NA())","v":{"$error":"#REF!"}},{"$f":"IF(#REF!=$E$1,IF(#REF!=$G$1,IF(#REF!=\"\",NA(),#REF!),NA()),NA())","v":{"$error":"#REF!"}},{"$f":"IF(#REF!=$E$1,IF(#REF!=$G$1,IF(#REF!=\"\",NA(),#REF!),NA()),NA())","v":{"$error":"#REF!"}},{"$error":"#REF!"},{"$error":"#REF!"}]
[null,null,null,{"$f":"IF(#REF!=$E$1,IF(#REF!=$G$1,#REF!,NA()),NA())","v":{"$error":"#REF!"}},{"$f":"IF(#REF!=$E$1,IF(#REF!=$G$1,#REF!,NA()),NA())","v":{"$error":"#REF!"}},{"$f":"IF(#REF!=$E$1,IF(#REF!=$G$1,IF(#REF!=\"\",NA(),#REF!),NA()),NA())","v":{"$error":"#REF!"}},{"$f":"IF(#REF!=$E$1,IF(#REF!=$G$1,IF(#REF!=\"\",NA(),#REF!),NA()),NA())","v":{"$error":"#REF!"}},{"$error":"#REF!"},{"$error":"#REF!"}]
[null,null,null,{"$f":"IF(#REF!=$E$1,IF(#REF!=$G$1,#REF!,NA()),NA())","v":{"$error":"#REF!"}},{"$f":"IF(#REF!=$E$1,IF(#REF!=$G$1,#REF!,NA()),NA())","v":{"$error":"#REF!"}},{"$f":"IF(#REF!=$E$1,IF(#REF!=$G$1,IF(#REF!=\"\",NA(),#REF!),NA()),NA())","v":{"$error":"#REF!"}},{"$f":"IF(#REF!=$E$1,IF(#REF!=$G$1,IF(#REF!=\"\",NA(),#REF!),NA()),NA())","v":{"$error":"#REF!"}},{"$error":"#REF!"},{"$error":"#REF!"}]
[null,null,null,{"$f":"IF(#REF!=$E$1,IF(#REF!=$G$1,#REF!,NA()),NA())","v":{"$error":"#REF!"}},{"$f":"IF(#REF!=$E$1,IF(#REF!=$G$1,#REF!,NA()),NA())","v":{"$error":"#REF!"}},{"$f":"IF(#REF!=$E$1,IF(#REF!=$G$1,IF(#REF!=\"\",NA(),#REF!),NA()),NA())","v":{"$error":"#REF!"}},{"$f":"IF(#REF!=$E$1,IF(#REF!=$G$1,IF(#REF!=\"\",NA(),#REF!),NA()),NA())","v":{"$error":"#REF!"}},{"$error":"#REF!"},{"$error":"#REF!"}]
[null,null,null,{"$f":"IF(#REF!=$E$1,IF(#REF!=$G$1,#REF!,NA()),NA())","v":{"$error":"#REF!"}},{"$f":"IF(#REF!=$E$1,IF(#REF!=$G$1,#REF!,NA()),NA())","v":{"$error":"#REF!"}},{"$f":"IF(#REF!=$E$1,IF(#REF!=$G$1,IF(#REF!=\"\",NA(),#REF!),NA()),NA())","v":{"$error":"#REF!"}},{"$f":"IF(#REF!=$E$1,IF(#REF!=$G$1,IF(#REF!=\"\",NA(),#REF!),NA()),NA())","v":{"$error":"#REF!"}},{"$error":"#REF!"},{"$error":"#REF!"}]
[null,null,null,{"$f":"IF(#REF!=$E$1,IF(#REF!=$G$1,#REF!,NA()),NA())","v":{"$error":"#REF!"}},{"$f":"IF(#REF!=$E$1,IF(#REF!=$G$1,#REF!,NA()),NA())","v":{"$error":"#REF!"}},{"$f":"IF(#REF!=$E$1,IF(#REF!=$G$1,IF(#REF!=\"\",NA(),#REF!),NA()),NA())","v":{"$error":"#REF!"}},{"$f":"IF(#REF!=$E$1,IF(#REF!=$G$1,IF(#REF!=\"\",NA(),#REF!),NA()),NA())","v":{"$error":"#REF!"}},{"$error":"#REF!"},{"$error":"#REF!"}]
[null,null,null,{"$f":"IF(#REF!=$E$1,IF(#REF!=$G$1,#REF!,NA()),NA())","v":{"$error":"#REF!"}},{"$f":"IF(#REF!=$E$1,IF(#REF!=$G$1,#REF!,NA()),NA())","v":{"$error":"#REF!"}},{"$f":"IF(#REF!=$E$1,IF(#REF!=$G$1,IF(#REF!=\"\",NA(),#REF!),NA()),NA())","v":{"$error":"#REF!"}},{"$f":"IF(#REF!=$E$1,IF(#REF!=$G$1,IF(#REF!=\"\",NA(),#REF!),NA()),NA())","v":{"$error":"#REF!"}},{"$error":"#REF!"},{"$error":"#REF!"}]
[null,null,null,{"$f":"IF(#REF!=$E$1,IF(#REF!=$G$1,#REF!,NA()),NA())","v":{"$error":"#REF!"}},{"$f":"IF(#REF!=$E$1,IF(#REF!=$G$1,#REF!,NA()),NA())","v":{"$error":"#REF!"}},{"$f":"IF(#REF!=$E$1,IF(#REF!=$G$1,IF(#REF!=\"\",NA(),#REF!),NA()),NA())","v":{"$error":"#REF!"}},{"$f":"IF(#REF!=$E$1,IF(#REF!=$G$1,IF(#REF!=\"\",NA(),#REF!),NA()),NA())","v":{"$error":"#REF!"}},{"$error":"#REF!"},{"$error":"#REF!"}]
[null,null,null,{"$f":"IF(#REF!=$E$1,IF(#REF!=$G$1,#REF!,NA()),NA())","v":{"$error":"#REF!"}},{"$f":"IF(#REF!=$E$1,IF(#REF!=$G$1,#REF!,NA()),NA())","v":{"$error":"#REF!"}},{"$f":"IF(#REF!=$E$1,IF(#REF!=$G$1,IF(#REF!=\"\",NA(),#REF!),NA()),NA())","v":{"$error":"#REF!"}},{"$f":"IF(#REF!=$E$1,IF(#REF!=$G$1,IF(#REF!=\"\",NA(),#REF!),NA()),NA())","v":{"$error":"#REF!"}},{"$error":"#REF!"},{"$error":"#REF!"}]
[null,null,null,{"$f":"IF(#REF!=$E$1,IF(#REF!=$G$1,#REF!,NA()),NA())","v":{"$error":"#REF!"}},{"$f":"IF(#REF!=$E$1,IF(#REF!=$G$1,#REF!,NA()),NA())","v":{"$error":"#REF!"}},{"$f":"IF(#REF!=$E$1,IF(#REF!=$G$1,IF(#REF!=\"\",NA(),#REF!),NA()),NA())","v":{"$error":"#REF!"}},{"$f":"IF(#REF!=$E$1,IF(#REF!=$G$1,IF(#REF!=\"\",NA(),#REF!),NA()),NA())","v":{"$error":"#REF!"}},{"$error":"#REF!"},{"$error":"#REF!"}]
[null,null,null,{"$f":"IF(#REF!=$E$1,IF(#REF!=$G$1,#REF!,NA()),NA())","v":{"$error":"#REF!"}},{"$f":"IF(#REF!=$E$1,IF(#REF!=$G$1,#REF!,NA()),NA())","v":{"$error":"#REF!"}},{"$f":"IF(#REF!=$E$1,IF(#REF!=$G$1,IF(#REF!=\"\",NA(),#REF!),NA()),NA())","v":{"$error":"#REF!"}},{"$f":"IF(#REF!=$E$1,IF(#REF!=$G$1,IF(#REF!=\"\",NA(),#REF!),NA()),NA())","v":{"$error":"#REF!"}},{"$error":"#REF!"},{"$error":"#REF!"}]
[null,null,null,{"$f":"IF(#REF!=$E$1,IF(#REF!=$G$1,#REF!,NA()),NA())","v":{"$error":"#REF!"}},{"$f":"IF(#REF!=$E$1,IF(#REF!=$G$1,#REF!,NA()),NA())","v":{"$error":"#REF!"}},{"$f":"IF(#REF!=$E$1,IF(#REF!=$G$1,IF(#REF!=\"\",NA(),#REF!),NA()),NA())","v":{"$error":"#REF!"}},{"$f":"IF(#REF!=$E$1,IF(#REF!=$G$1,IF(#REF!=\"\",NA(),#REF!),NA()),NA())","v":{"$error":"#REF!"}},{"$error":"#REF!"},{"$error":"#REF!"}]
[null,null,null,{"$f":"IF(#REF!=$E$1,IF(#REF!=$G$1,#REF!,NA()),NA())","v":{"$error":"#REF!"}},{"$f":"IF(#REF!=$E$1,IF(#REF!=$G$1,#REF!,NA()),NA())","v":{"$error":"#REF!"}},{"$f":"IF(#REF!=$E$1,IF(#REF!=$G$1,IF(#REF!=\"\",NA(),#REF!),NA()),NA())","v":{"$error":"#REF!"}},{"$f":"IF(#REF!=$E$1,IF(#REF!=$G$1,IF(#REF!=\"\",NA(),#REF!),NA()),NA())","v":{"$error":"#REF!"}},{"$error":"#REF!"},{"$error":"#REF!"}]
[null,null,null,{"$f":"IF(#REF!=$E$1,IF(#REF!=$G$1,#REF!,NA()),NA())","v":{"$error":"#REF!"}},{"$f":"IF(#REF!=$E$1,IF(#REF!=$G$1,#REF!,NA()),NA())","v":{"$error":"#REF!"}},{"$f":"IF(#REF!=$E$1,IF(#REF!=$G$1,IF(#REF!=\"\",NA(),#REF!),NA()),NA())","v":{"$error":"#REF!"}},{"$f":"IF(#REF!=$E$1,IF(#REF!=$G$1,IF(#REF!=\"\",NA(),#REF!),NA()),NA())","v":{"$error":"#REF!"}},{"$error":"#REF!"},{"$error":"#REF!"}]
[null,null,null,{"$f":"IF(#REF!=$E$1,IF(#REF!=$G$1,#REF!,NA()),NA())","v":{"$error":"#REF!"}},{"$f":"IF(#REF!=$E$1,IF(#REF!=$G$1,#REF!,NA()),NA())","v":{"$error":"#REF!"}},{"$f":"IF(#REF!=$E$1,IF(#REF!=$G$1,IF(#REF!=\"\",NA(),#REF!),NA()),NA())","v":{"$error":"#REF!"}},{"$f":"IF(#REF!=$E$1,IF(#REF!=$G$1,IF(#REF!=\"\",NA(),#REF!),NA()),NA())","v":{"$error":"#REF!"}},{"$error":"#REF!"},{"$error":"#REF!"}]
[null,null,null,{"$f":"IF(#REF!=$E$1,IF(#REF!=$G$1,#REF!,NA()),NA())","v":{"$error":"#REF!"}},{"$f":"IF(#REF!=$E$1,IF(#REF!=$G$1,#REF!,NA()),NA())","v":{"$error":"#REF!"}},{"$f":"IF(#REF!=$E$1,IF(#REF!=$G$1,IF(#REF!=\"\",NA(),#REF!),NA()),NA())","v":{"$error":"#REF!"}},{"$f":"IF(#REF!=$E$1,IF(#REF!=$G$1,IF(#REF!=\"\",NA(),#REF!),NA()),NA())","v":{"$error":"#REF!"}},{"$error":"#REF!"},{"$error":"#REF!"}]
[null,null,null,{"$f":"IF(#REF!=$E$1,IF(#REF!=$G$1,#REF!,NA()),NA())","v":{"$error":"#REF!"}},{"$f":"IF(#REF!=$E$1,IF(#REF!=$G$1,#REF!,NA()),NA())","v":{"$error":"#REF!"}},{"$f":"IF(#REF!=$E$1,IF(#REF!=$G$1,IF(#REF!=\"\",NA(),#REF!),NA()),NA())","v":{"$error":"#REF!"}},{"$f":"IF(#REF!=$E$1,IF(#REF!=$G$1,IF(#REF!=\"\",NA(),#REF!),NA()),NA())","v":{"$error":"#REF!"}},{"$error":"#REF!"},{"$error":"#REF!"}]
[null,null,null,{"$f":"IF(#REF!=$E$1,IF(#REF!=$G$1,#REF!,NA()),NA())","v":{"$error":"#REF!"}},{"$f":"IF(#REF!=$E$1,IF(#REF!=$G$1,#REF!,NA()),NA())","v":{"$error":"#REF!"}},{"$f":"IF(#REF!=$E$1,IF(#REF!=$G$1,IF(#REF!=\"\",NA(),#REF!),NA()),NA())","v":{"$error":"#REF!"}},{"$f":"IF(#REF!=$E$1,IF(#REF!=$G$1,IF(#REF!=\"\",NA(),#REF!),NA()),NA())","v":{"$error":"#REF!"}},{"$error":"#REF!"},{"$error":"#REF!"}]
[null,null,null,{"$f":"IF(#REF!=$E$1,IF(#REF!=$G$1,#REF!,NA()),NA())","v":{"$error":"#REF!"}},{"$f":"IF(#REF!=$E$1,IF(#REF!=$G$1,#REF!,NA()),NA())","v":{"$error":"#REF!"}},{"$f":"IF(#REF!=$E$1,IF(#REF!=$G$1,IF(#REF!=\"\",NA(),#REF!),NA()),NA())","v":{"$error":"#REF!"}},{"$f":"IF(#REF!=$E$1,IF(#REF!=$G$1,IF(#REF!=\"\",NA(),#REF!),NA()),NA())","v":{"$error":"#REF!"}},{"$error":"#REF!"},{"$error":"#REF!"}]
[null,null,null,{"$f":"IF(#REF!=$E$1,IF(#REF!=$G$1,#REF!,NA()),NA())","v":{"$error":"#REF!"}},{"$f":"IF(#REF!=$E$1,IF(#REF!=$G$1,#REF!,NA()),NA())","v":{"$error":"#REF!"}},{"$f":"IF(#REF!=$E$1,IF(#REF!=$G$1,IF(#REF!=\"\",NA(),#REF!),NA()),NA())","v":{"$error":"#REF!"}},{"$f":"IF(#REF!=$E$1,IF(#REF!=$G$1,IF(#REF!=\"\",NA(),#REF!),NA()),NA())","v":{"$error":"#REF!"}},{"$error":"#REF!"},{"$error":"#REF!"}]
[null,null,null,{"$f":"IF(#REF!=$E$1,IF(#REF!=$G$1,#REF!,NA()),NA())","v":{"$error":"#REF!"}},{"$f":"IF(#REF!=$E$1,IF(#REF!=$G$1,#REF!,NA()),NA())","v":{"$error":"#REF!"}},{"$f":"IF(#REF!=$E$1,IF(#REF!=$G$1,IF(#REF!=\"\",NA(),#REF!),NA()),NA())","v":{"$error":"#REF!"}},{"$f":"IF(#REF!=$E$1,IF(#REF!=$G$1,IF(#REF!=\"\",NA(),#REF!),NA()),NA())","v":{"$error":"#REF!"}},{"$error":"#REF!"},{"$error":"#REF!"}]
[null,null,null,{"$f":"IF(#REF!=$E$1,IF(#REF!=$G$1,#REF!,NA()),NA())","v":{"$error":"#REF!"}},{"$f":"IF(#REF!=$E$1,IF(#REF!=$G$1,#REF!,NA()),NA())","v":{"$error":"#REF!"}},{"$f":"IF(#REF!=$E$1,IF(#REF!=$G$1,IF(#REF!=\"\",NA(),#REF!),NA()),NA())","v":{"$error":"#REF!"}},{"$f":"IF(#REF!=$E$1,IF(#REF!=$G$1,IF(#REF!=\"\",NA(),#REF!),NA()),NA())","v":{"$error":"#REF!"}},{"$error":"#REF!"},{"$error":"#REF!"}]
[null,null,null,{"$f":"IF(#REF!=$E$1,IF(#REF!=$G$1,#REF!,NA()),NA())","v":{"$error":"#REF!"}},{"$f":"IF(#REF!=$E$1,IF(#REF!=$G$1,#REF!,NA()),NA())","v":{"$error":"#REF!"}},{"$f":"IF(#REF!=$E$1,IF(#REF!=$G$1,IF(#REF!=\"\",NA(),#REF!),NA()),NA())","v":{"$error":"#REF!"}},{"$f":"IF(#REF!=$E$1,IF(#REF!=$G$1,IF(#REF!=\"\",NA(),#REF!),NA()),NA())","v":{"$error":"#REF!"}},{"$error":"#REF!"},{"$error":"#REF!"}]
[null,null,null,{"$f":"IF(#REF!=$E$1,IF(#REF!=$G$1,#REF!,NA()),NA())","v":{"$error":"#REF!"}},{"$f":"IF(#REF!=$E$1,IF(#REF!=$G$1,#REF!,NA()),NA())","v":{"$error":"#REF!"}},{"$f":"IF(#REF!=$E$1,IF(#REF!=$G$1,IF(#REF!=\"\",NA(),#REF!),NA()),NA())","v":{"$error":"#REF!"}},{"$f":"IF(#REF!=$E$1,IF(#REF!=$G$1,IF(#REF!=\"\",NA(),#REF!),NA()),NA())","v":{"$error":"#REF!"}},{"$error":"#REF!"},{"$error":"#REF!"}]
[null,null,null,{"$f":"IF(#REF!=$E$1,IF(#REF!=$G$1,#REF!,NA()),NA())","v":{"$error":"#REF!"}},{"$f":"IF(#REF!=$E$1,IF(#REF!=$G$1,#REF!,NA()),NA())","v":{"$error":"#REF!"}},{"$f":"IF(#REF!=$E$1,IF(#REF!=$G$1,IF(#REF!=\"\",NA(),#REF!),NA()),NA())","v":{"$error":"#REF!"}},{"$f":"IF(#REF!=$E$1,IF(#REF!=$G$1,IF(#REF!=\"\",NA(),#REF!),NA()),NA())","v":{"$error":"#REF!"}},{"$f":"IF(AND(ISNUMBER(G900),F900=\"-\"),0,F900)","v":{"$error":"#REF!"}},{"$f":"IF(AND(ISNUMBER(F900),G900=\"-\"),0,G900)","v":{"$error":"#REF!"}}]
[null,null,null,{"$f":"IF(#REF!=$E$1,IF(#REF!=$G$1,#REF!,NA()),NA())","v":{"$error":"#REF!"}},{"$f":"IF(#REF!=$E$1,IF(#REF!=$G$1,#REF!,NA()),NA())","v":{"$error":"#REF!"}},{"$f":"IF(#REF!=$E$1,IF(#REF!=$G$1,IF(#REF!=\"\",NA(),#REF!),NA()),NA())","v":{"$error":"#REF!"}},{"$f":"IF(#REF!=$E$1,IF(#REF!=$G$1,IF(#REF!=\"\",NA(),#REF!),NA()),NA())","v":{"$error":"#REF!"}},{"$error":"#REF!"},{"$error":"#REF!"}]
[null,null,null,{"$f":"IF(#REF!=$E$1,IF(#REF!=$G$1,#REF!,NA()),NA())","v":{"$error":"#REF!"}},{"$f":"IF(#REF!=$E$1,IF(#REF!=$G$1,#REF!,NA()),NA())","v":{"$error":"#REF!"}},{"$f":"IF(#REF!=$E$1,IF(#REF!=$G$1,IF(#REF!=\"\",NA(),#REF!),NA()),NA())","v":{"$error":"#REF!"}},{"$f":"IF(#REF!=$E$1,IF(#REF!=$G$1,IF(#REF!=\"\",NA(),#REF!),NA()),NA())","v":{"$error":"#REF!"}},{"$error":"#REF!"},{"$error":"#REF!"}]
[null,null,null,{"$f":"IF(#REF!=$E$1,IF(#REF!=$G$1,#REF!,NA()),NA())","v":{"$error":"#REF!"}},{"$f":"IF(#REF!=$E$1,IF(#REF!=$G$1,#REF!,NA()),NA())","v":{"$error":"#REF!"}},{"$f":"IF(#REF!=$E$1,IF(#REF!=$G$1,IF(#REF!=\"\",NA(),#REF!),NA()),NA())","v":{"$error":"#REF!"}},{"$f":"IF(#REF!=$E$1,IF(#REF!=$G$1,IF(#REF!=\"\",NA(),#REF!),NA()),NA())","v":{"$error":"#REF!"}},{"$error":"#REF!"},{"$error":"#REF!"}]
[null,null,null,{"$f":"IF(#REF!=$E$1,IF(#REF!=$G$1,#REF!,NA()),NA())","v":{"$error":"#REF!"}},{"$f":"IF(#REF!=$E$1,IF(#REF!=$G$1,#REF!,NA()),NA())","v":{"$error":"#REF!"}},{"$f":"IF(#REF!=$E$1,IF(#REF!=$G$1,IF(#REF!=\"\",NA(),#REF!),NA()),NA())","v":{"$error":"#REF!"}},{"$f":"IF(#REF!=$E$1,IF(#REF!=$G$1,IF(#REF!=\"\",NA(),#REF!),NA()),NA())","v":{"$error":"#REF!"}},{"$error":"#REF!"},{"$error":"#REF!"}]
[null,null,null,{"$f":"IF(#REF!=$E$1,IF(#REF!=$G$1,#REF!,NA()),NA())","v":{"$error":"#REF!"}},{"$f":"IF(#REF!=$E$1,IF(#REF!=$G$1,#REF!,NA()),NA())","v":{"$error":"#REF!"}},{"$f":"IF(#REF!=$E$1,IF(#REF!=$G$1,IF(#REF!=\"\",NA(),#REF!),NA()),NA())","v":{"$error":"#REF!"}},{"$f":"IF(#REF!=$E$1,IF(#REF!=$G$1,IF(#REF!=\"\",NA(),#REF!),NA()),NA())","v":{"$error":"#REF!"}},{"$error":"#REF!"},{"$error":"#REF!"}]
[null,null,null,{"$f":"IF(#REF!=$E$1,IF(#REF!=$G$1,#REF!,NA()),NA())","v":{"$error":"#REF!"}},{"$f":"IF(#REF!=$E$1,IF(#REF!=$G$1,#REF!,NA()),NA())","v":{"$error":"#REF!"}},{"$f":"IF(#REF!=$E$1,IF(#REF!=$G$1,IF(#REF!=\"\",NA(),#REF!),NA()),NA())","v":{"$error":"#REF!"}},{"$f":"IF(#REF!=$E$1,IF(#REF!=$G$1,IF(#REF!=\"\",NA(),#REF!),NA()),NA())","v":{"$error":"#REF!"}},{"$error":"#REF!"},{"$error":"#REF!"}]
[null,null,null,{"$f":"IF(#REF!=$E$1,IF(#REF!=$G$1,#REF!,NA()),NA())","v":{"$error":"#REF!"}},{"$f":"IF(#REF!=$E$1,IF(#REF!=$G$1,#REF!,NA()),NA())","v":{"$error":"#REF!"}},{"$f":"IF(#REF!=$E$1,IF(#REF!=$G$1,IF(#REF!=\"\",NA(),#REF!),NA()),NA())","v":{"$error":"#REF!"}},{"$f":"IF(#REF!=$E$1,IF(#REF!=$G$1,IF(#REF!=\"\",NA(),#REF!),NA()),NA())","v":{"$error":"#REF!"}},{"$error":"#REF!"},{"$error":"#REF!"}]
[null,null,null,{"$f":"IF(#REF!=$E$1,IF(#REF!=$G$1,#REF!,NA()),NA())","v":{"$error":"#REF!"}},{"$f":"IF(#REF!=$E$1,IF(#REF!=$G$1,#REF!,NA()),NA())","v":{"$error":"#REF!"}},{"$f":"IF(#REF!=$E$1,IF(#REF!=$G$1,IF(#REF!=\"\",NA(),#REF!),NA()),NA())","v":{"$error":"#REF!"}},{"$f":"IF(#REF!=$E$1,IF(#REF!=$G$1,IF(#REF!=\"\",NA(),#REF!),NA()),NA())","v":{"$error":"#REF!"}},{"$error":"#REF!"},{"$error":"#REF!"}]
[null,null,null,{"$f":"IF(#REF!=$E$1,IF(#REF!=$G$1,#REF!,NA()),NA())","v":{"$error":"#REF!"}},{"$f":"IF(#REF!=$E$1,IF(#REF!=$G$1,#REF!,NA()),NA())","v":{"$error":"#REF!"}},{"$f":"IF(#REF!=$E$1,IF(#REF!=$G$1,IF(#REF!=\"\",NA(),#REF!),NA()),NA())","v":{"$error":"#REF!"}},{"$f":"IF(#REF!=$E$1,IF(#REF!=$G$1,IF(#REF!=\"\",NA(),#REF!),NA()),NA())","v":{"$error":"#REF!"}},{"$error":"#REF!"},{"$error":"#REF!"}]
[null,null,null,{"$f":"IF(#REF!=$E$1,IF(#REF!=$G$1,#REF!,NA()),NA())","v":{"$error":"#REF!"}},{"$f":"IF(#REF!=$E$1,IF(#REF!=$G$1,#REF!,NA()),NA())","v":{"$error":"#REF!"}},{"$f":"IF(#REF!=$E$1,IF(#REF!=$G$1,IF(#REF!=\"\",NA(),#REF!),NA()),NA())","v":{"$error":"#REF!"}},{"$f":"IF(#REF!=$E$1,IF(#REF!=$G$1,IF(#REF!=\"\",NA(),#REF!),NA()),NA())","v":{"$error":"#REF!"}},{"$error":"#REF!"},{"$error":"#REF!"}]
[null,null,null,{"$f":"IF(#REF!=$E$1,IF(#REF!=$G$1,#REF!,NA()),NA())","v":{"$error":"#REF!"}},{"$f":"IF(#REF!=$E$1,IF(#REF!=$G$1,#REF!,NA()),NA())","v":{"$error":"#REF!"}},{"$f":"IF(#REF!=$E$1,IF(#REF!=$G$1,IF(#REF!=\"\",NA(),#REF!),NA()),NA())","v":{"$error":"#REF!"}},{"$f":"IF(#REF!=$E$1,IF(#REF!=$G$1,IF(#REF!=\"\",NA(),#REF!),NA()),NA())","v":{"$error":"#REF!"}},{"$error":"#REF!"},{"$error":"#REF!"}]
[null,null,null,{"$f":"IF(#REF!=$E$1,IF(#REF!=$G$1,#REF!,NA()),NA())","v":{"$error":"#REF!"}},{"$f":"IF(#REF!=$E$1,IF(#REF!=$G$1,#REF!,NA()),NA())","v":{"$error":"#REF!"}},{"$f":"IF(#REF!=$E$1,IF(#REF!=$G$1,IF(#REF!=\"\",NA(),#REF!),NA()),NA())","v":{"$error":"#REF!"}},{"$f":"IF(#REF!=$E$1,IF(#REF!=$G$1,IF(#REF!=\"\",NA(),#REF!),NA()),NA())","v":{"$error":"#REF!"}},{"$error":"#REF!"},{"$error":"#REF!"}]
[null,null,null,{"$f":"IF(#REF!=$E$1,IF(#REF!=$G$1,#REF!,NA()),NA())","v":{"$error":"#REF!"}},{"$f":"IF(#REF!=$E$1,IF(#REF!=$G$1,#REF!,NA()),NA())","v":{"$error":"#REF!"}},{"$f":"IF(#REF!=$E$1,IF(#REF!=$G$1,IF(#REF!=\"\",NA(),#REF!),NA()),NA())","v":{"$error":"#REF!"}},{"$f":"IF(#REF!=$E$1,IF(#REF!=$G$1,IF(#REF!=\"\",NA(),#REF!),NA()),NA())","v":{"$error":"#REF!"}},{"$error":"#REF!"},{"$error":"#REF!"}]
[null,null,null,{"$f":"IF(#REF!=$E$1,IF(#REF!=$G$1,#REF!,NA()),NA())","v":{"$error":"#REF!"}},{"$f":"IF(#REF!=$E$1,IF(#REF!=$G$1,#REF!,NA()),NA())","v":{"$error":"#REF!"}},{"$f":"IF(#REF!=$E$1,IF(#REF!=$G$1,IF(#REF!=\"\",NA(),#REF!),NA()),NA())","v":{"$error":"#REF!"}},{"$f":"IF(#REF!=$E$1,IF(#REF!=$G$1,IF(#REF!=\"\",NA(),#REF!),NA()),NA())","v":{"$error":"#REF!"}},{"$error":"#REF!"},{"$error":"#REF!"}]
[null,null,null,{"$f":"IF(#REF!=$E$1,IF(#REF!=$G$1,#REF!,NA()),NA())","v":{"$error":"#REF!"}},{"$f":"IF(#REF!=$E$1,IF(#REF!=$G$1,#REF!,NA()),NA())","v":{"$error":"#REF!"}},{"$f":"IF(#REF!=$E$1,IF(#REF!=$G$1,IF(#REF!=\"\",NA(),#REF!),NA()),NA())","v":{"$error":"#REF!"}},{"$f":"IF(#REF!=$E$1,IF(#REF!=$G$1,IF(#REF!=\"\",NA(),#REF!),NA()),NA())","v":{"$error":"#REF!"}},{"$error":"#REF!"},{"$error":"#REF!"}]
[null,null,null,{"$f":"IF(#REF!=$E$1,IF(#REF!=$G$1,#REF!,NA()),NA())","v":{"$error":"#REF!"}},{"$f":"IF(#REF!=$E$1,IF(#REF!=$G$1,#REF!,NA()),NA())","v":{"$error":"#REF!"}},{"$f":"IF(#REF!=$E$1,IF(#REF!=$G$1,IF(#REF!=\"\",NA(),#REF!),NA()),NA())","v":{"$error":"#REF!"}},{"$f":"IF(#REF!=$E$1,IF(#REF!=$G$1,IF(#REF!=\"\",NA(),#REF!),NA()),NA())","v":{"$error":"#REF!"}},{"$error":"#REF!"},{"$error":"#REF!"}]
[null,null,null,{"$f":"IF(#REF!=$E$1,IF(#REF!=$G$1,#REF!,NA()),NA())","v":{"$error":"#REF!"}},{"$f":"IF(#REF!=$E$1,IF(#REF!=$G$1,#REF!,NA()),NA())","v":{"$error":"#REF!"}},{"$f":"IF(#REF!=$E$1,IF(#REF!=$G$1,IF(#REF!=\"\",NA(),#REF!),NA()),NA())","v":{"$error":"#REF!"}},{"$f":"IF(#REF!=$E$1,IF(#REF!=$G$1,IF(#REF!=\"\",NA(),#REF!),NA()),NA())","v":{"$error":"#REF!"}},{"$error":"#REF!"},{"$error":"#REF!"}]
[null,null,null,{"$f":"IF(#REF!=$E$1,IF(#REF!=$G$1,#REF!,NA()),NA())","v":{"$error":"#REF!"}},{"$f":"IF(#REF!=$E$1,IF(#REF!=$G$1,#REF!,NA()),NA())","v":{"$error":"#REF!"}},{"$f":"IF(#REF!=$E$1,IF(#REF!=$G$1,IF(#REF!=\"\",NA(),#REF!),NA()),NA())","v":{"$error":"#REF!"}},{"$f":"IF(#REF!=$E$1,IF(#REF!=$G$1,IF(#REF!=\"\",NA(),#REF!),NA()),NA())","v":{"$error":"#REF!"}},{"$error":"#REF!"},{"$error":"#REF!"}]
[null,null,null,{"$f":"IF(#REF!=$E$1,IF(#REF!=$G$1,#REF!,NA()),NA())","v":{"$error":"#REF!"}},{"$f":"IF(#REF!=$E$1,IF(#REF!=$G$1,#REF!,NA()),NA())","v":{"$error":"#REF!"}},{"$f":"IF(#REF!=$E$1,IF(#REF!=$G$1,IF(#REF!=\"\",NA(),#REF!),NA()),NA())","v":{"$error":"#REF!"}},{"$f":"IF(#REF!=$E$1,IF(#REF!=$G$1,IF(#REF!=\"\",NA(),#REF!),NA()),NA())","v":{"$error":"#REF!"}},{"$error":"#REF!"},{"$error":"#REF!"}]
[null,null,null,{"$f":"IF(#REF!=$E$1,IF(#REF!=$G$1,#REF!,NA()),NA())","v":{"$error":"#REF!"}},{"$f":"IF(#REF!=$E$1,IF(#REF!=$G$1,#REF!,NA()),NA())","v":{"$error":"#REF!"}},{"$f":"IF(#REF!=$E$1,IF(#REF!=$G$1,IF(#REF!=\"\",NA(),#REF!),NA()),NA())","v":{"$error":"#REF!"}},{"$f":"IF(#REF!=$E$1,IF(#REF!=$G$1,IF(#REF!=\"\",NA(),#REF!),NA()),NA())","v":{"$error":"#REF!"}},{"$error":"#REF!"},{"$error":"#REF!"}]
[null,null,null,{"$f":"IF(#REF!=$E$1,IF(#REF!=$G$1,#REF!,NA()),NA())","v":{"$error":"#REF!"}},{"$f":"IF(#REF!=$E$1,IF(#REF!=$G$1,#REF!,NA()),NA())","v":{"$error":"#REF!"}},{"$f":"IF(#REF!=$E$1,IF(#REF!=$G$1,IF(#REF!=\"\",NA(),#REF!),NA()),NA())","v":{"$error":"#REF!"}},{"$f":"IF(#REF!=$E$1,IF(#REF!=$G$1,IF(#REF!=\"\",NA(),#REF!),NA()),NA())","v":{"$error":"#REF!"}},{"$error":"#REF!"},{"$error":"#REF!"}]
[null,null,null,{"$f":"IF(#REF!=$E$1,IF(#REF!=$G$1,#REF!,NA()),NA())","v":{"$error":"#REF!"}},{"$f":"IF(#REF!=$E$1,IF(#REF!=$G$1,#REF!,NA()),NA())","v":{"$error":"#REF!"}},{"$f":"IF(#REF!=$E$1,IF(#REF!=$G$1,IF(#REF!=\"\",NA(),#REF!),NA()),NA())","v":{"$error":"#REF!"}},{"$f":"IF(#REF!=$E$1,IF(#REF!=$G$1,IF(#REF!=\"\",NA(),#REF!),NA()),NA())","v":{"$error":"#REF!"}},{"$error":"#REF!"},{"$error":"#REF!"}]
[null,null,null,{"$f":"IF(#REF!=$E$1,IF(#REF!=$G$1,#REF!,NA()),NA())","v":{"$error":"#REF!"}},{"$f":"IF(#REF!=$E$1,IF(#REF!=$G$1,#REF!,NA()),NA())","v":{"$error":"#REF!"}},{"$f":"IF(#REF!=$E$1,IF(#REF!=$G$1,IF(#REF!=\"\",NA(),#REF!),NA()),NA())","v":{"$error":"#REF!"}},{"$f":"IF(#REF!=$E$1,IF(#REF!=$G$1,IF(#REF!=\"\",NA(),#REF!),NA()),NA())","v":{"$error":"#REF!"}},{"$error":"#REF!"},{"$error":"#REF!"}]
[null,null,null,{"$f":"IF(#REF!=$E$1,IF(#REF!=$G$1,#REF!,NA()),NA())","v":{"$error":"#REF!"}},{"$f":"IF(#REF!=$E$1,IF(#REF!=$G$1,#REF!,NA()),NA())","v":{"$error":"#REF!"}},{"$f":"IF(#REF!=$E$1,IF(#REF!=$G$1,IF(#REF!=\"\",NA(),#REF!),NA()),NA())","v":{"$error":"#REF!"}},{"$f":"IF(#REF!=$E$1,IF(#REF!=$G$1,IF(#REF!=\"\",NA(),#REF!),NA()),NA())","v":{"$error":"#REF!"}},{"$error":"#REF!"},{"$error":"#REF!"}]
[null,null,null,{"$f":"IF(#REF!=$E$1,IF(#REF!=$G$1,#REF!,NA()),NA())","v":{"$error":"#REF!"}},{"$f":"IF(#REF!=$E$1,IF(#REF!=$G$1,#REF!,NA()),NA())","v":{"$error":"#REF!"}},{"$f":"IF(#REF!=$E$1,IF(#REF!=$G$1,IF(#REF!=\"\",NA(),#REF!),NA()),NA())","v":{"$error":"#REF!"}},{"$f":"IF(#REF!=$E$1,IF(#REF!=$G$1,IF(#REF!=\"\",NA(),#REF!),NA()),NA())","v":{"$error":"#REF!"}},{"$error":"#REF!"},{"$error":"#REF!"}]
[null,null,null,{"$f":"IF(#REF!=$E$1,IF(#REF!=$G$1,#REF!,NA()),NA())","v":{"$error":"#REF!"}},{"$f":"IF(#REF!=$E$1,IF(#REF!=$G$1,#REF!,NA()),NA())","v":{"$error":"#REF!"}},{"$f":"IF(#REF!=$E$1,IF(#REF!=$G$1,IF(#REF!=\"\",NA(),#REF!),NA()),NA())","v":{"$error":"#REF!"}},{"$f":"IF(#REF!=$E$1,IF(#REF!=$G$1,IF(#REF!=\"\",NA(),#REF!),NA()),NA())","v":{"$error":"#REF!"}},{"$error":"#REF!"},{"$error":"#REF!"}]
[null,null,null,{"$f":"IF(#REF!=$E$1,IF(#REF!=$G$1,#REF!,NA()),NA())","v":{"$error":"#REF!"}},{"$f":"IF(#REF!=$E$1,IF(#REF!=$G$1,#REF!,NA()),NA())","v":{"$error":"#REF!"}},{"$f":"IF(#REF!=$E$1,IF(#REF!=$G$1,IF(#REF!=\"\",NA(),#REF!),NA()),NA())","v":{"$error":"#REF!"}},{"$f":"IF(#REF!=$E$1,IF(#REF!=$G$1,IF(#REF!=\"\",NA(),#REF!),NA()),NA())","v":{"$error":"#REF!"}},{"$error":"#REF!"},{"$error":"#REF!"}]
[null,null,null,{"$f":"IF(#REF!=$E$1,IF(#REF!=$G$1,#REF!,NA()),NA())","v":{"$error":"#REF!"}},{"$f":"IF(#REF!=$E$1,IF(#REF!=$G$1,#REF!,NA()),NA())","v":{"$error":"#REF!"}},{"$f":"IF(#REF!=$E$1,IF(#REF!=$G$1,IF(#REF!=\"\",NA(),#REF!),NA()),NA())","v":{"$error":"#REF!"}},{"$f":"IF(#REF!=$E$1,IF(#REF!=$G$1,IF(#REF!=\"\",NA(),#REF!),NA()),NA())","v":{"$error":"#REF!"}},{"$error":"#REF!"},{"$error":"#REF!"}]
[null,null,null,{"$f":"IF(#REF!=$E$1,IF(#REF!=$G$1,#REF!,NA()),NA())","v":{"$error":"#REF!"}},{"$f":"IF(#REF!=$E$1,IF(#REF!=$G$1,#REF!,NA()),NA())","v":{"$error":"#REF!"}},{"$f":"IF(#REF!=$E$1,IF(#REF!=$G$1,IF(#REF!=\"\",NA(),#REF!),NA()),NA())","v":{"$error":"#REF!"}},{"$f":"IF(#REF!=$E$1,IF(#REF!=$G$1,IF(#REF!=\"\",NA(),#REF!),NA()),NA())","v":{"$error":"#REF!"}},{"$error":"#REF!"},{"$error":"#REF!"}]
[null,null,null,{"$f":"IF(#REF!=$E$1,IF(#REF!=$G$1,#REF!,NA()),NA())","v":{"$error":"#REF!"}},{"$f":"IF(#REF!=$E$1,IF(#REF!=$G$1,#REF!,NA()),NA())","v":{"$error":"#REF!"}},{"$f":"IF(#REF!=$E$1,IF(#REF!=$G$1,IF(#REF!=\"\",NA(),#REF!),NA()),NA())","v":{"$error":"#REF!"}},{"$f":"IF(#REF!=$E$1,IF(#REF!=$G$1,IF(#REF!=\"\",NA(),#REF!),NA()),NA())","v":{"$error":"#REF!"}},{"$error":"#REF!"},{"$error":"#REF!"}]
[null,null,null,{"$f":"IF(#REF!=$E$1,IF(#REF!=$G$1,#REF!,NA()),NA())","v":{"$error":"#REF!"}},{"$f":"IF(#REF!=$E$1,IF(#REF!=$G$1,#REF!,NA()),NA())","v":{"$error":"#REF!"}},{"$f":"IF(#REF!=$E$1,IF(#REF!=$G$1,IF(#REF!=\"\",NA(),#REF!),NA()),NA())","v":{"$error":"#REF!"}},{"$f":"IF(#REF!=$E$1,IF(#REF!=$G$1,IF(#REF!=\"\",NA(),#REF!),NA()),NA())","v":{"$error":"#REF!"}},{"$error":"#REF!"},{"$error":"#REF!"}]
[null,null,null,{"$f":"IF(#REF!=$E$1,IF(#REF!=$G$1,#REF!,NA()),NA())","v":{"$error":"#REF!"}},{"$f":"IF(#REF!=$E$1,IF(#REF!=$G$1,#REF!,NA()),NA())","v":{"$error":"#REF!"}},{"$f":"IF(#REF!=$E$1,IF(#REF!=$G$1,IF(#REF!=\"\",NA(),#REF!),NA()),NA())","v":{"$error":"#REF!"}},{"$f":"IF(#REF!=$E$1,IF(#REF!=$G$1,IF(#REF!=\"\",NA(),#REF!),NA()),NA())","v":{"$error":"#REF!"}},{"$error":"#REF!"},{"$error":"#REF!"}]
[null,null,null,{"$f":"IF(#REF!=$E$1,IF(#REF!=$G$1,#REF!,NA()),NA())","v":{"$error":"#REF!"}},{"$f":"IF(#REF!=$E$1,IF(#REF!=$G$1,#REF!,NA()),NA())","v":{"$error":"#REF!"}},{"$f":"IF(#REF!=$E$1,IF(#REF!=$G$1,IF(#REF!=\"\",NA(),#REF!),NA()),NA())","v":{"$error":"#REF!"}},{"$f":"IF(#REF!=$E$1,IF(#REF!=$G$1,IF(#REF!=\"\",NA(),#REF!),NA()),NA())","v":{"$error":"#REF!"}},{"$error":"#REF!"},{"$error":"#REF!"}]
[null,null,null,{"$f":"IF(#REF!=$E$1,IF(#REF!=$G$1,#REF!,NA()),NA())","v":{"$error":"#REF!"}},{"$f":"IF(#REF!=$E$1,IF(#REF!=$G$1,#REF!,NA()),NA())","v":{"$error":"#REF!"}},{"$f":"IF(#REF!=$E$1,IF(#REF!=$G$1,IF(#REF!=\"\",NA(),#REF!),NA()),NA())","v":{"$error":"#REF!"}},{"$f":"IF(#REF!=$E$1,IF(#REF!=$G$1,IF(#REF!=\"\",NA(),#REF!),NA()),NA())","v":{"$error":"#REF!"}},{"$error":"#REF!"},{"$error":"#REF!"}]
[null,null,null,{"$f":"IF(#REF!=$E$1,IF(#REF!=$G$1,#REF!,NA()),NA())","v":{"$error":"#REF!"}},{"$f":"IF(#REF!=$E$1,IF(#REF!=$G$1,#REF!,NA()),NA())","v":{"$error":"#REF!"}},{"$f":"IF(#REF!=$E$1,IF(#REF!=$G$1,IF(#REF!=\"\",NA(),#REF!),NA()),NA())","v":{"$error":"#REF!"}},{"$f":"IF(#REF!=$E$1,IF(#REF!=$G$1,IF(#REF!=\"\",NA(),#REF!),NA()),NA())","v":{"$error":"#REF!"}},{"$error":"#REF!"},{"$error":"#REF!"}]
[null,null,null,{"$f":"IF(#REF!=$E$1,IF(#REF!=$G$1,#REF!,NA()),NA())","v":{"$error":"#REF!"}},{"$f":"IF(#REF!=$E$1,IF(#REF!=$G$1,#REF!,NA()),NA())","v":{"$error":"#REF!"}},{"$f":"IF(#REF!=$E$1,IF(#REF!=$G$1,IF(#REF!=\"\",NA(),#REF!),NA()),NA())","v":{"$error":"#REF!"}},{"$f":"IF(#REF!=$E$1,IF(#REF!=$G$1,IF(#REF!=\"\",NA(),#REF!),NA()),NA())","v":{"$error":"#REF!"}},{"$error":"#REF!"},{"$error":"#REF!"}]
[null,null,null,{"$f":"IF(#REF!=$E$1,IF(#REF!=$G$1,#REF!,NA()),NA())","v":{"$error":"#REF!"}},{"$f":"IF(#REF!=$E$1,IF(#REF!=$G$1,#REF!,NA()),NA())","v":{"$error":"#REF!"}},{"$f":"IF(#REF!=$E$1,IF(#REF!=$G$1,IF(#REF!=\"\",NA(),#REF!),NA()),NA())","v":{"$error":"#REF!"}},{"$f":"IF(#REF!=$E$1,IF(#REF!=$G$1,IF(#REF!=\"\",NA(),#REF!),NA()),NA())","v":{"$error":"#REF!"}},{"$error":"#REF!"},{"$error":"#REF!"}]
[null,null,null,{"$f":"IF(#REF!=$E$1,IF(#REF!=$G$1,#REF!,NA()),NA())","v":{"$error":"#REF!"}},{"$f":"IF(#REF!=$E$1,IF(#REF!=$G$1,#REF!,NA()),NA())","v":{"$error":"#REF!"}},{"$f":"IF(#REF!=$E$1,IF(#REF!=$G$1,IF(#REF!=\"\",NA(),#REF!),NA()),NA())","v":{"$error":"#REF!"}},{"$f":"IF(#REF!=$E$1,IF(#REF!=$G$1,IF(#REF!=\"\",NA(),#REF!),NA()),NA())","v":{"$error":"#REF!"}},{"$error":"#REF!"},{"$error":"#REF!"}]
[null,null,null,{"$f":"IF(#REF!=$E$1,IF(#REF!=$G$1,#REF!,NA()),NA())","v":{"$error":"#REF!"}},{"$f":"IF(#REF!=$E$1,IF(#REF!=$G$1,#REF!,NA()),NA())","v":{"$error":"#REF!"}},{"$f":"IF(#REF!=$E$1,IF(#REF!=$G$1,IF(#REF!=\"\",NA(),#REF!),NA()),NA())","v":{"$error":"#REF!"}},{"$f":"IF(#REF!=$E$1,IF(#REF!=$G$1,IF(#REF!=\"\",NA(),#REF!),NA()),NA())","v":{"$error":"#REF!"}},{"$error":"#REF!"},{"$error":"#REF!"}]
[null,null,null,{"$f":"IF(#REF!=$E$1,IF(#REF!=$G$1,#REF!,NA()),NA())","v":{"$error":"#REF!"}},{"$f":"IF(#REF!=$E$1,IF(#REF!=$G$1,#REF!,NA()),NA())","v":{"$error":"#REF!"}},{"$f":"IF(#REF!=$E$1,IF(#REF!=$G$1,IF(#REF!=\"\",NA(),#REF!),NA()),NA())","v":{"$error":"#REF!"}},{"$f":"IF(#REF!=$E$1,IF(#REF!=$G$1,IF(#REF!=\"\",NA(),#REF!),NA()),NA())","v":{"$error":"#REF!"}},{"$error":"#REF!"},{"$error":"#REF!"}]
[null,null,null,{"$f":"IF(#REF!=$E$1,IF(#REF!=$G$1,#REF!,NA()),NA())","v":{"$error":"#REF!"}},{"$f":"IF(#REF!=$E$1,IF(#REF!=$G$1,#REF!,NA()),NA())","v":{"$error":"#REF!"}},{"$f":"IF(#REF!=$E$1,IF(#REF!=$G$1,IF(#REF!=\"\",NA(),#REF!),NA()),NA())","v":{"$error":"#REF!"}},{"$f":"IF(#REF!=$E$1,IF(#REF!=$G$1,IF(#REF!=\"\",NA(),#REF!),NA()),NA())","v":{"$error":"#REF!"}},{"$error":"#REF!"},{"$error":"#REF!"}]
[null,null,null,{"$f":"IF(#REF!=$E$1,IF(#REF!=$G$1,#REF!,NA()),NA())","v":{"$error":"#REF!"}},{"$f":"IF(#REF!=$E$1,IF(#REF!=$G$1,#REF!,NA()),NA())","v":{"$error":"#REF!"}},{"$f":"IF(#REF!=$E$1,IF(#REF!=$G$1,IF(#REF!=\"\",NA(),#REF!),NA()),NA())","v":{"$error":"#REF!"}},{"$f":"IF(#REF!=$E$1,IF(#REF!=$G$1,IF(#REF!=\"\",NA(),#REF!),NA()),NA())","v":{"$error":"#REF!"}},{"$error":"#REF!"},{"$error":"#REF!"}]
[null,null,null,{"$f":"IF(#REF!=$E$1,IF(#REF!=$G$1,#REF!,NA()),NA())","v":{"$error":"#REF!"}},{"$f":"IF(#REF!=$E$1,IF(#REF!=$G$1,#REF!,NA()),NA())","v":{"$error":"#REF!"}},{"$f":"IF(#REF!=$E$1,IF(#REF!=$G$1,IF(#REF!=\"\",NA(),#REF!),NA()),NA())","v":{"$error":"#REF!"}},{"$f":"IF(#REF!=$E$1,IF(#REF!=$G$1,IF(#REF!=\"\",NA(),#REF!),NA()),NA())","v":{"$error":"#REF!"}},{"$error":"#REF!"},{"$error":"#REF!"}]
[null,null,null,{"$f":"IF(#REF!=$E$1,IF(#REF!=$G$1,#REF!,NA()),NA())","v":{"$error":"#REF!"}},{"$f":"IF(#REF!=$E$1,IF(#REF!=$G$1,#REF!,NA()),NA())","v":{"$error":"#REF!"}},{"$f":"IF(#REF!=$E$1,IF(#REF!=$G$1,IF(#REF!=\"\",NA(),#REF!),NA()),NA())","v":{"$error":"#REF!"}},{"$f":"IF(#REF!=$E$1,IF(#REF!=$G$1,IF(#REF!=\"\",NA(),#REF!),NA()),NA())","v":{"$error":"#REF!"}},{"$error":"#REF!"},{"$error":"#REF!"}]
[null,null,null,{"$f":"IF(#REF!=$E$1,IF(#REF!=$G$1,#REF!,NA()),NA())","v":{"$error":"#REF!"}},{"$f":"IF(#REF!=$E$1,IF(#REF!=$G$1,#REF!,NA()),NA())","v":{"$error":"#REF!"}},{"$f":"IF(#REF!=$E$1,IF(#REF!=$G$1,IF(#REF!=\"\",NA(),#REF!),NA()),NA())","v":{"$error":"#REF!"}},{"$f":"IF(#REF!=$E$1,IF(#REF!=$G$1,IF(#REF!=\"\",NA(),#REF!),NA()),NA())","v":{"$error":"#REF!"}},{"$error":"#REF!"},{"$error":"#REF!"}]
[null,null,null,{"$f":"IF(#REF!=$E$1,IF(#REF!=$G$1,#REF!,NA()),NA())","v":{"$error":"#REF!"}},{"$f":"IF(#REF!=$E$1,IF(#REF!=$G$1,#REF!,NA()),NA())","v":{"$error":"#REF!"}},{"$f":"IF(#REF!=$E$1,IF(#REF!=$G$1,IF(#REF!=\"\",NA(),#REF!),NA()),NA())","v":{"$error":"#REF!"}},{"$f":"IF(#REF!=$E$1,IF(#REF!=$G$1,IF(#REF!=\"\",NA(),#REF!),NA()),NA())","v":{"$error":"#REF!"}},{"$error":"#REF!"},{"$error":"#REF!"}]
[null,null,null,{"$f":"IF(#REF!=$E$1,IF(#REF!=$G$1,#REF!,NA()),NA())","v":{"$error":"#REF!"}},{"$f":"IF(#REF!=$E$1,IF(#REF!=$G$1,#REF!,NA()),NA())","v":{"$error":"#REF!"}},{"$f":"IF(#REF!=$E$1,IF(#REF!=$G$1,IF(#REF!=\"\",NA(),#REF!),NA()),NA())","v":{"$error":"#REF!"}},{"$f":"IF(#REF!=$E$1,IF(#REF!=$G$1,IF(#REF!=\"\",NA(),#REF!),NA()),NA())","v":{"$error":"#REF!"}},{"$error":"#REF!"},{"$error":"#REF!"}]
[null,null,null,{"$f":"IF(#REF!=$E$1,IF(#REF!=$G$1,#REF!,NA()),NA())","v":{"$error":"#REF!"}},{"$f":"IF(#REF!=$E$1,IF(#REF!=$G$1,#REF!,NA()),NA())","v":{"$error":"#REF!"}},{"$f":"IF(#REF!=$E$1,IF(#REF!=$G$1,IF(#REF!=\"\",NA(),#REF!),NA()),NA())","v":{"$error":"#REF!"}},{"$f":"IF(#REF!=$E$1,IF(#REF!=$G$1,IF(#REF!=\"\",NA(),#REF!),NA()),NA())","v":{"$error":"#REF!"}},{"$error":"#REF!"},{"$error":"#REF!"}]
[null,null,null,{"$f":"IF(#REF!=$E$1,IF(#REF!=$G$1,#REF!,NA()),NA())","v":{"$error":"#REF!"}},{"$f":"IF(#REF!=$E$1,IF(#REF!=$G$1,#REF!,NA()),NA())","v":{"$error":"#REF!"}},{"$f":"IF(#REF!=$E$1,IF(#REF!=$G$1,IF(#REF!=\"\",NA(),#REF!),NA()),NA())","v":{"$error":"#REF!"}},{"$f":"IF(#REF!=$E$1,IF(#REF!=$G$1,IF(#REF!=\"\",NA(),#REF!),NA()),NA())","v":{"$error":"#REF!"}},{"$error":"#REF!"},{"$error":"#REF!"}]
[null,null,null,{"$f":"IF(#REF!=$E$1,IF(#REF!=$G$1,#REF!,NA()),NA())","v":{"$error":"#REF!"}},{"$f":"IF(#REF!=$E$1,IF(#REF!=$G$1,#REF!,NA()),NA())","v":{"$error":"#REF!"}},{"$f":"IF(#REF!=$E$1,IF(#REF!=$G$1,IF(#REF!=\"\",NA(),#REF!),NA()),NA())","v":{"$error":"#REF!"}},{"$f":"IF(#REF!=$E$1,IF(#REF!=$G$1,IF(#REF!=\"\",NA(),#REF!),NA()),NA())","v":{"$error":"#REF!"}},{"$error":"#REF!"},{"$error":"#REF!"}]
[null,null,null,{"$f":"IF(#REF!=$E$1,IF(#REF!=$G$1,#REF!,NA()),NA())","v":{"$error":"#REF!"}},{"$f":"IF(#REF!=$E$1,IF(#REF!=$G$1,#REF!,NA()),NA())","v":{"$error":"#REF!"}},{"$f":"IF(#REF!=$E$1,IF(#REF!=$G$1,IF(#REF!=\"\",NA(),#REF!),NA()),NA())","v":{"$error":"#REF!"}},{"$f":"IF(#REF!=$E$1,IF(#REF!=$G$1,IF(#REF!=\"\",NA(),#REF!),NA()),NA())","v":{"$error":"#REF!"}},{"$error":"#REF!"},{"$error":"#REF!"}]
[null,null,null,{"$f":"IF(#REF!=$E$1,IF(#REF!=$G$1,#REF!,NA()),NA())","v":{"$error":"#REF!"}},{"$f":"IF(#REF!=$E$1,IF(#REF!=$G$1,#REF!,NA()),NA())","v":{"$error":"#REF!"}},{"$f":"IF(#REF!=$E$1,IF(#REF!=$G$1,IF(#REF!=\"\",NA(),#REF!),NA()),NA())","v":{"$error":"#REF!"}},{"$f":"IF(#REF!=$E$1,IF(#REF!=$G$1,IF(#REF!=\"\",NA(),#REF!),NA()),NA())","v":{"$error":"#REF!"}},{"$error":"#REF!"},{"$error":"#REF!"}]
[null,null,null,{"$f":"IF(#REF!=$E$1,IF(#REF!=$G$1,#REF!,NA()),NA())","v":{"$error":"#REF!"}},{"$f":"IF(#REF!=$E$1,IF(#REF!=$G$1,#REF!,NA()),NA())","v":{"$error":"#REF!"}},{"$f":"IF(#REF!=$E$1,IF(#REF!=$G$1,IF(#REF!=\"\",NA(),#REF!),NA()),NA())","v":{"$error":"#REF!"}},{"$f":"IF(#REF!=$E$1,IF(#REF!=$G$1,IF(#REF!=\"\",NA(),#REF!),NA()),NA())","v":{"$error":"#REF!"}},{"$error":"#REF!"},{"$error":"#REF!"}]
[null,null,null,{"$f":"IF(#REF!=$E$1,IF(#REF!=$G$1,#REF!,NA()),NA())","v":{"$error":"#REF!"}},{"$f":"IF(#REF!=$E$1,IF(#REF!=$G$1,#REF!,NA()),NA())","v":{"$error":"#REF!"}},{"$f":"IF(#REF!=$E$1,IF(#REF!=$G$1,IF(#REF!=\"\",NA(),#REF!),NA()),NA())","v":{"$error":"#REF!"}},{"$f":"IF(#REF!=$E$1,IF(#REF!=$G$1,IF(#REF!=\"\",NA(),#REF!),NA()),NA())","v":{"$error":"#REF!"}},{"$error":"#REF!"},{"$error":"#REF!"}]
[null,null,null,{"$f":"IF(#REF!=$E$1,IF(#REF!=$G$1,#REF!,NA()),NA())","v":{"$error":"#REF!"}},{"$f":"IF(#REF!=$E$1,IF(#REF!=$G$1,#REF!,NA()),NA())","v":{"$error":"#REF!"}},{"$f":"IF(#REF!=$E$1,IF(#REF!=$G$1,IF(#REF!=\"\",NA(),#REF!),NA()),NA())","v":{"$error":"#REF!"}},{"$f":"IF(#REF!=$E$1,IF(#REF!=$G$1,IF(#REF!=\"\",NA(),#REF!),NA()),NA())","v":{"$error":"#REF!"}},{"$error":"#REF!"},{"$error":"#REF!"}]
[null,null,null,{"$f":"IF(#REF!=$E$1,IF(#REF!=$G$1,#REF!,NA()),NA())","v":{"$error":"#REF!"}},{"$f":"IF(#REF!=$E$1,IF(#REF!=$G$1,#REF!,NA()),NA())","v":{"$error":"#REF!"}},{"$f":"IF(#REF!=$E$1,IF(#REF!=$G$1,IF(#REF!=\"\",NA(),#REF!),NA()),NA())","v":{"$error":"#REF!"}},{"$f":"IF(#REF!=$E$1,IF(#REF!=$G$1,IF(#REF!=\"\",NA(),#REF!),NA()),NA())","v":{"$error":"#REF!"}},{"$error":"#REF!"},{"$error":"#REF!"}]
[null,null,null,{"$f":"IF(#REF!=$E$1,IF(#REF!=$G$1,#REF!,NA()),NA())","v":{"$error":"#REF!"}},{"$f":"IF(#REF!=$E$1,IF(#REF!=$G$1,#REF!,NA()),NA())","v":{"$error":"#REF!"}},{"$f":"IF(#REF!=$E$1,IF(#REF!=$G$1,IF(#REF!=\"\",NA(),#REF!),NA()),NA())","v":{"$error":"#REF!"}},{"$f":"IF(#REF!=$E$1,IF(#REF!=$G$1,IF(#REF!=\"\",NA(),#REF!),NA()),NA())","v":{"$error":"#REF!"}},{"$error":"#REF!"},{"$error":"#REF!"}]
[null,null,null,{"$f":"IF(#REF!=$E$1,IF(#REF!=$G$1,#REF!,NA()),NA())","v":{"$error":"#REF!"}},{"$f":"IF(#REF!=$E$1,IF(#REF!=$G$1,#REF!,NA()),NA())","v":{"$error":"#REF!"}},{"$f":"IF(#REF!=$E$1,IF(#REF!=$G$1,IF(#REF!=\"\",NA(),#REF!),NA()),NA())","v":{"$error":"#REF!"}},{"$f":"IF(#REF!=$E$1,IF(#REF!=$G$1,IF(#REF!=\"\",NA(),#REF!),NA()),NA())","v":{"$error":"#REF!"}},{"$error":"#REF!"},{"$error":"#REF!"}]
[null,null,null,{"$f":"IF(#REF!=$E$1,IF(#REF!=$G$1,#REF!,NA()),NA())","v":{"$error":"#REF!"}},{"$f":"IF(#REF!=$E$1,IF(#REF!=$G$1,#REF!,NA()),NA())","v":{"$error":"#REF!"}},{"$f":"IF(#REF!=$E$1,IF(#REF!=$G$1,IF(#REF!=\"\",NA(),#REF!),NA()),NA())","v":{"$error":"#REF!"}},{"$f":"IF(#REF!=$E$1,IF(#REF!=$G$1,IF(#REF!=\"\",NA(),#REF!),NA()),NA())","v":{"$error":"#REF!"}},{"$error":"#REF!"},{"$error":"#REF!"}]
[null,null,null,{"$f":"IF(#REF!=$E$1,IF(#REF!=$G$1,#REF!,NA()),NA())","v":{"$error":"#REF!"}},{"$f":"IF(#REF!=$E$1,IF(#REF!=$G$1,#REF!,NA()),NA())","v":{"$error":"#REF!"}},{"$f":"IF(#REF!=$E$1,IF(#REF!=$G$1,IF(#REF!=\"\",NA(),#REF!),NA()),NA())","v":{"$error":"#REF!"}},{"$f":"IF(#REF!=$E$1,IF(#REF!=$G$1,IF(#REF!=\"\",NA(),#REF!),NA()),NA())","v":{"$error":"#REF!"}},{"$error":"#REF!"},{"$error":"#REF!"}]
[null,null,null,{"$f":"IF(#REF!=$E$1,IF(#REF!=$G$1,#REF!,NA()),NA())","v":{"$error":"#REF!"}},{"$f":"IF(#REF!=$E$1,IF(#REF!=$G$1,#REF!,NA()),NA())","v":{"$error":"#REF!"}},{"$f":"IF(#REF!=$E$1,IF(#REF!=$G$1,IF(#REF!=\"\",NA(),#REF!),NA()),NA())","v":{"$error":"#REF!"}},{"$f":"IF(#REF!=$E$1,IF(#REF!=$G$1,IF(#REF!=\"\",NA(),#REF!),NA()),NA())","v":{"$error":"#REF!"}},{"$error":"#REF!"},{"$error":"#REF!"}]
[null,null,null,{"$f":"IF(#REF!=$E$1,IF(#REF!=$G$1,#REF!,NA()),NA())","v":{"$error":"#REF!"}},{"$f":"IF(#REF!=$E$1,IF(#REF!=$G$1,#REF!,NA()),NA())","v":{"$error":"#REF!"}},{"$f":"IF(#REF!=$E$1,IF(#REF!=$G$1,IF(#REF!=\"\",NA(),#REF!),NA()),NA())","v":{"$error":"#REF!"}},{"$f":"IF(#REF!=$E$1,IF(#REF!=$G$1,IF(#REF!=\"\",NA(),#REF!),NA()),NA())","v":{"$error":"#REF!"}},{"$error":"#REF!"},{"$error":"#REF!"}]
[null,null,null,{"$f":"IF(#REF!=$E$1,IF(#REF!=$G$1,#REF!,NA()),NA())","v":{"$error":"#REF!"}},{"$f":"IF(#REF!=$E$1,IF(#REF!=$G$1,#REF!,NA()),NA())","v":{"$error":"#REF!"}},{"$f":"IF(#REF!=$E$1,IF(#REF!=$G$1,IF(#REF!=\"\",NA(),#REF!),NA()),NA())","v":{"$error":"#REF!"}},{"$f":"IF(#REF!=$E$1,IF(#REF!=$G$1,IF(#REF!=\"\",NA(),#REF!),NA()),NA())","v":{"$error":"#REF!"}},{"$error":"#REF!"},{"$error":"#REF!"}]
[null,null,null,{"$f":"IF(#REF!=$E$1,IF(#REF!=$G$1,#REF!,NA()),NA())","v":{"$error":"#REF!"}},{"$f":"IF(#REF!=$E$1,IF(#REF!=$G$1,#REF!,NA()),NA())","v":{"$error":"#REF!"}},{"$f":"IF(#REF!=$E$1,IF(#REF!=$G$1,IF(#REF!=\"\",NA(),#REF!),NA()),NA())","v":{"$error":"#REF!"}},{"$f":"IF(#REF!=$E$1,IF(#REF!=$G$1,IF(#REF!=\"\",NA(),#REF!),NA()),NA())","v":{"$error":"#REF!"}},{"$f":"IF(AND(ISNUMBER(G964),F964=\"-\"),0,F964)","v":{"$error":"#REF!"}},{"$f":"IF(AND(ISNUMBER(F964),G964=\"-\"),0,G964)","v":{"$error":"#REF!"}}]
[null,null,null,{"$f":"IF(#REF!=$E$1,IF(#REF!=$G$1,#REF!,NA()),NA())","v":{"$error":"#REF!"}},{"$f":"IF(#REF!=$E$1,IF(#REF!=$G$1,#REF!,NA()),NA())","v":{"$error":"#REF!"}},{"$f":"IF(#REF!=$E$1,IF(#REF!=$G$1,IF(#REF!=\"\",NA(),#REF!),NA()),NA())","v":{"$error":"#REF!"}},{"$f":"IF(#REF!=$E$1,IF(#REF!=$G$1,IF(#REF!=\"\",NA(),#REF!),NA()),NA())","v":{"$error":"#REF!"}},{"$error":"#REF!"},{"$error":"#REF!"}]
[null,null,null,{"$f":"IF(#REF!=$E$1,IF(#REF!=$G$1,#REF!,NA()),NA())","v":{"$error":"#REF!"}},{"$f":"IF(#REF!=$E$1,IF(#REF!=$G$1,#REF!,NA()),NA())","v":{"$error":"#REF!"}},{"$f":"IF(#REF!=$E$1,IF(#REF!=$G$1,IF(#REF!=\"\",NA(),#REF!),NA()),NA())","v":{"$error":"#REF!"}},{"$f":"IF(#REF!=$E$1,IF(#REF!=$G$1,IF(#REF!=\"\",NA(),#REF!),NA()),NA())","v":{"$error":"#REF!"}},{"$error":"#REF!"},{"$error":"#REF!"}]
[null,null,null,{"$f":"IF(#REF!=$E$1,IF(#REF!=$G$1,#REF!,NA()),NA())","v":{"$error":"#REF!"}},{"$f":"IF(#REF!=$E$1,IF(#REF!=$G$1,#REF!,NA()),NA())","v":{"$error":"#REF!"}},{"$f":"IF(#REF!=$E$1,IF(#REF!=$G$1,IF(#REF!=\"\",NA(),#REF!),NA()),NA())","v":{"$error":"#REF!"}},{"$f":"IF(#REF!=$E$1,IF(#REF!=$G$1,IF(#REF!=\"\",NA(),#REF!),NA()),NA())","v":{"$error":"#REF!"}},{"$error":"#REF!"},{"$error":"#REF!"}]
[null,null,null,{"$f":"IF(#REF!=$E$1,IF(#REF!=$G$1,#REF!,NA()),NA())","v":{"$error":"#REF!"}},{"$f":"IF(#REF!=$E$1,IF(#REF!=$G$1,#REF!,NA()),NA())","v":{"$error":"#REF!"}},{"$f":"IF(#REF!=$E$1,IF(#REF!=$G$1,IF(#REF!=\"\",NA(),#REF!),NA()),NA())","v":{"$error":"#REF!"}},{"$f":"IF(#REF!=$E$1,IF(#REF!=$G$1,IF(#REF!=\"\",NA(),#REF!),NA()),NA())","v":{"$error":"#REF!"}},{"$error":"#REF!"},{"$error":"#REF!"}]
[null,null,null,{"$f":"IF(#REF!=$E$1,IF(#REF!=$G$1,#REF!,NA()),NA())","v":{"$error":"#REF!"}},{"$f":"IF(#REF!=$E$1,IF(#REF!=$G$1,#REF!,NA()),NA())","v":{"$error":"#REF!"}},{"$f":"IF(#REF!=$E$1,IF(#REF!=$G$1,IF(#REF!=\"\",NA(),#REF!),NA()),NA())","v":{"$error":"#REF!"}},{"$f":"IF(#REF!=$E$1,IF(#REF!=$G$1,IF(#REF!=\"\",NA(),#REF!),NA()),NA())","v":{"$error":"#REF!"}},{"$error":"#REF!"},{"$error":"#REF!"}]
[null,null,null,{"$f":"IF(#REF!=$E$1,IF(#REF!=$G$1,#REF!,NA()),NA())","v":{"$error":"#REF!"}},{"$f":"IF(#REF!=$E$1,IF(#REF!=$G$1,#REF!,NA()),NA())","v":{"$error":"#REF!"}},{"$f":"IF(#REF!=$E$1,IF(#REF!=$G$1,IF(#REF!=\"\",NA(),#REF!),NA()),NA())","v":{"$error":"#REF!"}},{"$f":"IF(#REF!=$E$1,IF(#REF!=$G$1,IF(#REF!=\"\",NA(),#REF!),NA()),NA())","v":{"$error":"#REF!"}},{"$error":"#REF!"},{"$error":"#REF!"}]
[null,null,null,{"$f":"IF(#REF!=$E$1,IF(#REF!=$G$1,#REF!,NA()),NA())","v":{"$error":"#REF!"}},{"$f":"IF(#REF!=$E$1,IF(#REF!=$G$1,#REF!,NA()),NA())","v":{"$error":"#REF!"}},{"$f":"IF(#REF!=$E$1,IF(#REF!=$G$1,IF(#REF!=\"\",NA(),#REF!),NA()),NA())","v":{"$error":"#REF!"}},{"$f":"IF(#REF!=$E$1,IF(#REF!=$G$1,IF(#REF!=\"\",NA(),#REF!),NA()),NA())","v":{"$error":"#REF!"}},{"$error":"#REF!"},{"$error":"#REF!"}]
[null,null,null,{"$f":"IF(#REF!=$E$1,IF(#REF!=$G$1,#REF!,NA()),NA())","v":{"$error":"#REF!"}},{"$f":"IF(#REF!=$E$1,IF(#REF!=$G$1,#REF!,NA()),NA())","v":{"$error":"#REF!"}},{"$f":"IF(#REF!=$E$1,IF(#REF!=$G$1,IF(#REF!=\"\",NA(),#REF!),NA()),NA())","v":{"$error":"#REF!"}},{"$f":"IF(#REF!=$E$1,IF(#REF!=$G$1,IF(#REF!=\"\",NA(),#REF!),NA()),NA())","v":{"$error":"#REF!"}},{"$error":"#REF!"},{"$error":"#REF!"}]
[null,null,null,{"$f":"IF(#REF!=$E$1,IF(#REF!=$G$1,#REF!,NA()),NA())","v":{"$error":"#REF!"}},{"$f":"IF(#REF!=$E$1,IF(#REF!=$G$1,#REF!,NA()),NA())","v":{"$error":"#REF!"}},{"$f":"IF(#REF!=$E$1,IF(#REF!=$G$1,IF(#REF!=\"\",NA(),#REF!),NA()),NA())","v":{"$error":"#REF!"}},{"$f":"IF(#REF!=$E$1,IF(#REF!=$G$1,IF(#REF!=\"\",NA(),#REF!),NA()),NA())","v":{"$error":"#REF!"}},{"$error":"#REF!"},{"$error":"#REF!"}]
[null,null,null,{"$f":"IF(#REF!=$E$1,IF(#REF!=$G$1,#REF!,NA()),NA())","v":{"$error":"#REF!"}},{"$f":"IF(#REF!=$E$1,IF(#REF!=$G$1,#REF!,NA()),NA())","v":{"$error":"#REF!"}},{"$f":"IF(#REF!=$E$1,IF(#REF!=$G$1,IF(#REF!=\"\",NA(),#REF!),NA()),NA())","v":{"$error":"#REF!"}},{"$f":"IF(#REF!=$E$1,IF(#REF!=$G$1,IF(#REF!=\"\",NA(),#REF!),NA()),NA())","v":{"$error":"#REF!"}},{"$error":"#REF!"},{"$error":"#REF!"}]
[null,null,null,{"$f":"IF(#REF!=$E$1,IF(#REF!=$G$1,#REF!,NA()),NA())","v":{"$error":"#REF!"}},{"$f":"IF(#REF!=$E$1,IF(#REF!=$G$1,#REF!,NA()),NA())","v":{"$error":"#REF!"}},{"$f":"IF(#REF!=$E$1,IF(#REF!=$G$1,IF(#REF!=\"\",NA(),#REF!),NA()),NA())","v":{"$error":"#REF!"}},{"$f":"IF(#REF!=$E$1,IF(#REF!=$G$1,IF(#REF!=\"\",NA(),#REF!),NA()),NA())","v":{"$error":"#REF!"}},{"$error":"#REF!"},{"$error":"#REF!"}]
[null,null,null,{"$f":"IF(#REF!=$E$1,IF(#REF!=$G$1,#REF!,NA()),NA())","v":{"$error":"#REF!"}},{"$f":"IF(#REF!=$E$1,IF(#REF!=$G$1,#REF!,NA()),NA())","v":{"$error":"#REF!"}},{"$f":"IF(#REF!=$E$1,IF(#REF!=$G$1,IF(#REF!=\"\",NA(),#REF!),NA()),NA())","v":{"$error":"#REF!"}},{"$f":"IF(#REF!=$E$1,IF(#REF!=$G$1,IF(#REF!=\"\",NA(),#REF!),NA()),NA())","v":{"$error":"#REF!"}},{"$error":"#REF!"},{"$error":"#REF!"}]
[null,null,null,{"$f":"IF(#REF!=$E$1,IF(#REF!=$G$1,#REF!,NA()),NA())","v":{"$error":"#REF!"}},{"$f":"IF(#REF!=$E$1,IF(#REF!=$G$1,#REF!,NA()),NA())","v":{"$error":"#REF!"}},{"$f":"IF(#REF!=$E$1,IF(#REF!=$G$1,IF(#REF!=\"\",NA(),#REF!),NA()),NA())","v":{"$error":"#REF!"}},{"$f":"IF(#REF!=$E$1,IF(#REF!=$G$1,IF(#REF!=\"\",NA(),#REF!),NA()),NA())","v":{"$error":"#REF!"}},{"$error":"#REF!"},{"$error":"#REF!"}]
[null,null,null,{"$f":"IF(#REF!=$E$1,IF(#REF!=$G$1,#REF!,NA()),NA())","v":{"$error":"#REF!"}},{"$f":"IF(#REF!=$E$1,IF(#REF!=$G$1,#REF!,NA()),NA())","v":{"$error":"#REF!"}},{"$f":"IF(#REF!=$E$1,IF(#REF!=$G$1,IF(#REF!=\"\",NA(),#REF!),NA()),NA())","v":{"$error":"#REF!"}},{"$f":"IF(#REF!=$E$1,IF(#REF!=$G$1,IF(#REF!=\"\",NA(),#REF!),NA()),NA())","v":{"$error":"#REF!"}},{"$error":"#REF!"},{"$error":"#REF!"}]
[null,null,null,{"$f":"IF(#REF!=$E$1,IF(#REF!=$G$1,#REF!,NA()),NA())","v":{"$error":"#REF!"}},{"$f":"IF(#REF!=$E$1,IF(#REF!=$G$1,#REF!,NA()),NA())","v":{"$error":"#REF!"}},{"$f":"IF(#REF!=$E$1,IF(#REF!=$G$1,IF(#REF!=\"\",NA(),#REF!),NA()),NA())","v":{"$error":"#REF!"}},{"$f":"IF(#REF!=$E$1,IF(#REF!=$G$1,IF(#REF!=\"\",NA(),#REF!),NA()),NA())","v":{"$error":"#REF!"}},{"$error":"#REF!"},{"$error":"#REF!"}]
[null,null,null,{"$f":"IF(#REF!=$E$1,IF(#REF!=$G$1,#REF!,NA()),NA())","v":{"$error":"#REF!"}},{"$f":"IF(#REF!=$E$1,IF(#REF!=$G$1,#REF!,NA()),NA())","v":{"$error":"#REF!"}},{"$f":"IF(#REF!=$E$1,IF(#REF!=$G$1,IF(#REF!=\"\",NA(),#REF!),NA()),NA())","v":{"$error":"#REF!"}},{"$f":"IF(#REF!=$E$1,IF(#REF!=$G$1,IF(#REF!=\"\",NA(),#REF!),NA()),NA())","v":{"$error":"#REF!"}},{"$error":"#REF!"},{"$error":"#REF!"}]
[null,null,null,{"$f":"IF(#REF!=$E$1,IF(#REF!=$G$1,#REF!,NA()),NA())","v":{"$error":"#REF!"}},{"$f":"IF(#REF!=$E$1,IF(#REF!=$G$1,#REF!,NA()),NA())","v":{"$error":"#REF!"}},{"$f":"IF(#REF!=$E$1,IF(#REF!=$G$1,IF(#REF!=\"\",NA(),#REF!),NA()),NA())","v":{"$error":"#REF!"}},{"$f":"IF(#REF!=$E$1,IF(#REF!=$G$1,IF(#REF!=\"\",NA(),#REF!),NA()),NA())","v":{"$error":"#REF!"}},{"$error":"#REF!"},{"$error":"#REF!"}]
[null,null,null,{"$f":"IF(#REF!=$E$1,IF(#REF!=$G$1,#REF!,NA()),NA())","v":{"$error":"#REF!"}},{"$f":"IF(#REF!=$E$1,IF(#REF!=$G$1,#REF!,NA()),NA())","v":{"$error":"#REF!"}},{"$f":"IF(#REF!=$E$1,IF(#REF!=$G$1,IF(#REF!=\"\",NA(),#REF!),NA()),NA())","v":{"$error":"#REF!"}},{"$f":"IF(#REF!=$E$1,IF(#REF!=$G$1,IF(#REF!=\"\",NA(),#REF!),NA()),NA())","v":{"$error":"#REF!"}},{"$error":"#REF!"},{"$error":"#REF!"}]
[null,null,null,{"$f":"IF(#REF!=$E$1,IF(#REF!=$G$1,#REF!,NA()),NA())","v":{"$error":"#REF!"}},{"$f":"IF(#REF!=$E$1,IF(#REF!=$G$1,#REF!,NA()),NA())","v":{"$error":"#REF!"}},{"$f":"IF(#REF!=$E$1,IF(#REF!=$G$1,IF(#REF!=\"\",NA(),#REF!),NA()),NA())","v":{"$error":"#REF!"}},{"$f":"IF(#REF!=$E$1,IF(#REF!=$G$1,IF(#REF!=\"\",NA(),#REF!),NA()),NA())","v":{"$error":"#REF!"}},{"$error":"#REF!"},{"$error":"#REF!"}]
[null,null,null,{"$f":"IF(#REF!=$E$1,IF(#REF!=$G$1,#REF!,NA()),NA())","v":{"$error":"#REF!"}},{"$f":"IF(#REF!=$E$1,IF(#REF!=$G$1,#REF!,NA()),NA())","v":{"$error":"#REF!"}},{"$f":"IF(#REF!=$E$1,IF(#REF!=$G$1,IF(#REF!=\"\",NA(),#REF!),NA()),NA())","v":{"$error":"#REF!"}},{"$f":"IF(#REF!=$E$1,IF(#REF!=$G$1,IF(#REF!=\"\",NA(),#REF!),NA()),NA())","v":{"$error":"#REF!"}},{"$error":"#REF!"},{"$error":"#REF!"}]
[null,null,null,{"$f":"IF(#REF!=$E$1,IF(#REF!=$G$1,#REF!,NA()),NA())","v":{"$error":"#REF!"}},{"$f":"IF(#REF!=$E$1,IF(#REF!=$G$1,#REF!,NA()),NA())","v":{"$error":"#REF!"}},{"$f":"IF(#REF!=$E$1,IF(#REF!=$G$1,IF(#REF!=\"\",NA(),#REF!),NA()),NA())","v":{"$error":"#REF!"}},{"$f":"IF(#REF!=$E$1,IF(#REF!=$G$1,IF(#REF!=\"\",NA(),#REF!),NA()),NA())","v":{"$error":"#REF!"}},{"$error":"#REF!"},{"$error":"#REF!"}]
[null,null,null,{"$f":"IF(#REF!=$E$1,IF(#REF!=$G$1,#REF!,NA()),NA())","v":{"$error":"#REF!"}},{"$f":"IF(#REF!=$E$1,IF(#REF!=$G$1,#REF!,NA()),NA())","v":{"$error":"#REF!"}},{"$f":"IF(#REF!=$E$1,IF(#REF!=$G$1,IF(#REF!=\"\",NA(),#REF!),NA()),NA())","v":{"$error":"#REF!"}},{"$f":"IF(#REF!=$E$1,IF(#REF!=$G$1,IF(#REF!=\"\",NA(),#REF!),NA()),NA())","v":{"$error":"#REF!"}},{"$error":"#REF!"},{"$error":"#REF!"}]
[null,null,null,{"$f":"IF(#REF!=$E$1,IF(#REF!=$G$1,#REF!,NA()),NA())","v":{"$error":"#REF!"}},{"$f":"IF(#REF!=$E$1,IF(#REF!=$G$1,#REF!,NA()),NA())","v":{"$error":"#REF!"}},{"$f":"IF(#REF!=$E$1,IF(#REF!=$G$1,IF(#REF!=\"\",NA(),#REF!),NA()),NA())","v":{"$error":"#REF!"}},{"$f":"IF(#REF!=$E$1,IF(#REF!=$G$1,IF(#REF!=\"\",NA(),#REF!),NA()),NA())","v":{"$error":"#REF!"}},{"$error":"#REF!"},{"$error":"#REF!"}]
[null,null,null,{"$f":"IF(#REF!=$E$1,IF(#REF!=$G$1,#REF!,NA()),NA())","v":{"$error":"#REF!"}},{"$f":"IF(#REF!=$E$1,IF(#REF!=$G$1,#REF!,NA()),NA())","v":{"$error":"#REF!"}},{"$f":"IF(#REF!=$E$1,IF(#REF!=$G$1,IF(#REF!=\"\",NA(),#REF!),NA()),NA())","v":{"$error":"#REF!"}},{"$f":"IF(#REF!=$E$1,IF(#REF!=$G$1,IF(#REF!=\"\",NA(),#REF!),NA()),NA())","v":{"$error":"#REF!"}},{"$error":"#REF!"},{"$error":"#REF!"}]
[null,null,null,{"$f":"IF(#REF!=$E$1,IF(#REF!=$G$1,#REF!,NA()),NA())","v":{"$error":"#REF!"}},{"$f":"IF(#REF!=$E$1,IF(#REF!=$G$1,#REF!,NA()),NA())","v":{"$error":"#REF!"}},{"$f":"IF(#REF!=$E$1,IF(#REF!=$G$1,IF(#REF!=\"\",NA(),#REF!),NA()),NA())","v":{"$error":"#REF!"}},{"$f":"IF(#REF!=$E$1,IF(#REF!=$G$1,IF(#REF!=\"\",NA(),#REF!),NA()),NA())","v":{"$error":"#REF!"}},{"$error":"#REF!"},{"$error":"#REF!"}]
[null,null,null,{"$f":"IF(#REF!=$E$1,IF(#REF!=$G$1,#REF!,NA()),NA())","v":{"$error":"#REF!"}},{"$f":"IF(#REF!=$E$1,IF(#REF!=$G$1,#REF!,NA()),NA())","v":{"$error":"#REF!"}},{"$f":"IF(#REF!=$E$1,IF(#REF!=$G$1,IF(#REF!=\"\",NA(),#REF!),NA()),NA())","v":{"$error":"#REF!"}},{"$f":"IF(#REF!=$E$1,IF(#REF!=$G$1,IF(#REF!=\"\",NA(),#REF!),NA()),NA())","v":{"$error":"#REF!"}},{"$error":"#REF!"},{"$error":"#REF!"}]
[null,null,null,{"$f":"IF(#REF!=$E$1,IF(#REF!=$G$1,#REF!,NA()),NA())","v":{"$error":"#REF!"}},{"$f":"IF(#REF!=$E$1,IF(#REF!=$G$1,#REF!,NA()),NA())","v":{"$error":"#REF!"}},{"$f":"IF(#REF!=$E$1,IF(#REF!=$G$1,IF(#REF!=\"\",NA(),#REF!),NA()),NA())","v":{"$error":"#REF!"}},{"$f":"IF(#REF!=$E$1,IF(#REF!=$G$1,IF(#REF!=\"\",NA(),#REF!),NA()),NA())","v":{"$error":"#REF!"}},{"$error":"#REF!"},{"$error":"#REF!"}]
[null,null,null,{"$f":"IF(#REF!=$E$1,IF(#REF!=$G$1,#REF!,NA()),NA())","v":{"$error":"#REF!"}},{"$f":"IF(#REF!=$E$1,IF(#REF!=$G$1,#REF!,NA()),NA())","v":{"$error":"#REF!"}},{"$f":"IF(#REF!=$E$1,IF(#REF!=$G$1,IF(#REF!=\"\",NA(),#REF!),NA()),NA())","v":{"$error":"#REF!"}},{"$f":"IF(#REF!=$E$1,IF(#REF!=$G$1,IF(#REF!=\"\",NA(),#REF!),NA()),NA())","v":{"$error":"#REF!"}},{"$error":"#REF!"},{"$error":"#REF!"}]
[null,null,null,{"$f":"IF(#REF!=$E$1,IF(#REF!=$G$1,#REF!,NA()),NA())","v":{"$error":"#REF!"}},{"$f":"IF(#REF!=$E$1,IF(#REF!=$G$1,#REF!,NA()),NA())","v":{"$error":"#REF!"}},{"$f":"IF(#REF!=$E$1,IF(#REF!=$G$1,IF(#REF!=\"\",NA(),#REF!),NA()),NA())","v":{"$error":"#REF!"}},{"$f":"IF(#REF!=$E$1,IF(#REF!=$G$1,IF(#REF!=\"\",NA(),#REF!),NA()),NA())","v":{"$error":"#REF!"}},{"$error":"#REF!"},{"$error":"#REF!"}]
[null,null,null,{"$f":"IF(#REF!=$E$1,IF(#REF!=$G$1,#REF!,NA()),NA())","v":{"$error":"#REF!"}},{"$f":"IF(#REF!=$E$1,IF(#REF!=$G$1,#REF!,NA()),NA())","v":{"$error":"#REF!"}},{"$f":"IF(#REF!=$E$1,IF(#REF!=$G$1,IF(#REF!=\"\",NA(),#REF!),NA()),NA())","v":{"$error":"#REF!"}},{"$f":"IF(#REF!=$E$1,IF(#REF!=$G$1,IF(#REF!=\"\",NA(),#REF!),NA()),NA())","v":{"$error":"#REF!"}},{"$error":"#REF!"},{"$error":"#REF!"}]
[null,null,null,{"$f":"IF(#REF!=$E$1,IF(#REF!=$G$1,#REF!,NA()),NA())","v":{"$error":"#REF!"}},{"$f":"IF(#REF!=$E$1,IF(#REF!=$G$1,#REF!,NA()),NA())","v":{"$error":"#REF!"}},{"$f":"IF(#REF!=$E$1,IF(#REF!=$G$1,IF(#REF!=\"\",NA(),#REF!),NA()),NA())","v":{"$error":"#REF!"}},{"$f":"IF(#REF!=$E$1,IF(#REF!=$G$1,IF(#REF!=\"\",NA(),#REF!),NA()),NA())","v":{"$error":"#REF!"}},{"$error":"#REF!"},{"$error":"#REF!"}]
[null,null,null,{"$f":"IF(#REF!=$E$1,IF(#REF!=$G$1,#REF!,NA()),NA())","v":{"$error":"#REF!"}},{"$f":"IF(#REF!=$E$1,IF(#REF!=$G$1,#REF!,NA()),NA())","v":{"$error":"#REF!"}},{"$f":"IF(#REF!=$E$1,IF(#REF!=$G$1,IF(#REF!=\"\",NA(),#REF!),NA()),NA())","v":{"$error":"#REF!"}},{"$f":"IF(#REF!=$E$1,IF(#REF!=$G$1,IF(#REF!=\"\",NA(),#REF!),NA()),NA())","v":{"$error":"#REF!"}},{"$error":"#REF!"},{"$error":"#REF!"}]
[null,null,null,{"$f":"IF(#REF!=$E$1,IF(#REF!=$G$1,#REF!,NA()),NA())","v":{"$error":"#REF!"}},{"$f":"IF(#REF!=$E$1,IF(#REF!=$G$1,#REF!,NA()),NA())","v":{"$error":"#REF!"}},{"$f":"IF(#REF!=$E$1,IF(#REF!=$G$1,IF(#REF!=\"\",NA(),#REF!),NA()),NA())","v":{"$error":"#REF!"}},{"$f":"IF(#REF!=$E$1,IF(#REF!=$G$1,IF(#REF!=\"\",NA(),#REF!),NA()),NA())","v":{"$error":"#REF!"}},{"$error":"#REF!"},{"$error":"#REF!"}]
[null,null,null,{"$f":"IF(#REF!=$E$1,IF(#REF!=$G$1,#REF!,NA()),NA())","v":{"$error":"#REF!"}},{"$f":"IF(#REF!=$E$1,IF(#REF!=$G$1,#REF!,NA()),NA())","v":{"$error":"#REF!"}},{"$f":"IF(#REF!=$E$1,IF(#REF!=$G$1,IF(#REF!=\"\",NA(),#REF!),NA()),NA())","v":{"$error":"#REF!"}},{"$f":"IF(#REF!=$E$1,IF(#REF!=$G$1,IF(#REF!=\"\",NA(),#REF!),NA()),NA())","v":{"$error":"#REF!"}},{"$error":"#REF!"},{"$error":"#REF!"}]
[null,null,null,{"$f":"IF(#REF!=$E$1,IF(#REF!=$G$1,#REF!,NA()),NA())","v":{"$error":"#REF!"}},{"$f":"IF(#REF!=$E$1,IF(#REF!=$G$1,#REF!,NA()),NA())","v":{"$error":"#REF!"}},{"$f":"IF(#REF!=$E$1,IF(#REF!=$G$1,IF(#REF!=\"\",NA(),#REF!),NA()),NA())","v":{"$error":"#REF!"}},{"$f":"IF(#REF!=$E$1,IF(#REF!=$G$1,IF(#REF!=\"\",NA(),#REF!),NA()),NA())","v":{"$error":"#REF!"}},{"$error":"#REF!"},{"$error":"#REF!"}]
[null,null,null,{"$f":"IF(#REF!=$E$1,IF(#REF!=$G$1,#REF!,NA()),NA())","v":{"$error":"#REF!"}},{"$f":"IF(#REF!=$E$1,IF(#REF!=$G$1,#REF!,NA()),NA())","v":{"$error":"#REF!"}},{"$f":"IF(#REF!=$E$1,IF(#REF!=$G$1,IF(#REF!=\"\",NA(),#REF!),NA()),NA())","v":{"$error":"#REF!"}},{"$f":"IF(#REF!=$E$1,IF(#REF!=$G$1,IF(#REF!=\"\",NA(),#REF!),NA()),NA())","v":{"$error":"#REF!"}},{"$error":"#REF!"},{"$error":"#REF!"}]
[null,null,null,{"$f":"IF(#REF!=$E$1,IF(#REF!=$G$1,#REF!,NA()),NA())","v":{"$error":"#REF!"}},{"$f":"IF(#REF!=$E$1,IF(#REF!=$G$1,#REF!,NA()),NA())","v":{"$error":"#REF!"}},{"$f":"IF(#REF!=$E$1,IF(#REF!=$G$1,IF(#REF!=\"\",NA(),#REF!),NA()),NA())","v":{"$error":"#REF!"}},{"$f":"IF(#REF!=$E$1,IF(#REF!=$G$1,IF(#REF!=\"\",NA(),#REF!),NA()),NA())","v":{"$error":"#REF!"}},{"$error":"#REF!"},{"$error":"#REF!"}]
[null,null,null,{"$f":"IF(#REF!=$E$1,IF(#REF!=$G$1,#REF!,NA()),NA())","v":{"$error":"#REF!"}},{"$f":"IF(#REF!=$E$1,IF(#REF!=$G$1,#REF!,NA()),NA())","v":{"$error":"#REF!"}},{"$f":"IF(#REF!=$E$1,IF(#REF!=$G$1,IF(#REF!=\"\",NA(),#REF!),NA()),NA())","v":{"$error":"#REF!"}},{"$f":"IF(#REF!=$E$1,IF(#REF!=$G$1,IF(#REF!=\"\",NA(),#REF!),NA()),NA())","v":{"$error":"#REF!"}},{"$error":"#REF!"},{"$error":"#REF!"}]
[null,null,null,null,null,null,null,10000,null,"ダミーデータ"]

{"sheet":"散布図データ(有)2","index":2,"n_rows":1003,"n_cols":10,"rows_kept":1003,"cut":false,"hidden":true,"merged":[]}
["1801","福井・坂井",null,null,{"$f":"INDEX($A:$A,MATCH(F1,$B:$B,0))","v":{"$error":"#REF!"}},{"$f":"#REF!","v":{"$error":"#REF!"}},"有","【散布図データ参照列】","【散布図データ参照列】"]
["1802","奥越",null,"病床外来管理番号","紹介受診重点外来医療機関への意向の有無","紹介率","逆紹介率","紹介率","逆紹介率"]
["1803","丹南",null,{"$f":"IF(#REF!=$E$1,IF(#REF!=$G$1,#REF!,NA()),NA())","v":{"$error":"#REF!"}},{"$f":"IF(#REF!=$E$1,IF(#REF!=$G$1,#REF!,NA()),NA())","v":{"$error":"#REF!"}},{"$f":"IF(#REF!=$E$1,IF(#REF!=$G$1,IF(#REF!=\"\",NA(),#REF!),NA()),NA())","v":{"$error":"#REF!"}},{"$f":"IF(#REF!=$E$1,IF(#REF!=$G$1,IF(#REF!=\"\",NA(),#REF!),NA()),NA())","v":{"$error":"#REF!"}},{"$f":"IF(AND(ISNUMBER(G3),F3=\"-\"),0,F3)","v":{"$error":"#REF!"}},{"$f":"IF(AND(ISNUMBER(F3),G3=\"-\"),0,G3)","v":{"$error":"#REF!"}}]
["1804","嶺南",null,{"$f":"IF(#REF!=$E$1,IF(#REF!=$G$1,#REF!,NA()),NA())","v":{"$error":"#REF!"}},{"$f":"IF(#REF!=$E$1,IF(#REF!=$G$1,#REF!,NA()),NA())","v":{"$error":"#REF!"}},{"$f":"IF(#REF!=$E$1,IF(#REF!=$G$1,IF(#REF!=\"\",NA(),#REF!),NA()),NA())","v":{"$error":"#REF!"}},{"$f":"IF(#REF!=$E$1,IF(#REF!=$G$1,IF(#REF!=\"\",NA(),#REF!),NA()),NA())","v":{"$error":"#REF!"}},{"$f":"IF(AND(ISNUMBER(G4),F4=\"-\"),0,F4)","v":{"$error":"#REF!"}},{"$f":"IF(AND(ISNUMBER(F4),G4=\"-\"),0,G4)","v":{"$error":"#REF!"}}]
[null,null,null,{"$f":"IF(#REF!=$E$1,IF(#REF!=$G$1,#REF!,NA()),NA())","v":{"$error":"#REF!"}},{"$f":"IF(#REF!=$E$1,IF(#REF!=$G$1,#REF!,NA()),NA())","v":{"$error":"#REF!"}},{"$f":"IF(#REF!=$E$1,IF(#REF!=$G$1,IF(#REF!=\"\",NA(),#REF!),NA()),NA())","v":{"$error":"#REF!"}},{"$f":"IF(#REF!=$E$1,IF(#REF!=$G$1,IF(#REF!=\"\",NA(),#REF!),NA()),NA())","v":{"$error":"#REF!"}},{"$error":"#REF!"},{"$error":"#REF!"}]
[null,null,null,{"$f":"IF(#REF!=$E$1,IF(#REF!=$G$1,#REF!,NA()),NA())","v":{"$error":"#REF!"}},{"$f":"IF(#REF!=$E$1,IF(#REF!=$G$1,#REF!,NA()),NA())","v":{"$error":"#REF!"}},{"$f":"IF(#REF!=$E$1,IF(#REF!=$G$1,IF(#REF!=\"\",NA(),#REF!),NA()),NA())","v":{"$error":"#REF!"}},{"$f":"IF(#REF!=$E$1,IF(#REF!=$G$1,IF(#REF!=\"\",NA(),#REF!),NA()),NA())","v":{"$error":"#REF!"}},{"$error":"#REF!"},{"$error":"#REF!"}]
[null,null,null,{"$f":"IF(#REF!=$E$1,IF(#REF!=$G$1,#REF!,NA()),NA())","v":{"$error":"#REF!"}},{"$f":"IF(#REF!=$E$1,IF(#REF!=$G$1,#REF!,NA()),NA())","v":{"$error":"#REF!"}},{"$f":"IF(#REF!=$E$1,IF(#REF!=$G$1,IF(#REF!=\"\",NA(),#REF!),NA()),NA())","v":{"$error":"#REF!"}},{"$f":"IF(#REF!=$E$1,IF(#REF!=$G$1,IF(#REF!=\"\",NA(),#REF!),NA()),NA())","v":{"$error":"#REF!"}},{"$error":"#REF!"},{"$error":"#REF!"}]
[null,null,null,{"$f":"IF(#REF!=$E$1,IF(#REF!=$G$1,#REF!,NA()),NA())","v":{"$error":"#REF!"}},{"$f":"IF(#REF!=$E$1,IF(#REF!=$G$1,#REF!,NA()),NA())","v":{"$error":"#REF!"}},{"$f":"IF(#REF!=$E$1,IF(#REF!=$G$1,IF(#REF!=\"\",NA(),#REF!),NA()),NA())","v":{"$error":"#REF!"}},{"$f":"IF(#REF!=$E$1,IF(#REF!=$G$1,IF(#REF!=\"\",NA(),#REF!),NA()),NA())","v":{"$error":"#REF!"}},{"$error":"#REF!"},{"$error":"#REF!"}]
[null,null,null,{"$f":"IF(#REF!=$E$1,IF(#REF!=$G$1,#REF!,NA()),NA())","v":{"$error":"#REF!"}},{"$f":"IF(#REF!=$E$1,IF(#REF!=$G$1,#REF!,NA()),NA())","v":{"$error":"#REF!"}},{"$f":"IF(#REF!=$E$1,IF(#REF!=$G$1,IF(#REF!=\"\",NA(),#REF!),NA()),NA())","v":{"$error":"#REF!"}},{"$f":"IF(#REF!=$E$1,IF(#REF!=$G$1,IF(#REF!=\"\",NA(),#REF!),NA()),NA())","v":{"$error":"#REF!"}},{"$error":"#REF!"},{"$error":"#REF!"}]
[null,null,null,{"$f":"IF(#REF!=$E$1,IF(#REF!=$G$1,#REF!,NA()),NA())","v":{"$error":"#REF!"}},{"$f":"IF(#REF!=$E$1,IF(#REF!=$G$1,#REF!,NA()),NA())","v":{"$error":"#REF!"}},{"$f":"IF(#REF!=$E$1,IF(#REF!=$G$1,IF(#REF!=\"\",NA(),#REF!),NA()),NA())","v":{"$error":"#REF!"}},{"$f":"IF(#REF!=$E$1,IF(#REF!=$G$1,IF(#REF!=\"\",NA(),#REF!),NA()),NA())","v":{"$error":"#REF!"}},{"$error":"#REF!"},{"$error":"#REF!"}]
[null,null,null,{"$f":"IF(#REF!=$E$1,IF(#REF!=$G$1,#REF!,NA()),NA())","v":{"$error":"#REF!"}},{"$f":"IF(#REF!=$E$1,IF(#REF!=$G$1,#REF!,NA()),NA())","v":{"$error":"#REF!"}},{"$f":"IF(#REF!=$E$1,IF(#REF!=$G$1,IF(#REF!=\"\",NA(),#REF!),NA()),NA())","v":{"$error":"#REF!"}},{"$f":"IF(#REF!=$E$1,IF(#REF!=$G$1,IF(#REF!=\"\",NA(),#REF!),NA()),NA())","v":{"$error":"#REF!"}},{"$error":"#REF!"},{"$error":"#REF!"}]
[null,null,null,{"$f":"IF(#REF!=$E$1,IF(#REF!=$G$1,#REF!,NA()),NA())","v":{"$error":"#REF!"}},{"$f":"IF(#REF!=$E$1,IF(#REF!=$G$1,#REF!,NA()),NA())","v":{"$error":"#REF!"}},{"$f":"IF(#REF!=$E$1,IF(#REF!=$G$1,IF(#REF!=\"\",NA(),#REF!),NA()),NA())","v":{"$error":"#REF!"}},{"$f":"IF(#REF!=$E$1,IF(#REF!=$G$1,IF(#REF!=\"\",NA(),#REF!),NA()),NA())","v":{"$error":"#REF!"}},{"$error":"#REF!"},{"$error":"#REF!"}]
[null,null,null,{"$f":"IF(#REF!=$E$1,IF(#REF!=$G$1,#REF!,NA()),NA())","v":{"$error":"#REF!"}},{"$f":"IF(#REF!=$E$1,IF(#REF!=$G$1,#REF!,NA()),NA())","v":{"$error":"#REF!"}},{"$f":"IF(#REF!=$E$1,IF(#REF!=$G$1,IF(#REF!=\"\",NA(),#REF!),NA()),NA())","v":{"$error":"#REF!"}},{"$f":"IF(#REF!=$E$1,IF(#REF!=$G$1,IF(#REF!=\"\",NA(),#REF!),NA()),NA())","v":{"$error":"#REF!"}},{"$error":"#REF!"},{"$error":"#REF!"}]
[null,null,null,{"$f":"IF(#REF!=$E$1,IF(#REF!=$G$1,#REF!,NA()),NA())","v":{"$error":"#REF!"}},{"$f":"IF(#REF!=$E$1,IF(#REF!=$G$1,#REF!,NA()),NA())","v":{"$error":"#REF!"}},{"$f":"IF(#REF!=$E$1,IF(#REF!=$G$1,IF(#REF!=\"\",NA(),#REF!),NA()),NA())","v":{"$error":"#REF!"}},{"$f":"IF(#REF!=$E$1,IF(#REF!=$G$1,IF(#REF!=\"\",NA(),#REF!),NA()),NA())","v":{"$error":"#REF!"}},{"$error":"#REF!"},{"$error":"#REF!"}]
[null,null,null,{"$f":"IF(#REF!=$E$1,IF(#REF!=$G$1,#REF!,NA()),NA())","v":{"$error":"#REF!"}},{"$f":"IF(#REF!=$E$1,IF(#REF!=$G$1,#REF!,NA()),NA())","v":{"$error":"#REF!"}},{"$f":"IF(#REF!=$E$1,IF(#REF!=$G$1,IF(#REF!=\"\",NA(),#REF!),NA()),NA())","v":{"$error":"#REF!"}},{"$f":"IF(#REF!=$E$1,IF(#REF!=$G$1,IF(#REF!=\"\",NA(),#REF!),NA()),NA())","v":{"$error":"#REF!"}},{"$error":"#REF!"},{"$error":"#REF!"}]
[null,null,null,{"$f":"IF(#REF!=$E$1,IF(#REF!=$G$1,#REF!,NA()),NA())","v":{"$error":"#REF!"}},{"$f":"IF(#REF!=$E$1,IF(#REF!=$G$1,#REF!,NA()),NA())","v":{"$error":"#REF!"}},{"$f":"IF(#REF!=$E$1,IF(#REF!=$G$1,IF(#REF!=\"\",NA(),#REF!),NA()),NA())","v":{"$error":"#REF!"}},{"$f":"IF(#REF!=$E$1,IF(#REF!=$G$1,IF(#REF!=\"\",NA(),#REF!),NA()),NA())","v":{"$error":"#REF!"}},{"$error":"#REF!"},{"$error":"#REF!"}]
[null,null,null,{"$f":"IF(#REF!=$E$1,IF(#REF!=$G$1,#REF!,NA()),NA())","v":{"$error":"#REF!"}},{"$f":"IF(#REF!=$E$1,IF(#REF!=$G$1,#REF!,NA()),NA())","v":{"$error":"#REF!"}},{"$f":"IF(#REF!=$E$1,IF(#REF!=$G$1,IF(#REF!=\"\",NA(),#REF!),NA()),NA())","v":{"$error":"#REF!"}},{"$f":"IF(#REF!=$E$1,IF(#REF!=$G$1,IF(#REF!=\"\",NA(),#REF!),NA()),NA())","v":{"$error":"#REF!"}},{"$error":"#REF!"},{"$error":"#REF!"}]
[null,null,null,{"$f":"IF(#REF!=$E$1,IF(#REF!=$G$1,#REF!,NA()),NA())","v":{"$error":"#REF!"}},{"$f":"IF(#REF!=$E$1,IF(#REF!=$G$1,#REF!,NA()),NA())","v":{"$error":"#REF!"}},{"$f":"IF(#REF!=$E$1,IF(#REF!=$G$1,IF(#REF!=\"\",NA(),#REF!),NA()),NA())","v":{"$error":"#REF!"}},{"$f":"IF(#REF!=$E$1,IF(#REF!=$G$1,IF(#REF!=\"\",NA(),#REF!),NA()),NA())","v":{"$error":"#REF!"}},{"$error":"#REF!"},{"$error":"#REF!"}]
[null,null,null,{"$f":"IF(#REF!=$E$1,IF(#REF!=$G$1,#REF!,NA()),NA())","v":{"$error":"#REF!"}},{"$f":"IF(#REF!=$E$1,IF(#REF!=$G$1,#REF!,NA()),NA())","v":{"$error":"#REF!"}},{"$f":"IF(#REF!=$E$1,IF(#REF!=$G$1,IF(#REF!=\"\",NA(),#REF!),NA()),NA())","v":{"$error":"#REF!"}},{"$f":"IF(#REF!=$E$1,IF(#REF!=$G$1,IF(#REF!=\"\",NA(),#REF!),NA()),NA())","v":{"$error":"#REF!"}},{"$error":"#REF!"},{"$error":"#REF!"}]
[null,null,null,{"$f":"IF(#REF!=$E$1,IF(#REF!=$G$1,#REF!,NA()),NA())","v":{"$error":"#REF!"}},{"$f":"IF(#REF!=$E$1,IF(#REF!=$G$1,#REF!,NA()),NA())","v":{"$error":"#REF!"}},{"$f":"IF(#REF!=$E$1,IF(#REF!=$G$1,IF(#REF!=\"\",NA(),#REF!),NA()),NA())","v":{"$error":"#REF!"}},{"$f":"IF(#REF!=$E$1,IF(#REF!=$G$1,IF(#REF!=\"\",NA(),#REF!),NA()),NA())","v":{"$error":"#REF!"}},{"$error":"#REF!"},{"$error":"#REF!"}]
[null,null,null,{"$f":"IF(#REF!=$E$1,IF(#REF!=$G$1,#REF!,NA()),NA())","v":{"$error":"#REF!"}},{"$f":"IF(#REF!=$E$1,IF(#REF!=$G$1,#REF!,NA()),NA())","v":{"$error":"#REF!"}},{"$f":"IF(#REF!=$E$1,IF(#REF!=$G$1,IF(#REF!=\"\",NA(),#REF!),NA()),NA())","v":{"$error":"#REF!"}},{"$f":"IF(#REF!=$E$1,IF(#REF!=$G$1,IF(#REF!=\"\",NA(),#REF!),NA()),NA())","v":{"$error":"#REF!"}},{"$error":"#REF!"},{"$error":"#REF!"}]
[null,null,null,{"$f":"IF(#REF!=$E$1,IF(#REF!=$G$1,#REF!,NA()),NA())","v":{"$error":"#REF!"}},{"$f":"IF(#REF!=$E$1,IF(#REF!=$G$1,#REF!,NA()),NA())","v":{"$error":"#REF!"}},{"$f":"IF(#REF!=$E$1,IF(#REF!=$G$1,IF(#REF!=\"\",NA(),#REF!),NA()),NA())","v":{"$error":"#REF!"}},{"$f":"IF(#REF!=$E$1,IF(#REF!=$G$1,IF(#REF!=\"\",NA(),#REF!),NA()),NA())","v":{"$error":"#REF!"}},{"$error":"#REF!"},{"$error":"#REF!"}]
[null,null,null,{"$f":"IF(#REF!=$E$1,IF(#REF!=$G$1,#REF!,NA()),NA())","v":{"$error":"#REF!"}},{"$f":"IF(#REF!=$E$1,IF(#REF!=$G$1,#REF!,NA()),NA())","v":{"$error":"#REF!"}},{"$f":"IF(#REF!=$E$1,IF(#REF!=$G$1,IF(#REF!=\"\",NA(),#REF!),NA()),NA())","v":{"$error":"#REF!"}},{"$f":"IF(#REF!=$E$1,IF(#REF!=$G$1,IF(#REF!=\"\",NA(),#REF!),NA()),NA())","v":{"$error":"#REF!"}},{"$error":"#REF!"},{"$error":"#REF!"}]
[null,null,null,{"$f":"IF(#REF!=$E$1,IF(#REF!=$G$1,#REF!,NA()),NA())","v":{"$error":"#REF!"}},{"$f":"IF(#REF!=$E$1,IF(#REF!=$G$1,#REF!,NA()),NA())","v":{"$error":"#REF!"}},{"$f":"IF(#REF!=$E$1,IF(#REF!=$G$1,IF(#REF!=\"\",NA(),#REF!),NA()),NA())","v":{"$error":"#REF!"}},{"$f":"IF(#REF!=$E$1,IF(#REF!=$G$1,IF(#REF!=\"\",NA(),#REF!),NA()),NA())","v":{"$error":"#REF!"}},{"$error":"#REF!"},{"$error":"#REF!"}]
[null,null,null,{"$f":"IF(#REF!=$E$1,IF(#REF!=$G$1,#REF!,NA()),NA())","v":{"$error":"#REF!"}},{"$f":"IF(#REF!=$E$1,IF(#REF!=$G$1,#REF!,NA()),NA())","v":{"$error":"#REF!"}},{"$f":"IF(#REF!=$E$1,IF(#REF!=$G$1,IF(#REF!=\"\",NA(),#REF!),NA()),NA())","v":{"$error":"#REF!"}},{"$f":"IF(#REF!=$E$1,IF(#REF!=$G$1,IF(#REF!=\"\",NA(),#REF!),NA()),NA())","v":{"$error":"#REF!"}},{"$error":"#REF!"},{"$error":"#REF!"}]
[null,null,null,{"$f":"IF(#REF!=$E$1,IF(#REF!=$G$1,#REF!,NA()),NA())","v":{"$error":"#REF!"}},{"$f":"IF(#REF!=$E$1,IF(#REF!=$G$1,#REF!,NA()),NA())","v":{"$error":"#REF!"}},{"$f":"IF(#REF!=$E$1,IF(#REF!=$G$1,IF(#REF!=\"\",NA(),#REF!),NA()),NA())","v":{"$error":"#REF!"}},{"$f":"IF(#REF!=$E$1,IF(#REF!=$G$1,IF(#REF!=\"\",NA(),#REF!),NA()),NA())","v":{"$error":"#REF!"}},{"$error":"#REF!"},{"$error":"#REF!"}]
[null,null,null,{"$f":"IF(#REF!=$E$1,IF(#REF!=$G$1,#REF!,NA()),NA())","v":{"$error":"#REF!"}},{"$f":"IF(#REF!=$E$1,IF(#REF!=$G$1,#REF!,NA()),NA())","v":{"$error":"#REF!"}},{"$f":"IF(#REF!=$E$1,IF(#REF!=$G$1,IF(#REF!=\"\",NA(),#REF!),NA()),NA())","v":{"$error":"#REF!"}},{"$f":"IF(#REF!=$E$1,IF(#REF!=$G$1,IF(#REF!=\"\",NA(),#REF!),NA()),NA())","v":{"$error":"#REF!"}},{"$error":"#REF!"},{"$error":"#REF!"}]
[null,null,null,{"$f":"IF(#REF!=$E$1,IF(#REF!=$G$1,#REF!,NA()),NA())","v":{"$error":"#REF!"}},{"$f":"IF(#REF!=$E$1,IF(#REF!=$G$1,#REF!,NA()),NA())","v":{"$error":"#REF!"}},{"$f":"IF(#REF!=$E$1,IF(#REF!=$G$1,IF(#REF!=\"\",NA(),#REF!),NA()),NA())","v":{"$error":"#REF!"}},{"$f":"IF(#REF!=$E$1,IF(#REF!=$G$1,IF(#REF!=\"\",NA(),#REF!),NA()),NA())","v":{"$error":"#REF!"}},{"$error":"#REF!"},{"$error":"#REF!"}]
[null,null,null,{"$f":"IF(#REF!=$E$1,IF(#REF!=$G$1,#REF!,NA()),NA())","v":{"$error":"#REF!"}},{"$f":"IF(#REF!=$E$1,IF(#REF!=$G$1,#REF!,NA()),NA())","v":{"$error":"#REF!"}},{"$f":"IF(#REF!=$E$1,IF(#REF!=$G$1,IF(#REF!=\"\",NA(),#REF!),NA()),NA())","v":{"$error":"#REF!"}},{"$f":"IF(#REF!=$E$1,IF(#REF!=$G$1,IF(#REF!=\"\",NA(),#REF!),NA()),NA())","v":{"$error":"#REF!"}},{"$error":"#REF!"},{"$error":"#REF!"}]
[null,null,null,{"$f":"IF(#REF!=$E$1,IF(#REF!=$G$1,#REF!,NA()),NA())","v":{"$error":"#REF!"}},{"$f":"IF(#REF!=$E$1,IF(#REF!=$G$1,#REF!,NA()),NA())","v":{"$error":"#REF!"}},{"$f":"IF(#REF!=$E$1,IF(#REF!=$G$1,IF(#REF!=\"\",NA(),#REF!),NA()),NA())","v":{"$error":"#REF!"}},{"$f":"IF(#REF!=$E$1,IF(#REF!=$G$1,IF(#REF!=\"\",NA(),#REF!),NA()),NA())","v":{"$error":"#REF!"}},{"$error":"#REF!"},{"$error":"#REF!"}]
[null,null,null,{"$f":"IF(#REF!=$E$1,IF(#REF!=$G$1,#REF!,NA()),NA())","v":{"$error":"#REF!"}},{"$f":"IF(#REF!=$E$1,IF(#REF!=$G$1,#REF!,NA()),NA())","v":{"$error":"#REF!"}},{"$f":"IF(#REF!=$E$1,IF(#REF!=$G$1,IF(#REF!=\"\",NA(),#REF!),NA()),NA())","v":{"$error":"#REF!"}},{"$f":"IF(#REF!=$E$1,IF(#REF!=$G$1,IF(#REF!=\"\",NA(),#REF!),NA()),NA())","v":{"$error":"#REF!"}},{"$error":"#REF!"},{"$error":"#REF!"}]
[null,null,null,{"$f":"IF(#REF!=$E$1,IF(#REF!=$G$1,#REF!,NA()),NA())","v":{"$error":"#REF!"}},{"$f":"IF(#REF!=$E$1,IF(#REF!=$G$1,#REF!,NA()),NA())","v":{"$error":"#REF!"}},{"$f":"IF(#REF!=$E$1,IF(#REF!=$G$1,IF(#REF!=\"\",NA(),#REF!),NA()),NA())","v":{"$error":"#REF!"}},{"$f":"IF(#REF!=$E$1,IF(#REF!=$G$1,IF(#REF!=\"\",NA(),#REF!),NA()),NA())","v":{"$error":"#REF!"}},{"$error":"#REF!"},{"$error":"#REF!"}]
[null,null,null,{"$f":"IF(#REF!=$E$1,IF(#REF!=$G$1,#REF!,NA()),NA())","v":{"$error":"#REF!"}},{"$f":"IF(#REF!=$E$1,IF(#REF!=$G$1,#REF!,NA()),NA())","v":{"$error":"#REF!"}},{"$f":"IF(#REF!=$E$1,IF(#REF!=$G$1,IF(#REF!=\"\",NA(),#REF!),NA()),NA())","v":{"$error":"#REF!"}},{"$f":"IF(#REF!=$E$1,IF(#REF!=$G$1,IF(#REF!=\"\",NA(),#REF!),NA()),NA())","v":{"$error":"#REF!"}},{"$error":"#REF!"},{"$error":"#REF!"}]
[null,null,null,{"$f":"IF(#REF!=$E$1,IF(#REF!=$G$1,#REF!,NA()),NA())","v":{"$error":"#REF!"}},{"$f":"IF(#REF!=$E$1,IF(#REF!=$G$1,#REF!,NA()),NA())","v":{"$error":"#REF!"}},{"$f":"IF(#REF!=$E$1,IF(#REF!=$G$1,IF(#REF!=\"\",NA(),#REF!),NA()),NA())","v":{"$error":"#REF!"}},{"$f":"IF(#REF!=$E$1,IF(#REF!=$G$1,IF(#REF!=\"\",NA(),#REF!),NA()),NA())","v":{"$error":"#REF!"}},{"$error":"#REF!"},{"$error":"#REF!"}]
[null,null,null,{"$f":"IF(#REF!=$E$1,IF(#REF!=$G$1,#REF!,NA()),NA())","v":{"$error":"#REF!"}},{"$f":"IF(#REF!=$E$1,IF(#REF!=$G$1,#REF!,NA()),NA())","v":{"$error":"#REF!"}},{"$f":"IF(#REF!=$E$1,IF(#REF!=$G$1,IF(#REF!=\"\",NA(),#REF!),NA()),NA())","v":{"$error":"#REF!"}},{"$f":"IF(#REF!=$E$1,IF(#REF!=$G$1,IF(#REF!=\"\",NA(),#REF!),NA()),NA())","v":{"$error":"#REF!"}},{"$error":"#REF!"},{"$error":"#REF!"}]
[null,null,null,{"$f":"IF(#REF!=$E$1,IF(#REF!=$G$1,#REF!,NA()),NA())","v":{"$error":"#REF!"}},{"$f":"IF(#REF!=$E$1,IF(#REF!=$G$1,#REF!,NA()),NA())","v":{"$error":"#REF!"}},{"$f":"IF(#REF!=$E$1,IF(#REF!=$G$1,IF(#REF!=\"\",NA(),#REF!),NA()),NA())","v":{"$error":"#REF!"}},{"$f":"IF(#REF!=$E$1,IF(#REF!=$G$1,IF(#REF!=\"\",NA(),#REF!),NA()),NA())","v":{"$error":"#REF!"}},{"$error":"#REF!"},{"$error":"#REF!"}]
[null,null,null,{"$f":"IF(#REF!=$E$1,IF(#REF!=$G$1,#REF!,NA()),NA())","v":{"$error":"#REF!"}},{"$f":"IF(#REF!=$E$1,IF(#REF!=$G$1,#REF!,NA()),NA())","v":{"$error":"#REF!"}},{"$f":"IF(#REF!=$E$1,IF(#REF!=$G$1,IF(#REF!=\"\",NA(),#REF!),NA()),NA())","v":{"$error":"#REF!"}},{"$f":"IF(#REF!=$E$1,IF(#REF!=$G$1,IF(#REF!=\"\",NA(),#REF!),NA()),NA())","v":{"$error":"#REF!"}},{"$error":"#REF!"},{"$error":"#REF!"}]
[null,null,null,{"$f":"IF(#REF!=$E$1,IF(#REF!=$G$1,#REF!,NA()),NA())","v":{"$error":"#REF!"}},{"$f":"IF(#REF!=$E$1,IF(#REF!=$G$1,#REF!,NA()),NA())","v":{"$error":"#REF!"}},{"$f":"IF(#REF!=$E$1,IF(#REF!=$G$1,IF(#REF!=\"\",NA(),#REF!),NA()),NA())","v":{"$error":"#REF!"}},{"$f":"IF(#REF!=$E$1,IF(#REF!=$G$1,IF(#REF!=\"\",NA(),#REF!),NA()),NA())","v":{"$error":"#REF!"}},{"$error":"#REF!"},{"$error":"#REF!"}]
[null,null,null,{"$f":"IF(#REF!=$E$1,IF(#REF!=$G$1,#REF!,NA()),NA())","v":{"$error":"#REF!"}},{"$f":"IF(#REF!=$E$1,IF(#REF!=$G$1,#REF!,NA()),NA())","v":{"$error":"#REF!"}},{"$f":"IF(#REF!=$E$1,IF(#REF!=$G$1,IF(#REF!=\"\",NA(),#REF!),NA()),NA())","v":{"$error":"#REF!"}},{"$f":"IF(#REF!=$E$1,IF(#REF!=$G$1,IF(#REF!=\"\",NA(),#REF!),NA()),NA())","v":{"$error":"#REF!"}},{"$error":"#REF!"},{"$error":"#REF!"}]
[null,null,null,{"$f":"IF(#REF!=$E$1,IF(#REF!=$G$1,#REF!,NA()),NA())","v":{"$error":"#REF!"}},{"$f":"IF(#REF!=$E$1,IF(#REF!=$G$1,#REF!,NA()),NA())","v":{"$error":"#REF!"}},{"$f":"IF(#REF!=$E$1,IF(#REF!=$G$1,IF(#REF!=\"\",NA(),#REF!),NA()),NA())","v":{"$error":"#REF!"}},{"$f":"IF(#REF!=$E$1,IF(#REF!=$G$1,IF(#REF!=\"\",NA(),#REF!),NA()),NA())","v":{"$error":"#REF!"}},{"$error":"#REF!"},{"$error":"#REF!"}]
[null,null,null,{"$f":"IF(#REF!=$E$1,IF(#REF!=$G$1,#REF!,NA()),NA())","v":{"$error":"#REF!"}},{"$f":"IF(#REF!=$E$1,IF(#REF!=$G$1,#REF!,NA()),NA())","v":{"$error":"#REF!"}},{"$f":"IF(#REF!=$E$1,IF(#REF!=$G$1,IF(#REF!=\"\",NA(),#REF!),NA()),NA())","v":{"$error":"#REF!"}},{"$f":"IF(#REF!=$E$1,IF(#REF!=$G$1,IF(#REF!=\"\",NA(),#REF!),NA()),NA())","v":{"$error":"#REF!"}},{"$error":"#REF!"},{"$error":"#REF!"}]
[null,null,null,{"$f":"IF(#REF!=$E$1,IF(#REF!=$G$1,#REF!,NA()),NA())","v":{"$error":"#REF!"}},{"$f":"IF(#REF!=$E$1,IF(#REF!=$G$1,#REF!,NA()),NA())","v":{"$error":"#REF!"}},{"$f":"IF(#REF!=$E$1,IF(#REF!=$G$1,IF(#REF!=\"\",NA(),#REF!),NA()),NA())","v":{"$error":"#REF!"}},{"$f":"IF(#REF!=$E$1,IF(#REF!=$G$1,IF(#REF!=\"\",NA(),#REF!),NA()),NA())","v":{"$error":"#REF!"}},{"$error":"#REF!"},{"$error":"#REF!"}]
[null,null,null,{"$f":"IF(#REF!=$E$1,IF(#REF!=$G$1,#REF!,NA()),NA())","v":{"$error":"#REF!"}},{"$f":"IF(#REF!=$E$1,IF(#REF!=$G$1,#REF!,NA()),NA())","v":{"$error":"#REF!"}},{"$f":"IF(#REF!=$E$1,IF(#REF!=$G$1,IF(#REF!=\"\",NA(),#REF!),NA()),NA())","v":{"$error":"#REF!"}},{"$f":"IF(#REF!=$E$1,IF(#REF!=$G$1,IF(#REF!=\"\",NA(),#REF!),NA()),NA())","v":{"$error":"#REF!"}},{"$error":"#REF!"},{"$error":"#REF!"}]
[null,null,null,{"$f":"IF(#REF!=$E$1,IF(#REF!=$G$1,#REF!,NA()),NA())","v":{"$error":"#REF!"}},{"$f":"IF(#REF!=$E$1,IF(#REF!=$G$1,#REF!,NA()),NA())","v":{"$error":"#REF!"}},{"$f":"IF(#REF!=$E$1,IF(#REF!=$G$1,IF(#REF!=\"\",NA(),#REF!),NA()),NA())","v":{"$error":"#REF!"}},{"$f":"IF(#REF!=$E$1,IF(#REF!=$G$1,IF(#REF!=\"\",NA(),#REF!),NA()),NA())","v":{"$error":"#REF!"}},{"$error":"#REF!"},{"$error":"#REF!"}]
[null,null,null,{"$f":"IF(#REF!=$E$1,IF(#REF!=$G$1,#REF!,NA()),NA())","v":{"$error":"#REF!"}},{"$f":"IF(#REF!=$E$1,IF(#REF!=$G$1,#REF!,NA()),NA())","v":{"$error":"#REF!"}},{"$f":"IF(#REF!=$E$1,IF(#REF!=$G$1,IF(#REF!=\"\",NA(),#REF!),NA()),NA())","v":{"$error":"#REF!"}},{"$f":"IF(#REF!=$E$1,IF(#REF!=$G$1,IF(#REF!=\"\",NA(),#REF!),NA()),NA())","v":{"$error":"#REF!"}},{"$error":"#REF!"},{"$error":"#REF!"}]
[null,null,null,{"$f":"IF(#REF!=$E$1,IF(#REF!=$G$1,#REF!,NA()),NA())","v":{"$error":"#REF!"}},{"$f":"IF(#REF!=$E$1,IF(#REF!=$G$1,#REF!,NA()),NA())","v":{"$error":"#REF!"}},{"$f":"IF(#REF!=$E$1,IF(#REF!=$G$1,IF(#REF!=\"\",NA(),#REF!),NA()),NA())","v":{"$error":"#REF!"}},{"$f":"IF(#REF!=$E$1,IF(#REF!=$G$1,IF(#REF!=\"\",NA(),#REF!),NA()),NA())","v":{"$error":"#REF!"}},{"$error":"#REF!"},{"$error":"#REF!"}]
[null,null,null,{"$f":"IF(#REF!=$E$1,IF(#REF!=$G$1,#REF!,NA()),NA())","v":{"$error":"#REF!"}},{"$f":"IF(#REF!=$E$1,IF(#REF!=$G$1,#REF!,NA()),NA())","v":{"$error":"#REF!"}},{"$f":"IF(#REF!=$E$1,IF(#REF!=$G$1,IF(#REF!=\"\",NA(),#REF!),NA()),NA())","v":{"$error":"#REF!"}},{"$f":"IF(#REF!=$E$1,IF(#REF!=$G$1,IF(#REF!=\"\",NA(),#REF!),NA()),NA())","v":{"$error":"#REF!"}},{"$error":"#REF!"},{"$error":"#REF!"}]
[null,null,null,{"$f":"IF(#REF!=$E$1,IF(#REF!=$G$1,#REF!,NA()),NA())","v":{"$error":"#REF!"}},{"$f":"IF(#REF!=$E$1,IF(#REF!=$G$1,#REF!,NA()),NA())","v":{"$error":"#REF!"}},{"$f":"IF(#REF!=$E$1,IF(#REF!=$G$1,IF(#REF!=\"\",NA(),#REF!),NA()),NA())","v":{"$error":"#REF!"}},{"$f":"IF(#REF!=$E$1,IF(#REF!=$G$1,IF(#REF!=\"\",NA(),#REF!),NA()),NA())","v":{"$error":"#REF!"}},{"$error":"#REF!"},{"$error":"#REF!"}]
[null,null,null,{"$f":"IF(#REF!=$E$1,IF(#REF!=$G$1,#REF!,NA()),NA())","v":{"$error":"#REF!"}},{"$f":"IF(#REF!=$E$1,IF(#REF!=$G$1,#REF!,NA()),NA())","v":{"$error":"#REF!"}},{"$f":"IF(#REF!=$E$1,IF(#REF!=$G$1,IF(#REF!=\"\",NA(),#REF!),NA()),NA())","v":{"$error":"#REF!"}},{"$f":"IF(#REF!=$E$1,IF(#REF!=$G$1,IF(#REF!=\"\",NA(),#REF!),NA()),NA())","v":{"$error":"#REF!"}},{"$error":"#REF!"},{"$error":"#REF!"}]
[null,null,null,{"$f":"IF(#REF!=$E$1,IF(#REF!=$G$1,#REF!,NA()),NA())","v":{"$error":"#REF!"}},{"$f":"IF(#REF!=$E$1,IF(#REF!=$G$1,#REF!,NA()),NA())","v":{"$error":"#REF!"}},{"$f":"IF(#REF!=$E$1,IF(#REF!=$G$1,IF(#REF!=\"\",NA(),#REF!),NA()),NA())","v":{"$error":"#REF!"}},{"$f":"IF(#REF!=$E$1,IF(#REF!=$G$1,IF(#REF!=\"\",NA(),#REF!),NA()),NA())","v":{"$error":"#REF!"}},{"$error":"#REF!"},{"$error":"#REF!"}]
[null,null,null,{"$f":"IF(#REF!=$E$1,IF(#REF!=$G$1,#REF!,NA()),NA())","v":{"$error":"#REF!"}},{"$f":"IF(#REF!=$E$1,IF(#REF!=$G$1,#REF!,NA()),NA())","v":{"$error":"#REF!"}},{"$f":"IF(#REF!=$E$1,IF(#REF!=$G$1,IF(#REF!=\"\",NA(),#REF!),NA()),NA())","v":{"$error":"#REF!"}},{"$f":"IF(#REF!=$E$1,IF(#REF!=$G$1,IF(#REF!=\"\",NA(),#REF!),NA()),NA())","v":{"$error":"#REF!"}},{"$error":"#REF!"},{"$error":"#REF!"}]
[null,null,null,{"$f":"IF(#REF!=$E$1,IF(#REF!=$G$1,#REF!,NA()),NA())","v":{"$error":"#REF!"}},{"$f":"IF(#REF!=$E$1,IF(#REF!=$G$1,#REF!,NA()),NA())","v":{"$error":"#REF!"}},{"$f":"IF(#REF!=$E$1,IF(#REF!=$G$1,IF(#REF!=\"\",NA(),#REF!),NA()),NA())","v":{"$error":"#REF!"}},{"$f":"IF(#REF!=$E$1,IF(#REF!=$G$1,IF(#REF!=\"\",NA(),#REF!),NA()),NA())","v":{"$error":"#REF!"}},{"$error":"#REF!"},{"$error":"#REF!"}]
[null,null,null,{"$f":"IF(#REF!=$E$1,IF(#REF!=$G$1,#REF!,NA()),NA())","v":{"$error":"#REF!"}},{"$f":"IF(#REF!=$E$1,IF(#REF!=$G$1,#REF!,NA()),NA())","v":{"$error":"#REF!"}},{"$f":"IF(#REF!=$E$1,IF(#REF!=$G$1,IF(#REF!=\"\",NA(),#REF!),NA()),NA())","v":{"$error":"#REF!"}},{"$f":"IF(#REF!=$E$1,IF(#REF!=$G$1,IF(#REF!=\"\",NA(),#REF!),NA()),NA())","v":{"$error":"#REF!"}},{"$error":"#REF!"},{"$error":"#REF!"}]
[null,null,null,{"$f":"IF(#REF!=$E$1,IF(#REF!=$G$1,#REF!,NA()),NA())","v":{"$error":"#REF!"}},{"$f":"IF(#REF!=$E$1,IF(#REF!=$G$1,#REF!,NA()),NA())","v":{"$error":"#REF!"}},{"$f":"IF(#REF!=$E$1,IF(#REF!=$G$1,IF(#REF!=\"\",NA(),#REF!),NA()),NA())","v":{"$error":"#REF!"}},{"$f":"IF(#REF!=$E$1,IF(#REF!=$G$1,IF(#REF!=\"\",NA(),#REF!),NA()),NA())","v":{"$error":"#REF!"}},{"$error":"#REF!"},{"$error":"#REF!"}]
[null,null,null,{"$f":"IF(#REF!=$E$1,IF(#REF!=$G$1,#REF!,NA()),NA())","v":{"$error":"#REF!"}},{"$f":"IF(#REF!=$E$1,IF(#REF!=$G$1,#REF!,NA()),NA())","v":{"$error":"#REF!"}},{"$f":"IF(#REF!=$E$1,IF(#REF!=$G$1,IF(#REF!=\"\",NA(),#REF!),NA()),NA())","v":{"$error":"#REF!"}},{"$f":"IF(#REF!=$E$1,IF(#REF!=$G$1,IF(#REF!=\"\",NA(),#REF!),NA()),NA())","v":{"$error":"#REF!"}},{"$error":"#REF!"},{"$error":"#REF!"}]
[null,null,null,{"$f":"IF(#REF!=$E$1,IF(#REF!=$G$1,#REF!,NA()),NA())","v":{"$error":"#REF!"}},{"$f":"IF(#REF!=$E$1,IF(#REF!=$G$1,#REF!,NA()),NA())","v":{"$error":"#REF!"}},{"$f":"IF(#REF!=$E$1,IF(#REF!=$G$1,IF(#REF!=\"\",NA(),#REF!),NA()),NA())","v":{"$error":"#REF!"}},{"$f":"IF(#REF!=$E$1,IF(#REF!=$G$1,IF(#REF!=\"\",NA(),#REF!),NA()),NA())","v":{"$error":"#REF!"}},{"$error":"#REF!"},{"$error":"#REF!"}]
[null,null,null,{"$f":"IF(#REF!=$E$1,IF(#REF!=$G$1,#REF!,NA()),NA())","v":{"$error":"#REF!"}},{"$f":"IF(#REF!=$E$1,IF(#REF!=$G$1,#REF!,NA()),NA())","v":{"$error":"#REF!"}},{"$f":"IF(#REF!=$E$1,IF(#REF!=$G$1,IF(#REF!=\"\",NA(),#REF!),NA()),NA())","v":{"$error":"#REF!"}},{"$f":"IF(#REF!=$E$1,IF(#REF!=$G$1,IF(#REF!=\"\",NA(),#REF!),NA()),NA())","v":{"$error":"#REF!"}},{"$error":"#REF!"},{"$error":"#REF!"}]
[null,null,null,{"$f":"IF(#REF!=$E$1,IF(#REF!=$G$1,#REF!,NA()),NA())","v":{"$error":"#REF!"}},{"$f":"IF(#REF!=$E$1,IF(#REF!=$G$1,#REF!,NA()),NA())","v":{"$error":"#REF!"}},{"$f":"IF(#REF!=$E$1,IF(#REF!=$G$1,IF(#REF!=\"\",NA(),#REF!),NA()),NA())","v":{"$error":"#REF!"}},{"$f":"IF(#REF!=$E$1,IF(#REF!=$G$1,IF(#REF!=\"\",NA(),#REF!),NA()),NA())","v":{"$error":"#REF!"}},{"$error":"#REF!"},{"$error":"#REF!"}]
[null,null,null,{"$f":"IF(#REF!=$E$1,IF(#REF!=$G$1,#REF!,NA()),NA())","v":{"$error":"#REF!"}},{"$f":"IF(#REF!=$E$1,IF(#REF!=$G$1,#REF!,NA()),NA())","v":{"$error":"#REF!"}},{"$f":"IF(#REF!=$E$1,IF(#REF!=$G$1,IF(#REF!=\"\",NA(),#REF!),NA()),NA())","v":{"$error":"#REF!"}},{"$f":"IF(#REF!=$E$1,IF(#REF!=$G$1,IF(#REF!=\"\",NA(),#REF!),NA()),NA())","v":{"$error":"#REF!"}},{"$error":"#REF!"},{"$error":"#REF!"}]
[null,null,null,{"$f":"IF(#REF!=$E$1,IF(#REF!=$G$1,#REF!,NA()),NA())","v":{"$error":"#REF!"}},{"$f":"IF(#REF!=$E$1,IF(#REF!=$G$1,#REF!,NA()),NA())","v":{"$error":"#REF!"}},{"$f":"IF(#REF!=$E$1,IF(#REF!=$G$1,IF(#REF!=\"\",NA(),#REF!),NA()),NA())","v":{"$error":"#REF!"}},{"$f":"IF(#REF!=$E$1,IF(#REF!=$G$1,IF(#REF!=\"\",NA(),#REF!),NA()),NA())","v":{"$error":"#REF!"}},{"$error":"#REF!"},{"$error":"#REF!"}]
[null,null,null,{"$f":"IF(#REF!=$E$1,IF(#REF!=$G$1,#REF!,NA()),NA())","v":{"$error":"#REF!"}},{"$f":"IF(#REF!=$E$1,IF(#REF!=$G$1,#REF!,NA()),NA())","v":{"$error":"#REF!"}},{"$f":"IF(#REF!=$E$1,IF(#REF!=$G$1,IF(#REF!=\"\",NA(),#REF!),NA()),NA())","v":{"$error":"#REF!"}},{"$f":"IF(#REF!=$E$1,IF(#REF!=$G$1,IF(#REF!=\"\",NA(),#REF!),NA()),NA())","v":{"$error":"#REF!"}},{"$error":"#REF!"},{"$error":"#REF!"}]
[null,null,null,{"$f":"IF(#REF!=$E$1,IF(#REF!=$G$1,#REF!,NA()),NA())","v":{"$error":"#REF!"}},{"$f":"IF(#REF!=$E$1,IF(#REF!=$G$1,#REF!,NA()),NA())","v":{"$error":"#REF!"}},{"$f":"IF(#REF!=$E$1,IF(#REF!=$G$1,IF(#REF!=\"\",NA(),#REF!),NA()),NA())","v":{"$error":"#REF!"}},{"$f":"IF(#REF!=$E$1,IF(#REF!=$G$1,IF(#REF!=\"\",NA(),#REF!),NA()),NA())","v":{"$error":"#REF!"}},{"$error":"#REF!"},{"$error":"#REF!"}]
[null,null,null,{"$f":"IF(#REF!=$E$1,IF(#REF!=$G$1,#REF!,NA()),NA())","v":{"$error":"#REF!"}},{"$f":"IF(#REF!=$E$1,IF(#REF!=$G$1,#REF!,NA()),NA())","v":{"$error":"#REF!"}},{"$f":"IF(#REF!=$E$1,IF(#REF!=$G$1,IF(#REF!=\"\",NA(),#REF!),NA()),NA())","v":{"$error":"#REF!"}},{"$f":"IF(#REF!=$E$1,IF(#REF!=$G$1,IF(#REF!=\"\",NA(),#REF!),NA()),NA())","v":{"$error":"#REF!"}},{"$error":"#REF!"},{"$error":"#REF!"}]
[null,null,null,{"$f":"IF(#REF!=$E$1,IF(#REF!=$G$1,#REF!,NA()),NA())","v":{"$error":"#REF!"}},{"$f":"IF(#REF!=$E$1,IF(#REF!=$G$1,#REF!,NA()),NA())","v":{"$error":"#REF!"}},{"$f":"IF(#REF!=$E$1,IF(#REF!=$G$1,IF(#REF!=\"\",NA(),#REF!),NA()),NA())","v":{"$error":"#REF!"}},{"$f":"IF(#REF!=$E$1,IF(#REF!=$G$1,IF(#REF!=\"\",NA(),#REF!),NA()),NA())","v":{"$error":"#REF!"}},{"$error":"#REF!"},{"$error":"#REF!"}]
[null,null,null,{"$f":"IF(#REF!=$E$1,IF(#REF!=$G$1,#REF!,NA()),NA())","v":{"$error":"#REF!"}},{"$f":"IF(#REF!=$E$1,IF(#REF!=$G$1,#REF!,NA()),NA())","v":{"$error":"#REF!"}},{"$f":"IF(#REF!=$E$1,IF(#REF!=$G$1,IF(#REF!=\"\",NA(),#REF!),NA()),NA())","v":{"$error":"#REF!"}},{"$f":"IF(#REF!=$E$1,IF(#REF!=$G$1,IF(#REF!=\"\",NA(),#REF!),NA()),NA())","v":{"$error":"#REF!"}},{"$error":"#REF!"},{"$error":"#REF!"}]
[null,null,null,{"$f":"IF(#REF!=$E$1,IF(#REF!=$G$1,#REF!,NA()),NA())","v":{"$error":"#REF!"}},{"$f":"IF(#REF!=$E$1,IF(#REF!=$G$1,#REF!,NA()),NA())","v":{"$error":"#REF!"}},{"$f":"IF(#REF!=$E$1,IF(#REF!=$G$1,IF(#REF!=\"\",NA(),#REF!),NA()),NA())","v":{"$error":"#REF!"}},{"$f":"IF(#REF!=$E$1,IF(#REF!=$G$1,IF(#REF!=\"\",NA(),#REF!),NA()),NA())","v":{"$error":"#REF!"}},{"$error":"#REF!"},{"$error":"#REF!"}]
[null,null,null,{"$f":"IF(#REF!=$E$1,IF(#REF!=$G$1,#REF!,NA()),NA())","v":{"$error":"#REF!"}},{"$f":"IF(#REF!=$E$1,IF(#REF!=$G$1,#REF!,NA()),NA())","v":{"$error":"#REF!"}},{"$f":"IF(#REF!=$E$1,IF(#REF!=$G$1,IF(#REF!=\"\",NA(),#REF!),NA()),NA())","v":{"$error":"#REF!"}},{"$f":"IF(#REF!=$E$1,IF(#REF!=$G$1,IF(#REF!=\"\",NA(),#REF!),NA()),NA())","v":{"$error":"#REF!"}},{"$error":"#REF!"},{"$error":"#REF!"}]
[null,null,null,{"$f":"IF(#REF!=$E$1,IF(#REF!=$G$1,#REF!,NA()),NA())","v":{"$error":"#REF!"}},{"$f":"IF(#REF!=$E$1,IF(#REF!=$G$1,#REF!,NA()),NA())","v":{"$error":"#REF!"}},{"$f":"IF(#REF!=$E$1,IF(#REF!=$G$1,IF(#REF!=\"\",NA(),#REF!),NA()),NA())","v":{"$error":"#REF!"}},{"$f":"IF(#REF!=$E$1,IF(#REF!=$G$1,IF(#REF!=\"\",NA(),#REF!),NA()),NA())","v":{"$error":"#REF!"}},{"$f":"IF(AND(ISNUMBER(G68),F68=\"-\"),0,F68)","v":{"$error":"#REF!"}},{"$f":"IF(AND(ISNUMBER(F68),G68=\"-\"),0,G68)","v":{"$error":"#REF!"}}]
[null,null,null,{"$f":"IF(#REF!=$E$1,IF(#REF!=$G$1,#REF!,NA()),NA())","v":{"$error":"#REF!"}},{"$f":"IF(#REF!=$E$1,IF(#REF!=$G$1,#REF!,NA()),NA())","v":{"$error":"#REF!"}},{"$f":"IF(#REF!=$E$1,IF(#REF!=$G$1,IF(#REF!=\"\",NA(),#REF!),NA()),NA())","v":{"$error":"#REF!"}},{"$f":"IF(#REF!=$E$1,IF(#REF!=$G$1,IF(#REF!=\"\",NA(),#REF!),NA()),NA())","v":{"$error":"#REF!"}},{"$error":"#REF!"},{"$error":"#REF!"}]
[null,null,null,{"$f":"IF(#REF!=$E$1,IF(#REF!=$G$1,#REF!,NA()),NA())","v":{"$error":"#REF!"}},{"$f":"IF(#REF!=$E$1,IF(#REF!=$G$1,#REF!,NA()),NA())","v":{"$error":"#REF!"}},{"$f":"IF(#REF!=$E$1,IF(#REF!=$G$1,IF(#REF!=\"\",NA(),#REF!),NA()),NA())","v":{"$error":"#REF!"}},{"$f":"IF(#REF!=$E$1,IF(#REF!=$G$1,IF(#REF!=\"\",NA(),#REF!),NA()),NA())","v":{"$error":"#REF!"}},{"$error":"#REF!"},{"$error":"#REF!"}]
[null,null,null,{"$f":"IF(#REF!=$E$1,IF(#REF!=$G$1,#REF!,NA()),NA())","v":{"$error":"#REF!"}},{"$f":"IF(#REF!=$E$1,IF(#REF!=$G$1,#REF!,NA()),NA())","v":{"$error":"#REF!"}},{"$f":"IF(#REF!=$E$1,IF(#REF!=$G$1,IF(#REF!=\"\",NA(),#REF!),NA()),NA())","v":{"$error":"#REF!"}},{"$f":"IF(#REF!=$E$1,IF(#REF!=$G$1,IF(#REF!=\"\",NA(),#REF!),NA()),NA())","v":{"$error":"#REF!"}},{"$error":"#REF!"},{"$error":"#REF!"}]
[null,null,null,{"$f":"IF(#REF!=$E$1,IF(#REF!=$G$1,#REF!,NA()),NA())","v":{"$error":"#REF!"}},{"$f":"IF(#REF!=$E$1,IF(#REF!=$G$1,#REF!,NA()),NA())","v":{"$error":"#REF!"}},{"$f":"IF(#REF!=$E$1,IF(#REF!=$G$1,IF(#REF!=\"\",NA(),#REF!),NA()),NA())","v":{"$error":"#REF!"}},{"$f":"IF(#REF!=$E$1,IF(#REF!=$G$1,IF(#REF!=\"\",NA(),#REF!),NA()),NA())","v":{"$error":"#REF!"}},{"$error":"#REF!"},{"$error":"#REF!"}]
[null,null,null,{"$f":"IF(#REF!=$E$1,IF(#REF!=$G$1,#REF!,NA()),NA())","v":{"$error":"#REF!"}},{"$f":"IF(#REF!=$E$1,IF(#REF!=$G$1,#REF!,NA()),NA())","v":{"$error":"#REF!"}},{"$f":"IF(#REF!=$E$1,IF(#REF!=$G$1,IF(#REF!=\"\",NA(),#REF!),NA()),NA())","v":{"$error":"#REF!"}},{"$f":"IF(#REF!=$E$1,IF(#REF!=$G$1,IF(#REF!=\"\",NA(),#REF!),NA()),NA())","v":{"$error":"#REF!"}},{"$error":"#REF!"},{"$error":"#REF!"}]
[null,null,null,{"$f":"IF(#REF!=$E$1,IF(#REF!=$G$1,#REF!,NA()),NA())","v":{"$error":"#REF!"}},{"$f":"IF(#REF!=$E$1,IF(#REF!=$G$1,#REF!,NA()),NA())","v":{"$error":"#REF!"}},{"$f":"IF(#REF!=$E$1,IF(#REF!=$G$1,IF(#REF!=\"\",NA(),#REF!),NA()),NA())","v":{"$error":"#REF!"}},{"$f":"IF(#REF!=$E$1,IF(#REF!=$G$1,IF(#REF!=\"\",NA(),#REF!),NA()),NA())","v":{"$error":"#REF!"}},{"$error":"#REF!"},{"$error":"#REF!"}]
[null,null,null,{"$f":"IF(#REF!=$E$1,IF(#REF!=$G$1,#REF!,NA()),NA())","v":{"$error":"#REF!"}},{"$f":"IF(#REF!=$E$1,IF(#REF!=$G$1,#REF!,NA()),NA())","v":{"$error":"#REF!"}},{"$f":"IF(#REF!=$E$1,IF(#REF!=$G$1,IF(#REF!=\"\",NA(),#REF!),NA()),NA())","v":{"$error":"#REF!"}},{"$f":"IF(#REF!=$E$1,IF(#REF!=$G$1,IF(#REF!=\"\",NA(),#REF!),NA()),NA())","v":{"$error":"#REF!"}},{"$error":"#REF!"},{"$error":"#REF!"}]
[null,null,null,{"$f":"IF(#REF!=$E$1,IF(#REF!=$G$1,#REF!,NA()),NA())","v":{"$error":"#REF!"}},{"$f":"IF(#REF!=$E$1,IF(#REF!=$G$1,#REF!,NA()),NA())","v":{"$error":"#REF!"}},{"$f":"IF(#REF!=$E$1,IF(#REF!=$G$1,IF(#REF!=\"\",NA(),#REF!),NA()),NA())","v":{"$error":"#REF!"}},{"$f":"IF(#REF!=$E$1,IF(#REF!=$G$1,IF(#REF!=\"\",NA(),#REF!),NA()),NA())","v":{"$error":"#REF!"}},{"$error":"#REF!"},{"$error":"#REF!"}]
[null,null,null,{"$f":"IF(#REF!=$E$1,IF(#REF!=$G$1,#REF!,NA()),NA())","v":{"$error":"#REF!"}},{"$f":"IF(#REF!=$E$1,IF(#REF!=$G$1,#REF!,NA()),NA())","v":{"$error":"#REF!"}},{"$f":"IF(#REF!=$E$1,IF(#REF!=$G$1,IF(#REF!=\"\",NA(),#REF!),NA()),NA())","v":{"$error":"#REF!"}},{"$f":"IF(#REF!=$E$1,IF(#REF!=$G$1,IF(#REF!=\"\",NA(),#REF!),NA()),NA())","v":{"$error":"#REF!"}},{"$error":"#REF!"},{"$error":"#REF!"}]
[null,null,null,{"$f":"IF(#REF!=$E$1,IF(#REF!=$G$1,#REF!,NA()),NA())","v":{"$error":"#REF!"}},{"$f":"IF(#REF!=$E$1,IF(#REF!=$G$1,#REF!,NA()),NA())","v":{"$error":"#REF!"}},{"$f":"IF(#REF!=$E$1,IF(#REF!=$G$1,IF(#REF!=\"\",NA(),#REF!),NA()),NA())","v":{"$error":"#REF!"}},{"$f":"IF(#REF!=$E$1,IF(#REF!=$G$1,IF(#REF!=\"\",NA(),#REF!),NA()),NA())","v":{"$error":"#REF!"}},{"$error":"#REF!"},{"$error":"#REF!"}]
[null,null,null,{"$f":"IF(#REF!=$E$1,IF(#REF!=$G$1,#REF!,NA()),NA())","v":{"$error":"#REF!"}},{"$f":"IF(#REF!=$E$1,IF(#REF!=$G$1,#REF!,NA()),NA())","v":{"$error":"#REF!"}},{"$f":"IF(#REF!=$E$1,IF(#REF!=$G$1,IF(#REF!=\"\",NA(),#REF!),NA()),NA())","v":{"$error":"#REF!"}},{"$f":"IF(#REF!=$E$1,IF(#REF!=$G$1,IF(#REF!=\"\",NA(),#REF!),NA()),NA())","v":{"$error":"#REF!"}},{"$error":"#REF!"},{"$error":"#REF!"}]
[null,null,null,{"$f":"IF(#REF!=$E$1,IF(#REF!=$G$1,#REF!,NA()),NA())","v":{"$error":"#REF!"}},{"$f":"IF(#REF!=$E$1,IF(#REF!=$G$1,#REF!,NA()),NA())","v":{"$error":"#REF!"}},{"$f":"IF(#REF!=$E$1,IF(#REF!=$G$1,IF(#REF!=\"\",NA(),#REF!),NA()),NA())","v":{"$error":"#REF!"}},{"$f":"IF(#REF!=$E$1,IF(#REF!=$G$1,IF(#REF!=\"\",NA(),#REF!),NA()),NA())","v":{"$error":"#REF!"}},{"$error":"#REF!"},{"$error":"#REF!"}]
[null,null,null,{"$f":"IF(#REF!=$E$1,IF(#REF!=$G$1,#REF!,NA()),NA())","v":{"$error":"#REF!"}},{"$f":"IF(#REF!=$E$1,IF(#REF!=$G$1,#REF!,NA()),NA())","v":{"$error":"#REF!"}},{"$f":"IF(#REF!=$E$1,IF(#REF!=$G$1,IF(#REF!=\"\",NA(),#REF!),NA()),NA())","v":{"$error":"#REF!"}},{"$f":"IF(#REF!=$E$1,IF(#REF!=$G$1,IF(#REF!=\"\",NA(),#REF!),NA()),NA())","v":{"$error":"#REF!"}},{"$error":"#REF!"},{"$error":"#REF!"}]
[null,null,null,{"$f":"IF(#REF!=$E$1,IF(#REF!=$G$1,#REF!,NA()),NA())","v":{"$error":"#REF!"}},{"$f":"IF(#REF!=$E$1,IF(#REF!=$G$1,#REF!,NA()),NA())","v":{"$error":"#REF!"}},{"$f":"IF(#REF!=$E$1,IF(#REF!=$G$1,IF(#REF!=\"\",NA(),#REF!),NA()),NA())","v":{"$error":"#REF!"}},{"$f":"IF(#REF!=$E$1,IF(#REF!=$G$1,IF(#REF!=\"\",NA(),#REF!),NA()),NA())","v":{"$error":"#REF!"}},{"$error":"#REF!"},{"$error":"#REF!"}]
[null,null,null,{"$f":"IF(#REF!=$E$1,IF(#REF!=$G$1,#REF!,NA()),NA())","v":{"$error":"#REF!"}},{"$f":"IF(#REF!=$E$1,IF(#REF!=$G$1,#REF!,NA()),NA())","v":{"$error":"#REF!"}},{"$f":"IF(#REF!=$E$1,IF(#REF!=$G$1,IF(#REF!=\"\",NA(),#REF!),NA()),NA())","v":{"$error":"#REF!"}},{"$f":"IF(#REF!=$E$1,IF(#REF!=$G$1,IF(#REF!=\"\",NA(),#REF!),NA()),NA())","v":{"$error":"#REF!"}},{"$error":"#REF!"},{"$error":"#REF!"}]
[null,null,null,{"$f":"IF(#REF!=$E$1,IF(#REF!=$G$1,#REF!,NA()),NA())","v":{"$error":"#REF!"}},{"$f":"IF(#REF!=$E$1,IF(#REF!=$G$1,#REF!,NA()),NA())","v":{"$error":"#REF!"}},{"$f":"IF(#REF!=$E$1,IF(#REF!=$G$1,IF(#REF!=\"\",NA(),#REF!),NA()),NA())","v":{"$error":"#REF!"}},{"$f":"IF(#REF!=$E$1,IF(#REF!=$G$1,IF(#REF!=\"\",NA(),#REF!),NA()),NA())","v":{"$error":"#REF!"}},{"$error":"#REF!"},{"$error":"#REF!"}]
[null,null,null,{"$f":"IF(#REF!=$E$1,IF(#REF!=$G$1,#REF!,NA()),NA())","v":{"$error":"#REF!"}},{"$f":"IF(#REF!=$E$1,IF(#REF!=$G$1,#REF!,NA()),NA())","v":{"$error":"#REF!"}},{"$f":"IF(#REF!=$E$1,IF(#REF!=$G$1,IF(#REF!=\"\",NA(),#REF!),NA()),NA())","v":{"$error":"#REF!"}},{"$f":"IF(#REF!=$E$1,IF(#REF!=$G$1,IF(#REF!=\"\",NA(),#REF!),NA()),NA())","v":{"$error":"#REF!"}},{"$error":"#REF!"},{"$error":"#REF!"}]
[null,null,null,{"$f":"IF(#REF!=$E$1,IF(#REF!=$G$1,#REF!,NA()),NA())","v":{"$error":"#REF!"}},{"$f":"IF(#REF!=$E$1,IF(#REF!=$G$1,#REF!,NA()),NA())","v":{"$error":"#REF!"}},{"$f":"IF(#REF!=$E$1,IF(#REF!=$G$1,IF(#REF!=\"\",NA(),#REF!),NA()),NA())","v":{"$error":"#REF!"}},{"$f":"IF(#REF!=$E$1,IF(#REF!=$G$1,IF(#REF!=\"\",NA(),#REF!),NA()),NA())","v":{"$error":"#REF!"}},{"$error":"#REF!"},{"$error":"#REF!"}]
[null,null,null,{"$f":"IF(#REF!=$E$1,IF(#REF!=$G$1,#REF!,NA()),NA())","v":{"$error":"#REF!"}},{"$f":"IF(#REF!=$E$1,IF(#REF!=$G$1,#REF!,NA()),NA())","v":{"$error":"#REF!"}},{"$f":"IF(#REF!=$E$1,IF(#REF!=$G$1,IF(#REF!=\"\",NA(),#REF!),NA()),NA())","v":{"$error":"#REF!"}},{"$f":"IF(#REF!=$E$1,IF(#REF!=$G$1,IF(#REF!=\"\",NA(),#REF!),NA()),NA())","v":{"$error":"#REF!"}},{"$error":"#REF!"},{"$error":"#REF!"}]
[null,null,null,{"$f":"IF(#REF!=$E$1,IF(#REF!=$G$1,#REF!,NA()),NA())","v":{"$error":"#REF!"}},{"$f":"IF(#REF!=$E$1,IF(#REF!=$G$1,#REF!,NA()),NA())","v":{"$error":"#REF!"}},{"$f":"IF(#REF!=$E$1,IF(#REF!=$G$1,IF(#REF!=\"\",NA(),#REF!),NA()),NA())","v":{"$error":"#REF!"}},{"$f":"IF(#REF!=$E$1,IF(#REF!=$G$1,IF(#REF!=\"\",NA(),#REF!),NA()),NA())","v":{"$error":"#REF!"}},{"$error":"#REF!"},{"$error":"#REF!"}]
[null,null,null,{"$f":"IF(#REF!=$E$1,IF(#REF!=$G$1,#REF!,NA()),NA())","v":{"$error":"#REF!"}},{"$f":"IF(#REF!=$E$1,IF(#REF!=$G$1,#REF!,NA()),NA())","v":{"$error":"#REF!"}},{"$f":"IF(#REF!=$E$1,IF(#REF!=$G$1,IF(#REF!=\"\",NA(),#REF!),NA()),NA())","v":{"$error":"#REF!"}},{"$f":"IF(#REF!=$E$1,IF(#REF!=$G$1,IF(#REF!=\"\",NA(),#REF!),NA()),NA())","v":{"$error":"#REF!"}},{"$error":"#REF!"},{"$error":"#REF!"}]
[null,null,null,{"$f":"IF(#REF!=$E$1,IF(#REF!=$G$1,#REF!,NA()),NA())","v":{"$error":"#REF!"}},{"$f":"IF(#REF!=$E$1,IF(#REF!=$G$1,#REF!,NA()),NA())","v":{"$error":"#REF!"}},{"$f":"IF(#REF!=$E$1,IF(#REF!=$G$1,IF(#REF!=\"\",NA(),#REF!),NA()),NA())","v":{"$error":"#REF!"}},{"$f":"IF(#REF!=$E$1,IF(#REF!=$G$1,IF(#REF!=\"\",NA(),#REF!),NA()),NA())","v":{"$error":"#REF!"}},{"$error":"#REF!"},{"$error":"#REF!"}]
[null,null,null,{"$f":"IF(#REF!=$E$1,IF(#REF!=$G$1,#REF!,NA()),NA())","v":{"$error":"#REF!"}},{"$f":"IF(#REF!=$E$1,IF(#REF!=$G$1,#REF!,NA()),NA())","v":{"$error":"#REF!"}},{"$f":"IF(#REF!=$E$1,IF(#REF!=$G$1,IF(#REF!=\"\",NA(),#REF!),NA()),NA())","v":{"$error":"#REF!"}},{"$f":"IF(#REF!=$E$1,IF(#REF!=$G$1,IF(#REF!=\"\",NA(),#REF!),NA()),NA())","v":{"$error":"#REF!"}},{"$error":"#REF!"},{"$error":"#REF!"}]
[null,null,null,{"$f":"IF(#REF!=$E$1,IF(#REF!=$G$1,#REF!,NA()),NA())","v":{"$error":"#REF!"}},{"$f":"IF(#REF!=$E$1,IF(#REF!=$G$1,#REF!,NA()),NA())","v":{"$error":"#REF!"}},{"$f":"IF(#REF!=$E$1,IF(#REF!=$G$1,IF(#REF!=\"\",NA(),#REF!),NA()),NA())","v":{"$error":"#REF!"}},{"$f":"IF(#REF!=$E$1,IF(#REF!=$G$1,IF(#REF!=\"\",NA(),#REF!),NA()),NA())","v":{"$error":"#REF!"}},{"$error":"#REF!"},{"$error":"#REF!"}]
[null,null,null,{"$f":"IF(#REF!=$E$1,IF(#REF!=$G$1,#REF!,NA()),NA())","v":{"$error":"#REF!"}},{"$f":"IF(#REF!=$E$1,IF(#REF!=$G$1,#REF!,NA()),NA())","v":{"$error":"#REF!"}},{"$f":"IF(#REF!=$E$1,IF(#REF!=$G$1,IF(#REF!=\"\",NA(),#REF!),NA()),NA())","v":{"$error":"#REF!"}},{"$f":"IF(#REF!=$E$1,IF(#REF!=$G$1,IF(#REF!=\"\",NA(),#REF!),NA()),NA())","v":{"$error":"#REF!"}},{"$error":"#REF!"},{"$error":"#REF!"}]
[null,null,null,{"$f":"IF(#REF!=$E$1,IF(#REF!=$G$1,#REF!,NA()),NA())","v":{"$error":"#REF!"}},{"$f":"IF(#REF!=$E$1,IF(#REF!=$G$1,#REF!,NA()),NA())","v":{"$error":"#REF!"}},{"$f":"IF(#REF!=$E$1,IF(#REF!=$G$1,IF(#REF!=\"\",NA(),#REF!),NA()),NA())","v":{"$error":"#REF!"}},{"$f":"IF(#REF!=$E$1,IF(#REF!=$G$1,IF(#REF!=\"\",NA(),#REF!),NA()),NA())","v":{"$error":"#REF!"}},{"$error":"#REF!"},{"$error":"#REF!"}]
[null,null,null,{"$f":"IF(#REF!=$E$1,IF(#REF!=$G$1,#REF!,NA()),NA())","v":{"$error":"#REF!"}},{"$f":"IF(#REF!=$E$1,IF(#REF!=$G$1,#REF!,NA()),NA())","v":{"$error":"#REF!"}},{"$f":"IF(#REF!=$E$1,IF(#REF!=$G$1,IF(#REF!=\"\",NA(),#REF!),NA()),NA())","v":{"$error":"#REF!"}},{"$f":"IF(#REF!=$E$1,IF(#REF!=$G$1,IF(#REF!=\"\",NA(),#REF!),NA()),NA())","v":{"$error":"#REF!"}},{"$error":"#REF!"},{"$error":"#REF!"}]
[null,null,null,{"$f":"IF(#REF!=$E$1,IF(#REF!=$G$1,#REF!,NA()),NA())","v":{"$error":"#REF!"}},{"$f":"IF(#REF!=$E$1,IF(#REF!=$G$1,#REF!,NA()),NA())","v":{"$error":"#REF!"}},{"$f":"IF(#REF!=$E$1,IF(#REF!=$G$1,IF(#REF!=\"\",NA(),#REF!),NA()),NA())","v":{"$error":"#REF!"}},{"$f":"IF(#REF!=$E$1,IF(#REF!=$G$1,IF(#REF!=\"\",NA(),#REF!),NA()),NA())","v":{"$error":"#REF!"}},{"$error":"#REF!"},{"$error":"#REF!"}]
[null,null,null,{"$f":"IF(#REF!=$E$1,IF(#REF!=$G$1,#REF!,NA()),NA())","v":{"$error":"#REF!"}},{"$f":"IF(#REF!=$E$1,IF(#REF!=$G$1,#REF!,NA()),NA())","v":{"$error":"#REF!"}},{"$f":"IF(#REF!=$E$1,IF(#REF!=$G$1,IF(#REF!=\"\",NA(),#REF!),NA()),NA())","v":{"$error":"#REF!"}},{"$f":"IF(#REF!=$E$1,IF(#REF!=$G$1,IF(#REF!=\"\",NA(),#REF!),NA()),NA())","v":{"$error":"#REF!"}},{"$error":"#REF!"},{"$error":"#REF!"}]
[null,null,null,{"$f":"IF(#REF!=$E$1,IF(#REF!=$G$1,#REF!,NA()),NA())","v":{"$error":"#REF!"}},{"$f":"IF(#REF!=$E$1,IF(#REF!=$G$1,#REF!,NA()),NA())","v":{"$error":"#REF!"}},{"$f":"IF(#REF!=$E$1,IF(#REF!=$G$1,IF(#REF!=\"\",NA(),#REF!),NA()),NA())","v":{"$error":"#REF!"}},{"$f":"IF(#REF!=$E$1,IF(#REF!=$G$1,IF(#REF!=\"\",NA(),#REF!),NA()),NA())","v":{"$error":"#REF!"}},{"$error":"#REF!"},{"$error":"#REF!"}]
[null,null,null,{"$f":"IF(#REF!=$E$1,IF(#REF!=$G$1,#REF!,NA()),NA())","v":{"$error":"#REF!"}},{"$f":"IF(#REF!=$E$1,IF(#REF!=$G$1,#REF!,NA()),NA())","v":{"$error":"#REF!"}},{"$f":"IF(#REF!=$E$1,IF(#REF!=$G$1,IF(#REF!=\"\",NA(),#REF!),NA()),NA())","v":{"$error":"#REF!"}},{"$f":"IF(#REF!=$E$1,IF(#REF!=$G$1,IF(#REF!=\"\",NA(),#REF!),NA()),NA())","v":{"$error":"#REF!"}},{"$error":"#REF!"},{"$error":"#REF!"}]
[null,null,null,{"$f":"IF(#REF!=$E$1,IF(#REF!=$G$1,#REF!,NA()),NA())","v":{"$error":"#REF!"}},{"$f":"IF(#REF!=$E$1,IF(#REF!=$G$1,#REF!,NA()),NA())","v":{"$error":"#REF!"}},{"$f":"IF(#REF!=$E$1,IF(#REF!=$G$1,IF(#REF!=\"\",NA(),#REF!),NA()),NA())","v":{"$error":"#REF!"}},{"$f":"IF(#REF!=$E$1,IF(#REF!=$G$1,IF(#REF!=\"\",NA(),#REF!),NA()),NA())","v":{"$error":"#REF!"}},{"$error":"#REF!"},{"$error":"#REF!"}]
[null,null,null,{"$f":"IF(#REF!=$E$1,IF(#REF!=$G$1,#REF!,NA()),NA())","v":{"$error":"#REF!"}},{"$f":"IF(#REF!=$E$1,IF(#REF!=$G$1,#REF!,NA()),NA())","v":{"$error":"#REF!"}},{"$f":"IF(#REF!=$E$1,IF(#REF!=$G$1,IF(#REF!=\"\",NA(),#REF!),NA()),NA())","v":{"$error":"#REF!"}},{"$f":"IF(#REF!=$E$1,IF(#REF!=$G$1,IF(#REF!=\"\",NA(),#REF!),NA()),NA())","v":{"$error":"#REF!"}},{"$error":"#REF!"},{"$error":"#REF!"}]
[null,null,null,{"$f":"IF(#REF!=$E$1,IF(#REF!=$G$1,#REF!,NA()),NA())","v":{"$error":"#REF!"}},{"$f":"IF(#REF!=$E$1,IF(#REF!=$G$1,#REF!,NA()),NA())","v":{"$error":"#REF!"}},{"$f":"IF(#REF!=$E$1,IF(#REF!=$G$1,IF(#REF!=\"\",NA(),#REF!),NA()),NA())","v":{"$error":"#REF!"}},{"$f":"IF(#REF!=$E$1,IF(#REF!=$G$1,IF(#REF!=\"\",NA(),#REF!),NA()),NA())","v":{"$error":"#REF!"}},{"$error":"#REF!"},{"$error":"#REF!"}]
[null,null,null,{"$f":"IF(#REF!=$E$1,IF(#REF!=$G$1,#REF!,NA()),NA())","v":{"$error":"#REF!"}},{"$f":"IF(#REF!=$E$1,IF(#REF!=$G$1,#REF!,NA()),NA())","v":{"$error":"#REF!"}},{"$f":"IF(#REF!=$E$1,IF(#REF!=$G$1,IF(#REF!=\"\",NA(),#REF!),NA()),NA())","v":{"$error":"#REF!"}},{"$f":"IF(#REF!=$E$1,IF(#REF!=$G$1,IF(#REF!=\"\",NA(),#REF!),NA()),NA())","v":{"$error":"#REF!"}},{"$error":"#REF!"},{"$error":"#REF!"}]
[null,null,null,{"$f":"IF(#REF!=$E$1,IF(#REF!=$G$1,#REF!,NA()),NA())","v":{"$error":"#REF!"}},{"$f":"IF(#REF!=$E$1,IF(#REF!=$G$1,#REF!,NA()),NA())","v":{"$error":"#REF!"}},{"$f":"IF(#REF!=$E$1,IF(#REF!=$G$1,IF(#REF!=\"\",NA(),#REF!),NA()),NA())","v":{"$error":"#REF!"}},{"$f":"IF(#REF!=$E$1,IF(#REF!=$G$1,IF(#REF!=\"\",NA(),#REF!),NA()),NA())","v":{"$error":"#REF!"}},{"$error":"#REF!"},{"$error":"#REF!"}]
[null,null,null,{"$f":"IF(#REF!=$E$1,IF(#REF!=$G$1,#REF!,NA()),NA())","v":{"$error":"#REF!"}},{"$f":"IF(#REF!=$E$1,IF(#REF!=$G$1,#REF!,NA()),NA())","v":{"$error":"#REF!"}},{"$f":"IF(#REF!=$E$1,IF(#REF!=$G$1,IF(#REF!=\"\",NA(),#REF!),NA()),NA())","v":{"$error":"#REF!"}},{"$f":"IF(#REF!=$E$1,IF(#REF!=$G$1,IF(#REF!=\"\",NA(),#REF!),NA()),NA())","v":{"$error":"#REF!"}},{"$error":"#REF!"},{"$error":"#REF!"}]
[null,null,null,{"$f":"IF(#REF!=$E$1,IF(#REF!=$G$1,#REF!,NA()),NA())","v":{"$error":"#REF!"}},{"$f":"IF(#REF!=$E$1,IF(#REF!=$G$1,#REF!,NA()),NA())","v":{"$error":"#REF!"}},{"$f":"IF(#REF!=$E$1,IF(#REF!=$G$1,IF(#REF!=\"\",NA(),#REF!),NA()),NA())","v":{"$error":"#REF!"}},{"$f":"IF(#REF!=$E$1,IF(#REF!=$G$1,IF(#REF!=\"\",NA(),#REF!),NA()),NA())","v":{"$error":"#REF!"}},{"$error":"#REF!"},{"$error":"#REF!"}]
[null,null,null,{"$f":"IF(#REF!=$E$1,IF(#REF!=$G$1,#REF!,NA()),NA())","v":{"$error":"#REF!"}},{"$f":"IF(#REF!=$E$1,IF(#REF!=$G$1,#REF!,NA()),NA())","v":{"$error":"#REF!"}},{"$f":"IF(#REF!=$E$1,IF(#REF!=$G$1,IF(#REF!=\"\",NA(),#REF!),NA()),NA())","v":{"$error":"#REF!"}},{"$f":"IF(#REF!=$E$1,IF(#REF!=$G$1,IF(#REF!=\"\",NA(),#REF!),NA()),NA())","v":{"$error":"#REF!"}},{"$error":"#REF!"},{"$error":"#REF!"}]
[null,null,null,{"$f":"IF(#REF!=$E$1,IF(#REF!=$G$1,#REF!,NA()),NA())","v":{"$error":"#REF!"}},{"$f":"IF(#REF!=$E$1,IF(#REF!=$G$1,#REF!,NA()),NA())","v":{"$error":"#REF!"}},{"$f":"IF(#REF!=$E$1,IF(#REF!=$G$1,IF(#REF!=\"\",NA(),#REF!),NA()),NA())","v":{"$error":"#REF!"}},{"$f":"IF(#REF!=$E$1,IF(#REF!=$G$1,IF(#REF!=\"\",NA(),#REF!),NA()),NA())","v":{"$error":"#REF!"}},{"$error":"#REF!"},{"$error":"#REF!"}]
[null,null,null,{"$f":"IF(#REF!=$E$1,IF(#REF!=$G$1,#REF!,NA()),NA())","v":{"$error":"#REF!"}},{"$f":"IF(#REF!=$E$1,IF(#REF!=$G$1,#REF!,NA()),NA())","v":{"$error":"#REF!"}},{"$f":"IF(#REF!=$E$1,IF(#REF!=$G$1,IF(#REF!=\"\",NA(),#REF!),NA()),NA())","v":{"$error":"#REF!"}},{"$f":"IF(#REF!=$E$1,IF(#REF!=$G$1,IF(#REF!=\"\",NA(),#REF!),NA()),NA())","v":{"$error":"#REF!"}},{"$error":"#REF!"},{"$error":"#REF!"}]
[null,null,null,{"$f":"IF(#REF!=$E$1,IF(#REF!=$G$1,#REF!,NA()),NA())","v":{"$error":"#REF!"}},{"$f":"IF(#REF!=$E$1,IF(#REF!=$G$1,#REF!,NA()),NA())","v":{"$error":"#REF!"}},{"$f":"IF(#REF!=$E$1,IF(#REF!=$G$1,IF(#REF!=\"\",NA(),#REF!),NA()),NA())","v":{"$error":"#REF!"}},{"$f":"IF(#REF!=$E$1,IF(#REF!=$G$1,IF(#REF!=\"\",NA(),#REF!),NA()),NA())","v":{"$error":"#REF!"}},{"$error":"#REF!"},{"$error":"#REF!"}]
[null,null,null,{"$f":"IF(#REF!=$E$1,IF(#REF!=$G$1,#REF!,NA()),NA())","v":{"$error":"#REF!"}},{"$f":"IF(#REF!=$E$1,IF(#REF!=$G$1,#REF!,NA()),NA())","v":{"$error":"#REF!"}},{"$f":"IF(#REF!=$E$1,IF(#REF!=$G$1,IF(#REF!=\"\",NA(),#REF!),NA()),NA())","v":{"$error":"#REF!"}},{"$f":"IF(#REF!=$E$1,IF(#REF!=$G$1,IF(#REF!=\"\",NA(),#REF!),NA()),NA())","v":{"$error":"#REF!"}},{"$error":"#REF!"},{"$error":"#REF!"}]
[null,null,null,{"$f":"IF(#REF!=$E$1,IF(#REF!=$G$1,#REF!,NA()),NA())","v":{"$error":"#REF!"}},{"$f":"IF(#REF!=$E$1,IF(#REF!=$G$1,#REF!,NA()),NA())","v":{"$error":"#REF!"}},{"$f":"IF(#REF!=$E$1,IF(#REF!=$G$1,IF(#REF!=\"\",NA(),#REF!),NA()),NA())","v":{"$error":"#REF!"}},{"$f":"IF(#REF!=$E$1,IF(#REF!=$G$1,IF(#REF!=\"\",NA(),#REF!),NA()),NA())","v":{"$error":"#REF!"}},{"$error":"#REF!"},{"$error":"#REF!"}]
[null,null,null,{"$f":"IF(#REF!=$E$1,IF(#REF!=$G$1,#REF!,NA()),NA())","v":{"$error":"#REF!"}},{"$f":"IF(#REF!=$E$1,IF(#REF!=$G$1,#REF!,NA()),NA())","v":{"$error":"#REF!"}},{"$f":"IF(#REF!=$E$1,IF(#REF!=$G$1,IF(#REF!=\"\",NA(),#REF!),NA()),NA())","v":{"$error":"#REF!"}},{"$f":"IF(#REF!=$E$1,IF(#REF!=$G$1,IF(#REF!=\"\",NA(),#REF!),NA()),NA())","v":{"$error":"#REF!"}},{"$error":"#REF!"},{"$error":"#REF!"}]
[null,null,null,{"$f":"IF(#REF!=$E$1,IF(#REF!=$G$1,#REF!,NA()),NA())","v":{"$error":"#REF!"}},{"$f":"IF(#REF!=$E$1,IF(#REF!=$G$1,#REF!,NA()),NA())","v":{"$error":"#REF!"}},{"$f":"IF(#REF!=$E$1,IF(#REF!=$G$1,IF(#REF!=\"\",NA(),#REF!),NA()),NA())","v":{"$error":"#REF!"}},{"$f":"IF(#REF!=$E$1,IF(#REF!=$G$1,IF(#REF!=\"\",NA(),#REF!),NA()),NA())","v":{"$error":"#REF!"}},{"$error":"#REF!"},{"$error":"#REF!"}]
[null,null,null,{"$f":"IF(#REF!=$E$1,IF(#REF!=$G$1,#REF!,NA()),NA())","v":{"$error":"#REF!"}},{"$f":"IF(#REF!=$E$1,IF(#REF!=$G$1,#REF!,NA()),NA())","v":{"$error":"#REF!"}},{"$f":"IF(#REF!=$E$1,IF(#REF!=$G$1,IF(#REF!=\"\",NA(),#REF!),NA()),NA())","v":{"$error":"#REF!"}},{"$f":"IF(#REF!=$E$1,IF(#REF!=$G$1,IF(#REF!=\"\",NA(),#REF!),NA()),NA())","v":{"$error":"#REF!"}},{"$error":"#REF!"},{"$error":"#REF!"}]
[null,null,null,{"$f":"IF(#REF!=$E$1,IF(#REF!=$G$1,#REF!,NA()),NA())","v":{"$error":"#REF!"}},{"$f":"IF(#REF!=$E$1,IF(#REF!=$G$1,#REF!,NA()),NA())","v":{"$error":"#REF!"}},{"$f":"IF(#REF!=$E$1,IF(#REF!=$G$1,IF(#REF!=\"\",NA(),#REF!),NA()),NA())","v":{"$error":"#REF!"}},{"$f":"IF(#REF!=$E$1,IF(#REF!=$G$1,IF(#REF!=\"\",NA(),#REF!),NA()),NA())","v":{"$error":"#REF!"}},{"$error":"#REF!"},{"$error":"#REF!"}]
[null,null,null,{"$f":"IF(#REF!=$E$1,IF(#REF!=$G$1,#REF!,NA()),NA())","v":{"$error":"#REF!"}},{"$f":"IF(#REF!=$E$1,IF(#REF!=$G$1,#REF!,NA()),NA())","v":{"$error":"#REF!"}},{"$f":"IF(#REF!=$E$1,IF(#REF!=$G$1,IF(#REF!=\"\",NA(),#REF!),NA()),NA())","v":{"$error":"#REF!"}},{"$f":"IF(#REF!=$E$1,IF(#REF!=$G$1,IF(#REF!=\"\",NA(),#REF!),NA()),NA())","v":{"$error":"#REF!"}},{"$error":"#REF!"},{"$error":"#REF!"}]
[null,null,null,{"$f":"IF(#REF!=$E$1,IF(#REF!=$G$1,#REF!,NA()),NA())","v":{"$error":"#REF!"}},{"$f":"IF(#REF!=$E$1,IF(#REF!=$G$1,#REF!,NA()),NA())","v":{"$error":"#REF!"}},{"$f":"IF(#REF!=$E$1,IF(#REF!=$G$1,IF(#REF!=\"\",NA(),#REF!),NA()),NA())","v":{"$error":"#REF!"}},{"$f":"IF(#REF!=$E$1,IF(#REF!=$G$1,IF(#REF!=\"\",NA(),#REF!),NA()),NA())","v":{"$error":"#REF!"}},{"$error":"#REF!"},{"$error":"#REF!"}]
[null,null,null,{"$f":"IF(#REF!=$E$1,IF(#REF!=$G$1,#REF!,NA()),NA())","v":{"$error":"#REF!"}},{"$f":"IF(#REF!=$E$1,IF(#REF!=$G$1,#REF!,NA()),NA())","v":{"$error":"#REF!"}},{"$f":"IF(#REF!=$E$1,IF(#REF!=$G$1,IF(#REF!=\"\",NA(),#REF!),NA()),NA())","v":{"$error":"#REF!"}},{"$f":"IF(#REF!=$E$1,IF(#REF!=$G$1,IF(#REF!=\"\",NA(),#REF!),NA()),NA())","v":{"$error":"#REF!"}},{"$error":"#REF!"},{"$error":"#REF!"}]
[null,null,null,{"$f":"IF(#REF!=$E$1,IF(#REF!=$G$1,#REF!,NA()),NA())","v":{"$error":"#REF!"}},{"$f":"IF(#REF!=$E$1,IF(#REF!=$G$1,#REF!,NA()),NA())","v":{"$error":"#REF!"}},{"$f":"IF(#REF!=$E$1,IF(#REF!=$G$1,IF(#REF!=\"\",NA(),#REF!),NA()),NA())","v":{"$error":"#REF!"}},{"$f":"IF(#REF!=$E$1,IF(#REF!=$G$1,IF(#REF!=\"\",NA(),#REF!),NA()),NA())","v":{"$error":"#REF!"}},{"$error":"#REF!"},{"$error":"#REF!"}]
[null,null,null,{"$f":"IF(#REF!=$E$1,IF(#REF!=$G$1,#REF!,NA()),NA())","v":{"$error":"#REF!"}},{"$f":"IF(#REF!=$E$1,IF(#REF!=$G$1,#REF!,NA()),NA())","v":{"$error":"#REF!"}},{"$f":"IF(#REF!=$E$1,IF(#REF!=$G$1,IF(#REF!=\"\",NA(),#REF!),NA()),NA())","v":{"$error":"#REF!"}},{"$f":"IF(#REF!=$E$1,IF(#REF!=$G$1,IF(#REF!=\"\",NA(),#REF!),NA()),NA())","v":{"$error":"#REF!"}},{"$error":"#REF!"},{"$error":"#REF!"}]
[null,null,null,{"$f":"IF(#REF!=$E$1,IF(#REF!=$G$1,#REF!,NA()),NA())","v":{"$error":"#REF!"}},{"$f":"IF(#REF!=$E$1,IF(#REF!=$G$1,#REF!,NA()),NA())","v":{"$error":"#REF!"}},{"$f":"IF(#REF!=$E$1,IF(#REF!=$G$1,IF(#REF!=\"\",NA(),#REF!),NA()),NA())","v":{"$error":"#REF!"}},{"$f":"IF(#REF!=$E$1,IF(#REF!=$G$1,IF(#REF!=\"\",NA(),#REF!),NA()),NA())","v":{"$error":"#REF!"}},{"$error":"#REF!"},{"$error":"#REF!"}]
[null,null,null,{"$f":"IF(#REF!=$E$1,IF(#REF!=$G$1,#REF!,NA()),NA())","v":{"$error":"#REF!"}},{"$f":"IF(#REF!=$E$1,IF(#REF!=$G$1,#REF!,NA()),NA())","v":{"$error":"#REF!"}},{"$f":"IF(#REF!=$E$1,IF(#REF!=$G$1,IF(#REF!=\"\",NA(),#REF!),NA()),NA())","v":{"$error":"#REF!"}},{"$f":"IF(#REF!=$E$1,IF(#REF!=$G$1,IF(#REF!=\"\",NA(),#REF!),NA()),NA())","v":{"$error":"#REF!"}},{"$error":"#REF!"},{"$error":"#REF!"}]
[null,null,null,{"$f":"IF(#REF!=$E$1,IF(#REF!=$G$1,#REF!,NA()),NA())","v":{"$error":"#REF!"}},{"$f":"IF(#REF!=$E$1,IF(#REF!=$G$1,#REF!,NA()),NA())","v":{"$error":"#REF!"}},{"$f":"IF(#REF!=$E$1,IF(#REF!=$G$1,IF(#REF!=\"\",NA(),#REF!),NA()),NA())","v":{"$error":"#REF!"}},{"$f":"IF(#REF!=$E$1,IF(#REF!=$G$1,IF(#REF!=\"\",NA(),#REF!),NA()),NA())","v":{"$error":"#REF!"}},{"$error":"#REF!"},{"$error":"#REF!"}]
[null,null,null,{"$f":"IF(#REF!=$E$1,IF(#REF!=$G$1,#REF!,NA()),NA())","v":{"$error":"#REF!"}},{"$f":"IF(#REF!=$E$1,IF(#REF!=$G$1,#REF!,NA()),NA())","v":{"$error":"#REF!"}},{"$f":"IF(#REF!=$E$1,IF(#REF!=$G$1,IF(#REF!=\"\",NA(),#REF!),NA()),NA())","v":{"$error":"#REF!"}},{"$f":"IF(#REF!=$E$1,IF(#REF!=$G$1,IF(#REF!=\"\",NA(),#REF!),NA()),NA())","v":{"$error":"#REF!"}},{"$error":"#REF!"},{"$error":"#REF!"}]
[null,null,null,{"$f":"IF(#REF!=$E$1,IF(#REF!=$G$1,#REF!,NA()),NA())","v":{"$error":"#REF!"}},{"$f":"IF(#REF!=$E$1,IF(#REF!=$G$1,#REF!,NA()),NA())","v":{"$error":"#REF!"}},{"$f":"IF(#REF!=$E$1,IF(#REF!=$G$1,IF(#REF!=\"\",NA(),#REF!),NA()),NA())","v":{"$error":"#REF!"}},{"$f":"IF(#REF!=$E$1,IF(#REF!=$G$1,IF(#REF!=\"\",NA(),#REF!),NA()),NA())","v":{"$error":"#REF!"}},{"$error":"#REF!"},{"$error":"#REF!"}]
[null,null,null,{"$f":"IF(#REF!=$E$1,IF(#REF!=$G$1,#REF!,NA()),NA())","v":{"$error":"#REF!"}},{"$f":"IF(#REF!=$E$1,IF(#REF!=$G$1,#REF!,NA()),NA())","v":{"$error":"#REF!"}},{"$f":"IF(#REF!=$E$1,IF(#REF!=$G$1,IF(#REF!=\"\",NA(),#REF!),NA()),NA())","v":{"$error":"#REF!"}},{"$f":"IF(#REF!=$E$1,IF(#REF!=$G$1,IF(#REF!=\"\",NA(),#REF!),NA()),NA())","v":{"$error":"#REF!"}},{"$error":"#REF!"},{"$error":"#REF!"}]
[null,null,null,{"$f":"IF(#REF!=$E$1,IF(#REF!=$G$1,#REF!,NA()),NA())","v":{"$error":"#REF!"}},{"$f":"IF(#REF!=$E$1,IF(#REF!=$G$1,#REF!,NA()),NA())","v":{"$error":"#REF!"}},{"$f":"IF(#REF!=$E$1,IF(#REF!=$G$1,IF(#REF!=\"\",NA(),#REF!),NA()),NA())","v":{"$error":"#REF!"}},{"$f":"IF(#REF!=$E$1,IF(#REF!=$G$1,IF(#REF!=\"\",NA(),#REF!),NA()),NA())","v":{"$error":"#REF!"}},{"$error":"#REF!"},{"$error":"#REF!"}]
[null,null,null,{"$f":"IF(#REF!=$E$1,IF(#REF!=$G$1,#REF!,NA()),NA())","v":{"$error":"#REF!"}},{"$f":"IF(#REF!=$E$1,IF(#REF!=$G$1,#REF!,NA()),NA())","v":{"$error":"#REF!"}},{"$f":"IF(#REF!=$E$1,IF(#REF!=$G$1,IF(#REF!=\"\",NA(),#REF!),NA()),NA())","v":{"$error":"#REF!"}},{"$f":"IF(#REF!=$E$1,IF(#REF!=$G$1,IF(#REF!=\"\",NA(),#REF!),NA()),NA())","v":{"$error":"#REF!"}},{"$error":"#REF!"},{"$error":"#REF!"}]
[null,null,null,{"$f":"IF(#REF!=$E$1,IF(#REF!=$G$1,#REF!,NA()),NA())","v":{"$error":"#REF!"}},{"$f":"IF(#REF!=$E$1,IF(#REF!=$G$1,#REF!,NA()),NA())","v":{"$error":"#REF!"}},{"$f":"IF(#REF!=$E$1,IF(#REF!=$G$1,IF(#REF!=\"\",NA(),#REF!),NA()),NA())","v":{"$error":"#REF!"}},{"$f":"IF(#REF!=$E$1,IF(#REF!=$G$1,IF(#REF!=\"\",NA(),#REF!),NA()),NA())","v":{"$error":"#REF!"}},{"$error":"#REF!"},{"$error":"#REF!"}]
[null,null,null,{"$f":"IF(#REF!=$E$1,IF(#REF!=$G$1,#REF!,NA()),NA())","v":{"$error":"#REF!"}},{"$f":"IF(#REF!=$E$1,IF(#REF!=$G$1,#REF!,NA()),NA())","v":{"$error":"#REF!"}},{"$f":"IF(#REF!=$E$1,IF(#REF!=$G$1,IF(#REF!=\"\",NA(),#REF!),NA()),NA())","v":{"$error":"#REF!"}},{"$f":"IF(#REF!=$E$1,IF(#REF!=$G$1,IF(#REF!=\"\",NA(),#REF!),NA()),NA())","v":{"$error":"#REF!"}},{"$error":"#REF!"},{"$error":"#REF!"}]
[null,null,null,{"$f":"IF(#REF!=$E$1,IF(#REF!=$G$1,#REF!,NA()),NA())","v":{"$error":"#REF!"}},{"$f":"IF(#REF!=$E$1,IF(#REF!=$G$1,#REF!,NA()),NA())","v":{"$error":"#REF!"}},{"$f":"IF(#REF!=$E$1,IF(#REF!=$G$1,IF(#REF!=\"\",NA(),#REF!),NA()),NA())","v":{"$error":"#REF!"}},{"$f":"IF(#REF!=$E$1,IF(#REF!=$G$1,IF(#REF!=\"\",NA(),#REF!),NA()),NA())","v":{"$error":"#REF!"}},{"$f":"IF(AND(ISNUMBER(G132),F132=\"-\"),0,F132)","v":{"$error":"#REF!"}},{"$f":"IF(AND(ISNUMBER(F132),G132=\"-\"),0,G132)","v":{"$error":"#REF!"}}]
[null,null,null,{"$f":"IF(#REF!=$E$1,IF(#REF!=$G$1,#REF!,NA()),NA())","v":{"$error":"#REF!"}},{"$f":"IF(#REF!=$E$1,IF(#REF!=$G$1,#REF!,NA()),NA())","v":{"$error":"#REF!"}},{"$f":"IF(#REF!=$E$1,IF(#REF!=$G$1,IF(#REF!=\"\",NA(),#REF!),NA()),NA())","v":{"$error":"#REF!"}},{"$f":"IF(#REF!=$E$1,IF(#REF!=$G$1,IF(#REF!=\"\",NA(),#REF!),NA()),NA())","v":{"$error":"#REF!"}},{"$error":"#REF!"},{"$error":"#REF!"}]
[null,null,null,{"$f":"IF(#REF!=$E$1,IF(#REF!=$G$1,#REF!,NA()),NA())","v":{"$error":"#REF!"}},{"$f":"IF(#REF!=$E$1,IF(#REF!=$G$1,#REF!,NA()),NA())","v":{"$error":"#REF!"}},{"$f":"IF(#REF!=$E$1,IF(#REF!=$G$1,IF(#REF!=\"\",NA(),#REF!),NA()),NA())","v":{"$error":"#REF!"}},{"$f":"IF(#REF!=$E$1,IF(#REF!=$G$1,IF(#REF!=\"\",NA(),#REF!),NA()),NA())","v":{"$error":"#REF!"}},{"$error":"#REF!"},{"$error":"#REF!"}]
[null,null,null,{"$f":"IF(#REF!=$E$1,IF(#REF!=$G$1,#REF!,NA()),NA())","v":{"$error":"#REF!"}},{"$f":"IF(#REF!=$E$1,IF(#REF!=$G$1,#REF!,NA()),NA())","v":{"$error":"#REF!"}},{"$f":"IF(#REF!=$E$1,IF(#REF!=$G$1,IF(#REF!=\"\",NA(),#REF!),NA()),NA())","v":{"$error":"#REF!"}},{"$f":"IF(#REF!=$E$1,IF(#REF!=$G$1,IF(#REF!=\"\",NA(),#REF!),NA()),NA())","v":{"$error":"#REF!"}},{"$error":"#REF!"},{"$error":"#REF!"}]
[null,null,null,{"$f":"IF(#REF!=$E$1,IF(#REF!=$G$1,#REF!,NA()),NA())","v":{"$error":"#REF!"}},{"$f":"IF(#REF!=$E$1,IF(#REF!=$G$1,#REF!,NA()),NA())","v":{"$error":"#REF!"}},{"$f":"IF(#REF!=$E$1,IF(#REF!=$G$1,IF(#REF!=\"\",NA(),#REF!),NA()),NA())","v":{"$error":"#REF!"}},{"$f":"IF(#REF!=$E$1,IF(#REF!=$G$1,IF(#REF!=\"\",NA(),#REF!),NA()),NA())","v":{"$error":"#REF!"}},{"$error":"#REF!"},{"$error":"#REF!"}]
[null,null,null,{"$f":"IF(#REF!=$E$1,IF(#REF!=$G$1,#REF!,NA()),NA())","v":{"$error":"#REF!"}},{"$f":"IF(#REF!=$E$1,IF(#REF!=$G$1,#REF!,NA()),NA())","v":{"$error":"#REF!"}},{"$f":"IF(#REF!=$E$1,IF(#REF!=$G$1,IF(#REF!=\"\",NA(),#REF!),NA()),NA())","v":{"$error":"#REF!"}},{"$f":"IF(#REF!=$E$1,IF(#REF!=$G$1,IF(#REF!=\"\",NA(),#REF!),NA()),NA())","v":{"$error":"#REF!"}},{"$error":"#REF!"},{"$error":"#REF!"}]
[null,null,null,{"$f":"IF(#REF!=$E$1,IF(#REF!=$G$1,#REF!,NA()),NA())","v":{"$error":"#REF!"}},{"$f":"IF(#REF!=$E$1,IF(#REF!=$G$1,#REF!,NA()),NA())","v":{"$error":"#REF!"}},{"$f":"IF(#REF!=$E$1,IF(#REF!=$G$1,IF(#REF!=\"\",NA(),#REF!),NA()),NA())","v":{"$error":"#REF!"}},{"$f":"IF(#REF!=$E$1,IF(#REF!=$G$1,IF(#REF!=\"\",NA(),#REF!),NA()),NA())","v":{"$error":"#REF!"}},{"$error":"#REF!"},{"$error":"#REF!"}]
[null,null,null,{"$f":"IF(#REF!=$E$1,IF(#REF!=$G$1,#REF!,NA()),NA())","v":{"$error":"#REF!"}},{"$f":"IF(#REF!=$E$1,IF(#REF!=$G$1,#REF!,NA()),NA())","v":{"$error":"#REF!"}},{"$f":"IF(#REF!=$E$1,IF(#REF!=$G$1,IF(#REF!=\"\",NA(),#REF!),NA()),NA())","v":{"$error":"#REF!"}},{"$f":"IF(#REF!=$E$1,IF(#REF!=$G$1,IF(#REF!=\"\",NA(),#REF!),NA()),NA())","v":{"$error":"#REF!"}},{"$error":"#REF!"},{"$error":"#REF!"}]
[null,null,null,{"$f":"IF(#REF!=$E$1,IF(#REF!=$G$1,#REF!,NA()),NA())","v":{"$error":"#REF!"}},{"$f":"IF(#REF!=$E$1,IF(#REF!=$G$1,#REF!,NA()),NA())","v":{"$error":"#REF!"}},{"$f":"IF(#REF!=$E$1,IF(#REF!=$G$1,IF(#REF!=\"\",NA(),#REF!),NA()),NA())","v":{"$error":"#REF!"}},{"$f":"IF(#REF!=$E$1,IF(#REF!=$G$1,IF(#REF!=\"\",NA(),#REF!),NA()),NA())","v":{"$error":"#REF!"}},{"$error":"#REF!"},{"$error":"#REF!"}]
[null,null,null,{"$f":"IF(#REF!=$E$1,IF(#REF!=$G$1,#REF!,NA()),NA())","v":{"$error":"#REF!"}},{"$f":"IF(#REF!=$E$1,IF(#REF!=$G$1,#REF!,NA()),NA())","v":{"$error":"#REF!"}},{"$f":"IF(#REF!=$E$1,IF(#REF!=$G$1,IF(#REF!=\"\",NA(),#REF!),NA()),NA())","v":{"$error":"#REF!"}},{"$f":"IF(#REF!=$E$1,IF(#REF!=$G$1,IF(#REF!=\"\",NA(),#REF!),NA()),NA())","v":{"$error":"#REF!"}},{"$error":"#REF!"},{"$error":"#REF!"}]
[null,null,null,{"$f":"IF(#REF!=$E$1,IF(#REF!=$G$1,#REF!,NA()),NA())","v":{"$error":"#REF!"}},{"$f":"IF(#REF!=$E$1,IF(#REF!=$G$1,#REF!,NA()),NA())","v":{"$error":"#REF!"}},{"$f":"IF(#REF!=$E$1,IF(#REF!=$G$1,IF(#REF!=\"\",NA(),#REF!),NA()),NA())","v":{"$error":"#REF!"}},{"$f":"IF(#REF!=$E$1,IF(#REF!=$G$1,IF(#REF!=\"\",NA(),#REF!),NA()),NA())","v":{"$error":"#REF!"}},{"$error":"#REF!"},{"$error":"#REF!"}]
[null,null,null,{"$f":"IF(#REF!=$E$1,IF(#REF!=$G$1,#REF!,NA()),NA())","v":{"$error":"#REF!"}},{"$f":"IF(#REF!=$E$1,IF(#REF!=$G$1,#REF!,NA()),NA())","v":{"$error":"#REF!"}},{"$f":"IF(#REF!=$E$1,IF(#REF!=$G$1,IF(#REF!=\"\",NA(),#REF!),NA()),NA())","v":{"$error":"#REF!"}},{"$f":"IF(#REF!=$E$1,IF(#REF!=$G$1,IF(#REF!=\"\",NA(),#REF!),NA()),NA())","v":{"$error":"#REF!"}},{"$error":"#REF!"},{"$error":"#REF!"}]
[null,null,null,{"$f":"IF(#REF!=$E$1,IF(#REF!=$G$1,#REF!,NA()),NA())","v":{"$error":"#REF!"}},{"$f":"IF(#REF!=$E$1,IF(#REF!=$G$1,#REF!,NA()),NA())","v":{"$error":"#REF!"}},{"$f":"IF(#REF!=$E$1,IF(#REF!=$G$1,IF(#REF!=\"\",NA(),#REF!),NA()),NA())","v":{"$error":"#REF!"}},{"$f":"IF(#REF!=$E$1,IF(#REF!=$G$1,IF(#REF!=\"\",NA(),#REF!),NA()),NA())","v":{"$error":"#REF!"}},{"$error":"#REF!"},{"$error":"#REF!"}]
[null,null,null,{"$f":"IF(#REF!=$E$1,IF(#REF!=$G$1,#REF!,NA()),NA())","v":{"$error":"#REF!"}},{"$f":"IF(#REF!=$E$1,IF(#REF!=$G$1,#REF!,NA()),NA())","v":{"$error":"#REF!"}},{"$f":"IF(#REF!=$E$1,IF(#REF!=$G$1,IF(#REF!=\"\",NA(),#REF!),NA()),NA())","v":{"$error":"#REF!"}},{"$f":"IF(#REF!=$E$1,IF(#REF!=$G$1,IF(#REF!=\"\",NA(),#REF!),NA()),NA())","v":{"$error":"#REF!"}},{"$error":"#REF!"},{"$error":"#REF!"}]
[null,null,null,{"$f":"IF(#REF!=$E$1,IF(#REF!=$G$1,#REF!,NA()),NA())","v":{"$error":"#REF!"}},{"$f":"IF(#REF!=$E$1,IF(#REF!=$G$1,#REF!,NA()),NA())","v":{"$error":"#REF!"}},{"$f":"IF(#REF!=$E$1,IF(#REF!=$G$1,IF(#REF!=\"\",NA(),#REF!),NA()),NA())","v":{"$error":"#REF!"}},{"$f":"IF(#REF!=$E$1,IF(#REF!=$G$1,IF(#REF!=\"\",NA(),#REF!),NA()),NA())","v":{"$error":"#REF!"}},{"$error":"#REF!"},{"$error":"#REF!"}]
[null,null,null,{"$f":"IF(#REF!=$E$1,IF(#REF!=$G$1,#REF!,NA()),NA())","v":{"$error":"#REF!"}},{"$f":"IF(#REF!=$E$1,IF(#REF!=$G$1,#REF!,NA()),NA())","v":{"$error":"#REF!"}},{"$f":"IF(#REF!=$E$1,IF(#REF!=$G$1,IF(#REF!=\"\",NA(),#REF!),NA()),NA())","v":{"$error":"#REF!"}},{"$f":"IF(#REF!=$E$1,IF(#REF!=$G$1,IF(#REF!=\"\",NA(),#REF!),NA()),NA())","v":{"$error":"#REF!"}},{"$error":"#REF!"},{"$error":"#REF!"}]
[null,null,null,{"$f":"IF(#REF!=$E$1,IF(#REF!=$G$1,#REF!,NA()),NA())","v":{"$error":"#REF!"}},{"$f":"IF(#REF!=$E$1,IF(#REF!=$G$1,#REF!,NA()),NA())","v":{"$error":"#REF!"}},{"$f":"IF(#REF!=$E$1,IF(#REF!=$G$1,IF(#REF!=\"\",NA(),#REF!),NA()),NA())","v":{"$error":"#REF!"}},{"$f":"IF(#REF!=$E$1,IF(#REF!=$G$1,IF(#REF!=\"\",NA(),#REF!),NA()),NA())","v":{"$error":"#REF!"}},{"$error":"#REF!"},{"$error":"#REF!"}]
[null,null,null,{"$f":"IF(#REF!=$E$1,IF(#REF!=$G$1,#REF!,NA()),NA())","v":{"$error":"#REF!"}},{"$f":"IF(#REF!=$E$1,IF(#REF!=$G$1,#REF!,NA()),NA())","v":{"$error":"#REF!"}},{"$f":"IF(#REF!=$E$1,IF(#REF!=$G$1,IF(#REF!=\"\",NA(),#REF!),NA()),NA())","v":{"$error":"#REF!"}},{"$f":"IF(#REF!=$E$1,IF(#REF!=$G$1,IF(#REF!=\"\",NA(),#REF!),NA()),NA())","v":{"$error":"#REF!"}},{"$error":"#REF!"},{"$error":"#REF!"}]
[null,null,null,{"$f":"IF(#REF!=$E$1,IF(#REF!=$G$1,#REF!,NA()),NA())","v":{"$error":"#REF!"}},{"$f":"IF(#REF!=$E$1,IF(#REF!=$G$1,#REF!,NA()),NA())","v":{"$error":"#REF!"}},{"$f":"IF(#REF!=$E$1,IF(#REF!=$G$1,IF(#REF!=\"\",NA(),#REF!),NA()),NA())","v":{"$error":"#REF!"}},{"$f":"IF(#REF!=$E$1,IF(#REF!=$G$1,IF(#REF!=\"\",NA(),#REF!),NA()),NA())","v":{"$error":"#REF!"}},{"$error":"#REF!"},{"$error":"#REF!"}]
[null,null,null,{"$f":"IF(#REF!=$E$1,IF(#REF!=$G$1,#REF!,NA()),NA())","v":{"$error":"#REF!"}},{"$f":"IF(#REF!=$E$1,IF(#REF!=$G$1,#REF!,NA()),NA())","v":{"$error":"#REF!"}},{"$f":"IF(#REF!=$E$1,IF(#REF!=$G$1,IF(#REF!=\"\",NA(),#REF!),NA()),NA())","v":{"$error":"#REF!"}},{"$f":"IF(#REF!=$E$1,IF(#REF!=$G$1,IF(#REF!=\"\",NA(),#REF!),NA()),NA())","v":{"$error":"#REF!"}},{"$error":"#REF!"},{"$error":"#REF!"}]
[null,null,null,{"$f":"IF(#REF!=$E$1,IF(#REF!=$G$1,#REF!,NA()),NA())","v":{"$error":"#REF!"}},{"$f":"IF(#REF!=$E$1,IF(#REF!=$G$1,#REF!,NA()),NA())","v":{"$error":"#REF!"}},{"$f":"IF(#REF!=$E$1,IF(#REF!=$G$1,IF(#REF!=\"\",NA(),#REF!),NA()),NA())","v":{"$error":"#REF!"}},{"$f":"IF(#REF!=$E$1,IF(#REF!=$G$1,IF(#REF!=\"\",NA(),#REF!),NA()),NA())","v":{"$error":"#REF!"}},{"$error":"#REF!"},{"$error":"#REF!"}]
[null,null,null,{"$f":"IF(#REF!=$E$1,IF(#REF!=$G$1,#REF!,NA()),NA())","v":{"$error":"#REF!"}},{"$f":"IF(#REF!=$E$1,IF(#REF!=$G$1,#REF!,NA()),NA())","v":{"$error":"#REF!"}},{"$f":"IF(#REF!=$E$1,IF(#REF!=$G$1,IF(#REF!=\"\",NA(),#REF!),NA()),NA())","v":{"$error":"#REF!"}},{"$f":"IF(#REF!=$E$1,IF(#REF!=$G$1,IF(#REF!=\"\",NA(),#REF!),NA()),NA())","v":{"$error":"#REF!"}},{"$error":"#REF!"},{"$error":"#REF!"}]
[null,null,null,{"$f":"IF(#REF!=$E$1,IF(#REF!=$G$1,#REF!,NA()),NA())","v":{"$error":"#REF!"}},{"$f":"IF(#REF!=$E$1,IF(#REF!=$G$1,#REF!,NA()),NA())","v":{"$error":"#REF!"}},{"$f":"IF(#REF!=$E$1,IF(#REF!=$G$1,IF(#REF!=\"\",NA(),#REF!),NA()),NA())","v":{"$error":"#REF!"}},{"$f":"IF(#REF!=$E$1,IF(#REF!=$G$1,IF(#REF!=\"\",NA(),#REF!),NA()),NA())","v":{"$error":"#REF!"}},{"$error":"#REF!"},{"$error":"#REF!"}]
[null,null,null,{"$f":"IF(#REF!=$E$1,IF(#REF!=$G$1,#REF!,NA()),NA())","v":{"$error":"#REF!"}},{"$f":"IF(#REF!=$E$1,IF(#REF!=$G$1,#REF!,NA()),NA())","v":{"$error":"#REF!"}},{"$f":"IF(#REF!=$E$1,IF(#REF!=$G$1,IF(#REF!=\"\",NA(),#REF!),NA()),NA())","v":{"$error":"#REF!"}},{"$f":"IF(#REF!=$E$1,IF(#REF!=$G$1,IF(#REF!=\"\",NA(),#REF!),NA()),NA())","v":{"$error":"#REF!"}},{"$error":"#REF!"},{"$error":"#REF!"}]
[null,null,null,{"$f":"IF(#REF!=$E$1,IF(#REF!=$G$1,#REF!,NA()),NA())","v":{"$error":"#REF!"}},{"$f":"IF(#REF!=$E$1,IF(#REF!=$G$1,#REF!,NA()),NA())","v":{"$error":"#REF!"}},{"$f":"IF(#REF!=$E$1,IF(#REF!=$G$1,IF(#REF!=\"\",NA(),#REF!),NA()),NA())","v":{"$error":"#REF!"}},{"$f":"IF(#REF!=$E$1,IF(#REF!=$G$1,IF(#REF!=\"\",NA(),#REF!),NA()),NA())","v":{"$error":"#REF!"}},{"$error":"#REF!"},{"$error":"#REF!"}]
[null,null,null,{"$f":"IF(#REF!=$E$1,IF(#REF!=$G$1,#REF!,NA()),NA())","v":{"$error":"#REF!"}},{"$f":"IF(#REF!=$E$1,IF(#REF!=$G$1,#REF!,NA()),NA())","v":{"$error":"#REF!"}},{"$f":"IF(#REF!=$E$1,IF(#REF!=$G$1,IF(#REF!=\"\",NA(),#REF!),NA()),NA())","v":{"$error":"#REF!"}},{"$f":"IF(#REF!=$E$1,IF(#REF!=$G$1,IF(#REF!=\"\",NA(),#REF!),NA()),NA())","v":{"$error":"#REF!"}},{"$error":"#REF!"},{"$error":"#REF!"}]
[null,null,null,{"$f":"IF(#REF!=$E$1,IF(#REF!=$G$1,#REF!,NA()),NA())","v":{"$error":"#REF!"}},{"$f":"IF(#REF!=$E$1,IF(#REF!=$G$1,#REF!,NA()),NA())","v":{"$error":"#REF!"}},{"$f":"IF(#REF!=$E$1,IF(#REF!=$G$1,IF(#REF!=\"\",NA(),#REF!),NA()),NA())","v":{"$error":"#REF!"}},{"$f":"IF(#REF!=$E$1,IF(#REF!=$G$1,IF(#REF!=\"\",NA(),#REF!),NA()),NA())","v":{"$error":"#REF!"}},{"$error":"#REF!"},{"$error":"#REF!"}]
[null,null,null,{"$f":"IF(#REF!=$E$1,IF(#REF!=$G$1,#REF!,NA()),NA())","v":{"$error":"#REF!"}},{"$f":"IF(#REF!=$E$1,IF(#REF!=$G$1,#REF!,NA()),NA())","v":{"$error":"#REF!"}},{"$f":"IF(#REF!=$E$1,IF(#REF!=$G$1,IF(#REF!=\"\",NA(),#REF!),NA()),NA())","v":{"$error":"#REF!"}},{"$f":"IF(#REF!=$E$1,IF(#REF!=$G$1,IF(#REF!=\"\",NA(),#REF!),NA()),NA())","v":{"$error":"#REF!"}},{"$error":"#REF!"},{"$error":"#REF!"}]
[null,null,null,{"$f":"IF(#REF!=$E$1,IF(#REF!=$G$1,#REF!,NA()),NA())","v":{"$error":"#REF!"}},{"$f":"IF(#REF!=$E$1,IF(#REF!=$G$1,#REF!,NA()),NA())","v":{"$error":"#REF!"}},{"$f":"IF(#REF!=$E$1,IF(#REF!=$G$1,IF(#REF!=\"\",NA(),#REF!),NA()),NA())","v":{"$error":"#REF!"}},{"$f":"IF(#REF!=$E$1,IF(#REF!=$G$1,IF(#REF!=\"\",NA(),#REF!),NA()),NA())","v":{"$error":"#REF!"}},{"$error":"#REF!"},{"$error":"#REF!"}]
[null,null,null,{"$f":"IF(#REF!=$E$1,IF(#REF!=$G$1,#REF!,NA()),NA())","v":{"$error":"#REF!"}},{"$f":"IF(#REF!=$E$1,IF(#REF!=$G$1,#REF!,NA()),NA())","v":{"$error":"#REF!"}},{"$f":"IF(#REF!=$E$1,IF(#REF!=$G$1,IF(#REF!=\"\",NA(),#REF!),NA()),NA())","v":{"$error":"#REF!"}},{"$f":"IF(#REF!=$E$1,IF(#REF!=$G$1,IF(#REF!=\"\",NA(),#REF!),NA()),NA())","v":{"$error":"#REF!"}},{"$error":"#REF!"},{"$error":"#REF!"}]
[null,null,null,{"$f":"IF(#REF!=$E$1,IF(#REF!=$G$1,#REF!,NA()),NA())","v":{"$error":"#REF!"}},{"$f":"IF(#REF!=$E$1,IF(#REF!=$G$1,#REF!,NA()),NA())","v":{"$error":"#REF!"}},{"$f":"IF(#REF!=$E$1,IF(#REF!=$G$1,IF(#REF!=\"\",NA(),#REF!),NA()),NA())","v":{"$error":"#REF!"}},{"$f":"IF(#REF!=$E$1,IF(#REF!=$G$1,IF(#REF!=\"\",NA(),#REF!),NA()),NA())","v":{"$error":"#REF!"}},{"$error":"#REF!"},{"$error":"#REF!"}]
[null,null,null,{"$f":"IF(#REF!=$E$1,IF(#REF!=$G$1,#REF!,NA()),NA())","v":{"$error":"#REF!"}},{"$f":"IF(#REF!=$E$1,IF(#REF!=$G$1,#REF!,NA()),NA())","v":{"$error":"#REF!"}},{"$f":"IF(#REF!=$E$1,IF(#REF!=$G$1,IF(#REF!=\"\",NA(),#REF!),NA()),NA())","v":{"$error":"#REF!"}},{"$f":"IF(#REF!=$E$1,IF(#REF!=$G$1,IF(#REF!=\"\",NA(),#REF!),NA()),NA())","v":{"$error":"#REF!"}},{"$error":"#REF!"},{"$error":"#REF!"}]
[null,null,null,{"$f":"IF(#REF!=$E$1,IF(#REF!=$G$1,#REF!,NA()),NA())","v":{"$error":"#REF!"}},{"$f":"IF(#REF!=$E$1,IF(#REF!=$G$1,#REF!,NA()),NA())","v":{"$error":"#REF!"}},{"$f":"IF(#REF!=$E$1,IF(#REF!=$G$1,IF(#REF!=\"\",NA(),#REF!),NA()),NA())","v":{"$error":"#REF!"}},{"$f":"IF(#REF!=$E$1,IF(#REF!=$G$1,IF(#REF!=\"\",NA(),#REF!),NA()),NA())","v":{"$error":"#REF!"}},{"$error":"#REF!"},{"$error":"#REF!"}]
[null,null,null,{"$f":"IF(#REF!=$E$1,IF(#REF!=$G$1,#REF!,NA()),NA())","v":{"$error":"#REF!"}},{"$f":"IF(#REF!=$E$1,IF(#REF!=$G$1,#REF!,NA()),NA())","v":{"$error":"#REF!"}},{"$f":"IF(#REF!=$E$1,IF(#REF!=$G$1,IF(#REF!=\"\",NA(),#REF!),NA()),NA())","v":{"$error":"#REF!"}},{"$f":"IF(#REF!=$E$1,IF(#REF!=$G$1,IF(#REF!=\"\",NA(),#REF!),NA()),NA())","v":{"$error":"#REF!"}},{"$error":"#REF!"},{"$error":"#REF!"}]
[null,null,null,{"$f":"IF(#REF!=$E$1,IF(#REF!=$G$1,#REF!,NA()),NA())","v":{"$error":"#REF!"}},{"$f":"IF(#REF!=$E$1,IF(#REF!=$G$1,#REF!,NA()),NA())","v":{"$error":"#REF!"}},{"$f":"IF(#REF!=$E$1,IF(#REF!=$G$1,IF(#REF!=\"\",NA(),#REF!),NA()),NA())","v":{"$error":"#REF!"}},{"$f":"IF(#REF!=$E$1,IF(#REF!=$G$1,IF(#REF!=\"\",NA(),#REF!),NA()),NA())","v":{"$error":"#REF!"}},{"$error":"#REF!"},{"$error":"#REF!"}]
[null,null,null,{"$f":"IF(#REF!=$E$1,IF(#REF!=$G$1,#REF!,NA()),NA())","v":{"$error":"#REF!"}},{"$f":"IF(#REF!=$E$1,IF(#REF!=$G$1,#REF!,NA()),NA())","v":{"$error":"#REF!"}},{"$f":"IF(#REF!=$E$1,IF(#REF!=$G$1,IF(#REF!=\"\",NA(),#REF!),NA()),NA())","v":{"$error":"#REF!"}},{"$f":"IF(#REF!=$E$1,IF(#REF!=$G$1,IF(#REF!=\"\",NA(),#REF!),NA()),NA())","v":{"$error":"#REF!"}},{"$error":"#REF!"},{"$error":"#REF!"}]
[null,null,null,{"$f":"IF(#REF!=$E$1,IF(#REF!=$G$1,#REF!,NA()),NA())","v":{"$error":"#REF!"}},{"$f":"IF(#REF!=$E$1,IF(#REF!=$G$1,#REF!,NA()),NA())","v":{"$error":"#REF!"}},{"$f":"IF(#REF!=$E$1,IF(#REF!=$G$1,IF(#REF!=\"\",NA(),#REF!),NA()),NA())","v":{"$error":"#REF!"}},{"$f":"IF(#REF!=$E$1,IF(#REF!=$G$1,IF(#REF!=\"\",NA(),#REF!),NA()),NA())","v":{"$error":"#REF!"}},{"$error":"#REF!"},{"$error":"#REF!"}]
[null,null,null,{"$f":"IF(#REF!=$E$1,IF(#REF!=$G$1,#REF!,NA()),NA())","v":{"$error":"#REF!"}},{"$f":"IF(#REF!=$E$1,IF(#REF!=$G$1,#REF!,NA()),NA())","v":{"$error":"#REF!"}},{"$f":"IF(#REF!=$E$1,IF(#REF!=$G$1,IF(#REF!=\"\",NA(),#REF!),NA()),NA())","v":{"$error":"#REF!"}},{"$f":"IF(#REF!=$E$1,IF(#REF!=$G$1,IF(#REF!=\"\",NA(),#REF!),NA()),NA())","v":{"$error":"#REF!"}},{"$error":"#REF!"},{"$error":"#REF!"}]
[null,null,null,{"$f":"IF(#REF!=$E$1,IF(#REF!=$G$1,#REF!,NA()),NA())","v":{"$error":"#REF!"}},{"$f":"IF(#REF!=$E$1,IF(#REF!=$G$1,#REF!,NA()),NA())","v":{"$error":"#REF!"}},{"$f":"IF(#REF!=$E$1,IF(#REF!=$G$1,IF(#REF!=\"\",NA(),#REF!),NA()),NA())","v":{"$error":"#REF!"}},{"$f":"IF(#REF!=$E$1,IF(#REF!=$G$1,IF(#REF!=\"\",NA(),#REF!),NA()),NA())","v":{"$error":"#REF!"}},{"$error":"#REF!"},{"$error":"#REF!"}]
[null,null,null,{"$f":"IF(#REF!=$E$1,IF(#REF!=$G$1,#REF!,NA()),NA())","v":{"$error":"#REF!"}},{"$f":"IF(#REF!=$E$1,IF(#REF!=$G$1,#REF!,NA()),NA())","v":{"$error":"#REF!"}},{"$f":"IF(#REF!=$E$1,IF(#REF!=$G$1,IF(#REF!=\"\",NA(),#REF!),NA()),NA())","v":{"$error":"#REF!"}},{"$f":"IF(#REF!=$E$1,IF(#REF!=$G$1,IF(#REF!=\"\",NA(),#REF!),NA()),NA())","v":{"$error":"#REF!"}},{"$error":"#REF!"},{"$error":"#REF!"}]
[null,null,null,{"$f":"IF(#REF!=$E$1,IF(#REF!=$G$1,#REF!,NA()),NA())","v":{"$error":"#REF!"}},{"$f":"IF(#REF!=$E$1,IF(#REF!=$G$1,#REF!,NA()),NA())","v":{"$error":"#REF!"}},{"$f":"IF(#REF!=$E$1,IF(#REF!=$G$1,IF(#REF!=\"\",NA(),#REF!),NA()),NA())","v":{"$error":"#REF!"}},{"$f":"IF(#REF!=$E$1,IF(#REF!=$G$1,IF(#REF!=\"\",NA(),#REF!),NA()),NA())","v":{"$error":"#REF!"}},{"$error":"#REF!"},{"$error":"#REF!"}]
[null,null,null,{"$f":"IF(#REF!=$E$1,IF(#REF!=$G$1,#REF!,NA()),NA())","v":{"$error":"#REF!"}},{"$f":"IF(#REF!=$E$1,IF(#REF!=$G$1,#REF!,NA()),NA())","v":{"$error":"#REF!"}},{"$f":"IF(#REF!=$E$1,IF(#REF!=$G$1,IF(#REF!=\"\",NA(),#REF!),NA()),NA())","v":{"$error":"#REF!"}},{"$f":"IF(#REF!=$E$1,IF(#REF!=$G$1,IF(#REF!=\"\",NA(),#REF!),NA()),NA())","v":{"$error":"#REF!"}},{"$error":"#REF!"},{"$error":"#REF!"}]
[null,null,null,{"$f":"IF(#REF!=$E$1,IF(#REF!=$G$1,#REF!,NA()),NA())","v":{"$error":"#REF!"}},{"$f":"IF(#REF!=$E$1,IF(#REF!=$G$1,#REF!,NA()),NA())","v":{"$error":"#REF!"}},{"$f":"IF(#REF!=$E$1,IF(#REF!=$G$1,IF(#REF!=\"\",NA(),#REF!),NA()),NA())","v":{"$error":"#REF!"}},{"$f":"IF(#REF!=$E$1,IF(#REF!=$G$1,IF(#REF!=\"\",NA(),#REF!),NA()),NA())","v":{"$error":"#REF!"}},{"$error":"#REF!"},{"$error":"#REF!"}]
[null,null,null,{"$f":"IF(#REF!=$E$1,IF(#REF!=$G$1,#REF!,NA()),NA())","v":{"$error":"#REF!"}},{"$f":"IF(#REF!=$E$1,IF(#REF!=$G$1,#REF!,NA()),NA())","v":{"$error":"#REF!"}},{"$f":"IF(#REF!=$E$1,IF(#REF!=$G$1,IF(#REF!=\"\",NA(),#REF!),NA()),NA())","v":{"$error":"#REF!"}},{"$f":"IF(#REF!=$E$1,IF(#REF!=$G$1,IF(#REF!=\"\",NA(),#REF!),NA()),NA())","v":{"$error":"#REF!"}},{"$error":"#REF!"},{"$error":"#REF!"}]
[null,null,null,{"$f":"IF(#REF!=$E$1,IF(#REF!=$G$1,#REF!,NA()),NA())","v":{"$error":"#REF!"}},{"$f":"IF(#REF!=$E$1,IF(#REF!=$G$1,#REF!,NA()),NA())","v":{"$error":"#REF!"}},{"$f":"IF(#REF!=$E$1,IF(#REF!=$G$1,IF(#REF!=\"\",NA(),#REF!),NA()),NA())","v":{"$error":"#REF!"}},{"$f":"IF(#REF!=$E$1,IF(#REF!=$G$1,IF(#REF!=\"\",NA(),#REF!),NA()),NA())","v":{"$error":"#REF!"}},{"$error":"#REF!"},{"$error":"#REF!"}]
[null,null,null,{"$f":"IF(#REF!=$E$1,IF(#REF!=$G$1,#REF!,NA()),NA())","v":{"$error":"#REF!"}},{"$f":"IF(#REF!=$E$1,IF(#REF!=$G$1,#REF!,NA()),NA())","v":{"$error":"#REF!"}},{"$f":"IF(#REF!=$E$1,IF(#REF!=$G$1,IF(#REF!=\"\",NA(),#REF!),NA()),NA())","v":{"$error":"#REF!"}},{"$f":"IF(#REF!=$E$1,IF(#REF!=$G$1,IF(#REF!=\"\",NA(),#REF!),NA()),NA())","v":{"$error":"#REF!"}},{"$error":"#REF!"},{"$error":"#REF!"}]
[null,null,null,{"$f":"IF(#REF!=$E$1,IF(#REF!=$G$1,#REF!,NA()),NA())","v":{"$error":"#REF!"}},{"$f":"IF(#REF!=$E$1,IF(#REF!=$G$1,#REF!,NA()),NA())","v":{"$error":"#REF!"}},{"$f":"IF(#REF!=$E$1,IF(#REF!=$G$1,IF(#REF!=\"\",NA(),#REF!),NA()),NA())","v":{"$error":"#REF!"}},{"$f":"IF(#REF!=$E$1,IF(#REF!=$G$1,IF(#REF!=\"\",NA(),#REF!),NA()),NA())","v":{"$error":"#REF!"}},{"$error":"#REF!"},{"$error":"#REF!"}]
[null,null,null,{"$f":"IF(#REF!=$E$1,IF(#REF!=$G$1,#REF!,NA()),NA())","v":{"$error":"#REF!"}},{"$f":"IF(#REF!=$E$1,IF(#REF!=$G$1,#REF!,NA()),NA())","v":{"$error":"#REF!"}},{"$f":"IF(#REF!=$E$1,IF(#REF!=$G$1,IF(#REF!=\"\",NA(),#REF!),NA()),NA())","v":{"$error":"#REF!"}},{"$f":"IF(#REF!=$E$1,IF(#REF!=$G$1,IF(#REF!=\"\",NA(),#REF!),NA()),NA())","v":{"$error":"#REF!"}},{"$error":"#REF!"},{"$error":"#REF!"}]
[null,null,null,{"$f":"IF(#REF!=$E$1,IF(#REF!=$G$1,#REF!,NA()),NA())","v":{"$error":"#REF!"}},{"$f":"IF(#REF!=$E$1,IF(#REF!=$G$1,#REF!,NA()),NA())","v":{"$error":"#REF!"}},{"$f":"IF(#REF!=$E$1,IF(#REF!=$G$1,IF(#REF!=\"\",NA(),#REF!),NA()),NA())","v":{"$error":"#REF!"}},{"$f":"IF(#REF!=$E$1,IF(#REF!=$G$1,IF(#REF!=\"\",NA(),#REF!),NA()),NA())","v":{"$error":"#REF!"}},{"$error":"#REF!"},{"$error":"#REF!"}]
[null,null,null,{"$f":"IF(#REF!=$E$1,IF(#REF!=$G$1,#REF!,NA()),NA())","v":{"$error":"#REF!"}},{"$f":"IF(#REF!=$E$1,IF(#REF!=$G$1,#REF!,NA()),NA())","v":{"$error":"#REF!"}},{"$f":"IF(#REF!=$E$1,IF(#REF!=$G$1,IF(#REF!=\"\",NA(),#REF!),NA()),NA())","v":{"$error":"#REF!"}},{"$f":"IF(#REF!=$E$1,IF(#REF!=$G$1,IF(#REF!=\"\",NA(),#REF!),NA()),NA())","v":{"$error":"#REF!"}},{"$error":"#REF!"},{"$error":"#REF!"}]
[null,null,null,{"$f":"IF(#REF!=$E$1,IF(#REF!=$G$1,#REF!,NA()),NA())","v":{"$error":"#REF!"}},{"$f":"IF(#REF!=$E$1,IF(#REF!=$G$1,#REF!,NA()),NA())","v":{"$error":"#REF!"}},{"$f":"IF(#REF!=$E$1,IF(#REF!=$G$1,IF(#REF!=\"\",NA(),#REF!),NA()),NA())","v":{"$error":"#REF!"}},{"$f":"IF(#REF!=$E$1,IF(#REF!=$G$1,IF(#REF!=\"\",NA(),#REF!),NA()),NA())","v":{"$error":"#REF!"}},{"$error":"#REF!"},{"$error":"#REF!"}]
[null,null,null,{"$f":"IF(#REF!=$E$1,IF(#REF!=$G$1,#REF!,NA()),NA())","v":{"$error":"#REF!"}},{"$f":"IF(#REF!=$E$1,IF(#REF!=$G$1,#REF!,NA()),NA())","v":{"$error":"#REF!"}},{"$f":"IF(#REF!=$E$1,IF(#REF!=$G$1,IF(#REF!=\"\",NA(),#REF!),NA()),NA())","v":{"$error":"#REF!"}},{"$f":"IF(#REF!=$E$1,IF(#REF!=$G$1,IF(#REF!=\"\",NA(),#REF!),NA()),NA())","v":{"$error":"#REF!"}},{"$error":"#REF!"},{"$error":"#REF!"}]
[null,null,null,{"$f":"IF(#REF!=$E$1,IF(#REF!=$G$1,#REF!,NA()),NA())","v":{"$error":"#REF!"}},{"$f":"IF(#REF!=$E$1,IF(#REF!=$G$1,#REF!,NA()),NA())","v":{"$error":"#REF!"}},{"$f":"IF(#REF!=$E$1,IF(#REF!=$G$1,IF(#REF!=\"\",NA(),#REF!),NA()),NA())","v":{"$error":"#REF!"}},{"$f":"IF(#REF!=$E$1,IF(#REF!=$G$1,IF(#REF!=\"\",NA(),#REF!),NA()),NA())","v":{"$error":"#REF!"}},{"$error":"#REF!"},{"$error":"#REF!"}]
[null,null,null,{"$f":"IF(#REF!=$E$1,IF(#REF!=$G$1,#REF!,NA()),NA())","v":{"$error":"#REF!"}},{"$f":"IF(#REF!=$E$1,IF(#REF!=$G$1,#REF!,NA()),NA())","v":{"$error":"#REF!"}},{"$f":"IF(#REF!=$E$1,IF(#REF!=$G$1,IF(#REF!=\"\",NA(),#REF!),NA()),NA())","v":{"$error":"#REF!"}},{"$f":"IF(#REF!=$E$1,IF(#REF!=$G$1,IF(#REF!=\"\",NA(),#REF!),NA()),NA())","v":{"$error":"#REF!"}},{"$error":"#REF!"},{"$error":"#REF!"}]
[null,null,null,{"$f":"IF(#REF!=$E$1,IF(#REF!=$G$1,#REF!,NA()),NA())","v":{"$error":"#REF!"}},{"$f":"IF(#REF!=$E$1,IF(#REF!=$G$1,#REF!,NA()),NA())","v":{"$error":"#REF!"}},{"$f":"IF(#REF!=$E$1,IF(#REF!=$G$1,IF(#REF!=\"\",NA(),#REF!),NA()),NA())","v":{"$error":"#REF!"}},{"$f":"IF(#REF!=$E$1,IF(#REF!=$G$1,IF(#REF!=\"\",NA(),#REF!),NA()),NA())","v":{"$error":"#REF!"}},{"$error":"#REF!"},{"$error":"#REF!"}]
[null,null,null,{"$f":"IF(#REF!=$E$1,IF(#REF!=$G$1,#REF!,NA()),NA())","v":{"$error":"#REF!"}},{"$f":"IF(#REF!=$E$1,IF(#REF!=$G$1,#REF!,NA()),NA())","v":{"$error":"#REF!"}},{"$f":"IF(#REF!=$E$1,IF(#REF!=$G$1,IF(#REF!=\"\",NA(),#REF!),NA()),NA())","v":{"$error":"#REF!"}},{"$f":"IF(#REF!=$E$1,IF(#REF!=$G$1,IF(#REF!=\"\",NA(),#REF!),NA()),NA())","v":{"$error":"#REF!"}},{"$error":"#REF!"},{"$error":"#REF!"}]
[null,null,null,{"$f":"IF(#REF!=$E$1,IF(#REF!=$G$1,#REF!,NA()),NA())","v":{"$error":"#REF!"}},{"$f":"IF(#REF!=$E$1,IF(#REF!=$G$1,#REF!,NA()),NA())","v":{"$error":"#REF!"}},{"$f":"IF(#REF!=$E$1,IF(#REF!=$G$1,IF(#REF!=\"\",NA(),#REF!),NA()),NA())","v":{"$error":"#REF!"}},{"$f":"IF(#REF!=$E$1,IF(#REF!=$G$1,IF(#REF!=\"\",NA(),#REF!),NA()),NA())","v":{"$error":"#REF!"}},{"$error":"#REF!"},{"$error":"#REF!"}]
[null,null,null,{"$f":"IF(#REF!=$E$1,IF(#REF!=$G$1,#REF!,NA()),NA())","v":{"$error":"#REF!"}},{"$f":"IF(#REF!=$E$1,IF(#REF!=$G$1,#REF!,NA()),NA())","v":{"$error":"#REF!"}},{"$f":"IF(#REF!=$E$1,IF(#REF!=$G$1,IF(#REF!=\"\",NA(),#REF!),NA()),NA())","v":{"$error":"#REF!"}},{"$f":"IF(#REF!=$E$1,IF(#REF!=$G$1,IF(#REF!=\"\",NA(),#REF!),NA()),NA())","v":{"$error":"#REF!"}},{"$error":"#REF!"},{"$error":"#REF!"}]
[null,null,null,{"$f":"IF(#REF!=$E$1,IF(#REF!=$G$1,#REF!,NA()),NA())","v":{"$error":"#REF!"}},{"$f":"IF(#REF!=$E$1,IF(#REF!=$G$1,#REF!,NA()),NA())","v":{"$error":"#REF!"}},{"$f":"IF(#REF!=$E$1,IF(#REF!=$G$1,IF(#REF!=\"\",NA(),#REF!),NA()),NA())","v":{"$error":"#REF!"}},{"$f":"IF(#REF!=$E$1,IF(#REF!=$G$1,IF(#REF!=\"\",NA(),#REF!),NA()),NA())","v":{"$error":"#REF!"}},{"$error":"#REF!"},{"$error":"#REF!"}]
[null,null,null,{"$f":"IF(#REF!=$E$1,IF(#REF!=$G$1,#REF!,NA()),NA())","v":{"$error":"#REF!"}},{"$f":"IF(#REF!=$E$1,IF(#REF!=$G$1,#REF!,NA()),NA())","v":{"$error":"#REF!"}},{"$f":"IF(#REF!=$E$1,IF(#REF!=$G$1,IF(#REF!=\"\",NA(),#REF!),NA()),NA())","v":{"$error":"#REF!"}},{"$f":"IF(#REF!=$E$1,IF(#REF!=$G$1,IF(#REF!=\"\",NA(),#REF!),NA()),NA())","v":{"$error":"#REF!"}},{"$error":"#REF!"},{"$error":"#REF!"}]
[null,null,null,{"$f":"IF(#REF!=$E$1,IF(#REF!=$G$1,#REF!,NA()),NA())","v":{"$error":"#REF!"}},{"$f":"IF(#REF!=$E$1,IF(#REF!=$G$1,#REF!,NA()),NA())","v":{"$error":"#REF!"}},{"$f":"IF(#REF!=$E$1,IF(#REF!=$G$1,IF(#REF!=\"\",NA(),#REF!),NA()),NA())","v":{"$error":"#REF!"}},{"$f":"IF(#REF!=$E$1,IF(#REF!=$G$1,IF(#REF!=\"\",NA(),#REF!),NA()),NA())","v":{"$error":"#REF!"}},{"$error":"#REF!"},{"$error":"#REF!"}]
[null,null,null,{"$f":"IF(#REF!=$E$1,IF(#REF!=$G$1,#REF!,NA()),NA())","v":{"$error":"#REF!"}},{"$f":"IF(#REF!=$E$1,IF(#REF!=$G$1,#REF!,NA()),NA())","v":{"$error":"#REF!"}},{"$f":"IF(#REF!=$E$1,IF(#REF!=$G$1,IF(#REF!=\"\",NA(),#REF!),NA()),NA())","v":{"$error":"#REF!"}},{"$f":"IF(#REF!=$E$1,IF(#REF!=$G$1,IF(#REF!=\"\",NA(),#REF!),NA()),NA())","v":{"$error":"#REF!"}},{"$error":"#REF!"},{"$error":"#REF!"}]
[null,null,null,{"$f":"IF(#REF!=$E$1,IF(#REF!=$G$1,#REF!,NA()),NA())","v":{"$error":"#REF!"}},{"$f":"IF(#REF!=$E$1,IF(#REF!=$G$1,#REF!,NA()),NA())","v":{"$error":"#REF!"}},{"$f":"IF(#REF!=$E$1,IF(#REF!=$G$1,IF(#REF!=\"\",NA(),#REF!),NA()),NA())","v":{"$error":"#REF!"}},{"$f":"IF(#REF!=$E$1,IF(#REF!=$G$1,IF(#REF!=\"\",NA(),#REF!),NA()),NA())","v":{"$error":"#REF!"}},{"$error":"#REF!"},{"$error":"#REF!"}]
[null,null,null,{"$f":"IF(#REF!=$E$1,IF(#REF!=$G$1,#REF!,NA()),NA())","v":{"$error":"#REF!"}},{"$f":"IF(#REF!=$E$1,IF(#REF!=$G$1,#REF!,NA()),NA())","v":{"$error":"#REF!"}},{"$f":"IF(#REF!=$E$1,IF(#REF!=$G$1,IF(#REF!=\"\",NA(),#REF!),NA()),NA())","v":{"$error":"#REF!"}},{"$f":"IF(#REF!=$E$1,IF(#REF!=$G$1,IF(#REF!=\"\",NA(),#REF!),NA()),NA())","v":{"$error":"#REF!"}},{"$error":"#REF!"},{"$error":"#REF!"}]
[null,null,null,{"$f":"IF(#REF!=$E$1,IF(#REF!=$G$1,#REF!,NA()),NA())","v":{"$error":"#REF!"}},{"$f":"IF(#REF!=$E$1,IF(#REF!=$G$1,#REF!,NA()),NA())","v":{"$error":"#REF!"}},{"$f":"IF(#REF!=$E$1,IF(#REF!=$G$1,IF(#REF!=\"\",NA(),#REF!),NA()),NA())","v":{"$error":"#REF!"}},{"$f":"IF(#REF!=$E$1,IF(#REF!=$G$1,IF(#REF!=\"\",NA(),#REF!),NA()),NA())","v":{"$error":"#REF!"}},{"$f":"IF(AND(ISNUMBER(G196),F196=\"-\"),0,F196)","v":{"$error":"#REF!"}},{"$f":"IF(AND(ISNUMBER(F196),G196=\"-\"),0,G196)","v":{"$error":"#REF!"}}]
[null,null,null,{"$f":"IF(#REF!=$E$1,IF(#REF!=$G$1,#REF!,NA()),NA())","v":{"$error":"#REF!"}},{"$f":"IF(#REF!=$E$1,IF(#REF!=$G$1,#REF!,NA()),NA())","v":{"$error":"#REF!"}},{"$f":"IF(#REF!=$E$1,IF(#REF!=$G$1,IF(#REF!=\"\",NA(),#REF!),NA()),NA())","v":{"$error":"#REF!"}},{"$f":"IF(#REF!=$E$1,IF(#REF!=$G$1,IF(#REF!=\"\",NA(),#REF!),NA()),NA())","v":{"$error":"#REF!"}},{"$error":"#REF!"},{"$error":"#REF!"}]
[null,null,null,{"$f":"IF(#REF!=$E$1,IF(#REF!=$G$1,#REF!,NA()),NA())","v":{"$error":"#REF!"}},{"$f":"IF(#REF!=$E$1,IF(#REF!=$G$1,#REF!,NA()),NA())","v":{"$error":"#REF!"}},{"$f":"IF(#REF!=$E$1,IF(#REF!=$G$1,IF(#REF!=\"\",NA(),#REF!),NA()),NA())","v":{"$error":"#REF!"}},{"$f":"IF(#REF!=$E$1,IF(#REF!=$G$1,IF(#REF!=\"\",NA(),#REF!),NA()),NA())","v":{"$error":"#REF!"}},{"$error":"#REF!"},{"$error":"#REF!"}]
[null,null,null,{"$f":"IF(#REF!=$E$1,IF(#REF!=$G$1,#REF!,NA()),NA())","v":{"$error":"#REF!"}},{"$f":"IF(#REF!=$E$1,IF(#REF!=$G$1,#REF!,NA()),NA())","v":{"$error":"#REF!"}},{"$f":"IF(#REF!=$E$1,IF(#REF!=$G$1,IF(#REF!=\"\",NA(),#REF!),NA()),NA())","v":{"$error":"#REF!"}},{"$f":"IF(#REF!=$E$1,IF(#REF!=$G$1,IF(#REF!=\"\",NA(),#REF!),NA()),NA())","v":{"$error":"#REF!"}},{"$error":"#REF!"},{"$error":"#REF!"}]
[null,null,null,{"$f":"IF(#REF!=$E$1,IF(#REF!=$G$1,#REF!,NA()),NA())","v":{"$error":"#REF!"}},{"$f":"IF(#REF!=$E$1,IF(#REF!=$G$1,#REF!,NA()),NA())","v":{"$error":"#REF!"}},{"$f":"IF(#REF!=$E$1,IF(#REF!=$G$1,IF(#REF!=\"\",NA(),#REF!),NA()),NA())","v":{"$error":"#REF!"}},{"$f":"IF(#REF!=$E$1,IF(#REF!=$G$1,IF(#REF!=\"\",NA(),#REF!),NA()),NA())","v":{"$error":"#REF!"}},{"$error":"#REF!"},{"$error":"#REF!"}]
[null,null,null,{"$f":"IF(#REF!=$E$1,IF(#REF!=$G$1,#REF!,NA()),NA())","v":{"$error":"#REF!"}},{"$f":"IF(#REF!=$E$1,IF(#REF!=$G$1,#REF!,NA()),NA())","v":{"$error":"#REF!"}},{"$f":"IF(#REF!=$E$1,IF(#REF!=$G$1,IF(#REF!=\"\",NA(),#REF!),NA()),NA())","v":{"$error":"#REF!"}},{"$f":"IF(#REF!=$E$1,IF(#REF!=$G$1,IF(#REF!=\"\",NA(),#REF!),NA()),NA())","v":{"$error":"#REF!"}},{"$error":"#REF!"},{"$error":"#REF!"}]
[null,null,null,{"$f":"IF(#REF!=$E$1,IF(#REF!=$G$1,#REF!,NA()),NA())","v":{"$error":"#REF!"}},{"$f":"IF(#REF!=$E$1,IF(#REF!=$G$1,#REF!,NA()),NA())","v":{"$error":"#REF!"}},{"$f":"IF(#REF!=$E$1,IF(#REF!=$G$1,IF(#REF!=\"\",NA(),#REF!),NA()),NA())","v":{"$error":"#REF!"}},{"$f":"IF(#REF!=$E$1,IF(#REF!=$G$1,IF(#REF!=\"\",NA(),#REF!),NA()),NA())","v":{"$error":"#REF!"}},{"$error":"#REF!"},{"$error":"#REF!"}]
[null,null,null,{"$f":"IF(#REF!=$E$1,IF(#REF!=$G$1,#REF!,NA()),NA())","v":{"$error":"#REF!"}},{"$f":"IF(#REF!=$E$1,IF(#REF!=$G$1,#REF!,NA()),NA())","v":{"$error":"#REF!"}},{"$f":"IF(#REF!=$E$1,IF(#REF!=$G$1,IF(#REF!=\"\",NA(),#REF!),NA()),NA())","v":{"$error":"#REF!"}},{"$f":"IF(#REF!=$E$1,IF(#REF!=$G$1,IF(#REF!=\"\",NA(),#REF!),NA()),NA())","v":{"$error":"#REF!"}},{"$error":"#REF!"},{"$error":"#REF!"}]
[null,null,null,{"$f":"IF(#REF!=$E$1,IF(#REF!=$G$1,#REF!,NA()),NA())","v":{"$error":"#REF!"}},{"$f":"IF(#REF!=$E$1,IF(#REF!=$G$1,#REF!,NA()),NA())","v":{"$error":"#REF!"}},{"$f":"IF(#REF!=$E$1,IF(#REF!=$G$1,IF(#REF!=\"\",NA(),#REF!),NA()),NA())","v":{"$error":"#REF!"}},{"$f":"IF(#REF!=$E$1,IF(#REF!=$G$1,IF(#REF!=\"\",NA(),#REF!),NA()),NA())","v":{"$error":"#REF!"}},{"$error":"#REF!"},{"$error":"#REF!"}]
[null,null,null,{"$f":"IF(#REF!=$E$1,IF(#REF!=$G$1,#REF!,NA()),NA())","v":{"$error":"#REF!"}},{"$f":"IF(#REF!=$E$1,IF(#REF!=$G$1,#REF!,NA()),NA())","v":{"$error":"#REF!"}},{"$f":"IF(#REF!=$E$1,IF(#REF!=$G$1,IF(#REF!=\"\",NA(),#REF!),NA()),NA())","v":{"$error":"#REF!"}},{"$f":"IF(#REF!=$E$1,IF(#REF!=$G$1,IF(#REF!=\"\",NA(),#REF!),NA()),NA())","v":{"$error":"#REF!"}},{"$error":"#REF!"},{"$error":"#REF!"}]
[null,null,null,{"$f":"IF(#REF!=$E$1,IF(#REF!=$G$1,#REF!,NA()),NA())","v":{"$error":"#REF!"}},{"$f":"IF(#REF!=$E$1,IF(#REF!=$G$1,#REF!,NA()),NA())","v":{"$error":"#REF!"}},{"$f":"IF(#REF!=$E$1,IF(#REF!=$G$1,IF(#REF!=\"\",NA(),#REF!),NA()),NA())","v":{"$error":"#REF!"}},{"$f":"IF(#REF!=$E$1,IF(#REF!=$G$1,IF(#REF!=\"\",NA(),#REF!),NA()),NA())","v":{"$error":"#REF!"}},{"$error":"#REF!"},{"$error":"#REF!"}]
[null,null,null,{"$f":"IF(#REF!=$E$1,IF(#REF!=$G$1,#REF!,NA()),NA())","v":{"$error":"#REF!"}},{"$f":"IF(#REF!=$E$1,IF(#REF!=$G$1,#REF!,NA()),NA())","v":{"$error":"#REF!"}},{"$f":"IF(#REF!=$E$1,IF(#REF!=$G$1,IF(#REF!=\"\",NA(),#REF!),NA()),NA())","v":{"$error":"#REF!"}},{"$f":"IF(#REF!=$E$1,IF(#REF!=$G$1,IF(#REF!=\"\",NA(),#REF!),NA()),NA())","v":{"$error":"#REF!"}},{"$error":"#REF!"},{"$error":"#REF!"}]
[null,null,null,{"$f":"IF(#REF!=$E$1,IF(#REF!=$G$1,#REF!,NA()),NA())","v":{"$error":"#REF!"}},{"$f":"IF(#REF!=$E$1,IF(#REF!=$G$1,#REF!,NA()),NA())","v":{"$error":"#REF!"}},{"$f":"IF(#REF!=$E$1,IF(#REF!=$G$1,IF(#REF!=\"\",NA(),#REF!),NA()),NA())","v":{"$error":"#REF!"}},{"$f":"IF(#REF!=$E$1,IF(#REF!=$G$1,IF(#REF!=\"\",NA(),#REF!),NA()),NA())","v":{"$error":"#REF!"}},{"$error":"#REF!"},{"$error":"#REF!"}]
[null,null,null,{"$f":"IF(#REF!=$E$1,IF(#REF!=$G$1,#REF!,NA()),NA())","v":{"$error":"#REF!"}},{"$f":"IF(#REF!=$E$1,IF(#REF!=$G$1,#REF!,NA()),NA())","v":{"$error":"#REF!"}},{"$f":"IF(#REF!=$E$1,IF(#REF!=$G$1,IF(#REF!=\"\",NA(),#REF!),NA()),NA())","v":{"$error":"#REF!"}},{"$f":"IF(#REF!=$E$1,IF(#REF!=$G$1,IF(#REF!=\"\",NA(),#REF!),NA()),NA())","v":{"$error":"#REF!"}},{"$error":"#REF!"},{"$error":"#REF!"}]
[null,null,null,{"$f":"IF(#REF!=$E$1,IF(#REF!=$G$1,#REF!,NA()),NA())","v":{"$error":"#REF!"}},{"$f":"IF(#REF!=$E$1,IF(#REF!=$G$1,#REF!,NA()),NA())","v":{"$error":"#REF!"}},{"$f":"IF(#REF!=$E$1,IF(#REF!=$G$1,IF(#REF!=\"\",NA(),#REF!),NA()),NA())","v":{"$error":"#REF!"}},{"$f":"IF(#REF!=$E$1,IF(#REF!=$G$1,IF(#REF!=\"\",NA(),#REF!),NA()),NA())","v":{"$error":"#REF!"}},{"$error":"#REF!"},{"$error":"#REF!"}]
[null,null,null,{"$f":"IF(#REF!=$E$1,IF(#REF!=$G$1,#REF!,NA()),NA())","v":{"$error":"#REF!"}},{"$f":"IF(#REF!=$E$1,IF(#REF!=$G$1,#REF!,NA()),NA())","v":{"$error":"#REF!"}},{"$f":"IF(#REF!=$E$1,IF(#REF!=$G$1,IF(#REF!=\"\",NA(),#REF!),NA()),NA())","v":{"$error":"#REF!"}},{"$f":"IF(#REF!=$E$1,IF(#REF!=$G$1,IF(#REF!=\"\",NA(),#REF!),NA()),NA())","v":{"$error":"#REF!"}},{"$error":"#REF!"},{"$error":"#REF!"}]
[null,null,null,{"$f":"IF(#REF!=$E$1,IF(#REF!=$G$1,#REF!,NA()),NA())","v":{"$error":"#REF!"}},{"$f":"IF(#REF!=$E$1,IF(#REF!=$G$1,#REF!,NA()),NA())","v":{"$error":"#REF!"}},{"$f":"IF(#REF!=$E$1,IF(#REF!=$G$1,IF(#REF!=\"\",NA(),#REF!),NA()),NA())","v":{"$error":"#REF!"}},{"$f":"IF(#REF!=$E$1,IF(#REF!=$G$1,IF(#REF!=\"\",NA(),#REF!),NA()),NA())","v":{"$error":"#REF!"}},{"$error":"#REF!"},{"$error":"#REF!"}]
[null,null,null,{"$f":"IF(#REF!=$E$1,IF(#REF!=$G$1,#REF!,NA()),NA())","v":{"$error":"#REF!"}},{"$f":"IF(#REF!=$E$1,IF(#REF!=$G$1,#REF!,NA()),NA())","v":{"$error":"#REF!"}},{"$f":"IF(#REF!=$E$1,IF(#REF!=$G$1,IF(#REF!=\"\",NA(),#REF!),NA()),NA())","v":{"$error":"#REF!"}},{"$f":"IF(#REF!=$E$1,IF(#REF!=$G$1,IF(#REF!=\"\",NA(),#REF!),NA()),NA())","v":{"$error":"#REF!"}},{"$error":"#REF!"},{"$error":"#REF!"}]
[null,null,null,{"$f":"IF(#REF!=$E$1,IF(#REF!=$G$1,#REF!,NA()),NA())","v":{"$error":"#REF!"}},{"$f":"IF(#REF!=$E$1,IF(#REF!=$G$1,#REF!,NA()),NA())","v":{"$error":"#REF!"}},{"$f":"IF(#REF!=$E$1,IF(#REF!=$G$1,IF(#REF!=\"\",NA(),#REF!),NA()),NA())","v":{"$error":"#REF!"}},{"$f":"IF(#REF!=$E$1,IF(#REF!=$G$1,IF(#REF!=\"\",NA(),#REF!),NA()),NA())","v":{"$error":"#REF!"}},{"$error":"#REF!"},{"$error":"#REF!"}]
[null,null,null,{"$f":"IF(#REF!=$E$1,IF(#REF!=$G$1,#REF!,NA()),NA())","v":{"$error":"#REF!"}},{"$f":"IF(#REF!=$E$1,IF(#REF!=$G$1,#REF!,NA()),NA())","v":{"$error":"#REF!"}},{"$f":"IF(#REF!=$E$1,IF(#REF!=$G$1,IF(#REF!=\"\",NA(),#REF!),NA()),NA())","v":{"$error":"#REF!"}},{"$f":"IF(#REF!=$E$1,IF(#REF!=$G$1,IF(#REF!=\"\",NA(),#REF!),NA()),NA())","v":{"$error":"#REF!"}},{"$error":"#REF!"},{"$error":"#REF!"}]
[null,null,null,{"$f":"IF(#REF!=$E$1,IF(#REF!=$G$1,#REF!,NA()),NA())","v":{"$error":"#REF!"}},{"$f":"IF(#REF!=$E$1,IF(#REF!=$G$1,#REF!,NA()),NA())","v":{"$error":"#REF!"}},{"$f":"IF(#REF!=$E$1,IF(#REF!=$G$1,IF(#REF!=\"\",NA(),#REF!),NA()),NA())","v":{"$error":"#REF!"}},{"$f":"IF(#REF!=$E$1,IF(#REF!=$G$1,IF(#REF!=\"\",NA(),#REF!),NA()),NA())","v":{"$error":"#REF!"}},{"$error":"#REF!"},{"$error":"#REF!"}]
[null,null,null,{"$f":"IF(#REF!=$E$1,IF(#REF!=$G$1,#REF!,NA()),NA())","v":{"$error":"#REF!"}},{"$f":"IF(#REF!=$E$1,IF(#REF!=$G$1,#REF!,NA()),NA())","v":{"$error":"#REF!"}},{"$f":"IF(#REF!=$E$1,IF(#REF!=$G$1,IF(#REF!=\"\",NA(),#REF!),NA()),NA())","v":{"$error":"#REF!"}},{"$f":"IF(#REF!=$E$1,IF(#REF!=$G$1,IF(#REF!=\"\",NA(),#REF!),NA()),NA())","v":{"$error":"#REF!"}},{"$error":"#REF!"},{"$error":"#REF!"}]
[null,null,null,{"$f":"IF(#REF!=$E$1,IF(#REF!=$G$1,#REF!,NA()),NA())","v":{"$error":"#REF!"}},{"$f":"IF(#REF!=$E$1,IF(#REF!=$G$1,#REF!,NA()),NA())","v":{"$error":"#REF!"}},{"$f":"IF(#REF!=$E$1,IF(#REF!=$G$1,IF(#REF!=\"\",NA(),#REF!),NA()),NA())","v":{"$error":"#REF!"}},{"$f":"IF(#REF!=$E$1,IF(#REF!=$G$1,IF(#REF!=\"\",NA(),#REF!),NA()),NA())","v":{"$error":"#REF!"}},{"$error":"#REF!"},{"$error":"#REF!"}]
[null,null,null,{"$f":"IF(#REF!=$E$1,IF(#REF!=$G$1,#REF!,NA()),NA())","v":{"$error":"#REF!"}},{"$f":"IF(#REF!=$E$1,IF(#REF!=$G$1,#REF!,NA()),NA())","v":{"$error":"#REF!"}},{"$f":"IF(#REF!=$E$1,IF(#REF!=$G$1,IF(#REF!=\"\",NA(),#REF!),NA()),NA())","v":{"$error":"#REF!"}},{"$f":"IF(#REF!=$E$1,IF(#REF!=$G$1,IF(#REF!=\"\",NA(),#REF!),NA()),NA())","v":{"$error":"#REF!"}},{"$error":"#REF!"},{"$error":"#REF!"}]
[null,null,null,{"$f":"IF(#REF!=$E$1,IF(#REF!=$G$1,#REF!,NA()),NA())","v":{"$error":"#REF!"}},{"$f":"IF(#REF!=$E$1,IF(#REF!=$G$1,#REF!,NA()),NA())","v":{"$error":"#REF!"}},{"$f":"IF(#REF!=$E$1,IF(#REF!=$G$1,IF(#REF!=\"\",NA(),#REF!),NA()),NA())","v":{"$error":"#REF!"}},{"$f":"IF(#REF!=$E$1,IF(#REF!=$G$1,IF(#REF!=\"\",NA(),#REF!),NA()),NA())","v":{"$error":"#REF!"}},{"$error":"#REF!"},{"$error":"#REF!"}]
[null,null,null,{"$f":"IF(#REF!=$E$1,IF(#REF!=$G$1,#REF!,NA()),NA())","v":{"$error":"#REF!"}},{"$f":"IF(#REF!=$E$1,IF(#REF!=$G$1,#REF!,NA()),NA())","v":{"$error":"#REF!"}},{"$f":"IF(#REF!=$E$1,IF(#REF!=$G$1,IF(#REF!=\"\",NA(),#REF!),NA()),NA())","v":{"$error":"#REF!"}},{"$f":"IF(#REF!=$E$1,IF(#REF!=$G$1,IF(#REF!=\"\",NA(),#REF!),NA()),NA())","v":{"$error":"#REF!"}},{"$error":"#REF!"},{"$error":"#REF!"}]
[null,null,null,{"$f":"IF(#REF!=$E$1,IF(#REF!=$G$1,#REF!,NA()),NA())","v":{"$error":"#REF!"}},{"$f":"IF(#REF!=$E$1,IF(#REF!=$G$1,#REF!,NA()),NA())","v":{"$error":"#REF!"}},{"$f":"IF(#REF!=$E$1,IF(#REF!=$G$1,IF(#REF!=\"\",NA(),#REF!),NA()),NA())","v":{"$error":"#REF!"}},{"$f":"IF(#REF!=$E$1,IF(#REF!=$G$1,IF(#REF!=\"\",NA(),#REF!),NA()),NA())","v":{"$error":"#REF!"}},{"$error":"#REF!"},{"$error":"#REF!"}]
[null,null,null,{"$f":"IF(#REF!=$E$1,IF(#REF!=$G$1,#REF!,NA()),NA())","v":{"$error":"#REF!"}},{"$f":"IF(#REF!=$E$1,IF(#REF!=$G$1,#REF!,NA()),NA())","v":{"$error":"#REF!"}},{"$f":"IF(#REF!=$E$1,IF(#REF!=$G$1,IF(#REF!=\"\",NA(),#REF!),NA()),NA())","v":{"$error":"#REF!"}},{"$f":"IF(#REF!=$E$1,IF(#REF!=$G$1,IF(#REF!=\"\",NA(),#REF!),NA()),NA())","v":{"$error":"#REF!"}},{"$error":"#REF!"},{"$error":"#REF!"}]
[null,null,null,{"$f":"IF(#REF!=$E$1,IF(#REF!=$G$1,#REF!,NA()),NA())","v":{"$error":"#REF!"}},{"$f":"IF(#REF!=$E$1,IF(#REF!=$G$1,#REF!,NA()),NA())","v":{"$error":"#REF!"}},{"$f":"IF(#REF!=$E$1,IF(#REF!=$G$1,IF(#REF!=\"\",NA(),#REF!),NA()),NA())","v":{"$error":"#REF!"}},{"$f":"IF(#REF!=$E$1,IF(#REF!=$G$1,IF(#REF!=\"\",NA(),#REF!),NA()),NA())","v":{"$error":"#REF!"}},{"$error":"#REF!"},{"$error":"#REF!"}]
[null,null,null,{"$f":"IF(#REF!=$E$1,IF(#REF!=$G$1,#REF!,NA()),NA())","v":{"$error":"#REF!"}},{"$f":"IF(#REF!=$E$1,IF(#REF!=$G$1,#REF!,NA()),NA())","v":{"$error":"#REF!"}},{"$f":"IF(#REF!=$E$1,IF(#REF!=$G$1,IF(#REF!=\"\",NA(),#REF!),NA()),NA())","v":{"$error":"#REF!"}},{"$f":"IF(#REF!=$E$1,IF(#REF!=$G$1,IF(#REF!=\"\",NA(),#REF!),NA()),NA())","v":{"$error":"#REF!"}},{"$error":"#REF!"},{"$error":"#REF!"}]
[null,null,null,{"$f":"IF(#REF!=$E$1,IF(#REF!=$G$1,#REF!,NA()),NA())","v":{"$error":"#REF!"}},{"$f":"IF(#REF!=$E$1,IF(#REF!=$G$1,#REF!,NA()),NA())","v":{"$error":"#REF!"}},{"$f":"IF(#REF!=$E$1,IF(#REF!=$G$1,IF(#REF!=\"\",NA(),#REF!),NA()),NA())","v":{"$error":"#REF!"}},{"$f":"IF(#REF!=$E$1,IF(#REF!=$G$1,IF(#REF!=\"\",NA(),#REF!),NA()),NA())","v":{"$error":"#REF!"}},{"$error":"#REF!"},{"$error":"#REF!"}]
[null,null,null,{"$f":"IF(#REF!=$E$1,IF(#REF!=$G$1,#REF!,NA()),NA())","v":{"$error":"#REF!"}},{"$f":"IF(#REF!=$E$1,IF(#REF!=$G$1,#REF!,NA()),NA())","v":{"$error":"#REF!"}},{"$f":"IF(#REF!=$E$1,IF(#REF!=$G$1,IF(#REF!=\"\",NA(),#REF!),NA()),NA())","v":{"$error":"#REF!"}},{"$f":"IF(#REF!=$E$1,IF(#REF!=$G$1,IF(#REF!=\"\",NA(),#REF!),NA()),NA())","v":{"$error":"#REF!"}},{"$error":"#REF!"},{"$error":"#REF!"}]
[null,null,null,{"$f":"IF(#REF!=$E$1,IF(#REF!=$G$1,#REF!,NA()),NA())","v":{"$error":"#REF!"}},{"$f":"IF(#REF!=$E$1,IF(#REF!=$G$1,#REF!,NA()),NA())","v":{"$error":"#REF!"}},{"$f":"IF(#REF!=$E$1,IF(#REF!=$G$1,IF(#REF!=\"\",NA(),#REF!),NA()),NA())","v":{"$error":"#REF!"}},{"$f":"IF(#REF!=$E$1,IF(#REF!=$G$1,IF(#REF!=\"\",NA(),#REF!),NA()),NA())","v":{"$error":"#REF!"}},{"$error":"#REF!"},{"$error":"#REF!"}]
[null,null,null,{"$f":"IF(#REF!=$E$1,IF(#REF!=$G$1,#REF!,NA()),NA())","v":{"$error":"#REF!"}},{"$f":"IF(#REF!=$E$1,IF(#REF!=$G$1,#REF!,NA()),NA())","v":{"$error":"#REF!"}},{"$f":"IF(#REF!=$E$1,IF(#REF!=$G$1,IF(#REF!=\"\",NA(),#REF!),NA()),NA())","v":{"$error":"#REF!"}},{"$f":"IF(#REF!=$E$1,IF(#REF!=$G$1,IF(#REF!=\"\",NA(),#REF!),NA()),NA())","v":{"$error":"#REF!"}},{"$error":"#REF!"},{"$error":"#REF!"}]
[null,null,null,{"$f":"IF(#REF!=$E$1,IF(#REF!=$G$1,#REF!,NA()),NA())","v":{"$error":"#REF!"}},{"$f":"IF(#REF!=$E$1,IF(#REF!=$G$1,#REF!,NA()),NA())","v":{"$error":"#REF!"}},{"$f":"IF(#REF!=$E$1,IF(#REF!=$G$1,IF(#REF!=\"\",NA(),#REF!),NA()),NA())","v":{"$error":"#REF!"}},{"$f":"IF(#REF!=$E$1,IF(#REF!=$G$1,IF(#REF!=\"\",NA(),#REF!),NA()),NA())","v":{"$error":"#REF!"}},{"$error":"#REF!"},{"$error":"#REF!"}]
[null,null,null,{"$f":"IF(#REF!=$E$1,IF(#REF!=$G$1,#REF!,NA()),NA())","v":{"$error":"#REF!"}},{"$f":"IF(#REF!=$E$1,IF(#REF!=$G$1,#REF!,NA()),NA())","v":{"$error":"#REF!"}},{"$f":"IF(#REF!=$E$1,IF(#REF!=$G$1,IF(#REF!=\"\",NA(),#REF!),NA()),NA())","v":{"$error":"#REF!"}},{"$f":"IF(#REF!=$E$1,IF(#REF!=$G$1,IF(#REF!=\"\",NA(),#REF!),NA()),NA())","v":{"$error":"#REF!"}},{"$error":"#REF!"},{"$error":"#REF!"}]
[null,null,null,{"$f":"IF(#REF!=$E$1,IF(#REF!=$G$1,#REF!,NA()),NA())","v":{"$error":"#REF!"}},{"$f":"IF(#REF!=$E$1,IF(#REF!=$G$1,#REF!,NA()),NA())","v":{"$error":"#REF!"}},{"$f":"IF(#REF!=$E$1,IF(#REF!=$G$1,IF(#REF!=\"\",NA(),#REF!),NA()),NA())","v":{"$error":"#REF!"}},{"$f":"IF(#REF!=$E$1,IF(#REF!=$G$1,IF(#REF!=\"\",NA(),#REF!),NA()),NA())","v":{"$error":"#REF!"}},{"$error":"#REF!"},{"$error":"#REF!"}]
[null,null,null,{"$f":"IF(#REF!=$E$1,IF(#REF!=$G$1,#REF!,NA()),NA())","v":{"$error":"#REF!"}},{"$f":"IF(#REF!=$E$1,IF(#REF!=$G$1,#REF!,NA()),NA())","v":{"$error":"#REF!"}},{"$f":"IF(#REF!=$E$1,IF(#REF!=$G$1,IF(#REF!=\"\",NA(),#REF!),NA()),NA())","v":{"$error":"#REF!"}},{"$f":"IF(#REF!=$E$1,IF(#REF!=$G$1,IF(#REF!=\"\",NA(),#REF!),NA()),NA())","v":{"$error":"#REF!"}},{"$error":"#REF!"},{"$error":"#REF!"}]
[null,null,null,{"$f":"IF(#REF!=$E$1,IF(#REF!=$G$1,#REF!,NA()),NA())","v":{"$error":"#REF!"}},{"$f":"IF(#REF!=$E$1,IF(#REF!=$G$1,#REF!,NA()),NA())","v":{"$error":"#REF!"}},{"$f":"IF(#REF!=$E$1,IF(#REF!=$G$1,IF(#REF!=\"\",NA(),#REF!),NA()),NA())","v":{"$error":"#REF!"}},{"$f":"IF(#REF!=$E$1,IF(#REF!=$G$1,IF(#REF!=\"\",NA(),#REF!),NA()),NA())","v":{"$error":"#REF!"}},{"$error":"#REF!"},{"$error":"#REF!"}]
[null,null,null,{"$f":"IF(#REF!=$E$1,IF(#REF!=$G$1,#REF!,NA()),NA())","v":{"$error":"#REF!"}},{"$f":"IF(#REF!=$E$1,IF(#REF!=$G$1,#REF!,NA()),NA())","v":{"$error":"#REF!"}},{"$f":"IF(#REF!=$E$1,IF(#REF!=$G$1,IF(#REF!=\"\",NA(),#REF!),NA()),NA())","v":{"$error":"#REF!"}},{"$f":"IF(#REF!=$E$1,IF(#REF!=$G$1,IF(#REF!=\"\",NA(),#REF!),NA()),NA())","v":{"$error":"#REF!"}},{"$error":"#REF!"},{"$error":"#REF!"}]
[null,null,null,{"$f":"IF(#REF!=$E$1,IF(#REF!=$G$1,#REF!,NA()),NA())","v":{"$error":"#REF!"}},{"$f":"IF(#REF!=$E$1,IF(#REF!=$G$1,#REF!,NA()),NA())","v":{"$error":"#REF!"}},{"$f":"IF(#REF!=$E$1,IF(#REF!=$G$1,IF(#REF!=\"\",NA(),#REF!),NA()),NA())","v":{"$error":"#REF!"}},{"$f":"IF(#REF!=$E$1,IF(#REF!=$G$1,IF(#REF!=\"\",NA(),#REF!),NA()),NA())","v":{"$error":"#REF!"}},{"$error":"#REF!"},{"$error":"#REF!"}]
[null,null,null,{"$f":"IF(#REF!=$E$1,IF(#REF!=$G$1,#REF!,NA()),NA())","v":{"$error":"#REF!"}},{"$f":"IF(#REF!=$E$1,IF(#REF!=$G$1,#REF!,NA()),NA())","v":{"$error":"#REF!"}},{"$f":"IF(#REF!=$E$1,IF(#REF!=$G$1,IF(#REF!=\"\",NA(),#REF!),NA()),NA())","v":{"$error":"#REF!"}},{"$f":"IF(#REF!=$E$1,IF(#REF!=$G$1,IF(#REF!=\"\",NA(),#REF!),NA()),NA())","v":{"$error":"#REF!"}},{"$error":"#REF!"},{"$error":"#REF!"}]
[null,null,null,{"$f":"IF(#REF!=$E$1,IF(#REF!=$G$1,#REF!,NA()),NA())","v":{"$error":"#REF!"}},{"$f":"IF(#REF!=$E$1,IF(#REF!=$G$1,#REF!,NA()),NA())","v":{"$error":"#REF!"}},{"$f":"IF(#REF!=$E$1,IF(#REF!=$G$1,IF(#REF!=\"\",NA(),#REF!),NA()),NA())","v":{"$error":"#REF!"}},{"$f":"IF(#REF!=$E$1,IF(#REF!=$G$1,IF(#REF!=\"\",NA(),#REF!),NA()),NA())","v":{"$error":"#REF!"}},{"$error":"#REF!"},{"$error":"#REF!"}]
[null,null,null,{"$f":"IF(#REF!=$E$1,IF(#REF!=$G$1,#REF!,NA()),NA())","v":{"$error":"#REF!"}},{"$f":"IF(#REF!=$E$1,IF(#REF!=$G$1,#REF!,NA()),NA())","v":{"$error":"#REF!"}},{"$f":"IF(#REF!=$E$1,IF(#REF!=$G$1,IF(#REF!=\"\",NA(),#REF!),NA()),NA())","v":{"$error":"#REF!"}},{"$f":"IF(#REF!=$E$1,IF(#REF!=$G$1,IF(#REF!=\"\",NA(),#REF!),NA()),NA())","v":{"$error":"#REF!"}},{"$error":"#REF!"},{"$error":"#REF!"}]
[null,null,null,{"$f":"IF(#REF!=$E$1,IF(#REF!=$G$1,#REF!,NA()),NA())","v":{"$error":"#REF!"}},{"$f":"IF(#REF!=$E$1,IF(#REF!=$G$1,#REF!,NA()),NA())","v":{"$error":"#REF!"}},{"$f":"IF(#REF!=$E$1,IF(#REF!=$G$1,IF(#REF!=\"\",NA(),#REF!),NA()),NA())","v":{"$error":"#REF!"}},{"$f":"IF(#REF!=$E$1,IF(#REF!=$G$1,IF(#REF!=\"\",NA(),#REF!),NA()),NA())","v":{"$error":"#REF!"}},{"$error":"#REF!"},{"$error":"#REF!"}]
[null,null,null,{"$f":"IF(#REF!=$E$1,IF(#REF!=$G$1,#REF!,NA()),NA())","v":{"$error":"#REF!"}},{"$f":"IF(#REF!=$E$1,IF(#REF!=$G$1,#REF!,NA()),NA())","v":{"$error":"#REF!"}},{"$f":"IF(#REF!=$E$1,IF(#REF!=$G$1,IF(#REF!=\"\",NA(),#REF!),NA()),NA())","v":{"$error":"#REF!"}},{"$f":"IF(#REF!=$E$1,IF(#REF!=$G$1,IF(#REF!=\"\",NA(),#REF!),NA()),NA())","v":{"$error":"#REF!"}},{"$error":"#REF!"},{"$error":"#REF!"}]
[null,null,null,{"$f":"IF(#REF!=$E$1,IF(#REF!=$G$1,#REF!,NA()),NA())","v":{"$error":"#REF!"}},{"$f":"IF(#REF!=$E$1,IF(#REF!=$G$1,#REF!,NA()),NA())","v":{"$error":"#REF!"}},{"$f":"IF(#REF!=$E$1,IF(#REF!=$G$1,IF(#REF!=\"\",NA(),#REF!),NA()),NA())","v":{"$error":"#REF!"}},{"$f":"IF(#REF!=$E$1,IF(#REF!=$G$1,IF(#REF!=\"\",NA(),#REF!),NA()),NA())","v":{"$error":"#REF!"}},{"$error":"#REF!"},{"$error":"#REF!"}]
[null,null,null,{"$f":"IF(#REF!=$E$1,IF(#REF!=$G$1,#REF!,NA()),NA())","v":{"$error":"#REF!"}},{"$f":"IF(#REF!=$E$1,IF(#REF!=$G$1,#REF!,NA()),NA())","v":{"$error":"#REF!"}},{"$f":"IF(#REF!=$E$1,IF(#REF!=$G$1,IF(#REF!=\"\",NA(),#REF!),NA()),NA())","v":{"$error":"#REF!"}},{"$f":"IF(#REF!=$E$1,IF(#REF!=$G$1,IF(#REF!=\"\",NA(),#REF!),NA()),NA())","v":{"$error":"#REF!"}},{"$error":"#REF!"},{"$error":"#REF!"}]
[null,null,null,{"$f":"IF(#REF!=$E$1,IF(#REF!=$G$1,#REF!,NA()),NA())","v":{"$error":"#REF!"}},{"$f":"IF(#REF!=$E$1,IF(#REF!=$G$1,#REF!,NA()),NA())","v":{"$error":"#REF!"}},{"$f":"IF(#REF!=$E$1,IF(#REF!=$G$1,IF(#REF!=\"\",NA(),#REF!),NA()),NA())","v":{"$error":"#REF!"}},{"$f":"IF(#REF!=$E$1,IF(#REF!=$G$1,IF(#REF!=\"\",NA(),#REF!),NA()),NA())","v":{"$error":"#REF!"}},{"$error":"#REF!"},{"$error":"#REF!"}]
[null,null,null,{"$f":"IF(#REF!=$E$1,IF(#REF!=$G$1,#REF!,NA()),NA())","v":{"$error":"#REF!"}},{"$f":"IF(#REF!=$E$1,IF(#REF!=$G$1,#REF!,NA()),NA())","v":{"$error":"#REF!"}},{"$f":"IF(#REF!=$E$1,IF(#REF!=$G$1,IF(#REF!=\"\",NA(),#REF!),NA()),NA())","v":{"$error":"#REF!"}},{"$f":"IF(#REF!=$E$1,IF(#REF!=$G$1,IF(#REF!=\"\",NA(),#REF!),NA()),NA())","v":{"$error":"#REF!"}},{"$error":"#REF!"},{"$error":"#REF!"}]
[null,null,null,{"$f":"IF(#REF!=$E$1,IF(#REF!=$G$1,#REF!,NA()),NA())","v":{"$error":"#REF!"}},{"$f":"IF(#REF!=$E$1,IF(#REF!=$G$1,#REF!,NA()),NA())","v":{"$error":"#REF!"}},{"$f":"IF(#REF!=$E$1,IF(#REF!=$G$1,IF(#REF!=\"\",NA(),#REF!),NA()),NA())","v":{"$error":"#REF!"}},{"$f":"IF(#REF!=$E$1,IF(#REF!=$G$1,IF(#REF!=\"\",NA(),#REF!),NA()),NA())","v":{"$error":"#REF!"}},{"$error":"#REF!"},{"$error":"#REF!"}]
[null,null,null,{"$f":"IF(#REF!=$E$1,IF(#REF!=$G$1,#REF!,NA()),NA())","v":{"$error":"#REF!"}},{"$f":"IF(#REF!=$E$1,IF(#REF!=$G$1,#REF!,NA()),NA())","v":{"$error":"#REF!"}},{"$f":"IF(#REF!=$E$1,IF(#REF!=$G$1,IF(#REF!=\"\",NA(),#REF!),NA()),NA())","v":{"$error":"#REF!"}},{"$f":"IF(#REF!=$E$1,IF(#REF!=$G$1,IF(#REF!=\"\",NA(),#REF!),NA()),NA())","v":{"$error":"#REF!"}},{"$error":"#REF!"},{"$error":"#REF!"}]
[null,null,null,{"$f":"IF(#REF!=$E$1,IF(#REF!=$G$1,#REF!,NA()),NA())","v":{"$error":"#REF!"}},{"$f":"IF(#REF!=$E$1,IF(#REF!=$G$1,#REF!,NA()),NA())","v":{"$error":"#REF!"}},{"$f":"IF(#REF!=$E$1,IF(#REF!=$G$1,IF(#REF!=\"\",NA(),#REF!),NA()),NA())","v":{"$error":"#REF!"}},{"$f":"IF(#REF!=$E$1,IF(#REF!=$G$1,IF(#REF!=\"\",NA(),#REF!),NA()),NA())","v":{"$error":"#REF!"}},{"$error":"#REF!"},{"$error":"#REF!"}]
[null,null,null,{"$f":"IF(#REF!=$E$1,IF(#REF!=$G$1,#REF!,NA()),NA())","v":{"$error":"#REF!"}},{"$f":"IF(#REF!=$E$1,IF(#REF!=$G$1,#REF!,NA()),NA())","v":{"$error":"#REF!"}},{"$f":"IF(#REF!=$E$1,IF(#REF!=$G$1,IF(#REF!=\"\",NA(),#REF!),NA()),NA())","v":{"$error":"#REF!"}},{"$f":"IF(#REF!=$E$1,IF(#REF!=$G$1,IF(#REF!=\"\",NA(),#REF!),NA()),NA())","v":{"$error":"#REF!"}},{"$error":"#REF!"},{"$error":"#REF!"}]
[null,null,null,{"$f":"IF(#REF!=$E$1,IF(#REF!=$G$1,#REF!,NA()),NA())","v":{"$error":"#REF!"}},{"$f":"IF(#REF!=$E$1,IF(#REF!=$G$1,#REF!,NA()),NA())","v":{"$error":"#REF!"}},{"$f":"IF(#REF!=$E$1,IF(#REF!=$G$1,IF(#REF!=\"\",NA(),#REF!),NA()),NA())","v":{"$error":"#REF!"}},{"$f":"IF(#REF!=$E$1,IF(#REF!=$G$1,IF(#REF!=\"\",NA(),#REF!),NA()),NA())","v":{"$error":"#REF!"}},{"$error":"#REF!"},{"$error":"#REF!"}]
[null,null,null,{"$f":"IF(#REF!=$E$1,IF(#REF!=$G$1,#REF!,NA()),NA())","v":{"$error":"#REF!"}},{"$f":"IF(#REF!=$E$1,IF(#REF!=$G$1,#REF!,NA()),NA())","v":{"$error":"#REF!"}},{"$f":"IF(#REF!=$E$1,IF(#REF!=$G$1,IF(#REF!=\"\",NA(),#REF!),NA()),NA())","v":{"$error":"#REF!"}},{"$f":"IF(#REF!=$E$1,IF(#REF!=$G$1,IF(#REF!=\"\",NA(),#REF!),NA()),NA())","v":{"$error":"#REF!"}},{"$error":"#REF!"},{"$error":"#REF!"}]
[null,null,null,{"$f":"IF(#REF!=$E$1,IF(#REF!=$G$1,#REF!,NA()),NA())","v":{"$error":"#REF!"}},{"$f":"IF(#REF!=$E$1,IF(#REF!=$G$1,#REF!,NA()),NA())","v":{"$error":"#REF!"}},{"$f":"IF(#REF!=$E$1,IF(#REF!=$G$1,IF(#REF!=\"\",NA(),#REF!),NA()),NA())","v":{"$error":"#REF!"}},{"$f":"IF(#REF!=$E$1,IF(#REF!=$G$1,IF(#REF!=\"\",NA(),#REF!),NA()),NA())","v":{"$error":"#REF!"}},{"$error":"#REF!"},{"$error":"#REF!"}]
[null,null,null,{"$f":"IF(#REF!=$E$1,IF(#REF!=$G$1,#REF!,NA()),NA())","v":{"$error":"#REF!"}},{"$f":"IF(#REF!=$E$1,IF(#REF!=$G$1,#REF!,NA()),NA())","v":{"$error":"#REF!"}},{"$f":"IF(#REF!=$E$1,IF(#REF!=$G$1,IF(#REF!=\"\",NA(),#REF!),NA()),NA())","v":{"$error":"#REF!"}},{"$f":"IF(#REF!=$E$1,IF(#REF!=$G$1,IF(#REF!=\"\",NA(),#REF!),NA()),NA())","v":{"$error":"#REF!"}},{"$error":"#REF!"},{"$error":"#REF!"}]
[null,null,null,{"$f":"IF(#REF!=$E$1,IF(#REF!=$G$1,#REF!,NA()),NA())","v":{"$error":"#REF!"}},{"$f":"IF(#REF!=$E$1,IF(#REF!=$G$1,#REF!,NA()),NA())","v":{"$error":"#REF!"}},{"$f":"IF(#REF!=$E$1,IF(#REF!=$G$1,IF(#REF!=\"\",NA(),#REF!),NA()),NA())","v":{"$error":"#REF!"}},{"$f":"IF(#REF!=$E$1,IF(#REF!=$G$1,IF(#REF!=\"\",NA(),#REF!),NA()),NA())","v":{"$error":"#REF!"}},{"$error":"#REF!"},{"$error":"#REF!"}]
[null,null,null,{"$f":"IF(#REF!=$E$1,IF(#REF!=$G$1,#REF!,NA()),NA())","v":{"$error":"#REF!"}},{"$f":"IF(#REF!=$E$1,IF(#REF!=$G$1,#REF!,NA()),NA())","v":{"$error":"#REF!"}},{"$f":"IF(#REF!=$E$1,IF(#REF!=$G$1,IF(#REF!=\"\",NA(),#REF!),NA()),NA())","v":{"$error":"#REF!"}},{"$f":"IF(#REF!=$E$1,IF(#REF!=$G$1,IF(#REF!=\"\",NA(),#REF!),NA()),NA())","v":{"$error":"#REF!"}},{"$error":"#REF!"},{"$error":"#REF!"}]
[null,null,null,{"$f":"IF(#REF!=$E$1,IF(#REF!=$G$1,#REF!,NA()),NA())","v":{"$error":"#REF!"}},{"$f":"IF(#REF!=$E$1,IF(#REF!=$G$1,#REF!,NA()),NA())","v":{"$error":"#REF!"}},{"$f":"IF(#REF!=$E$1,IF(#REF!=$G$1,IF(#REF!=\"\",NA(),#REF!),NA()),NA())","v":{"$error":"#REF!"}},{"$f":"IF(#REF!=$E$1,IF(#REF!=$G$1,IF(#REF!=\"\",NA(),#REF!),NA()),NA())","v":{"$error":"#REF!"}},{"$error":"#REF!"},{"$error":"#REF!"}]
[null,null,null,{"$f":"IF(#REF!=$E$1,IF(#REF!=$G$1,#REF!,NA()),NA())","v":{"$error":"#REF!"}},{"$f":"IF(#REF!=$E$1,IF(#REF!=$G$1,#REF!,NA()),NA())","v":{"$error":"#REF!"}},{"$f":"IF(#REF!=$E$1,IF(#REF!=$G$1,IF(#REF!=\"\",NA(),#REF!),NA()),NA())","v":{"$error":"#REF!"}},{"$f":"IF(#REF!=$E$1,IF(#REF!=$G$1,IF(#REF!=\"\",NA(),#REF!),NA()),NA())","v":{"$error":"#REF!"}},{"$error":"#REF!"},{"$error":"#REF!"}]
[null,null,null,{"$f":"IF(#REF!=$E$1,IF(#REF!=$G$1,#REF!,NA()),NA())","v":{"$error":"#REF!"}},{"$f":"IF(#REF!=$E$1,IF(#REF!=$G$1,#REF!,NA()),NA())","v":{"$error":"#REF!"}},{"$f":"IF(#REF!=$E$1,IF(#REF!=$G$1,IF(#REF!=\"\",NA(),#REF!),NA()),NA())","v":{"$error":"#REF!"}},{"$f":"IF(#REF!=$E$1,IF(#REF!=$G$1,IF(#REF!=\"\",NA(),#REF!),NA()),NA())","v":{"$error":"#REF!"}},{"$error":"#REF!"},{"$error":"#REF!"}]
[null,null,null,{"$f":"IF(#REF!=$E$1,IF(#REF!=$G$1,#REF!,NA()),NA())","v":{"$error":"#REF!"}},{"$f":"IF(#REF!=$E$1,IF(#REF!=$G$1,#REF!,NA()),NA())","v":{"$error":"#REF!"}},{"$f":"IF(#REF!=$E$1,IF(#REF!=$G$1,IF(#REF!=\"\",NA(),#REF!),NA()),NA())","v":{"$error":"#REF!"}},{"$f":"IF(#REF!=$E$1,IF(#REF!=$G$1,IF(#REF!=\"\",NA(),#REF!),NA()),NA())","v":{"$error":"#REF!"}},{"$error":"#REF!"},{"$error":"#REF!"}]
[null,null,null,{"$f":"IF(#REF!=$E$1,IF(#REF!=$G$1,#REF!,NA()),NA())","v":{"$error":"#REF!"}},{"$f":"IF(#REF!=$E$1,IF(#REF!=$G$1,#REF!,NA()),NA())","v":{"$error":"#REF!"}},{"$f":"IF(#REF!=$E$1,IF(#REF!=$G$1,IF(#REF!=\"\",NA(),#REF!),NA()),NA())","v":{"$error":"#REF!"}},{"$f":"IF(#REF!=$E$1,IF(#REF!=$G$1,IF(#REF!=\"\",NA(),#REF!),NA()),NA())","v":{"$error":"#REF!"}},{"$f":"IF(AND(ISNUMBER(G260),F260=\"-\"),0,F260)","v":{"$error":"#REF!"}},{"$f":"IF(AND(ISNUMBER(F260),G260=\"-\"),0,G260)","v":{"$error":"#REF!"}}]
[null,null,null,{"$f":"IF(#REF!=$E$1,IF(#REF!=$G$1,#REF!,NA()),NA())","v":{"$error":"#REF!"}},{"$f":"IF(#REF!=$E$1,IF(#REF!=$G$1,#REF!,NA()),NA())","v":{"$error":"#REF!"}},{"$f":"IF(#REF!=$E$1,IF(#REF!=$G$1,IF(#REF!=\"\",NA(),#REF!),NA()),NA())","v":{"$error":"#REF!"}},{"$f":"IF(#REF!=$E$1,IF(#REF!=$G$1,IF(#REF!=\"\",NA(),#REF!),NA()),NA())","v":{"$error":"#REF!"}},{"$error":"#REF!"},{"$error":"#REF!"}]
[null,null,null,{"$f":"IF(#REF!=$E$1,IF(#REF!=$G$1,#REF!,NA()),NA())","v":{"$error":"#REF!"}},{"$f":"IF(#REF!=$E$1,IF(#REF!=$G$1,#REF!,NA()),NA())","v":{"$error":"#REF!"}},{"$f":"IF(#REF!=$E$1,IF(#REF!=$G$1,IF(#REF!=\"\",NA(),#REF!),NA()),NA())","v":{"$error":"#REF!"}},{"$f":"IF(#REF!=$E$1,IF(#REF!=$G$1,IF(#REF!=\"\",NA(),#REF!),NA()),NA())","v":{"$error":"#REF!"}},{"$error":"#REF!"},{"$error":"#REF!"}]
[null,null,null,{"$f":"IF(#REF!=$E$1,IF(#REF!=$G$1,#REF!,NA()),NA())","v":{"$error":"#REF!"}},{"$f":"IF(#REF!=$E$1,IF(#REF!=$G$1,#REF!,NA()),NA())","v":{"$error":"#REF!"}},{"$f":"IF(#REF!=$E$1,IF(#REF!=$G$1,IF(#REF!=\"\",NA(),#REF!),NA()),NA())","v":{"$error":"#REF!"}},{"$f":"IF(#REF!=$E$1,IF(#REF!=$G$1,IF(#REF!=\"\",NA(),#REF!),NA()),NA())","v":{"$error":"#REF!"}},{"$error":"#REF!"},{"$error":"#REF!"}]
[null,null,null,{"$f":"IF(#REF!=$E$1,IF(#REF!=$G$1,#REF!,NA()),NA())","v":{"$error":"#REF!"}},{"$f":"IF(#REF!=$E$1,IF(#REF!=$G$1,#REF!,NA()),NA())","v":{"$error":"#REF!"}},{"$f":"IF(#REF!=$E$1,IF(#REF!=$G$1,IF(#REF!=\"\",NA(),#REF!),NA()),NA())","v":{"$error":"#REF!"}},{"$f":"IF(#REF!=$E$1,IF(#REF!=$G$1,IF(#REF!=\"\",NA(),#REF!),NA()),NA())","v":{"$error":"#REF!"}},{"$error":"#REF!"},{"$error":"#REF!"}]
[null,null,null,{"$f":"IF(#REF!=$E$1,IF(#REF!=$G$1,#REF!,NA()),NA())","v":{"$error":"#REF!"}},{"$f":"IF(#REF!=$E$1,IF(#REF!=$G$1,#REF!,NA()),NA())","v":{"$error":"#REF!"}},{"$f":"IF(#REF!=$E$1,IF(#REF!=$G$1,IF(#REF!=\"\",NA(),#REF!),NA()),NA())","v":{"$error":"#REF!"}},{"$f":"IF(#REF!=$E$1,IF(#REF!=$G$1,IF(#REF!=\"\",NA(),#REF!),NA()),NA())","v":{"$error":"#REF!"}},{"$error":"#REF!"},{"$error":"#REF!"}]
[null,null,null,{"$f":"IF(#REF!=$E$1,IF(#REF!=$G$1,#REF!,NA()),NA())","v":{"$error":"#REF!"}},{"$f":"IF(#REF!=$E$1,IF(#REF!=$G$1,#REF!,NA()),NA())","v":{"$error":"#REF!"}},{"$f":"IF(#REF!=$E$1,IF(#REF!=$G$1,IF(#REF!=\"\",NA(),#REF!),NA()),NA())","v":{"$error":"#REF!"}},{"$f":"IF(#REF!=$E$1,IF(#REF!=$G$1,IF(#REF!=\"\",NA(),#REF!),NA()),NA())","v":{"$error":"#REF!"}},{"$error":"#REF!"},{"$error":"#REF!"}]
[null,null,null,{"$f":"IF(#REF!=$E$1,IF(#REF!=$G$1,#REF!,NA()),NA())","v":{"$error":"#REF!"}},{"$f":"IF(#REF!=$E$1,IF(#REF!=$G$1,#REF!,NA()),NA())","v":{"$error":"#REF!"}},{"$f":"IF(#REF!=$E$1,IF(#REF!=$G$1,IF(#REF!=\"\",NA(),#REF!),NA()),NA())","v":{"$error":"#REF!"}},{"$f":"IF(#REF!=$E$1,IF(#REF!=$G$1,IF(#REF!=\"\",NA(),#REF!),NA()),NA())","v":{"$error":"#REF!"}},{"$error":"#REF!"},{"$error":"#REF!"}]
[null,null,null,{"$f":"IF(#REF!=$E$1,IF(#REF!=$G$1,#REF!,NA()),NA())","v":{"$error":"#REF!"}},{"$f":"IF(#REF!=$E$1,IF(#REF!=$G$1,#REF!,NA()),NA())","v":{"$error":"#REF!"}},{"$f":"IF(#REF!=$E$1,IF(#REF!=$G$1,IF(#REF!=\"\",NA(),#REF!),NA()),NA())","v":{"$error":"#REF!"}},{"$f":"IF(#REF!=$E$1,IF(#REF!=$G$1,IF(#REF!=\"\",NA(),#REF!),NA()),NA())","v":{"$error":"#REF!"}},{"$error":"#REF!"},{"$error":"#REF!"}]
[null,null,null,{"$f":"IF(#REF!=$E$1,IF(#REF!=$G$1,#REF!,NA()),NA())","v":{"$error":"#REF!"}},{"$f":"IF(#REF!=$E$1,IF(#REF!=$G$1,#REF!,NA()),NA())","v":{"$error":"#REF!"}},{"$f":"IF(#REF!=$E$1,IF(#REF!=$G$1,IF(#REF!=\"\",NA(),#REF!),NA()),NA())","v":{"$error":"#REF!"}},{"$f":"IF(#REF!=$E$1,IF(#REF!=$G$1,IF(#REF!=\"\",NA(),#REF!),NA()),NA())","v":{"$error":"#REF!"}},{"$error":"#REF!"},{"$error":"#REF!"}]
[null,null,null,{"$f":"IF(#REF!=$E$1,IF(#REF!=$G$1,#REF!,NA()),NA())","v":{"$error":"#REF!"}},{"$f":"IF(#REF!=$E$1,IF(#REF!=$G$1,#REF!,NA()),NA())","v":{"$error":"#REF!"}},{"$f":"IF(#REF!=$E$1,IF(#REF!=$G$1,IF(#REF!=\"\",NA(),#REF!),NA()),NA())","v":{"$error":"#REF!"}},{"$f":"IF(#REF!=$E$1,IF(#REF!=$G$1,IF(#REF!=\"\",NA(),#REF!),NA()),NA())","v":{"$error":"#REF!"}},{"$error":"#REF!"},{"$error":"#REF!"}]
[null,null,null,{"$f":"IF(#REF!=$E$1,IF(#REF!=$G$1,#REF!,NA()),NA())","v":{"$error":"#REF!"}},{"$f":"IF(#REF!=$E$1,IF(#REF!=$G$1,#REF!,NA()),NA())","v":{"$error":"#REF!"}},{"$f":"IF(#REF!=$E$1,IF(#REF!=$G$1,IF(#REF!=\"\",NA(),#REF!),NA()),NA())","v":{"$error":"#REF!"}},{"$f":"IF(#REF!=$E$1,IF(#REF!=$G$1,IF(#REF!=\"\",NA(),#REF!),NA()),NA())","v":{"$error":"#REF!"}},{"$error":"#REF!"},{"$error":"#REF!"}]
[null,null,null,{"$f":"IF(#REF!=$E$1,IF(#REF!=$G$1,#REF!,NA()),NA())","v":{"$error":"#REF!"}},{"$f":"IF(#REF!=$E$1,IF(#REF!=$G$1,#REF!,NA()),NA())","v":{"$error":"#REF!"}},{"$f":"IF(#REF!=$E$1,IF(#REF!=$G$1,IF(#REF!=\"\",NA(),#REF!),NA()),NA())","v":{"$error":"#REF!"}},{"$f":"IF(#REF!=$E$1,IF(#REF!=$G$1,IF(#REF!=\"\",NA(),#REF!),NA()),NA())","v":{"$error":"#REF!"}},{"$error":"#REF!"},{"$error":"#REF!"}]
[null,null,null,{"$f":"IF(#REF!=$E$1,IF(#REF!=$G$1,#REF!,NA()),NA())","v":{"$error":"#REF!"}},{"$f":"IF(#REF!=$E$1,IF(#REF!=$G$1,#REF!,NA()),NA())","v":{"$error":"#REF!"}},{"$f":"IF(#REF!=$E$1,IF(#REF!=$G$1,IF(#REF!=\"\",NA(),#REF!),NA()),NA())","v":{"$error":"#REF!"}},{"$f":"IF(#REF!=$E$1,IF(#REF!=$G$1,IF(#REF!=\"\",NA(),#REF!),NA()),NA())","v":{"$error":"#REF!"}},{"$error":"#REF!"},{"$error":"#REF!"}]
[null,null,null,{"$f":"IF(#REF!=$E$1,IF(#REF!=$G$1,#REF!,NA()),NA())","v":{"$error":"#REF!"}},{"$f":"IF(#REF!=$E$1,IF(#REF!=$G$1,#REF!,NA()),NA())","v":{"$error":"#REF!"}},{"$f":"IF(#REF!=$E$1,IF(#REF!=$G$1,IF(#REF!=\"\",NA(),#REF!),NA()),NA())","v":{"$error":"#REF!"}},{"$f":"IF(#REF!=$E$1,IF(#REF!=$G$1,IF(#REF!=\"\",NA(),#REF!),NA()),NA())","v":{"$error":"#REF!"}},{"$error":"#REF!"},{"$error":"#REF!"}]
[null,null,null,{"$f":"IF(#REF!=$E$1,IF(#REF!=$G$1,#REF!,NA()),NA())","v":{"$error":"#REF!"}},{"$f":"IF(#REF!=$E$1,IF(#REF!=$G$1,#REF!,NA()),NA())","v":{"$error":"#REF!"}},{"$f":"IF(#REF!=$E$1,IF(#REF!=$G$1,IF(#REF!=\"\",NA(),#REF!),NA()),NA())","v":{"$error":"#REF!"}},{"$f":"IF(#REF!=$E$1,IF(#REF!=$G$1,IF(#REF!=\"\",NA(),#REF!),NA()),NA())","v":{"$error":"#REF!"}},{"$error":"#REF!"},{"$error":"#REF!"}]
[null,null,null,{"$f":"IF(#REF!=$E$1,IF(#REF!=$G$1,#REF!,NA()),NA())","v":{"$error":"#REF!"}},{"$f":"IF(#REF!=$E$1,IF(#REF!=$G$1,#REF!,NA()),NA())","v":{"$error":"#REF!"}},{"$f":"IF(#REF!=$E$1,IF(#REF!=$G$1,IF(#REF!=\"\",NA(),#REF!),NA()),NA())","v":{"$error":"#REF!"}},{"$f":"IF(#REF!=$E$1,IF(#REF!=$G$1,IF(#REF!=\"\",NA(),#REF!),NA()),NA())","v":{"$error":"#REF!"}},{"$error":"#REF!"},{"$error":"#REF!"}]
[null,null,null,{"$f":"IF(#REF!=$E$1,IF(#REF!=$G$1,#REF!,NA()),NA())","v":{"$error":"#REF!"}},{"$f":"IF(#REF!=$E$1,IF(#REF!=$G$1,#REF!,NA()),NA())","v":{"$error":"#REF!"}},{"$f":"IF(#REF!=$E$1,IF(#REF!=$G$1,IF(#REF!=\"\",NA(),#REF!),NA()),NA())","v":{"$error":"#REF!"}},{"$f":"IF(#REF!=$E$1,IF(#REF!=$G$1,IF(#REF!=\"\",NA(),#REF!),NA()),NA())","v":{"$error":"#REF!"}},{"$error":"#REF!"},{"$error":"#REF!"}]
[null,null,null,{"$f":"IF(#REF!=$E$1,IF(#REF!=$G$1,#REF!,NA()),NA())","v":{"$error":"#REF!"}},{"$f":"IF(#REF!=$E$1,IF(#REF!=$G$1,#REF!,NA()),NA())","v":{"$error":"#REF!"}},{"$f":"IF(#REF!=$E$1,IF(#REF!=$G$1,IF(#REF!=\"\",NA(),#REF!),NA()),NA())","v":{"$error":"#REF!"}},{"$f":"IF(#REF!=$E$1,IF(#REF!=$G$1,IF(#REF!=\"\",NA(),#REF!),NA()),NA())","v":{"$error":"#REF!"}},{"$error":"#REF!"},{"$error":"#REF!"}]
[null,null,null,{"$f":"IF(#REF!=$E$1,IF(#REF!=$G$1,#REF!,NA()),NA())","v":{"$error":"#REF!"}},{"$f":"IF(#REF!=$E$1,IF(#REF!=$G$1,#REF!,NA()),NA())","v":{"$error":"#REF!"}},{"$f":"IF(#REF!=$E$1,IF(#REF!=$G$1,IF(#REF!=\"\",NA(),#REF!),NA()),NA())","v":{"$error":"#REF!"}},{"$f":"IF(#REF!=$E$1,IF(#REF!=$G$1,IF(#REF!=\"\",NA(),#REF!),NA()),NA())","v":{"$error":"#REF!"}},{"$error":"#REF!"},{"$error":"#REF!"}]
[null,null,null,{"$f":"IF(#REF!=$E$1,IF(#REF!=$G$1,#REF!,NA()),NA())","v":{"$error":"#REF!"}},{"$f":"IF(#REF!=$E$1,IF(#REF!=$G$1,#REF!,NA()),NA())","v":{"$error":"#REF!"}},{"$f":"IF(#REF!=$E$1,IF(#REF!=$G$1,IF(#REF!=\"\",NA(),#REF!),NA()),NA())","v":{"$error":"#REF!"}},{"$f":"IF(#REF!=$E$1,IF(#REF!=$G$1,IF(#REF!=\"\",NA(),#REF!),NA()),NA())","v":{"$error":"#REF!"}},{"$error":"#REF!"},{"$error":"#REF!"}]
[null,null,null,{"$f":"IF(#REF!=$E$1,IF(#REF!=$G$1,#REF!,NA()),NA())","v":{"$error":"#REF!"}},{"$f":"IF(#REF!=$E$1,IF(#REF!=$G$1,#REF!,NA()),NA())","v":{"$error":"#REF!"}},{"$f":"IF(#REF!=$E$1,IF(#REF!=$G$1,IF(#REF!=\"\",NA(),#REF!),NA()),NA())","v":{"$error":"#REF!"}},{"$f":"IF(#REF!=$E$1,IF(#REF!=$G$1,IF(#REF!=\"\",NA(),#REF!),NA()),NA())","v":{"$error":"#REF!"}},{"$error":"#REF!"},{"$error":"#REF!"}]
[null,null,null,{"$f":"IF(#REF!=$E$1,IF(#REF!=$G$1,#REF!,NA()),NA())","v":{"$error":"#REF!"}},{"$f":"IF(#REF!=$E$1,IF(#REF!=$G$1,#REF!,NA()),NA())","v":{"$error":"#REF!"}},{"$f":"IF(#REF!=$E$1,IF(#REF!=$G$1,IF(#REF!=\"\",NA(),#REF!),NA()),NA())","v":{"$error":"#REF!"}},{"$f":"IF(#REF!=$E$1,IF(#REF!=$G$1,IF(#REF!=\"\",NA(),#REF!),NA()),NA())","v":{"$error":"#REF!"}},{"$error":"#REF!"},{"$error":"#REF!"}]
[null,null,null,{"$f":"IF(#REF!=$E$1,IF(#REF!=$G$1,#REF!,NA()),NA())","v":{"$error":"#REF!"}},{"$f":"IF(#REF!=$E$1,IF(#REF!=$G$1,#REF!,NA()),NA())","v":{"$error":"#REF!"}},{"$f":"IF(#REF!=$E$1,IF(#REF!=$G$1,IF(#REF!=\"\",NA(),#REF!),NA()),NA())","v":{"$error":"#REF!"}},{"$f":"IF(#REF!=$E$1,IF(#REF!=$G$1,IF(#REF!=\"\",NA(),#REF!),NA()),NA())","v":{"$error":"#REF!"}},{"$error":"#REF!"},{"$error":"#REF!"}]
[null,null,null,{"$f":"IF(#REF!=$E$1,IF(#REF!=$G$1,#REF!,NA()),NA())","v":{"$error":"#REF!"}},{"$f":"IF(#REF!=$E$1,IF(#REF!=$G$1,#REF!,NA()),NA())","v":{"$error":"#REF!"}},{"$f":"IF(#REF!=$E$1,IF(#REF!=$G$1,IF(#REF!=\"\",NA(),#REF!),NA()),NA())","v":{"$error":"#REF!"}},{"$f":"IF(#REF!=$E$1,IF(#REF!=$G$1,IF(#REF!=\"\",NA(),#REF!),NA()),NA())","v":{"$error":"#REF!"}},{"$error":"#REF!"},{"$error":"#REF!"}]
[null,null,null,{"$f":"IF(#REF!=$E$1,IF(#REF!=$G$1,#REF!,NA()),NA())","v":{"$error":"#REF!"}},{"$f":"IF(#REF!=$E$1,IF(#REF!=$G$1,#REF!,NA()),NA())","v":{"$error":"#REF!"}},{"$f":"IF(#REF!=$E$1,IF(#REF!=$G$1,IF(#REF!=\"\",NA(),#REF!),NA()),NA())","v":{"$error":"#REF!"}},{"$f":"IF(#REF!=$E$1,IF(#REF!=$G$1,IF(#REF!=\"\",NA(),#REF!),NA()),NA())","v":{"$error":"#REF!"}},{"$error":"#REF!"},{"$error":"#REF!"}]
[null,null,null,{"$f":"IF(#REF!=$E$1,IF(#REF!=$G$1,#REF!,NA()),NA())","v":{"$error":"#REF!"}},{"$f":"IF(#REF!=$E$1,IF(#REF!=$G$1,#REF!,NA()),NA())","v":{"$error":"#REF!"}},{"$f":"IF(#REF!=$E$1,IF(#REF!=$G$1,IF(#REF!=\"\",NA(),#REF!),NA()),NA())","v":{"$error":"#REF!"}},{"$f":"IF(#REF!=$E$1,IF(#REF!=$G$1,IF(#REF!=\"\",NA(),#REF!),NA()),NA())","v":{"$error":"#REF!"}},{"$error":"#REF!"},{"$error":"#REF!"}]
[null,null,null,{"$f":"IF(#REF!=$E$1,IF(#REF!=$G$1,#REF!,NA()),NA())","v":{"$error":"#REF!"}},{"$f":"IF(#REF!=$E$1,IF(#REF!=$G$1,#REF!,NA()),NA())","v":{"$error":"#REF!"}},{"$f":"IF(#REF!=$E$1,IF(#REF!=$G$1,IF(#REF!=\"\",NA(),#REF!),NA()),NA())","v":{"$error":"#REF!"}},{"$f":"IF(#REF!=$E$1,IF(#REF!=$G$1,IF(#REF!=\"\",NA(),#REF!),NA()),NA())","v":{"$error":"#REF!"}},{"$error":"#REF!"},{"$error":"#REF!"}]
[null,null,null,{"$f":"IF(#REF!=$E$1,IF(#REF!=$G$1,#REF!,NA()),NA())","v":{"$error":"#REF!"}},{"$f":"IF(#REF!=$E$1,IF(#REF!=$G$1,#REF!,NA()),NA())","v":{"$error":"#REF!"}},{"$f":"IF(#REF!=$E$1,IF(#REF!=$G$1,IF(#REF!=\"\",NA(),#REF!),NA()),NA())","v":{"$error":"#REF!"}},{"$f":"IF(#REF!=$E$1,IF(#REF!=$G$1,IF(#REF!=\"\",NA(),#REF!),NA()),NA())","v":{"$error":"#REF!"}},{"$error":"#REF!"},{"$error":"#REF!"}]
[null,null,null,{"$f":"IF(#REF!=$E$1,IF(#REF!=$G$1,#REF!,NA()),NA())","v":{"$error":"#REF!"}},{"$f":"IF(#REF!=$E$1,IF(#REF!=$G$1,#REF!,NA()),NA())","v":{"$error":"#REF!"}},{"$f":"IF(#REF!=$E$1,IF(#REF!=$G$1,IF(#REF!=\"\",NA(),#REF!),NA()),NA())","v":{"$error":"#REF!"}},{"$f":"IF(#REF!=$E$1,IF(#REF!=$G$1,IF(#REF!=\"\",NA(),#REF!),NA()),NA())","v":{"$error":"#REF!"}},{"$error":"#REF!"},{"$error":"#REF!"}]
[null,null,null,{"$f":"IF(#REF!=$E$1,IF(#REF!=$G$1,#REF!,NA()),NA())","v":{"$error":"#REF!"}},{"$f":"IF(#REF!=$E$1,IF(#REF!=$G$1,#REF!,NA()),NA())","v":{"$error":"#REF!"}},{"$f":"IF(#REF!=$E$1,IF(#REF!=$G$1,IF(#REF!=\"\",NA(),#REF!),NA()),NA())","v":{"$error":"#REF!"}},{"$f":"IF(#REF!=$E$1,IF(#REF!=$G$1,IF(#REF!=\"\",NA(),#REF!),NA()),NA())","v":{"$error":"#REF!"}},{"$error":"#REF!"},{"$error":"#REF!"}]
[null,null,null,{"$f":"IF(#REF!=$E$1,IF(#REF!=$G$1,#REF!,NA()),NA())","v":{"$error":"#REF!"}},{"$f":"IF(#REF!=$E$1,IF(#REF!=$G$1,#REF!,NA()),NA())","v":{"$error":"#REF!"}},{"$f":"IF(#REF!=$E$1,IF(#REF!=$G$1,IF(#REF!=\"\",NA(),#REF!),NA()),NA())","v":{"$error":"#REF!"}},{"$f":"IF(#REF!=$E$1,IF(#REF!=$G$1,IF(#REF!=\"\",NA(),#REF!),NA()),NA())","v":{"$error":"#REF!"}},{"$error":"#REF!"},{"$error":"#REF!"}]
[null,null,null,{"$f":"IF(#REF!=$E$1,IF(#REF!=$G$1,#REF!,NA()),NA())","v":{"$error":"#REF!"}},{"$f":"IF(#REF!=$E$1,IF(#REF!=$G$1,#REF!,NA()),NA())","v":{"$error":"#REF!"}},{"$f":"IF(#REF!=$E$1,IF(#REF!=$G$1,IF(#REF!=\"\",NA(),#REF!),NA()),NA())","v":{"$error":"#REF!"}},{"$f":"IF(#REF!=$E$1,IF(#REF!=$G$1,IF(#REF!=\"\",NA(),#REF!),NA()),NA())","v":{"$error":"#REF!"}},{"$error":"#REF!"},{"$error":"#REF!"}]
[null,null,null,{"$f":"IF(#REF!=$E$1,IF(#REF!=$G$1,#REF!,NA()),NA())","v":{"$error":"#REF!"}},{"$f":"IF(#REF!=$E$1,IF(#REF!=$G$1,#REF!,NA()),NA())","v":{"$error":"#REF!"}},{"$f":"IF(#REF!=$E$1,IF(#REF!=$G$1,IF(#REF!=\"\",NA(),#REF!),NA()),NA())","v":{"$error":"#REF!"}},{"$f":"IF(#REF!=$E$1,IF(#REF!=$G$1,IF(#REF!=\"\",NA(),#REF!),NA()),NA())","v":{"$error":"#REF!"}},{"$error":"#REF!"},{"$error":"#REF!"}]
[null,null,null,{"$f":"IF(#REF!=$E$1,IF(#REF!=$G$1,#REF!,NA()),NA())","v":{"$error":"#REF!"}},{"$f":"IF(#REF!=$E$1,IF(#REF!=$G$1,#REF!,NA()),NA())","v":{"$error":"#REF!"}},{"$f":"IF(#REF!=$E$1,IF(#REF!=$G$1,IF(#REF!=\"\",NA(),#REF!),NA()),NA())","v":{"$error":"#REF!"}},{"$f":"IF(#REF!=$E$1,IF(#REF!=$G$1,IF(#REF!=\"\",NA(),#REF!),NA()),NA())","v":{"$error":"#REF!"}},{"$error":"#REF!"},{"$error":"#REF!"}]
[null,null,null,{"$f":"IF(#REF!=$E$1,IF(#REF!=$G$1,#REF!,NA()),NA())","v":{"$error":"#REF!"}},{"$f":"IF(#REF!=$E$1,IF(#REF!=$G$1,#REF!,NA()),NA())","v":{"$error":"#REF!"}},{"$f":"IF(#REF!=$E$1,IF(#REF!=$G$1,IF(#REF!=\"\",NA(),#REF!),NA()),NA())","v":{"$error":"#REF!"}},{"$f":"IF(#REF!=$E$1,IF(#REF!=$G$1,IF(#REF!=\"\",NA(),#REF!),NA()),NA())","v":{"$error":"#REF!"}},{"$error":"#REF!"},{"$error":"#REF!"}]
[null,null,null,{"$f":"IF(#REF!=$E$1,IF(#REF!=$G$1,#REF!,NA()),NA())","v":{"$error":"#REF!"}},{"$f":"IF(#REF!=$E$1,IF(#REF!=$G$1,#REF!,NA()),NA())","v":{"$error":"#REF!"}},{"$f":"IF(#REF!=$E$1,IF(#REF!=$G$1,IF(#REF!=\"\",NA(),#REF!),NA()),NA())","v":{"$error":"#REF!"}},{"$f":"IF(#REF!=$E$1,IF(#REF!=$G$1,IF(#REF!=\"\",NA(),#REF!),NA()),NA())","v":{"$error":"#REF!"}},{"$error":"#REF!"},{"$error":"#REF!"}]
[null,null,null,{"$f":"IF(#REF!=$E$1,IF(#REF!=$G$1,#REF!,NA()),NA())","v":{"$error":"#REF!"}},{"$f":"IF(#REF!=$E$1,IF(#REF!=$G$1,#REF!,NA()),NA())","v":{"$error":"#REF!"}},{"$f":"IF(#REF!=$E$1,IF(#REF!=$G$1,IF(#REF!=\"\",NA(),#REF!),NA()),NA())","v":{"$error":"#REF!"}},{"$f":"IF(#REF!=$E$1,IF(#REF!=$G$1,IF(#REF!=\"\",NA(),#REF!),NA()),NA())","v":{"$error":"#REF!"}},{"$error":"#REF!"},{"$error":"#REF!"}]
[null,null,null,{"$f":"IF(#REF!=$E$1,IF(#REF!=$G$1,#REF!,NA()),NA())","v":{"$error":"#REF!"}},{"$f":"IF(#REF!=$E$1,IF(#REF!=$G$1,#REF!,NA()),NA())","v":{"$error":"#REF!"}},{"$f":"IF(#REF!=$E$1,IF(#REF!=$G$1,IF(#REF!=\"\",NA(),#REF!),NA()),NA())","v":{"$error":"#REF!"}},{"$f":"IF(#REF!=$E$1,IF(#REF!=$G$1,IF(#REF!=\"\",NA(),#REF!),NA()),NA())","v":{"$error":"#REF!"}},{"$error":"#REF!"},{"$error":"#REF!"}]
[null,null,null,{"$f":"IF(#REF!=$E$1,IF(#REF!=$G$1,#REF!,NA()),NA())","v":{"$error":"#REF!"}},{"$f":"IF(#REF!=$E$1,IF(#REF!=$G$1,#REF!,NA()),NA())","v":{"$error":"#REF!"}},{"$f":"IF(#REF!=$E$1,IF(#REF!=$G$1,IF(#REF!=\"\",NA(),#REF!),NA()),NA())","v":{"$error":"#REF!"}},{"$f":"IF(#REF!=$E$1,IF(#REF!=$G$1,IF(#REF!=\"\",NA(),#REF!),NA()),NA())","v":{"$error":"#REF!"}},{"$error":"#REF!"},{"$error":"#REF!"}]
[null,null,null,{"$f":"IF(#REF!=$E$1,IF(#REF!=$G$1,#REF!,NA()),NA())","v":{"$error":"#REF!"}},{"$f":"IF(#REF!=$E$1,IF(#REF!=$G$1,#REF!,NA()),NA())","v":{"$error":"#REF!"}},{"$f":"IF(#REF!=$E$1,IF(#REF!=$G$1,IF(#REF!=\"\",NA(),#REF!),NA()),NA())","v":{"$error":"#REF!"}},{"$f":"IF(#REF!=$E$1,IF(#REF!=$G$1,IF(#REF!=\"\",NA(),#REF!),NA()),NA())","v":{"$error":"#REF!"}},{"$error":"#REF!"},{"$error":"#REF!"}]
[null,null,null,{"$f":"IF(#REF!=$E$1,IF(#REF!=$G$1,#REF!,NA()),NA())","v":{"$error":"#REF!"}},{"$f":"IF(#REF!=$E$1,IF(#REF!=$G$1,#REF!,NA()),NA())","v":{"$error":"#REF!"}},{"$f":"IF(#REF!=$E$1,IF(#REF!=$G$1,IF(#REF!=\"\",NA(),#REF!),NA()),NA())","v":{"$error":"#REF!"}},{"$f":"IF(#REF!=$E$1,IF(#REF!=$G$1,IF(#REF!=\"\",NA(),#REF!),NA()),NA())","v":{"$error":"#REF!"}},{"$error":"#REF!"},{"$error":"#REF!"}]
[null,null,null,{"$f":"IF(#REF!=$E$1,IF(#REF!=$G$1,#REF!,NA()),NA())","v":{"$error":"#REF!"}},{"$f":"IF(#REF!=$E$1,IF(#REF!=$G$1,#REF!,NA()),NA())","v":{"$error":"#REF!"}},{"$f":"IF(#REF!=$E$1,IF(#REF!=$G$1,IF(#REF!=\"\",NA(),#REF!),NA()),NA())","v":{"$error":"#REF!"}},{"$f":"IF(#REF!=$E$1,IF(#REF!=$G$1,IF(#REF!=\"\",NA(),#REF!),NA()),NA())","v":{"$error":"#REF!"}},{"$error":"#REF!"},{"$error":"#REF!"}]
[null,null,null,{"$f":"IF(#REF!=$E$1,IF(#REF!=$G$1,#REF!,NA()),NA())","v":{"$error":"#REF!"}},{"$f":"IF(#REF!=$E$1,IF(#REF!=$G$1,#REF!,NA()),NA())","v":{"$error":"#REF!"}},{"$f":"IF(#REF!=$E$1,IF(#REF!=$G$1,IF(#REF!=\"\",NA(),#REF!),NA()),NA())","v":{"$error":"#REF!"}},{"$f":"IF(#REF!=$E$1,IF(#REF!=$G$1,IF(#REF!=\"\",NA(),#REF!),NA()),NA())","v":{"$error":"#REF!"}},{"$error":"#REF!"},{"$error":"#REF!"}]
[null,null,null,{"$f":"IF(#REF!=$E$1,IF(#REF!=$G$1,#REF!,NA()),NA())","v":{"$error":"#REF!"}},{"$f":"IF(#REF!=$E$1,IF(#REF!=$G$1,#REF!,NA()),NA())","v":{"$error":"#REF!"}},{"$f":"IF(#REF!=$E$1,IF(#REF!=$G$1,IF(#REF!=\"\",NA(),#REF!),NA()),NA())","v":{"$error":"#REF!"}},{"$f":"IF(#REF!=$E$1,IF(#REF!=$G$1,IF(#REF!=\"\",NA(),#REF!),NA()),NA())","v":{"$error":"#REF!"}},{"$error":"#REF!"},{"$error":"#REF!"}]
[null,null,null,{"$f":"IF(#REF!=$E$1,IF(#REF!=$G$1,#REF!,NA()),NA())","v":{"$error":"#REF!"}},{"$f":"IF(#REF!=$E$1,IF(#REF!=$G$1,#REF!,NA()),NA())","v":{"$error":"#REF!"}},{"$f":"IF(#REF!=$E$1,IF(#REF!=$G$1,IF(#REF!=\"\",NA(),#REF!),NA()),NA())","v":{"$error":"#REF!"}},{"$f":"IF(#REF!=$E$1,IF(#REF!=$G$1,IF(#REF!=\"\",NA(),#REF!),NA()),NA())","v":{"$error":"#REF!"}},{"$error":"#REF!"},{"$error":"#REF!"}]
[null,null,null,{"$f":"IF(#REF!=$E$1,IF(#REF!=$G$1,#REF!,NA()),NA())","v":{"$error":"#REF!"}},{"$f":"IF(#REF!=$E$1,IF(#REF!=$G$1,#REF!,NA()),NA())","v":{"$error":"#REF!"}},{"$f":"IF(#REF!=$E$1,IF(#REF!=$G$1,IF(#REF!=\"\",NA(),#REF!),NA()),NA())","v":{"$error":"#REF!"}},{"$f":"IF(#REF!=$E$1,IF(#REF!=$G$1,IF(#REF!=\"\",NA(),#REF!),NA()),NA())","v":{"$error":"#REF!"}},{"$error":"#REF!"},{"$error":"#REF!"}]
[null,null,null,{"$f":"IF(#REF!=$E$1,IF(#REF!=$G$1,#REF!,NA()),NA())","v":{"$error":"#REF!"}},{"$f":"IF(#REF!=$E$1,IF(#REF!=$G$1,#REF!,NA()),NA())","v":{"$error":"#REF!"}},{"$f":"IF(#REF!=$E$1,IF(#REF!=$G$1,IF(#REF!=\"\",NA(),#REF!),NA()),NA())","v":{"$error":"#REF!"}},{"$f":"IF(#REF!=$E$1,IF(#REF!=$G$1,IF(#REF!=\"\",NA(),#REF!),NA()),NA())","v":{"$error":"#REF!"}},{"$error":"#REF!"},{"$error":"#REF!"}]
[null,null,null,{"$f":"IF(#REF!=$E$1,IF(#REF!=$G$1,#REF!,NA()),NA())","v":{"$error":"#REF!"}},{"$f":"IF(#REF!=$E$1,IF(#REF!=$G$1,#REF!,NA()),NA())","v":{"$error":"#REF!"}},{"$f":"IF(#REF!=$E$1,IF(#REF!=$G$1,IF(#REF!=\"\",NA(),#REF!),NA()),NA())","v":{"$error":"#REF!"}},{"$f":"IF(#REF!=$E$1,IF(#REF!=$G$1,IF(#REF!=\"\",NA(),#REF!),NA()),NA())","v":{"$error":"#REF!"}},{"$error":"#REF!"},{"$error":"#REF!"}]
[null,null,null,{"$f":"IF(#REF!=$E$1,IF(#REF!=$G$1,#REF!,NA()),NA())","v":{"$error":"#REF!"}},{"$f":"IF(#REF!=$E$1,IF(#REF!=$G$1,#REF!,NA()),NA())","v":{"$error":"#REF!"}},{"$f":"IF(#REF!=$E$1,IF(#REF!=$G$1,IF(#REF!=\"\",NA(),#REF!),NA()),NA())","v":{"$error":"#REF!"}},{"$f":"IF(#REF!=$E$1,IF(#REF!=$G$1,IF(#REF!=\"\",NA(),#REF!),NA()),NA())","v":{"$error":"#REF!"}},{"$error":"#REF!"},{"$error":"#REF!"}]
[null,null,null,{"$f":"IF(#REF!=$E$1,IF(#REF!=$G$1,#REF!,NA()),NA())","v":{"$error":"#REF!"}},{"$f":"IF(#REF!=$E$1,IF(#REF!=$G$1,#REF!,NA()),NA())","v":{"$error":"#REF!"}},{"$f":"IF(#REF!=$E$1,IF(#REF!=$G$1,IF(#REF!=\"\",NA(),#REF!),NA()),NA())","v":{"$error":"#REF!"}},{"$f":"IF(#REF!=$E$1,IF(#REF!=$G$1,IF(#REF!=\"\",NA(),#REF!),NA()),NA())","v":{"$error":"#REF!"}},{"$error":"#REF!"},{"$error":"#REF!"}]
[null,null,null,{"$f":"IF(#REF!=$E$1,IF(#REF!=$G$1,#REF!,NA()),NA())","v":{"$error":"#REF!"}},{"$f":"IF(#REF!=$E$1,IF(#REF!=$G$1,#REF!,NA()),NA())","v":{"$error":"#REF!"}},{"$f":"IF(#REF!=$E$1,IF(#REF!=$G$1,IF(#REF!=\"\",NA(),#REF!),NA()),NA())","v":{"$error":"#REF!"}},{"$f":"IF(#REF!=$E$1,IF(#REF!=$G$1,IF(#REF!=\"\",NA(),#REF!),NA()),NA())","v":{"$error":"#REF!"}},{"$error":"#REF!"},{"$error":"#REF!"}]
[null,null,null,{"$f":"IF(#REF!=$E$1,IF(#REF!=$G$1,#REF!,NA()),NA())","v":{"$error":"#REF!"}},{"$f":"IF(#REF!=$E$1,IF(#REF!=$G$1,#REF!,NA()),NA())","v":{"$error":"#REF!"}},{"$f":"IF(#REF!=$E$1,IF(#REF!=$G$1,IF(#REF!=\"\",NA(),#REF!),NA()),NA())","v":{"$error":"#REF!"}},{"$f":"IF(#REF!=$E$1,IF(#REF!=$G$1,IF(#REF!=\"\",NA(),#REF!),NA()),NA())","v":{"$error":"#REF!"}},{"$error":"#REF!"},{"$error":"#REF!"}]
[null,null,null,{"$f":"IF(#REF!=$E$1,IF(#REF!=$G$1,#REF!,NA()),NA())","v":{"$error":"#REF!"}},{"$f":"IF(#REF!=$E$1,IF(#REF!=$G$1,#REF!,NA()),NA())","v":{"$error":"#REF!"}},{"$f":"IF(#REF!=$E$1,IF(#REF!=$G$1,IF(#REF!=\"\",NA(),#REF!),NA()),NA())","v":{"$error":"#REF!"}},{"$f":"IF(#REF!=$E$1,IF(#REF!=$G$1,IF(#REF!=\"\",NA(),#REF!),NA()),NA())","v":{"$error":"#REF!"}},{"$error":"#REF!"},{"$error":"#REF!"}]
[null,null,null,{"$f":"IF(#REF!=$E$1,IF(#REF!=$G$1,#REF!,NA()),NA())","v":{"$error":"#REF!"}},{"$f":"IF(#REF!=$E$1,IF(#REF!=$G$1,#REF!,NA()),NA())","v":{"$error":"#REF!"}},{"$f":"IF(#REF!=$E$1,IF(#REF!=$G$1,IF(#REF!=\"\",NA(),#REF!),NA()),NA())","v":{"$error":"#REF!"}},{"$f":"IF(#REF!=$E$1,IF(#REF!=$G$1,IF(#REF!=\"\",NA(),#REF!),NA()),NA())","v":{"$error":"#REF!"}},{"$error":"#REF!"},{"$error":"#REF!"}]
[null,null,null,{"$f":"IF(#REF!=$E$1,IF(#REF!=$G$1,#REF!,NA()),NA())","v":{"$error":"#REF!"}},{"$f":"IF(#REF!=$E$1,IF(#REF!=$G$1,#REF!,NA()),NA())","v":{"$error":"#REF!"}},{"$f":"IF(#REF!=$E$1,IF(#REF!=$G$1,IF(#REF!=\"\",NA(),#REF!),NA()),NA())","v":{"$error":"#REF!"}},{"$f":"IF(#REF!=$E$1,IF(#REF!=$G$1,IF(#REF!=\"\",NA(),#REF!),NA()),NA())","v":{"$error":"#REF!"}},{"$error":"#REF!"},{"$error":"#REF!"}]
[null,null,null,{"$f":"IF(#REF!=$E$1,IF(#REF!=$G$1,#REF!,NA()),NA())","v":{"$error":"#REF!"}},{"$f":"IF(#REF!=$E$1,IF(#REF!=$G$1,#REF!,NA()),NA())","v":{"$error":"#REF!"}},{"$f":"IF(#REF!=$E$1,IF(#REF!=$G$1,IF(#REF!=\"\",NA(),#REF!),NA()),NA())","v":{"$error":"#REF!"}},{"$f":"IF(#REF!=$E$1,IF(#REF!=$G$1,IF(#REF!=\"\",NA(),#REF!),NA()),NA())","v":{"$error":"#REF!"}},{"$error":"#REF!"},{"$error":"#REF!"}]
[null,null,null,{"$f":"IF(#REF!=$E$1,IF(#REF!=$G$1,#REF!,NA()),NA())","v":{"$error":"#REF!"}},{"$f":"IF(#REF!=$E$1,IF(#REF!=$G$1,#REF!,NA()),NA())","v":{"$error":"#REF!"}},{"$f":"IF(#REF!=$E$1,IF(#REF!=$G$1,IF(#REF!=\"\",NA(),#REF!),NA()),NA())","v":{"$error":"#REF!"}},{"$f":"IF(#REF!=$E$1,IF(#REF!=$G$1,IF(#REF!=\"\",NA(),#REF!),NA()),NA())","v":{"$error":"#REF!"}},{"$error":"#REF!"},{"$error":"#REF!"}]
[null,null,null,{"$f":"IF(#REF!=$E$1,IF(#REF!=$G$1,#REF!,NA()),NA())","v":{"$error":"#REF!"}},{"$f":"IF(#REF!=$E$1,IF(#REF!=$G$1,#REF!,NA()),NA())","v":{"$error":"#REF!"}},{"$f":"IF(#REF!=$E$1,IF(#REF!=$G$1,IF(#REF!=\"\",NA(),#REF!),NA()),NA())","v":{"$error":"#REF!"}},{"$f":"IF(#REF!=$E$1,IF(#REF!=$G$1,IF(#REF!=\"\",NA(),#REF!),NA()),NA())","v":{"$error":"#REF!"}},{"$error":"#REF!"},{"$error":"#REF!"}]
[null,null,null,{"$f":"IF(#REF!=$E$1,IF(#REF!=$G$1,#REF!,NA()),NA())","v":{"$error":"#REF!"}},{"$f":"IF(#REF!=$E$1,IF(#REF!=$G$1,#REF!,NA()),NA())","v":{"$error":"#REF!"}},{"$f":"IF(#REF!=$E$1,IF(#REF!=$G$1,IF(#REF!=\"\",NA(),#REF!),NA()),NA())","v":{"$error":"#REF!"}},{"$f":"IF(#REF!=$E$1,IF(#REF!=$G$1,IF(#REF!=\"\",NA(),#REF!),NA()),NA())","v":{"$error":"#REF!"}},{"$error":"#REF!"},{"$error":"#REF!"}]
[null,null,null,{"$f":"IF(#REF!=$E$1,IF(#REF!=$G$1,#REF!,NA()),NA())","v":{"$error":"#REF!"}},{"$f":"IF(#REF!=$E$1,IF(#REF!=$G$1,#REF!,NA()),NA())","v":{"$error":"#REF!"}},{"$f":"IF(#REF!=$E$1,IF(#REF!=$G$1,IF(#REF!=\"\",NA(),#REF!),NA()),NA())","v":{"$error":"#REF!"}},{"$f":"IF(#REF!=$E$1,IF(#REF!=$G$1,IF(#REF!=\"\",NA(),#REF!),NA()),NA())","v":{"$error":"#REF!"}},{"$error":"#REF!"},{"$error":"#REF!"}]
[null,null,null,{"$f":"IF(#REF!=$E$1,IF(#REF!=$G$1,#REF!,NA()),NA())","v":{"$error":"#REF!"}},{"$f":"IF(#REF!=$E$1,IF(#REF!=$G$1,#REF!,NA()),NA())","v":{"$error":"#REF!"}},{"$f":"IF(#REF!=$E$1,IF(#REF!=$G$1,IF(#REF!=\"\",NA(),#REF!),NA()),NA())","v":{"$error":"#REF!"}},{"$f":"IF(#REF!=$E$1,IF(#REF!=$G$1,IF(#REF!=\"\",NA(),#REF!),NA()),NA())","v":{"$error":"#REF!"}},{"$error":"#REF!"},{"$error":"#REF!"}]
[null,null,null,{"$f":"IF(#REF!=$E$1,IF(#REF!=$G$1,#REF!,NA()),NA())","v":{"$error":"#REF!"}},{"$f":"IF(#REF!=$E$1,IF(#REF!=$G$1,#REF!,NA()),NA())","v":{"$error":"#REF!"}},{"$f":"IF(#REF!=$E$1,IF(#REF!=$G$1,IF(#REF!=\"\",NA(),#REF!),NA()),NA())","v":{"$error":"#REF!"}},{"$f":"IF(#REF!=$E$1,IF(#REF!=$G$1,IF(#REF!=\"\",NA(),#REF!),NA()),NA())","v":{"$error":"#REF!"}},{"$error":"#REF!"},{"$error":"#REF!"}]
[null,null,null,{"$f":"IF(#REF!=$E$1,IF(#REF!=$G$1,#REF!,NA()),NA())","v":{"$error":"#REF!"}},{"$f":"IF(#REF!=$E$1,IF(#REF!=$G$1,#REF!,NA()),NA())","v":{"$error":"#REF!"}},{"$f":"IF(#REF!=$E$1,IF(#REF!=$G$1,IF(#REF!=\"\",NA(),#REF!),NA()),NA())","v":{"$error":"#REF!"}},{"$f":"IF(#REF!=$E$1,IF(#REF!=$G$1,IF(#REF!=\"\",NA(),#REF!),NA()),NA())","v":{"$error":"#REF!"}},{"$error":"#REF!"},{"$error":"#REF!"}]
[null,null,null,{"$f":"IF(#REF!=$E$1,IF(#REF!=$G$1,#REF!,NA()),NA())","v":{"$error":"#REF!"}},{"$f":"IF(#REF!=$E$1,IF(#REF!=$G$1,#REF!,NA()),NA())","v":{"$error":"#REF!"}},{"$f":"IF(#REF!=$E$1,IF(#REF!=$G$1,IF(#REF!=\"\",NA(),#REF!),NA()),NA())","v":{"$error":"#REF!"}},{"$f":"IF(#REF!=$E$1,IF(#REF!=$G$1,IF(#REF!=\"\",NA(),#REF!),NA()),NA())","v":{"$error":"#REF!"}},{"$f":"IF(AND(ISNUMBER(G324),F324=\"-\"),0,F324)","v":{"$error":"#REF!"}},{"$f":"IF(AND(ISNUMBER(F324),G324=\"-\"),0,G324)","v":{"$error":"#REF!"}}]
[null,null,null,{"$f":"IF(#REF!=$E$1,IF(#REF!=$G$1,#REF!,NA()),NA())","v":{"$error":"#REF!"}},{"$f":"IF(#REF!=$E$1,IF(#REF!=$G$1,#REF!,NA()),NA())","v":{"$error":"#REF!"}},{"$f":"IF(#REF!=$E$1,IF(#REF!=$G$1,IF(#REF!=\"\",NA(),#REF!),NA()),NA())","v":{"$error":"#REF!"}},{"$f":"IF(#REF!=$E$1,IF(#REF!=$G$1,IF(#REF!=\"\",NA(),#REF!),NA()),NA())","v":{"$error":"#REF!"}},{"$error":"#REF!"},{"$error":"#REF!"}]
[null,null,null,{"$f":"IF(#REF!=$E$1,IF(#REF!=$G$1,#REF!,NA()),NA())","v":{"$error":"#REF!"}},{"$f":"IF(#REF!=$E$1,IF(#REF!=$G$1,#REF!,NA()),NA())","v":{"$error":"#REF!"}},{"$f":"IF(#REF!=$E$1,IF(#REF!=$G$1,IF(#REF!=\"\",NA(),#REF!),NA()),NA())","v":{"$error":"#REF!"}},{"$f":"IF(#REF!=$E$1,IF(#REF!=$G$1,IF(#REF!=\"\",NA(),#REF!),NA()),NA())","v":{"$error":"#REF!"}},{"$error":"#REF!"},{"$error":"#REF!"}]
[null,null,null,{"$f":"IF(#REF!=$E$1,IF(#REF!=$G$1,#REF!,NA()),NA())","v":{"$error":"#REF!"}},{"$f":"IF(#REF!=$E$1,IF(#REF!=$G$1,#REF!,NA()),NA())","v":{"$error":"#REF!"}},{"$f":"IF(#REF!=$E$1,IF(#REF!=$G$1,IF(#REF!=\"\",NA(),#REF!),NA()),NA())","v":{"$error":"#REF!"}},{"$f":"IF(#REF!=$E$1,IF(#REF!=$G$1,IF(#REF!=\"\",NA(),#REF!),NA()),NA())","v":{"$error":"#REF!"}},{"$error":"#REF!"},{"$error":"#REF!"}]
[null,null,null,{"$f":"IF(#REF!=$E$1,IF(#REF!=$G$1,#REF!,NA()),NA())","v":{"$error":"#REF!"}},{"$f":"IF(#REF!=$E$1,IF(#REF!=$G$1,#REF!,NA()),NA())","v":{"$error":"#REF!"}},{"$f":"IF(#REF!=$E$1,IF(#REF!=$G$1,IF(#REF!=\"\",NA(),#REF!),NA()),NA())","v":{"$error":"#REF!"}},{"$f":"IF(#REF!=$E$1,IF(#REF!=$G$1,IF(#REF!=\"\",NA(),#REF!),NA()),NA())","v":{"$error":"#REF!"}},{"$error":"#REF!"},{"$error":"#REF!"}]
[null,null,null,{"$f":"IF(#REF!=$E$1,IF(#REF!=$G$1,#REF!,NA()),NA())","v":{"$error":"#REF!"}},{"$f":"IF(#REF!=$E$1,IF(#REF!=$G$1,#REF!,NA()),NA())","v":{"$error":"#REF!"}},{"$f":"IF(#REF!=$E$1,IF(#REF!=$G$1,IF(#REF!=\"\",NA(),#REF!),NA()),NA())","v":{"$error":"#REF!"}},{"$f":"IF(#REF!=$E$1,IF(#REF!=$G$1,IF(#REF!=\"\",NA(),#REF!),NA()),NA())","v":{"$error":"#REF!"}},{"$error":"#REF!"},{"$error":"#REF!"}]
[null,null,null,{"$f":"IF(#REF!=$E$1,IF(#REF!=$G$1,#REF!,NA()),NA())","v":{"$error":"#REF!"}},{"$f":"IF(#REF!=$E$1,IF(#REF!=$G$1,#REF!,NA()),NA())","v":{"$error":"#REF!"}},{"$f":"IF(#REF!=$E$1,IF(#REF!=$G$1,IF(#REF!=\"\",NA(),#REF!),NA()),NA())","v":{"$error":"#REF!"}},{"$f":"IF(#REF!=$E$1,IF(#REF!=$G$1,IF(#REF!=\"\",NA(),#REF!),NA()),NA())","v":{"$error":"#REF!"}},{"$error":"#REF!"},{"$error":"#REF!"}]
[null,null,null,{"$f":"IF(#REF!=$E$1,IF(#REF!=$G$1,#REF!,NA()),NA())","v":{"$error":"#REF!"}},{"$f":"IF(#REF!=$E$1,IF(#REF!=$G$1,#REF!,NA()),NA())","v":{"$error":"#REF!"}},{"$f":"IF(#REF!=$E$1,IF(#REF!=$G$1,IF(#REF!=\"\",NA(),#REF!),NA()),NA())","v":{"$error":"#REF!"}},{"$f":"IF(#REF!=$E$1,IF(#REF!=$G$1,IF(#REF!=\"\",NA(),#REF!),NA()),NA())","v":{"$error":"#REF!"}},{"$error":"#REF!"},{"$error":"#REF!"}]
[null,null,null,{"$f":"IF(#REF!=$E$1,IF(#REF!=$G$1,#REF!,NA()),NA())","v":{"$error":"#REF!"}},{"$f":"IF(#REF!=$E$1,IF(#REF!=$G$1,#REF!,NA()),NA())","v":{"$error":"#REF!"}},{"$f":"IF(#REF!=$E$1,IF(#REF!=$G$1,IF(#REF!=\"\",NA(),#REF!),NA()),NA())","v":{"$error":"#REF!"}},{"$f":"IF(#REF!=$E$1,IF(#REF!=$G$1,IF(#REF!=\"\",NA(),#REF!),NA()),NA())","v":{"$error":"#REF!"}},{"$error":"#REF!"},{"$error":"#REF!"}]
[null,null,null,{"$f":"IF(#REF!=$E$1,IF(#REF!=$G$1,#REF!,NA()),NA())","v":{"$error":"#REF!"}},{"$f":"IF(#REF!=$E$1,IF(#REF!=$G$1,#REF!,NA()),NA())","v":{"$error":"#REF!"}},{"$f":"IF(#REF!=$E$1,IF(#REF!=$G$1,IF(#REF!=\"\",NA(),#REF!),NA()),NA())","v":{"$error":"#REF!"}},{"$f":"IF(#REF!=$E$1,IF(#REF!=$G$1,IF(#REF!=\"\",NA(),#REF!),NA()),NA())","v":{"$error":"#REF!"}},{"$error":"#REF!"},{"$error":"#REF!"}]
[null,null,null,{"$f":"IF(#REF!=$E$1,IF(#REF!=$G$1,#REF!,NA()),NA())","v":{"$error":"#REF!"}},{"$f":"IF(#REF!=$E$1,IF(#REF!=$G$1,#REF!,NA()),NA())","v":{"$error":"#REF!"}},{"$f":"IF(#REF!=$E$1,IF(#REF!=$G$1,IF(#REF!=\"\",NA(),#REF!),NA()),NA())","v":{"$error":"#REF!"}},{"$f":"IF(#REF!=$E$1,IF(#REF!=$G$1,IF(#REF!=\"\",NA(),#REF!),NA()),NA())","v":{"$error":"#REF!"}},{"$error":"#REF!"},{"$error":"#REF!"}]
[null,null,null,{"$f":"IF(#REF!=$E$1,IF(#REF!=$G$1,#REF!,NA()),NA())","v":{"$error":"#REF!"}},{"$f":"IF(#REF!=$E$1,IF(#REF!=$G$1,#REF!,NA()),NA())","v":{"$error":"#REF!"}},{"$f":"IF(#REF!=$E$1,IF(#REF!=$G$1,IF(#REF!=\"\",NA(),#REF!),NA()),NA())","v":{"$error":"#REF!"}},{"$f":"IF(#REF!=$E$1,IF(#REF!=$G$1,IF(#REF!=\"\",NA(),#REF!),NA()),NA())","v":{"$error":"#REF!"}},{"$error":"#REF!"},{"$error":"#REF!"}]
[null,null,null,{"$f":"IF(#REF!=$E$1,IF(#REF!=$G$1,#REF!,NA()),NA())","v":{"$error":"#REF!"}},{"$f":"IF(#REF!=$E$1,IF(#REF!=$G$1,#REF!,NA()),NA())","v":{"$error":"#REF!"}},{"$f":"IF(#REF!=$E$1,IF(#REF!=$G$1,IF(#REF!=\"\",NA(),#REF!),NA()),NA())","v":{"$error":"#REF!"}},{"$f":"IF(#REF!=$E$1,IF(#REF!=$G$1,IF(#REF!=\"\",NA(),#REF!),NA()),NA())","v":{"$error":"#REF!"}},{"$error":"#REF!"},{"$error":"#REF!"}]
[null,null,null,{"$f":"IF(#REF!=$E$1,IF(#REF!=$G$1,#REF!,NA()),NA())","v":{"$error":"#REF!"}},{"$f":"IF(#REF!=$E$1,IF(#REF!=$G$1,#REF!,NA()),NA())","v":{"$error":"#REF!"}},{"$f":"IF(#REF!=$E$1,IF(#REF!=$G$1,IF(#REF!=\"\",NA(),#REF!),NA()),NA())","v":{"$error":"#REF!"}},{"$f":"IF(#REF!=$E$1,IF(#REF!=$G$1,IF(#REF!=\"\",NA(),#REF!),NA()),NA())","v":{"$error":"#REF!"}},{"$error":"#REF!"},{"$error":"#REF!"}]
[null,null,null,{"$f":"IF(#REF!=$E$1,IF(#REF!=$G$1,#REF!,NA()),NA())","v":{"$error":"#REF!"}},{"$f":"IF(#REF!=$E$1,IF(#REF!=$G$1,#REF!,NA()),NA())","v":{"$error":"#REF!"}},{"$f":"IF(#REF!=$E$1,IF(#REF!=$G$1,IF(#REF!=\"\",NA(),#REF!),NA()),NA())","v":{"$error":"#REF!"}},{"$f":"IF(#REF!=$E$1,IF(#REF!=$G$1,IF(#REF!=\"\",NA(),#REF!),NA()),NA())","v":{"$error":"#REF!"}},{"$error":"#REF!"},{"$error":"#REF!"}]
[null,null,null,{"$f":"IF(#REF!=$E$1,IF(#REF!=$G$1,#REF!,NA()),NA())","v":{"$error":"#REF!"}},{"$f":"IF(#REF!=$E$1,IF(#REF!=$G$1,#REF!,NA()),NA())","v":{"$error":"#REF!"}},{"$f":"IF(#REF!=$E$1,IF(#REF!=$G$1,IF(#REF!=\"\",NA(),#REF!),NA()),NA())","v":{"$error":"#REF!"}},{"$f":"IF(#REF!=$E$1,IF(#REF!=$G$1,IF(#REF!=\"\",NA(),#REF!),NA()),NA())","v":{"$error":"#REF!"}},{"$error":"#REF!"},{"$error":"#REF!"}]
[null,null,null,{"$f":"IF(#REF!=$E$1,IF(#REF!=$G$1,#REF!,NA()),NA())","v":{"$error":"#REF!"}},{"$f":"IF(#REF!=$E$1,IF(#REF!=$G$1,#REF!,NA()),NA())","v":{"$error":"#REF!"}},{"$f":"IF(#REF!=$E$1,IF(#REF!=$G$1,IF(#REF!=\"\",NA(),#REF!),NA()),NA())","v":{"$error":"#REF!"}},{"$f":"IF(#REF!=$E$1,IF(#REF!=$G$1,IF(#REF!=\"\",NA(),#REF!),NA()),NA())","v":{"$error":"#REF!"}},{"$error":"#REF!"},{"$error":"#REF!"}]
[null,null,null,{"$f":"IF(#REF!=$E$1,IF(#REF!=$G$1,#REF!,NA()),NA())","v":{"$error":"#REF!"}},{"$f":"IF(#REF!=$E$1,IF(#REF!=$G$1,#REF!,NA()),NA())","v":{"$error":"#REF!"}},{"$f":"IF(#REF!=$E$1,IF(#REF!=$G$1,IF(#REF!=\"\",NA(),#REF!),NA()),NA())","v":{"$error":"#REF!"}},{"$f":"IF(#REF!=$E$1,IF(#REF!=$G$1,IF(#REF!=\"\",NA(),#REF!),NA()),NA())","v":{"$error":"#REF!"}},{"$error":"#REF!"},{"$error":"#REF!"}]
[null,null,null,{"$f":"IF(#REF!=$E$1,IF(#REF!=$G$1,#REF!,NA()),NA())","v":{"$error":"#REF!"}},{"$f":"IF(#REF!=$E$1,IF(#REF!=$G$1,#REF!,NA()),NA())","v":{"$error":"#REF!"}},{"$f":"IF(#REF!=$E$1,IF(#REF!=$G$1,IF(#REF!=\"\",NA(),#REF!),NA()),NA())","v":{"$error":"#REF!"}},{"$f":"IF(#REF!=$E$1,IF(#REF!=$G$1,IF(#REF!=\"\",NA(),#REF!),NA()),NA())","v":{"$error":"#REF!"}},{"$error":"#REF!"},{"$error":"#REF!"}]
[null,null,null,{"$f":"IF(#REF!=$E$1,IF(#REF!=$G$1,#REF!,NA()),NA())","v":{"$error":"#REF!"}},{"$f":"IF(#REF!=$E$1,IF(#REF!=$G$1,#REF!,NA()),NA())","v":{"$error":"#REF!"}},{"$f":"IF(#REF!=$E$1,IF(#REF!=$G$1,IF(#REF!=\"\",NA(),#REF!),NA()),NA())","v":{"$error":"#REF!"}},{"$f":"IF(#REF!=$E$1,IF(#REF!=$G$1,IF(#REF!=\"\",NA(),#REF!),NA()),NA())","v":{"$error":"#REF!"}},{"$error":"#REF!"},{"$error":"#REF!"}]
[null,null,null,{"$f":"IF(#REF!=$E$1,IF(#REF!=$G$1,#REF!,NA()),NA())","v":{"$error":"#REF!"}},{"$f":"IF(#REF!=$E$1,IF(#REF!=$G$1,#REF!,NA()),NA())","v":{"$error":"#REF!"}},{"$f":"IF(#REF!=$E$1,IF(#REF!=$G$1,IF(#REF!=\"\",NA(),#REF!),NA()),NA())","v":{"$error":"#REF!"}},{"$f":"IF(#REF!=$E$1,IF(#REF!=$G$1,IF(#REF!=\"\",NA(),#REF!),NA()),NA())","v":{"$error":"#REF!"}},{"$error":"#REF!"},{"$error":"#REF!"}]
[null,null,null,{"$f":"IF(#REF!=$E$1,IF(#REF!=$G$1,#REF!,NA()),NA())","v":{"$error":"#REF!"}},{"$f":"IF(#REF!=$E$1,IF(#REF!=$G$1,#REF!,NA()),NA())","v":{"$error":"#REF!"}},{"$f":"IF(#REF!=$E$1,IF(#REF!=$G$1,IF(#REF!=\"\",NA(),#REF!),NA()),NA())","v":{"$error":"#REF!"}},{"$f":"IF(#REF!=$E$1,IF(#REF!=$G$1,IF(#REF!=\"\",NA(),#REF!),NA()),NA())","v":{"$error":"#REF!"}},{"$error":"#REF!"},{"$error":"#REF!"}]
[null,null,null,{"$f":"IF(#REF!=$E$1,IF(#REF!=$G$1,#REF!,NA()),NA())","v":{"$error":"#REF!"}},{"$f":"IF(#REF!=$E$1,IF(#REF!=$G$1,#REF!,NA()),NA())","v":{"$error":"#REF!"}},{"$f":"IF(#REF!=$E$1,IF(#REF!=$G$1,IF(#REF!=\"\",NA(),#REF!),NA()),NA())","v":{"$error":"#REF!"}},{"$f":"IF(#REF!=$E$1,IF(#REF!=$G$1,IF(#REF!=\"\",NA(),#REF!),NA()),NA())","v":{"$error":"#REF!"}},{"$error":"#REF!"},{"$error":"#REF!"}]
[null,null,null,{"$f":"IF(#REF!=$E$1,IF(#REF!=$G$1,#REF!,NA()),NA())","v":{"$error":"#REF!"}},{"$f":"IF(#REF!=$E$1,IF(#REF!=$G$1,#REF!,NA()),NA())","v":{"$error":"#REF!"}},{"$f":"IF(#REF!=$E$1,IF(#REF!=$G$1,IF(#REF!=\"\",NA(),#REF!),NA()),NA())","v":{"$error":"#REF!"}},{"$f":"IF(#REF!=$E$1,IF(#REF!=$G$1,IF(#REF!=\"\",NA(),#REF!),NA()),NA())","v":{"$error":"#REF!"}},{"$error":"#REF!"},{"$error":"#REF!"}]
[null,null,null,{"$f":"IF(#REF!=$E$1,IF(#REF!=$G$1,#REF!,NA()),NA())","v":{"$error":"#REF!"}},{"$f":"IF(#REF!=$E$1,IF(#REF!=$G$1,#REF!,NA()),NA())","v":{"$error":"#REF!"}},{"$f":"IF(#REF!=$E$1,IF(#REF!=$G$1,IF(#REF!=\"\",NA(),#REF!),NA()),NA())","v":{"$error":"#REF!"}},{"$f":"IF(#REF!=$E$1,IF(#REF!=$G$1,IF(#REF!=\"\",NA(),#REF!),NA()),NA())","v":{"$error":"#REF!"}},{"$error":"#REF!"},{"$error":"#REF!"}]
[null,null,null,{"$f":"IF(#REF!=$E$1,IF(#REF!=$G$1,#REF!,NA()),NA())","v":{"$error":"#REF!"}},{"$f":"IF(#REF!=$E$1,IF(#REF!=$G$1,#REF!,NA()),NA())","v":{"$error":"#REF!"}},{"$f":"IF(#REF!=$E$1,IF(#REF!=$G$1,IF(#REF!=\"\",NA(),#REF!),NA()),NA())","v":{"$error":"#REF!"}},{"$f":"IF(#REF!=$E$1,IF(#REF!=$G$1,IF(#REF!=\"\",NA(),#REF!),NA()),NA())","v":{"$error":"#REF!"}},{"$error":"#REF!"},{"$error":"#REF!"}]
[null,null,null,{"$f":"IF(#REF!=$E$1,IF(#REF!=$G$1,#REF!,NA()),NA())","v":{"$error":"#REF!"}},{"$f":"IF(#REF!=$E$1,IF(#REF!=$G$1,#REF!,NA()),NA())","v":{"$error":"#REF!"}},{"$f":"IF(#REF!=$E$1,IF(#REF!=$G$1,IF(#REF!=\"\",NA(),#REF!),NA()),NA())","v":{"$error":"#REF!"}},{"$f":"IF(#REF!=$E$1,IF(#REF!=$G$1,IF(#REF!=\"\",NA(),#REF!),NA()),NA())","v":{"$error":"#REF!"}},{"$error":"#REF!"},{"$error":"#REF!"}]
[null,null,null,{"$f":"IF(#REF!=$E$1,IF(#REF!=$G$1,#REF!,NA()),NA())","v":{"$error":"#REF!"}},{"$f":"IF(#REF!=$E$1,IF(#REF!=$G$1,#REF!,NA()),NA())","v":{"$error":"#REF!"}},{"$f":"IF(#REF!=$E$1,IF(#REF!=$G$1,IF(#REF!=\"\",NA(),#REF!),NA()),NA())","v":{"$error":"#REF!"}},{"$f":"IF(#REF!=$E$1,IF(#REF!=$G$1,IF(#REF!=\"\",NA(),#REF!),NA()),NA())","v":{"$error":"#REF!"}},{"$error":"#REF!"},{"$error":"#REF!"}]
[null,null,null,{"$f":"IF(#REF!=$E$1,IF(#REF!=$G$1,#REF!,NA()),NA())","v":{"$error":"#REF!"}},{"$f":"IF(#REF!=$E$1,IF(#REF!=$G$1,#REF!,NA()),NA())","v":{"$error":"#REF!"}},{"$f":"IF(#REF!=$E$1,IF(#REF!=$G$1,IF(#REF!=\"\",NA(),#REF!),NA()),NA())","v":{"$error":"#REF!"}},{"$f":"IF(#REF!=$E$1,IF(#REF!=$G$1,IF(#REF!=\"\",NA(),#REF!),NA()),NA())","v":{"$error":"#REF!"}},{"$error":"#REF!"},{"$error":"#REF!"}]
[null,null,null,{"$f":"IF(#REF!=$E$1,IF(#REF!=$G$1,#REF!,NA()),NA())","v":{"$error":"#REF!"}},{"$f":"IF(#REF!=$E$1,IF(#REF!=$G$1,#REF!,NA()),NA())","v":{"$error":"#REF!"}},{"$f":"IF(#REF!=$E$1,IF(#REF!=$G$1,IF(#REF!=\"\",NA(),#REF!),NA()),NA())","v":{"$error":"#REF!"}},{"$f":"IF(#REF!=$E$1,IF(#REF!=$G$1,IF(#REF!=\"\",NA(),#REF!),NA()),NA())","v":{"$error":"#REF!"}},{"$error":"#REF!"},{"$error":"#REF!"}]
[null,null,null,{"$f":"IF(#REF!=$E$1,IF(#REF!=$G$1,#REF!,NA()),NA())","v":{"$error":"#REF!"}},{"$f":"IF(#REF!=$E$1,IF(#REF!=$G$1,#REF!,NA()),NA())","v":{"$error":"#REF!"}},{"$f":"IF(#REF!=$E$1,IF(#REF!=$G$1,IF(#REF!=\"\",NA(),#REF!),NA()),NA())","v":{"$error":"#REF!"}},{"$f":"IF(#REF!=$E$1,IF(#REF!=$G$1,IF(#REF!=\"\",NA(),#REF!),NA()),NA())","v":{"$error":"#REF!"}},{"$error":"#REF!"},{"$error":"#REF!"}]
[null,null,null,{"$f":"IF(#REF!=$E$1,IF(#REF!=$G$1,#REF!,NA()),NA())","v":{"$error":"#REF!"}},{"$f":"IF(#REF!=$E$1,IF(#REF!=$G$1,#REF!,NA()),NA())","v":{"$error":"#REF!"}},{"$f":"IF(#REF!=$E$1,IF(#REF!=$G$1,IF(#REF!=\"\",NA(),#REF!),NA()),NA())","v":{"$error":"#REF!"}},{"$f":"IF(#REF!=$E$1,IF(#REF!=$G$1,IF(#REF!=\"\",NA(),#REF!),NA()),NA())","v":{"$error":"#REF!"}},{"$error":"#REF!"},{"$error":"#REF!"}]
[null,null,null,{"$f":"IF(#REF!=$E$1,IF(#REF!=$G$1,#REF!,NA()),NA())","v":{"$error":"#REF!"}},{"$f":"IF(#REF!=$E$1,IF(#REF!=$G$1,#REF!,NA()),NA())","v":{"$error":"#REF!"}},{"$f":"IF(#REF!=$E$1,IF(#REF!=$G$1,IF(#REF!=\"\",NA(),#REF!),NA()),NA())","v":{"$error":"#REF!"}},{"$f":"IF(#REF!=$E$1,IF(#REF!=$G$1,IF(#REF!=\"\",NA(),#REF!),NA()),NA())","v":{"$error":"#REF!"}},{"$error":"#REF!"},{"$error":"#REF!"}]
[null,null,null,{"$f":"IF(#REF!=$E$1,IF(#REF!=$G$1,#REF!,NA()),NA())","v":{"$error":"#REF!"}},{"$f":"IF(#REF!=$E$1,IF(#REF!=$G$1,#REF!,NA()),NA())","v":{"$error":"#REF!"}},{"$f":"IF(#REF!=$E$1,IF(#REF!=$G$1,IF(#REF!=\"\",NA(),#REF!),NA()),NA())","v":{"$error":"#REF!"}},{"$f":"IF(#REF!=$E$1,IF(#REF!=$G$1,IF(#REF!=\"\",NA(),#REF!),NA()),NA())","v":{"$error":"#REF!"}},{"$error":"#REF!"},{"$error":"#REF!"}]
[null,null,null,{"$f":"IF(#REF!=$E$1,IF(#REF!=$G$1,#REF!,NA()),NA())","v":{"$error":"#REF!"}},{"$f":"IF(#REF!=$E$1,IF(#REF!=$G$1,#REF!,NA()),NA())","v":{"$error":"#REF!"}},{"$f":"IF(#REF!=$E$1,IF(#REF!=$G$1,IF(#REF!=\"\",NA(),#REF!),NA()),NA())","v":{"$error":"#REF!"}},{"$f":"IF(#REF!=$E$1,IF(#REF!=$G$1,IF(#REF!=\"\",NA(),#REF!),NA()),NA())","v":{"$error":"#REF!"}},{"$error":"#REF!"},{"$error":"#REF!"}]
[null,null,null,{"$f":"IF(#REF!=$E$1,IF(#REF!=$G$1,#REF!,NA()),NA())","v":{"$error":"#REF!"}},{"$f":"IF(#REF!=$E$1,IF(#REF!=$G$1,#REF!,NA()),NA())","v":{"$error":"#REF!"}},{"$f":"IF(#REF!=$E$1,IF(#REF!=$G$1,IF(#REF!=\"\",NA(),#REF!),NA()),NA())","v":{"$error":"#REF!"}},{"$f":"IF(#REF!=$E$1,IF(#REF!=$G$1,IF(#REF!=\"\",NA(),#REF!),NA()),NA())","v":{"$error":"#REF!"}},{"$error":"#REF!"},{"$error":"#REF!"}]
[null,null,null,{"$f":"IF(#REF!=$E$1,IF(#REF!=$G$1,#REF!,NA()),NA())","v":{"$error":"#REF!"}},{"$f":"IF(#REF!=$E$1,IF(#REF!=$G$1,#REF!,NA()),NA())","v":{"$error":"#REF!"}},{"$f":"IF(#REF!=$E$1,IF(#REF!=$G$1,IF(#REF!=\"\",NA(),#REF!),NA()),NA())","v":{"$error":"#REF!"}},{"$f":"IF(#REF!=$E$1,IF(#REF!=$G$1,IF(#REF!=\"\",NA(),#REF!),NA()),NA())","v":{"$error":"#REF!"}},{"$error":"#REF!"},{"$error":"#REF!"}]
[null,null,null,{"$f":"IF(#REF!=$E$1,IF(#REF!=$G$1,#REF!,NA()),NA())","v":{"$error":"#REF!"}},{"$f":"IF(#REF!=$E$1,IF(#REF!=$G$1,#REF!,NA()),NA())","v":{"$error":"#REF!"}},{"$f":"IF(#REF!=$E$1,IF(#REF!=$G$1,IF(#REF!=\"\",NA(),#REF!),NA()),NA())","v":{"$error":"#REF!"}},{"$f":"IF(#REF!=$E$1,IF(#REF!=$G$1,IF(#REF!=\"\",NA(),#REF!),NA()),NA())","v":{"$error":"#REF!"}},{"$error":"#REF!"},{"$error":"#REF!"}]
[null,null,null,{"$f":"IF(#REF!=$E$1,IF(#REF!=$G$1,#REF!,NA()),NA())","v":{"$error":"#REF!"}},{"$f":"IF(#REF!=$E$1,IF(#REF!=$G$1,#REF!,NA()),NA())","v":{"$error":"#REF!"}},{"$f":"IF(#REF!=$E$1,IF(#REF!=$G$1,IF(#REF!=\"\",NA(),#REF!),NA()),NA())","v":{"$error":"#REF!"}},{"$f":"IF(#REF!=$E$1,IF(#REF!=$G$1,IF(#REF!=\"\",NA(),#REF!),NA()),NA())","v":{"$error":"#REF!"}},{"$error":"#REF!"},{"$error":"#REF!"}]
[null,null,null,{"$f":"IF(#REF!=$E$1,IF(#REF!=$G$1,#REF!,NA()),NA())","v":{"$error":"#REF!"}},{"$f":"IF(#REF!=$E$1,IF(#REF!=$G$1,#REF!,NA()),NA())","v":{"$error":"#REF!"}},{"$f":"IF(#REF!=$E$1,IF(#REF!=$G$1,IF(#REF!=\"\",NA(),#REF!),NA()),NA())","v":{"$error":"#REF!"}},{"$f":"IF(#REF!=$E$1,IF(#REF!=$G$1,IF(#REF!=\"\",NA(),#REF!),NA()),NA())","v":{"$error":"#REF!"}},{"$error":"#REF!"},{"$error":"#REF!"}]
[null,null,null,{"$f":"IF(#REF!=$E$1,IF(#REF!=$G$1,#REF!,NA()),NA())","v":{"$error":"#REF!"}},{"$f":"IF(#REF!=$E$1,IF(#REF!=$G$1,#REF!,NA()),NA())","v":{"$error":"#REF!"}},{"$f":"IF(#REF!=$E$1,IF(#REF!=$G$1,IF(#REF!=\"\",NA(),#REF!),NA()),NA())","v":{"$error":"#REF!"}},{"$f":"IF(#REF!=$E$1,IF(#REF!=$G$1,IF(#REF!=\"\",NA(),#REF!),NA()),NA())","v":{"$error":"#REF!"}},{"$error":"#REF!"},{"$error":"#REF!"}]
[null,null,null,{"$f":"IF(#REF!=$E$1,IF(#REF!=$G$1,#REF!,NA()),NA())","v":{"$error":"#REF!"}},{"$f":"IF(#REF!=$E$1,IF(#REF!=$G$1,#REF!,NA()),NA())","v":{"$error":"#REF!"}},{"$f":"IF(#REF!=$E$1,IF(#REF!=$G$1,IF(#REF!=\"\",NA(),#REF!),NA()),NA())","v":{"$error":"#REF!"}},{"$f":"IF(#REF!=$E$1,IF(#REF!=$G$1,IF(#REF!=\"\",NA(),#REF!),NA()),NA())","v":{"$error":"#REF!"}},{"$error":"#REF!"},{"$error":"#REF!"}]
[null,null,null,{"$f":"IF(#REF!=$E$1,IF(#REF!=$G$1,#REF!,NA()),NA())","v":{"$error":"#REF!"}},{"$f":"IF(#REF!=$E$1,IF(#REF!=$G$1,#REF!,NA()),NA())","v":{"$error":"#REF!"}},{"$f":"IF(#REF!=$E$1,IF(#REF!=$G$1,IF(#REF!=\"\",NA(),#REF!),NA()),NA())","v":{"$error":"#REF!"}},{"$f":"IF(#REF!=$E$1,IF(#REF!=$G$1,IF(#REF!=\"\",NA(),#REF!),NA()),NA())","v":{"$error":"#REF!"}},{"$error":"#REF!"},{"$error":"#REF!"}]
[null,null,null,{"$f":"IF(#REF!=$E$1,IF(#REF!=$G$1,#REF!,NA()),NA())","v":{"$error":"#REF!"}},{"$f":"IF(#REF!=$E$1,IF(#REF!=$G$1,#REF!,NA()),NA())","v":{"$error":"#REF!"}},{"$f":"IF(#REF!=$E$1,IF(#REF!=$G$1,IF(#REF!=\"\",NA(),#REF!),NA()),NA())","v":{"$error":"#REF!"}},{"$f":"IF(#REF!=$E$1,IF(#REF!=$G$1,IF(#REF!=\"\",NA(),#REF!),NA()),NA())","v":{"$error":"#REF!"}},{"$error":"#REF!"},{"$error":"#REF!"}]
[null,null,null,{"$f":"IF(#REF!=$E$1,IF(#REF!=$G$1,#REF!,NA()),NA())","v":{"$error":"#REF!"}},{"$f":"IF(#REF!=$E$1,IF(#REF!=$G$1,#REF!,NA()),NA())","v":{"$error":"#REF!"}},{"$f":"IF(#REF!=$E$1,IF(#REF!=$G$1,IF(#REF!=\"\",NA(),#REF!),NA()),NA())","v":{"$error":"#REF!"}},{"$f":"IF(#REF!=$E$1,IF(#REF!=$G$1,IF(#REF!=\"\",NA(),#REF!),NA()),NA())","v":{"$error":"#REF!"}},{"$error":"#REF!"},{"$error":"#REF!"}]
[null,null,null,{"$f":"IF(#REF!=$E$1,IF(#REF!=$G$1,#REF!,NA()),NA())","v":{"$error":"#REF!"}},{"$f":"IF(#REF!=$E$1,IF(#REF!=$G$1,#REF!,NA()),NA())","v":{"$error":"#REF!"}},{"$f":"IF(#REF!=$E$1,IF(#REF!=$G$1,IF(#REF!=\"\",NA(),#REF!),NA()),NA())","v":{"$error":"#REF!"}},{"$f":"IF(#REF!=$E$1,IF(#REF!=$G$1,IF(#REF!=\"\",NA(),#REF!),NA()),NA())","v":{"$error":"#REF!"}},{"$error":"#REF!"},{"$error":"#REF!"}]
[null,null,null,{"$f":"IF(#REF!=$E$1,IF(#REF!=$G$1,#REF!,NA()),NA())","v":{"$error":"#REF!"}},{"$f":"IF(#REF!=$E$1,IF(#REF!=$G$1,#REF!,NA()),NA())","v":{"$error":"#REF!"}},{"$f":"IF(#REF!=$E$1,IF(#REF!=$G$1,IF(#REF!=\"\",NA(),#REF!),NA()),NA())","v":{"$error":"#REF!"}},{"$f":"IF(#REF!=$E$1,IF(#REF!=$G$1,IF(#REF!=\"\",NA(),#REF!),NA()),NA())","v":{"$error":"#REF!"}},{"$error":"#REF!"},{"$error":"#REF!"}]
[null,null,null,{"$f":"IF(#REF!=$E$1,IF(#REF!=$G$1,#REF!,NA()),NA())","v":{"$error":"#REF!"}},{"$f":"IF(#REF!=$E$1,IF(#REF!=$G$1,#REF!,NA()),NA())","v":{"$error":"#REF!"}},{"$f":"IF(#REF!=$E$1,IF(#REF!=$G$1,IF(#REF!=\"\",NA(),#REF!),NA()),NA())","v":{"$error":"#REF!"}},{"$f":"IF(#REF!=$E$1,IF(#REF!=$G$1,IF(#REF!=\"\",NA(),#REF!),NA()),NA())","v":{"$error":"#REF!"}},{"$error":"#REF!"},{"$error":"#REF!"}]
[null,null,null,{"$f":"IF(#REF!=$E$1,IF(#REF!=$G$1,#REF!,NA()),NA())","v":{"$error":"#REF!"}},{"$f":"IF(#REF!=$E$1,IF(#REF!=$G$1,#REF!,NA()),NA())","v":{"$error":"#REF!"}},{"$f":"IF(#REF!=$E$1,IF(#REF!=$G$1,IF(#REF!=\"\",NA(),#REF!),NA()),NA())","v":{"$error":"#REF!"}},{"$f":"IF(#REF!=$E$1,IF(#REF!=$G$1,IF(#REF!=\"\",NA(),#REF!),NA()),NA())","v":{"$error":"#REF!"}},{"$error":"#REF!"},{"$error":"#REF!"}]
[null,null,null,{"$f":"IF(#REF!=$E$1,IF(#REF!=$G$1,#REF!,NA()),NA())","v":{"$error":"#REF!"}},{"$f":"IF(#REF!=$E$1,IF(#REF!=$G$1,#REF!,NA()),NA())","v":{"$error":"#REF!"}},{"$f":"IF(#REF!=$E$1,IF(#REF!=$G$1,IF(#REF!=\"\",NA(),#REF!),NA()),NA())","v":{"$error":"#REF!"}},{"$f":"IF(#REF!=$E$1,IF(#REF!=$G$1,IF(#REF!=\"\",NA(),#REF!),NA()),NA())","v":{"$error":"#REF!"}},{"$error":"#REF!"},{"$error":"#REF!"}]
[null,null,null,{"$f":"IF(#REF!=$E$1,IF(#REF!=$G$1,#REF!,NA()),NA())","v":{"$error":"#REF!"}},{"$f":"IF(#REF!=$E$1,IF(#REF!=$G$1,#REF!,NA()),NA())","v":{"$error":"#REF!"}},{"$f":"IF(#REF!=$E$1,IF(#REF!=$G$1,IF(#REF!=\"\",NA(),#REF!),NA()),NA())","v":{"$error":"#REF!"}},{"$f":"IF(#REF!=$E$1,IF(#REF!=$G$1,IF(#REF!=\"\",NA(),#REF!),NA()),NA())","v":{"$error":"#REF!"}},{"$error":"#REF!"},{"$error":"#REF!"}]
[null,null,null,{"$f":"IF(#REF!=$E$1,IF(#REF!=$G$1,#REF!,NA()),NA())","v":{"$error":"#REF!"}},{"$f":"IF(#REF!=$E$1,IF(#REF!=$G$1,#REF!,NA()),NA())","v":{"$error":"#REF!"}},{"$f":"IF(#REF!=$E$1,IF(#REF!=$G$1,IF(#REF!=\"\",NA(),#REF!),NA()),NA())","v":{"$error":"#REF!"}},{"$f":"IF(#REF!=$E$1,IF(#REF!=$G$1,IF(#REF!=\"\",NA(),#REF!),NA()),NA())","v":{"$error":"#REF!"}},{"$error":"#REF!"},{"$error":"#REF!"}]
[null,null,null,{"$f":"IF(#REF!=$E$1,IF(#REF!=$G$1,#REF!,NA()),NA())","v":{"$error":"#REF!"}},{"$f":"IF(#REF!=$E$1,IF(#REF!=$G$1,#REF!,NA()),NA())","v":{"$error":"#REF!"}},{"$f":"IF(#REF!=$E$1,IF(#REF!=$G$1,IF(#REF!=\"\",NA(),#REF!),NA()),NA())","v":{"$error":"#REF!"}},{"$f":"IF(#REF!=$E$1,IF(#REF!=$G$1,IF(#REF!=\"\",NA(),#REF!),NA()),NA())","v":{"$error":"#REF!"}},{"$error":"#REF!"},{"$error":"#REF!"}]
[null,null,null,{"$f":"IF(#REF!=$E$1,IF(#REF!=$G$1,#REF!,NA()),NA())","v":{"$error":"#REF!"}},{"$f":"IF(#REF!=$E$1,IF(#REF!=$G$1,#REF!,NA()),NA())","v":{"$error":"#REF!"}},{"$f":"IF(#REF!=$E$1,IF(#REF!=$G$1,IF(#REF!=\"\",NA(),#REF!),NA()),NA())","v":{"$error":"#REF!"}},{"$f":"IF(#REF!=$E$1,IF(#REF!=$G$1,IF(#REF!=\"\",NA(),#REF!),NA()),NA())","v":{"$error":"#REF!"}},{"$error":"#REF!"},{"$error":"#REF!"}]
[null,null,null,{"$f":"IF(#REF!=$E$1,IF(#REF!=$G$1,#REF!,NA()),NA())","v":{"$error":"#REF!"}},{"$f":"IF(#REF!=$E$1,IF(#REF!=$G$1,#REF!,NA()),NA())","v":{"$error":"#REF!"}},{"$f":"IF(#REF!=$E$1,IF(#REF!=$G$1,IF(#REF!=\"\",NA(),#REF!),NA()),NA())","v":{"$error":"#REF!"}},{"$f":"IF(#REF!=$E$1,IF(#REF!=$G$1,IF(#REF!=\"\",NA(),#REF!),NA()),NA())","v":{"$error":"#REF!"}},{"$error":"#REF!"},{"$error":"#REF!"}]
[null,null,null,{"$f":"IF(#REF!=$E$1,IF(#REF!=$G$1,#REF!,NA()),NA())","v":{"$error":"#REF!"}},{"$f":"IF(#REF!=$E$1,IF(#REF!=$G$1,#REF!,NA()),NA())","v":{"$error":"#REF!"}},{"$f":"IF(#REF!=$E$1,IF(#REF!=$G$1,IF(#REF!=\"\",NA(),#REF!),NA()),NA())","v":{"$error":"#REF!"}},{"$f":"IF(#REF!=$E$1,IF(#REF!=$G$1,IF(#REF!=\"\",NA(),#REF!),NA()),NA())","v":{"$error":"#REF!"}},{"$error":"#REF!"},{"$error":"#REF!"}]
[null,null,null,{"$f":"IF(#REF!=$E$1,IF(#REF!=$G$1,#REF!,NA()),NA())","v":{"$error":"#REF!"}},{"$f":"IF(#REF!=$E$1,IF(#REF!=$G$1,#REF!,NA()),NA())","v":{"$error":"#REF!"}},{"$f":"IF(#REF!=$E$1,IF(#REF!=$G$1,IF(#REF!=\"\",NA(),#REF!),NA()),NA())","v":{"$error":"#REF!"}},{"$f":"IF(#REF!=$E$1,IF(#REF!=$G$1,IF(#REF!=\"\",NA(),#REF!),NA()),NA())","v":{"$error":"#REF!"}},{"$error":"#REF!"},{"$error":"#REF!"}]
[null,null,null,{"$f":"IF(#REF!=$E$1,IF(#REF!=$G$1,#REF!,NA()),NA())","v":{"$error":"#REF!"}},{"$f":"IF(#REF!=$E$1,IF(#REF!=$G$1,#REF!,NA()),NA())","v":{"$error":"#REF!"}},{"$f":"IF(#REF!=$E$1,IF(#REF!=$G$1,IF(#REF!=\"\",NA(),#REF!),NA()),NA())","v":{"$error":"#REF!"}},{"$f":"IF(#REF!=$E$1,IF(#REF!=$G$1,IF(#REF!=\"\",NA(),#REF!),NA()),NA())","v":{"$error":"#REF!"}},{"$error":"#REF!"},{"$error":"#REF!"}]
[null,null,null,{"$f":"IF(#REF!=$E$1,IF(#REF!=$G$1,#REF!,NA()),NA())","v":{"$error":"#REF!"}},{"$f":"IF(#REF!=$E$1,IF(#REF!=$G$1,#REF!,NA()),NA())","v":{"$error":"#REF!"}},{"$f":"IF(#REF!=$E$1,IF(#REF!=$G$1,IF(#REF!=\"\",NA(),#REF!),NA()),NA())","v":{"$error":"#REF!"}},{"$f":"IF(#REF!=$E$1,IF(#REF!=$G$1,IF(#REF!=\"\",NA(),#REF!),NA()),NA())","v":{"$error":"#REF!"}},{"$error":"#REF!"},{"$error":"#REF!"}]
[null,null,null,{"$f":"IF(#REF!=$E$1,IF(#REF!=$G$1,#REF!,NA()),NA())","v":{"$error":"#REF!"}},{"$f":"IF(#REF!=$E$1,IF(#REF!=$G$1,#REF!,NA()),NA())","v":{"$error":"#REF!"}},{"$f":"IF(#REF!=$E$1,IF(#REF!=$G$1,IF(#REF!=\"\",NA(),#REF!),NA()),NA())","v":{"$error":"#REF!"}},{"$f":"IF(#REF!=$E$1,IF(#REF!=$G$1,IF(#REF!=\"\",NA(),#REF!),NA()),NA())","v":{"$error":"#REF!"}},{"$error":"#REF!"},{"$error":"#REF!"}]
[null,null,null,{"$f":"IF(#REF!=$E$1,IF(#REF!=$G$1,#REF!,NA()),NA())","v":{"$error":"#REF!"}},{"$f":"IF(#REF!=$E$1,IF(#REF!=$G$1,#REF!,NA()),NA())","v":{"$error":"#REF!"}},{"$f":"IF(#REF!=$E$1,IF(#REF!=$G$1,IF(#REF!=\"\",NA(),#REF!),NA()),NA())","v":{"$error":"#REF!"}},{"$f":"IF(#REF!=$E$1,IF(#REF!=$G$1,IF(#REF!=\"\",NA(),#REF!),NA()),NA())","v":{"$error":"#REF!"}},{"$error":"#REF!"},{"$error":"#REF!"}]
[null,null,null,{"$f":"IF(#REF!=$E$1,IF(#REF!=$G$1,#REF!,NA()),NA())","v":{"$error":"#REF!"}},{"$f":"IF(#REF!=$E$1,IF(#REF!=$G$1,#REF!,NA()),NA())","v":{"$error":"#REF!"}},{"$f":"IF(#REF!=$E$1,IF(#REF!=$G$1,IF(#REF!=\"\",NA(),#REF!),NA()),NA())","v":{"$error":"#REF!"}},{"$f":"IF(#REF!=$E$1,IF(#REF!=$G$1,IF(#REF!=\"\",NA(),#REF!),NA()),NA())","v":{"$error":"#REF!"}},{"$error":"#REF!"},{"$error":"#REF!"}]
[null,null,null,{"$f":"IF(#REF!=$E$1,IF(#REF!=$G$1,#REF!,NA()),NA())","v":{"$error":"#REF!"}},{"$f":"IF(#REF!=$E$1,IF(#REF!=$G$1,#REF!,NA()),NA())","v":{"$error":"#REF!"}},{"$f":"IF(#REF!=$E$1,IF(#REF!=$G$1,IF(#REF!=\"\",NA(),#REF!),NA()),NA())","v":{"$error":"#REF!"}},{"$f":"IF(#REF!=$E$1,IF(#REF!=$G$1,IF(#REF!=\"\",NA(),#REF!),NA()),NA())","v":{"$error":"#REF!"}},{"$error":"#REF!"},{"$error":"#REF!"}]
[null,null,null,{"$f":"IF(#REF!=$E$1,IF(#REF!=$G$1,#REF!,NA()),NA())","v":{"$error":"#REF!"}},{"$f":"IF(#REF!=$E$1,IF(#REF!=$G$1,#REF!,NA()),NA())","v":{"$error":"#REF!"}},{"$f":"IF(#REF!=$E$1,IF(#REF!=$G$1,IF(#REF!=\"\",NA(),#REF!),NA()),NA())","v":{"$error":"#REF!"}},{"$f":"IF(#REF!=$E$1,IF(#REF!=$G$1,IF(#REF!=\"\",NA(),#REF!),NA()),NA())","v":{"$error":"#REF!"}},{"$error":"#REF!"},{"$error":"#REF!"}]
[null,null,null,{"$f":"IF(#REF!=$E$1,IF(#REF!=$G$1,#REF!,NA()),NA())","v":{"$error":"#REF!"}},{"$f":"IF(#REF!=$E$1,IF(#REF!=$G$1,#REF!,NA()),NA())","v":{"$error":"#REF!"}},{"$f":"IF(#REF!=$E$1,IF(#REF!=$G$1,IF(#REF!=\"\",NA(),#REF!),NA()),NA())","v":{"$error":"#REF!"}},{"$f":"IF(#REF!=$E$1,IF(#REF!=$G$1,IF(#REF!=\"\",NA(),#REF!),NA()),NA())","v":{"$error":"#REF!"}},{"$f":"IF(AND(ISNUMBER(G388),F388=\"-\"),0,F388)","v":{"$error":"#REF!"}},{"$f":"IF(AND(ISNUMBER(F388),G388=\"-\"),0,G388)","v":{"$error":"#REF!"}}]
[null,null,null,{"$f":"IF(#REF!=$E$1,IF(#REF!=$G$1,#REF!,NA()),NA())","v":{"$error":"#REF!"}},{"$f":"IF(#REF!=$E$1,IF(#REF!=$G$1,#REF!,NA()),NA())","v":{"$error":"#REF!"}},{"$f":"IF(#REF!=$E$1,IF(#REF!=$G$1,IF(#REF!=\"\",NA(),#REF!),NA()),NA())","v":{"$error":"#REF!"}},{"$f":"IF(#REF!=$E$1,IF(#REF!=$G$1,IF(#REF!=\"\",NA(),#REF!),NA()),NA())","v":{"$error":"#REF!"}},{"$error":"#REF!"},{"$error":"#REF!"}]
[null,null,null,{"$f":"IF(#REF!=$E$1,IF(#REF!=$G$1,#REF!,NA()),NA())","v":{"$error":"#REF!"}},{"$f":"IF(#REF!=$E$1,IF(#REF!=$G$1,#REF!,NA()),NA())","v":{"$error":"#REF!"}},{"$f":"IF(#REF!=$E$1,IF(#REF!=$G$1,IF(#REF!=\"\",NA(),#REF!),NA()),NA())","v":{"$error":"#REF!"}},{"$f":"IF(#REF!=$E$1,IF(#REF!=$G$1,IF(#REF!=\"\",NA(),#REF!),NA()),NA())","v":{"$error":"#REF!"}},{"$error":"#REF!"},{"$error":"#REF!"}]
[null,null,null,{"$f":"IF(#REF!=$E$1,IF(#REF!=$G$1,#REF!,NA()),NA())","v":{"$error":"#REF!"}},{"$f":"IF(#REF!=$E$1,IF(#REF!=$G$1,#REF!,NA()),NA())","v":{"$error":"#REF!"}},{"$f":"IF(#REF!=$E$1,IF(#REF!=$G$1,IF(#REF!=\"\",NA(),#REF!),NA()),NA())","v":{"$error":"#REF!"}},{"$f":"IF(#REF!=$E$1,IF(#REF!=$G$1,IF(#REF!=\"\",NA(),#REF!),NA()),NA())","v":{"$error":"#REF!"}},{"$error":"#REF!"},{"$error":"#REF!"}]
[null,null,null,{"$f":"IF(#REF!=$E$1,IF(#REF!=$G$1,#REF!,NA()),NA())","v":{"$error":"#REF!"}},{"$f":"IF(#REF!=$E$1,IF(#REF!=$G$1,#REF!,NA()),NA())","v":{"$error":"#REF!"}},{"$f":"IF(#REF!=$E$1,IF(#REF!=$G$1,IF(#REF!=\"\",NA(),#REF!),NA()),NA())","v":{"$error":"#REF!"}},{"$f":"IF(#REF!=$E$1,IF(#REF!=$G$1,IF(#REF!=\"\",NA(),#REF!),NA()),NA())","v":{"$error":"#REF!"}},{"$error":"#REF!"},{"$error":"#REF!"}]
[null,null,null,{"$f":"IF(#REF!=$E$1,IF(#REF!=$G$1,#REF!,NA()),NA())","v":{"$error":"#REF!"}},{"$f":"IF(#REF!=$E$1,IF(#REF!=$G$1,#REF!,NA()),NA())","v":{"$error":"#REF!"}},{"$f":"IF(#REF!=$E$1,IF(#REF!=$G$1,IF(#REF!=\"\",NA(),#REF!),NA()),NA())","v":{"$error":"#REF!"}},{"$f":"IF(#REF!=$E$1,IF(#REF!=$G$1,IF(#REF!=\"\",NA(),#REF!),NA()),NA())","v":{"$error":"#REF!"}},{"$error":"#REF!"},{"$error":"#REF!"}]
[null,null,null,{"$f":"IF(#REF!=$E$1,IF(#REF!=$G$1,#REF!,NA()),NA())","v":{"$error":"#REF!"}},{"$f":"IF(#REF!=$E$1,IF(#REF!=$G$1,#REF!,NA()),NA())","v":{"$error":"#REF!"}},{"$f":"IF(#REF!=$E$1,IF(#REF!=$G$1,IF(#REF!=\"\",NA(),#REF!),NA()),NA())","v":{"$error":"#REF!"}},{"$f":"IF(#REF!=$E$1,IF(#REF!=$G$1,IF(#REF!=\"\",NA(),#REF!),NA()),NA())","v":{"$error":"#REF!"}},{"$error":"#REF!"},{"$error":"#REF!"}]
[null,null,null,{"$f":"IF(#REF!=$E$1,IF(#REF!=$G$1,#REF!,NA()),NA())","v":{"$error":"#REF!"}},{"$f":"IF(#REF!=$E$1,IF(#REF!=$G$1,#REF!,NA()),NA())","v":{"$error":"#REF!"}},{"$f":"IF(#REF!=$E$1,IF(#REF!=$G$1,IF(#REF!=\"\",NA(),#REF!),NA()),NA())","v":{"$error":"#REF!"}},{"$f":"IF(#REF!=$E$1,IF(#REF!=$G$1,IF(#REF!=\"\",NA(),#REF!),NA()),NA())","v":{"$error":"#REF!"}},{"$error":"#REF!"},{"$error":"#REF!"}]
[null,null,null,{"$f":"IF(#REF!=$E$1,IF(#REF!=$G$1,#REF!,NA()),NA())","v":{"$error":"#REF!"}},{"$f":"IF(#REF!=$E$1,IF(#REF!=$G$1,#REF!,NA()),NA())","v":{"$error":"#REF!"}},{"$f":"IF(#REF!=$E$1,IF(#REF!=$G$1,IF(#REF!=\"\",NA(),#REF!),NA()),NA())","v":{"$error":"#REF!"}},{"$f":"IF(#REF!=$E$1,IF(#REF!=$G$1,IF(#REF!=\"\",NA(),#REF!),NA()),NA())","v":{"$error":"#REF!"}},{"$error":"#REF!"},{"$error":"#REF!"}]
[null,null,null,{"$f":"IF(#REF!=$E$1,IF(#REF!=$G$1,#REF!,NA()),NA())","v":{"$error":"#REF!"}},{"$f":"IF(#REF!=$E$1,IF(#REF!=$G$1,#REF!,NA()),NA())","v":{"$error":"#REF!"}},{"$f":"IF(#REF!=$E$1,IF(#REF!=$G$1,IF(#REF!=\"\",NA(),#REF!),NA()),NA())","v":{"$error":"#REF!"}},{"$f":"IF(#REF!=$E$1,IF(#REF!=$G$1,IF(#REF!=\"\",NA(),#REF!),NA()),NA())","v":{"$error":"#REF!"}},{"$error":"#REF!"},{"$error":"#REF!"}]
[null,null,null,{"$f":"IF(#REF!=$E$1,IF(#REF!=$G$1,#REF!,NA()),NA())","v":{"$error":"#REF!"}},{"$f":"IF(#REF!=$E$1,IF(#REF!=$G$1,#REF!,NA()),NA())","v":{"$error":"#REF!"}},{"$f":"IF(#REF!=$E$1,IF(#REF!=$G$1,IF(#REF!=\"\",NA(),#REF!),NA()),NA())","v":{"$error":"#REF!"}},{"$f":"IF(#REF!=$E$1,IF(#REF!=$G$1,IF(#REF!=\"\",NA(),#REF!),NA()),NA())","v":{"$error":"#REF!"}},{"$error":"#REF!"},{"$error":"#REF!"}]
[null,null,null,{"$f":"IF(#REF!=$E$1,IF(#REF!=$G$1,#REF!,NA()),NA())","v":{"$error":"#REF!"}},{"$f":"IF(#REF!=$E$1,IF(#REF!=$G$1,#REF!,NA()),NA())","v":{"$error":"#REF!"}},{"$f":"IF(#REF!=$E$1,IF(#REF!=$G$1,IF(#REF!=\"\",NA(),#REF!),NA()),NA())","v":{"$error":"#REF!"}},{"$f":"IF(#REF!=$E$1,IF(#REF!=$G$1,IF(#REF!=\"\",NA(),#REF!),NA()),NA())","v":{"$error":"#REF!"}},{"$error":"#REF!"},{"$error":"#REF!"}]
[null,null,null,{"$f":"IF(#REF!=$E$1,IF(#REF!=$G$1,#REF!,NA()),NA())","v":{"$error":"#REF!"}},{"$f":"IF(#REF!=$E$1,IF(#REF!=$G$1,#REF!,NA()),NA())","v":{"$error":"#REF!"}},{"$f":"IF(#REF!=$E$1,IF(#REF!=$G$1,IF(#REF!=\"\",NA(),#REF!),NA()),NA())","v":{"$error":"#REF!"}},{"$f":"IF(#REF!=$E$1,IF(#REF!=$G$1,IF(#REF!=\"\",NA(),#REF!),NA()),NA())","v":{"$error":"#REF!"}},{"$error":"#REF!"},{"$error":"#REF!"}]
[null,null,null,{"$f":"IF(#REF!=$E$1,IF(#REF!=$G$1,#REF!,NA()),NA())","v":{"$error":"#REF!"}},{"$f":"IF(#REF!=$E$1,IF(#REF!=$G$1,#REF!,NA()),NA())","v":{"$error":"#REF!"}},{"$f":"IF(#REF!=$E$1,IF(#REF!=$G$1,IF(#REF!=\"\",NA(),#REF!),NA()),NA())","v":{"$error":"#REF!"}},{"$f":"IF(#REF!=$E$1,IF(#REF!=$G$1,IF(#REF!=\"\",NA(),#REF!),NA()),NA())","v":{"$error":"#REF!"}},{"$error":"#REF!"},{"$error":"#REF!"}]
[null,null,null,{"$f":"IF(#REF!=$E$1,IF(#REF!=$G$1,#REF!,NA()),NA())","v":{"$error":"#REF!"}},{"$f":"IF(#REF!=$E$1,IF(#REF!=$G$1,#REF!,NA()),NA())","v":{"$error":"#REF!"}},{"$f":"IF(#REF!=$E$1,IF(#REF!=$G$1,IF(#REF!=\"\",NA(),#REF!),NA()),NA())","v":{"$error":"#REF!"}},{"$f":"IF(#REF!=$E$1,IF(#REF!=$G$1,IF(#REF!=\"\",NA(),#REF!),NA()),NA())","v":{"$error":"#REF!"}},{"$error":"#REF!"},{"$error":"#REF!"}]
[null,null,null,{"$f":"IF(#REF!=$E$1,IF(#REF!=$G$1,#REF!,NA()),NA())","v":{"$error":"#REF!"}},{"$f":"IF(#REF!=$E$1,IF(#REF!=$G$1,#REF!,NA()),NA())","v":{"$error":"#REF!"}},{"$f":"IF(#REF!=$E$1,IF(#REF!=$G$1,IF(#REF!=\"\",NA(),#REF!),NA()),NA())","v":{"$error":"#REF!"}},{"$f":"IF(#REF!=$E$1,IF(#REF!=$G$1,IF(#REF!=\"\",NA(),#REF!),NA()),NA())","v":{"$error":"#REF!"}},{"$error":"#REF!"},{"$error":"#REF!"}]
[null,null,null,{"$f":"IF(#REF!=$E$1,IF(#REF!=$G$1,#REF!,NA()),NA())","v":{"$error":"#REF!"}},{"$f":"IF(#REF!=$E$1,IF(#REF!=$G$1,#REF!,NA()),NA())","v":{"$error":"#REF!"}},{"$f":"IF(#REF!=$E$1,IF(#REF!=$G$1,IF(#REF!=\"\",NA(),#REF!),NA()),NA())","v":{"$error":"#REF!"}},{"$f":"IF(#REF!=$E$1,IF(#REF!=$G$1,IF(#REF!=\"\",NA(),#REF!),NA()),NA())","v":{"$error":"#REF!"}},{"$error":"#REF!"},{"$error":"#REF!"}]
[null,null,null,{"$f":"IF(#REF!=$E$1,IF(#REF!=$G$1,#REF!,NA()),NA())","v":{"$error":"#REF!"}},{"$f":"IF(#REF!=$E$1,IF(#REF!=$G$1,#REF!,NA()),NA())","v":{"$error":"#REF!"}},{"$f":"IF(#REF!=$E$1,IF(#REF!=$G$1,IF(#REF!=\"\",NA(),#REF!),NA()),NA())","v":{"$error":"#REF!"}},{"$f":"IF(#REF!=$E$1,IF(#REF!=$G$1,IF(#REF!=\"\",NA(),#REF!),NA()),NA())","v":{"$error":"#REF!"}},{"$error":"#REF!"},{"$error":"#REF!"}]
[null,null,null,{"$f":"IF(#REF!=$E$1,IF(#REF!=$G$1,#REF!,NA()),NA())","v":{"$error":"#REF!"}},{"$f":"IF(#REF!=$E$1,IF(#REF!=$G$1,#REF!,NA()),NA())","v":{"$error":"#REF!"}},{"$f":"IF(#REF!=$E$1,IF(#REF!=$G$1,IF(#REF!=\"\",NA(),#REF!),NA()),NA())","v":{"$error":"#REF!"}},{"$f":"IF(#REF!=$E$1,IF(#REF!=$G$1,IF(#REF!=\"\",NA(),#REF!),NA()),NA())","v":{"$error":"#REF!"}},{"$error":"#REF!"},{"$error":"#REF!"}]
[null,null,null,{"$f":"IF(#REF!=$E$1,IF(#REF!=$G$1,#REF!,NA()),NA())","v":{"$error":"#REF!"}},{"$f":"IF(#REF!=$E$1,IF(#REF!=$G$1,#REF!,NA()),NA())","v":{"$error":"#REF!"}},{"$f":"IF(#REF!=$E$1,IF(#REF!=$G$1,IF(#REF!=\"\",NA(),#REF!),NA()),NA())","v":{"$error":"#REF!"}},{"$f":"IF(#REF!=$E$1,IF(#REF!=$G$1,IF(#REF!=\"\",NA(),#REF!),NA()),NA())","v":{"$error":"#REF!"}},{"$error":"#REF!"},{"$error":"#REF!"}]
[null,null,null,{"$f":"IF(#REF!=$E$1,IF(#REF!=$G$1,#REF!,NA()),NA())","v":{"$error":"#REF!"}},{"$f":"IF(#REF!=$E$1,IF(#REF!=$G$1,#REF!,NA()),NA())","v":{"$error":"#REF!"}},{"$f":"IF(#REF!=$E$1,IF(#REF!=$G$1,IF(#REF!=\"\",NA(),#REF!),NA()),NA())","v":{"$error":"#REF!"}},{"$f":"IF(#REF!=$E$1,IF(#REF!=$G$1,IF(#REF!=\"\",NA(),#REF!),NA()),NA())","v":{"$error":"#REF!"}},{"$error":"#REF!"},{"$error":"#REF!"}]
[null,null,null,{"$f":"IF(#REF!=$E$1,IF(#REF!=$G$1,#REF!,NA()),NA())","v":{"$error":"#REF!"}},{"$f":"IF(#REF!=$E$1,IF(#REF!=$G$1,#REF!,NA()),NA())","v":{"$error":"#REF!"}},{"$f":"IF(#REF!=$E$1,IF(#REF!=$G$1,IF(#REF!=\"\",NA(),#REF!),NA()),NA())","v":{"$error":"#REF!"}},{"$f":"IF(#REF!=$E$1,IF(#REF!=$G$1,IF(#REF!=\"\",NA(),#REF!),NA()),NA())","v":{"$error":"#REF!"}},{"$error":"#REF!"},{"$error":"#REF!"}]
[null,null,null,{"$f":"IF(#REF!=$E$1,IF(#REF!=$G$1,#REF!,NA()),NA())","v":{"$error":"#REF!"}},{"$f":"IF(#REF!=$E$1,IF(#REF!=$G$1,#REF!,NA()),NA())","v":{"$error":"#REF!"}},{"$f":"IF(#REF!=$E$1,IF(#REF!=$G$1,IF(#REF!=\"\",NA(),#REF!),NA()),NA())","v":{"$error":"#REF!"}},{"$f":"IF(#REF!=$E$1,IF(#REF!=$G$1,IF(#REF!=\"\",NA(),#REF!),NA()),NA())","v":{"$error":"#REF!"}},{"$error":"#REF!"},{"$error":"#REF!"}]
[null,null,null,{"$f":"IF(#REF!=$E$1,IF(#REF!=$G$1,#REF!,NA()),NA())","v":{"$error":"#REF!"}},{"$f":"IF(#REF!=$E$1,IF(#REF!=$G$1,#REF!,NA()),NA())","v":{"$error":"#REF!"}},{"$f":"IF(#REF!=$E$1,IF(#REF!=$G$1,IF(#REF!=\"\",NA(),#REF!),NA()),NA())","v":{"$error":"#REF!"}},{"$f":"IF(#REF!=$E$1,IF(#REF!=$G$1,IF(#REF!=\"\",NA(),#REF!),NA()),NA())","v":{"$error":"#REF!"}},{"$error":"#REF!"},{"$error":"#REF!"}]
[null,null,null,{"$f":"IF(#REF!=$E$1,IF(#REF!=$G$1,#REF!,NA()),NA())","v":{"$error":"#REF!"}},{"$f":"IF(#REF!=$E$1,IF(#REF!=$G$1,#REF!,NA()),NA())","v":{"$error":"#REF!"}},{"$f":"IF(#REF!=$E$1,IF(#REF!=$G$1,IF(#REF!=\"\",NA(),#REF!),NA()),NA())","v":{"$error":"#REF!"}},{"$f":"IF(#REF!=$E$1,IF(#REF!=$G$1,IF(#REF!=\"\",NA(),#REF!),NA()),NA())","v":{"$error":"#REF!"}},{"$error":"#REF!"},{"$error":"#REF!"}]
[null,null,null,{"$f":"IF(#REF!=$E$1,IF(#REF!=$G$1,#REF!,NA()),NA())","v":{"$error":"#REF!"}},{"$f":"IF(#REF!=$E$1,IF(#REF!=$G$1,#REF!,NA()),NA())","v":{"$error":"#REF!"}},{"$f":"IF(#REF!=$E$1,IF(#REF!=$G$1,IF(#REF!=\"\",NA(),#REF!),NA()),NA())","v":{"$error":"#REF!"}},{"$f":"IF(#REF!=$E$1,IF(#REF!=$G$1,IF(#REF!=\"\",NA(),#REF!),NA()),NA())","v":{"$error":"#REF!"}},{"$error":"#REF!"},{"$error":"#REF!"}]
[null,null,null,{"$f":"IF(#REF!=$E$1,IF(#REF!=$G$1,#REF!,NA()),NA())","v":{"$error":"#REF!"}},{"$f":"IF(#REF!=$E$1,IF(#REF!=$G$1,#REF!,NA()),NA())","v":{"$error":"#REF!"}},{"$f":"IF(#REF!=$E$1,IF(#REF!=$G$1,IF(#REF!=\"\",NA(),#REF!),NA()),NA())","v":{"$error":"#REF!"}},{"$f":"IF(#REF!=$E$1,IF(#REF!=$G$1,IF(#REF!=\"\",NA(),#REF!),NA()),NA())","v":{"$error":"#REF!"}},{"$error":"#REF!"},{"$error":"#REF!"}]
[null,null,null,{"$f":"IF(#REF!=$E$1,IF(#REF!=$G$1,#REF!,NA()),NA())","v":{"$error":"#REF!"}},{"$f":"IF(#REF!=$E$1,IF(#REF!=$G$1,#REF!,NA()),NA())","v":{"$error":"#REF!"}},{"$f":"IF(#REF!=$E$1,IF(#REF!=$G$1,IF(#REF!=\"\",NA(),#REF!),NA()),NA())","v":{"$error":"#REF!"}},{"$f":"IF(#REF!=$E$1,IF(#REF!=$G$1,IF(#REF!=\"\",NA(),#REF!),NA()),NA())","v":{"$error":"#REF!"}},{"$error":"#REF!"},{"$error":"#REF!"}]
[null,null,null,{"$f":"IF(#REF!=$E$1,IF(#REF!=$G$1,#REF!,NA()),NA())","v":{"$error":"#REF!"}},{"$f":"IF(#REF!=$E$1,IF(#REF!=$G$1,#REF!,NA()),NA())","v":{"$error":"#REF!"}},{"$f":"IF(#REF!=$E$1,IF(#REF!=$G$1,IF(#REF!=\"\",NA(),#REF!),NA()),NA())","v":{"$error":"#REF!"}},{"$f":"IF(#REF!=$E$1,IF(#REF!=$G$1,IF(#REF!=\"\",NA(),#REF!),NA()),NA())","v":{"$error":"#REF!"}},{"$error":"#REF!"},{"$error":"#REF!"}]
[null,null,null,{"$f":"IF(#REF!=$E$1,IF(#REF!=$G$1,#REF!,NA()),NA())","v":{"$error":"#REF!"}},{"$f":"IF(#REF!=$E$1,IF(#REF!=$G$1,#REF!,NA()),NA())","v":{"$error":"#REF!"}},{"$f":"IF(#REF!=$E$1,IF(#REF!=$G$1,IF(#REF!=\"\",NA(),#REF!),NA()),NA())","v":{"$error":"#REF!"}},{"$f":"IF(#REF!=$E$1,IF(#REF!=$G$1,IF(#REF!=\"\",NA(),#REF!),NA()),NA())","v":{"$error":"#REF!"}},{"$error":"#REF!"},{"$error":"#REF!"}]
[null,null,null,{"$f":"IF(#REF!=$E$1,IF(#REF!=$G$1,#REF!,NA()),NA())","v":{"$error":"#REF!"}},{"$f":"IF(#REF!=$E$1,IF(#REF!=$G$1,#REF!,NA()),NA())","v":{"$error":"#REF!"}},{"$f":"IF(#REF!=$E$1,IF(#REF!=$G$1,IF(#REF!=\"\",NA(),#REF!),NA()),NA())","v":{"$error":"#REF!"}},{"$f":"IF(#REF!=$E$1,IF(#REF!=$G$1,IF(#REF!=\"\",NA(),#REF!),NA()),NA())","v":{"$error":"#REF!"}},{"$error":"#REF!"},{"$error":"#REF!"}]
[null,null,null,{"$f":"IF(#REF!=$E$1,IF(#REF!=$G$1,#REF!,NA()),NA())","v":{"$error":"#REF!"}},{"$f":"IF(#REF!=$E$1,IF(#REF!=$G$1,#REF!,NA()),NA())","v":{"$error":"#REF!"}},{"$f":"IF(#REF!=$E$1,IF(#REF!=$G$1,IF(#REF!=\"\",NA(),#REF!),NA()),NA())","v":{"$error":"#REF!"}},{"$f":"IF(#REF!=$E$1,IF(#REF!=$G$1,IF(#REF!=\"\",NA(),#REF!),NA()),NA())","v":{"$error":"#REF!"}},{"$error":"#REF!"},{"$error":"#REF!"}]
[null,null,null,{"$f":"IF(#REF!=$E$1,IF(#REF!=$G$1,#REF!,NA()),NA())","v":{"$error":"#REF!"}},{"$f":"IF(#REF!=$E$1,IF(#REF!=$G$1,#REF!,NA()),NA())","v":{"$error":"#REF!"}},{"$f":"IF(#REF!=$E$1,IF(#REF!=$G$1,IF(#REF!=\"\",NA(),#REF!),NA()),NA())","v":{"$error":"#REF!"}},{"$f":"IF(#REF!=$E$1,IF(#REF!=$G$1,IF(#REF!=\"\",NA(),#REF!),NA()),NA())","v":{"$error":"#REF!"}},{"$error":"#REF!"},{"$error":"#REF!"}]
[null,null,null,{"$f":"IF(#REF!=$E$1,IF(#REF!=$G$1,#REF!,NA()),NA())","v":{"$error":"#REF!"}},{"$f":"IF(#REF!=$E$1,IF(#REF!=$G$1,#REF!,NA()),NA())","v":{"$error":"#REF!"}},{"$f":"IF(#REF!=$E$1,IF(#REF!=$G$1,IF(#REF!=\"\",NA(),#REF!),NA()),NA())","v":{"$error":"#REF!"}},{"$f":"IF(#REF!=$E$1,IF(#REF!=$G$1,IF(#REF!=\"\",NA(),#REF!),NA()),NA())","v":{"$error":"#REF!"}},{"$error":"#REF!"},{"$error":"#REF!"}]
[null,null,null,{"$f":"IF(#REF!=$E$1,IF(#REF!=$G$1,#REF!,NA()),NA())","v":{"$error":"#REF!"}},{"$f":"IF(#REF!=$E$1,IF(#REF!=$G$1,#REF!,NA()),NA())","v":{"$error":"#REF!"}},{"$f":"IF(#REF!=$E$1,IF(#REF!=$G$1,IF(#REF!=\"\",NA(),#REF!),NA()),NA())","v":{"$error":"#REF!"}},{"$f":"IF(#REF!=$E$1,IF(#REF!=$G$1,IF(#REF!=\"\",NA(),#REF!),NA()),NA())","v":{"$error":"#REF!"}},{"$error":"#REF!"},{"$error":"#REF!"}]
[null,null,null,{"$f":"IF(#REF!=$E$1,IF(#REF!=$G$1,#REF!,NA()),NA())","v":{"$error":"#REF!"}},{"$f":"IF(#REF!=$E$1,IF(#REF!=$G$1,#REF!,NA()),NA())","v":{"$error":"#REF!"}},{"$f":"IF(#REF!=$E$1,IF(#REF!=$G$1,IF(#REF!=\"\",NA(),#REF!),NA()),NA())","v":{"$error":"#REF!"}},{"$f":"IF(#REF!=$E$1,IF(#REF!=$G$1,IF(#REF!=\"\",NA(),#REF!),NA()),NA())","v":{"$error":"#REF!"}},{"$error":"#REF!"},{"$error":"#REF!"}]
[null,null,null,{"$f":"IF(#REF!=$E$1,IF(#REF!=$G$1,#REF!,NA()),NA())","v":{"$error":"#REF!"}},{"$f":"IF(#REF!=$E$1,IF(#REF!=$G$1,#REF!,NA()),NA())","v":{"$error":"#REF!"}},{"$f":"IF(#REF!=$E$1,IF(#REF!=$G$1,IF(#REF!=\"\",NA(),#REF!),NA()),NA())","v":{"$error":"#REF!"}},{"$f":"IF(#REF!=$E$1,IF(#REF!=$G$1,IF(#REF!=\"\",NA(),#REF!),NA()),NA())","v":{"$error":"#REF!"}},{"$error":"#REF!"},{"$error":"#REF!"}]
[null,null,null,{"$f":"IF(#REF!=$E$1,IF(#REF!=$G$1,#REF!,NA()),NA())","v":{"$error":"#REF!"}},{"$f":"IF(#REF!=$E$1,IF(#REF!=$G$1,#REF!,NA()),NA())","v":{"$error":"#REF!"}},{"$f":"IF(#REF!=$E$1,IF(#REF!=$G$1,IF(#REF!=\"\",NA(),#REF!),NA()),NA())","v":{"$error":"#REF!"}},{"$f":"IF(#REF!=$E$1,IF(#REF!=$G$1,IF(#REF!=\"\",NA(),#REF!),NA()),NA())","v":{"$error":"#REF!"}},{"$error":"#REF!"},{"$error":"#REF!"}]
[null,null,null,{"$f":"IF(#REF!=$E$1,IF(#REF!=$G$1,#REF!,NA()),NA())","v":{"$error":"#REF!"}},{"$f":"IF(#REF!=$E$1,IF(#REF!=$G$1,#REF!,NA()),NA())","v":{"$error":"#REF!"}},{"$f":"IF(#REF!=$E$1,IF(#REF!=$G$1,IF(#REF!=\"\",NA(),#REF!),NA()),NA())","v":{"$error":"#REF!"}},{"$f":"IF(#REF!=$E$1,IF(#REF!=$G$1,IF(#REF!=\"\",NA(),#REF!),NA()),NA())","v":{"$error":"#REF!"}},{"$error":"#REF!"},{"$error":"#REF!"}]
[null,null,null,{"$f":"IF(#REF!=$E$1,IF(#REF!=$G$1,#REF!,NA()),NA())","v":{"$error":"#REF!"}},{"$f":"IF(#REF!=$E$1,IF(#REF!=$G$1,#REF!,NA()),NA())","v":{"$error":"#REF!"}},{"$f":"IF(#REF!=$E$1,IF(#REF!=$G$1,IF(#REF!=\"\",NA(),#REF!),NA()),NA())","v":{"$error":"#REF!"}},{"$f":"IF(#REF!=$E$1,IF(#REF!=$G$1,IF(#REF!=\"\",NA(),#REF!),NA()),NA())","v":{"$error":"#REF!"}},{"$error":"#REF!"},{"$error":"#REF!"}]
[null,null,null,{"$f":"IF(#REF!=$E$1,IF(#REF!=$G$1,#REF!,NA()),NA())","v":{"$error":"#REF!"}},{"$f":"IF(#REF!=$E$1,IF(#REF!=$G$1,#REF!,NA()),NA())","v":{"$error":"#REF!"}},{"$f":"IF(#REF!=$E$1,IF(#REF!=$G$1,IF(#REF!=\"\",NA(),#REF!),NA()),NA())","v":{"$error":"#REF!"}},{"$f":"IF(#REF!=$E$1,IF(#REF!=$G$1,IF(#REF!=\"\",NA(),#REF!),NA()),NA())","v":{"$error":"#REF!"}},{"$error":"#REF!"},{"$error":"#REF!"}]
[null,null,null,{"$f":"IF(#REF!=$E$1,IF(#REF!=$G$1,#REF!,NA()),NA())","v":{"$error":"#REF!"}},{"$f":"IF(#REF!=$E$1,IF(#REF!=$G$1,#REF!,NA()),NA())","v":{"$error":"#REF!"}},{"$f":"IF(#REF!=$E$1,IF(#REF!=$G$1,IF(#REF!=\"\",NA(),#REF!),NA()),NA())","v":{"$error":"#REF!"}},{"$f":"IF(#REF!=$E$1,IF(#REF!=$G$1,IF(#REF!=\"\",NA(),#REF!),NA()),NA())","v":{"$error":"#REF!"}},{"$error":"#REF!"},{"$error":"#REF!"}]
[null,null,null,{"$f":"IF(#REF!=$E$1,IF(#REF!=$G$1,#REF!,NA()),NA())","v":{"$error":"#REF!"}},{"$f":"IF(#REF!=$E$1,IF(#REF!=$G$1,#REF!,NA()),NA())","v":{"$error":"#REF!"}},{"$f":"IF(#REF!=$E$1,IF(#REF!=$G$1,IF(#REF!=\"\",NA(),#REF!),NA()),NA())","v":{"$error":"#REF!"}},{"$f":"IF(#REF!=$E$1,IF(#REF!=$G$1,IF(#REF!=\"\",NA(),#REF!),NA()),NA())","v":{"$error":"#REF!"}},{"$error":"#REF!"},{"$error":"#REF!"}]
[null,null,null,{"$f":"IF(#REF!=$E$1,IF(#REF!=$G$1,#REF!,NA()),NA())","v":{"$error":"#REF!"}},{"$f":"IF(#REF!=$E$1,IF(#REF!=$G$1,#REF!,NA()),NA())","v":{"$error":"#REF!"}},{"$f":"IF(#REF!=$E$1,IF(#REF!=$G$1,IF(#REF!=\"\",NA(),#REF!),NA()),NA())","v":{"$error":"#REF!"}},{"$f":"IF(#REF!=$E$1,IF(#REF!=$G$1,IF(#REF!=\"\",NA(),#REF!),NA()),NA())","v":{"$error":"#REF!"}},{"$error":"#REF!"},{"$error":"#REF!"}]
[null,null,null,{"$f":"IF(#REF!=$E$1,IF(#REF!=$G$1,#REF!,NA()),NA())","v":{"$error":"#REF!"}},{"$f":"IF(#REF!=$E$1,IF(#REF!=$G$1,#REF!,NA()),NA())","v":{"$error":"#REF!"}},{"$f":"IF(#REF!=$E$1,IF(#REF!=$G$1,IF(#REF!=\"\",NA(),#REF!),NA()),NA())","v":{"$error":"#REF!"}},{"$f":"IF(#REF!=$E$1,IF(#REF!=$G$1,IF(#REF!=\"\",NA(),#REF!),NA()),NA())","v":{"$error":"#REF!"}},{"$error":"#REF!"},{"$error":"#REF!"}]
[null,null,null,{"$f":"IF(#REF!=$E$1,IF(#REF!=$G$1,#REF!,NA()),NA())","v":{"$error":"#REF!"}},{"$f":"IF(#REF!=$E$1,IF(#REF!=$G$1,#REF!,NA()),NA())","v":{"$error":"#REF!"}},{"$f":"IF(#REF!=$E$1,IF(#REF!=$G$1,IF(#REF!=\"\",NA(),#REF!),NA()),NA())","v":{"$error":"#REF!"}},{"$f":"IF(#REF!=$E$1,IF(#REF!=$G$1,IF(#REF!=\"\",NA(),#REF!),NA()),NA())","v":{"$error":"#REF!"}},{"$error":"#REF!"},{"$error":"#REF!"}]
[null,null,null,{"$f":"IF(#REF!=$E$1,IF(#REF!=$G$1,#REF!,NA()),NA())","v":{"$error":"#REF!"}},{"$f":"IF(#REF!=$E$1,IF(#REF!=$G$1,#REF!,NA()),NA())","v":{"$error":"#REF!"}},{"$f":"IF(#REF!=$E$1,IF(#REF!=$G$1,IF(#REF!=\"\",NA(),#REF!),NA()),NA())","v":{"$error":"#REF!"}},{"$f":"IF(#REF!=$E$1,IF(#REF!=$G$1,IF(#REF!=\"\",NA(),#REF!),NA()),NA())","v":{"$error":"#REF!"}},{"$error":"#REF!"},{"$error":"#REF!"}]
[null,null,null,{"$f":"IF(#REF!=$E$1,IF(#REF!=$G$1,#REF!,NA()),NA())","v":{"$error":"#REF!"}},{"$f":"IF(#REF!=$E$1,IF(#REF!=$G$1,#REF!,NA()),NA())","v":{"$error":"#REF!"}},{"$f":"IF(#REF!=$E$1,IF(#REF!=$G$1,IF(#REF!=\"\",NA(),#REF!),NA()),NA())","v":{"$error":"#REF!"}},{"$f":"IF(#REF!=$E$1,IF(#REF!=$G$1,IF(#REF!=\"\",NA(),#REF!),NA()),NA())","v":{"$error":"#REF!"}},{"$error":"#REF!"},{"$error":"#REF!"}]
[null,null,null,{"$f":"IF(#REF!=$E$1,IF(#REF!=$G$1,#REF!,NA()),NA())","v":{"$error":"#REF!"}},{"$f":"IF(#REF!=$E$1,IF(#REF!=$G$1,#REF!,NA()),NA())","v":{"$error":"#REF!"}},{"$f":"IF(#REF!=$E$1,IF(#REF!=$G$1,IF(#REF!=\"\",NA(),#REF!),NA()),NA())","v":{"$error":"#REF!"}},{"$f":"IF(#REF!=$E$1,IF(#REF!=$G$1,IF(#REF!=\"\",NA(),#REF!),NA()),NA())","v":{"$error":"#REF!"}},{"$error":"#REF!"},{"$error":"#REF!"}]
[null,null,null,{"$f":"IF(#REF!=$E$1,IF(#REF!=$G$1,#REF!,NA()),NA())","v":{"$error":"#REF!"}},{"$f":"IF(#REF!=$E$1,IF(#REF!=$G$1,#REF!,NA()),NA())","v":{"$error":"#REF!"}},{"$f":"IF(#REF!=$E$1,IF(#REF!=$G$1,IF(#REF!=\"\",NA(),#REF!),NA()),NA())","v":{"$error":"#REF!"}},{"$f":"IF(#REF!=$E$1,IF(#REF!=$G$1,IF(#REF!=\"\",NA(),#REF!),NA()),NA())","v":{"$error":"#REF!"}},{"$error":"#REF!"},{"$error":"#REF!"}]
[null,null,null,{"$f":"IF(#REF!=$E$1,IF(#REF!=$G$1,#REF!,NA()),NA())","v":{"$error":"#REF!"}},{"$f":"IF(#REF!=$E$1,IF(#REF!=$G$1,#REF!,NA()),NA())","v":{"$error":"#REF!"}},{"$f":"IF(#REF!=$E$1,IF(#REF!=$G$1,IF(#REF!=\"\",NA(),#REF!),NA()),NA())","v":{"$error":"#REF!"}},{"$f":"IF(#REF!=$E$1,IF(#REF!=$G$1,IF(#REF!=\"\",NA(),#REF!),NA()),NA())","v":{"$error":"#REF!"}},{"$error":"#REF!"},{"$error":"#REF!"}]
[null,null,null,{"$f":"IF(#REF!=$E$1,IF(#REF!=$G$1,#REF!,NA()),NA())","v":{"$error":"#REF!"}},{"$f":"IF(#REF!=$E$1,IF(#REF!=$G$1,#REF!,NA()),NA())","v":{"$error":"#REF!"}},{"$f":"IF(#REF!=$E$1,IF(#REF!=$G$1,IF(#REF!=\"\",NA(),#REF!),NA()),NA())","v":{"$error":"#REF!"}},{"$f":"IF(#REF!=$E$1,IF(#REF!=$G$1,IF(#REF!=\"\",NA(),#REF!),NA()),NA())","v":{"$error":"#REF!"}},{"$error":"#REF!"},{"$error":"#REF!"}]
[null,null,null,{"$f":"IF(#REF!=$E$1,IF(#REF!=$G$1,#REF!,NA()),NA())","v":{"$error":"#REF!"}},{"$f":"IF(#REF!=$E$1,IF(#REF!=$G$1,#REF!,NA()),NA())","v":{"$error":"#REF!"}},{"$f":"IF(#REF!=$E$1,IF(#REF!=$G$1,IF(#REF!=\"\",NA(),#REF!),NA()),NA())","v":{"$error":"#REF!"}},{"$f":"IF(#REF!=$E$1,IF(#REF!=$G$1,IF(#REF!=\"\",NA(),#REF!),NA()),NA())","v":{"$error":"#REF!"}},{"$error":"#REF!"},{"$error":"#REF!"}]
[null,null,null,{"$f":"IF(#REF!=$E$1,IF(#REF!=$G$1,#REF!,NA()),NA())","v":{"$error":"#REF!"}},{"$f":"IF(#REF!=$E$1,IF(#REF!=$G$1,#REF!,NA()),NA())","v":{"$error":"#REF!"}},{"$f":"IF(#REF!=$E$1,IF(#REF!=$G$1,IF(#REF!=\"\",NA(),#REF!),NA()),NA())","v":{"$error":"#REF!"}},{"$f":"IF(#REF!=$E$1,IF(#REF!=$G$1,IF(#REF!=\"\",NA(),#REF!),NA()),NA())","v":{"$error":"#REF!"}},{"$error":"#REF!"},{"$error":"#REF!"}]
[null,null,null,{"$f":"IF(#REF!=$E$1,IF(#REF!=$G$1,#REF!,NA()),NA())","v":{"$error":"#REF!"}},{"$f":"IF(#REF!=$E$1,IF(#REF!=$G$1,#REF!,NA()),NA())","v":{"$error":"#REF!"}},{"$f":"IF(#REF!=$E$1,IF(#REF!=$G$1,IF(#REF!=\"\",NA(),#REF!),NA()),NA())","v":{"$error":"#REF!"}},{"$f":"IF(#REF!=$E$1,IF(#REF!=$G$1,IF(#REF!=\"\",NA(),#REF!),NA()),NA())","v":{"$error":"#REF!"}},{"$error":"#REF!"},{"$error":"#REF!"}]
[null,null,null,{"$f":"IF(#REF!=$E$1,IF(#REF!=$G$1,#REF!,NA()),NA())","v":{"$error":"#REF!"}},{"$f":"IF(#REF!=$E$1,IF(#REF!=$G$1,#REF!,NA()),NA())","v":{"$error":"#REF!"}},{"$f":"IF(#REF!=$E$1,IF(#REF!=$G$1,IF(#REF!=\"\",NA(),#REF!),NA()),NA())","v":{"$error":"#REF!"}},{"$f":"IF(#REF!=$E$1,IF(#REF!=$G$1,IF(#REF!=\"\",NA(),#REF!),NA()),NA())","v":{"$error":"#REF!"}},{"$error":"#REF!"},{"$error":"#REF!"}]
[null,null,null,{"$f":"IF(#REF!=$E$1,IF(#REF!=$G$1,#REF!,NA()),NA())","v":{"$error":"#REF!"}},{"$f":"IF(#REF!=$E$1,IF(#REF!=$G$1,#REF!,NA()),NA())","v":{"$error":"#REF!"}},{"$f":"IF(#REF!=$E$1,IF(#REF!=$G$1,IF(#REF!=\"\",NA(),#REF!),NA()),NA())","v":{"$error":"#REF!"}},{"$f":"IF(#REF!=$E$1,IF(#REF!=$G$1,IF(#REF!=\"\",NA(),#REF!),NA()),NA())","v":{"$error":"#REF!"}},{"$error":"#REF!"},{"$error":"#REF!"}]
[null,null,null,{"$f":"IF(#REF!=$E$1,IF(#REF!=$G$1,#REF!,NA()),NA())","v":{"$error":"#REF!"}},{"$f":"IF(#REF!=$E$1,IF(#REF!=$G$1,#REF!,NA()),NA())","v":{"$error":"#REF!"}},{"$f":"IF(#REF!=$E$1,IF(#REF!=$G$1,IF(#REF!=\"\",NA(),#REF!),NA()),NA())","v":{"$error":"#REF!"}},{"$f":"IF(#REF!=$E$1,IF(#REF!=$G$1,IF(#REF!=\"\",NA(),#REF!),NA()),NA())","v":{"$error":"#REF!"}},{"$error":"#REF!"},{"$error":"#REF!"}]
[null,null,null,{"$f":"IF(#REF!=$E$1,IF(#REF!=$G$1,#REF!,NA()),NA())","v":{"$error":"#REF!"}},{"$f":"IF(#REF!=$E$1,IF(#REF!=$G$1,#REF!,NA()),NA())","v":{"$error":"#REF!"}},{"$f":"IF(#REF!=$E$1,IF(#REF!=$G$1,IF(#REF!=\"\",NA(),#REF!),NA()),NA())","v":{"$error":"#REF!"}},{"$f":"IF(#REF!=$E$1,IF(#REF!=$G$1,IF(#REF!=\"\",NA(),#REF!),NA()),NA())","v":{"$error":"#REF!"}},{"$error":"#REF!"},{"$error":"#REF!"}]
[null,null,null,{"$f":"IF(#REF!=$E$1,IF(#REF!=$G$1,#REF!,NA()),NA())","v":{"$error":"#REF!"}},{"$f":"IF(#REF!=$E$1,IF(#REF!=$G$1,#REF!,NA()),NA())","v":{"$error":"#REF!"}},{"$f":"IF(#REF!=$E$1,IF(#REF!=$G$1,IF(#REF!=\"\",NA(),#REF!),NA()),NA())","v":{"$error":"#REF!"}},{"$f":"IF(#REF!=$E$1,IF(#REF!=$G$1,IF(#REF!=\"\",NA(),#REF!),NA()),NA())","v":{"$error":"#REF!"}},{"$error":"#REF!"},{"$error":"#REF!"}]
[null,null,null,{"$f":"IF(#REF!=$E$1,IF(#REF!=$G$1,#REF!,NA()),NA())","v":{"$error":"#REF!"}},{"$f":"IF(#REF!=$E$1,IF(#REF!=$G$1,#REF!,NA()),NA())","v":{"$error":"#REF!"}},{"$f":"IF(#REF!=$E$1,IF(#REF!=$G$1,IF(#REF!=\"\",NA(),#REF!),NA()),NA())","v":{"$error":"#REF!"}},{"$f":"IF(#REF!=$E$1,IF(#REF!=$G$1,IF(#REF!=\"\",NA(),#REF!),NA()),NA())","v":{"$error":"#REF!"}},{"$error":"#REF!"},{"$error":"#REF!"}]
[null,null,null,{"$f":"IF(#REF!=$E$1,IF(#REF!=$G$1,#REF!,NA()),NA())","v":{"$error":"#REF!"}},{"$f":"IF(#REF!=$E$1,IF(#REF!=$G$1,#REF!,NA()),NA())","v":{"$error":"#REF!"}},{"$f":"IF(#REF!=$E$1,IF(#REF!=$G$1,IF(#REF!=\"\",NA(),#REF!),NA()),NA())","v":{"$error":"#REF!"}},{"$f":"IF(#REF!=$E$1,IF(#REF!=$G$1,IF(#REF!=\"\",NA(),#REF!),NA()),NA())","v":{"$error":"#REF!"}},{"$error":"#REF!"},{"$error":"#REF!"}]
[null,null,null,{"$f":"IF(#REF!=$E$1,IF(#REF!=$G$1,#REF!,NA()),NA())","v":{"$error":"#REF!"}},{"$f":"IF(#REF!=$E$1,IF(#REF!=$G$1,#REF!,NA()),NA())","v":{"$error":"#REF!"}},{"$f":"IF(#REF!=$E$1,IF(#REF!=$G$1,IF(#REF!=\"\",NA(),#REF!),NA()),NA())","v":{"$error":"#REF!"}},{"$f":"IF(#REF!=$E$1,IF(#REF!=$G$1,IF(#REF!=\"\",NA(),#REF!),NA()),NA())","v":{"$error":"#REF!"}},{"$error":"#REF!"},{"$error":"#REF!"}]
[null,null,null,{"$f":"IF(#REF!=$E$1,IF(#REF!=$G$1,#REF!,NA()),NA())","v":{"$error":"#REF!"}},{"$f":"IF(#REF!=$E$1,IF(#REF!=$G$1,#REF!,NA()),NA())","v":{"$error":"#REF!"}},{"$f":"IF(#REF!=$E$1,IF(#REF!=$G$1,IF(#REF!=\"\",NA(),#REF!),NA()),NA())","v":{"$error":"#REF!"}},{"$f":"IF(#REF!=$E$1,IF(#REF!=$G$1,IF(#REF!=\"\",NA(),#REF!),NA()),NA())","v":{"$error":"#REF!"}},{"$error":"#REF!"},{"$error":"#REF!"}]
[null,null,null,{"$f":"IF(#REF!=$E$1,IF(#REF!=$G$1,#REF!,NA()),NA())","v":{"$error":"#REF!"}},{"$f":"IF(#REF!=$E$1,IF(#REF!=$G$1,#REF!,NA()),NA())","v":{"$error":"#REF!"}},{"$f":"IF(#REF!=$E$1,IF(#REF!=$G$1,IF(#REF!=\"\",NA(),#REF!),NA()),NA())","v":{"$error":"#REF!"}},{"$f":"IF(#REF!=$E$1,IF(#REF!=$G$1,IF(#REF!=\"\",NA(),#REF!),NA()),NA())","v":{"$error":"#REF!"}},{"$f":"IF(AND(ISNUMBER(G452),F452=\"-\"),0,F452)","v":{"$error":"#REF!"}},{"$f":"IF(AND(ISNUMBER(F452),G452=\"-\"),0,G452)","v":{"$error":"#REF!"}}]
[null,null,null,{"$f":"IF(#REF!=$E$1,IF(#REF!=$G$1,#REF!,NA()),NA())","v":{"$error":"#REF!"}},{"$f":"IF(#REF!=$E$1,IF(#REF!=$G$1,#REF!,NA()),NA())","v":{"$error":"#REF!"}},{"$f":"IF(#REF!=$E$1,IF(#REF!=$G$1,IF(#REF!=\"\",NA(),#REF!),NA()),NA())","v":{"$error":"#REF!"}},{"$f":"IF(#REF!=$E$1,IF(#REF!=$G$1,IF(#REF!=\"\",NA(),#REF!),NA()),NA())","v":{"$error":"#REF!"}},{"$error":"#REF!"},{"$error":"#REF!"}]
[null,null,null,{"$f":"IF(#REF!=$E$1,IF(#REF!=$G$1,#REF!,NA()),NA())","v":{"$error":"#REF!"}},{"$f":"IF(#REF!=$E$1,IF(#REF!=$G$1,#REF!,NA()),NA())","v":{"$error":"#REF!"}},{"$f":"IF(#REF!=$E$1,IF(#REF!=$G$1,IF(#REF!=\"\",NA(),#REF!),NA()),NA())","v":{"$error":"#REF!"}},{"$f":"IF(#REF!=$E$1,IF(#REF!=$G$1,IF(#REF!=\"\",NA(),#REF!),NA()),NA())","v":{"$error":"#REF!"}},{"$error":"#REF!"},{"$error":"#REF!"}]
[null,null,null,{"$f":"IF(#REF!=$E$1,IF(#REF!=$G$1,#REF!,NA()),NA())","v":{"$error":"#REF!"}},{"$f":"IF(#REF!=$E$1,IF(#REF!=$G$1,#REF!,NA()),NA())","v":{"$error":"#REF!"}},{"$f":"IF(#REF!=$E$1,IF(#REF!=$G$1,IF(#REF!=\"\",NA(),#REF!),NA()),NA())","v":{"$error":"#REF!"}},{"$f":"IF(#REF!=$E$1,IF(#REF!=$G$1,IF(#REF!=\"\",NA(),#REF!),NA()),NA())","v":{"$error":"#REF!"}},{"$error":"#REF!"},{"$error":"#REF!"}]
[null,null,null,{"$f":"IF(#REF!=$E$1,IF(#REF!=$G$1,#REF!,NA()),NA())","v":{"$error":"#REF!"}},{"$f":"IF(#REF!=$E$1,IF(#REF!=$G$1,#REF!,NA()),NA())","v":{"$error":"#REF!"}},{"$f":"IF(#REF!=$E$1,IF(#REF!=$G$1,IF(#REF!=\"\",NA(),#REF!),NA()),NA())","v":{"$error":"#REF!"}},{"$f":"IF(#REF!=$E$1,IF(#REF!=$G$1,IF(#REF!=\"\",NA(),#REF!),NA()),NA())","v":{"$error":"#REF!"}},{"$error":"#REF!"},{"$error":"#REF!"}]
[null,null,null,{"$f":"IF(#REF!=$E$1,IF(#REF!=$G$1,#REF!,NA()),NA())","v":{"$error":"#REF!"}},{"$f":"IF(#REF!=$E$1,IF(#REF!=$G$1,#REF!,NA()),NA())","v":{"$error":"#REF!"}},{"$f":"IF(#REF!=$E$1,IF(#REF!=$G$1,IF(#REF!=\"\",NA(),#REF!),NA()),NA())","v":{"$error":"#REF!"}},{"$f":"IF(#REF!=$E$1,IF(#REF!=$G$1,IF(#REF!=\"\",NA(),#REF!),NA()),NA())","v":{"$error":"#REF!"}},{"$error":"#REF!"},{"$error":"#REF!"}]
[null,null,null,{"$f":"IF(#REF!=$E$1,IF(#REF!=$G$1,#REF!,NA()),NA())","v":{"$error":"#REF!"}},{"$f":"IF(#REF!=$E$1,IF(#REF!=$G$1,#REF!,NA()),NA())","v":{"$error":"#REF!"}},{"$f":"IF(#REF!=$E$1,IF(#REF!=$G$1,IF(#REF!=\"\",NA(),#REF!),NA()),NA())","v":{"$error":"#REF!"}},{"$f":"IF(#REF!=$E$1,IF(#REF!=$G$1,IF(#REF!=\"\",NA(),#REF!),NA()),NA())","v":{"$error":"#REF!"}},{"$error":"#REF!"},{"$error":"#REF!"}]
[null,null,null,{"$f":"IF(#REF!=$E$1,IF(#REF!=$G$1,#REF!,NA()),NA())","v":{"$error":"#REF!"}},{"$f":"IF(#REF!=$E$1,IF(#REF!=$G$1,#REF!,NA()),NA())","v":{"$error":"#REF!"}},{"$f":"IF(#REF!=$E$1,IF(#REF!=$G$1,IF(#REF!=\"\",NA(),#REF!),NA()),NA())","v":{"$error":"#REF!"}},{"$f":"IF(#REF!=$E$1,IF(#REF!=$G$1,IF(#REF!=\"\",NA(),#REF!),NA()),NA())","v":{"$error":"#REF!"}},{"$error":"#REF!"},{"$error":"#REF!"}]
[null,null,null,{"$f":"IF(#REF!=$E$1,IF(#REF!=$G$1,#REF!,NA()),NA())","v":{"$error":"#REF!"}},{"$f":"IF(#REF!=$E$1,IF(#REF!=$G$1,#REF!,NA()),NA())","v":{"$error":"#REF!"}},{"$f":"IF(#REF!=$E$1,IF(#REF!=$G$1,IF(#REF!=\"\",NA(),#REF!),NA()),NA())","v":{"$error":"#REF!"}},{"$f":"IF(#REF!=$E$1,IF(#REF!=$G$1,IF(#REF!=\"\",NA(),#REF!),NA()),NA())","v":{"$error":"#REF!"}},{"$error":"#REF!"},{"$error":"#REF!"}]
[null,null,null,{"$f":"IF(#REF!=$E$1,IF(#REF!=$G$1,#REF!,NA()),NA())","v":{"$error":"#REF!"}},{"$f":"IF(#REF!=$E$1,IF(#REF!=$G$1,#REF!,NA()),NA())","v":{"$error":"#REF!"}},{"$f":"IF(#REF!=$E$1,IF(#REF!=$G$1,IF(#REF!=\"\",NA(),#REF!),NA()),NA())","v":{"$error":"#REF!"}},{"$f":"IF(#REF!=$E$1,IF(#REF!=$G$1,IF(#REF!=\"\",NA(),#REF!),NA()),NA())","v":{"$error":"#REF!"}},{"$error":"#REF!"},{"$error":"#REF!"}]
[null,null,null,{"$f":"IF(#REF!=$E$1,IF(#REF!=$G$1,#REF!,NA()),NA())","v":{"$error":"#REF!"}},{"$f":"IF(#REF!=$E$1,IF(#REF!=$G$1,#REF!,NA()),NA())","v":{"$error":"#REF!"}},{"$f":"IF(#REF!=$E$1,IF(#REF!=$G$1,IF(#REF!=\"\",NA(),#REF!),NA()),NA())","v":{"$error":"#REF!"}},{"$f":"IF(#REF!=$E$1,IF(#REF!=$G$1,IF(#REF!=\"\",NA(),#REF!),NA()),NA())","v":{"$error":"#REF!"}},{"$error":"#REF!"},{"$error":"#REF!"}]
[null,null,null,{"$f":"IF(#REF!=$E$1,IF(#REF!=$G$1,#REF!,NA()),NA())","v":{"$error":"#REF!"}},{"$f":"IF(#REF!=$E$1,IF(#REF!=$G$1,#REF!,NA()),NA())","v":{"$error":"#REF!"}},{"$f":"IF(#REF!=$E$1,IF(#REF!=$G$1,IF(#REF!=\"\",NA(),#REF!),NA()),NA())","v":{"$error":"#REF!"}},{"$f":"IF(#REF!=$E$1,IF(#REF!=$G$1,IF(#REF!=\"\",NA(),#REF!),NA()),NA())","v":{"$error":"#REF!"}},{"$error":"#REF!"},{"$error":"#REF!"}]
[null,null,null,{"$f":"IF(#REF!=$E$1,IF(#REF!=$G$1,#REF!,NA()),NA())","v":{"$error":"#REF!"}},{"$f":"IF(#REF!=$E$1,IF(#REF!=$G$1,#REF!,NA()),NA())","v":{"$error":"#REF!"}},{"$f":"IF(#REF!=$E$1,IF(#REF!=$G$1,IF(#REF!=\"\",NA(),#REF!),NA()),NA())","v":{"$error":"#REF!"}},{"$f":"IF(#REF!=$E$1,IF(#REF!=$G$1,IF(#REF!=\"\",NA(),#REF!),NA()),NA())","v":{"$error":"#REF!"}},{"$error":"#REF!"},{"$error":"#REF!"}]
[null,null,null,{"$f":"IF(#REF!=$E$1,IF(#REF!=$G$1,#REF!,NA()),NA())","v":{"$error":"#REF!"}},{"$f":"IF(#REF!=$E$1,IF(#REF!=$G$1,#REF!,NA()),NA())","v":{"$error":"#REF!"}},{"$f":"IF(#REF!=$E$1,IF(#REF!=$G$1,IF(#REF!=\"\",NA(),#REF!),NA()),NA())","v":{"$error":"#REF!"}},{"$f":"IF(#REF!=$E$1,IF(#REF!=$G$1,IF(#REF!=\"\",NA(),#REF!),NA()),NA())","v":{"$error":"#REF!"}},{"$error":"#REF!"},{"$error":"#REF!"}]
[null,null,null,{"$f":"IF(#REF!=$E$1,IF(#REF!=$G$1,#REF!,NA()),NA())","v":{"$error":"#REF!"}},{"$f":"IF(#REF!=$E$1,IF(#REF!=$G$1,#REF!,NA()),NA())","v":{"$error":"#REF!"}},{"$f":"IF(#REF!=$E$1,IF(#REF!=$G$1,IF(#REF!=\"\",NA(),#REF!),NA()),NA())","v":{"$error":"#REF!"}},{"$f":"IF(#REF!=$E$1,IF(#REF!=$G$1,IF(#REF!=\"\",NA(),#REF!),NA()),NA())","v":{"$error":"#REF!"}},{"$error":"#REF!"},{"$error":"#REF!"}]
[null,null,null,{"$f":"IF(#REF!=$E$1,IF(#REF!=$G$1,#REF!,NA()),NA())","v":{"$error":"#REF!"}},{"$f":"IF(#REF!=$E$1,IF(#REF!=$G$1,#REF!,NA()),NA())","v":{"$error":"#REF!"}},{"$f":"IF(#REF!=$E$1,IF(#REF!=$G$1,IF(#REF!=\"\",NA(),#REF!),NA()),NA())","v":{"$error":"#REF!"}},{"$f":"IF(#REF!=$E$1,IF(#REF!=$G$1,IF(#REF!=\"\",NA(),#REF!),NA()),NA())","v":{"$error":"#REF!"}},{"$error":"#REF!"},{"$error":"#REF!"}]
[null,null,null,{"$f":"IF(#REF!=$E$1,IF(#REF!=$G$1,#REF!,NA()),NA())","v":{"$error":"#REF!"}},{"$f":"IF(#REF!=$E$1,IF(#REF!=$G$1,#REF!,NA()),NA())","v":{"$error":"#REF!"}},{"$f":"IF(#REF!=$E$1,IF(#REF!=$G$1,IF(#REF!=\"\",NA(),#REF!),NA()),NA())","v":{"$error":"#REF!"}},{"$f":"IF(#REF!=$E$1,IF(#REF!=$G$1,IF(#REF!=\"\",NA(),#REF!),NA()),NA())","v":{"$error":"#REF!"}},{"$error":"#REF!"},{"$error":"#REF!"}]
[null,null,null,{"$f":"IF(#REF!=$E$1,IF(#REF!=$G$1,#REF!,NA()),NA())","v":{"$error":"#REF!"}},{"$f":"IF(#REF!=$E$1,IF(#REF!=$G$1,#REF!,NA()),NA())","v":{"$error":"#REF!"}},{"$f":"IF(#REF!=$E$1,IF(#REF!=$G$1,IF(#REF!=\"\",NA(),#REF!),NA()),NA())","v":{"$error":"#REF!"}},{"$f":"IF(#REF!=$E$1,IF(#REF!=$G$1,IF(#REF!=\"\",NA(),#REF!),NA()),NA())","v":{"$error":"#REF!"}},{"$error":"#REF!"},{"$error":"#REF!"}]
[null,null,null,{"$f":"IF(#REF!=$E$1,IF(#REF!=$G$1,#REF!,NA()),NA())","v":{"$error":"#REF!"}},{"$f":"IF(#REF!=$E$1,IF(#REF!=$G$1,#REF!,NA()),NA())","v":{"$error":"#REF!"}},{"$f":"IF(#REF!=$E$1,IF(#REF!=$G$1,IF(#REF!=\"\",NA(),#REF!),NA()),NA())","v":{"$error":"#REF!"}},{"$f":"IF(#REF!=$E$1,IF(#REF!=$G$1,IF(#REF!=\"\",NA(),#REF!),NA()),NA())","v":{"$error":"#REF!"}},{"$error":"#REF!"},{"$error":"#REF!"}]
[null,null,null,{"$f":"IF(#REF!=$E$1,IF(#REF!=$G$1,#REF!,NA()),NA())","v":{"$error":"#REF!"}},{"$f":"IF(#REF!=$E$1,IF(#REF!=$G$1,#REF!,NA()),NA())","v":{"$error":"#REF!"}},{"$f":"IF(#REF!=$E$1,IF(#REF!=$G$1,IF(#REF!=\"\",NA(),#REF!),NA()),NA())","v":{"$error":"#REF!"}},{"$f":"IF(#REF!=$E$1,IF(#REF!=$G$1,IF(#REF!=\"\",NA(),#REF!),NA()),NA())","v":{"$error":"#REF!"}},{"$error":"#REF!"},{"$error":"#REF!"}]
[null,null,null,{"$f":"IF(#REF!=$E$1,IF(#REF!=$G$1,#REF!,NA()),NA())","v":{"$error":"#REF!"}},{"$f":"IF(#REF!=$E$1,IF(#REF!=$G$1,#REF!,NA()),NA())","v":{"$error":"#REF!"}},{"$f":"IF(#REF!=$E$1,IF(#REF!=$G$1,IF(#REF!=\"\",NA(),#REF!),NA()),NA())","v":{"$error":"#REF!"}},{"$f":"IF(#REF!=$E$1,IF(#REF!=$G$1,IF(#REF!=\"\",NA(),#REF!),NA()),NA())","v":{"$error":"#REF!"}},{"$error":"#REF!"},{"$error":"#REF!"}]
[null,null,null,{"$f":"IF(#REF!=$E$1,IF(#REF!=$G$1,#REF!,NA()),NA())","v":{"$error":"#REF!"}},{"$f":"IF(#REF!=$E$1,IF(#REF!=$G$1,#REF!,NA()),NA())","v":{"$error":"#REF!"}},{"$f":"IF(#REF!=$E$1,IF(#REF!=$G$1,IF(#REF!=\"\",NA(),#REF!),NA()),NA())","v":{"$error":"#REF!"}},{"$f":"IF(#REF!=$E$1,IF(#REF!=$G$1,IF(#REF!=\"\",NA(),#REF!),NA()),NA())","v":{"$error":"#REF!"}},{"$error":"#REF!"},{"$error":"#REF!"}]
[null,null,null,{"$f":"IF(#REF!=$E$1,IF(#REF!=$G$1,#REF!,NA()),NA())","v":{"$error":"#REF!"}},{"$f":"IF(#REF!=$E$1,IF(#REF!=$G$1,#REF!,NA()),NA())","v":{"$error":"#REF!"}},{"$f":"IF(#REF!=$E$1,IF(#REF!=$G$1,IF(#REF!=\"\",NA(),#REF!),NA()),NA())","v":{"$error":"#REF!"}},{"$f":"IF(#REF!=$E$1,IF(#REF!=$G$1,IF(#REF!=\"\",NA(),#REF!),NA()),NA())","v":{"$error":"#REF!"}},{"$error":"#REF!"},{"$error":"#REF!"}]
[null,null,null,{"$f":"IF(#REF!=$E$1,IF(#REF!=$G$1,#REF!,NA()),NA())","v":{"$error":"#REF!"}},{"$f":"IF(#REF!=$E$1,IF(#REF!=$G$1,#REF!,NA()),NA())","v":{"$error":"#REF!"}},{"$f":"IF(#REF!=$E$1,IF(#REF!=$G$1,IF(#REF!=\"\",NA(),#REF!),NA()),NA())","v":{"$error":"#REF!"}},{"$f":"IF(#REF!=$E$1,IF(#REF!=$G$1,IF(#REF!=\"\",NA(),#REF!),NA()),NA())","v":{"$error":"#REF!"}},{"$error":"#REF!"},{"$error":"#REF!"}]
[null,null,null,{"$f":"IF(#REF!=$E$1,IF(#REF!=$G$1,#REF!,NA()),NA())","v":{"$error":"#REF!"}},{"$f":"IF(#REF!=$E$1,IF(#REF!=$G$1,#REF!,NA()),NA())","v":{"$error":"#REF!"}},{"$f":"IF(#REF!=$E$1,IF(#REF!=$G$1,IF(#REF!=\"\",NA(),#REF!),NA()),NA())","v":{"$error":"#REF!"}},{"$f":"IF(#REF!=$E$1,IF(#REF!=$G$1,IF(#REF!=\"\",NA(),#REF!),NA()),NA())","v":{"$error":"#REF!"}},{"$error":"#REF!"},{"$error":"#REF!"}]
[null,null,null,{"$f":"IF(#REF!=$E$1,IF(#REF!=$G$1,#REF!,NA()),NA())","v":{"$error":"#REF!"}},{"$f":"IF(#REF!=$E$1,IF(#REF!=$G$1,#REF!,NA()),NA())","v":{"$error":"#REF!"}},{"$f":"IF(#REF!=$E$1,IF(#REF!=$G$1,IF(#REF!=\"\",NA(),#REF!),NA()),NA())","v":{"$error":"#REF!"}},{"$f":"IF(#REF!=$E$1,IF(#REF!=$G$1,IF(#REF!=\"\",NA(),#REF!),NA()),NA())","v":{"$error":"#REF!"}},{"$error":"#REF!"},{"$error":"#REF!"}]
[null,null,null,{"$f":"IF(#REF!=$E$1,IF(#REF!=$G$1,#REF!,NA()),NA())","v":{"$error":"#REF!"}},{"$f":"IF(#REF!=$E$1,IF(#REF!=$G$1,#REF!,NA()),NA())","v":{"$error":"#REF!"}},{"$f":"IF(#REF!=$E$1,IF(#REF!=$G$1,IF(#REF!=\"\",NA(),#REF!),NA()),NA())","v":{"$error":"#REF!"}},{"$f":"IF(#REF!=$E$1,IF(#REF!=$G$1,IF(#REF!=\"\",NA(),#REF!),NA()),NA())","v":{"$error":"#REF!"}},{"$error":"#REF!"},{"$error":"#REF!"}]
[null,null,null,{"$f":"IF(#REF!=$E$1,IF(#REF!=$G$1,#REF!,NA()),NA())","v":{"$error":"#REF!"}},{"$f":"IF(#REF!=$E$1,IF(#REF!=$G$1,#REF!,NA()),NA())","v":{"$error":"#REF!"}},{"$f":"IF(#REF!=$E$1,IF(#REF!=$G$1,IF(#REF!=\"\",NA(),#REF!),NA()),NA())","v":{"$error":"#REF!"}},{"$f":"IF(#REF!=$E$1,IF(#REF!=$G$1,IF(#REF!=\"\",NA(),#REF!),NA()),NA())","v":{"$error":"#REF!"}},{"$error":"#REF!"},{"$error":"#REF!"}]
[null,null,null,{"$f":"IF(#REF!=$E$1,IF(#REF!=$G$1,#REF!,NA()),NA())","v":{"$error":"#REF!"}},{"$f":"IF(#REF!=$E$1,IF(#REF!=$G$1,#REF!,NA()),NA())","v":{"$error":"#REF!"}},{"$f":"IF(#REF!=$E$1,IF(#REF!=$G$1,IF(#REF!=\"\",NA(),#REF!),NA()),NA())","v":{"$error":"#REF!"}},{"$f":"IF(#REF!=$E$1,IF(#REF!=$G$1,IF(#REF!=\"\",NA(),#REF!),NA()),NA())","v":{"$error":"#REF!"}},{"$error":"#REF!"},{"$error":"#REF!"}]
[null,null,null,{"$f":"IF(#REF!=$E$1,IF(#REF!=$G$1,#REF!,NA()),NA())","v":{"$error":"#REF!"}},{"$f":"IF(#REF!=$E$1,IF(#REF!=$G$1,#REF!,NA()),NA())","v":{"$error":"#REF!"}},{"$f":"IF(#REF!=$E$1,IF(#REF!=$G$1,IF(#REF!=\"\",NA(),#REF!),NA()),NA())","v":{"$error":"#REF!"}},{"$f":"IF(#REF!=$E$1,IF(#REF!=$G$1,IF(#REF!=\"\",NA(),#REF!),NA()),NA())","v":{"$error":"#REF!"}},{"$error":"#REF!"},{"$error":"#REF!"}]
[null,null,null,{"$f":"IF(#REF!=$E$1,IF(#REF!=$G$1,#REF!,NA()),NA())","v":{"$error":"#REF!"}},{"$f":"IF(#REF!=$E$1,IF(#REF!=$G$1,#REF!,NA()),NA())","v":{"$error":"#REF!"}},{"$f":"IF(#REF!=$E$1,IF(#REF!=$G$1,IF(#REF!=\"\",NA(),#REF!),NA()),NA())","v":{"$error":"#REF!"}},{"$f":"IF(#REF!=$E$1,IF(#REF!=$G$1,IF(#REF!=\"\",NA(),#REF!),NA()),NA())","v":{"$error":"#REF!"}},{"$error":"#REF!"},{"$error":"#REF!"}]
[null,null,null,{"$f":"IF(#REF!=$E$1,IF(#REF!=$G$1,#REF!,NA()),NA())","v":{"$error":"#REF!"}},{"$f":"IF(#REF!=$E$1,IF(#REF!=$G$1,#REF!,NA()),NA())","v":{"$error":"#REF!"}},{"$f":"IF(#REF!=$E$1,IF(#REF!=$G$1,IF(#REF!=\"\",NA(),#REF!),NA()),NA())","v":{"$error":"#REF!"}},{"$f":"IF(#REF!=$E$1,IF(#REF!=$G$1,IF(#REF!=\"\",NA(),#REF!),NA()),NA())","v":{"$error":"#REF!"}},{"$error":"#REF!"},{"$error":"#REF!"}]
[null,null,null,{"$f":"IF(#REF!=$E$1,IF(#REF!=$G$1,#REF!,NA()),NA())","v":{"$error":"#REF!"}},{"$f":"IF(#REF!=$E$1,IF(#REF!=$G$1,#REF!,NA()),NA())","v":{"$error":"#REF!"}},{"$f":"IF(#REF!=$E$1,IF(#REF!=$G$1,IF(#REF!=\"\",NA(),#REF!),NA()),NA())","v":{"$error":"#REF!"}},{"$f":"IF(#REF!=$E$1,IF(#REF!=$G$1,IF(#REF!=\"\",NA(),#REF!),NA()),NA())","v":{"$error":"#REF!"}},{"$error":"#REF!"},{"$error":"#REF!"}]
[null,null,null,{"$f":"IF(#REF!=$E$1,IF(#REF!=$G$1,#REF!,NA()),NA())","v":{"$error":"#REF!"}},{"$f":"IF(#REF!=$E$1,IF(#REF!=$G$1,#REF!,NA()),NA())","v":{"$error":"#REF!"}},{"$f":"IF(#REF!=$E$1,IF(#REF!=$G$1,IF(#REF!=\"\",NA(),#REF!),NA()),NA())","v":{"$error":"#REF!"}},{"$f":"IF(#REF!=$E$1,IF(#REF!=$G$1,IF(#REF!=\"\",NA(),#REF!),NA()),NA())","v":{"$error":"#REF!"}},{"$error":"#REF!"},{"$error":"#REF!"}]
[null,null,null,{"$f":"IF(#REF!=$E$1,IF(#REF!=$G$1,#REF!,NA()),NA())","v":{"$error":"#REF!"}},{"$f":"IF(#REF!=$E$1,IF(#REF!=$G$1,#REF!,NA()),NA())","v":{"$error":"#REF!"}},{"$f":"IF(#REF!=$E$1,IF(#REF!=$G$1,IF(#REF!=\"\",NA(),#REF!),NA()),NA())","v":{"$error":"#REF!"}},{"$f":"IF(#REF!=$E$1,IF(#REF!=$G$1,IF(#REF!=\"\",NA(),#REF!),NA()),NA())","v":{"$error":"#REF!"}},{"$error":"#REF!"},{"$error":"#REF!"}]
[null,null,null,{"$f":"IF(#REF!=$E$1,IF(#REF!=$G$1,#REF!,NA()),NA())","v":{"$error":"#REF!"}},{"$f":"IF(#REF!=$E$1,IF(#REF!=$G$1,#REF!,NA()),NA())","v":{"$error":"#REF!"}},{"$f":"IF(#REF!=$E$1,IF(#REF!=$G$1,IF(#REF!=\"\",NA(),#REF!),NA()),NA())","v":{"$error":"#REF!"}},{"$f":"IF(#REF!=$E$1,IF(#REF!=$G$1,IF(#REF!=\"\",NA(),#REF!),NA()),NA())","v":{"$error":"#REF!"}},{"$error":"#REF!"},{"$error":"#REF!"}]
[null,null,null,{"$f":"IF(#REF!=$E$1,IF(#REF!=$G$1,#REF!,NA()),NA())","v":{"$error":"#REF!"}},{"$f":"IF(#REF!=$E$1,IF(#REF!=$G$1,#REF!,NA()),NA())","v":{"$error":"#REF!"}},{"$f":"IF(#REF!=$E$1,IF(#REF!=$G$1,IF(#REF!=\"\",NA(),#REF!),NA()),NA())","v":{"$error":"#REF!"}},{"$f":"IF(#REF!=$E$1,IF(#REF!=$G$1,IF(#REF!=\"\",NA(),#REF!),NA()),NA())","v":{"$error":"#REF!"}},{"$error":"#REF!"},{"$error":"#REF!"}]
[null,null,null,{"$f":"IF(#REF!=$E$1,IF(#REF!=$G$1,#REF!,NA()),NA())","v":{"$error":"#REF!"}},{"$f":"IF(#REF!=$E$1,IF(#REF!=$G$1,#REF!,NA()),NA())","v":{"$error":"#REF!"}},{"$f":"IF(#REF!=$E$1,IF(#REF!=$G$1,IF(#REF!=\"\",NA(),#REF!),NA()),NA())","v":{"$error":"#REF!"}},{"$f":"IF(#REF!=$E$1,IF(#REF!=$G$1,IF(#REF!=\"\",NA(),#REF!),NA()),NA())","v":{"$error":"#REF!"}},{"$error":"#REF!"},{"$error":"#REF!"}]
[null,null,null,{"$f":"IF(#REF!=$E$1,IF(#REF!=$G$1,#REF!,NA()),NA())","v":{"$error":"#REF!"}},{"$f":"IF(#REF!=$E$1,IF(#REF!=$G$1,#REF!,NA()),NA())","v":{"$error":"#REF!"}},{"$f":"IF(#REF!=$E$1,IF(#REF!=$G$1,IF(#REF!=\"\",NA(),#REF!),NA()),NA())","v":{"$error":"#REF!"}},{"$f":"IF(#REF!=$E$1,IF(#REF!=$G$1,IF(#REF!=\"\",NA(),#REF!),NA()),NA())","v":{"$error":"#REF!"}},{"$error":"#REF!"},{"$error":"#REF!"}]
[null,null,null,{"$f":"IF(#REF!=$E$1,IF(#REF!=$G$1,#REF!,NA()),NA())","v":{"$error":"#REF!"}},{"$f":"IF(#REF!=$E$1,IF(#REF!=$G$1,#REF!,NA()),NA())","v":{"$error":"#REF!"}},{"$f":"IF(#REF!=$E$1,IF(#REF!=$G$1,IF(#REF!=\"\",NA(),#REF!),NA()),NA())","v":{"$error":"#REF!"}},{"$f":"IF(#REF!=$E$1,IF(#REF!=$G$1,IF(#REF!=\"\",NA(),#REF!),NA()),NA())","v":{"$error":"#REF!"}},{"$error":"#REF!"},{"$error":"#REF!"}]
[null,null,null,{"$f":"IF(#REF!=$E$1,IF(#REF!=$G$1,#REF!,NA()),NA())","v":{"$error":"#REF!"}},{"$f":"IF(#REF!=$E$1,IF(#REF!=$G$1,#REF!,NA()),NA())","v":{"$error":"#REF!"}},{"$f":"IF(#REF!=$E$1,IF(#REF!=$G$1,IF(#REF!=\"\",NA(),#REF!),NA()),NA())","v":{"$error":"#REF!"}},{"$f":"IF(#REF!=$E$1,IF(#REF!=$G$1,IF(#REF!=\"\",NA(),#REF!),NA()),NA())","v":{"$error":"#REF!"}},{"$error":"#REF!"},{"$error":"#REF!"}]
[null,null,null,{"$f":"IF(#REF!=$E$1,IF(#REF!=$G$1,#REF!,NA()),NA())","v":{"$error":"#REF!"}},{"$f":"IF(#REF!=$E$1,IF(#REF!=$G$1,#REF!,NA()),NA())","v":{"$error":"#REF!"}},{"$f":"IF(#REF!=$E$1,IF(#REF!=$G$1,IF(#REF!=\"\",NA(),#REF!),NA()),NA())","v":{"$error":"#REF!"}},{"$f":"IF(#REF!=$E$1,IF(#REF!=$G$1,IF(#REF!=\"\",NA(),#REF!),NA()),NA())","v":{"$error":"#REF!"}},{"$error":"#REF!"},{"$error":"#REF!"}]
[null,null,null,{"$f":"IF(#REF!=$E$1,IF(#REF!=$G$1,#REF!,NA()),NA())","v":{"$error":"#REF!"}},{"$f":"IF(#REF!=$E$1,IF(#REF!=$G$1,#REF!,NA()),NA())","v":{"$error":"#REF!"}},{"$f":"IF(#REF!=$E$1,IF(#REF!=$G$1,IF(#REF!=\"\",NA(),#REF!),NA()),NA())","v":{"$error":"#REF!"}},{"$f":"IF(#REF!=$E$1,IF(#REF!=$G$1,IF(#REF!=\"\",NA(),#REF!),NA()),NA())","v":{"$error":"#REF!"}},{"$error":"#REF!"},{"$error":"#REF!"}]
[null,null,null,{"$f":"IF(#REF!=$E$1,IF(#REF!=$G$1,#REF!,NA()),NA())","v":{"$error":"#REF!"}},{"$f":"IF(#REF!=$E$1,IF(#REF!=$G$1,#REF!,NA()),NA())","v":{"$error":"#REF!"}},{"$f":"IF(#REF!=$E$1,IF(#REF!=$G$1,IF(#REF!=\"\",NA(),#REF!),NA()),NA())","v":{"$error":"#REF!"}},{"$f":"IF(#REF!=$E$1,IF(#REF!=$G$1,IF(#REF!=\"\",NA(),#REF!),NA()),NA())","v":{"$error":"#REF!"}},{"$error":"#REF!"},{"$error":"#REF!"}]
[null,null,null,{"$f":"IF(#REF!=$E$1,IF(#REF!=$G$1,#REF!,NA()),NA())","v":{"$error":"#REF!"}},{"$f":"IF(#REF!=$E$1,IF(#REF!=$G$1,#REF!,NA()),NA())","v":{"$error":"#REF!"}},{"$f":"IF(#REF!=$E$1,IF(#REF!=$G$1,IF(#REF!=\"\",NA(),#REF!),NA()),NA())","v":{"$error":"#REF!"}},{"$f":"IF(#REF!=$E$1,IF(#REF!=$G$1,IF(#REF!=\"\",NA(),#REF!),NA()),NA())","v":{"$error":"#REF!"}},{"$error":"#REF!"},{"$error":"#REF!"}]
[null,null,null,{"$f":"IF(#REF!=$E$1,IF(#REF!=$G$1,#REF!,NA()),NA())","v":{"$error":"#REF!"}},{"$f":"IF(#REF!=$E$1,IF(#REF!=$G$1,#REF!,NA()),NA())","v":{"$error":"#REF!"}},{"$f":"IF(#REF!=$E$1,IF(#REF!=$G$1,IF(#REF!=\"\",NA(),#REF!),NA()),NA())","v":{"$error":"#REF!"}},{"$f":"IF(#REF!=$E$1,IF(#REF!=$G$1,IF(#REF!=\"\",NA(),#REF!),NA()),NA())","v":{"$error":"#REF!"}},{"$error":"#REF!"},{"$error":"#REF!"}]
[null,null,null,{"$f":"IF(#REF!=$E$1,IF(#REF!=$G$1,#REF!,NA()),NA())","v":{"$error":"#REF!"}},{"$f":"IF(#REF!=$E$1,IF(#REF!=$G$1,#REF!,NA()),NA())","v":{"$error":"#REF!"}},{"$f":"IF(#REF!=$E$1,IF(#REF!=$G$1,IF(#REF!=\"\",NA(),#REF!),NA()),NA())","v":{"$error":"#REF!"}},{"$f":"IF(#REF!=$E$1,IF(#REF!=$G$1,IF(#REF!=\"\",NA(),#REF!),NA()),NA())","v":{"$error":"#REF!"}},{"$error":"#REF!"},{"$error":"#REF!"}]
[null,null,null,{"$f":"IF(#REF!=$E$1,IF(#REF!=$G$1,#REF!,NA()),NA())","v":{"$error":"#REF!"}},{"$f":"IF(#REF!=$E$1,IF(#REF!=$G$1,#REF!,NA()),NA())","v":{"$error":"#REF!"}},{"$f":"IF(#REF!=$E$1,IF(#REF!=$G$1,IF(#REF!=\"\",NA(),#REF!),NA()),NA())","v":{"$error":"#REF!"}},{"$f":"IF(#REF!=$E$1,IF(#REF!=$G$1,IF(#REF!=\"\",NA(),#REF!),NA()),NA())","v":{"$error":"#REF!"}},{"$error":"#REF!"},{"$error":"#REF!"}]
[null,null,null,{"$f":"IF(#REF!=$E$1,IF(#REF!=$G$1,#REF!,NA()),NA())","v":{"$error":"#REF!"}},{"$f":"IF(#REF!=$E$1,IF(#REF!=$G$1,#REF!,NA()),NA())","v":{"$error":"#REF!"}},{"$f":"IF(#REF!=$E$1,IF(#REF!=$G$1,IF(#REF!=\"\",NA(),#REF!),NA()),NA())","v":{"$error":"#REF!"}},{"$f":"IF(#REF!=$E$1,IF(#REF!=$G$1,IF(#REF!=\"\",NA(),#REF!),NA()),NA())","v":{"$error":"#REF!"}},{"$error":"#REF!"},{"$error":"#REF!"}]
[null,null,null,{"$f":"IF(#REF!=$E$1,IF(#REF!=$G$1,#REF!,NA()),NA())","v":{"$error":"#REF!"}},{"$f":"IF(#REF!=$E$1,IF(#REF!=$G$1,#REF!,NA()),NA())","v":{"$error":"#REF!"}},{"$f":"IF(#REF!=$E$1,IF(#REF!=$G$1,IF(#REF!=\"\",NA(),#REF!),NA()),NA())","v":{"$error":"#REF!"}},{"$f":"IF(#REF!=$E$1,IF(#REF!=$G$1,IF(#REF!=\"\",NA(),#REF!),NA()),NA())","v":{"$error":"#REF!"}},{"$error":"#REF!"},{"$error":"#REF!"}]
[null,null,null,{"$f":"IF(#REF!=$E$1,IF(#REF!=$G$1,#REF!,NA()),NA())","v":{"$error":"#REF!"}},{"$f":"IF(#REF!=$E$1,IF(#REF!=$G$1,#REF!,NA()),NA())","v":{"$error":"#REF!"}},{"$f":"IF(#REF!=$E$1,IF(#REF!=$G$1,IF(#REF!=\"\",NA(),#REF!),NA()),NA())","v":{"$error":"#REF!"}},{"$f":"IF(#REF!=$E$1,IF(#REF!=$G$1,IF(#REF!=\"\",NA(),#REF!),NA()),NA())","v":{"$error":"#REF!"}},{"$error":"#REF!"},{"$error":"#REF!"}]
[null,null,null,{"$f":"IF(#REF!=$E$1,IF(#REF!=$G$1,#REF!,NA()),NA())","v":{"$error":"#REF!"}},{"$f":"IF(#REF!=$E$1,IF(#REF!=$G$1,#REF!,NA()),NA())","v":{"$error":"#REF!"}},{"$f":"IF(#REF!=$E$1,IF(#REF!=$G$1,IF(#REF!=\"\",NA(),#REF!),NA()),NA())","v":{"$error":"#REF!"}},{"$f":"IF(#REF!=$E$1,IF(#REF!=$G$1,IF(#REF!=\"\",NA(),#REF!),NA()),NA())","v":{"$error":"#REF!"}},{"$error":"#REF!"},{"$error":"#REF!"}]
[null,null,null,{"$f":"IF(#REF!=$E$1,IF(#REF!=$G$1,#REF!,NA()),NA())","v":{"$error":"#REF!"}},{"$f":"IF(#REF!=$E$1,IF(#REF!=$G$1,#REF!,NA()),NA())","v":{"$error":"#REF!"}},{"$f":"IF(#REF!=$E$1,IF(#REF!=$G$1,IF(#REF!=\"\",NA(),#REF!),NA()),NA())","v":{"$error":"#REF!"}},{"$f":"IF(#REF!=$E$1,IF(#REF!=$G$1,IF(#REF!=\"\",NA(),#REF!),NA()),NA())","v":{"$error":"#REF!"}},{"$error":"#REF!"},{"$error":"#REF!"}]
[null,null,null,{"$f":"IF(#REF!=$E$1,IF(#REF!=$G$1,#REF!,NA()),NA())","v":{"$error":"#REF!"}},{"$f":"IF(#REF!=$E$1,IF(#REF!=$G$1,#REF!,NA()),NA())","v":{"$error":"#REF!"}},{"$f":"IF(#REF!=$E$1,IF(#REF!=$G$1,IF(#REF!=\"\",NA(),#REF!),NA()),NA())","v":{"$error":"#REF!"}},{"$f":"IF(#REF!=$E$1,IF(#REF!=$G$1,IF(#REF!=\"\",NA(),#REF!),NA()),NA())","v":{"$error":"#REF!"}},{"$error":"#REF!"},{"$error":"#REF!"}]
[null,null,null,{"$f":"IF(#REF!=$E$1,IF(#REF!=$G$1,#REF!,NA()),NA())","v":{"$error":"#REF!"}},{"$f":"IF(#REF!=$E$1,IF(#REF!=$G$1,#REF!,NA()),NA())","v":{"$error":"#REF!"}},{"$f":"IF(#REF!=$E$1,IF(#REF!=$G$1,IF(#REF!=\"\",NA(),#REF!),NA()),NA())","v":{"$error":"#REF!"}},{"$f":"IF(#REF!=$E$1,IF(#REF!=$G$1,IF(#REF!=\"\",NA(),#REF!),NA()),NA())","v":{"$error":"#REF!"}},{"$error":"#REF!"},{"$error":"#REF!"}]
[null,null,null,{"$f":"IF(#REF!=$E$1,IF(#REF!=$G$1,#REF!,NA()),NA())","v":{"$error":"#REF!"}},{"$f":"IF(#REF!=$E$1,IF(#REF!=$G$1,#REF!,NA()),NA())","v":{"$error":"#REF!"}},{"$f":"IF(#REF!=$E$1,IF(#REF!=$G$1,IF(#REF!=\"\",NA(),#REF!),NA()),NA())","v":{"$error":"#REF!"}},{"$f":"IF(#REF!=$E$1,IF(#REF!=$G$1,IF(#REF!=\"\",NA(),#REF!),NA()),NA())","v":{"$error":"#REF!"}},{"$error":"#REF!"},{"$error":"#REF!"}]
[null,null,null,{"$f":"IF(#REF!=$E$1,IF(#REF!=$G$1,#REF!,NA()),NA())","v":{"$error":"#REF!"}},{"$f":"IF(#REF!=$E$1,IF(#REF!=$G$1,#REF!,NA()),NA())","v":{"$error":"#REF!"}},{"$f":"IF(#REF!=$E$1,IF(#REF!=$G$1,IF(#REF!=\"\",NA(),#REF!),NA()),NA())","v":{"$error":"#REF!"}},{"$f":"IF(#REF!=$E$1,IF(#REF!=$G$1,IF(#REF!=\"\",NA(),#REF!),NA()),NA())","v":{"$error":"#REF!"}},{"$error":"#REF!"},{"$error":"#REF!"}]
[null,null,null,{"$f":"IF(#REF!=$E$1,IF(#REF!=$G$1,#REF!,NA()),NA())","v":{"$error":"#REF!"}},{"$f":"IF(#REF!=$E$1,IF(#REF!=$G$1,#REF!,NA()),NA())","v":{"$error":"#REF!"}},{"$f":"IF(#REF!=$E$1,IF(#REF!=$G$1,IF(#REF!=\"\",NA(),#REF!),NA()),NA())","v":{"$error":"#REF!"}},{"$f":"IF(#REF!=$E$1,IF(#REF!=$G$1,IF(#REF!=\"\",NA(),#REF!),NA()),NA())","v":{"$error":"#REF!"}},{"$error":"#REF!"},{"$error":"#REF!"}]
[null,null,null,{"$f":"IF(#REF!=$E$1,IF(#REF!=$G$1,#REF!,NA()),NA())","v":{"$error":"#REF!"}},{"$f":"IF(#REF!=$E$1,IF(#REF!=$G$1,#REF!,NA()),NA())","v":{"$error":"#REF!"}},{"$f":"IF(#REF!=$E$1,IF(#REF!=$G$1,IF(#REF!=\"\",NA(),#REF!),NA()),NA())","v":{"$error":"#REF!"}},{"$f":"IF(#REF!=$E$1,IF(#REF!=$G$1,IF(#REF!=\"\",NA(),#REF!),NA()),NA())","v":{"$error":"#REF!"}},{"$error":"#REF!"},{"$error":"#REF!"}]
[null,null,null,{"$f":"IF(#REF!=$E$1,IF(#REF!=$G$1,#REF!,NA()),NA())","v":{"$error":"#REF!"}},{"$f":"IF(#REF!=$E$1,IF(#REF!=$G$1,#REF!,NA()),NA())","v":{"$error":"#REF!"}},{"$f":"IF(#REF!=$E$1,IF(#REF!=$G$1,IF(#REF!=\"\",NA(),#REF!),NA()),NA())","v":{"$error":"#REF!"}},{"$f":"IF(#REF!=$E$1,IF(#REF!=$G$1,IF(#REF!=\"\",NA(),#REF!),NA()),NA())","v":{"$error":"#REF!"}},{"$error":"#REF!"},{"$error":"#REF!"}]
[null,null,null,{"$f":"IF(#REF!=$E$1,IF(#REF!=$G$1,#REF!,NA()),NA())","v":{"$error":"#REF!"}},{"$f":"IF(#REF!=$E$1,IF(#REF!=$G$1,#REF!,NA()),NA())","v":{"$error":"#REF!"}},{"$f":"IF(#REF!=$E$1,IF(#REF!=$G$1,IF(#REF!=\"\",NA(),#REF!),NA()),NA())","v":{"$error":"#REF!"}},{"$f":"IF(#REF!=$E$1,IF(#REF!=$G$1,IF(#REF!=\"\",NA(),#REF!),NA()),NA())","v":{"$error":"#REF!"}},{"$error":"#REF!"},{"$error":"#REF!"}]
[null,null,null,{"$f":"IF(#REF!=$E$1,IF(#REF!=$G$1,#REF!,NA()),NA())","v":{"$error":"#REF!"}},{"$f":"IF(#REF!=$E$1,IF(#REF!=$G$1,#REF!,NA()),NA())","v":{"$error":"#REF!"}},{"$f":"IF(#REF!=$E$1,IF(#REF!=$G$1,IF(#REF!=\"\",NA(),#REF!),NA()),NA())","v":{"$error":"#REF!"}},{"$f":"IF(#REF!=$E$1,IF(#REF!=$G$1,IF(#REF!=\"\",NA(),#REF!),NA()),NA())","v":{"$error":"#REF!"}},{"$error":"#REF!"},{"$error":"#REF!"}]
[null,null,null,{"$f":"IF(#REF!=$E$1,IF(#REF!=$G$1,#REF!,NA()),NA())","v":{"$error":"#REF!"}},{"$f":"IF(#REF!=$E$1,IF(#REF!=$G$1,#REF!,NA()),NA())","v":{"$error":"#REF!"}},{"$f":"IF(#REF!=$E$1,IF(#REF!=$G$1,IF(#REF!=\"\",NA(),#REF!),NA()),NA())","v":{"$error":"#REF!"}},{"$f":"IF(#REF!=$E$1,IF(#REF!=$G$1,IF(#REF!=\"\",NA(),#REF!),NA()),NA())","v":{"$error":"#REF!"}},{"$error":"#REF!"},{"$error":"#REF!"}]
[null,null,null,{"$f":"IF(#REF!=$E$1,IF(#REF!=$G$1,#REF!,NA()),NA())","v":{"$error":"#REF!"}},{"$f":"IF(#REF!=$E$1,IF(#REF!=$G$1,#REF!,NA()),NA())","v":{"$error":"#REF!"}},{"$f":"IF(#REF!=$E$1,IF(#REF!=$G$1,IF(#REF!=\"\",NA(),#REF!),NA()),NA())","v":{"$error":"#REF!"}},{"$f":"IF(#REF!=$E$1,IF(#REF!=$G$1,IF(#REF!=\"\",NA(),#REF!),NA()),NA())","v":{"$error":"#REF!"}},{"$error":"#REF!"},{"$error":"#REF!"}]
[null,null,null,{"$f":"IF(#REF!=$E$1,IF(#REF!=$G$1,#REF!,NA()),NA())","v":{"$error":"#REF!"}},{"$f":"IF(#REF!=$E$1,IF(#REF!=$G$1,#REF!,NA()),NA())","v":{"$error":"#REF!"}},{"$f":"IF(#REF!=$E$1,IF(#REF!=$G$1,IF(#REF!=\"\",NA(),#REF!),NA()),NA())","v":{"$error":"#REF!"}},{"$f":"IF(#REF!=$E$1,IF(#REF!=$G$1,IF(#REF!=\"\",NA(),#REF!),NA()),NA())","v":{"$error":"#REF!"}},{"$f":"IF(AND(ISNUMBER(G516),F516=\"-\"),0,F516)","v":{"$error":"#REF!"}},{"$f":"IF(AND(ISNUMBER(F516),G516=\"-\"),0,G516)","v":{"$error":"#REF!"}}]
[null,null,null,{"$f":"IF(#REF!=$E$1,IF(#REF!=$G$1,#REF!,NA()),NA())","v":{"$error":"#REF!"}},{"$f":"IF(#REF!=$E$1,IF(#REF!=$G$1,#REF!,NA()),NA())","v":{"$error":"#REF!"}},{"$f":"IF(#REF!=$E$1,IF(#REF!=$G$1,IF(#REF!=\"\",NA(),#REF!),NA()),NA())","v":{"$error":"#REF!"}},{"$f":"IF(#REF!=$E$1,IF(#REF!=$G$1,IF(#REF!=\"\",NA(),#REF!),NA()),NA())","v":{"$error":"#REF!"}},{"$error":"#REF!"},{"$error":"#REF!"}]
[null,null,null,{"$f":"IF(#REF!=$E$1,IF(#REF!=$G$1,#REF!,NA()),NA())","v":{"$error":"#REF!"}},{"$f":"IF(#REF!=$E$1,IF(#REF!=$G$1,#REF!,NA()),NA())","v":{"$error":"#REF!"}},{"$f":"IF(#REF!=$E$1,IF(#REF!=$G$1,IF(#REF!=\"\",NA(),#REF!),NA()),NA())","v":{"$error":"#REF!"}},{"$f":"IF(#REF!=$E$1,IF(#REF!=$G$1,IF(#REF!=\"\",NA(),#REF!),NA()),NA())","v":{"$error":"#REF!"}},{"$error":"#REF!"},{"$error":"#REF!"}]
[null,null,null,{"$f":"IF(#REF!=$E$1,IF(#REF!=$G$1,#REF!,NA()),NA())","v":{"$error":"#REF!"}},{"$f":"IF(#REF!=$E$1,IF(#REF!=$G$1,#REF!,NA()),NA())","v":{"$error":"#REF!"}},{"$f":"IF(#REF!=$E$1,IF(#REF!=$G$1,IF(#REF!=\"\",NA(),#REF!),NA()),NA())","v":{"$error":"#REF!"}},{"$f":"IF(#REF!=$E$1,IF(#REF!=$G$1,IF(#REF!=\"\",NA(),#REF!),NA()),NA())","v":{"$error":"#REF!"}},{"$error":"#REF!"},{"$error":"#REF!"}]
[null,null,null,{"$f":"IF(#REF!=$E$1,IF(#REF!=$G$1,#REF!,NA()),NA())","v":{"$error":"#REF!"}},{"$f":"IF(#REF!=$E$1,IF(#REF!=$G$1,#REF!,NA()),NA())","v":{"$error":"#REF!"}},{"$f":"IF(#REF!=$E$1,IF(#REF!=$G$1,IF(#REF!=\"\",NA(),#REF!),NA()),NA())","v":{"$error":"#REF!"}},{"$f":"IF(#REF!=$E$1,IF(#REF!=$G$1,IF(#REF!=\"\",NA(),#REF!),NA()),NA())","v":{"$error":"#REF!"}},{"$error":"#REF!"},{"$error":"#REF!"}]
[null,null,null,{"$f":"IF(#REF!=$E$1,IF(#REF!=$G$1,#REF!,NA()),NA())","v":{"$error":"#REF!"}},{"$f":"IF(#REF!=$E$1,IF(#REF!=$G$1,#REF!,NA()),NA())","v":{"$error":"#REF!"}},{"$f":"IF(#REF!=$E$1,IF(#REF!=$G$1,IF(#REF!=\"\",NA(),#REF!),NA()),NA())","v":{"$error":"#REF!"}},{"$f":"IF(#REF!=$E$1,IF(#REF!=$G$1,IF(#REF!=\"\",NA(),#REF!),NA()),NA())","v":{"$error":"#REF!"}},{"$error":"#REF!"},{"$error":"#REF!"}]
[null,null,null,{"$f":"IF(#REF!=$E$1,IF(#REF!=$G$1,#REF!,NA()),NA())","v":{"$error":"#REF!"}},{"$f":"IF(#REF!=$E$1,IF(#REF!=$G$1,#REF!,NA()),NA())","v":{"$error":"#REF!"}},{"$f":"IF(#REF!=$E$1,IF(#REF!=$G$1,IF(#REF!=\"\",NA(),#REF!),NA()),NA())","v":{"$error":"#REF!"}},{"$f":"IF(#REF!=$E$1,IF(#REF!=$G$1,IF(#REF!=\"\",NA(),#REF!),NA()),NA())","v":{"$error":"#REF!"}},{"$error":"#REF!"},{"$error":"#REF!"}]
[null,null,null,{"$f":"IF(#REF!=$E$1,IF(#REF!=$G$1,#REF!,NA()),NA())","v":{"$error":"#REF!"}},{"$f":"IF(#REF!=$E$1,IF(#REF!=$G$1,#REF!,NA()),NA())","v":{"$error":"#REF!"}},{"$f":"IF(#REF!=$E$1,IF(#REF!=$G$1,IF(#REF!=\"\",NA(),#REF!),NA()),NA())","v":{"$error":"#REF!"}},{"$f":"IF(#REF!=$E$1,IF(#REF!=$G$1,IF(#REF!=\"\",NA(),#REF!),NA()),NA())","v":{"$error":"#REF!"}},{"$error":"#REF!"},{"$error":"#REF!"}]
[null,null,null,{"$f":"IF(#REF!=$E$1,IF(#REF!=$G$1,#REF!,NA()),NA())","v":{"$error":"#REF!"}},{"$f":"IF(#REF!=$E$1,IF(#REF!=$G$1,#REF!,NA()),NA())","v":{"$error":"#REF!"}},{"$f":"IF(#REF!=$E$1,IF(#REF!=$G$1,IF(#REF!=\"\",NA(),#REF!),NA()),NA())","v":{"$error":"#REF!"}},{"$f":"IF(#REF!=$E$1,IF(#REF!=$G$1,IF(#REF!=\"\",NA(),#REF!),NA()),NA())","v":{"$error":"#REF!"}},{"$error":"#REF!"},{"$error":"#REF!"}]
[null,null,null,{"$f":"IF(#REF!=$E$1,IF(#REF!=$G$1,#REF!,NA()),NA())","v":{"$error":"#REF!"}},{"$f":"IF(#REF!=$E$1,IF(#REF!=$G$1,#REF!,NA()),NA())","v":{"$error":"#REF!"}},{"$f":"IF(#REF!=$E$1,IF(#REF!=$G$1,IF(#REF!=\"\",NA(),#REF!),NA()),NA())","v":{"$error":"#REF!"}},{"$f":"IF(#REF!=$E$1,IF(#REF!=$G$1,IF(#REF!=\"\",NA(),#REF!),NA()),NA())","v":{"$error":"#REF!"}},{"$error":"#REF!"},{"$error":"#REF!"}]
[null,null,null,{"$f":"IF(#REF!=$E$1,IF(#REF!=$G$1,#REF!,NA()),NA())","v":{"$error":"#REF!"}},{"$f":"IF(#REF!=$E$1,IF(#REF!=$G$1,#REF!,NA()),NA())","v":{"$error":"#REF!"}},{"$f":"IF(#REF!=$E$1,IF(#REF!=$G$1,IF(#REF!=\"\",NA(),#REF!),NA()),NA())","v":{"$error":"#REF!"}},{"$f":"IF(#REF!=$E$1,IF(#REF!=$G$1,IF(#REF!=\"\",NA(),#REF!),NA()),NA())","v":{"$error":"#REF!"}},{"$error":"#REF!"},{"$error":"#REF!"}]
[null,null,null,{"$f":"IF(#REF!=$E$1,IF(#REF!=$G$1,#REF!,NA()),NA())","v":{"$error":"#REF!"}},{"$f":"IF(#REF!=$E$1,IF(#REF!=$G$1,#REF!,NA()),NA())","v":{"$error":"#REF!"}},{"$f":"IF(#REF!=$E$1,IF(#REF!=$G$1,IF(#REF!=\"\",NA(),#REF!),NA()),NA())","v":{"$error":"#REF!"}},{"$f":"IF(#REF!=$E$1,IF(#REF!=$G$1,IF(#REF!=\"\",NA(),#REF!),NA()),NA())","v":{"$error":"#REF!"}},{"$error":"#REF!"},{"$error":"#REF!"}]
[null,null,null,{"$f":"IF(#REF!=$E$1,IF(#REF!=$G$1,#REF!,NA()),NA())","v":{"$error":"#REF!"}},{"$f":"IF(#REF!=$E$1,IF(#REF!=$G$1,#REF!,NA()),NA())","v":{"$error":"#REF!"}},{"$f":"IF(#REF!=$E$1,IF(#REF!=$G$1,IF(#REF!=\"\",NA(),#REF!),NA()),NA())","v":{"$error":"#REF!"}},{"$f":"IF(#REF!=$E$1,IF(#REF!=$G$1,IF(#REF!=\"\",NA(),#REF!),NA()),NA())","v":{"$error":"#REF!"}},{"$error":"#REF!"},{"$error":"#REF!"}]
[null,null,null,{"$f":"IF(#REF!=$E$1,IF(#REF!=$G$1,#REF!,NA()),NA())","v":{"$error":"#REF!"}},{"$f":"IF(#REF!=$E$1,IF(#REF!=$G$1,#REF!,NA()),NA())","v":{"$error":"#REF!"}},{"$f":"IF(#REF!=$E$1,IF(#REF!=$G$1,IF(#REF!=\"\",NA(),#REF!),NA()),NA())","v":{"$error":"#REF!"}},{"$f":"IF(#REF!=$E$1,IF(#REF!=$G$1,IF(#REF!=\"\",NA(),#REF!),NA()),NA())","v":{"$error":"#REF!"}},{"$error":"#REF!"},{"$error":"#REF!"}]
[null,null,null,{"$f":"IF(#REF!=$E$1,IF(#REF!=$G$1,#REF!,NA()),NA())","v":{"$error":"#REF!"}},{"$f":"IF(#REF!=$E$1,IF(#REF!=$G$1,#REF!,NA()),NA())","v":{"$error":"#REF!"}},{"$f":"IF(#REF!=$E$1,IF(#REF!=$G$1,IF(#REF!=\"\",NA(),#REF!),NA()),NA())","v":{"$error":"#REF!"}},{"$f":"IF(#REF!=$E$1,IF(#REF!=$G$1,IF(#REF!=\"\",NA(),#REF!),NA()),NA())","v":{"$error":"#REF!"}},{"$error":"#REF!"},{"$error":"#REF!"}]
[null,null,null,{"$f":"IF(#REF!=$E$1,IF(#REF!=$G$1,#REF!,NA()),NA())","v":{"$error":"#REF!"}},{"$f":"IF(#REF!=$E$1,IF(#REF!=$G$1,#REF!,NA()),NA())","v":{"$error":"#REF!"}},{"$f":"IF(#REF!=$E$1,IF(#REF!=$G$1,IF(#REF!=\"\",NA(),#REF!),NA()),NA())","v":{"$error":"#REF!"}},{"$f":"IF(#REF!=$E$1,IF(#REF!=$G$1,IF(#REF!=\"\",NA(),#REF!),NA()),NA())","v":{"$error":"#REF!"}},{"$error":"#REF!"},{"$error":"#REF!"}]
[null,null,null,{"$f":"IF(#REF!=$E$1,IF(#REF!=$G$1,#REF!,NA()),NA())","v":{"$error":"#REF!"}},{"$f":"IF(#REF!=$E$1,IF(#REF!=$G$1,#REF!,NA()),NA())","v":{"$error":"#REF!"}},{"$f":"IF(#REF!=$E$1,IF(#REF!=$G$1,IF(#REF!=\"\",NA(),#REF!),NA()),NA())","v":{"$error":"#REF!"}},{"$f":"IF(#REF!=$E$1,IF(#REF!=$G$1,IF(#REF!=\"\",NA(),#REF!),NA()),NA())","v":{"$error":"#REF!"}},{"$error":"#REF!"},{"$error":"#REF!"}]
[null,null,null,{"$f":"IF(#REF!=$E$1,IF(#REF!=$G$1,#REF!,NA()),NA())","v":{"$error":"#REF!"}},{"$f":"IF(#REF!=$E$1,IF(#REF!=$G$1,#REF!,NA()),NA())","v":{"$error":"#REF!"}},{"$f":"IF(#REF!=$E$1,IF(#REF!=$G$1,IF(#REF!=\"\",NA(),#REF!),NA()),NA())","v":{"$error":"#REF!"}},{"$f":"IF(#REF!=$E$1,IF(#REF!=$G$1,IF(#REF!=\"\",NA(),#REF!),NA()),NA())","v":{"$error":"#REF!"}},{"$error":"#REF!"},{"$error":"#REF!"}]
[null,null,null,{"$f":"IF(#REF!=$E$1,IF(#REF!=$G$1,#REF!,NA()),NA())","v":{"$error":"#REF!"}},{"$f":"IF(#REF!=$E$1,IF(#REF!=$G$1,#REF!,NA()),NA())","v":{"$error":"#REF!"}},{"$f":"IF(#REF!=$E$1,IF(#REF!=$G$1,IF(#REF!=\"\",NA(),#REF!),NA()),NA())","v":{"$error":"#REF!"}},{"$f":"IF(#REF!=$E$1,IF(#REF!=$G$1,IF(#REF!=\"\",NA(),#REF!),NA()),NA())","v":{"$error":"#REF!"}},{"$error":"#REF!"},{"$error":"#REF!"}]
[null,null,null,{"$f":"IF(#REF!=$E$1,IF(#REF!=$G$1,#REF!,NA()),NA())","v":{"$error":"#REF!"}},{"$f":"IF(#REF!=$E$1,IF(#REF!=$G$1,#REF!,NA()),NA())","v":{"$error":"#REF!"}},{"$f":"IF(#REF!=$E$1,IF(#REF!=$G$1,IF(#REF!=\"\",NA(),#REF!),NA()),NA())","v":{"$error":"#REF!"}},{"$f":"IF(#REF!=$E$1,IF(#REF!=$G$1,IF(#REF!=\"\",NA(),#REF!),NA()),NA())","v":{"$error":"#REF!"}},{"$error":"#REF!"},{"$error":"#REF!"}]
[null,null,null,{"$f":"IF(#REF!=$E$1,IF(#REF!=$G$1,#REF!,NA()),NA())","v":{"$error":"#REF!"}},{"$f":"IF(#REF!=$E$1,IF(#REF!=$G$1,#REF!,NA()),NA())","v":{"$error":"#REF!"}},{"$f":"IF(#REF!=$E$1,IF(#REF!=$G$1,IF(#REF!=\"\",NA(),#REF!),NA()),NA())","v":{"$error":"#REF!"}},{"$f":"IF(#REF!=$E$1,IF(#REF!=$G$1,IF(#REF!=\"\",NA(),#REF!),NA()),NA())","v":{"$error":"#REF!"}},{"$error":"#REF!"},{"$error":"#REF!"}]
[null,null,null,{"$f":"IF(#REF!=$E$1,IF(#REF!=$G$1,#REF!,NA()),NA())","v":{"$error":"#REF!"}},{"$f":"IF(#REF!=$E$1,IF(#REF!=$G$1,#REF!,NA()),NA())","v":{"$error":"#REF!"}},{"$f":"IF(#REF!=$E$1,IF(#REF!=$G$1,IF(#REF!=\"\",NA(),#REF!),NA()),NA())","v":{"$error":"#REF!"}},{"$f":"IF(#REF!=$E$1,IF(#REF!=$G$1,IF(#REF!=\"\",NA(),#REF!),NA()),NA())","v":{"$error":"#REF!"}},{"$error":"#REF!"},{"$error":"#REF!"}]
[null,null,null,{"$f":"IF(#REF!=$E$1,IF(#REF!=$G$1,#REF!,NA()),NA())","v":{"$error":"#REF!"}},{"$f":"IF(#REF!=$E$1,IF(#REF!=$G$1,#REF!,NA()),NA())","v":{"$error":"#REF!"}},{"$f":"IF(#REF!=$E$1,IF(#REF!=$G$1,IF(#REF!=\"\",NA(),#REF!),NA()),NA())","v":{"$error":"#REF!"}},{"$f":"IF(#REF!=$E$1,IF(#REF!=$G$1,IF(#REF!=\"\",NA(),#REF!),NA()),NA())","v":{"$error":"#REF!"}},{"$error":"#REF!"},{"$error":"#REF!"}]
[null,null,null,{"$f":"IF(#REF!=$E$1,IF(#REF!=$G$1,#REF!,NA()),NA())","v":{"$error":"#REF!"}},{"$f":"IF(#REF!=$E$1,IF(#REF!=$G$1,#REF!,NA()),NA())","v":{"$error":"#REF!"}},{"$f":"IF(#REF!=$E$1,IF(#REF!=$G$1,IF(#REF!=\"\",NA(),#REF!),NA()),NA())","v":{"$error":"#REF!"}},{"$f":"IF(#REF!=$E$1,IF(#REF!=$G$1,IF(#REF!=\"\",NA(),#REF!),NA()),NA())","v":{"$error":"#REF!"}},{"$error":"#REF!"},{"$error":"#REF!"}]
[null,null,null,{"$f":"IF(#REF!=$E$1,IF(#REF!=$G$1,#REF!,NA()),NA())","v":{"$error":"#REF!"}},{"$f":"IF(#REF!=$E$1,IF(#REF!=$G$1,#REF!,NA()),NA())","v":{"$error":"#REF!"}},{"$f":"IF(#REF!=$E$1,IF(#REF!=$G$1,IF(#REF!=\"\",NA(),#REF!),NA()),NA())","v":{"$error":"#REF!"}},{"$f":"IF(#REF!=$E$1,IF(#REF!=$G$1,IF(#REF!=\"\",NA(),#REF!),NA()),NA())","v":{"$error":"#REF!"}},{"$error":"#REF!"},{"$error":"#REF!"}]
[null,null,null,{"$f":"IF(#REF!=$E$1,IF(#REF!=$G$1,#REF!,NA()),NA())","v":{"$error":"#REF!"}},{"$f":"IF(#REF!=$E$1,IF(#REF!=$G$1,#REF!,NA()),NA())","v":{"$error":"#REF!"}},{"$f":"IF(#REF!=$E$1,IF(#REF!=$G$1,IF(#REF!=\"\",NA(),#REF!),NA()),NA())","v":{"$error":"#REF!"}},{"$f":"IF(#REF!=$E$1,IF(#REF!=$G$1,IF(#REF!=\"\",NA(),#REF!),NA()),NA())","v":{"$error":"#REF!"}},{"$error":"#REF!"},{"$error":"#REF!"}]
[null,null,null,{"$f":"IF(#REF!=$E$1,IF(#REF!=$G$1,#REF!,NA()),NA())","v":{"$error":"#REF!"}},{"$f":"IF(#REF!=$E$1,IF(#REF!=$G$1,#REF!,NA()),NA())","v":{"$error":"#REF!"}},{"$f":"IF(#REF!=$E$1,IF(#REF!=$G$1,IF(#REF!=\"\",NA(),#REF!),NA()),NA())","v":{"$error":"#REF!"}},{"$f":"IF(#REF!=$E$1,IF(#REF!=$G$1,IF(#REF!=\"\",NA(),#REF!),NA()),NA())","v":{"$error":"#REF!"}},{"$error":"#REF!"},{"$error":"#REF!"}]
[null,null,null,{"$f":"IF(#REF!=$E$1,IF(#REF!=$G$1,#REF!,NA()),NA())","v":{"$error":"#REF!"}},{"$f":"IF(#REF!=$E$1,IF(#REF!=$G$1,#REF!,NA()),NA())","v":{"$error":"#REF!"}},{"$f":"IF(#REF!=$E$1,IF(#REF!=$G$1,IF(#REF!=\"\",NA(),#REF!),NA()),NA())","v":{"$error":"#REF!"}},{"$f":"IF(#REF!=$E$1,IF(#REF!=$G$1,IF(#REF!=\"\",NA(),#REF!),NA()),NA())","v":{"$error":"#REF!"}},{"$error":"#REF!"},{"$error":"#REF!"}]
[null,null,null,{"$f":"IF(#REF!=$E$1,IF(#REF!=$G$1,#REF!,NA()),NA())","v":{"$error":"#REF!"}},{"$f":"IF(#REF!=$E$1,IF(#REF!=$G$1,#REF!,NA()),NA())","v":{"$error":"#REF!"}},{"$f":"IF(#REF!=$E$1,IF(#REF!=$G$1,IF(#REF!=\"\",NA(),#REF!),NA()),NA())","v":{"$error":"#REF!"}},{"$f":"IF(#REF!=$E$1,IF(#REF!=$G$1,IF(#REF!=\"\",NA(),#REF!),NA()),NA())","v":{"$error":"#REF!"}},{"$error":"#REF!"},{"$error":"#REF!"}]
[null,null,null,{"$f":"IF(#REF!=$E$1,IF(#REF!=$G$1,#REF!,NA()),NA())","v":{"$error":"#REF!"}},{"$f":"IF(#REF!=$E$1,IF(#REF!=$G$1,#REF!,NA()),NA())","v":{"$error":"#REF!"}},{"$f":"IF(#REF!=$E$1,IF(#REF!=$G$1,IF(#REF!=\"\",NA(),#REF!),NA()),NA())","v":{"$error":"#REF!"}},{"$f":"IF(#REF!=$E$1,IF(#REF!=$G$1,IF(#REF!=\"\",NA(),#REF!),NA()),NA())","v":{"$error":"#REF!"}},{"$error":"#REF!"},{"$error":"#REF!"}]
[null,null,null,{"$f":"IF(#REF!=$E$1,IF(#REF!=$G$1,#REF!,NA()),NA())","v":{"$error":"#REF!"}},{"$f":"IF(#REF!=$E$1,IF(#REF!=$G$1,#REF!,NA()),NA())","v":{"$error":"#REF!"}},{"$f":"IF(#REF!=$E$1,IF(#REF!=$G$1,IF(#REF!=\"\",NA(),#REF!),NA()),NA())","v":{"$error":"#REF!"}},{"$f":"IF(#REF!=$E$1,IF(#REF!=$G$1,IF(#REF!=\"\",NA(),#REF!),NA()),NA())","v":{"$error":"#REF!"}},{"$error":"#REF!"},{"$error":"#REF!"}]
[null,null,null,{"$f":"IF(#REF!=$E$1,IF(#REF!=$G$1,#REF!,NA()),NA())","v":{"$error":"#REF!"}},{"$f":"IF(#REF!=$E$1,IF(#REF!=$G$1,#REF!,NA()),NA())","v":{"$error":"#REF!"}},{"$f":"IF(#REF!=$E$1,IF(#REF!=$G$1,IF(#REF!=\"\",NA(),#REF!),NA()),NA())","v":{"$error":"#REF!"}},{"$f":"IF(#REF!=$E$1,IF(#REF!=$G$1,IF(#REF!=\"\",NA(),#REF!),NA()),NA())","v":{"$error":"#REF!"}},{"$error":"#REF!"},{"$error":"#REF!"}]
[null,null,null,{"$f":"IF(#REF!=$E$1,IF(#REF!=$G$1,#REF!,NA()),NA())","v":{"$error":"#REF!"}},{"$f":"IF(#REF!=$E$1,IF(#REF!=$G$1,#REF!,NA()),NA())","v":{"$error":"#REF!"}},{"$f":"IF(#REF!=$E$1,IF(#REF!=$G$1,IF(#REF!=\"\",NA(),#REF!),NA()),NA())","v":{"$error":"#REF!"}},{"$f":"IF(#REF!=$E$1,IF(#REF!=$G$1,IF(#REF!=\"\",NA(),#REF!),NA()),NA())","v":{"$error":"#REF!"}},{"$error":"#REF!"},{"$error":"#REF!"}]
[null,null,null,{"$f":"IF(#REF!=$E$1,IF(#REF!=$G$1,#REF!,NA()),NA())","v":{"$error":"#REF!"}},{"$f":"IF(#REF!=$E$1,IF(#REF!=$G$1,#REF!,NA()),NA())","v":{"$error":"#REF!"}},{"$f":"IF(#REF!=$E$1,IF(#REF!=$G$1,IF(#REF!=\"\",NA(),#REF!),NA()),NA())","v":{"$error":"#REF!"}},{"$f":"IF(#REF!=$E$1,IF(#REF!=$G$1,IF(#REF!=\"\",NA(),#REF!),NA()),NA())","v":{"$error":"#REF!"}},{"$error":"#REF!"},{"$error":"#REF!"}]
[null,null,null,{"$f":"IF(#REF!=$E$1,IF(#REF!=$G$1,#REF!,NA()),NA())","v":{"$error":"#REF!"}},{"$f":"IF(#REF!=$E$1,IF(#REF!=$G$1,#REF!,NA()),NA())","v":{"$error":"#REF!"}},{"$f":"IF(#REF!=$E$1,IF(#REF!=$G$1,IF(#REF!=\"\",NA(),#REF!),NA()),NA())","v":{"$error":"#REF!"}},{"$f":"IF(#REF!=$E$1,IF(#REF!=$G$1,IF(#REF!=\"\",NA(),#REF!),NA()),NA())","v":{"$error":"#REF!"}},{"$error":"#REF!"},{"$error":"#REF!"}]
[null,null,null,{"$f":"IF(#REF!=$E$1,IF(#REF!=$G$1,#REF!,NA()),NA())","v":{"$error":"#REF!"}},{"$f":"IF(#REF!=$E$1,IF(#REF!=$G$1,#REF!,NA()),NA())","v":{"$error":"#REF!"}},{"$f":"IF(#REF!=$E$1,IF(#REF!=$G$1,IF(#REF!=\"\",NA(),#REF!),NA()),NA())","v":{"$error":"#REF!"}},{"$f":"IF(#REF!=$E$1,IF(#REF!=$G$1,IF(#REF!=\"\",NA(),#REF!),NA()),NA())","v":{"$error":"#REF!"}},{"$error":"#REF!"},{"$error":"#REF!"}]
[null,null,null,{"$f":"IF(#REF!=$E$1,IF(#REF!=$G$1,#REF!,NA()),NA())","v":{"$error":"#REF!"}},{"$f":"IF(#REF!=$E$1,IF(#REF!=$G$1,#REF!,NA()),NA())","v":{"$error":"#REF!"}},{"$f":"IF(#REF!=$E$1,IF(#REF!=$G$1,IF(#REF!=\"\",NA(),#REF!),NA()),NA())","v":{"$error":"#REF!"}},{"$f":"IF(#REF!=$E$1,IF(#REF!=$G$1,IF(#REF!=\"\",NA(),#REF!),NA()),NA())","v":{"$error":"#REF!"}},{"$error":"#REF!"},{"$error":"#REF!"}]
[null,null,null,{"$f":"IF(#REF!=$E$1,IF(#REF!=$G$1,#REF!,NA()),NA())","v":{"$error":"#REF!"}},{"$f":"IF(#REF!=$E$1,IF(#REF!=$G$1,#REF!,NA()),NA())","v":{"$error":"#REF!"}},{"$f":"IF(#REF!=$E$1,IF(#REF!=$G$1,IF(#REF!=\"\",NA(),#REF!),NA()),NA())","v":{"$error":"#REF!"}},{"$f":"IF(#REF!=$E$1,IF(#REF!=$G$1,IF(#REF!=\"\",NA(),#REF!),NA()),NA())","v":{"$error":"#REF!"}},{"$error":"#REF!"},{"$error":"#REF!"}]
[null,null,null,{"$f":"IF(#REF!=$E$1,IF(#REF!=$G$1,#REF!,NA()),NA())","v":{"$error":"#REF!"}},{"$f":"IF(#REF!=$E$1,IF(#REF!=$G$1,#REF!,NA()),NA())","v":{"$error":"#REF!"}},{"$f":"IF(#REF!=$E$1,IF(#REF!=$G$1,IF(#REF!=\"\",NA(),#REF!),NA()),NA())","v":{"$error":"#REF!"}},{"$f":"IF(#REF!=$E$1,IF(#REF!=$G$1,IF(#REF!=\"\",NA(),#REF!),NA()),NA())","v":{"$error":"#REF!"}},{"$error":"#REF!"},{"$error":"#REF!"}]
[null,null,null,{"$f":"IF(#REF!=$E$1,IF(#REF!=$G$1,#REF!,NA()),NA())","v":{"$error":"#REF!"}},{"$f":"IF(#REF!=$E$1,IF(#REF!=$G$1,#REF!,NA()),NA())","v":{"$error":"#REF!"}},{"$f":"IF(#REF!=$E$1,IF(#REF!=$G$1,IF(#REF!=\"\",NA(),#REF!),NA()),NA())","v":{"$error":"#REF!"}},{"$f":"IF(#REF!=$E$1,IF(#REF!=$G$1,IF(#REF!=\"\",NA(),#REF!),NA()),NA())","v":{"$error":"#REF!"}},{"$error":"#REF!"},{"$error":"#REF!"}]
[null,null,null,{"$f":"IF(#REF!=$E$1,IF(#REF!=$G$1,#REF!,NA()),NA())","v":{"$error":"#REF!"}},{"$f":"IF(#REF!=$E$1,IF(#REF!=$G$1,#REF!,NA()),NA())","v":{"$error":"#REF!"}},{"$f":"IF(#REF!=$E$1,IF(#REF!=$G$1,IF(#REF!=\"\",NA(),#REF!),NA()),NA())","v":{"$error":"#REF!"}},{"$f":"IF(#REF!=$E$1,IF(#REF!=$G$1,IF(#REF!=\"\",NA(),#REF!),NA()),NA())","v":{"$error":"#REF!"}},{"$error":"#REF!"},{"$error":"#REF!"}]
[null,null,null,{"$f":"IF(#REF!=$E$1,IF(#REF!=$G$1,#REF!,NA()),NA())","v":{"$error":"#REF!"}},{"$f":"IF(#REF!=$E$1,IF(#REF!=$G$1,#REF!,NA()),NA())","v":{"$error":"#REF!"}},{"$f":"IF(#REF!=$E$1,IF(#REF!=$G$1,IF(#REF!=\"\",NA(),#REF!),NA()),NA())","v":{"$error":"#REF!"}},{"$f":"IF(#REF!=$E$1,IF(#REF!=$G$1,IF(#REF!=\"\",NA(),#REF!),NA()),NA())","v":{"$error":"#REF!"}},{"$error":"#REF!"},{"$error":"#REF!"}]
[null,null,null,{"$f":"IF(#REF!=$E$1,IF(#REF!=$G$1,#REF!,NA()),NA())","v":{"$error":"#REF!"}},{"$f":"IF(#REF!=$E$1,IF(#REF!=$G$1,#REF!,NA()),NA())","v":{"$error":"#REF!"}},{"$f":"IF(#REF!=$E$1,IF(#REF!=$G$1,IF(#REF!=\"\",NA(),#REF!),NA()),NA())","v":{"$error":"#REF!"}},{"$f":"IF(#REF!=$E$1,IF(#REF!=$G$1,IF(#REF!=\"\",NA(),#REF!),NA()),NA())","v":{"$error":"#REF!"}},{"$error":"#REF!"},{"$error":"#REF!"}]
[null,null,null,{"$f":"IF(#REF!=$E$1,IF(#REF!=$G$1,#REF!,NA()),NA())","v":{"$error":"#REF!"}},{"$f":"IF(#REF!=$E$1,IF(#REF!=$G$1,#REF!,NA()),NA())","v":{"$error":"#REF!"}},{"$f":"IF(#REF!=$E$1,IF(#REF!=$G$1,IF(#REF!=\"\",NA(),#REF!),NA()),NA())","v":{"$error":"#REF!"}},{"$f":"IF(#REF!=$E$1,IF(#REF!=$G$1,IF(#REF!=\"\",NA(),#REF!),NA()),NA())","v":{"$error":"#REF!"}},{"$error":"#REF!"},{"$error":"#REF!"}]
[null,null,null,{"$f":"IF(#REF!=$E$1,IF(#REF!=$G$1,#REF!,NA()),NA())","v":{"$error":"#REF!"}},{"$f":"IF(#REF!=$E$1,IF(#REF!=$G$1,#REF!,NA()),NA())","v":{"$error":"#REF!"}},{"$f":"IF(#REF!=$E$1,IF(#REF!=$G$1,IF(#REF!=\"\",NA(),#REF!),NA()),NA())","v":{"$error":"#REF!"}},{"$f":"IF(#REF!=$E$1,IF(#REF!=$G$1,IF(#REF!=\"\",NA(),#REF!),NA()),NA())","v":{"$error":"#REF!"}},{"$error":"#REF!"},{"$error":"#REF!"}]
[null,null,null,{"$f":"IF(#REF!=$E$1,IF(#REF!=$G$1,#REF!,NA()),NA())","v":{"$error":"#REF!"}},{"$f":"IF(#REF!=$E$1,IF(#REF!=$G$1,#REF!,NA()),NA())","v":{"$error":"#REF!"}},{"$f":"IF(#REF!=$E$1,IF(#REF!=$G$1,IF(#REF!=\"\",NA(),#REF!),NA()),NA())","v":{"$error":"#REF!"}},{"$f":"IF(#REF!=$E$1,IF(#REF!=$G$1,IF(#REF!=\"\",NA(),#REF!),NA()),NA())","v":{"$error":"#REF!"}},{"$error":"#REF!"},{"$error":"#REF!"}]
[null,null,null,{"$f":"IF(#REF!=$E$1,IF(#REF!=$G$1,#REF!,NA()),NA())","v":{"$error":"#REF!"}},{"$f":"IF(#REF!=$E$1,IF(#REF!=$G$1,#REF!,NA()),NA())","v":{"$error":"#REF!"}},{"$f":"IF(#REF!=$E$1,IF(#REF!=$G$1,IF(#REF!=\"\",NA(),#REF!),NA()),NA())","v":{"$error":"#REF!"}},{"$f":"IF(#REF!=$E$1,IF(#REF!=$G$1,IF(#REF!=\"\",NA(),#REF!),NA()),NA())","v":{"$error":"#REF!"}},{"$error":"#REF!"},{"$error":"#REF!"}]
[null,null,null,{"$f":"IF(#REF!=$E$1,IF(#REF!=$G$1,#REF!,NA()),NA())","v":{"$error":"#REF!"}},{"$f":"IF(#REF!=$E$1,IF(#REF!=$G$1,#REF!,NA()),NA())","v":{"$error":"#REF!"}},{"$f":"IF(#REF!=$E$1,IF(#REF!=$G$1,IF(#REF!=\"\",NA(),#REF!),NA()),NA())","v":{"$error":"#REF!"}},{"$f":"IF(#REF!=$E$1,IF(#REF!=$G$1,IF(#REF!=\"\",NA(),#REF!),NA()),NA())","v":{"$error":"#REF!"}},{"$error":"#REF!"},{"$error":"#REF!"}]
[null,null,null,{"$f":"IF(#REF!=$E$1,IF(#REF!=$G$1,#REF!,NA()),NA())","v":{"$error":"#REF!"}},{"$f":"IF(#REF!=$E$1,IF(#REF!=$G$1,#REF!,NA()),NA())","v":{"$error":"#REF!"}},{"$f":"IF(#REF!=$E$1,IF(#REF!=$G$1,IF(#REF!=\"\",NA(),#REF!),NA()),NA())","v":{"$error":"#REF!"}},{"$f":"IF(#REF!=$E$1,IF(#REF!=$G$1,IF(#REF!=\"\",NA(),#REF!),NA()),NA())","v":{"$error":"#REF!"}},{"$error":"#REF!"},{"$error":"#REF!"}]
[null,null,null,{"$f":"IF(#REF!=$E$1,IF(#REF!=$G$1,#REF!,NA()),NA())","v":{"$error":"#REF!"}},{"$f":"IF(#REF!=$E$1,IF(#REF!=$G$1,#REF!,NA()),NA())","v":{"$error":"#REF!"}},{"$f":"IF(#REF!=$E$1,IF(#REF!=$G$1,IF(#REF!=\"\",NA(),#REF!),NA()),NA())","v":{"$error":"#REF!"}},{"$f":"IF(#REF!=$E$1,IF(#REF!=$G$1,IF(#REF!=\"\",NA(),#REF!),NA()),NA())","v":{"$error":"#REF!"}},{"$error":"#REF!"},{"$error":"#REF!"}]
[null,null,null,{"$f":"IF(#REF!=$E$1,IF(#REF!=$G$1,#REF!,NA()),NA())","v":{"$error":"#REF!"}},{"$f":"IF(#REF!=$E$1,IF(#REF!=$G$1,#REF!,NA()),NA())","v":{"$error":"#REF!"}},{"$f":"IF(#REF!=$E$1,IF(#REF!=$G$1,IF(#REF!=\"\",NA(),#REF!),NA()),NA())","v":{"$error":"#REF!"}},{"$f":"IF(#REF!=$E$1,IF(#REF!=$G$1,IF(#REF!=\"\",NA(),#REF!),NA()),NA())","v":{"$error":"#REF!"}},{"$error":"#REF!"},{"$error":"#REF!"}]
[null,null,null,{"$f":"IF(#REF!=$E$1,IF(#REF!=$G$1,#REF!,NA()),NA())","v":{"$error":"#REF!"}},{"$f":"IF(#REF!=$E$1,IF(#REF!=$G$1,#REF!,NA()),NA())","v":{"$error":"#REF!"}},{"$f":"IF(#REF!=$E$1,IF(#REF!=$G$1,IF(#REF!=\"\",NA(),#REF!),NA()),NA())","v":{"$error":"#REF!"}},{"$f":"IF(#REF!=$E$1,IF(#REF!=$G$1,IF(#REF!=\"\",NA(),#REF!),NA()),NA())","v":{"$error":"#REF!"}},{"$error":"#REF!"},{"$error":"#REF!"}]
[null,null,null,{"$f":"IF(#REF!=$E$1,IF(#REF!=$G$1,#REF!,NA()),NA())","v":{"$error":"#REF!"}},{"$f":"IF(#REF!=$E$1,IF(#REF!=$G$1,#REF!,NA()),NA())","v":{"$error":"#REF!"}},{"$f":"IF(#REF!=$E$1,IF(#REF!=$G$1,IF(#REF!=\"\",NA(),#REF!),NA()),NA())","v":{"$error":"#REF!"}},{"$f":"IF(#REF!=$E$1,IF(#REF!=$G$1,IF(#REF!=\"\",NA(),#REF!),NA()),NA())","v":{"$error":"#REF!"}},{"$error":"#REF!"},{"$error":"#REF!"}]
[null,null,null,{"$f":"IF(#REF!=$E$1,IF(#REF!=$G$1,#REF!,NA()),NA())","v":{"$error":"#REF!"}},{"$f":"IF(#REF!=$E$1,IF(#REF!=$G$1,#REF!,NA()),NA())","v":{"$error":"#REF!"}},{"$f":"IF(#REF!=$E$1,IF(#REF!=$G$1,IF(#REF!=\"\",NA(),#REF!),NA()),NA())","v":{"$error":"#REF!"}},{"$f":"IF(#REF!=$E$1,IF(#REF!=$G$1,IF(#REF!=\"\",NA(),#REF!),NA()),NA())","v":{"$error":"#REF!"}},{"$error":"#REF!"},{"$error":"#REF!"}]
[null,null,null,{"$f":"IF(#REF!=$E$1,IF(#REF!=$G$1,#REF!,NA()),NA())","v":{"$error":"#REF!"}},{"$f":"IF(#REF!=$E$1,IF(#REF!=$G$1,#REF!,NA()),NA())","v":{"$error":"#REF!"}},{"$f":"IF(#REF!=$E$1,IF(#REF!=$G$1,IF(#REF!=\"\",NA(),#REF!),NA()),NA())","v":{"$error":"#REF!"}},{"$f":"IF(#REF!=$E$1,IF(#REF!=$G$1,IF(#REF!=\"\",NA(),#REF!),NA()),NA())","v":{"$error":"#REF!"}},{"$error":"#REF!"},{"$error":"#REF!"}]
[null,null,null,{"$f":"IF(#REF!=$E$1,IF(#REF!=$G$1,#REF!,NA()),NA())","v":{"$error":"#REF!"}},{"$f":"IF(#REF!=$E$1,IF(#REF!=$G$1,#REF!,NA()),NA())","v":{"$error":"#REF!"}},{"$f":"IF(#REF!=$E$1,IF(#REF!=$G$1,IF(#REF!=\"\",NA(),#REF!),NA()),NA())","v":{"$error":"#REF!"}},{"$f":"IF(#REF!=$E$1,IF(#REF!=$G$1,IF(#REF!=\"\",NA(),#REF!),NA()),NA())","v":{"$error":"#REF!"}},{"$error":"#REF!"},{"$error":"#REF!"}]
[null,null,null,{"$f":"IF(#REF!=$E$1,IF(#REF!=$G$1,#REF!,NA()),NA())","v":{"$error":"#REF!"}},{"$f":"IF(#REF!=$E$1,IF(#REF!=$G$1,#REF!,NA()),NA())","v":{"$error":"#REF!"}},{"$f":"IF(#REF!=$E$1,IF(#REF!=$G$1,IF(#REF!=\"\",NA(),#REF!),NA()),NA())","v":{"$error":"#REF!"}},{"$f":"IF(#REF!=$E$1,IF(#REF!=$G$1,IF(#REF!=\"\",NA(),#REF!),NA()),NA())","v":{"$error":"#REF!"}},{"$error":"#REF!"},{"$error":"#REF!"}]
[null,null,null,{"$f":"IF(#REF!=$E$1,IF(#REF!=$G$1,#REF!,NA()),NA())","v":{"$error":"#REF!"}},{"$f":"IF(#REF!=$E$1,IF(#REF!=$G$1,#REF!,NA()),NA())","v":{"$error":"#REF!"}},{"$f":"IF(#REF!=$E$1,IF(#REF!=$G$1,IF(#REF!=\"\",NA(),#REF!),NA()),NA())","v":{"$error":"#REF!"}},{"$f":"IF(#REF!=$E$1,IF(#REF!=$G$1,IF(#REF!=\"\",NA(),#REF!),NA()),NA())","v":{"$error":"#REF!"}},{"$error":"#REF!"},{"$error":"#REF!"}]
[null,null,null,{"$f":"IF(#REF!=$E$1,IF(#REF!=$G$1,#REF!,NA()),NA())","v":{"$error":"#REF!"}},{"$f":"IF(#REF!=$E$1,IF(#REF!=$G$1,#REF!,NA()),NA())","v":{"$error":"#REF!"}},{"$f":"IF(#REF!=$E$1,IF(#REF!=$G$1,IF(#REF!=\"\",NA(),#REF!),NA()),NA())","v":{"$error":"#REF!"}},{"$f":"IF(#REF!=$E$1,IF(#REF!=$G$1,IF(#REF!=\"\",NA(),#REF!),NA()),NA())","v":{"$error":"#REF!"}},{"$error":"#REF!"},{"$error":"#REF!"}]
[null,null,null,{"$f":"IF(#REF!=$E$1,IF(#REF!=$G$1,#REF!,NA()),NA())","v":{"$error":"#REF!"}},{"$f":"IF(#REF!=$E$1,IF(#REF!=$G$1,#REF!,NA()),NA())","v":{"$error":"#REF!"}},{"$f":"IF(#REF!=$E$1,IF(#REF!=$G$1,IF(#REF!=\"\",NA(),#REF!),NA()),NA())","v":{"$error":"#REF!"}},{"$f":"IF(#REF!=$E$1,IF(#REF!=$G$1,IF(#REF!=\"\",NA(),#REF!),NA()),NA())","v":{"$error":"#REF!"}},{"$error":"#REF!"},{"$error":"#REF!"}]
[null,null,null,{"$f":"IF(#REF!=$E$1,IF(#REF!=$G$1,#REF!,NA()),NA())","v":{"$error":"#REF!"}},{"$f":"IF(#REF!=$E$1,IF(#REF!=$G$1,#REF!,NA()),NA())","v":{"$error":"#REF!"}},{"$f":"IF(#REF!=$E$1,IF(#REF!=$G$1,IF(#REF!=\"\",NA(),#REF!),NA()),NA())","v":{"$error":"#REF!"}},{"$f":"IF(#REF!=$E$1,IF(#REF!=$G$1,IF(#REF!=\"\",NA(),#REF!),NA()),NA())","v":{"$error":"#REF!"}},{"$error":"#REF!"},{"$error":"#REF!"}]
[null,null,null,{"$f":"IF(#REF!=$E$1,IF(#REF!=$G$1,#REF!,NA()),NA())","v":{"$error":"#REF!"}},{"$f":"IF(#REF!=$E$1,IF(#REF!=$G$1,#REF!,NA()),NA())","v":{"$error":"#REF!"}},{"$f":"IF(#REF!=$E$1,IF(#REF!=$G$1,IF(#REF!=\"\",NA(),#REF!),NA()),NA())","v":{"$error":"#REF!"}},{"$f":"IF(#REF!=$E$1,IF(#REF!=$G$1,IF(#REF!=\"\",NA(),#REF!),NA()),NA())","v":{"$error":"#REF!"}},{"$error":"#REF!"},{"$error":"#REF!"}]
[null,null,null,{"$f":"IF(#REF!=$E$1,IF(#REF!=$G$1,#REF!,NA()),NA())","v":{"$error":"#REF!"}},{"$f":"IF(#REF!=$E$1,IF(#REF!=$G$1,#REF!,NA()),NA())","v":{"$error":"#REF!"}},{"$f":"IF(#REF!=$E$1,IF(#REF!=$G$1,IF(#REF!=\"\",NA(),#REF!),NA()),NA())","v":{"$error":"#REF!"}},{"$f":"IF(#REF!=$E$1,IF(#REF!=$G$1,IF(#REF!=\"\",NA(),#REF!),NA()),NA())","v":{"$error":"#REF!"}},{"$error":"#REF!"},{"$error":"#REF!"}]
[null,null,null,{"$f":"IF(#REF!=$E$1,IF(#REF!=$G$1,#REF!,NA()),NA())","v":{"$error":"#REF!"}},{"$f":"IF(#REF!=$E$1,IF(#REF!=$G$1,#REF!,NA()),NA())","v":{"$error":"#REF!"}},{"$f":"IF(#REF!=$E$1,IF(#REF!=$G$1,IF(#REF!=\"\",NA(),#REF!),NA()),NA())","v":{"$error":"#REF!"}},{"$f":"IF(#REF!=$E$1,IF(#REF!=$G$1,IF(#REF!=\"\",NA(),#REF!),NA()),NA())","v":{"$error":"#REF!"}},{"$error":"#REF!"},{"$error":"#REF!"}]
[null,null,null,{"$f":"IF(#REF!=$E$1,IF(#REF!=$G$1,#REF!,NA()),NA())","v":{"$error":"#REF!"}},{"$f":"IF(#REF!=$E$1,IF(#REF!=$G$1,#REF!,NA()),NA())","v":{"$error":"#REF!"}},{"$f":"IF(#REF!=$E$1,IF(#REF!=$G$1,IF(#REF!=\"\",NA(),#REF!),NA()),NA())","v":{"$error":"#REF!"}},{"$f":"IF(#REF!=$E$1,IF(#REF!=$G$1,IF(#REF!=\"\",NA(),#REF!),NA()),NA())","v":{"$error":"#REF!"}},{"$f":"IF(AND(ISNUMBER(G580),F580=\"-\"),0,F580)","v":{"$error":"#REF!"}},{"$f":"IF(AND(ISNUMBER(F580),G580=\"-\"),0,G580)","v":{"$error":"#REF!"}}]
[null,null,null,{"$f":"IF(#REF!=$E$1,IF(#REF!=$G$1,#REF!,NA()),NA())","v":{"$error":"#REF!"}},{"$f":"IF(#REF!=$E$1,IF(#REF!=$G$1,#REF!,NA()),NA())","v":{"$error":"#REF!"}},{"$f":"IF(#REF!=$E$1,IF(#REF!=$G$1,IF(#REF!=\"\",NA(),#REF!),NA()),NA())","v":{"$error":"#REF!"}},{"$f":"IF(#REF!=$E$1,IF(#REF!=$G$1,IF(#REF!=\"\",NA(),#REF!),NA()),NA())","v":{"$error":"#REF!"}},{"$error":"#REF!"},{"$error":"#REF!"}]
[null,null,null,{"$f":"IF(#REF!=$E$1,IF(#REF!=$G$1,#REF!,NA()),NA())","v":{"$error":"#REF!"}},{"$f":"IF(#REF!=$E$1,IF(#REF!=$G$1,#REF!,NA()),NA())","v":{"$error":"#REF!"}},{"$f":"IF(#REF!=$E$1,IF(#REF!=$G$1,IF(#REF!=\"\",NA(),#REF!),NA()),NA())","v":{"$error":"#REF!"}},{"$f":"IF(#REF!=$E$1,IF(#REF!=$G$1,IF(#REF!=\"\",NA(),#REF!),NA()),NA())","v":{"$error":"#REF!"}},{"$error":"#REF!"},{"$error":"#REF!"}]
[null,null,null,{"$f":"IF(#REF!=$E$1,IF(#REF!=$G$1,#REF!,NA()),NA())","v":{"$error":"#REF!"}},{"$f":"IF(#REF!=$E$1,IF(#REF!=$G$1,#REF!,NA()),NA())","v":{"$error":"#REF!"}},{"$f":"IF(#REF!=$E$1,IF(#REF!=$G$1,IF(#REF!=\"\",NA(),#REF!),NA()),NA())","v":{"$error":"#REF!"}},{"$f":"IF(#REF!=$E$1,IF(#REF!=$G$1,IF(#REF!=\"\",NA(),#REF!),NA()),NA())","v":{"$error":"#REF!"}},{"$error":"#REF!"},{"$error":"#REF!"}]
[null,null,null,{"$f":"IF(#REF!=$E$1,IF(#REF!=$G$1,#REF!,NA()),NA())","v":{"$error":"#REF!"}},{"$f":"IF(#REF!=$E$1,IF(#REF!=$G$1,#REF!,NA()),NA())","v":{"$error":"#REF!"}},{"$f":"IF(#REF!=$E$1,IF(#REF!=$G$1,IF(#REF!=\"\",NA(),#REF!),NA()),NA())","v":{"$error":"#REF!"}},{"$f":"IF(#REF!=$E$1,IF(#REF!=$G$1,IF(#REF!=\"\",NA(),#REF!),NA()),NA())","v":{"$error":"#REF!"}},{"$error":"#REF!"},{"$error":"#REF!"}]
[null,null,null,{"$f":"IF(#REF!=$E$1,IF(#REF!=$G$1,#REF!,NA()),NA())","v":{"$error":"#REF!"}},{"$f":"IF(#REF!=$E$1,IF(#REF!=$G$1,#REF!,NA()),NA())","v":{"$error":"#REF!"}},{"$f":"IF(#REF!=$E$1,IF(#REF!=$G$1,IF(#REF!=\"\",NA(),#REF!),NA()),NA())","v":{"$error":"#REF!"}},{"$f":"IF(#REF!=$E$1,IF(#REF!=$G$1,IF(#REF!=\"\",NA(),#REF!),NA()),NA())","v":{"$error":"#REF!"}},{"$error":"#REF!"},{"$error":"#REF!"}]
[null,null,null,{"$f":"IF(#REF!=$E$1,IF(#REF!=$G$1,#REF!,NA()),NA())","v":{"$error":"#REF!"}},{"$f":"IF(#REF!=$E$1,IF(#REF!=$G$1,#REF!,NA()),NA())","v":{"$error":"#REF!"}},{"$f":"IF(#REF!=$E$1,IF(#REF!=$G$1,IF(#REF!=\"\",NA(),#REF!),NA()),NA())","v":{"$error":"#REF!"}},{"$f":"IF(#REF!=$E$1,IF(#REF!=$G$1,IF(#REF!=\"\",NA(),#REF!),NA()),NA())","v":{"$error":"#REF!"}},{"$error":"#REF!"},{"$error":"#REF!"}]
[null,null,null,{"$f":"IF(#REF!=$E$1,IF(#REF!=$G$1,#REF!,NA()),NA())","v":{"$error":"#REF!"}},{"$f":"IF(#REF!=$E$1,IF(#REF!=$G$1,#REF!,NA()),NA())","v":{"$error":"#REF!"}},{"$f":"IF(#REF!=$E$1,IF(#REF!=$G$1,IF(#REF!=\"\",NA(),#REF!),NA()),NA())","v":{"$error":"#REF!"}},{"$f":"IF(#REF!=$E$1,IF(#REF!=$G$1,IF(#REF!=\"\",NA(),#REF!),NA()),NA())","v":{"$error":"#REF!"}},{"$error":"#REF!"},{"$error":"#REF!"}]
[null,null,null,{"$f":"IF(#REF!=$E$1,IF(#REF!=$G$1,#REF!,NA()),NA())","v":{"$error":"#REF!"}},{"$f":"IF(#REF!=$E$1,IF(#REF!=$G$1,#REF!,NA()),NA())","v":{"$error":"#REF!"}},{"$f":"IF(#REF!=$E$1,IF(#REF!=$G$1,IF(#REF!=\"\",NA(),#REF!),NA()),NA())","v":{"$error":"#REF!"}},{"$f":"IF(#REF!=$E$1,IF(#REF!=$G$1,IF(#REF!=\"\",NA(),#REF!),NA()),NA())","v":{"$error":"#REF!"}},{"$error":"#REF!"},{"$error":"#REF!"}]
[null,null,null,{"$f":"IF(#REF!=$E$1,IF(#REF!=$G$1,#REF!,NA()),NA())","v":{"$error":"#REF!"}},{"$f":"IF(#REF!=$E$1,IF(#REF!=$G$1,#REF!,NA()),NA())","v":{"$error":"#REF!"}},{"$f":"IF(#REF!=$E$1,IF(#REF!=$G$1,IF(#REF!=\"\",NA(),#REF!),NA()),NA())","v":{"$error":"#REF!"}},{"$f":"IF(#REF!=$E$1,IF(#REF!=$G$1,IF(#REF!=\"\",NA(),#REF!),NA()),NA())","v":{"$error":"#REF!"}},{"$error":"#REF!"},{"$error":"#REF!"}]
[null,null,null,{"$f":"IF(#REF!=$E$1,IF(#REF!=$G$1,#REF!,NA()),NA())","v":{"$error":"#REF!"}},{"$f":"IF(#REF!=$E$1,IF(#REF!=$G$1,#REF!,NA()),NA())","v":{"$error":"#REF!"}},{"$f":"IF(#REF!=$E$1,IF(#REF!=$G$1,IF(#REF!=\"\",NA(),#REF!),NA()),NA())","v":{"$error":"#REF!"}},{"$f":"IF(#REF!=$E$1,IF(#REF!=$G$1,IF(#REF!=\"\",NA(),#REF!),NA()),NA())","v":{"$error":"#REF!"}},{"$error":"#REF!"},{"$error":"#REF!"}]
[null,null,null,{"$f":"IF(#REF!=$E$1,IF(#REF!=$G$1,#REF!,NA()),NA())","v":{"$error":"#REF!"}},{"$f":"IF(#REF!=$E$1,IF(#REF!=$G$1,#REF!,NA()),NA())","v":{"$error":"#REF!"}},{"$f":"IF(#REF!=$E$1,IF(#REF!=$G$1,IF(#REF!=\"\",NA(),#REF!),NA()),NA())","v":{"$error":"#REF!"}},{"$f":"IF(#REF!=$E$1,IF(#REF!=$G$1,IF(#REF!=\"\",NA(),#REF!),NA()),NA())","v":{"$error":"#REF!"}},{"$error":"#REF!"},{"$error":"#REF!"}]
[null,null,null,{"$f":"IF(#REF!=$E$1,IF(#REF!=$G$1,#REF!,NA()),NA())","v":{"$error":"#REF!"}},{"$f":"IF(#REF!=$E$1,IF(#REF!=$G$1,#REF!,NA()),NA())","v":{"$error":"#REF!"}},{"$f":"IF(#REF!=$E$1,IF(#REF!=$G$1,IF(#REF!=\"\",NA(),#REF!),NA()),NA())","v":{"$error":"#REF!"}},{"$f":"IF(#REF!=$E$1,IF(#REF!=$G$1,IF(#REF!=\"\",NA(),#REF!),NA()),NA())","v":{"$error":"#REF!"}},{"$error":"#REF!"},{"$error":"#REF!"}]
[null,null,null,{"$f":"IF(#REF!=$E$1,IF(#REF!=$G$1,#REF!,NA()),NA())","v":{"$error":"#REF!"}},{"$f":"IF(#REF!=$E$1,IF(#REF!=$G$1,#REF!,NA()),NA())","v":{"$error":"#REF!"}},{"$f":"IF(#REF!=$E$1,IF(#REF!=$G$1,IF(#REF!=\"\",NA(),#REF!),NA()),NA())","v":{"$error":"#REF!"}},{"$f":"IF(#REF!=$E$1,IF(#REF!=$G$1,IF(#REF!=\"\",NA(),#REF!),NA()),NA())","v":{"$error":"#REF!"}},{"$error":"#REF!"},{"$error":"#REF!"}]
[null,null,null,{"$f":"IF(#REF!=$E$1,IF(#REF!=$G$1,#REF!,NA()),NA())","v":{"$error":"#REF!"}},{"$f":"IF(#REF!=$E$1,IF(#REF!=$G$1,#REF!,NA()),NA())","v":{"$error":"#REF!"}},{"$f":"IF(#REF!=$E$1,IF(#REF!=$G$1,IF(#REF!=\"\",NA(),#REF!),NA()),NA())","v":{"$error":"#REF!"}},{"$f":"IF(#REF!=$E$1,IF(#REF!=$G$1,IF(#REF!=\"\",NA(),#REF!),NA()),NA())","v":{"$error":"#REF!"}},{"$error":"#REF!"},{"$error":"#REF!"}]
[null,null,null,{"$f":"IF(#REF!=$E$1,IF(#REF!=$G$1,#REF!,NA()),NA())","v":{"$error":"#REF!"}},{"$f":"IF(#REF!=$E$1,IF(#REF!=$G$1,#REF!,NA()),NA())","v":{"$error":"#REF!"}},{"$f":"IF(#REF!=$E$1,IF(#REF!=$G$1,IF(#REF!=\"\",NA(),#REF!),NA()),NA())","v":{"$error":"#REF!"}},{"$f":"IF(#REF!=$E$1,IF(#REF!=$G$1,IF(#REF!=\"\",NA(),#REF!),NA()),NA())","v":{"$error":"#REF!"}},{"$error":"#REF!"},{"$error":"#REF!"}]
[null,null,null,{"$f":"IF(#REF!=$E$1,IF(#REF!=$G$1,#REF!,NA()),NA())","v":{"$error":"#REF!"}},{"$f":"IF(#REF!=$E$1,IF(#REF!=$G$1,#REF!,NA()),NA())","v":{"$error":"#REF!"}},{"$f":"IF(#REF!=$E$1,IF(#REF!=$G$1,IF(#REF!=\"\",NA(),#REF!),NA()),NA())","v":{"$error":"#REF!"}},{"$f":"IF(#REF!=$E$1,IF(#REF!=$G$1,IF(#REF!=\"\",NA(),#REF!),NA()),NA())","v":{"$error":"#REF!"}},{"$error":"#REF!"},{"$error":"#REF!"}]
[null,null,null,{"$f":"IF(#REF!=$E$1,IF(#REF!=$G$1,#REF!,NA()),NA())","v":{"$error":"#REF!"}},{"$f":"IF(#REF!=$E$1,IF(#REF!=$G$1,#REF!,NA()),NA())","v":{"$error":"#REF!"}},{"$f":"IF(#REF!=$E$1,IF(#REF!=$G$1,IF(#REF!=\"\",NA(),#REF!),NA()),NA())","v":{"$error":"#REF!"}},{"$f":"IF(#REF!=$E$1,IF(#REF!=$G$1,IF(#REF!=\"\",NA(),#REF!),NA()),NA())","v":{"$error":"#REF!"}},{"$error":"#REF!"},{"$error":"#REF!"}]
[null,null,null,{"$f":"IF(#REF!=$E$1,IF(#REF!=$G$1,#REF!,NA()),NA())","v":{"$error":"#REF!"}},{"$f":"IF(#REF!=$E$1,IF(#REF!=$G$1,#REF!,NA()),NA())","v":{"$error":"#REF!"}},{"$f":"IF(#REF!=$E$1,IF(#REF!=$G$1,IF(#REF!=\"\",NA(),#REF!),NA()),NA())","v":{"$error":"#REF!"}},{"$f":"IF(#REF!=$E$1,IF(#REF!=$G$1,IF(#REF!=\"\",NA(),#REF!),NA()),NA())","v":{"$error":"#REF!"}},{"$error":"#REF!"},{"$error":"#REF!"}]
[null,null,null,{"$f":"IF(#REF!=$E$1,IF(#REF!=$G$1,#REF!,NA()),NA())","v":{"$error":"#REF!"}},{"$f":"IF(#REF!=$E$1,IF(#REF!=$G$1,#REF!,NA()),NA())","v":{"$error":"#REF!"}},{"$f":"IF(#REF!=$E$1,IF(#REF!=$G$1,IF(#REF!=\"\",NA(),#REF!),NA()),NA())","v":{"$error":"#REF!"}},{"$f":"IF(#REF!=$E$1,IF(#REF!=$G$1,IF(#REF!=\"\",NA(),#REF!),NA()),NA())","v":{"$error":"#REF!"}},{"$error":"#REF!"},{"$error":"#REF!"}]
[null,null,null,{"$f":"IF(#REF!=$E$1,IF(#REF!=$G$1,#REF!,NA()),NA())","v":{"$error":"#REF!"}},{"$f":"IF(#REF!=$E$1,IF(#REF!=$G$1,#REF!,NA()),NA())","v":{"$error":"#REF!"}},{"$f":"IF(#REF!=$E$1,IF(#REF!=$G$1,IF(#REF!=\"\",NA(),#REF!),NA()),NA())","v":{"$error":"#REF!"}},{"$f":"IF(#REF!=$E$1,IF(#REF!=$G$1,IF(#REF!=\"\",NA(),#REF!),NA()),NA())","v":{"$error":"#REF!"}},{"$error":"#REF!"},{"$error":"#REF!"}]
[null,null,null,{"$f":"IF(#REF!=$E$1,IF(#REF!=$G$1,#REF!,NA()),NA())","v":{"$error":"#REF!"}},{"$f":"IF(#REF!=$E$1,IF(#REF!=$G$1,#REF!,NA()),NA())","v":{"$error":"#REF!"}},{"$f":"IF(#REF!=$E$1,IF(#REF!=$G$1,IF(#REF!=\"\",NA(),#REF!),NA()),NA())","v":{"$error":"#REF!"}},{"$f":"IF(#REF!=$E$1,IF(#REF!=$G$1,IF(#REF!=\"\",NA(),#REF!),NA()),NA())","v":{"$error":"#REF!"}},{"$error":"#REF!"},{"$error":"#REF!"}]
[null,null,null,{"$f":"IF(#REF!=$E$1,IF(#REF!=$G$1,#REF!,NA()),NA())","v":{"$error":"#REF!"}},{"$f":"IF(#REF!=$E$1,IF(#REF!=$G$1,#REF!,NA()),NA())","v":{"$error":"#REF!"}},{"$f":"IF(#REF!=$E$1,IF(#REF!=$G$1,IF(#REF!=\"\",NA(),#REF!),NA()),NA())","v":{"$error":"#REF!"}},{"$f":"IF(#REF!=$E$1,IF(#REF!=$G$1,IF(#REF!=\"\",NA(),#REF!),NA()),NA())","v":{"$error":"#REF!"}},{"$error":"#REF!"},{"$error":"#REF!"}]
[null,null,null,{"$f":"IF(#REF!=$E$1,IF(#REF!=$G$1,#REF!,NA()),NA())","v":{"$error":"#REF!"}},{"$f":"IF(#REF!=$E$1,IF(#REF!=$G$1,#REF!,NA()),NA())","v":{"$error":"#REF!"}},{"$f":"IF(#REF!=$E$1,IF(#REF!=$G$1,IF(#REF!=\"\",NA(),#REF!),NA()),NA())","v":{"$error":"#REF!"}},{"$f":"IF(#REF!=$E$1,IF(#REF!=$G$1,IF(#REF!=\"\",NA(),#REF!),NA()),NA())","v":{"$error":"#REF!"}},{"$error":"#REF!"},{"$error":"#REF!"}]
[null,null,null,{"$f":"IF(#REF!=$E$1,IF(#REF!=$G$1,#REF!,NA()),NA())","v":{"$error":"#REF!"}},{"$f":"IF(#REF!=$E$1,IF(#REF!=$G$1,#REF!,NA()),NA())","v":{"$error":"#REF!"}},{"$f":"IF(#REF!=$E$1,IF(#REF!=$G$1,IF(#REF!=\"\",NA(),#REF!),NA()),NA())","v":{"$error":"#REF!"}},{"$f":"IF(#REF!=$E$1,IF(#REF!=$G$1,IF(#REF!=\"\",NA(),#REF!),NA()),NA())","v":{"$error":"#REF!"}},{"$error":"#REF!"},{"$error":"#REF!"}]
[null,null,null,{"$f":"IF(#REF!=$E$1,IF(#REF!=$G$1,#REF!,NA()),NA())","v":{"$error":"#REF!"}},{"$f":"IF(#REF!=$E$1,IF(#REF!=$G$1,#REF!,NA()),NA())","v":{"$error":"#REF!"}},{"$f":"IF(#REF!=$E$1,IF(#REF!=$G$1,IF(#REF!=\"\",NA(),#REF!),NA()),NA())","v":{"$error":"#REF!"}},{"$f":"IF(#REF!=$E$1,IF(#REF!=$G$1,IF(#REF!=\"\",NA(),#REF!),NA()),NA())","v":{"$error":"#REF!"}},{"$error":"#REF!"},{"$error":"#REF!"}]
[null,null,null,{"$f":"IF(#REF!=$E$1,IF(#REF!=$G$1,#REF!,NA()),NA())","v":{"$error":"#REF!"}},{"$f":"IF(#REF!=$E$1,IF(#REF!=$G$1,#REF!,NA()),NA())","v":{"$error":"#REF!"}},{"$f":"IF(#REF!=$E$1,IF(#REF!=$G$1,IF(#REF!=\"\",NA(),#REF!),NA()),NA())","v":{"$error":"#REF!"}},{"$f":"IF(#REF!=$E$1,IF(#REF!=$G$1,IF(#REF!=\"\",NA(),#REF!),NA()),NA())","v":{"$error":"#REF!"}},{"$error":"#REF!"},{"$error":"#REF!"}]
[null,null,null,{"$f":"IF(#REF!=$E$1,IF(#REF!=$G$1,#REF!,NA()),NA())","v":{"$error":"#REF!"}},{"$f":"IF(#REF!=$E$1,IF(#REF!=$G$1,#REF!,NA()),NA())","v":{"$error":"#REF!"}},{"$f":"IF(#REF!=$E$1,IF(#REF!=$G$1,IF(#REF!=\"\",NA(),#REF!),NA()),NA())","v":{"$error":"#REF!"}},{"$f":"IF(#REF!=$E$1,IF(#REF!=$G$1,IF(#REF!=\"\",NA(),#REF!),NA()),NA())","v":{"$error":"#REF!"}},{"$error":"#REF!"},{"$error":"#REF!"}]
[null,null,null,{"$f":"IF(#REF!=$E$1,IF(#REF!=$G$1,#REF!,NA()),NA())","v":{"$error":"#REF!"}},{"$f":"IF(#REF!=$E$1,IF(#REF!=$G$1,#REF!,NA()),NA())","v":{"$error":"#REF!"}},{"$f":"IF(#REF!=$E$1,IF(#REF!=$G$1,IF(#REF!=\"\",NA(),#REF!),NA()),NA())","v":{"$error":"#REF!"}},{"$f":"IF(#REF!=$E$1,IF(#REF!=$G$1,IF(#REF!=\"\",NA(),#REF!),NA()),NA())","v":{"$error":"#REF!"}},{"$error":"#REF!"},{"$error":"#REF!"}]
[null,null,null,{"$f":"IF(#REF!=$E$1,IF(#REF!=$G$1,#REF!,NA()),NA())","v":{"$error":"#REF!"}},{"$f":"IF(#REF!=$E$1,IF(#REF!=$G$1,#REF!,NA()),NA())","v":{"$error":"#REF!"}},{"$f":"IF(#REF!=$E$1,IF(#REF!=$G$1,IF(#REF!=\"\",NA(),#REF!),NA()),NA())","v":{"$error":"#REF!"}},{"$f":"IF(#REF!=$E$1,IF(#REF!=$G$1,IF(#REF!=\"\",NA(),#REF!),NA()),NA())","v":{"$error":"#REF!"}},{"$error":"#REF!"},{"$error":"#REF!"}]
[null,null,null,{"$f":"IF(#REF!=$E$1,IF(#REF!=$G$1,#REF!,NA()),NA())","v":{"$error":"#REF!"}},{"$f":"IF(#REF!=$E$1,IF(#REF!=$G$1,#REF!,NA()),NA())","v":{"$error":"#REF!"}},{"$f":"IF(#REF!=$E$1,IF(#REF!=$G$1,IF(#REF!=\"\",NA(),#REF!),NA()),NA())","v":{"$error":"#REF!"}},{"$f":"IF(#REF!=$E$1,IF(#REF!=$G$1,IF(#REF!=\"\",NA(),#REF!),NA()),NA())","v":{"$error":"#REF!"}},{"$error":"#REF!"},{"$error":"#REF!"}]
[null,null,null,{"$f":"IF(#REF!=$E$1,IF(#REF!=$G$1,#REF!,NA()),NA())","v":{"$error":"#REF!"}},{"$f":"IF(#REF!=$E$1,IF(#REF!=$G$1,#REF!,NA()),NA())","v":{"$error":"#REF!"}},{"$f":"IF(#REF!=$E$1,IF(#REF!=$G$1,IF(#REF!=\"\",NA(),#REF!),NA()),NA())","v":{"$error":"#REF!"}},{"$f":"IF(#REF!=$E$1,IF(#REF!=$G$1,IF(#REF!=\"\",NA(),#REF!),NA()),NA())","v":{"$error":"#REF!"}},{"$error":"#REF!"},{"$error":"#REF!"}]
[null,null,null,{"$f":"IF(#REF!=$E$1,IF(#REF!=$G$1,#REF!,NA()),NA())","v":{"$error":"#REF!"}},{"$f":"IF(#REF!=$E$1,IF(#REF!=$G$1,#REF!,NA()),NA())","v":{"$error":"#REF!"}},{"$f":"IF(#REF!=$E$1,IF(#REF!=$G$1,IF(#REF!=\"\",NA(),#REF!),NA()),NA())","v":{"$error":"#REF!"}},{"$f":"IF(#REF!=$E$1,IF(#REF!=$G$1,IF(#REF!=\"\",NA(),#REF!),NA()),NA())","v":{"$error":"#REF!"}},{"$error":"#REF!"},{"$error":"#REF!"}]
[null,null,null,{"$f":"IF(#REF!=$E$1,IF(#REF!=$G$1,#REF!,NA()),NA())","v":{"$error":"#REF!"}},{"$f":"IF(#REF!=$E$1,IF(#REF!=$G$1,#REF!,NA()),NA())","v":{"$error":"#REF!"}},{"$f":"IF(#REF!=$E$1,IF(#REF!=$G$1,IF(#REF!=\"\",NA(),#REF!),NA()),NA())","v":{"$error":"#REF!"}},{"$f":"IF(#REF!=$E$1,IF(#REF!=$G$1,IF(#REF!=\"\",NA(),#REF!),NA()),NA())","v":{"$error":"#REF!"}},{"$error":"#REF!"},{"$error":"#REF!"}]
[null,null,null,{"$f":"IF(#REF!=$E$1,IF(#REF!=$G$1,#REF!,NA()),NA())","v":{"$error":"#REF!"}},{"$f":"IF(#REF!=$E$1,IF(#REF!=$G$1,#REF!,NA()),NA())","v":{"$error":"#REF!"}},{"$f":"IF(#REF!=$E$1,IF(#REF!=$G$1,IF(#REF!=\"\",NA(),#REF!),NA()),NA())","v":{"$error":"#REF!"}},{"$f":"IF(#REF!=$E$1,IF(#REF!=$G$1,IF(#REF!=\"\",NA(),#REF!),NA()),NA())","v":{"$error":"#REF!"}},{"$error":"#REF!"},{"$error":"#REF!"}]
[null,null,null,{"$f":"IF(#REF!=$E$1,IF(#REF!=$G$1,#REF!,NA()),NA())","v":{"$error":"#REF!"}},{"$f":"IF(#REF!=$E$1,IF(#REF!=$G$1,#REF!,NA()),NA())","v":{"$error":"#REF!"}},{"$f":"IF(#REF!=$E$1,IF(#REF!=$G$1,IF(#REF!=\"\",NA(),#REF!),NA()),NA())","v":{"$error":"#REF!"}},{"$f":"IF(#REF!=$E$1,IF(#REF!=$G$1,IF(#REF!=\"\",NA(),#REF!),NA()),NA())","v":{"$error":"#REF!"}},{"$error":"#REF!"},{"$error":"#REF!"}]
[null,null,null,{"$f":"IF(#REF!=$E$1,IF(#REF!=$G$1,#REF!,NA()),NA())","v":{"$error":"#REF!"}},{"$f":"IF(#REF!=$E$1,IF(#REF!=$G$1,#REF!,NA()),NA())","v":{"$error":"#REF!"}},{"$f":"IF(#REF!=$E$1,IF(#REF!=$G$1,IF(#REF!=\"\",NA(),#REF!),NA()),NA())","v":{"$error":"#REF!"}},{"$f":"IF(#REF!=$E$1,IF(#REF!=$G$1,IF(#REF!=\"\",NA(),#REF!),NA()),NA())","v":{"$error":"#REF!"}},{"$error":"#REF!"},{"$error":"#REF!"}]
[null,null,null,{"$f":"IF(#REF!=$E$1,IF(#REF!=$G$1,#REF!,NA()),NA())","v":{"$error":"#REF!"}},{"$f":"IF(#REF!=$E$1,IF(#REF!=$G$1,#REF!,NA()),NA())","v":{"$error":"#REF!"}},{"$f":"IF(#REF!=$E$1,IF(#REF!=$G$1,IF(#REF!=\"\",NA(),#REF!),NA()),NA())","v":{"$error":"#REF!"}},{"$f":"IF(#REF!=$E$1,IF(#REF!=$G$1,IF(#REF!=\"\",NA(),#REF!),NA()),NA())","v":{"$error":"#REF!"}},{"$error":"#REF!"},{"$error":"#REF!"}]
[null,null,null,{"$f":"IF(#REF!=$E$1,IF(#REF!=$G$1,#REF!,NA()),NA())","v":{"$error":"#REF!"}},{"$f":"IF(#REF!=$E$1,IF(#REF!=$G$1,#REF!,NA()),NA())","v":{"$error":"#REF!"}},{"$f":"IF(#REF!=$E$1,IF(#REF!=$G$1,IF(#REF!=\"\",NA(),#REF!),NA()),NA())","v":{"$error":"#REF!"}},{"$f":"IF(#REF!=$E$1,IF(#REF!=$G$1,IF(#REF!=\"\",NA(),#REF!),NA()),NA())","v":{"$error":"#REF!"}},{"$error":"#REF!"},{"$error":"#REF!"}]
[null,null,null,{"$f":"IF(#REF!=$E$1,IF(#REF!=$G$1,#REF!,NA()),NA())","v":{"$error":"#REF!"}},{"$f":"IF(#REF!=$E$1,IF(#REF!=$G$1,#REF!,NA()),NA())","v":{"$error":"#REF!"}},{"$f":"IF(#REF!=$E$1,IF(#REF!=$G$1,IF(#REF!=\"\",NA(),#REF!),NA()),NA())","v":{"$error":"#REF!"}},{"$f":"IF(#REF!=$E$1,IF(#REF!=$G$1,IF(#REF!=\"\",NA(),#REF!),NA()),NA())","v":{"$error":"#REF!"}},{"$error":"#REF!"},{"$error":"#REF!"}]
[null,null,null,{"$f":"IF(#REF!=$E$1,IF(#REF!=$G$1,#REF!,NA()),NA())","v":{"$error":"#REF!"}},{"$f":"IF(#REF!=$E$1,IF(#REF!=$G$1,#REF!,NA()),NA())","v":{"$error":"#REF!"}},{"$f":"IF(#REF!=$E$1,IF(#REF!=$G$1,IF(#REF!=\"\",NA(),#REF!),NA()),NA())","v":{"$error":"#REF!"}},{"$f":"IF(#REF!=$E$1,IF(#REF!=$G$1,IF(#REF!=\"\",NA(),#REF!),NA()),NA())","v":{"$error":"#REF!"}},{"$error":"#REF!"},{"$error":"#REF!"}]
[null,null,null,{"$f":"IF(#REF!=$E$1,IF(#REF!=$G$1,#REF!,NA()),NA())","v":{"$error":"#REF!"}},{"$f":"IF(#REF!=$E$1,IF(#REF!=$G$1,#REF!,NA()),NA())","v":{"$error":"#REF!"}},{"$f":"IF(#REF!=$E$1,IF(#REF!=$G$1,IF(#REF!=\"\",NA(),#REF!),NA()),NA())","v":{"$error":"#REF!"}},{"$f":"IF(#REF!=$E$1,IF(#REF!=$G$1,IF(#REF!=\"\",NA(),#REF!),NA()),NA())","v":{"$error":"#REF!"}},{"$error":"#REF!"},{"$error":"#REF!"}]
[null,null,null,{"$f":"IF(#REF!=$E$1,IF(#REF!=$G$1,#REF!,NA()),NA())","v":{"$error":"#REF!"}},{"$f":"IF(#REF!=$E$1,IF(#REF!=$G$1,#REF!,NA()),NA())","v":{"$error":"#REF!"}},{"$f":"IF(#REF!=$E$1,IF(#REF!=$G$1,IF(#REF!=\"\",NA(),#REF!),NA()),NA())","v":{"$error":"#REF!"}},{"$f":"IF(#REF!=$E$1,IF(#REF!=$G$1,IF(#REF!=\"\",NA(),#REF!),NA()),NA())","v":{"$error":"#REF!"}},{"$error":"#REF!"},{"$error":"#REF!"}]
[null,null,null,{"$f":"IF(#REF!=$E$1,IF(#REF!=$G$1,#REF!,NA()),NA())","v":{"$error":"#REF!"}},{"$f":"IF(#REF!=$E$1,IF(#REF!=$G$1,#REF!,NA()),NA())","v":{"$error":"#REF!"}},{"$f":"IF(#REF!=$E$1,IF(#REF!=$G$1,IF(#REF!=\"\",NA(),#REF!),NA()),NA())","v":{"$error":"#REF!"}},{"$f":"IF(#REF!=$E$1,IF(#REF!=$G$1,IF(#REF!=\"\",NA(),#REF!),NA()),NA())","v":{"$error":"#REF!"}},{"$error":"#REF!"},{"$error":"#REF!"}]
[null,null,null,{"$f":"IF(#REF!=$E$1,IF(#REF!=$G$1,#REF!,NA()),NA())","v":{"$error":"#REF!"}},{"$f":"IF(#REF!=$E$1,IF(#REF!=$G$1,#REF!,NA()),NA())","v":{"$error":"#REF!"}},{"$f":"IF(#REF!=$E$1,IF(#REF!=$G$1,IF(#REF!=\"\",NA(),#REF!),NA()),NA())","v":{"$error":"#REF!"}},{"$f":"IF(#REF!=$E$1,IF(#REF!=$G$1,IF(#REF!=\"\",NA(),#REF!),NA()),NA())","v":{"$error":"#REF!"}},{"$error":"#REF!"},{"$error":"#REF!"}]
[null,null,null,{"$f":"IF(#REF!=$E$1,IF(#REF!=$G$1,#REF!,NA()),NA())","v":{"$error":"#REF!"}},{"$f":"IF(#REF!=$E$1,IF(#REF!=$G$1,#REF!,NA()),NA())","v":{"$error":"#REF!"}},{"$f":"IF(#REF!=$E$1,IF(#REF!=$G$1,IF(#REF!=\"\",NA(),#REF!),NA()),NA())","v":{"$error":"#REF!"}},{"$f":"IF(#REF!=$E$1,IF(#REF!=$G$1,IF(#REF!=\"\",NA(),#REF!),NA()),NA())","v":{"$error":"#REF!"}},{"$error":"#REF!"},{"$error":"#REF!"}]
[null,null,null,{"$f":"IF(#REF!=$E$1,IF(#REF!=$G$1,#REF!,NA()),NA())","v":{"$error":"#REF!"}},{"$f":"IF(#REF!=$E$1,IF(#REF!=$G$1,#REF!,NA()),NA())","v":{"$error":"#REF!"}},{"$f":"IF(#REF!=$E$1,IF(#REF!=$G$1,IF(#REF!=\"\",NA(),#REF!),NA()),NA())","v":{"$error":"#REF!"}},{"$f":"IF(#REF!=$E$1,IF(#REF!=$G$1,IF(#REF!=\"\",NA(),#REF!),NA()),NA())","v":{"$error":"#REF!"}},{"$error":"#REF!"},{"$error":"#REF!"}]
[null,null,null,{"$f":"IF(#REF!=$E$1,IF(#REF!=$G$1,#REF!,NA()),NA())","v":{"$error":"#REF!"}},{"$f":"IF(#REF!=$E$1,IF(#REF!=$G$1,#REF!,NA()),NA())","v":{"$error":"#REF!"}},{"$f":"IF(#REF!=$E$1,IF(#REF!=$G$1,IF(#REF!=\"\",NA(),#REF!),NA()),NA())","v":{"$error":"#REF!"}},{"$f":"IF(#REF!=$E$1,IF(#REF!=$G$1,IF(#REF!=\"\",NA(),#REF!),NA()),NA())","v":{"$error":"#REF!"}},{"$error":"#REF!"},{"$error":"#REF!"}]
[null,null,null,{"$f":"IF(#REF!=$E$1,IF(#REF!=$G$1,#REF!,NA()),NA())","v":{"$error":"#REF!"}},{"$f":"IF(#REF!=$E$1,IF(#REF!=$G$1,#REF!,NA()),NA())","v":{"$error":"#REF!"}},{"$f":"IF(#REF!=$E$1,IF(#REF!=$G$1,IF(#REF!=\"\",NA(),#REF!),NA()),NA())","v":{"$error":"#REF!"}},{"$f":"IF(#REF!=$E$1,IF(#REF!=$G$1,IF(#REF!=\"\",NA(),#REF!),NA()),NA())","v":{"$error":"#REF!"}},{"$error":"#REF!"},{"$error":"#REF!"}]
[null,null,null,{"$f":"IF(#REF!=$E$1,IF(#REF!=$G$1,#REF!,NA()),NA())","v":{"$error":"#REF!"}},{"$f":"IF(#REF!=$E$1,IF(#REF!=$G$1,#REF!,NA()),NA())","v":{"$error":"#REF!"}},{"$f":"IF(#REF!=$E$1,IF(#REF!=$G$1,IF(#REF!=\"\",NA(),#REF!),NA()),NA())","v":{"$error":"#REF!"}},{"$f":"IF(#REF!=$E$1,IF(#REF!=$G$1,IF(#REF!=\"\",NA(),#REF!),NA()),NA())","v":{"$error":"#REF!"}},{"$error":"#REF!"},{"$error":"#REF!"}]
[null,null,null,{"$f":"IF(#REF!=$E$1,IF(#REF!=$G$1,#REF!,NA()),NA())","v":{"$error":"#REF!"}},{"$f":"IF(#REF!=$E$1,IF(#REF!=$G$1,#REF!,NA()),NA())","v":{"$error":"#REF!"}},{"$f":"IF(#REF!=$E$1,IF(#REF!=$G$1,IF(#REF!=\"\",NA(),#REF!),NA()),NA())","v":{"$error":"#REF!"}},{"$f":"IF(#REF!=$E$1,IF(#REF!=$G$1,IF(#REF!=\"\",NA(),#REF!),NA()),NA())","v":{"$error":"#REF!"}},{"$error":"#REF!"},{"$error":"#REF!"}]
[null,null,null,{"$f":"IF(#REF!=$E$1,IF(#REF!=$G$1,#REF!,NA()),NA())","v":{"$error":"#REF!"}},{"$f":"IF(#REF!=$E$1,IF(#REF!=$G$1,#REF!,NA()),NA())","v":{"$error":"#REF!"}},{"$f":"IF(#REF!=$E$1,IF(#REF!=$G$1,IF(#REF!=\"\",NA(),#REF!),NA()),NA())","v":{"$error":"#REF!"}},{"$f":"IF(#REF!=$E$1,IF(#REF!=$G$1,IF(#REF!=\"\",NA(),#REF!),NA()),NA())","v":{"$error":"#REF!"}},{"$error":"#REF!"},{"$error":"#REF!"}]
[null,null,null,{"$f":"IF(#REF!=$E$1,IF(#REF!=$G$1,#REF!,NA()),NA())","v":{"$error":"#REF!"}},{"$f":"IF(#REF!=$E$1,IF(#REF!=$G$1,#REF!,NA()),NA())","v":{"$error":"#REF!"}},{"$f":"IF(#REF!=$E$1,IF(#REF!=$G$1,IF(#REF!=\"\",NA(),#REF!),NA()),NA())","v":{"$error":"#REF!"}},{"$f":"IF(#REF!=$E$1,IF(#REF!=$G$1,IF(#REF!=\"\",NA(),#REF!),NA()),NA())","v":{"$error":"#REF!"}},{"$error":"#REF!"},{"$error":"#REF!"}]
[null,null,null,{"$f":"IF(#REF!=$E$1,IF(#REF!=$G$1,#REF!,NA()),NA())","v":{"$error":"#REF!"}},{"$f":"IF(#REF!=$E$1,IF(#REF!=$G$1,#REF!,NA()),NA())","v":{"$error":"#REF!"}},{"$f":"IF(#REF!=$E$1,IF(#REF!=$G$1,IF(#REF!=\"\",NA(),#REF!),NA()),NA())","v":{"$error":"#REF!"}},{"$f":"IF(#REF!=$E$1,IF(#REF!=$G$1,IF(#REF!=\"\",NA(),#REF!),NA()),NA())","v":{"$error":"#REF!"}},{"$error":"#REF!"},{"$error":"#REF!"}]
[null,null,null,{"$f":"IF(#REF!=$E$1,IF(#REF!=$G$1,#REF!,NA()),NA())","v":{"$error":"#REF!"}},{"$f":"IF(#REF!=$E$1,IF(#REF!=$G$1,#REF!,NA()),NA())","v":{"$error":"#REF!"}},{"$f":"IF(#REF!=$E$1,IF(#REF!=$G$1,IF(#REF!=\"\",NA(),#REF!),NA()),NA())","v":{"$error":"#REF!"}},{"$f":"IF(#REF!=$E$1,IF(#REF!=$G$1,IF(#REF!=\"\",NA(),#REF!),NA()),NA())","v":{"$error":"#REF!"}},{"$error":"#REF!"},{"$error":"#REF!"}]
[null,null,null,{"$f":"IF(#REF!=$E$1,IF(#REF!=$G$1,#REF!,NA()),NA())","v":{"$error":"#REF!"}},{"$f":"IF(#REF!=$E$1,IF(#REF!=$G$1,#REF!,NA()),NA())","v":{"$error":"#REF!"}},{"$f":"IF(#REF!=$E$1,IF(#REF!=$G$1,IF(#REF!=\"\",NA(),#REF!),NA()),NA())","v":{"$error":"#REF!"}},{"$f":"IF(#REF!=$E$1,IF(#REF!=$G$1,IF(#REF!=\"\",NA(),#REF!),NA()),NA())","v":{"$error":"#REF!"}},{"$error":"#REF!"},{"$error":"#REF!"}]
[null,null,null,{"$f":"IF(#REF!=$E$1,IF(#REF!=$G$1,#REF!,NA()),NA())","v":{"$error":"#REF!"}},{"$f":"IF(#REF!=$E$1,IF(#REF!=$G$1,#REF!,NA()),NA())","v":{"$error":"#REF!"}},{"$f":"IF(#REF!=$E$1,IF(#REF!=$G$1,IF(#REF!=\"\",NA(),#REF!),NA()),NA())","v":{"$error":"#REF!"}},{"$f":"IF(#REF!=$E$1,IF(#REF!=$G$1,IF(#REF!=\"\",NA(),#REF!),NA()),NA())","v":{"$error":"#REF!"}},{"$error":"#REF!"},{"$error":"#REF!"}]
[null,null,null,{"$f":"IF(#REF!=$E$1,IF(#REF!=$G$1,#REF!,NA()),NA())","v":{"$error":"#REF!"}},{"$f":"IF(#REF!=$E$1,IF(#REF!=$G$1,#REF!,NA()),NA())","v":{"$error":"#REF!"}},{"$f":"IF(#REF!=$E$1,IF(#REF!=$G$1,IF(#REF!=\"\",NA(),#REF!),NA()),NA())","v":{"$error":"#REF!"}},{"$f":"IF(#REF!=$E$1,IF(#REF!=$G$1,IF(#REF!=\"\",NA(),#REF!),NA()),NA())","v":{"$error":"#REF!"}},{"$error":"#REF!"},{"$error":"#REF!"}]
[null,null,null,{"$f":"IF(#REF!=$E$1,IF(#REF!=$G$1,#REF!,NA()),NA())","v":{"$error":"#REF!"}},{"$f":"IF(#REF!=$E$1,IF(#REF!=$G$1,#REF!,NA()),NA())","v":{"$error":"#REF!"}},{"$f":"IF(#REF!=$E$1,IF(#REF!=$G$1,IF(#REF!=\"\",NA(),#REF!),NA()),NA())","v":{"$error":"#REF!"}},{"$f":"IF(#REF!=$E$1,IF(#REF!=$G$1,IF(#REF!=\"\",NA(),#REF!),NA()),NA())","v":{"$error":"#REF!"}},{"$error":"#REF!"},{"$error":"#REF!"}]
[null,null,null,{"$f":"IF(#REF!=$E$1,IF(#REF!=$G$1,#REF!,NA()),NA())","v":{"$error":"#REF!"}},{"$f":"IF(#REF!=$E$1,IF(#REF!=$G$1,#REF!,NA()),NA())","v":{"$error":"#REF!"}},{"$f":"IF(#REF!=$E$1,IF(#REF!=$G$1,IF(#REF!=\"\",NA(),#REF!),NA()),NA())","v":{"$error":"#REF!"}},{"$f":"IF(#REF!=$E$1,IF(#REF!=$G$1,IF(#REF!=\"\",NA(),#REF!),NA()),NA())","v":{"$error":"#REF!"}},{"$error":"#REF!"},{"$error":"#REF!"}]
[null,null,null,{"$f":"IF(#REF!=$E$1,IF(#REF!=$G$1,#REF!,NA()),NA())","v":{"$error":"#REF!"}},{"$f":"IF(#REF!=$E$1,IF(#REF!=$G$1,#REF!,NA()),NA())","v":{"$error":"#REF!"}},{"$f":"IF(#REF!=$E$1,IF(#REF!=$G$1,IF(#REF!=\"\",NA(),#REF!),NA()),NA())","v":{"$error":"#REF!"}},{"$f":"IF(#REF!=$E$1,IF(#REF!=$G$1,IF(#REF!=\"\",NA(),#REF!),NA()),NA())","v":{"$error":"#REF!"}},{"$error":"#REF!"},{"$error":"#REF!"}]
[null,null,null,{"$f":"IF(#REF!=$E$1,IF(#REF!=$G$1,#REF!,NA()),NA())","v":{"$error":"#REF!"}},{"$f":"IF(#REF!=$E$1,IF(#REF!=$G$1,#REF!,NA()),NA())","v":{"$error":"#REF!"}},{"$f":"IF(#REF!=$E$1,IF(#REF!=$G$1,IF(#REF!=\"\",NA(),#REF!),NA()),NA())","v":{"$error":"#REF!"}},{"$f":"IF(#REF!=$E$1,IF(#REF!=$G$1,IF(#REF!=\"\",NA(),#REF!),NA()),NA())","v":{"$error":"#REF!"}},{"$error":"#REF!"},{"$error":"#REF!"}]
[null,null,null,{"$f":"IF(#REF!=$E$1,IF(#REF!=$G$1,#REF!,NA()),NA())","v":{"$error":"#REF!"}},{"$f":"IF(#REF!=$E$1,IF(#REF!=$G$1,#REF!,NA()),NA())","v":{"$error":"#REF!"}},{"$f":"IF(#REF!=$E$1,IF(#REF!=$G$1,IF(#REF!=\"\",NA(),#REF!),NA()),NA())","v":{"$error":"#REF!"}},{"$f":"IF(#REF!=$E$1,IF(#REF!=$G$1,IF(#REF!=\"\",NA(),#REF!),NA()),NA())","v":{"$error":"#REF!"}},{"$error":"#REF!"},{"$error":"#REF!"}]
[null,null,null,{"$f":"IF(#REF!=$E$1,IF(#REF!=$G$1,#REF!,NA()),NA())","v":{"$error":"#REF!"}},{"$f":"IF(#REF!=$E$1,IF(#REF!=$G$1,#REF!,NA()),NA())","v":{"$error":"#REF!"}},{"$f":"IF(#REF!=$E$1,IF(#REF!=$G$1,IF(#REF!=\"\",NA(),#REF!),NA()),NA())","v":{"$error":"#REF!"}},{"$f":"IF(#REF!=$E$1,IF(#REF!=$G$1,IF(#REF!=\"\",NA(),#REF!),NA()),NA())","v":{"$error":"#REF!"}},{"$error":"#REF!"},{"$error":"#REF!"}]
[null,null,null,{"$f":"IF(#REF!=$E$1,IF(#REF!=$G$1,#REF!,NA()),NA())","v":{"$error":"#REF!"}},{"$f":"IF(#REF!=$E$1,IF(#REF!=$G$1,#REF!,NA()),NA())","v":{"$error":"#REF!"}},{"$f":"IF(#REF!=$E$1,IF(#REF!=$G$1,IF(#REF!=\"\",NA(),#REF!),NA()),NA())","v":{"$error":"#REF!"}},{"$f":"IF(#REF!=$E$1,IF(#REF!=$G$1,IF(#REF!=\"\",NA(),#REF!),NA()),NA())","v":{"$error":"#REF!"}},{"$f":"IF(AND(ISNUMBER(G644),F644=\"-\"),0,F644)","v":{"$error":"#REF!"}},{"$f":"IF(AND(ISNUMBER(F644),G644=\"-\"),0,G644)","v":{"$error":"#REF!"}}]
[null,null,null,{"$f":"IF(#REF!=$E$1,IF(#REF!=$G$1,#REF!,NA()),NA())","v":{"$error":"#REF!"}},{"$f":"IF(#REF!=$E$1,IF(#REF!=$G$1,#REF!,NA()),NA())","v":{"$error":"#REF!"}},{"$f":"IF(#REF!=$E$1,IF(#REF!=$G$1,IF(#REF!=\"\",NA(),#REF!),NA()),NA())","v":{"$error":"#REF!"}},{"$f":"IF(#REF!=$E$1,IF(#REF!=$G$1,IF(#REF!=\"\",NA(),#REF!),NA()),NA())","v":{"$error":"#REF!"}},{"$error":"#REF!"},{"$error":"#REF!"}]
[null,null,null,{"$f":"IF(#REF!=$E$1,IF(#REF!=$G$1,#REF!,NA()),NA())","v":{"$error":"#REF!"}},{"$f":"IF(#REF!=$E$1,IF(#REF!=$G$1,#REF!,NA()),NA())","v":{"$error":"#REF!"}},{"$f":"IF(#REF!=$E$1,IF(#REF!=$G$1,IF(#REF!=\"\",NA(),#REF!),NA()),NA())","v":{"$error":"#REF!"}},{"$f":"IF(#REF!=$E$1,IF(#REF!=$G$1,IF(#REF!=\"\",NA(),#REF!),NA()),NA())","v":{"$error":"#REF!"}},{"$error":"#REF!"},{"$error":"#REF!"}]
[null,null,null,{"$f":"IF(#REF!=$E$1,IF(#REF!=$G$1,#REF!,NA()),NA())","v":{"$error":"#REF!"}},{"$f":"IF(#REF!=$E$1,IF(#REF!=$G$1,#REF!,NA()),NA())","v":{"$error":"#REF!"}},{"$f":"IF(#REF!=$E$1,IF(#REF!=$G$1,IF(#REF!=\"\",NA(),#REF!),NA()),NA())","v":{"$error":"#REF!"}},{"$f":"IF(#REF!=$E$1,IF(#REF!=$G$1,IF(#REF!=\"\",NA(),#REF!),NA()),NA())","v":{"$error":"#REF!"}},{"$error":"#REF!"},{"$error":"#REF!"}]
[null,null,null,{"$f":"IF(#REF!=$E$1,IF(#REF!=$G$1,#REF!,NA()),NA())","v":{"$error":"#REF!"}},{"$f":"IF(#REF!=$E$1,IF(#REF!=$G$1,#REF!,NA()),NA())","v":{"$error":"#REF!"}},{"$f":"IF(#REF!=$E$1,IF(#REF!=$G$1,IF(#REF!=\"\",NA(),#REF!),NA()),NA())","v":{"$error":"#REF!"}},{"$f":"IF(#REF!=$E$1,IF(#REF!=$G$1,IF(#REF!=\"\",NA(),#REF!),NA()),NA())","v":{"$error":"#REF!"}},{"$error":"#REF!"},{"$error":"#REF!"}]
[null,null,null,{"$f":"IF(#REF!=$E$1,IF(#REF!=$G$1,#REF!,NA()),NA())","v":{"$error":"#REF!"}},{"$f":"IF(#REF!=$E$1,IF(#REF!=$G$1,#REF!,NA()),NA())","v":{"$error":"#REF!"}},{"$f":"IF(#REF!=$E$1,IF(#REF!=$G$1,IF(#REF!=\"\",NA(),#REF!),NA()),NA())","v":{"$error":"#REF!"}},{"$f":"IF(#REF!=$E$1,IF(#REF!=$G$1,IF(#REF!=\"\",NA(),#REF!),NA()),NA())","v":{"$error":"#REF!"}},{"$error":"#REF!"},{"$error":"#REF!"}]
[null,null,null,{"$f":"IF(#REF!=$E$1,IF(#REF!=$G$1,#REF!,NA()),NA())","v":{"$error":"#REF!"}},{"$f":"IF(#REF!=$E$1,IF(#REF!=$G$1,#REF!,NA()),NA())","v":{"$error":"#REF!"}},{"$f":"IF(#REF!=$E$1,IF(#REF!=$G$1,IF(#REF!=\"\",NA(),#REF!),NA()),NA())","v":{"$error":"#REF!"}},{"$f":"IF(#REF!=$E$1,IF(#REF!=$G$1,IF(#REF!=\"\",NA(),#REF!),NA()),NA())","v":{"$error":"#REF!"}},{"$error":"#REF!"},{"$error":"#REF!"}]
[null,null,null,{"$f":"IF(#REF!=$E$1,IF(#REF!=$G$1,#REF!,NA()),NA())","v":{"$error":"#REF!"}},{"$f":"IF(#REF!=$E$1,IF(#REF!=$G$1,#REF!,NA()),NA())","v":{"$error":"#REF!"}},{"$f":"IF(#REF!=$E$1,IF(#REF!=$G$1,IF(#REF!=\"\",NA(),#REF!),NA()),NA())","v":{"$error":"#REF!"}},{"$f":"IF(#REF!=$E$1,IF(#REF!=$G$1,IF(#REF!=\"\",NA(),#REF!),NA()),NA())","v":{"$error":"#REF!"}},{"$error":"#REF!"},{"$error":"#REF!"}]
[null,null,null,{"$f":"IF(#REF!=$E$1,IF(#REF!=$G$1,#REF!,NA()),NA())","v":{"$error":"#REF!"}},{"$f":"IF(#REF!=$E$1,IF(#REF!=$G$1,#REF!,NA()),NA())","v":{"$error":"#REF!"}},{"$f":"IF(#REF!=$E$1,IF(#REF!=$G$1,IF(#REF!=\"\",NA(),#REF!),NA()),NA())","v":{"$error":"#REF!"}},{"$f":"IF(#REF!=$E$1,IF(#REF!=$G$1,IF(#REF!=\"\",NA(),#REF!),NA()),NA())","v":{"$error":"#REF!"}},{"$error":"#REF!"},{"$error":"#REF!"}]
[null,null,null,{"$f":"IF(#REF!=$E$1,IF(#REF!=$G$1,#REF!,NA()),NA())","v":{"$error":"#REF!"}},{"$f":"IF(#REF!=$E$1,IF(#REF!=$G$1,#REF!,NA()),NA())","v":{"$error":"#REF!"}},{"$f":"IF(#REF!=$E$1,IF(#REF!=$G$1,IF(#REF!=\"\",NA(),#REF!),NA()),NA())","v":{"$error":"#REF!"}},{"$f":"IF(#REF!=$E$1,IF(#REF!=$G$1,IF(#REF!=\"\",NA(),#REF!),NA()),NA())","v":{"$error":"#REF!"}},{"$error":"#REF!"},{"$error":"#REF!"}]
[null,null,null,{"$f":"IF(#REF!=$E$1,IF(#REF!=$G$1,#REF!,NA()),NA())","v":{"$error":"#REF!"}},{"$f":"IF(#REF!=$E$1,IF(#REF!=$G$1,#REF!,NA()),NA())","v":{"$error":"#REF!"}},{"$f":"IF(#REF!=$E$1,IF(#REF!=$G$1,IF(#REF!=\"\",NA(),#REF!),NA()),NA())","v":{"$error":"#REF!"}},{"$f":"IF(#REF!=$E$1,IF(#REF!=$G$1,IF(#REF!=\"\",NA(),#REF!),NA()),NA())","v":{"$error":"#REF!"}},{"$error":"#REF!"},{"$error":"#REF!"}]
[null,null,null,{"$f":"IF(#REF!=$E$1,IF(#REF!=$G$1,#REF!,NA()),NA())","v":{"$error":"#REF!"}},{"$f":"IF(#REF!=$E$1,IF(#REF!=$G$1,#REF!,NA()),NA())","v":{"$error":"#REF!"}},{"$f":"IF(#REF!=$E$1,IF(#REF!=$G$1,IF(#REF!=\"\",NA(),#REF!),NA()),NA())","v":{"$error":"#REF!"}},{"$f":"IF(#REF!=$E$1,IF(#REF!=$G$1,IF(#REF!=\"\",NA(),#REF!),NA()),NA())","v":{"$error":"#REF!"}},{"$error":"#REF!"},{"$error":"#REF!"}]
[null,null,null,{"$f":"IF(#REF!=$E$1,IF(#REF!=$G$1,#REF!,NA()),NA())","v":{"$error":"#REF!"}},{"$f":"IF(#REF!=$E$1,IF(#REF!=$G$1,#REF!,NA()),NA())","v":{"$error":"#REF!"}},{"$f":"IF(#REF!=$E$1,IF(#REF!=$G$1,IF(#REF!=\"\",NA(),#REF!),NA()),NA())","v":{"$error":"#REF!"}},{"$f":"IF(#REF!=$E$1,IF(#REF!=$G$1,IF(#REF!=\"\",NA(),#REF!),NA()),NA())","v":{"$error":"#REF!"}},{"$error":"#REF!"},{"$error":"#REF!"}]
[null,null,null,{"$f":"IF(#REF!=$E$1,IF(#REF!=$G$1,#REF!,NA()),NA())","v":{"$error":"#REF!"}},{"$f":"IF(#REF!=$E$1,IF(#REF!=$G$1,#REF!,NA()),NA())","v":{"$error":"#REF!"}},{"$f":"IF(#REF!=$E$1,IF(#REF!=$G$1,IF(#REF!=\"\",NA(),#REF!),NA()),NA())","v":{"$error":"#REF!"}},{"$f":"IF(#REF!=$E$1,IF(#REF!=$G$1,IF(#REF!=\"\",NA(),#REF!),NA()),NA())","v":{"$error":"#REF!"}},{"$error":"#REF!"},{"$error":"#REF!"}]
[null,null,null,{"$f":"IF(#REF!=$E$1,IF(#REF!=$G$1,#REF!,NA()),NA())","v":{"$error":"#REF!"}},{"$f":"IF(#REF!=$E$1,IF(#REF!=$G$1,#REF!,NA()),NA())","v":{"$error":"#REF!"}},{"$f":"IF(#REF!=$E$1,IF(#REF!=$G$1,IF(#REF!=\"\",NA(),#REF!),NA()),NA())","v":{"$error":"#REF!"}},{"$f":"IF(#REF!=$E$1,IF(#REF!=$G$1,IF(#REF!=\"\",NA(),#REF!),NA()),NA())","v":{"$error":"#REF!"}},{"$error":"#REF!"},{"$error":"#REF!"}]
[null,null,null,{"$f":"IF(#REF!=$E$1,IF(#REF!=$G$1,#REF!,NA()),NA())","v":{"$error":"#REF!"}},{"$f":"IF(#REF!=$E$1,IF(#REF!=$G$1,#REF!,NA()),NA())","v":{"$error":"#REF!"}},{"$f":"IF(#REF!=$E$1,IF(#REF!=$G$1,IF(#REF!=\"\",NA(),#REF!),NA()),NA())","v":{"$error":"#REF!"}},{"$f":"IF(#REF!=$E$1,IF(#REF!=$G$1,IF(#REF!=\"\",NA(),#REF!),NA()),NA())","v":{"$error":"#REF!"}},{"$error":"#REF!"},{"$error":"#REF!"}]
[null,null,null,{"$f":"IF(#REF!=$E$1,IF(#REF!=$G$1,#REF!,NA()),NA())","v":{"$error":"#REF!"}},{"$f":"IF(#REF!=$E$1,IF(#REF!=$G$1,#REF!,NA()),NA())","v":{"$error":"#REF!"}},{"$f":"IF(#REF!=$E$1,IF(#REF!=$G$1,IF(#REF!=\"\",NA(),#REF!),NA()),NA())","v":{"$error":"#REF!"}},{"$f":"IF(#REF!=$E$1,IF(#REF!=$G$1,IF(#REF!=\"\",NA(),#REF!),NA()),NA())","v":{"$error":"#REF!"}},{"$error":"#REF!"},{"$error":"#REF!"}]
[null,null,null,{"$f":"IF(#REF!=$E$1,IF(#REF!=$G$1,#REF!,NA()),NA())","v":{"$error":"#REF!"}},{"$f":"IF(#REF!=$E$1,IF(#REF!=$G$1,#REF!,NA()),NA())","v":{"$error":"#REF!"}},{"$f":"IF(#REF!=$E$1,IF(#REF!=$G$1,IF(#REF!=\"\",NA(),#REF!),NA()),NA())","v":{"$error":"#REF!"}},{"$f":"IF(#REF!=$E$1,IF(#REF!=$G$1,IF(#REF!=\"\",NA(),#REF!),NA()),NA())","v":{"$error":"#REF!"}},{"$error":"#REF!"},{"$error":"#REF!"}]
[null,null,null,{"$f":"IF(#REF!=$E$1,IF(#REF!=$G$1,#REF!,NA()),NA())","v":{"$error":"#REF!"}},{"$f":"IF(#REF!=$E$1,IF(#REF!=$G$1,#REF!,NA()),NA())","v":{"$error":"#REF!"}},{"$f":"IF(#REF!=$E$1,IF(#REF!=$G$1,IF(#REF!=\"\",NA(),#REF!),NA()),NA())","v":{"$error":"#REF!"}},{"$f":"IF(#REF!=$E$1,IF(#REF!=$G$1,IF(#REF!=\"\",NA(),#REF!),NA()),NA())","v":{"$error":"#REF!"}},{"$error":"#REF!"},{"$error":"#REF!"}]
[null,null,null,{"$f":"IF(#REF!=$E$1,IF(#REF!=$G$1,#REF!,NA()),NA())","v":{"$error":"#REF!"}},{"$f":"IF(#REF!=$E$1,IF(#REF!=$G$1,#REF!,NA()),NA())","v":{"$error":"#REF!"}},{"$f":"IF(#REF!=$E$1,IF(#REF!=$G$1,IF(#REF!=\"\",NA(),#REF!),NA()),NA())","v":{"$error":"#REF!"}},{"$f":"IF(#REF!=$E$1,IF(#REF!=$G$1,IF(#REF!=\"\",NA(),#REF!),NA()),NA())","v":{"$error":"#REF!"}},{"$error":"#REF!"},{"$error":"#REF!"}]
[null,null,null,{"$f":"IF(#REF!=$E$1,IF(#REF!=$G$1,#REF!,NA()),NA())","v":{"$error":"#REF!"}},{"$f":"IF(#REF!=$E$1,IF(#REF!=$G$1,#REF!,NA()),NA())","v":{"$error":"#REF!"}},{"$f":"IF(#REF!=$E$1,IF(#REF!=$G$1,IF(#REF!=\"\",NA(),#REF!),NA()),NA())","v":{"$error":"#REF!"}},{"$f":"IF(#REF!=$E$1,IF(#REF!=$G$1,IF(#REF!=\"\",NA(),#REF!),NA()),NA())","v":{"$error":"#REF!"}},{"$error":"#REF!"},{"$error":"#REF!"}]
[null,null,null,{"$f":"IF(#REF!=$E$1,IF(#REF!=$G$1,#REF!,NA()),NA())","v":{"$error":"#REF!"}},{"$f":"IF(#REF!=$E$1,IF(#REF!=$G$1,#REF!,NA()),NA())","v":{"$error":"#REF!"}},{"$f":"IF(#REF!=$E$1,IF(#REF!=$G$1,IF(#REF!=\"\",NA(),#REF!),NA()),NA())","v":{"$error":"#REF!"}},{"$f":"IF(#REF!=$E$1,IF(#REF!=$G$1,IF(#REF!=\"\",NA(),#REF!),NA()),NA())","v":{"$error":"#REF!"}},{"$error":"#REF!"},{"$error":"#REF!"}]
[null,null,null,{"$f":"IF(#REF!=$E$1,IF(#REF!=$G$1,#REF!,NA()),NA())","v":{"$error":"#REF!"}},{"$f":"IF(#REF!=$E$1,IF(#REF!=$G$1,#REF!,NA()),NA())","v":{"$error":"#REF!"}},{"$f":"IF(#REF!=$E$1,IF(#REF!=$G$1,IF(#REF!=\"\",NA(),#REF!),NA()),NA())","v":{"$error":"#REF!"}},{"$f":"IF(#REF!=$E$1,IF(#REF!=$G$1,IF(#REF!=\"\",NA(),#REF!),NA()),NA())","v":{"$error":"#REF!"}},{"$error":"#REF!"},{"$error":"#REF!"}]
[null,null,null,{"$f":"IF(#REF!=$E$1,IF(#REF!=$G$1,#REF!,NA()),NA())","v":{"$error":"#REF!"}},{"$f":"IF(#REF!=$E$1,IF(#REF!=$G$1,#REF!,NA()),NA())","v":{"$error":"#REF!"}},{"$f":"IF(#REF!=$E$1,IF(#REF!=$G$1,IF(#REF!=\"\",NA(),#REF!),NA()),NA())","v":{"$error":"#REF!"}},{"$f":"IF(#REF!=$E$1,IF(#REF!=$G$1,IF(#REF!=\"\",NA(),#REF!),NA()),NA())","v":{"$error":"#REF!"}},{"$error":"#REF!"},{"$error":"#REF!"}]
[null,null,null,{"$f":"IF(#REF!=$E$1,IF(#REF!=$G$1,#REF!,NA()),NA())","v":{"$error":"#REF!"}},{"$f":"IF(#REF!=$E$1,IF(#REF!=$G$1,#REF!,NA()),NA())","v":{"$error":"#REF!"}},{"$f":"IF(#REF!=$E$1,IF(#REF!=$G$1,IF(#REF!=\"\",NA(),#REF!),NA()),NA())","v":{"$error":"#REF!"}},{"$f":"IF(#REF!=$E$1,IF(#REF!=$G$1,IF(#REF!=\"\",NA(),#REF!),NA()),NA())","v":{"$error":"#REF!"}},{"$error":"#REF!"},{"$error":"#REF!"}]
[null,null,null,{"$f":"IF(#REF!=$E$1,IF(#REF!=$G$1,#REF!,NA()),NA())","v":{"$error":"#REF!"}},{"$f":"IF(#REF!=$E$1,IF(#REF!=$G$1,#REF!,NA()),NA())","v":{"$error":"#REF!"}},{"$f":"IF(#REF!=$E$1,IF(#REF!=$G$1,IF(#REF!=\"\",NA(),#REF!),NA()),NA())","v":{"$error":"#REF!"}},{"$f":"IF(#REF!=$E$1,IF(#REF!=$G$1,IF(#REF!=\"\",NA(),#REF!),NA()),NA())","v":{"$error":"#REF!"}},{"$error":"#REF!"},{"$error":"#REF!"}]
[null,null,null,{"$f":"IF(#REF!=$E$1,IF(#REF!=$G$1,#REF!,NA()),NA())","v":{"$error":"#REF!"}},{"$f":"IF(#REF!=$E$1,IF(#REF!=$G$1,#REF!,NA()),NA())","v":{"$error":"#REF!"}},{"$f":"IF(#REF!=$E$1,IF(#REF!=$G$1,IF(#REF!=\"\",NA(),#REF!),NA()),NA())","v":{"$error":"#REF!"}},{"$f":"IF(#REF!=$E$1,IF(#REF!=$G$1,IF(#REF!=\"\",NA(),#REF!),NA()),NA())","v":{"$error":"#REF!"}},{"$error":"#REF!"},{"$error":"#REF!"}]
[null,null,null,{"$f":"IF(#REF!=$E$1,IF(#REF!=$G$1,#REF!,NA()),NA())","v":{"$error":"#REF!"}},{"$f":"IF(#REF!=$E$1,IF(#REF!=$G$1,#REF!,NA()),NA())","v":{"$error":"#REF!"}},{"$f":"IF(#REF!=$E$1,IF(#REF!=$G$1,IF(#REF!=\"\",NA(),#REF!),NA()),NA())","v":{"$error":"#REF!"}},{"$f":"IF(#REF!=$E$1,IF(#REF!=$G$1,IF(#REF!=\"\",NA(),#REF!),NA()),NA())","v":{"$error":"#REF!"}},{"$error":"#REF!"},{"$error":"#REF!"}]
[null,null,null,{"$f":"IF(#REF!=$E$1,IF(#REF!=$G$1,#REF!,NA()),NA())","v":{"$error":"#REF!"}},{"$f":"IF(#REF!=$E$1,IF(#REF!=$G$1,#REF!,NA()),NA())","v":{"$error":"#REF!"}},{"$f":"IF(#REF!=$E$1,IF(#REF!=$G$1,IF(#REF!=\"\",NA(),#REF!),NA()),NA())","v":{"$error":"#REF!"}},{"$f":"IF(#REF!=$E$1,IF(#REF!=$G$1,IF(#REF!=\"\",NA(),#REF!),NA()),NA())","v":{"$error":"#REF!"}},{"$error":"#REF!"},{"$error":"#REF!"}]
[null,null,null,{"$f":"IF(#REF!=$E$1,IF(#REF!=$G$1,#REF!,NA()),NA())","v":{"$error":"#REF!"}},{"$f":"IF(#REF!=$E$1,IF(#REF!=$G$1,#REF!,NA()),NA())","v":{"$error":"#REF!"}},{"$f":"IF(#REF!=$E$1,IF(#REF!=$G$1,IF(#REF!=\"\",NA(),#REF!),NA()),NA())","v":{"$error":"#REF!"}},{"$f":"IF(#REF!=$E$1,IF(#REF!=$G$1,IF(#REF!=\"\",NA(),#REF!),NA()),NA())","v":{"$error":"#REF!"}},{"$error":"#REF!"},{"$error":"#REF!"}]
[null,null,null,{"$f":"IF(#REF!=$E$1,IF(#REF!=$G$1,#REF!,NA()),NA())","v":{"$error":"#REF!"}},{"$f":"IF(#REF!=$E$1,IF(#REF!=$G$1,#REF!,NA()),NA())","v":{"$error":"#REF!"}},{"$f":"IF(#REF!=$E$1,IF(#REF!=$G$1,IF(#REF!=\"\",NA(),#REF!),NA()),NA())","v":{"$error":"#REF!"}},{"$f":"IF(#REF!=$E$1,IF(#REF!=$G$1,IF(#REF!=\"\",NA(),#REF!),NA()),NA())","v":{"$error":"#REF!"}},{"$error":"#REF!"},{"$error":"#REF!"}]
[null,null,null,{"$f":"IF(#REF!=$E$1,IF(#REF!=$G$1,#REF!,NA()),NA())","v":{"$error":"#REF!"}},{"$f":"IF(#REF!=$E$1,IF(#REF!=$G$1,#REF!,NA()),NA())","v":{"$error":"#REF!"}},{"$f":"IF(#REF!=$E$1,IF(#REF!=$G$1,IF(#REF!=\"\",NA(),#REF!),NA()),NA())","v":{"$error":"#REF!"}},{"$f":"IF(#REF!=$E$1,IF(#REF!=$G$1,IF(#REF!=\"\",NA(),#REF!),NA()),NA())","v":{"$error":"#REF!"}},{"$error":"#REF!"},{"$error":"#REF!"}]
[null,null,null,{"$f":"IF(#REF!=$E$1,IF(#REF!=$G$1,#REF!,NA()),NA())","v":{"$error":"#REF!"}},{"$f":"IF(#REF!=$E$1,IF(#REF!=$G$1,#REF!,NA()),NA())","v":{"$error":"#REF!"}},{"$f":"IF(#REF!=$E$1,IF(#REF!=$G$1,IF(#REF!=\"\",NA(),#REF!),NA()),NA())","v":{"$error":"#REF!"}},{"$f":"IF(#REF!=$E$1,IF(#REF!=$G$1,IF(#REF!=\"\",NA(),#REF!),NA()),NA())","v":{"$error":"#REF!"}},{"$error":"#REF!"},{"$error":"#REF!"}]
[null,null,null,{"$f":"IF(#REF!=$E$1,IF(#REF!=$G$1,#REF!,NA()),NA())","v":{"$error":"#REF!"}},{"$f":"IF(#REF!=$E$1,IF(#REF!=$G$1,#REF!,NA()),NA())","v":{"$error":"#REF!"}},{"$f":"IF(#REF!=$E$1,IF(#REF!=$G$1,IF(#REF!=\"\",NA(),#REF!),NA()),NA())","v":{"$error":"#REF!"}},{"$f":"IF(#REF!=$E$1,IF(#REF!=$G$1,IF(#REF!=\"\",NA(),#REF!),NA()),NA())","v":{"$error":"#REF!"}},{"$error":"#REF!"},{"$error":"#REF!"}]
[null,null,null,{"$f":"IF(#REF!=$E$1,IF(#REF!=$G$1,#REF!,NA()),NA())","v":{"$error":"#REF!"}},{"$f":"IF(#REF!=$E$1,IF(#REF!=$G$1,#REF!,NA()),NA())","v":{"$error":"#REF!"}},{"$f":"IF(#REF!=$E$1,IF(#REF!=$G$1,IF(#REF!=\"\",NA(),#REF!),NA()),NA())","v":{"$error":"#REF!"}},{"$f":"IF(#REF!=$E$1,IF(#REF!=$G$1,IF(#REF!=\"\",NA(),#REF!),NA()),NA())","v":{"$error":"#REF!"}},{"$error":"#REF!"},{"$error":"#REF!"}]
[null,null,null,{"$f":"IF(#REF!=$E$1,IF(#REF!=$G$1,#REF!,NA()),NA())","v":{"$error":"#REF!"}},{"$f":"IF(#REF!=$E$1,IF(#REF!=$G$1,#REF!,NA()),NA())","v":{"$error":"#REF!"}},{"$f":"IF(#REF!=$E$1,IF(#REF!=$G$1,IF(#REF!=\"\",NA(),#REF!),NA()),NA())","v":{"$error":"#REF!"}},{"$f":"IF(#REF!=$E$1,IF(#REF!=$G$1,IF(#REF!=\"\",NA(),#REF!),NA()),NA())","v":{"$error":"#REF!"}},{"$error":"#REF!"},{"$error":"#REF!"}]
[null,null,null,{"$f":"IF(#REF!=$E$1,IF(#REF!=$G$1,#REF!,NA()),NA())","v":{"$error":"#REF!"}},{"$f":"IF(#REF!=$E$1,IF(#REF!=$G$1,#REF!,NA()),NA())","v":{"$error":"#REF!"}},{"$f":"IF(#REF!=$E$1,IF(#REF!=$G$1,IF(#REF!=\"\",NA(),#REF!),NA()),NA())","v":{"$error":"#REF!"}},{"$f":"IF(#REF!=$E$1,IF(#REF!=$G$1,IF(#REF!=\"\",NA(),#REF!),NA()),NA())","v":{"$error":"#REF!"}},{"$error":"#REF!"},{"$error":"#REF!"}]
[null,null,null,{"$f":"IF(#REF!=$E$1,IF(#REF!=$G$1,#REF!,NA()),NA())","v":{"$error":"#REF!"}},{"$f":"IF(#REF!=$E$1,IF(#REF!=$G$1,#REF!,NA()),NA())","v":{"$error":"#REF!"}},{"$f":"IF(#REF!=$E$1,IF(#REF!=$G$1,IF(#REF!=\"\",NA(),#REF!),NA()),NA())","v":{"$error":"#REF!"}},{"$f":"IF(#REF!=$E$1,IF(#REF!=$G$1,IF(#REF!=\"\",NA(),#REF!),NA()),NA())","v":{"$error":"#REF!"}},{"$error":"#REF!"},{"$error":"#REF!"}]
[null,null,null,{"$f":"IF(#REF!=$E$1,IF(#REF!=$G$1,#REF!,NA()),NA())","v":{"$error":"#REF!"}},{"$f":"IF(#REF!=$E$1,IF(#REF!=$G$1,#REF!,NA()),NA())","v":{"$error":"#REF!"}},{"$f":"IF(#REF!=$E$1,IF(#REF!=$G$1,IF(#REF!=\"\",NA(),#REF!),NA()),NA())","v":{"$error":"#REF!"}},{"$f":"IF(#REF!=$E$1,IF(#REF!=$G$1,IF(#REF!=\"\",NA(),#REF!),NA()),NA())","v":{"$error":"#REF!"}},{"$error":"#REF!"},{"$error":"#REF!"}]
[null,null,null,{"$f":"IF(#REF!=$E$1,IF(#REF!=$G$1,#REF!,NA()),NA())","v":{"$error":"#REF!"}},{"$f":"IF(#REF!=$E$1,IF(#REF!=$G$1,#REF!,NA()),NA())","v":{"$error":"#REF!"}},{"$f":"IF(#REF!=$E$1,IF(#REF!=$G$1,IF(#REF!=\"\",NA(),#REF!),NA()),NA())","v":{"$error":"#REF!"}},{"$f":"IF(#REF!=$E$1,IF(#REF!=$G$1,IF(#REF!=\"\",NA(),#REF!),NA()),NA())","v":{"$error":"#REF!"}},{"$error":"#REF!"},{"$error":"#REF!"}]
[null,null,null,{"$f":"IF(#REF!=$E$1,IF(#REF!=$G$1,#REF!,NA()),NA())","v":{"$error":"#REF!"}},{"$f":"IF(#REF!=$E$1,IF(#REF!=$G$1,#REF!,NA()),NA())","v":{"$error":"#REF!"}},{"$f":"IF(#REF!=$E$1,IF(#REF!=$G$1,IF(#REF!=\"\",NA(),#REF!),NA()),NA())","v":{"$error":"#REF!"}},{"$f":"IF(#REF!=$E$1,IF(#REF!=$G$1,IF(#REF!=\"\",NA(),#REF!),NA()),NA())","v":{"$error":"#REF!"}},{"$error":"#REF!"},{"$error":"#REF!"}]
[null,null,null,{"$f":"IF(#REF!=$E$1,IF(#REF!=$G$1,#REF!,NA()),NA())","v":{"$error":"#REF!"}},{"$f":"IF(#REF!=$E$1,IF(#REF!=$G$1,#REF!,NA()),NA())","v":{"$error":"#REF!"}},{"$f":"IF(#REF!=$E$1,IF(#REF!=$G$1,IF(#REF!=\"\",NA(),#REF!),NA()),NA())","v":{"$error":"#REF!"}},{"$f":"IF(#REF!=$E$1,IF(#REF!=$G$1,IF(#REF!=\"\",NA(),#REF!),NA()),NA())","v":{"$error":"#REF!"}},{"$error":"#REF!"},{"$error":"#REF!"}]
[null,null,null,{"$f":"IF(#REF!=$E$1,IF(#REF!=$G$1,#REF!,NA()),NA())","v":{"$error":"#REF!"}},{"$f":"IF(#REF!=$E$1,IF(#REF!=$G$1,#REF!,NA()),NA())","v":{"$error":"#REF!"}},{"$f":"IF(#REF!=$E$1,IF(#REF!=$G$1,IF(#REF!=\"\",NA(),#REF!),NA()),NA())","v":{"$error":"#REF!"}},{"$f":"IF(#REF!=$E$1,IF(#REF!=$G$1,IF(#REF!=\"\",NA(),#REF!),NA()),NA())","v":{"$error":"#REF!"}},{"$error":"#REF!"},{"$error":"#REF!"}]
[null,null,null,{"$f":"IF(#REF!=$E$1,IF(#REF!=$G$1,#REF!,NA()),NA())","v":{"$error":"#REF!"}},{"$f":"IF(#REF!=$E$1,IF(#REF!=$G$1,#REF!,NA()),NA())","v":{"$error":"#REF!"}},{"$f":"IF(#REF!=$E$1,IF(#REF!=$G$1,IF(#REF!=\"\",NA(),#REF!),NA()),NA())","v":{"$error":"#REF!"}},{"$f":"IF(#REF!=$E$1,IF(#REF!=$G$1,IF(#REF!=\"\",NA(),#REF!),NA()),NA())","v":{"$error":"#REF!"}},{"$error":"#REF!"},{"$error":"#REF!"}]
[null,null,null,{"$f":"IF(#REF!=$E$1,IF(#REF!=$G$1,#REF!,NA()),NA())","v":{"$error":"#REF!"}},{"$f":"IF(#REF!=$E$1,IF(#REF!=$G$1,#REF!,NA()),NA())","v":{"$error":"#REF!"}},{"$f":"IF(#REF!=$E$1,IF(#REF!=$G$1,IF(#REF!=\"\",NA(),#REF!),NA()),NA())","v":{"$error":"#REF!"}},{"$f":"IF(#REF!=$E$1,IF(#REF!=$G$1,IF(#REF!=\"\",NA(),#REF!),NA()),NA())","v":{"$error":"#REF!"}},{"$error":"#REF!"},{"$error":"#REF!"}]
[null,null,null,{"$f":"IF(#REF!=$E$1,IF(#REF!=$G$1,#REF!,NA()),NA())","v":{"$error":"#REF!"}},{"$f":"IF(#REF!=$E$1,IF(#REF!=$G$1,#REF!,NA()),NA())","v":{"$error":"#REF!"}},{"$f":"IF(#REF!=$E$1,IF(#REF!=$G$1,IF(#REF!=\"\",NA(),#REF!),NA()),NA())","v":{"$error":"#REF!"}},{"$f":"IF(#REF!=$E$1,IF(#REF!=$G$1,IF(#REF!=\"\",NA(),#REF!),NA()),NA())","v":{"$error":"#REF!"}},{"$error":"#REF!"},{"$error":"#REF!"}]
[null,null,null,{"$f":"IF(#REF!=$E$1,IF(#REF!=$G$1,#REF!,NA()),NA())","v":{"$error":"#REF!"}},{"$f":"IF(#REF!=$E$1,IF(#REF!=$G$1,#REF!,NA()),NA())","v":{"$error":"#REF!"}},{"$f":"IF(#REF!=$E$1,IF(#REF!=$G$1,IF(#REF!=\"\",NA(),#REF!),NA()),NA())","v":{"$error":"#REF!"}},{"$f":"IF(#REF!=$E$1,IF(#REF!=$G$1,IF(#REF!=\"\",NA(),#REF!),NA()),NA())","v":{"$error":"#REF!"}},{"$error":"#REF!"},{"$error":"#REF!"}]
[null,null,null,{"$f":"IF(#REF!=$E$1,IF(#REF!=$G$1,#REF!,NA()),NA())","v":{"$error":"#REF!"}},{"$f":"IF(#REF!=$E$1,IF(#REF!=$G$1,#REF!,NA()),NA())","v":{"$error":"#REF!"}},{"$f":"IF(#REF!=$E$1,IF(#REF!=$G$1,IF(#REF!=\"\",NA(),#REF!),NA()),NA())","v":{"$error":"#REF!"}},{"$f":"IF(#REF!=$E$1,IF(#REF!=$G$1,IF(#REF!=\"\",NA(),#REF!),NA()),NA())","v":{"$error":"#REF!"}},{"$error":"#REF!"},{"$error":"#REF!"}]
[null,null,null,{"$f":"IF(#REF!=$E$1,IF(#REF!=$G$1,#REF!,NA()),NA())","v":{"$error":"#REF!"}},{"$f":"IF(#REF!=$E$1,IF(#REF!=$G$1,#REF!,NA()),NA())","v":{"$error":"#REF!"}},{"$f":"IF(#REF!=$E$1,IF(#REF!=$G$1,IF(#REF!=\"\",NA(),#REF!),NA()),NA())","v":{"$error":"#REF!"}},{"$f":"IF(#REF!=$E$1,IF(#REF!=$G$1,IF(#REF!=\"\",NA(),#REF!),NA()),NA())","v":{"$error":"#REF!"}},{"$error":"#REF!"},{"$error":"#REF!"}]
[null,null,null,{"$f":"IF(#REF!=$E$1,IF(#REF!=$G$1,#REF!,NA()),NA())","v":{"$error":"#REF!"}},{"$f":"IF(#REF!=$E$1,IF(#REF!=$G$1,#REF!,NA()),NA())","v":{"$error":"#REF!"}},{"$f":"IF(#REF!=$E$1,IF(#REF!=$G$1,IF(#REF!=\"\",NA(),#REF!),NA()),NA())","v":{"$error":"#REF!"}},{"$f":"IF(#REF!=$E$1,IF(#REF!=$G$1,IF(#REF!=\"\",NA(),#REF!),NA()),NA())","v":{"$error":"#REF!"}},{"$error":"#REF!"},{"$error":"#REF!"}]
[null,null,null,{"$f":"IF(#REF!=$E$1,IF(#REF!=$G$1,#REF!,NA()),NA())","v":{"$error":"#REF!"}},{"$f":"IF(#REF!=$E$1,IF(#REF!=$G$1,#REF!,NA()),NA())","v":{"$error":"#REF!"}},{"$f":"IF(#REF!=$E$1,IF(#REF!=$G$1,IF(#REF!=\"\",NA(),#REF!),NA()),NA())","v":{"$error":"#REF!"}},{"$f":"IF(#REF!=$E$1,IF(#REF!=$G$1,IF(#REF!=\"\",NA(),#REF!),NA()),NA())","v":{"$error":"#REF!"}},{"$error":"#REF!"},{"$error":"#REF!"}]
[null,null,null,{"$f":"IF(#REF!=$E$1,IF(#REF!=$G$1,#REF!,NA()),NA())","v":{"$error":"#REF!"}},{"$f":"IF(#REF!=$E$1,IF(#REF!=$G$1,#REF!,NA()),NA())","v":{"$error":"#REF!"}},{"$f":"IF(#REF!=$E$1,IF(#REF!=$G$1,IF(#REF!=\"\",NA(),#REF!),NA()),NA())","v":{"$error":"#REF!"}},{"$f":"IF(#REF!=$E$1,IF(#REF!=$G$1,IF(#REF!=\"\",NA(),#REF!),NA()),NA())","v":{"$error":"#REF!"}},{"$error":"#REF!"},{"$error":"#REF!"}]
[null,null,null,{"$f":"IF(#REF!=$E$1,IF(#REF!=$G$1,#REF!,NA()),NA())","v":{"$error":"#REF!"}},{"$f":"IF(#REF!=$E$1,IF(#REF!=$G$1,#REF!,NA()),NA())","v":{"$error":"#REF!"}},{"$f":"IF(#REF!=$E$1,IF(#REF!=$G$1,IF(#REF!=\"\",NA(),#REF!),NA()),NA())","v":{"$error":"#REF!"}},{"$f":"IF(#REF!=$E$1,IF(#REF!=$G$1,IF(#REF!=\"\",NA(),#REF!),NA()),NA())","v":{"$error":"#REF!"}},{"$error":"#REF!"},{"$error":"#REF!"}]
[null,null,null,{"$f":"IF(#REF!=$E$1,IF(#REF!=$G$1,#REF!,NA()),NA())","v":{"$error":"#REF!"}},{"$f":"IF(#REF!=$E$1,IF(#REF!=$G$1,#REF!,NA()),NA())","v":{"$error":"#REF!"}},{"$f":"IF(#REF!=$E$1,IF(#REF!=$G$1,IF(#REF!=\"\",NA(),#REF!),NA()),NA())","v":{"$error":"#REF!"}},{"$f":"IF(#REF!=$E$1,IF(#REF!=$G$1,IF(#REF!=\"\",NA(),#REF!),NA()),NA())","v":{"$error":"#REF!"}},{"$error":"#REF!"},{"$error":"#REF!"}]
[null,null,null,{"$f":"IF(#REF!=$E$1,IF(#REF!=$G$1,#REF!,NA()),NA())","v":{"$error":"#REF!"}},{"$f":"IF(#REF!=$E$1,IF(#REF!=$G$1,#REF!,NA()),NA())","v":{"$error":"#REF!"}},{"$f":"IF(#REF!=$E$1,IF(#REF!=$G$1,IF(#REF!=\"\",NA(),#REF!),NA()),NA())","v":{"$error":"#REF!"}},{"$f":"IF(#REF!=$E$1,IF(#REF!=$G$1,IF(#REF!=\"\",NA(),#REF!),NA()),NA())","v":{"$error":"#REF!"}},{"$error":"#REF!"},{"$error":"#REF!"}]
[null,null,null,{"$f":"IF(#REF!=$E$1,IF(#REF!=$G$1,#REF!,NA()),NA())","v":{"$error":"#REF!"}},{"$f":"IF(#REF!=$E$1,IF(#REF!=$G$1,#REF!,NA()),NA())","v":{"$error":"#REF!"}},{"$f":"IF(#REF!=$E$1,IF(#REF!=$G$1,IF(#REF!=\"\",NA(),#REF!),NA()),NA())","v":{"$error":"#REF!"}},{"$f":"IF(#REF!=$E$1,IF(#REF!=$G$1,IF(#REF!=\"\",NA(),#REF!),NA()),NA())","v":{"$error":"#REF!"}},{"$error":"#REF!"},{"$error":"#REF!"}]
[null,null,null,{"$f":"IF(#REF!=$E$1,IF(#REF!=$G$1,#REF!,NA()),NA())","v":{"$error":"#REF!"}},{"$f":"IF(#REF!=$E$1,IF(#REF!=$G$1,#REF!,NA()),NA())","v":{"$error":"#REF!"}},{"$f":"IF(#REF!=$E$1,IF(#REF!=$G$1,IF(#REF!=\"\",NA(),#REF!),NA()),NA())","v":{"$error":"#REF!"}},{"$f":"IF(#REF!=$E$1,IF(#REF!=$G$1,IF(#REF!=\"\",NA(),#REF!),NA()),NA())","v":{"$error":"#REF!"}},{"$error":"#REF!"},{"$error":"#REF!"}]
[null,null,null,{"$f":"IF(#REF!=$E$1,IF(#REF!=$G$1,#REF!,NA()),NA())","v":{"$error":"#REF!"}},{"$f":"IF(#REF!=$E$1,IF(#REF!=$G$1,#REF!,NA()),NA())","v":{"$error":"#REF!"}},{"$f":"IF(#REF!=$E$1,IF(#REF!=$G$1,IF(#REF!=\"\",NA(),#REF!),NA()),NA())","v":{"$error":"#REF!"}},{"$f":"IF(#REF!=$E$1,IF(#REF!=$G$1,IF(#REF!=\"\",NA(),#REF!),NA()),NA())","v":{"$error":"#REF!"}},{"$error":"#REF!"},{"$error":"#REF!"}]
[null,null,null,{"$f":"IF(#REF!=$E$1,IF(#REF!=$G$1,#REF!,NA()),NA())","v":{"$error":"#REF!"}},{"$f":"IF(#REF!=$E$1,IF(#REF!=$G$1,#REF!,NA()),NA())","v":{"$error":"#REF!"}},{"$f":"IF(#REF!=$E$1,IF(#REF!=$G$1,IF(#REF!=\"\",NA(),#REF!),NA()),NA())","v":{"$error":"#REF!"}},{"$f":"IF(#REF!=$E$1,IF(#REF!=$G$1,IF(#REF!=\"\",NA(),#REF!),NA()),NA())","v":{"$error":"#REF!"}},{"$error":"#REF!"},{"$error":"#REF!"}]
[null,null,null,{"$f":"IF(#REF!=$E$1,IF(#REF!=$G$1,#REF!,NA()),NA())","v":{"$error":"#REF!"}},{"$f":"IF(#REF!=$E$1,IF(#REF!=$G$1,#REF!,NA()),NA())","v":{"$error":"#REF!"}},{"$f":"IF(#REF!=$E$1,IF(#REF!=$G$1,IF(#REF!=\"\",NA(),#REF!),NA()),NA())","v":{"$error":"#REF!"}},{"$f":"IF(#REF!=$E$1,IF(#REF!=$G$1,IF(#REF!=\"\",NA(),#REF!),NA()),NA())","v":{"$error":"#REF!"}},{"$error":"#REF!"},{"$error":"#REF!"}]
[null,null,null,{"$f":"IF(#REF!=$E$1,IF(#REF!=$G$1,#REF!,NA()),NA())","v":{"$error":"#REF!"}},{"$f":"IF(#REF!=$E$1,IF(#REF!=$G$1,#REF!,NA()),NA())","v":{"$error":"#REF!"}},{"$f":"IF(#REF!=$E$1,IF(#REF!=$G$1,IF(#REF!=\"\",NA(),#REF!),NA()),NA())","v":{"$error":"#REF!"}},{"$f":"IF(#REF!=$E$1,IF(#REF!=$G$1,IF(#REF!=\"\",NA(),#REF!),NA()),NA())","v":{"$error":"#REF!"}},{"$error":"#REF!"},{"$error":"#REF!"}]
[null,null,null,{"$f":"IF(#REF!=$E$1,IF(#REF!=$G$1,#REF!,NA()),NA())","v":{"$error":"#REF!"}},{"$f":"IF(#REF!=$E$1,IF(#REF!=$G$1,#REF!,NA()),NA())","v":{"$error":"#REF!"}},{"$f":"IF(#REF!=$E$1,IF(#REF!=$G$1,IF(#REF!=\"\",NA(),#REF!),NA()),NA())","v":{"$error":"#REF!"}},{"$f":"IF(#REF!=$E$1,IF(#REF!=$G$1,IF(#REF!=\"\",NA(),#REF!),NA()),NA())","v":{"$error":"#REF!"}},{"$error":"#REF!"},{"$error":"#REF!"}]
[null,null,null,{"$f":"IF(#REF!=$E$1,IF(#REF!=$G$1,#REF!,NA()),NA())","v":{"$error":"#REF!"}},{"$f":"IF(#REF!=$E$1,IF(#REF!=$G$1,#REF!,NA()),NA())","v":{"$error":"#REF!"}},{"$f":"IF(#REF!=$E$1,IF(#REF!=$G$1,IF(#REF!=\"\",NA(),#REF!),NA()),NA())","v":{"$error":"#REF!"}},{"$f":"IF(#REF!=$E$1,IF(#REF!=$G$1,IF(#REF!=\"\",NA(),#REF!),NA()),NA())","v":{"$error":"#REF!"}},{"$error":"#REF!"},{"$error":"#REF!"}]
[null,null,null,{"$f":"IF(#REF!=$E$1,IF(#REF!=$G$1,#REF!,NA()),NA())","v":{"$error":"#REF!"}},{"$f":"IF(#REF!=$E$1,IF(#REF!=$G$1,#REF!,NA()),NA())","v":{"$error":"#REF!"}},{"$f":"IF(#REF!=$E$1,IF(#REF!=$G$1,IF(#REF!=\"\",NA(),#REF!),NA()),NA())","v":{"$error":"#REF!"}},{"$f":"IF(#REF!=$E$1,IF(#REF!=$G$1,IF(#REF!=\"\",NA(),#REF!),NA()),NA())","v":{"$error":"#REF!"}},{"$error":"#REF!"},{"$error":"#REF!"}]
[null,null,null,{"$f":"IF(#REF!=$E$1,IF(#REF!=$G$1,#REF!,NA()),NA())","v":{"$error":"#REF!"}},{"$f":"IF(#REF!=$E$1,IF(#REF!=$G$1,#REF!,NA()),NA())","v":{"$error":"#REF!"}},{"$f":"IF(#REF!=$E$1,IF(#REF!=$G$1,IF(#REF!=\"\",NA(),#REF!),NA()),NA())","v":{"$error":"#REF!"}},{"$f":"IF(#REF!=$E$1,IF(#REF!=$G$1,IF(#REF!=\"\",NA(),#REF!),NA()),NA())","v":{"$error":"#REF!"}},{"$f":"IF(AND(ISNUMBER(G708),F708=\"-\"),0,F708)","v":{"$error":"#REF!"}},{"$f":"IF(AND(ISNUMBER(F708),G708=\"-\"),0,G708)","v":{"$error":"#REF!"}}]
[null,null,null,{"$f":"IF(#REF!=$E$1,IF(#REF!=$G$1,#REF!,NA()),NA())","v":{"$error":"#REF!"}},{"$f":"IF(#REF!=$E$1,IF(#REF!=$G$1,#REF!,NA()),NA())","v":{"$error":"#REF!"}},{"$f":"IF(#REF!=$E$1,IF(#REF!=$G$1,IF(#REF!=\"\",NA(),#REF!),NA()),NA())","v":{"$error":"#REF!"}},{"$f":"IF(#REF!=$E$1,IF(#REF!=$G$1,IF(#REF!=\"\",NA(),#REF!),NA()),NA())","v":{"$error":"#REF!"}},{"$error":"#REF!"},{"$error":"#REF!"}]
[null,null,null,{"$f":"IF(#REF!=$E$1,IF(#REF!=$G$1,#REF!,NA()),NA())","v":{"$error":"#REF!"}},{"$f":"IF(#REF!=$E$1,IF(#REF!=$G$1,#REF!,NA()),NA())","v":{"$error":"#REF!"}},{"$f":"IF(#REF!=$E$1,IF(#REF!=$G$1,IF(#REF!=\"\",NA(),#REF!),NA()),NA())","v":{"$error":"#REF!"}},{"$f":"IF(#REF!=$E$1,IF(#REF!=$G$1,IF(#REF!=\"\",NA(),#REF!),NA()),NA())","v":{"$error":"#REF!"}},{"$error":"#REF!"},{"$error":"#REF!"}]
[null,null,null,{"$f":"IF(#REF!=$E$1,IF(#REF!=$G$1,#REF!,NA()),NA())","v":{"$error":"#REF!"}},{"$f":"IF(#REF!=$E$1,IF(#REF!=$G$1,#REF!,NA()),NA())","v":{"$error":"#REF!"}},{"$f":"IF(#REF!=$E$1,IF(#REF!=$G$1,IF(#REF!=\"\",NA(),#REF!),NA()),NA())","v":{"$error":"#REF!"}},{"$f":"IF(#REF!=$E$1,IF(#REF!=$G$1,IF(#REF!=\"\",NA(),#REF!),NA()),NA())","v":{"$error":"#REF!"}},{"$error":"#REF!"},{"$error":"#REF!"}]
[null,null,null,{"$f":"IF(#REF!=$E$1,IF(#REF!=$G$1,#REF!,NA()),NA())","v":{"$error":"#REF!"}},{"$f":"IF(#REF!=$E$1,IF(#REF!=$G$1,#REF!,NA()),NA())","v":{"$error":"#REF!"}},{"$f":"IF(#REF!=$E$1,IF(#REF!=$G$1,IF(#REF!=\"\",NA(),#REF!),NA()),NA())","v":{"$error":"#REF!"}},{"$f":"IF(#REF!=$E$1,IF(#REF!=$G$1,IF(#REF!=\"\",NA(),#REF!),NA()),NA())","v":{"$error":"#REF!"}},{"$error":"#REF!"},{"$error":"#REF!"}]
[null,null,null,{"$f":"IF(#REF!=$E$1,IF(#REF!=$G$1,#REF!,NA()),NA())","v":{"$error":"#REF!"}},{"$f":"IF(#REF!=$E$1,IF(#REF!=$G$1,#REF!,NA()),NA())","v":{"$error":"#REF!"}},{"$f":"IF(#REF!=$E$1,IF(#REF!=$G$1,IF(#REF!=\"\",NA(),#REF!),NA()),NA())","v":{"$error":"#REF!"}},{"$f":"IF(#REF!=$E$1,IF(#REF!=$G$1,IF(#REF!=\"\",NA(),#REF!),NA()),NA())","v":{"$error":"#REF!"}},{"$error":"#REF!"},{"$error":"#REF!"}]
[null,null,null,{"$f":"IF(#REF!=$E$1,IF(#REF!=$G$1,#REF!,NA()),NA())","v":{"$error":"#REF!"}},{"$f":"IF(#REF!=$E$1,IF(#REF!=$G$1,#REF!,NA()),NA())","v":{"$error":"#REF!"}},{"$f":"IF(#REF!=$E$1,IF(#REF!=$G$1,IF(#REF!=\"\",NA(),#REF!),NA()),NA())","v":{"$error":"#REF!"}},{"$f":"IF(#REF!=$E$1,IF(#REF!=$G$1,IF(#REF!=\"\",NA(),#REF!),NA()),NA())","v":{"$error":"#REF!"}},{"$error":"#REF!"},{"$error":"#REF!"}]
[null,null,null,{"$f":"IF(#REF!=$E$1,IF(#REF!=$G$1,#REF!,NA()),NA())","v":{"$error":"#REF!"}},{"$f":"IF(#REF!=$E$1,IF(#REF!=$G$1,#REF!,NA()),NA())","v":{"$error":"#REF!"}},{"$f":"IF(#REF!=$E$1,IF(#REF!=$G$1,IF(#REF!=\"\",NA(),#REF!),NA()),NA())","v":{"$error":"#REF!"}},{"$f":"IF(#REF!=$E$1,IF(#REF!=$G$1,IF(#REF!=\"\",NA(),#REF!),NA()),NA())","v":{"$error":"#REF!"}},{"$error":"#REF!"},{"$error":"#REF!"}]
[null,null,null,{"$f":"IF(#REF!=$E$1,IF(#REF!=$G$1,#REF!,NA()),NA())","v":{"$error":"#REF!"}},{"$f":"IF(#REF!=$E$1,IF(#REF!=$G$1,#REF!,NA()),NA())","v":{"$error":"#REF!"}},{"$f":"IF(#REF!=$E$1,IF(#REF!=$G$1,IF(#REF!=\"\",NA(),#REF!),NA()),NA())","v":{"$error":"#REF!"}},{"$f":"IF(#REF!=$E$1,IF(#REF!=$G$1,IF(#REF!=\"\",NA(),#REF!),NA()),NA())","v":{"$error":"#REF!"}},{"$error":"#REF!"},{"$error":"#REF!"}]
[null,null,null,{"$f":"IF(#REF!=$E$1,IF(#REF!=$G$1,#REF!,NA()),NA())","v":{"$error":"#REF!"}},{"$f":"IF(#REF!=$E$1,IF(#REF!=$G$1,#REF!,NA()),NA())","v":{"$error":"#REF!"}},{"$f":"IF(#REF!=$E$1,IF(#REF!=$G$1,IF(#REF!=\"\",NA(),#REF!),NA()),NA())","v":{"$error":"#REF!"}},{"$f":"IF(#REF!=$E$1,IF(#REF!=$G$1,IF(#REF!=\"\",NA(),#REF!),NA()),NA())","v":{"$error":"#REF!"}},{"$error":"#REF!"},{"$error":"#REF!"}]
[null,null,null,{"$f":"IF(#REF!=$E$1,IF(#REF!=$G$1,#REF!,NA()),NA())","v":{"$error":"#REF!"}},{"$f":"IF(#REF!=$E$1,IF(#REF!=$G$1,#REF!,NA()),NA())","v":{"$error":"#REF!"}},{"$f":"IF(#REF!=$E$1,IF(#REF!=$G$1,IF(#REF!=\"\",NA(),#REF!),NA()),NA())","v":{"$error":"#REF!"}},{"$f":"IF(#REF!=$E$1,IF(#REF!=$G$1,IF(#REF!=\"\",NA(),#REF!),NA()),NA())","v":{"$error":"#REF!"}},{"$error":"#REF!"},{"$error":"#REF!"}]
[null,null,null,{"$f":"IF(#REF!=$E$1,IF(#REF!=$G$1,#REF!,NA()),NA())","v":{"$error":"#REF!"}},{"$f":"IF(#REF!=$E$1,IF(#REF!=$G$1,#REF!,NA()),NA())","v":{"$error":"#REF!"}},{"$f":"IF(#REF!=$E$1,IF(#REF!=$G$1,IF(#REF!=\"\",NA(),#REF!),NA()),NA())","v":{"$error":"#REF!"}},{"$f":"IF(#REF!=$E$1,IF(#REF!=$G$1,IF(#REF!=\"\",NA(),#REF!),NA()),NA())","v":{"$error":"#REF!"}},{"$error":"#REF!"},{"$error":"#REF!"}]
[null,null,null,{"$f":"IF(#REF!=$E$1,IF(#REF!=$G$1,#REF!,NA()),NA())","v":{"$error":"#REF!"}},{"$f":"IF(#REF!=$E$1,IF(#REF!=$G$1,#REF!,NA()),NA())","v":{"$error":"#REF!"}},{"$f":"IF(#REF!=$E$1,IF(#REF!=$G$1,IF(#REF!=\"\",NA(),#REF!),NA()),NA())","v":{"$error":"#REF!"}},{"$f":"IF(#REF!=$E$1,IF(#REF!=$G$1,IF(#REF!=\"\",NA(),#REF!),NA()),NA())","v":{"$error":"#REF!"}},{"$error":"#REF!"},{"$error":"#REF!"}]
[null,null,null,{"$f":"IF(#REF!=$E$1,IF(#REF!=$G$1,#REF!,NA()),NA())","v":{"$error":"#REF!"}},{"$f":"IF(#REF!=$E$1,IF(#REF!=$G$1,#REF!,NA()),NA())","v":{"$error":"#REF!"}},{"$f":"IF(#REF!=$E$1,IF(#REF!=$G$1,IF(#REF!=\"\",NA(),#REF!),NA()),NA())","v":{"$error":"#REF!"}},{"$f":"IF(#REF!=$E$1,IF(#REF!=$G$1,IF(#REF!=\"\",NA(),#REF!),NA()),NA())","v":{"$error":"#REF!"}},{"$error":"#REF!"},{"$error":"#REF!"}]
[null,null,null,{"$f":"IF(#REF!=$E$1,IF(#REF!=$G$1,#REF!,NA()),NA())","v":{"$error":"#REF!"}},{"$f":"IF(#REF!=$E$1,IF(#REF!=$G$1,#REF!,NA()),NA())","v":{"$error":"#REF!"}},{"$f":"IF(#REF!=$E$1,IF(#REF!=$G$1,IF(#REF!=\"\",NA(),#REF!),NA()),NA())","v":{"$error":"#REF!"}},{"$f":"IF(#REF!=$E$1,IF(#REF!=$G$1,IF(#REF!=\"\",NA(),#REF!),NA()),NA())","v":{"$error":"#REF!"}},{"$error":"#REF!"},{"$error":"#REF!"}]
[null,null,null,{"$f":"IF(#REF!=$E$1,IF(#REF!=$G$1,#REF!,NA()),NA())","v":{"$error":"#REF!"}},{"$f":"IF(#REF!=$E$1,IF(#REF!=$G$1,#REF!,NA()),NA())","v":{"$error":"#REF!"}},{"$f":"IF(#REF!=$E$1,IF(#REF!=$G$1,IF(#REF!=\"\",NA(),#REF!),NA()),NA())","v":{"$error":"#REF!"}},{"$f":"IF(#REF!=$E$1,IF(#REF!=$G$1,IF(#REF!=\"\",NA(),#REF!),NA()),NA())","v":{"$error":"#REF!"}},{"$error":"#REF!"},{"$error":"#REF!"}]
[null,null,null,{"$f":"IF(#REF!=$E$1,IF(#REF!=$G$1,#REF!,NA()),NA())","v":{"$error":"#REF!"}},{"$f":"IF(#REF!=$E$1,IF(#REF!=$G$1,#REF!,NA()),NA())","v":{"$error":"#REF!"}},{"$f":"IF(#REF!=$E$1,IF(#REF!=$G$1,IF(#REF!=\"\",NA(),#REF!),NA()),NA())","v":{"$error":"#REF!"}},{"$f":"IF(#REF!=$E$1,IF(#REF!=$G$1,IF(#REF!=\"\",NA(),#REF!),NA()),NA())","v":{"$error":"#REF!"}},{"$error":"#REF!"},{"$error":"#REF!"}]
[null,null,null,{"$f":"IF(#REF!=$E$1,IF(#REF!=$G$1,#REF!,NA()),NA())","v":{"$error":"#REF!"}},{"$f":"IF(#REF!=$E$1,IF(#REF!=$G$1,#REF!,NA()),NA())","v":{"$error":"#REF!"}},{"$f":"IF(#REF!=$E$1,IF(#REF!=$G$1,IF(#REF!=\"\",NA(),#REF!),NA()),NA())","v":{"$error":"#REF!"}},{"$f":"IF(#REF!=$E$1,IF(#REF!=$G$1,IF(#REF!=\"\",NA(),#REF!),NA()),NA())","v":{"$error":"#REF!"}},{"$error":"#REF!"},{"$error":"#REF!"}]
[null,null,null,{"$f":"IF(#REF!=$E$1,IF(#REF!=$G$1,#REF!,NA()),NA())","v":{"$error":"#REF!"}},{"$f":"IF(#REF!=$E$1,IF(#REF!=$G$1,#REF!,NA()),NA())","v":{"$error":"#REF!"}},{"$f":"IF(#REF!=$E$1,IF(#REF!=$G$1,IF(#REF!=\"\",NA(),#REF!),NA()),NA())","v":{"$error":"#REF!"}},{"$f":"IF(#REF!=$E$1,IF(#REF!=$G$1,IF(#REF!=\"\",NA(),#REF!),NA()),NA())","v":{"$error":"#REF!"}},{"$error":"#REF!"},{"$error":"#REF!"}]
[null,null,null,{"$f":"IF(#REF!=$E$1,IF(#REF!=$G$1,#REF!,NA()),NA())","v":{"$error":"#REF!"}},{"$f":"IF(#REF!=$E$1,IF(#REF!=$G$1,#REF!,NA()),NA())","v":{"$error":"#REF!"}},{"$f":"IF(#REF!=$E$1,IF(#REF!=$G$1,IF(#REF!=\"\",NA(),#REF!),NA()),NA())","v":{"$error":"#REF!"}},{"$f":"IF(#REF!=$E$1,IF(#REF!=$G$1,IF(#REF!=\"\",NA(),#REF!),NA()),NA())","v":{"$error":"#REF!"}},{"$error":"#REF!"},{"$error":"#REF!"}]
[null,null,null,{"$f":"IF(#REF!=$E$1,IF(#REF!=$G$1,#REF!,NA()),NA())","v":{"$error":"#REF!"}},{"$f":"IF(#REF!=$E$1,IF(#REF!=$G$1,#REF!,NA()),NA())","v":{"$error":"#REF!"}},{"$f":"IF(#REF!=$E$1,IF(#REF!=$G$1,IF(#REF!=\"\",NA(),#REF!),NA()),NA())","v":{"$error":"#REF!"}},{"$f":"IF(#REF!=$E$1,IF(#REF!=$G$1,IF(#REF!=\"\",NA(),#REF!),NA()),NA())","v":{"$error":"#REF!"}},{"$error":"#REF!"},{"$error":"#REF!"}]
[null,null,null,{"$f":"IF(#REF!=$E$1,IF(#REF!=$G$1,#REF!,NA()),NA())","v":{"$error":"#REF!"}},{"$f":"IF(#REF!=$E$1,IF(#REF!=$G$1,#REF!,NA()),NA())","v":{"$error":"#REF!"}},{"$f":"IF(#REF!=$E$1,IF(#REF!=$G$1,IF(#REF!=\"\",NA(),#REF!),NA()),NA())","v":{"$error":"#REF!"}},{"$f":"IF(#REF!=$E$1,IF(#REF!=$G$1,IF(#REF!=\"\",NA(),#REF!),NA()),NA())","v":{"$error":"#REF!"}},{"$error":"#REF!"},{"$error":"#REF!"}]
[null,null,null,{"$f":"IF(#REF!=$E$1,IF(#REF!=$G$1,#REF!,NA()),NA())","v":{"$error":"#REF!"}},{"$f":"IF(#REF!=$E$1,IF(#REF!=$G$1,#REF!,NA()),NA())","v":{"$error":"#REF!"}},{"$f":"IF(#REF!=$E$1,IF(#REF!=$G$1,IF(#REF!=\"\",NA(),#REF!),NA()),NA())","v":{"$error":"#REF!"}},{"$f":"IF(#REF!=$E$1,IF(#REF!=$G$1,IF(#REF!=\"\",NA(),#REF!),NA()),NA())","v":{"$error":"#REF!"}},{"$error":"#REF!"},{"$error":"#REF!"}]
[null,null,null,{"$f":"IF(#REF!=$E$1,IF(#REF!=$G$1,#REF!,NA()),NA())","v":{"$error":"#REF!"}},{"$f":"IF(#REF!=$E$1,IF(#REF!=$G$1,#REF!,NA()),NA())","v":{"$error":"#REF!"}},{"$f":"IF(#REF!=$E$1,IF(#REF!=$G$1,IF(#REF!=\"\",NA(),#REF!),NA()),NA())","v":{"$error":"#REF!"}},{"$f":"IF(#REF!=$E$1,IF(#REF!=$G$1,IF(#REF!=\"\",NA(),#REF!),NA()),NA())","v":{"$error":"#REF!"}},{"$error":"#REF!"},{"$error":"#REF!"}]
[null,null,null,{"$f":"IF(#REF!=$E$1,IF(#REF!=$G$1,#REF!,NA()),NA())","v":{"$error":"#REF!"}},{"$f":"IF(#REF!=$E$1,IF(#REF!=$G$1,#REF!,NA()),NA())","v":{"$error":"#REF!"}},{"$f":"IF(#REF!=$E$1,IF(#REF!=$G$1,IF(#REF!=\"\",NA(),#REF!),NA()),NA())","v":{"$error":"#REF!"}},{"$f":"IF(#REF!=$E$1,IF(#REF!=$G$1,IF(#REF!=\"\",NA(),#REF!),NA()),NA())","v":{"$error":"#REF!"}},{"$error":"#REF!"},{"$error":"#REF!"}]
[null,null,null,{"$f":"IF(#REF!=$E$1,IF(#REF!=$G$1,#REF!,NA()),NA())","v":{"$error":"#REF!"}},{"$f":"IF(#REF!=$E$1,IF(#REF!=$G$1,#REF!,NA()),NA())","v":{"$error":"#REF!"}},{"$f":"IF(#REF!=$E$1,IF(#REF!=$G$1,IF(#REF!=\"\",NA(),#REF!),NA()),NA())","v":{"$error":"#REF!"}},{"$f":"IF(#REF!=$E$1,IF(#REF!=$G$1,IF(#REF!=\"\",NA(),#REF!),NA()),NA())","v":{"$error":"#REF!"}},{"$error":"#REF!"},{"$error":"#REF!"}]
[null,null,null,{"$f":"IF(#REF!=$E$1,IF(#REF!=$G$1,#REF!,NA()),NA())","v":{"$error":"#REF!"}},{"$f":"IF(#REF!=$E$1,IF(#REF!=$G$1,#REF!,NA()),NA())","v":{"$error":"#REF!"}},{"$f":"IF(#REF!=$E$1,IF(#REF!=$G$1,IF(#REF!=\"\",NA(),#REF!),NA()),NA())","v":{"$error":"#REF!"}},{"$f":"IF(#REF!=$E$1,IF(#REF!=$G$1,IF(#REF!=\"\",NA(),#REF!),NA()),NA())","v":{"$error":"#REF!"}},{"$error":"#REF!"},{"$error":"#REF!"}]
[null,null,null,{"$f":"IF(#REF!=$E$1,IF(#REF!=$G$1,#REF!,NA()),NA())","v":{"$error":"#REF!"}},{"$f":"IF(#REF!=$E$1,IF(#REF!=$G$1,#REF!,NA()),NA())","v":{"$error":"#REF!"}},{"$f":"IF(#REF!=$E$1,IF(#REF!=$G$1,IF(#REF!=\"\",NA(),#REF!),NA()),NA())","v":{"$error":"#REF!"}},{"$f":"IF(#REF!=$E$1,IF(#REF!=$G$1,IF(#REF!=\"\",NA(),#REF!),NA()),NA())","v":{"$error":"#REF!"}},{"$error":"#REF!"},{"$error":"#REF!"}]
[null,null,null,{"$f":"IF(#REF!=$E$1,IF(#REF!=$G$1,#REF!,NA()),NA())","v":{"$error":"#REF!"}},{"$f":"IF(#REF!=$E$1,IF(#REF!=$G$1,#REF!,NA()),NA())","v":{"$error":"#REF!"}},{"$f":"IF(#REF!=$E$1,IF(#REF!=$G$1,IF(#REF!=\"\",NA(),#REF!),NA()),NA())","v":{"$error":"#REF!"}},{"$f":"IF(#REF!=$E$1,IF(#REF!=$G$1,IF(#REF!=\"\",NA(),#REF!),NA()),NA())","v":{"$error":"#REF!"}},{"$error":"#REF!"},{"$error":"#REF!"}]
[null,null,null,{"$f":"IF(#REF!=$E$1,IF(#REF!=$G$1,#REF!,NA()),NA())","v":{"$error":"#REF!"}},{"$f":"IF(#REF!=$E$1,IF(#REF!=$G$1,#REF!,NA()),NA())","v":{"$error":"#REF!"}},{"$f":"IF(#REF!=$E$1,IF(#REF!=$G$1,IF(#REF!=\"\",NA(),#REF!),NA()),NA())","v":{"$error":"#REF!"}},{"$f":"IF(#REF!=$E$1,IF(#REF!=$G$1,IF(#REF!=\"\",NA(),#REF!),NA()),NA())","v":{"$error":"#REF!"}},{"$error":"#REF!"},{"$error":"#REF!"}]
[null,null,null,{"$f":"IF(#REF!=$E$1,IF(#REF!=$G$1,#REF!,NA()),NA())","v":{"$error":"#REF!"}},{"$f":"IF(#REF!=$E$1,IF(#REF!=$G$1,#REF!,NA()),NA())","v":{"$error":"#REF!"}},{"$f":"IF(#REF!=$E$1,IF(#REF!=$G$1,IF(#REF!=\"\",NA(),#REF!),NA()),NA())","v":{"$error":"#REF!"}},{"$f":"IF(#REF!=$E$1,IF(#REF!=$G$1,IF(#REF!=\"\",NA(),#REF!),NA()),NA())","v":{"$error":"#REF!"}},{"$error":"#REF!"},{"$error":"#REF!"}]
[null,null,null,{"$f":"IF(#REF!=$E$1,IF(#REF!=$G$1,#REF!,NA()),NA())","v":{"$error":"#REF!"}},{"$f":"IF(#REF!=$E$1,IF(#REF!=$G$1,#REF!,NA()),NA())","v":{"$error":"#REF!"}},{"$f":"IF(#REF!=$E$1,IF(#REF!=$G$1,IF(#REF!=\"\",NA(),#REF!),NA()),NA())","v":{"$error":"#REF!"}},{"$f":"IF(#REF!=$E$1,IF(#REF!=$G$1,IF(#REF!=\"\",NA(),#REF!),NA()),NA())","v":{"$error":"#REF!"}},{"$error":"#REF!"},{"$error":"#REF!"}]
[null,null,null,{"$f":"IF(#REF!=$E$1,IF(#REF!=$G$1,#REF!,NA()),NA())","v":{"$error":"#REF!"}},{"$f":"IF(#REF!=$E$1,IF(#REF!=$G$1,#REF!,NA()),NA())","v":{"$error":"#REF!"}},{"$f":"IF(#REF!=$E$1,IF(#REF!=$G$1,IF(#REF!=\"\",NA(),#REF!),NA()),NA())","v":{"$error":"#REF!"}},{"$f":"IF(#REF!=$E$1,IF(#REF!=$G$1,IF(#REF!=\"\",NA(),#REF!),NA()),NA())","v":{"$error":"#REF!"}},{"$error":"#REF!"},{"$error":"#REF!"}]
[null,null,null,{"$f":"IF(#REF!=$E$1,IF(#REF!=$G$1,#REF!,NA()),NA())","v":{"$error":"#REF!"}},{"$f":"IF(#REF!=$E$1,IF(#REF!=$G$1,#REF!,NA()),NA())","v":{"$error":"#REF!"}},{"$f":"IF(#REF!=$E$1,IF(#REF!=$G$1,IF(#REF!=\"\",NA(),#REF!),NA()),NA())","v":{"$error":"#REF!"}},{"$f":"IF(#REF!=$E$1,IF(#REF!=$G$1,IF(#REF!=\"\",NA(),#REF!),NA()),NA())","v":{"$error":"#REF!"}},{"$error":"#REF!"},{"$error":"#REF!"}]
[null,null,null,{"$f":"IF(#REF!=$E$1,IF(#REF!=$G$1,#REF!,NA()),NA())","v":{"$error":"#REF!"}},{"$f":"IF(#REF!=$E$1,IF(#REF!=$G$1,#REF!,NA()),NA())","v":{"$error":"#REF!"}},{"$f":"IF(#REF!=$E$1,IF(#REF!=$G$1,IF(#REF!=\"\",NA(),#REF!),NA()),NA())","v":{"$error":"#REF!"}},{"$f":"IF(#REF!=$E$1,IF(#REF!=$G$1,IF(#REF!=\"\",NA(),#REF!),NA()),NA())","v":{"$error":"#REF!"}},{"$error":"#REF!"},{"$error":"#REF!"}]
[null,null,null,{"$f":"IF(#REF!=$E$1,IF(#REF!=$G$1,#REF!,NA()),NA())","v":{"$error":"#REF!"}},{"$f":"IF(#REF!=$E$1,IF(#REF!=$G$1,#REF!,NA()),NA())","v":{"$error":"#REF!"}},{"$f":"IF(#REF!=$E$1,IF(#REF!=$G$1,IF(#REF!=\"\",NA(),#REF!),NA()),NA())","v":{"$error":"#REF!"}},{"$f":"IF(#REF!=$E$1,IF(#REF!=$G$1,IF(#REF!=\"\",NA(),#REF!),NA()),NA())","v":{"$error":"#REF!"}},{"$error":"#REF!"},{"$error":"#REF!"}]
[null,null,null,{"$f":"IF(#REF!=$E$1,IF(#REF!=$G$1,#REF!,NA()),NA())","v":{"$error":"#REF!"}},{"$f":"IF(#REF!=$E$1,IF(#REF!=$G$1,#REF!,NA()),NA())","v":{"$error":"#REF!"}},{"$f":"IF(#REF!=$E$1,IF(#REF!=$G$1,IF(#REF!=\"\",NA(),#REF!),NA()),NA())","v":{"$error":"#REF!"}},{"$f":"IF(#REF!=$E$1,IF(#REF!=$G$1,IF(#REF!=\"\",NA(),#REF!),NA()),NA())","v":{"$error":"#REF!"}},{"$error":"#REF!"},{"$error":"#REF!"}]
[null,null,null,{"$f":"IF(#REF!=$E$1,IF(#REF!=$G$1,#REF!,NA()),NA())","v":{"$error":"#REF!"}},{"$f":"IF(#REF!=$E$1,IF(#REF!=$G$1,#REF!,NA()),NA())","v":{"$error":"#REF!"}},{"$f":"IF(#REF!=$E$1,IF(#REF!=$G$1,IF(#REF!=\"\",NA(),#REF!),NA()),NA())","v":{"$error":"#REF!"}},{"$f":"IF(#REF!=$E$1,IF(#REF!=$G$1,IF(#REF!=\"\",NA(),#REF!),NA()),NA())","v":{"$error":"#REF!"}},{"$error":"#REF!"},{"$error":"#REF!"}]
[null,null,null,{"$f":"IF(#REF!=$E$1,IF(#REF!=$G$1,#REF!,NA()),NA())","v":{"$error":"#REF!"}},{"$f":"IF(#REF!=$E$1,IF(#REF!=$G$1,#REF!,NA()),NA())","v":{"$error":"#REF!"}},{"$f":"IF(#REF!=$E$1,IF(#REF!=$G$1,IF(#REF!=\"\",NA(),#REF!),NA()),NA())","v":{"$error":"#REF!"}},{"$f":"IF(#REF!=$E$1,IF(#REF!=$G$1,IF(#REF!=\"\",NA(),#REF!),NA()),NA())","v":{"$error":"#REF!"}},{"$error":"#REF!"},{"$error":"#REF!"}]
[null,null,null,{"$f":"IF(#REF!=$E$1,IF(#REF!=$G$1,#REF!,NA()),NA())","v":{"$error":"#REF!"}},{"$f":"IF(#REF!=$E$1,IF(#REF!=$G$1,#REF!,NA()),NA())","v":{"$error":"#REF!"}},{"$f":"IF(#REF!=$E$1,IF(#REF!=$G$1,IF(#REF!=\"\",NA(),#REF!),NA()),NA())","v":{"$error":"#REF!"}},{"$f":"IF(#REF!=$E$1,IF(#REF!=$G$1,IF(#REF!=\"\",NA(),#REF!),NA()),NA())","v":{"$error":"#REF!"}},{"$error":"#REF!"},{"$error":"#REF!"}]
[null,null,null,{"$f":"IF(#REF!=$E$1,IF(#REF!=$G$1,#REF!,NA()),NA())","v":{"$error":"#REF!"}},{"$f":"IF(#REF!=$E$1,IF(#REF!=$G$1,#REF!,NA()),NA())","v":{"$error":"#REF!"}},{"$f":"IF(#REF!=$E$1,IF(#REF!=$G$1,IF(#REF!=\"\",NA(),#REF!),NA()),NA())","v":{"$error":"#REF!"}},{"$f":"IF(#REF!=$E$1,IF(#REF!=$G$1,IF(#REF!=\"\",NA(),#REF!),NA()),NA())","v":{"$error":"#REF!"}},{"$error":"#REF!"},{"$error":"#REF!"}]
[null,null,null,{"$f":"IF(#REF!=$E$1,IF(#REF!=$G$1,#REF!,NA()),NA())","v":{"$error":"#REF!"}},{"$f":"IF(#REF!=$E$1,IF(#REF!=$G$1,#REF!,NA()),NA())","v":{"$error":"#REF!"}},{"$f":"IF(#REF!=$E$1,IF(#REF!=$G$1,IF(#REF!=\"\",NA(),#REF!),NA()),NA())","v":{"$error":"#REF!"}},{"$f":"IF(#REF!=$E$1,IF(#REF!=$G$1,IF(#REF!=\"\",NA(),#REF!),NA()),NA())","v":{"$error":"#REF!"}},{"$error":"#REF!"},{"$error":"#REF!"}]
[null,null,null,{"$f":"IF(#REF!=$E$1,IF(#REF!=$G$1,#REF!,NA()),NA())","v":{"$error":"#REF!"}},{"$f":"IF(#REF!=$E$1,IF(#REF!=$G$1,#REF!,NA()),NA())","v":{"$error":"#REF!"}},{"$f":"IF(#REF!=$E$1,IF(#REF!=$G$1,IF(#REF!=\"\",NA(),#REF!),NA()),NA())","v":{"$error":"#REF!"}},{"$f":"IF(#REF!=$E$1,IF(#REF!=$G$1,IF(#REF!=\"\",NA(),#REF!),NA()),NA())","v":{"$error":"#REF!"}},{"$error":"#REF!"},{"$error":"#REF!"}]
[null,null,null,{"$f":"IF(#REF!=$E$1,IF(#REF!=$G$1,#REF!,NA()),NA())","v":{"$error":"#REF!"}},{"$f":"IF(#REF!=$E$1,IF(#REF!=$G$1,#REF!,NA()),NA())","v":{"$error":"#REF!"}},{"$f":"IF(#REF!=$E$1,IF(#REF!=$G$1,IF(#REF!=\"\",NA(),#REF!),NA()),NA())","v":{"$error":"#REF!"}},{"$f":"IF(#REF!=$E$1,IF(#REF!=$G$1,IF(#REF!=\"\",NA(),#REF!),NA()),NA())","v":{"$error":"#REF!"}},{"$error":"#REF!"},{"$error":"#REF!"}]
[null,null,null,{"$f":"IF(#REF!=$E$1,IF(#REF!=$G$1,#REF!,NA()),NA())","v":{"$error":"#REF!"}},{"$f":"IF(#REF!=$E$1,IF(#REF!=$G$1,#REF!,NA()),NA())","v":{"$error":"#REF!"}},{"$f":"IF(#REF!=$E$1,IF(#REF!=$G$1,IF(#REF!=\"\",NA(),#REF!),NA()),NA())","v":{"$error":"#REF!"}},{"$f":"IF(#REF!=$E$1,IF(#REF!=$G$1,IF(#REF!=\"\",NA(),#REF!),NA()),NA())","v":{"$error":"#REF!"}},{"$error":"#REF!"},{"$error":"#REF!"}]
[null,null,null,{"$f":"IF(#REF!=$E$1,IF(#REF!=$G$1,#REF!,NA()),NA())","v":{"$error":"#REF!"}},{"$f":"IF(#REF!=$E$1,IF(#REF!=$G$1,#REF!,NA()),NA())","v":{"$error":"#REF!"}},{"$f":"IF(#REF!=$E$1,IF(#REF!=$G$1,IF(#REF!=\"\",NA(),#REF!),NA()),NA())","v":{"$error":"#REF!"}},{"$f":"IF(#REF!=$E$1,IF(#REF!=$G$1,IF(#REF!=\"\",NA(),#REF!),NA()),NA())","v":{"$error":"#REF!"}},{"$error":"#REF!"},{"$error":"#REF!"}]
[null,null,null,{"$f":"IF(#REF!=$E$1,IF(#REF!=$G$1,#REF!,NA()),NA())","v":{"$error":"#REF!"}},{"$f":"IF(#REF!=$E$1,IF(#REF!=$G$1,#REF!,NA()),NA())","v":{"$error":"#REF!"}},{"$f":"IF(#REF!=$E$1,IF(#REF!=$G$1,IF(#REF!=\"\",NA(),#REF!),NA()),NA())","v":{"$error":"#REF!"}},{"$f":"IF(#REF!=$E$1,IF(#REF!=$G$1,IF(#REF!=\"\",NA(),#REF!),NA()),NA())","v":{"$error":"#REF!"}},{"$error":"#REF!"},{"$error":"#REF!"}]
[null,null,null,{"$f":"IF(#REF!=$E$1,IF(#REF!=$G$1,#REF!,NA()),NA())","v":{"$error":"#REF!"}},{"$f":"IF(#REF!=$E$1,IF(#REF!=$G$1,#REF!,NA()),NA())","v":{"$error":"#REF!"}},{"$f":"IF(#REF!=$E$1,IF(#REF!=$G$1,IF(#REF!=\"\",NA(),#REF!),NA()),NA())","v":{"$error":"#REF!"}},{"$f":"IF(#REF!=$E$1,IF(#REF!=$G$1,IF(#REF!=\"\",NA(),#REF!),NA()),NA())","v":{"$error":"#REF!"}},{"$error":"#REF!"},{"$error":"#REF!"}]
[null,null,null,{"$f":"IF(#REF!=$E$1,IF(#REF!=$G$1,#REF!,NA()),NA())","v":{"$error":"#REF!"}},{"$f":"IF(#REF!=$E$1,IF(#REF!=$G$1,#REF!,NA()),NA())","v":{"$error":"#REF!"}},{"$f":"IF(#REF!=$E$1,IF(#REF!=$G$1,IF(#REF!=\"\",NA(),#REF!),NA()),NA())","v":{"$error":"#REF!"}},{"$f":"IF(#REF!=$E$1,IF(#REF!=$G$1,IF(#REF!=\"\",NA(),#REF!),NA()),NA())","v":{"$error":"#REF!"}},{"$error":"#REF!"},{"$error":"#REF!"}]
[null,null,null,{"$f":"IF(#REF!=$E$1,IF(#REF!=$G$1,#REF!,NA()),NA())","v":{"$error":"#REF!"}},{"$f":"IF(#REF!=$E$1,IF(#REF!=$G$1,#REF!,NA()),NA())","v":{"$error":"#REF!"}},{"$f":"IF(#REF!=$E$1,IF(#REF!=$G$1,IF(#REF!=\"\",NA(),#REF!),NA()),NA())","v":{"$error":"#REF!"}},{"$f":"IF(#REF!=$E$1,IF(#REF!=$G$1,IF(#REF!=\"\",NA(),#REF!),NA()),NA())","v":{"$error":"#REF!"}},{"$error":"#REF!"},{"$error":"#REF!"}]
[null,null,null,{"$f":"IF(#REF!=$E$1,IF(#REF!=$G$1,#REF!,NA()),NA())","v":{"$error":"#REF!"}},{"$f":"IF(#REF!=$E$1,IF(#REF!=$G$1,#REF!,NA()),NA())","v":{"$error":"#REF!"}},{"$f":"IF(#REF!=$E$1,IF(#REF!=$G$1,IF(#REF!=\"\",NA(),#REF!),NA()),NA())","v":{"$error":"#REF!"}},{"$f":"IF(#REF!=$E$1,IF(#REF!=$G$1,IF(#REF!=\"\",NA(),#REF!),NA()),NA())","v":{"$error":"#REF!"}},{"$error":"#REF!"},{"$error":"#REF!"}]
[null,null,null,{"$f":"IF(#REF!=$E$1,IF(#REF!=$G$1,#REF!,NA()),NA())","v":{"$error":"#REF!"}},{"$f":"IF(#REF!=$E$1,IF(#REF!=$G$1,#REF!,NA()),NA())","v":{"$error":"#REF!"}},{"$f":"IF(#REF!=$E$1,IF(#REF!=$G$1,IF(#REF!=\"\",NA(),#REF!),NA()),NA())","v":{"$error":"#REF!"}},{"$f":"IF(#REF!=$E$1,IF(#REF!=$G$1,IF(#REF!=\"\",NA(),#REF!),NA()),NA())","v":{"$error":"#REF!"}},{"$error":"#REF!"},{"$error":"#REF!"}]
[null,null,null,{"$f":"IF(#REF!=$E$1,IF(#REF!=$G$1,#REF!,NA()),NA())","v":{"$error":"#REF!"}},{"$f":"IF(#REF!=$E$1,IF(#REF!=$G$1,#REF!,NA()),NA())","v":{"$error":"#REF!"}},{"$f":"IF(#REF!=$E$1,IF(#REF!=$G$1,IF(#REF!=\"\",NA(),#REF!),NA()),NA())","v":{"$error":"#REF!"}},{"$f":"IF(#REF!=$E$1,IF(#REF!=$G$1,IF(#REF!=\"\",NA(),#REF!),NA()),NA())","v":{"$error":"#REF!"}},{"$error":"#REF!"},{"$error":"#REF!"}]
[null,null,null,{"$f":"IF(#REF!=$E$1,IF(#REF!=$G$1,#REF!,NA()),NA())","v":{"$error":"#REF!"}},{"$f":"IF(#REF!=$E$1,IF(#REF!=$G$1,#REF!,NA()),NA())","v":{"$error":"#REF!"}},{"$f":"IF(#REF!=$E$1,IF(#REF!=$G$1,IF(#REF!=\"\",NA(),#REF!),NA()),NA())","v":{"$error":"#REF!"}},{"$f":"IF(#REF!=$E$1,IF(#REF!=$G$1,IF(#REF!=\"\",NA(),#REF!),NA()),NA())","v":{"$error":"#REF!"}},{"$error":"#REF!"},{"$error":"#REF!"}]
[null,null,null,{"$f":"IF(#REF!=$E$1,IF(#REF!=$G$1,#REF!,NA()),NA())","v":{"$error":"#REF!"}},{"$f":"IF(#REF!=$E$1,IF(#REF!=$G$1,#REF!,NA()),NA())","v":{"$error":"#REF!"}},{"$f":"IF(#REF!=$E$1,IF(#REF!=$G$1,IF(#REF!=\"\",NA(),#REF!),NA()),NA())","v":{"$error":"#REF!"}},{"$f":"IF(#REF!=$E$1,IF(#REF!=$G$1,IF(#REF!=\"\",NA(),#REF!),NA()),NA())","v":{"$error":"#REF!"}},{"$error":"#REF!"},{"$error":"#REF!"}]
[null,null,null,{"$f":"IF(#REF!=$E$1,IF(#REF!=$G$1,#REF!,NA()),NA())","v":{"$error":"#REF!"}},{"$f":"IF(#REF!=$E$1,IF(#REF!=$G$1,#REF!,NA()),NA())","v":{"$error":"#REF!"}},{"$f":"IF(#REF!=$E$1,IF(#REF!=$G$1,IF(#REF!=\"\",NA(),#REF!),NA()),NA())","v":{"$error":"#REF!"}},{"$f":"IF(#REF!=$E$1,IF(#REF!=$G$1,IF(#REF!=\"\",NA(),#REF!),NA()),NA())","v":{"$error":"#REF!"}},{"$error":"#REF!"},{"$error":"#REF!"}]
[null,null,null,{"$f":"IF(#REF!=$E$1,IF(#REF!=$G$1,#REF!,NA()),NA())","v":{"$error":"#REF!"}},{"$f":"IF(#REF!=$E$1,IF(#REF!=$G$1,#REF!,NA()),NA())","v":{"$error":"#REF!"}},{"$f":"IF(#REF!=$E$1,IF(#REF!=$G$1,IF(#REF!=\"\",NA(),#REF!),NA()),NA())","v":{"$error":"#REF!"}},{"$f":"IF(#REF!=$E$1,IF(#REF!=$G$1,IF(#REF!=\"\",NA(),#REF!),NA()),NA())","v":{"$error":"#REF!"}},{"$error":"#REF!"},{"$error":"#REF!"}]
[null,null,null,{"$f":"IF(#REF!=$E$1,IF(#REF!=$G$1,#REF!,NA()),NA())","v":{"$error":"#REF!"}},{"$f":"IF(#REF!=$E$1,IF(#REF!=$G$1,#REF!,NA()),NA())","v":{"$error":"#REF!"}},{"$f":"IF(#REF!=$E$1,IF(#REF!=$G$1,IF(#REF!=\"\",NA(),#REF!),NA()),NA())","v":{"$error":"#REF!"}},{"$f":"IF(#REF!=$E$1,IF(#REF!=$G$1,IF(#REF!=\"\",NA(),#REF!),NA()),NA())","v":{"$error":"#REF!"}},{"$error":"#REF!"},{"$error":"#REF!"}]
[null,null,null,{"$f":"IF(#REF!=$E$1,IF(#REF!=$G$1,#REF!,NA()),NA())","v":{"$error":"#REF!"}},{"$f":"IF(#REF!=$E$1,IF(#REF!=$G$1,#REF!,NA()),NA())","v":{"$error":"#REF!"}},{"$f":"IF(#REF!=$E$1,IF(#REF!=$G$1,IF(#REF!=\"\",NA(),#REF!),NA()),NA())","v":{"$error":"#REF!"}},{"$f":"IF(#REF!=$E$1,IF(#REF!=$G$1,IF(#REF!=\"\",NA(),#REF!),NA()),NA())","v":{"$error":"#REF!"}},{"$error":"#REF!"},{"$error":"#REF!"}]
[null,null,null,{"$f":"IF(#REF!=$E$1,IF(#REF!=$G$1,#REF!,NA()),NA())","v":{"$error":"#REF!"}},{"$f":"IF(#REF!=$E$1,IF(#REF!=$G$1,#REF!,NA()),NA())","v":{"$error":"#REF!"}},{"$f":"IF(#REF!=$E$1,IF(#REF!=$G$1,IF(#REF!=\"\",NA(),#REF!),NA()),NA())","v":{"$error":"#REF!"}},{"$f":"IF(#REF!=$E$1,IF(#REF!=$G$1,IF(#REF!=\"\",NA(),#REF!),NA()),NA())","v":{"$error":"#REF!"}},{"$error":"#REF!"},{"$error":"#REF!"}]
[null,null,null,{"$f":"IF(#REF!=$E$1,IF(#REF!=$G$1,#REF!,NA()),NA())","v":{"$error":"#REF!"}},{"$f":"IF(#REF!=$E$1,IF(#REF!=$G$1,#REF!,NA()),NA())","v":{"$error":"#REF!"}},{"$f":"IF(#REF!=$E$1,IF(#REF!=$G$1,IF(#REF!=\"\",NA(),#REF!),NA()),NA())","v":{"$error":"#REF!"}},{"$f":"IF(#REF!=$E$1,IF(#REF!=$G$1,IF(#REF!=\"\",NA(),#REF!),NA()),NA())","v":{"$error":"#REF!"}},{"$error":"#REF!"},{"$error":"#REF!"}]
[null,null,null,{"$f":"IF(#REF!=$E$1,IF(#REF!=$G$1,#REF!,NA()),NA())","v":{"$error":"#REF!"}},{"$f":"IF(#REF!=$E$1,IF(#REF!=$G$1,#REF!,NA()),NA())","v":{"$error":"#REF!"}},{"$f":"IF(#REF!=$E$1,IF(#REF!=$G$1,IF(#REF!=\"\",NA(),#REF!),NA()),NA())","v":{"$error":"#REF!"}},{"$f":"IF(#REF!=$E$1,IF(#REF!=$G$1,IF(#REF!=\"\",NA(),#REF!),NA()),NA())","v":{"$error":"#REF!"}},{"$error":"#REF!"},{"$error":"#REF!"}]
[null,null,null,{"$f":"IF(#REF!=$E$1,IF(#REF!=$G$1,#REF!,NA()),NA())","v":{"$error":"#REF!"}},{"$f":"IF(#REF!=$E$1,IF(#REF!=$G$1,#REF!,NA()),NA())","v":{"$error":"#REF!"}},{"$f":"IF(#REF!=$E$1,IF(#REF!=$G$1,IF(#REF!=\"\",NA(),#REF!),NA()),NA())","v":{"$error":"#REF!"}},{"$f":"IF(#REF!=$E$1,IF(#REF!=$G$1,IF(#REF!=\"\",NA(),#REF!),NA()),NA())","v":{"$error":"#REF!"}},{"$error":"#REF!"},{"$error":"#REF!"}]
[null,null,null,{"$f":"IF(#REF!=$E$1,IF(#REF!=$G$1,#REF!,NA()),NA())","v":{"$error":"#REF!"}},{"$f":"IF(#REF!=$E$1,IF(#REF!=$G$1,#REF!,NA()),NA())","v":{"$error":"#REF!"}},{"$f":"IF(#REF!=$E$1,IF(#REF!=$G$1,IF(#REF!=\"\",NA(),#REF!),NA()),NA())","v":{"$error":"#REF!"}},{"$f":"IF(#REF!=$E$1,IF(#REF!=$G$1,IF(#REF!=\"\",NA(),#REF!),NA()),NA())","v":{"$error":"#REF!"}},{"$error":"#REF!"},{"$error":"#REF!"}]
[null,null,null,{"$f":"IF(#REF!=$E$1,IF(#REF!=$G$1,#REF!,NA()),NA())","v":{"$error":"#REF!"}},{"$f":"IF(#REF!=$E$1,IF(#REF!=$G$1,#REF!,NA()),NA())","v":{"$error":"#REF!"}},{"$f":"IF(#REF!=$E$1,IF(#REF!=$G$1,IF(#REF!=\"\",NA(),#REF!),NA()),NA())","v":{"$error":"#REF!"}},{"$f":"IF(#REF!=$E$1,IF(#REF!=$G$1,IF(#REF!=\"\",NA(),#REF!),NA()),NA())","v":{"$error":"#REF!"}},{"$f":"IF(AND(ISNUMBER(G772),F772=\"-\"),0,F772)","v":{"$error":"#REF!"}},{"$f":"IF(AND(ISNUMBER(F772),G772=\"-\"),0,G772)","v":{"$error":"#REF!"}}]
[null,null,null,{"$f":"IF(#REF!=$E$1,IF(#REF!=$G$1,#REF!,NA()),NA())","v":{"$error":"#REF!"}},{"$f":"IF(#REF!=$E$1,IF(#REF!=$G$1,#REF!,NA()),NA())","v":{"$error":"#REF!"}},{"$f":"IF(#REF!=$E$1,IF(#REF!=$G$1,IF(#REF!=\"\",NA(),#REF!),NA()),NA())","v":{"$error":"#REF!"}},{"$f":"IF(#REF!=$E$1,IF(#REF!=$G$1,IF(#REF!=\"\",NA(),#REF!),NA()),NA())","v":{"$error":"#REF!"}},{"$error":"#REF!"},{"$error":"#REF!"}]
[null,null,null,{"$f":"IF(#REF!=$E$1,IF(#REF!=$G$1,#REF!,NA()),NA())","v":{"$error":"#REF!"}},{"$f":"IF(#REF!=$E$1,IF(#REF!=$G$1,#REF!,NA()),NA())","v":{"$error":"#REF!"}},{"$f":"IF(#REF!=$E$1,IF(#REF!=$G$1,IF(#REF!=\"\",NA(),#REF!),NA()),NA())","v":{"$error":"#REF!"}},{"$f":"IF(#REF!=$E$1,IF(#REF!=$G$1,IF(#REF!=\"\",NA(),#REF!),NA()),NA())","v":{"$error":"#REF!"}},{"$error":"#REF!"},{"$error":"#REF!"}]
[null,null,null,{"$f":"IF(#REF!=$E$1,IF(#REF!=$G$1,#REF!,NA()),NA())","v":{"$error":"#REF!"}},{"$f":"IF(#REF!=$E$1,IF(#REF!=$G$1,#REF!,NA()),NA())","v":{"$error":"#REF!"}},{"$f":"IF(#REF!=$E$1,IF(#REF!=$G$1,IF(#REF!=\"\",NA(),#REF!),NA()),NA())","v":{"$error":"#REF!"}},{"$f":"IF(#REF!=$E$1,IF(#REF!=$G$1,IF(#REF!=\"\",NA(),#REF!),NA()),NA())","v":{"$error":"#REF!"}},{"$error":"#REF!"},{"$error":"#REF!"}]
[null,null,null,{"$f":"IF(#REF!=$E$1,IF(#REF!=$G$1,#REF!,NA()),NA())","v":{"$error":"#REF!"}},{"$f":"IF(#REF!=$E$1,IF(#REF!=$G$1,#REF!,NA()),NA())","v":{"$error":"#REF!"}},{"$f":"IF(#REF!=$E$1,IF(#REF!=$G$1,IF(#REF!=\"\",NA(),#REF!),NA()),NA())","v":{"$error":"#REF!"}},{"$f":"IF(#REF!=$E$1,IF(#REF!=$G$1,IF(#REF!=\"\",NA(),#REF!),NA()),NA())","v":{"$error":"#REF!"}},{"$error":"#REF!"},{"$error":"#REF!"}]
[null,null,null,{"$f":"IF(#REF!=$E$1,IF(#REF!=$G$1,#REF!,NA()),NA())","v":{"$error":"#REF!"}},{"$f":"IF(#REF!=$E$1,IF(#REF!=$G$1,#REF!,NA()),NA())","v":{"$error":"#REF!"}},{"$f":"IF(#REF!=$E$1,IF(#REF!=$G$1,IF(#REF!=\"\",NA(),#REF!),NA()),NA())","v":{"$error":"#REF!"}},{"$f":"IF(#REF!=$E$1,IF(#REF!=$G$1,IF(#REF!=\"\",NA(),#REF!),NA()),NA())","v":{"$error":"#REF!"}},{"$error":"#REF!"},{"$error":"#REF!"}]
[null,null,null,{"$f":"IF(#REF!=$E$1,IF(#REF!=$G$1,#REF!,NA()),NA())","v":{"$error":"#REF!"}},{"$f":"IF(#REF!=$E$1,IF(#REF!=$G$1,#REF!,NA()),NA())","v":{"$error":"#REF!"}},{"$f":"IF(#REF!=$E$1,IF(#REF!=$G$1,IF(#REF!=\"\",NA(),#REF!),NA()),NA())","v":{"$error":"#REF!"}},{"$f":"IF(#REF!=$E$1,IF(#REF!=$G$1,IF(#REF!=\"\",NA(),#REF!),NA()),NA())","v":{"$error":"#REF!"}},{"$error":"#REF!"},{"$error":"#REF!"}]
[null,null,null,{"$f":"IF(#REF!=$E$1,IF(#REF!=$G$1,#REF!,NA()),NA())","v":{"$error":"#REF!"}},{"$f":"IF(#REF!=$E$1,IF(#REF!=$G$1,#REF!,NA()),NA())","v":{"$error":"#REF!"}},{"$f":"IF(#REF!=$E$1,IF(#REF!=$G$1,IF(#REF!=\"\",NA(),#REF!),NA()),NA())","v":{"$error":"#REF!"}},{"$f":"IF(#REF!=$E$1,IF(#REF!=$G$1,IF(#REF!=\"\",NA(),#REF!),NA()),NA())","v":{"$error":"#REF!"}},{"$error":"#REF!"},{"$error":"#REF!"}]
[null,null,null,{"$f":"IF(#REF!=$E$1,IF(#REF!=$G$1,#REF!,NA()),NA())","v":{"$error":"#REF!"}},{"$f":"IF(#REF!=$E$1,IF(#REF!=$G$1,#REF!,NA()),NA())","v":{"$error":"#REF!"}},{"$f":"IF(#REF!=$E$1,IF(#REF!=$G$1,IF(#REF!=\"\",NA(),#REF!),NA()),NA())","v":{"$error":"#REF!"}},{"$f":"IF(#REF!=$E$1,IF(#REF!=$G$1,IF(#REF!=\"\",NA(),#REF!),NA()),NA())","v":{"$error":"#REF!"}},{"$error":"#REF!"},{"$error":"#REF!"}]
[null,null,null,{"$f":"IF(#REF!=$E$1,IF(#REF!=$G$1,#REF!,NA()),NA())","v":{"$error":"#REF!"}},{"$f":"IF(#REF!=$E$1,IF(#REF!=$G$1,#REF!,NA()),NA())","v":{"$error":"#REF!"}},{"$f":"IF(#REF!=$E$1,IF(#REF!=$G$1,IF(#REF!=\"\",NA(),#REF!),NA()),NA())","v":{"$error":"#REF!"}},{"$f":"IF(#REF!=$E$1,IF(#REF!=$G$1,IF(#REF!=\"\",NA(),#REF!),NA()),NA())","v":{"$error":"#REF!"}},{"$error":"#REF!"},{"$error":"#REF!"}]
[null,null,null,{"$f":"IF(#REF!=$E$1,IF(#REF!=$G$1,#REF!,NA()),NA())","v":{"$error":"#REF!"}},{"$f":"IF(#REF!=$E$1,IF(#REF!=$G$1,#REF!,NA()),NA())","v":{"$error":"#REF!"}},{"$f":"IF(#REF!=$E$1,IF(#REF!=$G$1,IF(#REF!=\"\",NA(),#REF!),NA()),NA())","v":{"$error":"#REF!"}},{"$f":"IF(#REF!=$E$1,IF(#REF!=$G$1,IF(#REF!=\"\",NA(),#REF!),NA()),NA())","v":{"$error":"#REF!"}},{"$error":"#REF!"},{"$error":"#REF!"}]
[null,null,null,{"$f":"IF(#REF!=$E$1,IF(#REF!=$G$1,#REF!,NA()),NA())","v":{"$error":"#REF!"}},{"$f":"IF(#REF!=$E$1,IF(#REF!=$G$1,#REF!,NA()),NA())","v":{"$error":"#REF!"}},{"$f":"IF(#REF!=$E$1,IF(#REF!=$G$1,IF(#REF!=\"\",NA(),#REF!),NA()),NA())","v":{"$error":"#REF!"}},{"$f":"IF(#REF!=$E$1,IF(#REF!=$G$1,IF(#REF!=\"\",NA(),#REF!),NA()),NA())","v":{"$error":"#REF!"}},{"$error":"#REF!"},{"$error":"#REF!"}]
[null,null,null,{"$f":"IF(#REF!=$E$1,IF(#REF!=$G$1,#REF!,NA()),NA())","v":{"$error":"#REF!"}},{"$f":"IF(#REF!=$E$1,IF(#REF!=$G$1,#REF!,NA()),NA())","v":{"$error":"#REF!"}},{"$f":"IF(#REF!=$E$1,IF(#REF!=$G$1,IF(#REF!=\"\",NA(),#REF!),NA()),NA())","v":{"$error":"#REF!"}},{"$f":"IF(#REF!=$E$1,IF(#REF!=$G$1,IF(#REF!=\"\",NA(),#REF!),NA()),NA())","v":{"$error":"#REF!"}},{"$error":"#REF!"},{"$error":"#REF!"}]
[null,null,null,{"$f":"IF(#REF!=$E$1,IF(#REF!=$G$1,#REF!,NA()),NA())","v":{"$error":"#REF!"}},{"$f":"IF(#REF!=$E$1,IF(#REF!=$G$1,#REF!,NA()),NA())","v":{"$error":"#REF!"}},{"$f":"IF(#REF!=$E$1,IF(#REF!=$G$1,IF(#REF!=\"\",NA(),#REF!),NA()),NA())","v":{"$error":"#REF!"}},{"$f":"IF(#REF!=$E$1,IF(#REF!=$G$1,IF(#REF!=\"\",NA(),#REF!),NA()),NA())","v":{"$error":"#REF!"}},{"$error":"#REF!"},{"$error":"#REF!"}]
[null,null,null,{"$f":"IF(#REF!=$E$1,IF(#REF!=$G$1,#REF!,NA()),NA())","v":{"$error":"#REF!"}},{"$f":"IF(#REF!=$E$1,IF(#REF!=$G$1,#REF!,NA()),NA())","v":{"$error":"#REF!"}},{"$f":"IF(#REF!=$E$1,IF(#REF!=$G$1,IF(#REF!=\"\",NA(),#REF!),NA()),NA())","v":{"$error":"#REF!"}},{"$f":"IF(#REF!=$E$1,IF(#REF!=$G$1,IF(#REF!=\"\",NA(),#REF!),NA()),NA())","v":{"$error":"#REF!"}},{"$error":"#REF!"},{"$error":"#REF!"}]
[null,null,null,{"$f":"IF(#REF!=$E$1,IF(#REF!=$G$1,#REF!,NA()),NA())","v":{"$error":"#REF!"}},{"$f":"IF(#REF!=$E$1,IF(#REF!=$G$1,#REF!,NA()),NA())","v":{"$error":"#REF!"}},{"$f":"IF(#REF!=$E$1,IF(#REF!=$G$1,IF(#REF!=\"\",NA(),#REF!),NA()),NA())","v":{"$error":"#REF!"}},{"$f":"IF(#REF!=$E$1,IF(#REF!=$G$1,IF(#REF!=\"\",NA(),#REF!),NA()),NA())","v":{"$error":"#REF!"}},{"$error":"#REF!"},{"$error":"#REF!"}]
[null,null,null,{"$f":"IF(#REF!=$E$1,IF(#REF!=$G$1,#REF!,NA()),NA())","v":{"$error":"#REF!"}},{"$f":"IF(#REF!=$E$1,IF(#REF!=$G$1,#REF!,NA()),NA())","v":{"$error":"#REF!"}},{"$f":"IF(#REF!=$E$1,IF(#REF!=$G$1,IF(#REF!=\"\",NA(),#REF!),NA()),NA())","v":{"$error":"#REF!"}},{"$f":"IF(#REF!=$E$1,IF(#REF!=$G$1,IF(#REF!=\"\",NA(),#REF!),NA()),NA())","v":{"$error":"#REF!"}},{"$error":"#REF!"},{"$error":"#REF!"}]
[null,null,null,{"$f":"IF(#REF!=$E$1,IF(#REF!=$G$1,#REF!,NA()),NA())","v":{"$error":"#REF!"}},{"$f":"IF(#REF!=$E$1,IF(#REF!=$G$1,#REF!,NA()),NA())","v":{"$error":"#REF!"}},{"$f":"IF(#REF!=$E$1,IF(#REF!=$G$1,IF(#REF!=\"\",NA(),#REF!),NA()),NA())","v":{"$error":"#REF!"}},{"$f":"IF(#REF!=$E$1,IF(#REF!=$G$1,IF(#REF!=\"\",NA(),#REF!),NA()),NA())","v":{"$error":"#REF!"}},{"$error":"#REF!"},{"$error":"#REF!"}]
[null,null,null,{"$f":"IF(#REF!=$E$1,IF(#REF!=$G$1,#REF!,NA()),NA())","v":{"$error":"#REF!"}},{"$f":"IF(#REF!=$E$1,IF(#REF!=$G$1,#REF!,NA()),NA())","v":{"$error":"#REF!"}},{"$f":"IF(#REF!=$E$1,IF(#REF!=$G$1,IF(#REF!=\"\",NA(),#REF!),NA()),NA())","v":{"$error":"#REF!"}},{"$f":"IF(#REF!=$E$1,IF(#REF!=$G$1,IF(#REF!=\"\",NA(),#REF!),NA()),NA())","v":{"$error":"#REF!"}},{"$error":"#REF!"},{"$error":"#REF!"}]
[null,null,null,{"$f":"IF(#REF!=$E$1,IF(#REF!=$G$1,#REF!,NA()),NA())","v":{"$error":"#REF!"}},{"$f":"IF(#REF!=$E$1,IF(#REF!=$G$1,#REF!,NA()),NA())","v":{"$error":"#REF!"}},{"$f":"IF(#REF!=$E$1,IF(#REF!=$G$1,IF(#REF!=\"\",NA(),#REF!),NA()),NA())","v":{"$error":"#REF!"}},{"$f":"IF(#REF!=$E$1,IF(#REF!=$G$1,IF(#REF!=\"\",NA(),#REF!),NA()),NA())","v":{"$error":"#REF!"}},{"$error":"#REF!"},{"$error":"#REF!"}]
[null,null,null,{"$f":"IF(#REF!=$E$1,IF(#REF!=$G$1,#REF!,NA()),NA())","v":{"$error":"#REF!"}},{"$f":"IF(#REF!=$E$1,IF(#REF!=$G$1,#REF!,NA()),NA())","v":{"$error":"#REF!"}},{"$f":"IF(#REF!=$E$1,IF(#REF!=$G$1,IF(#REF!=\"\",NA(),#REF!),NA()),NA())","v":{"$error":"#REF!"}},{"$f":"IF(#REF!=$E$1,IF(#REF!=$G$1,IF(#REF!=\"\",NA(),#REF!),NA()),NA())","v":{"$error":"#REF!"}},{"$error":"#REF!"},{"$error":"#REF!"}]
[null,null,null,{"$f":"IF(#REF!=$E$1,IF(#REF!=$G$1,#REF!,NA()),NA())","v":{"$error":"#REF!"}},{"$f":"IF(#REF!=$E$1,IF(#REF!=$G$1,#REF!,NA()),NA())","v":{"$error":"#REF!"}},{"$f":"IF(#REF!=$E$1,IF(#REF!=$G$1,IF(#REF!=\"\",NA(),#REF!),NA()),NA())","v":{"$error":"#REF!"}},{"$f":"IF(#REF!=$E$1,IF(#REF!=$G$1,IF(#REF!=\"\",NA(),#REF!),NA()),NA())","v":{"$error":"#REF!"}},{"$error":"#REF!"},{"$error":"#REF!"}]
[null,null,null,{"$f":"IF(#REF!=$E$1,IF(#REF!=$G$1,#REF!,NA()),NA())","v":{"$error":"#REF!"}},{"$f":"IF(#REF!=$E$1,IF(#REF!=$G$1,#REF!,NA()),NA())","v":{"$error":"#REF!"}},{"$f":"IF(#REF!=$E$1,IF(#REF!=$G$1,IF(#REF!=\"\",NA(),#REF!),NA()),NA())","v":{"$error":"#REF!"}},{"$f":"IF(#REF!=$E$1,IF(#REF!=$G$1,IF(#REF!=\"\",NA(),#REF!),NA()),NA())","v":{"$error":"#REF!"}},{"$error":"#REF!"},{"$error":"#REF!"}]
[null,null,null,{"$f":"IF(#REF!=$E$1,IF(#REF!=$G$1,#REF!,NA()),NA())","v":{"$error":"#REF!"}},{"$f":"IF(#REF!=$E$1,IF(#REF!=$G$1,#REF!,NA()),NA())","v":{"$error":"#REF!"}},{"$f":"IF(#REF!=$E$1,IF(#REF!=$G$1,IF(#REF!=\"\",NA(),#REF!),NA()),NA())","v":{"$error":"#REF!"}},{"$f":"IF(#REF!=$E$1,IF(#REF!=$G$1,IF(#REF!=\"\",NA(),#REF!),NA()),NA())","v":{"$error":"#REF!"}},{"$error":"#REF!"},{"$error":"#REF!"}]
[null,null,null,{"$f":"IF(#REF!=$E$1,IF(#REF!=$G$1,#REF!,NA()),NA())","v":{"$error":"#REF!"}},{"$f":"IF(#REF!=$E$1,IF(#REF!=$G$1,#REF!,NA()),NA())","v":{"$error":"#REF!"}},{"$f":"IF(#REF!=$E$1,IF(#REF!=$G$1,IF(#REF!=\"\",NA(),#REF!),NA()),NA())","v":{"$error":"#REF!"}},{"$f":"IF(#REF!=$E$1,IF(#REF!=$G$1,IF(#REF!=\"\",NA(),#REF!),NA()),NA())","v":{"$error":"#REF!"}},{"$error":"#REF!"},{"$error":"#REF!"}]
[null,null,null,{"$f":"IF(#REF!=$E$1,IF(#REF!=$G$1,#REF!,NA()),NA())","v":{"$error":"#REF!"}},{"$f":"IF(#REF!=$E$1,IF(#REF!=$G$1,#REF!,NA()),NA())","v":{"$error":"#REF!"}},{"$f":"IF(#REF!=$E$1,IF(#REF!=$G$1,IF(#REF!=\"\",NA(),#REF!),NA()),NA())","v":{"$error":"#REF!"}},{"$f":"IF(#REF!=$E$1,IF(#REF!=$G$1,IF(#REF!=\"\",NA(),#REF!),NA()),NA())","v":{"$error":"#REF!"}},{"$error":"#REF!"},{"$error":"#REF!"}]
[null,null,null,{"$f":"IF(#REF!=$E$1,IF(#REF!=$G$1,#REF!,NA()),NA())","v":{"$error":"#REF!"}},{"$f":"IF(#REF!=$E$1,IF(#REF!=$G$1,#REF!,NA()),NA())","v":{"$error":"#REF!"}},{"$f":"IF(#REF!=$E$1,IF(#REF!=$G$1,IF(#REF!=\"\",NA(),#REF!),NA()),NA())","v":{"$error":"#REF!"}},{"$f":"IF(#REF!=$E$1,IF(#REF!=$G$1,IF(#REF!=\"\",NA(),#REF!),NA()),NA())","v":{"$error":"#REF!"}},{"$error":"#REF!"},{"$error":"#REF!"}]
[null,null,null,{"$f":"IF(#REF!=$E$1,IF(#REF!=$G$1,#REF!,NA()),NA())","v":{"$error":"#REF!"}},{"$f":"IF(#REF!=$E$1,IF(#REF!=$G$1,#REF!,NA()),NA())","v":{"$error":"#REF!"}},{"$f":"IF(#REF!=$E$1,IF(#REF!=$G$1,IF(#REF!=\"\",NA(),#REF!),NA()),NA())","v":{"$error":"#REF!"}},{"$f":"IF(#REF!=$E$1,IF(#REF!=$G$1,IF(#REF!=\"\",NA(),#REF!),NA()),NA())","v":{"$error":"#REF!"}},{"$error":"#REF!"},{"$error":"#REF!"}]
[null,null,null,{"$f":"IF(#REF!=$E$1,IF(#REF!=$G$1,#REF!,NA()),NA())","v":{"$error":"#REF!"}},{"$f":"IF(#REF!=$E$1,IF(#REF!=$G$1,#REF!,NA()),NA())","v":{"$error":"#REF!"}},{"$f":"IF(#REF!=$E$1,IF(#REF!=$G$1,IF(#REF!=\"\",NA(),#REF!),NA()),NA())","v":{"$error":"#REF!"}},{"$f":"IF(#REF!=$E$1,IF(#REF!=$G$1,IF(#REF!=\"\",NA(),#REF!),NA()),NA())","v":{"$error":"#REF!"}},{"$error":"#REF!"},{"$error":"#REF!"}]
[null,null,null,{"$f":"IF(#REF!=$E$1,IF(#REF!=$G$1,#REF!,NA()),NA())","v":{"$error":"#REF!"}},{"$f":"IF(#REF!=$E$1,IF(#REF!=$G$1,#REF!,NA()),NA())","v":{"$error":"#REF!"}},{"$f":"IF(#REF!=$E$1,IF(#REF!=$G$1,IF(#REF!=\"\",NA(),#REF!),NA()),NA())","v":{"$error":"#REF!"}},{"$f":"IF(#REF!=$E$1,IF(#REF!=$G$1,IF(#REF!=\"\",NA(),#REF!),NA()),NA())","v":{"$error":"#REF!"}},{"$error":"#REF!"},{"$error":"#REF!"}]
[null,null,null,{"$f":"IF(#REF!=$E$1,IF(#REF!=$G$1,#REF!,NA()),NA())","v":{"$error":"#REF!"}},{"$f":"IF(#REF!=$E$1,IF(#REF!=$G$1,#REF!,NA()),NA())","v":{"$error":"#REF!"}},{"$f":"IF(#REF!=$E$1,IF(#REF!=$G$1,IF(#REF!=\"\",NA(),#REF!),NA()),NA())","v":{"$error":"#REF!"}},{"$f":"IF(#REF!=$E$1,IF(#REF!=$G$1,IF(#REF!=\"\",NA(),#REF!),NA()),NA())","v":{"$error":"#REF!"}},{"$error":"#REF!"},{"$error":"#REF!"}]
[null,null,null,{"$f":"IF(#REF!=$E$1,IF(#REF!=$G$1,#REF!,NA()),NA())","v":{"$error":"#REF!"}},{"$f":"IF(#REF!=$E$1,IF(#REF!=$G$1,#REF!,NA()),NA())","v":{"$error":"#REF!"}},{"$f":"IF(#REF!=$E$1,IF(#REF!=$G$1,IF(#REF!=\"\",NA(),#REF!),NA()),NA())","v":{"$error":"#REF!"}},{"$f":"IF(#REF!=$E$1,IF(#REF!=$G$1,IF(#REF!=\"\",NA(),#REF!),NA()),NA())","v":{"$error":"#REF!"}},{"$error":"#REF!"},{"$error":"#REF!"}]
[null,null,null,{"$f":"IF(#REF!=$E$1,IF(#REF!=$G$1,#REF!,NA()),NA())","v":{"$error":"#REF!"}},{"$f":"IF(#REF!=$E$1,IF(#REF!=$G$1,#REF!,NA()),NA())","v":{"$error":"#REF!"}},{"$f":"IF(#REF!=$E$1,IF(#REF!=$G$1,IF(#REF!=\"\",NA(),#REF!),NA()),NA())","v":{"$error":"#REF!"}},{"$f":"IF(#REF!=$E$1,IF(#REF!=$G$1,IF(#REF!=\"\",NA(),#REF!),NA()),NA())","v":{"$error":"#REF!"}},{"$error":"#REF!"},{"$error":"#REF!"}]
[null,null,null,{"$f":"IF(#REF!=$E$1,IF(#REF!=$G$1,#REF!,NA()),NA())","v":{"$error":"#REF!"}},{"$f":"IF(#REF!=$E$1,IF(#REF!=$G$1,#REF!,NA()),NA())","v":{"$error":"#REF!"}},{"$f":"IF(#REF!=$E$1,IF(#REF!=$G$1,IF(#REF!=\"\",NA(),#REF!),NA()),NA())","v":{"$error":"#REF!"}},{"$f":"IF(#REF!=$E$1,IF(#REF!=$G$1,IF(#REF!=\"\",NA(),#REF!),NA()),NA())","v":{"$error":"#REF!"}},{"$error":"#REF!"},{"$error":"#REF!"}]
[null,null,null,{"$f":"IF(#REF!=$E$1,IF(#REF!=$G$1,#REF!,NA()),NA())","v":{"$error":"#REF!"}},{"$f":"IF(#REF!=$E$1,IF(#REF!=$G$1,#REF!,NA()),NA())","v":{"$error":"#REF!"}},{"$f":"IF(#REF!=$E$1,IF(#REF!=$G$1,IF(#REF!=\"\",NA(),#REF!),NA()),NA())","v":{"$error":"#REF!"}},{"$f":"IF(#REF!=$E$1,IF(#REF!=$G$1,IF(#REF!=\"\",NA(),#REF!),NA()),NA())","v":{"$error":"#REF!"}},{"$error":"#REF!"},{"$error":"#REF!"}]
[null,null,null,{"$f":"IF(#REF!=$E$1,IF(#REF!=$G$1,#REF!,NA()),NA())","v":{"$error":"#REF!"}},{"$f":"IF(#REF!=$E$1,IF(#REF!=$G$1,#REF!,NA()),NA())","v":{"$error":"#REF!"}},{"$f":"IF(#REF!=$E$1,IF(#REF!=$G$1,IF(#REF!=\"\",NA(),#REF!),NA()),NA())","v":{"$error":"#REF!"}},{"$f":"IF(#REF!=$E$1,IF(#REF!=$G$1,IF(#REF!=\"\",NA(),#REF!),NA()),NA())","v":{"$error":"#REF!"}},{"$error":"#REF!"},{"$error":"#REF!"}]
[null,null,null,{"$f":"IF(#REF!=$E$1,IF(#REF!=$G$1,#REF!,NA()),NA())","v":{"$error":"#REF!"}},{"$f":"IF(#REF!=$E$1,IF(#REF!=$G$1,#REF!,NA()),NA())","v":{"$error":"#REF!"}},{"$f":"IF(#REF!=$E$1,IF(#REF!=$G$1,IF(#REF!=\"\",NA(),#REF!),NA()),NA())","v":{"$error":"#REF!"}},{"$f":"IF(#REF!=$E$1,IF(#REF!=$G$1,IF(#REF!=\"\",NA(),#REF!),NA()),NA())","v":{"$error":"#REF!"}},{"$error":"#REF!"},{"$error":"#REF!"}]
[null,null,null,{"$f":"IF(#REF!=$E$1,IF(#REF!=$G$1,#REF!,NA()),NA())","v":{"$error":"#REF!"}},{"$f":"IF(#REF!=$E$1,IF(#REF!=$G$1,#REF!,NA()),NA())","v":{"$error":"#REF!"}},{"$f":"IF(#REF!=$E$1,IF(#REF!=$G$1,IF(#REF!=\"\",NA(),#REF!),NA()),NA())","v":{"$error":"#REF!"}},{"$f":"IF(#REF!=$E$1,IF(#REF!=$G$1,IF(#REF!=\"\",NA(),#REF!),NA()),NA())","v":{"$error":"#REF!"}},{"$error":"#REF!"},{"$error":"#REF!"}]
[null,null,null,{"$f":"IF(#REF!=$E$1,IF(#REF!=$G$1,#REF!,NA()),NA())","v":{"$error":"#REF!"}},{"$f":"IF(#REF!=$E$1,IF(#REF!=$G$1,#REF!,NA()),NA())","v":{"$error":"#REF!"}},{"$f":"IF(#REF!=$E$1,IF(#REF!=$G$1,IF(#REF!=\"\",NA(),#REF!),NA()),NA())","v":{"$error":"#REF!"}},{"$f":"IF(#REF!=$E$1,IF(#REF!=$G$1,IF(#REF!=\"\",NA(),#REF!),NA()),NA())","v":{"$error":"#REF!"}},{"$error":"#REF!"},{"$error":"#REF!"}]
[null,null,null,{"$f":"IF(#REF!=$E$1,IF(#REF!=$G$1,#REF!,NA()),NA())","v":{"$error":"#REF!"}},{"$f":"IF(#REF!=$E$1,IF(#REF!=$G$1,#REF!,NA()),NA())","v":{"$error":"#REF!"}},{"$f":"IF(#REF!=$E$1,IF(#REF!=$G$1,IF(#REF!=\"\",NA(),#REF!),NA()),NA())","v":{"$error":"#REF!"}},{"$f":"IF(#REF!=$E$1,IF(#REF!=$G$1,IF(#REF!=\"\",NA(),#REF!),NA()),NA())","v":{"$error":"#REF!"}},{"$error":"#REF!"},{"$error":"#REF!"}]
[null,null,null,{"$f":"IF(#REF!=$E$1,IF(#REF!=$G$1,#REF!,NA()),NA())","v":{"$error":"#REF!"}},{"$f":"IF(#REF!=$E$1,IF(#REF!=$G$1,#REF!,NA()),NA())","v":{"$error":"#REF!"}},{"$f":"IF(#REF!=$E$1,IF(#REF!=$G$1,IF(#REF!=\"\",NA(),#REF!),NA()),NA())","v":{"$error":"#REF!"}},{"$f":"IF(#REF!=$E$1,IF(#REF!=$G$1,IF(#REF!=\"\",NA(),#REF!),NA()),NA())","v":{"$error":"#REF!"}},{"$error":"#REF!"},{"$error":"#REF!"}]
[null,null,null,{"$f":"IF(#REF!=$E$1,IF(#REF!=$G$1,#REF!,NA()),NA())","v":{"$error":"#REF!"}},{"$f":"IF(#REF!=$E$1,IF(#REF!=$G$1,#REF!,NA()),NA())","v":{"$error":"#REF!"}},{"$f":"IF(#REF!=$E$1,IF(#REF!=$G$1,IF(#REF!=\"\",NA(),#REF!),NA()),NA())","v":{"$error":"#REF!"}},{"$f":"IF(#REF!=$E$1,IF(#REF!=$G$1,IF(#REF!=\"\",NA(),#REF!),NA()),NA())","v":{"$error":"#REF!"}},{"$error":"#REF!"},{"$error":"#REF!"}]
[null,null,null,{"$f":"IF(#REF!=$E$1,IF(#REF!=$G$1,#REF!,NA()),NA())","v":{"$error":"#REF!"}},{"$f":"IF(#REF!=$E$1,IF(#REF!=$G$1,#REF!,NA()),NA())","v":{"$error":"#REF!"}},{"$f":"IF(#REF!=$E$1,IF(#REF!=$G$1,IF(#REF!=\"\",NA(),#REF!),NA()),NA())","v":{"$error":"#REF!"}},{"$f":"IF(#REF!=$E$1,IF(#REF!=$G$1,IF(#REF!=\"\",NA(),#REF!),NA()),NA())","v":{"$error":"#REF!"}},{"$error":"#REF!"},{"$error":"#REF!"}]
[null,null,null,{"$f":"IF(#REF!=$E$1,IF(#REF!=$G$1,#REF!,NA()),NA())","v":{"$error":"#REF!"}},{"$f":"IF(#REF!=$E$1,IF(#REF!=$G$1,#REF!,NA()),NA())","v":{"$error":"#REF!"}},{"$f":"IF(#REF!=$E$1,IF(#REF!=$G$1,IF(#REF!=\"\",NA(),#REF!),NA()),NA())","v":{"$error":"#REF!"}},{"$f":"IF(#REF!=$E$1,IF(#REF!=$G$1,IF(#REF!=\"\",NA(),#REF!),NA()),NA())","v":{"$error":"#REF!"}},{"$error":"#REF!"},{"$error":"#REF!"}]
[null,null,null,{"$f":"IF(#REF!=$E$1,IF(#REF!=$G$1,#REF!,NA()),NA())","v":{"$error":"#REF!"}},{"$f":"IF(#REF!=$E$1,IF(#REF!=$G$1,#REF!,NA()),NA())","v":{"$error":"#REF!"}},{"$f":"IF(#REF!=$E$1,IF(#REF!=$G$1,IF(#REF!=\"\",NA(),#REF!),NA()),NA())","v":{"$error":"#REF!"}},{"$f":"IF(#REF!=$E$1,IF(#REF!=$G$1,IF(#REF!=\"\",NA(),#REF!),NA()),NA())","v":{"$error":"#REF!"}},{"$error":"#REF!"},{"$error":"#REF!"}]
[null,null,null,{"$f":"IF(#REF!=$E$1,IF(#REF!=$G$1,#REF!,NA()),NA())","v":{"$error":"#REF!"}},{"$f":"IF(#REF!=$E$1,IF(#REF!=$G$1,#REF!,NA()),NA())","v":{"$error":"#REF!"}},{"$f":"IF(#REF!=$E$1,IF(#REF!=$G$1,IF(#REF!=\"\",NA(),#REF!),NA()),NA())","v":{"$error":"#REF!"}},{"$f":"IF(#REF!=$E$1,IF(#REF!=$G$1,IF(#REF!=\"\",NA(),#REF!),NA()),NA())","v":{"$error":"#REF!"}},{"$error":"#REF!"},{"$error":"#REF!"}]
[null,null,null,{"$f":"IF(#REF!=$E$1,IF(#REF!=$G$1,#REF!,NA()),NA())","v":{"$error":"#REF!"}},{"$f":"IF(#REF!=$E$1,IF(#REF!=$G$1,#REF!,NA()),NA())","v":{"$error":"#REF!"}},{"$f":"IF(#REF!=$E$1,IF(#REF!=$G$1,IF(#REF!=\"\",NA(),#REF!),NA()),NA())","v":{"$error":"#REF!"}},{"$f":"IF(#REF!=$E$1,IF(#REF!=$G$1,IF(#REF!=\"\",NA(),#REF!),NA()),NA())","v":{"$error":"#REF!"}},{"$error":"#REF!"},{"$error":"#REF!"}]
[null,null,null,{"$f":"IF(#REF!=$E$1,IF(#REF!=$G$1,#REF!,NA()),NA())","v":{"$error":"#REF!"}},{"$f":"IF(#REF!=$E$1,IF(#REF!=$G$1,#REF!,NA()),NA())","v":{"$error":"#REF!"}},{"$f":"IF(#REF!=$E$1,IF(#REF!=$G$1,IF(#REF!=\"\",NA(),#REF!),NA()),NA())","v":{"$error":"#REF!"}},{"$f":"IF(#REF!=$E$1,IF(#REF!=$G$1,IF(#REF!=\"\",NA(),#REF!),NA()),NA())","v":{"$error":"#REF!"}},{"$error":"#REF!"},{"$error":"#REF!"}]
[null,null,null,{"$f":"IF(#REF!=$E$1,IF(#REF!=$G$1,#REF!,NA()),NA())","v":{"$error":"#REF!"}},{"$f":"IF(#REF!=$E$1,IF(#REF!=$G$1,#REF!,NA()),NA())","v":{"$error":"#REF!"}},{"$f":"IF(#REF!=$E$1,IF(#REF!=$G$1,IF(#REF!=\"\",NA(),#REF!),NA()),NA())","v":{"$error":"#REF!"}},{"$f":"IF(#REF!=$E$1,IF(#REF!=$G$1,IF(#REF!=\"\",NA(),#REF!),NA()),NA())","v":{"$error":"#REF!"}},{"$error":"#REF!"},{"$error":"#REF!"}]
[null,null,null,{"$f":"IF(#REF!=$E$1,IF(#REF!=$G$1,#REF!,NA()),NA())","v":{"$error":"#REF!"}},{"$f":"IF(#REF!=$E$1,IF(#REF!=$G$1,#REF!,NA()),NA())","v":{"$error":"#REF!"}},{"$f":"IF(#REF!=$E$1,IF(#REF!=$G$1,IF(#REF!=\"\",NA(),#REF!),NA()),NA())","v":{"$error":"#REF!"}},{"$f":"IF(#REF!=$E$1,IF(#REF!=$G$1,IF(#REF!=\"\",NA(),#REF!),NA()),NA())","v":{"$error":"#REF!"}},{"$error":"#REF!"},{"$error":"#REF!"}]
[null,null,null,{"$f":"IF(#REF!=$E$1,IF(#REF!=$G$1,#REF!,NA()),NA())","v":{"$error":"#REF!"}},{"$f":"IF(#REF!=$E$1,IF(#REF!=$G$1,#REF!,NA()),NA())","v":{"$error":"#REF!"}},{"$f":"IF(#REF!=$E$1,IF(#REF!=$G$1,IF(#REF!=\"\",NA(),#REF!),NA()),NA())","v":{"$error":"#REF!"}},{"$f":"IF(#REF!=$E$1,IF(#REF!=$G$1,IF(#REF!=\"\",NA(),#REF!),NA()),NA())","v":{"$error":"#REF!"}},{"$error":"#REF!"},{"$error":"#REF!"}]
[null,null,null,{"$f":"IF(#REF!=$E$1,IF(#REF!=$G$1,#REF!,NA()),NA())","v":{"$error":"#REF!"}},{"$f":"IF(#REF!=$E$1,IF(#REF!=$G$1,#REF!,NA()),NA())","v":{"$error":"#REF!"}},{"$f":"IF(#REF!=$E$1,IF(#REF!=$G$1,IF(#REF!=\"\",NA(),#REF!),NA()),NA())","v":{"$error":"#REF!"}},{"$f":"IF(#REF!=$E$1,IF(#REF!=$G$1,IF(#REF!=\"\",NA(),#REF!),NA()),NA())","v":{"$error":"#REF!"}},{"$error":"#REF!"},{"$error":"#REF!"}]
[null,null,null,{"$f":"IF(#REF!=$E$1,IF(#REF!=$G$1,#REF!,NA()),NA())","v":{"$error":"#REF!"}},{"$f":"IF(#REF!=$E$1,IF(#REF!=$G$1,#REF!,NA()),NA())","v":{"$error":"#REF!"}},{"$f":"IF(#REF!=$E$1,IF(#REF!=$G$1,IF(#REF!=\"\",NA(),#REF!),NA()),NA())","v":{"$error":"#REF!"}},{"$f":"IF(#REF!=$E$1,IF(#REF!=$G$1,IF(#REF!=\"\",NA(),#REF!),NA()),NA())","v":{"$error":"#REF!"}},{"$error":"#REF!"},{"$error":"#REF!"}]
[null,null,null,{"$f":"IF(#REF!=$E$1,IF(#REF!=$G$1,#REF!,NA()),NA())","v":{"$error":"#REF!"}},{"$f":"IF(#REF!=$E$1,IF(#REF!=$G$1,#REF!,NA()),NA())","v":{"$error":"#REF!"}},{"$f":"IF(#REF!=$E$1,IF(#REF!=$G$1,IF(#REF!=\"\",NA(),#REF!),NA()),NA())","v":{"$error":"#REF!"}},{"$f":"IF(#REF!=$E$1,IF(#REF!=$G$1,IF(#REF!=\"\",NA(),#REF!),NA()),NA())","v":{"$error":"#REF!"}},{"$error":"#REF!"},{"$error":"#REF!"}]
[null,null,null,{"$f":"IF(#REF!=$E$1,IF(#REF!=$G$1,#REF!,NA()),NA())","v":{"$error":"#REF!"}},{"$f":"IF(#REF!=$E$1,IF(#REF!=$G$1,#REF!,NA()),NA())","v":{"$error":"#REF!"}},{"$f":"IF(#REF!=$E$1,IF(#REF!=$G$1,IF(#REF!=\"\",NA(),#REF!),NA()),NA())","v":{"$error":"#REF!"}},{"$f":"IF(#REF!=$E$1,IF(#REF!=$G$1,IF(#REF!=\"\",NA(),#REF!),NA()),NA())","v":{"$error":"#REF!"}},{"$error":"#REF!"},{"$error":"#REF!"}]
[null,null,null,{"$f":"IF(#REF!=$E$1,IF(#REF!=$G$1,#REF!,NA()),NA())","v":{"$error":"#REF!"}},{"$f":"IF(#REF!=$E$1,IF(#REF!=$G$1,#REF!,NA()),NA())","v":{"$error":"#REF!"}},{"$f":"IF(#REF!=$E$1,IF(#REF!=$G$1,IF(#REF!=\"\",NA(),#REF!),NA()),NA())","v":{"$error":"#REF!"}},{"$f":"IF(#REF!=$E$1,IF(#REF!=$G$1,IF(#REF!=\"\",NA(),#REF!),NA()),NA())","v":{"$error":"#REF!"}},{"$error":"#REF!"},{"$error":"#REF!"}]
[null,null,null,{"$f":"IF(#REF!=$E$1,IF(#REF!=$G$1,#REF!,NA()),NA())","v":{"$error":"#REF!"}},{"$f":"IF(#REF!=$E$1,IF(#REF!=$G$1,#REF!,NA()),NA())","v":{"$error":"#REF!"}},{"$f":"IF(#REF!=$E$1,IF(#REF!=$G$1,IF(#REF!=\"\",NA(),#REF!),NA()),NA())","v":{"$error":"#REF!"}},{"$f":"IF(#REF!=$E$1,IF(#REF!=$G$1,IF(#REF!=\"\",NA(),#REF!),NA()),NA())","v":{"$error":"#REF!"}},{"$error":"#REF!"},{"$error":"#REF!"}]
[null,null,null,{"$f":"IF(#REF!=$E$1,IF(#REF!=$G$1,#REF!,NA()),NA())","v":{"$error":"#REF!"}},{"$f":"IF(#REF!=$E$1,IF(#REF!=$G$1,#REF!,NA()),NA())","v":{"$error":"#REF!"}},{"$f":"IF(#REF!=$E$1,IF(#REF!=$G$1,IF(#REF!=\"\",NA(),#REF!),NA()),NA())","v":{"$error":"#REF!"}},{"$f":"IF(#REF!=$E$1,IF(#REF!=$G$1,IF(#REF!=\"\",NA(),#REF!),NA()),NA())","v":{"$error":"#REF!"}},{"$error":"#REF!"},{"$error":"#REF!"}]
[null,null,null,{"$f":"IF(#REF!=$E$1,IF(#REF!=$G$1,#REF!,NA()),NA())","v":{"$error":"#REF!"}},{"$f":"IF(#REF!=$E$1,IF(#REF!=$G$1,#REF!,NA()),NA())","v":{"$error":"#REF!"}},{"$f":"IF(#REF!=$E$1,IF(#REF!=$G$1,IF(#REF!=\"\",NA(),#REF!),NA()),NA())","v":{"$error":"#REF!"}},{"$f":"IF(#REF!=$E$1,IF(#REF!=$G$1,IF(#REF!=\"\",NA(),#REF!),NA()),NA())","v":{"$error":"#REF!"}},{"$error":"#REF!"},{"$error":"#REF!"}]
[null,null,null,{"$f":"IF(#REF!=$E$1,IF(#REF!=$G$1,#REF!,NA()),NA())","v":{"$error":"#REF!"}},{"$f":"IF(#REF!=$E$1,IF(#REF!=$G$1,#REF!,NA()),NA())","v":{"$error":"#REF!"}},{"$f":"IF(#REF!=$E$1,IF(#REF!=$G$1,IF(#REF!=\"\",NA(),#REF!),NA()),NA())","v":{"$error":"#REF!"}},{"$f":"IF(#REF!=$E$1,IF(#REF!=$G$1,IF(#REF!=\"\",NA(),#REF!),NA()),NA())","v":{"$error":"#REF!"}},{"$error":"#REF!"},{"$error":"#REF!"}]
[null,null,null,{"$f":"IF(#REF!=$E$1,IF(#REF!=$G$1,#REF!,NA()),NA())","v":{"$error":"#REF!"}},{"$f":"IF(#REF!=$E$1,IF(#REF!=$G$1,#REF!,NA()),NA())","v":{"$error":"#REF!"}},{"$f":"IF(#REF!=$E$1,IF(#REF!=$G$1,IF(#REF!=\"\",NA(),#REF!),NA()),NA())","v":{"$error":"#REF!"}},{"$f":"IF(#REF!=$E$1,IF(#REF!=$G$1,IF(#REF!=\"\",NA(),#REF!),NA()),NA())","v":{"$error":"#REF!"}},{"$error":"#REF!"},{"$error":"#REF!"}]
[null,null,null,{"$f":"IF(#REF!=$E$1,IF(#REF!=$G$1,#REF!,NA()),NA())","v":{"$error":"#REF!"}},{"$f":"IF(#REF!=$E$1,IF(#REF!=$G$1,#REF!,NA()),NA())","v":{"$error":"#REF!"}},{"$f":"IF(#REF!=$E$1,IF(#REF!=$G$1,IF(#REF!=\"\",NA(),#REF!),NA()),NA())","v":{"$error":"#REF!"}},{"$f":"IF(#REF!=$E$1,IF(#REF!=$G$1,IF(#REF!=\"\",NA(),#REF!),NA()),NA())","v":{"$error":"#REF!"}},{"$error":"#REF!"},{"$error":"#REF!"}]
[null,null,null,{"$f":"IF(#REF!=$E$1,IF(#REF!=$G$1,#REF!,NA()),NA())","v":{"$error":"#REF!"}},{"$f":"IF(#REF!=$E$1,IF(#REF!=$G$1,#REF!,NA()),NA())","v":{"$error":"#REF!"}},{"$f":"IF(#REF!=$E$1,IF(#REF!=$G$1,IF(#REF!=\"\",NA(),#REF!),NA()),NA())","v":{"$error":"#REF!"}},{"$f":"IF(#REF!=$E$1,IF(#REF!=$G$1,IF(#REF!=\"\",NA(),#REF!),NA()),NA())","v":{"$error":"#REF!"}},{"$error":"#REF!"},{"$error":"#REF!"}]
[null,null,null,{"$f":"IF(#REF!=$E$1,IF(#REF!=$G$1,#REF!,NA()),NA())","v":{"$error":"#REF!"}},{"$f":"IF(#REF!=$E$1,IF(#REF!=$G$1,#REF!,NA()),NA())","v":{"$error":"#REF!"}},{"$f":"IF(#REF!=$E$1,IF(#REF!=$G$1,IF(#REF!=\"\",NA(),#REF!),NA()),NA())","v":{"$error":"#REF!"}},{"$f":"IF(#REF!=$E$1,IF(#REF!=$G$1,IF(#REF!=\"\",NA(),#REF!),NA()),NA())","v":{"$error":"#REF!"}},{"$error":"#REF!"},{"$error":"#REF!"}]
[null,null,null,{"$f":"IF(#REF!=$E$1,IF(#REF!=$G$1,#REF!,NA()),NA())","v":{"$error":"#REF!"}},{"$f":"IF(#REF!=$E$1,IF(#REF!=$G$1,#REF!,NA()),NA())","v":{"$error":"#REF!"}},{"$f":"IF(#REF!=$E$1,IF(#REF!=$G$1,IF(#REF!=\"\",NA(),#REF!),NA()),NA())","v":{"$error":"#REF!"}},{"$f":"IF(#REF!=$E$1,IF(#REF!=$G$1,IF(#REF!=\"\",NA(),#REF!),NA()),NA())","v":{"$error":"#REF!"}},{"$f":"IF(AND(ISNUMBER(G836),F836=\"-\"),0,F836)","v":{"$error":"#REF!"}},{"$f":"IF(AND(ISNUMBER(F836),G836=\"-\"),0,G836)","v":{"$error":"#REF!"}}]
[null,null,null,{"$f":"IF(#REF!=$E$1,IF(#REF!=$G$1,#REF!,NA()),NA())","v":{"$error":"#REF!"}},{"$f":"IF(#REF!=$E$1,IF(#REF!=$G$1,#REF!,NA()),NA())","v":{"$error":"#REF!"}},{"$f":"IF(#REF!=$E$1,IF(#REF!=$G$1,IF(#REF!=\"\",NA(),#REF!),NA()),NA())","v":{"$error":"#REF!"}},{"$f":"IF(#REF!=$E$1,IF(#REF!=$G$1,IF(#REF!=\"\",NA(),#REF!),NA()),NA())","v":{"$error":"#REF!"}},{"$error":"#REF!"},{"$error":"#REF!"}]
[null,null,null,{"$f":"IF(#REF!=$E$1,IF(#REF!=$G$1,#REF!,NA()),NA())","v":{"$error":"#REF!"}},{"$f":"IF(#REF!=$E$1,IF(#REF!=$G$1,#REF!,NA()),NA())","v":{"$error":"#REF!"}},{"$f":"IF(#REF!=$E$1,IF(#REF!=$G$1,IF(#REF!=\"\",NA(),#REF!),NA()),NA())","v":{"$error":"#REF!"}},{"$f":"IF(#REF!=$E$1,IF(#REF!=$G$1,IF(#REF!=\"\",NA(),#REF!),NA()),NA())","v":{"$error":"#REF!"}},{"$error":"#REF!"},{"$error":"#REF!"}]
[null,null,null,{"$f":"IF(#REF!=$E$1,IF(#REF!=$G$1,#REF!,NA()),NA())","v":{"$error":"#REF!"}},{"$f":"IF(#REF!=$E$1,IF(#REF!=$G$1,#REF!,NA()),NA())","v":{"$error":"#REF!"}},{"$f":"IF(#REF!=$E$1,IF(#REF!=$G$1,IF(#REF!=\"\",NA(),#REF!),NA()),NA())","v":{"$error":"#REF!"}},{"$f":"IF(#REF!=$E$1,IF(#REF!=$G$1,IF(#REF!=\"\",NA(),#REF!),NA()),NA())","v":{"$error":"#REF!"}},{"$error":"#REF!"},{"$error":"#REF!"}]
[null,null,null,{"$f":"IF(#REF!=$E$1,IF(#REF!=$G$1,#REF!,NA()),NA())","v":{"$error":"#REF!"}},{"$f":"IF(#REF!=$E$1,IF(#REF!=$G$1,#REF!,NA()),NA())","v":{"$error":"#REF!"}},{"$f":"IF(#REF!=$E$1,IF(#REF!=$G$1,IF(#REF!=\"\",NA(),#REF!),NA()),NA())","v":{"$error":"#REF!"}},{"$f":"IF(#REF!=$E$1,IF(#REF!=$G$1,IF(#REF!=\"\",NA(),#REF!),NA()),NA())","v":{"$error":"#REF!"}},{"$error":"#REF!"},{"$error":"#REF!"}]
[null,null,null,{"$f":"IF(#REF!=$E$1,IF(#REF!=$G$1,#REF!,NA()),NA())","v":{"$error":"#REF!"}},{"$f":"IF(#REF!=$E$1,IF(#REF!=$G$1,#REF!,NA()),NA())","v":{"$error":"#REF!"}},{"$f":"IF(#REF!=$E$1,IF(#REF!=$G$1,IF(#REF!=\"\",NA(),#REF!),NA()),NA())","v":{"$error":"#REF!"}},{"$f":"IF(#REF!=$E$1,IF(#REF!=$G$1,IF(#REF!=\"\",NA(),#REF!),NA()),NA())","v":{"$error":"#REF!"}},{"$error":"#REF!"},{"$error":"#REF!"}]
[null,null,null,{"$f":"IF(#REF!=$E$1,IF(#REF!=$G$1,#REF!,NA()),NA())","v":{"$error":"#REF!"}},{"$f":"IF(#REF!=$E$1,IF(#REF!=$G$1,#REF!,NA()),NA())","v":{"$error":"#REF!"}},{"$f":"IF(#REF!=$E$1,IF(#REF!=$G$1,IF(#REF!=\"\",NA(),#REF!),NA()),NA())","v":{"$error":"#REF!"}},{"$f":"IF(#REF!=$E$1,IF(#REF!=$G$1,IF(#REF!=\"\",NA(),#REF!),NA()),NA())","v":{"$error":"#REF!"}},{"$error":"#REF!"},{"$error":"#REF!"}]
[null,null,null,{"$f":"IF(#REF!=$E$1,IF(#REF!=$G$1,#REF!,NA()),NA())","v":{"$error":"#REF!"}},{"$f":"IF(#REF!=$E$1,IF(#REF!=$G$1,#REF!,NA()),NA())","v":{"$error":"#REF!"}},{"$f":"IF(#REF!=$E$1,IF(#REF!=$G$1,IF(#REF!=\"\",NA(),#REF!),NA()),NA())","v":{"$error":"#REF!"}},{"$f":"IF(#REF!=$E$1,IF(#REF!=$G$1,IF(#REF!=\"\",NA(),#REF!),NA()),NA())","v":{"$error":"#REF!"}},{"$error":"#REF!"},{"$error":"#REF!"}]
[null,null,null,{"$f":"IF(#REF!=$E$1,IF(#REF!=$G$1,#REF!,NA()),NA())","v":{"$error":"#REF!"}},{"$f":"IF(#REF!=$E$1,IF(#REF!=$G$1,#REF!,NA()),NA())","v":{"$error":"#REF!"}},{"$f":"IF(#REF!=$E$1,IF(#REF!=$G$1,IF(#REF!=\"\",NA(),#REF!),NA()),NA())","v":{"$error":"#REF!"}},{"$f":"IF(#REF!=$E$1,IF(#REF!=$G$1,IF(#REF!=\"\",NA(),#REF!),NA()),NA())","v":{"$error":"#REF!"}},{"$error":"#REF!"},{"$error":"#REF!"}]
[null,null,null,{"$f":"IF(#REF!=$E$1,IF(#REF!=$G$1,#REF!,NA()),NA())","v":{"$error":"#REF!"}},{"$f":"IF(#REF!=$E$1,IF(#REF!=$G$1,#REF!,NA()),NA())","v":{"$error":"#REF!"}},{"$f":"IF(#REF!=$E$1,IF(#REF!=$G$1,IF(#REF!=\"\",NA(),#REF!),NA()),NA())","v":{"$error":"#REF!"}},{"$f":"IF(#REF!=$E$1,IF(#REF!=$G$1,IF(#REF!=\"\",NA(),#REF!),NA()),NA())","v":{"$error":"#REF!"}},{"$error":"#REF!"},{"$error":"#REF!"}]
[null,null,null,{"$f":"IF(#REF!=$E$1,IF(#REF!=$G$1,#REF!,NA()),NA())","v":{"$error":"#REF!"}},{"$f":"IF(#REF!=$E$1,IF(#REF!=$G$1,#REF!,NA()),NA())","v":{"$error":"#REF!"}},{"$f":"IF(#REF!=$E$1,IF(#REF!=$G$1,IF(#REF!=\"\",NA(),#REF!),NA()),NA())","v":{"$error":"#REF!"}},{"$f":"IF(#REF!=$E$1,IF(#REF!=$G$1,IF(#REF!=\"\",NA(),#REF!),NA()),NA())","v":{"$error":"#REF!"}},{"$error":"#REF!"},{"$error":"#REF!"}]
[null,null,null,{"$f":"IF(#REF!=$E$1,IF(#REF!=$G$1,#REF!,NA()),NA())","v":{"$error":"#REF!"}},{"$f":"IF(#REF!=$E$1,IF(#REF!=$G$1,#REF!,NA()),NA())","v":{"$error":"#REF!"}},{"$f":"IF(#REF!=$E$1,IF(#REF!=$G$1,IF(#REF!=\"\",NA(),#REF!),NA()),NA())","v":{"$error":"#REF!"}},{"$f":"IF(#REF!=$E$1,IF(#REF!=$G$1,IF(#REF!=\"\",NA(),#REF!),NA()),NA())","v":{"$error":"#REF!"}},{"$error":"#REF!"},{"$error":"#REF!"}]
[null,null,null,{"$f":"IF(#REF!=$E$1,IF(#REF!=$G$1,#REF!,NA()),NA())","v":{"$error":"#REF!"}},{"$f":"IF(#REF!=$E$1,IF(#REF!=$G$1,#REF!,NA()),NA())","v":{"$error":"#REF!"}},{"$f":"IF(#REF!=$E$1,IF(#REF!=$G$1,IF(#REF!=\"\",NA(),#REF!),NA()),NA())","v":{"$error":"#REF!"}},{"$f":"IF(#REF!=$E$1,IF(#REF!=$G$1,IF(#REF!=\"\",NA(),#REF!),NA()),NA())","v":{"$error":"#REF!"}},{"$error":"#REF!"},{"$error":"#REF!"}]
[null,null,null,{"$f":"IF(#REF!=$E$1,IF(#REF!=$G$1,#REF!,NA()),NA())","v":{"$error":"#REF!"}},{"$f":"IF(#REF!=$E$1,IF(#REF!=$G$1,#REF!,NA()),NA())","v":{"$error":"#REF!"}},{"$f":"IF(#REF!=$E$1,IF(#REF!=$G$1,IF(#REF!=\"\",NA(),#REF!),NA()),NA())","v":{"$error":"#REF!"}},{"$f":"IF(#REF!=$E$1,IF(#REF!=$G$1,IF(#REF!=\"\",NA(),#REF!),NA()),NA())","v":{"$error":"#REF!"}},{"$error":"#REF!"},{"$error":"#REF!"}]
[null,null,null,{"$f":"IF(#REF!=$E$1,IF(#REF!=$G$1,#REF!,NA()),NA())","v":{"$error":"#REF!"}},{"$f":"IF(#REF!=$E$1,IF(#REF!=$G$1,#REF!,NA()),NA())","v":{"$error":"#REF!"}},{"$f":"IF(#REF!=$E$1,IF(#REF!=$G$1,IF(#REF!=\"\",NA(),#REF!),NA()),NA())","v":{"$error":"#REF!"}},{"$f":"IF(#REF!=$E$1,IF(#REF!=$G$1,IF(#REF!=\"\",NA(),#REF!),NA()),NA())","v":{"$error":"#REF!"}},{"$error":"#REF!"},{"$error":"#REF!"}]
[null,null,null,{"$f":"IF(#REF!=$E$1,IF(#REF!=$G$1,#REF!,NA()),NA())","v":{"$error":"#REF!"}},{"$f":"IF(#REF!=$E$1,IF(#REF!=$G$1,#REF!,NA()),NA())","v":{"$error":"#REF!"}},{"$f":"IF(#REF!=$E$1,IF(#REF!=$G$1,IF(#REF!=\"\",NA(),#REF!),NA()),NA())","v":{"$error":"#REF!"}},{"$f":"IF(#REF!=$E$1,IF(#REF!=$G$1,IF(#REF!=\"\",NA(),#REF!),NA()),NA())","v":{"$error":"#REF!"}},{"$error":"#REF!"},{"$error":"#REF!"}]
[null,null,null,{"$f":"IF(#REF!=$E$1,IF(#REF!=$G$1,#REF!,NA()),NA())","v":{"$error":"#REF!"}},{"$f":"IF(#REF!=$E$1,IF(#REF!=$G$1,#REF!,NA()),NA())","v":{"$error":"#REF!"}},{"$f":"IF(#REF!=$E$1,IF(#REF!=$G$1,IF(#REF!=\"\",NA(),#REF!),NA()),NA())","v":{"$error":"#REF!"}},{"$f":"IF(#REF!=$E$1,IF(#REF!=$G$1,IF(#REF!=\"\",NA(),#REF!),NA()),NA())","v":{"$error":"#REF!"}},{"$error":"#REF!"},{"$error":"#REF!"}]
[null,null,null,{"$f":"IF(#REF!=$E$1,IF(#REF!=$G$1,#REF!,NA()),NA())","v":{"$error":"#REF!"}},{"$f":"IF(#REF!=$E$1,IF(#REF!=$G$1,#REF!,NA()),NA())","v":{"$error":"#REF!"}},{"$f":"IF(#REF!=$E$1,IF(#REF!=$G$1,IF(#REF!=\"\",NA(),#REF!),NA()),NA())","v":{"$error":"#REF!"}},{"$f":"IF(#REF!=$E$1,IF(#REF!=$G$1,IF(#REF!=\"\",NA(),#REF!),NA()),NA())","v":{"$error":"#REF!"}},{"$error":"#REF!"},{"$error":"#REF!"}]
[null,null,null,{"$f":"IF(#REF!=$E$1,IF(#REF!=$G$1,#REF!,NA()),NA())","v":{"$error":"#REF!"}},{"$f":"IF(#REF!=$E$1,IF(#REF!=$G$1,#REF!,NA()),NA())","v":{"$error":"#REF!"}},{"$f":"IF(#REF!=$E$1,IF(#REF!=$G$1,IF(#REF!=\"\",NA(),#REF!),NA()),NA())","v":{"$error":"#REF!"}},{"$f":"IF(#REF!=$E$1,IF(#REF!=$G$1,IF(#REF!=\"\",NA(),#REF!),NA()),NA())","v":{"$error":"#REF!"}},{"$error":"#REF!"},{"$error":"#REF!"}]
[null,null,null,{"$f":"IF(#REF!=$E$1,IF(#REF!=$G$1,#REF!,NA()),NA())","v":{"$error":"#REF!"}},{"$f":"IF(#REF!=$E$1,IF(#REF!=$G$1,#REF!,NA()),NA())","v":{"$error":"#REF!"}},{"$f":"IF(#REF!=$E$1,IF(#REF!=$G$1,IF(#REF!=\"\",NA(),#REF!),NA()),NA())","v":{"$error":"#REF!"}},{"$f":"IF(#REF!=$E$1,IF(#REF!=$G$1,IF(#REF!=\"\",NA(),#REF!),NA()),NA())","v":{"$error":"#REF!"}},{"$error":"#REF!"},{"$error":"#REF!"}]
[null,null,null,{"$f":"IF(#REF!=$E$1,IF(#REF!=$G$1,#REF!,NA()),NA())","v":{"$error":"#REF!"}},{"$f":"IF(#REF!=$E$1,IF(#REF!=$G$1,#REF!,NA()),NA())","v":{"$error":"#REF!"}},{"$f":"IF(#REF!=$E$1,IF(#REF!=$G$1,IF(#REF!=\"\",NA(),#REF!),NA()),NA())","v":{"$error":"#REF!"}},{"$f":"IF(#REF!=$E$1,IF(#REF!=$G$1,IF(#REF!=\"\",NA(),#REF!),NA()),NA())","v":{"$error":"#REF!"}},{"$error":"#REF!"},{"$error":"#REF!"}]
[null,null,null,{"$f":"IF(#REF!=$E$1,IF(#REF!=$G$1,#REF!,NA()),NA())","v":{"$error":"#REF!"}},{"$f":"IF(#REF!=$E$1,IF(#REF!=$G$1,#REF!,NA()),NA())","v":{"$error":"#REF!"}},{"$f":"IF(#REF!=$E$1,IF(#REF!=$G$1,IF(#REF!=\"\",NA(),#REF!),NA()),NA())","v":{"$error":"#REF!"}},{"$f":"IF(#REF!=$E$1,IF(#REF!=$G$1,IF(#REF!=\"\",NA(),#REF!),NA()),NA())","v":{"$error":"#REF!"}},{"$error":"#REF!"},{"$error":"#REF!"}]
[null,null,null,{"$f":"IF(#REF!=$E$1,IF(#REF!=$G$1,#REF!,NA()),NA())","v":{"$error":"#REF!"}},{"$f":"IF(#REF!=$E$1,IF(#REF!=$G$1,#REF!,NA()),NA())","v":{"$error":"#REF!"}},{"$f":"IF(#REF!=$E$1,IF(#REF!=$G$1,IF(#REF!=\"\",NA(),#REF!),NA()),NA())","v":{"$error":"#REF!"}},{"$f":"IF(#REF!=$E$1,IF(#REF!=$G$1,IF(#REF!=\"\",NA(),#REF!),NA()),NA())","v":{"$error":"#REF!"}},{"$error":"#REF!"},{"$error":"#REF!"}]
[null,null,null,{"$f":"IF(#REF!=$E$1,IF(#REF!=$G$1,#REF!,NA()),NA())","v":{"$error":"#REF!"}},{"$f":"IF(#REF!=$E$1,IF(#REF!=$G$1,#REF!,NA()),NA())","v":{"$error":"#REF!"}},{"$f":"IF(#REF!=$E$1,IF(#REF!=$G$1,IF(#REF!=\"\",NA(),#REF!),NA()),NA())","v":{"$error":"#REF!"}},{"$f":"IF(#REF!=$E$1,IF(#REF!=$G$1,IF(#REF!=\"\",NA(),#REF!),NA()),NA())","v":{"$error":"#REF!"}},{"$error":"#REF!"},{"$error":"#REF!"}]
[null,null,null,{"$f":"IF(#REF!=$E$1,IF(#REF!=$G$1,#REF!,NA()),NA())","v":{"$error":"#REF!"}},{"$f":"IF(#REF!=$E$1,IF(#REF!=$G$1,#REF!,NA()),NA())","v":{"$error":"#REF!"}},{"$f":"IF(#REF!=$E$1,IF(#REF!=$G$1,IF(#REF!=\"\",NA(),#REF!),NA()),NA())","v":{"$error":"#REF!"}},{"$f":"IF(#REF!=$E$1,IF(#REF!=$G$1,IF(#REF!=\"\",NA(),#REF!),NA()),NA())","v":{"$error":"#REF!"}},{"$error":"#REF!"},{"$error":"#REF!"}]
[null,null,null,{"$f":"IF(#REF!=$E$1,IF(#REF!=$G$1,#REF!,NA()),NA())","v":{"$error":"#REF!"}},{"$f":"IF(#REF!=$E$1,IF(#REF!=$G$1,#REF!,NA()),NA())","v":{"$error":"#REF!"}},{"$f":"IF(#REF!=$E$1,IF(#REF!=$G$1,IF(#REF!=\"\",NA(),#REF!),NA()),NA())","v":{"$error":"#REF!"}},{"$f":"IF(#REF!=$E$1,IF(#REF!=$G$1,IF(#REF!=\"\",NA(),#REF!),NA()),NA())","v":{"$error":"#REF!"}},{"$error":"#REF!"},{"$error":"#REF!"}]
[null,null,null,{"$f":"IF(#REF!=$E$1,IF(#REF!=$G$1,#REF!,NA()),NA())","v":{"$error":"#REF!"}},{"$f":"IF(#REF!=$E$1,IF(#REF!=$G$1,#REF!,NA()),NA())","v":{"$error":"#REF!"}},{"$f":"IF(#REF!=$E$1,IF(#REF!=$G$1,IF(#REF!=\"\",NA(),#REF!),NA()),NA())","v":{"$error":"#REF!"}},{"$f":"IF(#REF!=$E$1,IF(#REF!=$G$1,IF(#REF!=\"\",NA(),#REF!),NA()),NA())","v":{"$error":"#REF!"}},{"$error":"#REF!"},{"$error":"#REF!"}]
[null,null,null,{"$f":"IF(#REF!=$E$1,IF(#REF!=$G$1,#REF!,NA()),NA())","v":{"$error":"#REF!"}},{"$f":"IF(#REF!=$E$1,IF(#REF!=$G$1,#REF!,NA()),NA())","v":{"$error":"#REF!"}},{"$f":"IF(#REF!=$E$1,IF(#REF!=$G$1,IF(#REF!=\"\",NA(),#REF!),NA()),NA())","v":{"$error":"#REF!"}},{"$f":"IF(#REF!=$E$1,IF(#REF!=$G$1,IF(#REF!=\"\",NA(),#REF!),NA()),NA())","v":{"$error":"#REF!"}},{"$error":"#REF!"},{"$error":"#REF!"}]
[null,null,null,{"$f":"IF(#REF!=$E$1,IF(#REF!=$G$1,#REF!,NA()),NA())","v":{"$error":"#REF!"}},{"$f":"IF(#REF!=$E$1,IF(#REF!=$G$1,#REF!,NA()),NA())","v":{"$error":"#REF!"}},{"$f":"IF(#REF!=$E$1,IF(#REF!=$G$1,IF(#REF!=\"\",NA(),#REF!),NA()),NA())","v":{"$error":"#REF!"}},{"$f":"IF(#REF!=$E$1,IF(#REF!=$G$1,IF(#REF!=\"\",NA(),#REF!),NA()),NA())","v":{"$error":"#REF!"}},{"$error":"#REF!"},{"$error":"#REF!"}]
[null,null,null,{"$f":"IF(#REF!=$E$1,IF(#REF!=$G$1,#REF!,NA()),NA())","v":{"$error":"#REF!"}},{"$f":"IF(#REF!=$E$1,IF(#REF!=$G$1,#REF!,NA()),NA())","v":{"$error":"#REF!"}},{"$f":"IF(#REF!=$E$1,IF(#REF!=$G$1,IF(#REF!=\"\",NA(),#REF!),NA()),NA())","v":{"$error":"#REF!"}},{"$f":"IF(#REF!=$E$1,IF(#REF!=$G$1,IF(#REF!=\"\",NA(),#REF!),NA()),NA())","v":{"$error":"#REF!"}},{"$error":"#REF!"},{"$error":"#REF!"}]
[null,null,null,{"$f":"IF(#REF!=$E$1,IF(#REF!=$G$1,#REF!,NA()),NA())","v":{"$error":"#REF!"}},{"$f":"IF(#REF!=$E$1,IF(#REF!=$G$1,#REF!,NA()),NA())","v":{"$error":"#REF!"}},{"$f":"IF(#REF!=$E$1,IF(#REF!=$G$1,IF(#REF!=\"\",NA(),#REF!),NA()),NA())","v":{"$error":"#REF!"}},{"$f":"IF(#REF!=$E$1,IF(#REF!=$G$1,IF(#REF!=\"\",NA(),#REF!),NA()),NA())","v":{"$error":"#REF!"}},{"$error":"#REF!"},{"$error":"#REF!"}]
[null,null,null,{"$f":"IF(#REF!=$E$1,IF(#REF!=$G$1,#REF!,NA()),NA())","v":{"$error":"#REF!"}},{"$f":"IF(#REF!=$E$1,IF(#REF!=$G$1,#REF!,NA()),NA())","v":{"$error":"#REF!"}},{"$f":"IF(#REF!=$E$1,IF(#REF!=$G$1,IF(#REF!=\"\",NA(),#REF!),NA()),NA())","v":{"$error":"#REF!"}},{"$f":"IF(#REF!=$E$1,IF(#REF!=$G$1,IF(#REF!=\"\",NA(),#REF!),NA()),NA())","v":{"$error":"#REF!"}},{"$error":"#REF!"},{"$error":"#REF!"}]
[null,null,null,{"$f":"IF(#REF!=$E$1,IF(#REF!=$G$1,#REF!,NA()),NA())","v":{"$error":"#REF!"}},{"$f":"IF(#REF!=$E$1,IF(#REF!=$G$1,#REF!,NA()),NA())","v":{"$error":"#REF!"}},{"$f":"IF(#REF!=$E$1,IF(#REF!=$G$1,IF(#REF!=\"\",NA(),#REF!),NA()),NA())","v":{"$error":"#REF!"}},{"$f":"IF(#REF!=$E$1,IF(#REF!=$G$1,IF(#REF!=\"\",NA(),#REF!),NA()),NA())","v":{"$error":"#REF!"}},{"$error":"#REF!"},{"$error":"#REF!"}]
[null,null,null,{"$f":"IF(#REF!=$E$1,IF(#REF!=$G$1,#REF!,NA()),NA())","v":{"$error":"#REF!"}},{"$f":"IF(#REF!=$E$1,IF(#REF!=$G$1,#REF!,NA()),NA())","v":{"$error":"#REF!"}},{"$f":"IF(#REF!=$E$1,IF(#REF!=$G$1,IF(#REF!=\"\",NA(),#REF!),NA()),NA())","v":{"$error":"#REF!"}},{"$f":"IF(#REF!=$E$1,IF(#REF!=$G$1,IF(#REF!=\"\",NA(),#REF!),NA()),NA())","v":{"$error":"#REF!"}},{"$error":"#REF!"},{"$error":"#REF!"}]
[null,null,null,{"$f":"IF(#REF!=$E$1,IF(#REF!=$G$1,#REF!,NA()),NA())","v":{"$error":"#REF!"}},{"$f":"IF(#REF!=$E$1,IF(#REF!=$G$1,#REF!,NA()),NA())","v":{"$error":"#REF!"}},{"$f":"IF(#REF!=$E$1,IF(#REF!=$G$1,IF(#REF!=\"\",NA(),#REF!),NA()),NA())","v":{"$error":"#REF!"}},{"$f":"IF(#REF!=$E$1,IF(#REF!=$G$1,IF(#REF!=\"\",NA(),#REF!),NA()),NA())","v":{"$error":"#REF!"}},{"$error":"#REF!"},{"$error":"#REF!"}]
[null,null,null,{"$f":"IF(#REF!=$E$1,IF(#REF!=$G$1,#REF!,NA()),NA())","v":{"$error":"#REF!"}},{"$f":"IF(#REF!=$E$1,IF(#REF!=$G$1,#REF!,NA()),NA())","v":{"$error":"#REF!"}},{"$f":"IF(#REF!=$E$1,IF(#REF!=$G$1,IF(#REF!=\"\",NA(),#REF!),NA()),NA())","v":{"$error":"#REF!"}},{"$f":"IF(#REF!=$E$1,IF(#REF!=$G$1,IF(#REF!=\"\",NA(),#REF!),NA()),NA())","v":{"$error":"#REF!"}},{"$error":"#REF!"},{"$error":"#REF!"}]
[null,null,null,{"$f":"IF(#REF!=$E$1,IF(#REF!=$G$1,#REF!,NA()),NA())","v":{"$error":"#REF!"}},{"$f":"IF(#REF!=$E$1,IF(#REF!=$G$1,#REF!,NA()),NA())","v":{"$error":"#REF!"}},{"$f":"IF(#REF!=$E$1,IF(#REF!=$G$1,IF(#REF!=\"\",NA(),#REF!),NA()),NA())","v":{"$error":"#REF!"}},{"$f":"IF(#REF!=$E$1,IF(#REF!=$G$1,IF(#REF!=\"\",NA(),#REF!),NA()),NA())","v":{"$error":"#REF!"}},{"$error":"#REF!"},{"$error":"#REF!"}]
[null,null,null,{"$f":"IF(#REF!=$E$1,IF(#REF!=$G$1,#REF!,NA()),NA())","v":{"$error":"#REF!"}},{"$f":"IF(#REF!=$E$1,IF(#REF!=$G$1,#REF!,NA()),NA())","v":{"$error":"#REF!"}},{"$f":"IF(#REF!=$E$1,IF(#REF!=$G$1,IF(#REF!=\"\",NA(),#REF!),NA()),NA())","v":{"$error":"#REF!"}},{"$f":"IF(#REF!=$E$1,IF(#REF!=$G$1,IF(#REF!=\"\",NA(),#REF!),NA()),NA())","v":{"$error":"#REF!"}},{"$error":"#REF!"},{"$error":"#REF!"}]
[null,null,null,{"$f":"IF(#REF!=$E$1,IF(#REF!=$G$1,#REF!,NA()),NA())","v":{"$error":"#REF!"}},{"$f":"IF(#REF!=$E$1,IF(#REF!=$G$1,#REF!,NA()),NA())","v":{"$error":"#REF!"}},{"$f":"IF(#REF!=$E$1,IF(#REF!=$G$1,IF(#REF!=\"\",NA(),#REF!),NA()),NA())","v":{"$error":"#REF!"}},{"$f":"IF(#REF!=$E$1,IF(#REF!=$G$1,IF(#REF!=\"\",NA(),#REF!),NA()),NA())","v":{"$error":"#REF!"}},{"$error":"#REF!"},{"$error":"#REF!"}]
[null,null,null,{"$f":"IF(#REF!=$E$1,IF(#REF!=$G$1,#REF!,NA()),NA())","v":{"$error":"#REF!"}},{"$f":"IF(#REF!=$E$1,IF(#REF!=$G$1,#REF!,NA()),NA())","v":{"$error":"#REF!"}},{"$f":"IF(#REF!=$E$1,IF(#REF!=$G$1,IF(#REF!=\"\",NA(),#REF!),NA()),NA())","v":{"$error":"#REF!"}},{"$f":"IF(#REF!=$E$1,IF(#REF!=$G$1,IF(#REF!=\"\",NA(),#REF!),NA()),NA())","v":{"$error":"#REF!"}},{"$error":"#REF!"},{"$error":"#REF!"}]
[null,null,null,{"$f":"IF(#REF!=$E$1,IF(#REF!=$G$1,#REF!,NA()),NA())","v":{"$error":"#REF!"}},{"$f":"IF(#REF!=$E$1,IF(#REF!=$G$1,#REF!,NA()),NA())","v":{"$error":"#REF!"}},{"$f":"IF(#REF!=$E$1,IF(#REF!=$G$1,IF(#REF!=\"\",NA(),#REF!),NA()),NA())","v":{"$error":"#REF!"}},{"$f":"IF(#REF!=$E$1,IF(#REF!=$G$1,IF(#REF!=\"\",NA(),#REF!),NA()),NA())","v":{"$error":"#REF!"}},{"$error":"#REF!"},{"$error":"#REF!"}]
[null,null,null,{"$f":"IF(#REF!=$E$1,IF(#REF!=$G$1,#REF!,NA()),NA())","v":{"$error":"#REF!"}},{"$f":"IF(#REF!=$E$1,IF(#REF!=$G$1,#REF!,NA()),NA())","v":{"$error":"#REF!"}},{"$f":"IF(#REF!=$E$1,IF(#REF!=$G$1,IF(#REF!=\"\",NA(),#REF!),NA()),NA())","v":{"$error":"#REF!"}},{"$f":"IF(#REF!=$E$1,IF(#REF!=$G$1,IF(#REF!=\"\",NA(),#REF!),NA()),NA())","v":{"$error":"#REF!"}},{"$error":"#REF!"},{"$error":"#REF!"}]
[null,null,null,{"$f":"IF(#REF!=$E$1,IF(#REF!=$G$1,#REF!,NA()),NA())","v":{"$error":"#REF!"}},{"$f":"IF(#REF!=$E$1,IF(#REF!=$G$1,#REF!,NA()),NA())","v":{"$error":"#REF!"}},{"$f":"IF(#REF!=$E$1,IF(#REF!=$G$1,IF(#REF!=\"\",NA(),#REF!),NA()),NA())","v":{"$error":"#REF!"}},{"$f":"IF(#REF!=$E$1,IF(#REF!=$G$1,IF(#REF!=\"\",NA(),#REF!),NA()),NA())","v":{"$error":"#REF!"}},{"$error":"#REF!"},{"$error":"#REF!"}]
[null,null,null,{"$f":"IF(#REF!=$E$1,IF(#REF!=$G$1,#REF!,NA()),NA())","v":{"$error":"#REF!"}},{"$f":"IF(#REF!=$E$1,IF(#REF!=$G$1,#REF!,NA()),NA())","v":{"$error":"#REF!"}},{"$f":"IF(#REF!=$E$1,IF(#REF!=$G$1,IF(#REF!=\"\",NA(),#REF!),NA()),NA())","v":{"$error":"#REF!"}},{"$f":"IF(#REF!=$E$1,IF(#REF!=$G$1,IF(#REF!=\"\",NA(),#REF!),NA()),NA())","v":{"$error":"#REF!"}},{"$error":"#REF!"},{"$error":"#REF!"}]
[null,null,null,{"$f":"IF(#REF!=$E$1,IF(#REF!=$G$1,#REF!,NA()),NA())","v":{"$error":"#REF!"}},{"$f":"IF(#REF!=$E$1,IF(#REF!=$G$1,#REF!,NA()),NA())","v":{"$error":"#REF!"}},{"$f":"IF(#REF!=$E$1,IF(#REF!=$G$1,IF(#REF!=\"\",NA(),#REF!),NA()),NA())","v":{"$error":"#REF!"}},{"$f":"IF(#REF!=$E$1,IF(#REF!=$G$1,IF(#REF!=\"\",NA(),#REF!),NA()),NA())","v":{"$error":"#REF!"}},{"$error":"#REF!"},{"$error":"#REF!"}]
[null,null,null,{"$f":"IF(#REF!=$E$1,IF(#REF!=$G$1,#REF!,NA()),NA())","v":{"$error":"#REF!"}},{"$f":"IF(#REF!=$E$1,IF(#REF!=$G$1,#REF!,NA()),NA())","v":{"$error":"#REF!"}},{"$f":"IF(#REF!=$E$1,IF(#REF!=$G$1,IF(#REF!=\"\",NA(),#REF!),NA()),NA())","v":{"$error":"#REF!"}},{"$f":"IF(#REF!=$E$1,IF(#REF!=$G$1,IF(#REF!=\"\",NA(),#REF!),NA()),NA())","v":{"$error":"#REF!"}},{"$error":"#REF!"},{"$error":"#REF!"}]
[null,null,null,{"$f":"IF(#REF!=$E$1,IF(#REF!=$G$1,#REF!,NA()),NA())","v":{"$error":"#REF!"}},{"$f":"IF(#REF!=$E$1,IF(#REF!=$G$1,#REF!,NA()),NA())","v":{"$error":"#REF!"}},{"$f":"IF(#REF!=$E$1,IF(#REF!=$G$1,IF(#REF!=\"\",NA(),#REF!),NA()),NA())","v":{"$error":"#REF!"}},{"$f":"IF(#REF!=$E$1,IF(#REF!=$G$1,IF(#REF!=\"\",NA(),#REF!),NA()),NA())","v":{"$error":"#REF!"}},{"$error":"#REF!"},{"$error":"#REF!"}]
[null,null,null,{"$f":"IF(#REF!=$E$1,IF(#REF!=$G$1,#REF!,NA()),NA())","v":{"$error":"#REF!"}},{"$f":"IF(#REF!=$E$1,IF(#REF!=$G$1,#REF!,NA()),NA())","v":{"$error":"#REF!"}},{"$f":"IF(#REF!=$E$1,IF(#REF!=$G$1,IF(#REF!=\"\",NA(),#REF!),NA()),NA())","v":{"$error":"#REF!"}},{"$f":"IF(#REF!=$E$1,IF(#REF!=$G$1,IF(#REF!=\"\",NA(),#REF!),NA()),NA())","v":{"$error":"#REF!"}},{"$error":"#REF!"},{"$error":"#REF!"}]
[null,null,null,{"$f":"IF(#REF!=$E$1,IF(#REF!=$G$1,#REF!,NA()),NA())","v":{"$error":"#REF!"}},{"$f":"IF(#REF!=$E$1,IF(#REF!=$G$1,#REF!,NA()),NA())","v":{"$error":"#REF!"}},{"$f":"IF(#REF!=$E$1,IF(#REF!=$G$1,IF(#REF!=\"\",NA(),#REF!),NA()),NA())","v":{"$error":"#REF!"}},{"$f":"IF(#REF!=$E$1,IF(#REF!=$G$1,IF(#REF!=\"\",NA(),#REF!),NA()),NA())","v":{"$error":"#REF!"}},{"$error":"#REF!"},{"$error":"#REF!"}]
[null,null,null,{"$f":"IF(#REF!=$E$1,IF(#REF!=$G$1,#REF!,NA()),NA())","v":{"$error":"#REF!"}},{"$f":"IF(#REF!=$E$1,IF(#REF!=$G$1,#REF!,NA()),NA())","v":{"$error":"#REF!"}},{"$f":"IF(#REF!=$E$1,IF(#REF!=$G$1,IF(#REF!=\"\",NA(),#REF!),NA()),NA())","v":{"$error":"#REF!"}},{"$f":"IF(#REF!=$E$1,IF(#REF!=$G$1,IF(#REF!=\"\",NA(),#REF!),NA()),NA())","v":{"$error":"#REF!"}},{"$error":"#REF!"},{"$error":"#REF!"}]
[null,null,null,{"$f":"IF(#REF!=$E$1,IF(#REF!=$G$1,#REF!,NA()),NA())","v":{"$error":"#REF!"}},{"$f":"IF(#REF!=$E$1,IF(#REF!=$G$1,#REF!,NA()),NA())","v":{"$error":"#REF!"}},{"$f":"IF(#REF!=$E$1,IF(#REF!=$G$1,IF(#REF!=\"\",NA(),#REF!),NA()),NA())","v":{"$error":"#REF!"}},{"$f":"IF(#REF!=$E$1,IF(#REF!=$G$1,IF(#REF!=\"\",NA(),#REF!),NA()),NA())","v":{"$error":"#REF!"}},{"$error":"#REF!"},{"$error":"#REF!"}]
[null,null,null,{"$f":"IF(#REF!=$E$1,IF(#REF!=$G$1,#REF!,NA()),NA())","v":{"$error":"#REF!"}},{"$f":"IF(#REF!=$E$1,IF(#REF!=$G$1,#REF!,NA()),NA())","v":{"$error":"#REF!"}},{"$f":"IF(#REF!=$E$1,IF(#REF!=$G$1,IF(#REF!=\"\",NA(),#REF!),NA()),NA())","v":{"$error":"#REF!"}},{"$f":"IF(#REF!=$E$1,IF(#REF!=$G$1,IF(#REF!=\"\",NA(),#REF!),NA()),NA())","v":{"$error":"#REF!"}},{"$error":"#REF!"},{"$error":"#REF!"}]
[null,null,null,{"$f":"IF(#REF!=$E$1,IF(#REF!=$G$1,#REF!,NA()),NA())","v":{"$error":"#REF!"}},{"$f":"IF(#REF!=$E$1,IF(#REF!=$G$1,#REF!,NA()),NA())","v":{"$error":"#REF!"}},{"$f":"IF(#REF!=$E$1,IF(#REF!=$G$1,IF(#REF!=\"\",NA(),#REF!),NA()),NA())","v":{"$error":"#REF!"}},{"$f":"IF(#REF!=$E$1,IF(#REF!=$G$1,IF(#REF!=\"\",NA(),#REF!),NA()),NA())","v":{"$error":"#REF!"}},{"$error":"#REF!"},{"$error":"#REF!"}]
[null,null,null,{"$f":"IF(#REF!=$E$1,IF(#REF!=$G$1,#REF!,NA()),NA())","v":{"$error":"#REF!"}},{"$f":"IF(#REF!=$E$1,IF(#REF!=$G$1,#REF!,NA()),NA())","v":{"$error":"#REF!"}},{"$f":"IF(#REF!=$E$1,IF(#REF!=$G$1,IF(#REF!=\"\",NA(),#REF!),NA()),NA())","v":{"$error":"#REF!"}},{"$f":"IF(#REF!=$E$1,IF(#REF!=$G$1,IF(#REF!=\"\",NA(),#REF!),NA()),NA())","v":{"$error":"#REF!"}},{"$error":"#REF!"},{"$error":"#REF!"}]
[null,null,null,{"$f":"IF(#REF!=$E$1,IF(#REF!=$G$1,#REF!,NA()),NA())","v":{"$error":"#REF!"}},{"$f":"IF(#REF!=$E$1,IF(#REF!=$G$1,#REF!,NA()),NA())","v":{"$error":"#REF!"}},{"$f":"IF(#REF!=$E$1,IF(#REF!=$G$1,IF(#REF!=\"\",NA(),#REF!),NA()),NA())","v":{"$error":"#REF!"}},{"$f":"IF(#REF!=$E$1,IF(#REF!=$G$1,IF(#REF!=\"\",NA(),#REF!),NA()),NA())","v":{"$error":"#REF!"}},{"$error":"#REF!"},{"$error":"#REF!"}]
[null,null,null,{"$f":"IF(#REF!=$E$1,IF(#REF!=$G$1,#REF!,NA()),NA())","v":{"$error":"#REF!"}},{"$f":"IF(#REF!=$E$1,IF(#REF!=$G$1,#REF!,NA()),NA())","v":{"$error":"#REF!"}},{"$f":"IF(#REF!=$E$1,IF(#REF!=$G$1,IF(#REF!=\"\",NA(),#REF!),NA()),NA())","v":{"$error":"#REF!"}},{"$f":"IF(#REF!=$E$1,IF(#REF!=$G$1,IF(#REF!=\"\",NA(),#REF!),NA()),NA())","v":{"$error":"#REF!"}},{"$error":"#REF!"},{"$error":"#REF!"}]
[null,null,null,{"$f":"IF(#REF!=$E$1,IF(#REF!=$G$1,#REF!,NA()),NA())","v":{"$error":"#REF!"}},{"$f":"IF(#REF!=$E$1,IF(#REF!=$G$1,#REF!,NA()),NA())","v":{"$error":"#REF!"}},{"$f":"IF(#REF!=$E$1,IF(#REF!=$G$1,IF(#REF!=\"\",NA(),#REF!),NA()),NA())","v":{"$error":"#REF!"}},{"$f":"IF(#REF!=$E$1,IF(#REF!=$G$1,IF(#REF!=\"\",NA(),#REF!),NA()),NA())","v":{"$error":"#REF!"}},{"$error":"#REF!"},{"$error":"#REF!"}]
[null,null,null,{"$f":"IF(#REF!=$E$1,IF(#REF!=$G$1,#REF!,NA()),NA())","v":{"$error":"#REF!"}},{"$f":"IF(#REF!=$E$1,IF(#REF!=$G$1,#REF!,NA()),NA())","v":{"$error":"#REF!"}},{"$f":"IF(#REF!=$E$1,IF(#REF!=$G$1,IF(#REF!=\"\",NA(),#REF!),NA()),NA())","v":{"$error":"#REF!"}},{"$f":"IF(#REF!=$E$1,IF(#REF!=$G$1,IF(#REF!=\"\",NA(),#REF!),NA()),NA())","v":{"$error":"#REF!"}},{"$error":"#REF!"},{"$error":"#REF!"}]
[null,null,null,{"$f":"IF(#REF!=$E$1,IF(#REF!=$G$1,#REF!,NA()),NA())","v":{"$error":"#REF!"}},{"$f":"IF(#REF!=$E$1,IF(#REF!=$G$1,#REF!,NA()),NA())","v":{"$error":"#REF!"}},{"$f":"IF(#REF!=$E$1,IF(#REF!=$G$1,IF(#REF!=\"\",NA(),#REF!),NA()),NA())","v":{"$error":"#REF!"}},{"$f":"IF(#REF!=$E$1,IF(#REF!=$G$1,IF(#REF!=\"\",NA(),#REF!),NA()),NA())","v":{"$error":"#REF!"}},{"$error":"#REF!"},{"$error":"#REF!"}]
[null,null,null,{"$f":"IF(#REF!=$E$1,IF(#REF!=$G$1,#REF!,NA()),NA())","v":{"$error":"#REF!"}},{"$f":"IF(#REF!=$E$1,IF(#REF!=$G$1,#REF!,NA()),NA())","v":{"$error":"#REF!"}},{"$f":"IF(#REF!=$E$1,IF(#REF!=$G$1,IF(#REF!=\"\",NA(),#REF!),NA()),NA())","v":{"$error":"#REF!"}},{"$f":"IF(#REF!=$E$1,IF(#REF!=$G$1,IF(#REF!=\"\",NA(),#REF!),NA()),NA())","v":{"$error":"#REF!"}},{"$error":"#REF!"},{"$error":"#REF!"}]
[null,null,null,{"$f":"IF(#REF!=$E$1,IF(#REF!=$G$1,#REF!,NA()),NA())","v":{"$error":"#REF!"}},{"$f":"IF(#REF!=$E$1,IF(#REF!=$G$1,#REF!,NA()),NA())","v":{"$error":"#REF!"}},{"$f":"IF(#REF!=$E$1,IF(#REF!=$G$1,IF(#REF!=\"\",NA(),#REF!),NA()),NA())","v":{"$error":"#REF!"}},{"$f":"IF(#REF!=$E$1,IF(#REF!=$G$1,IF(#REF!=\"\",NA(),#REF!),NA()),NA())","v":{"$error":"#REF!"}},{"$error":"#REF!"},{"$error":"#REF!"}]
[null,null,null,{"$f":"IF(#REF!=$E$1,IF(#REF!=$G$1,#REF!,NA()),NA())","v":{"$error":"#REF!"}},{"$f":"IF(#REF!=$E$1,IF(#REF!=$G$1,#REF!,NA()),NA())","v":{"$error":"#REF!"}},{"$f":"IF(#REF!=$E$1,IF(#REF!=$G$1,IF(#REF!=\"\",NA(),#REF!),NA()),NA())","v":{"$error":"#REF!"}},{"$f":"IF(#REF!=$E$1,IF(#REF!=$G$1,IF(#REF!=\"\",NA(),#REF!),NA()),NA())","v":{"$error":"#REF!"}},{"$error":"#REF!"},{"$error":"#REF!"}]
[null,null,null,{"$f":"IF(#REF!=$E$1,IF(#REF!=$G$1,#REF!,NA()),NA())","v":{"$error":"#REF!"}},{"$f":"IF(#REF!=$E$1,IF(#REF!=$G$1,#REF!,NA()),NA())","v":{"$error":"#REF!"}},{"$f":"IF(#REF!=$E$1,IF(#REF!=$G$1,IF(#REF!=\"\",NA(),#REF!),NA()),NA())","v":{"$error":"#REF!"}},{"$f":"IF(#REF!=$E$1,IF(#REF!=$G$1,IF(#REF!=\"\",NA(),#REF!),NA()),NA())","v":{"$error":"#REF!"}},{"$error":"#REF!"},{"$error":"#REF!"}]
[null,null,null,{"$f":"IF(#REF!=$E$1,IF(#REF!=$G$1,#REF!,NA()),NA())","v":{"$error":"#REF!"}},{"$f":"IF(#REF!=$E$1,IF(#REF!=$G$1,#REF!,NA()),NA())","v":{"$error":"#REF!"}},{"$f":"IF(#REF!=$E$1,IF(#REF!=$G$1,IF(#REF!=\"\",NA(),#REF!),NA()),NA())","v":{"$error":"#REF!"}},{"$f":"IF(#REF!=$E$1,IF(#REF!=$G$1,IF(#REF!=\"\",NA(),#REF!),NA()),NA())","v":{"$error":"#REF!"}},{"$error":"#REF!"},{"$error":"#REF!"}]
[null,null,null,{"$f":"IF(#REF!=$E$1,IF(#REF!=$G$1,#REF!,NA()),NA())","v":{"$error":"#REF!"}},{"$f":"IF(#REF!=$E$1,IF(#REF!=$G$1,#REF!,NA()),NA())","v":{"$error":"#REF!"}},{"$f":"IF(#REF!=$E$1,IF(#REF!=$G$1,IF(#REF!=\"\",NA(),#REF!),NA()),NA())","v":{"$error":"#REF!"}},{"$f":"IF(#REF!=$E$1,IF(#REF!=$G$1,IF(#REF!=\"\",NA(),#REF!),NA()),NA())","v":{"$error":"#REF!"}},{"$f":"IF(AND(ISNUMBER(G900),F900=\"-\"),0,F900)","v":{"$error":"#REF!"}},{"$f":"IF(AND(ISNUMBER(F900),G900=\"-\"),0,G900)","v":{"$error":"#REF!"}}]
[null,null,null,{"$f":"IF(#REF!=$E$1,IF(#REF!=$G$1,#REF!,NA()),NA())","v":{"$error":"#REF!"}},{"$f":"IF(#REF!=$E$1,IF(#REF!=$G$1,#REF!,NA()),NA())","v":{"$error":"#REF!"}},{"$f":"IF(#REF!=$E$1,IF(#REF!=$G$1,IF(#REF!=\"\",NA(),#REF!),NA()),NA())","v":{"$error":"#REF!"}},{"$f":"IF(#REF!=$E$1,IF(#REF!=$G$1,IF(#REF!=\"\",NA(),#REF!),NA()),NA())","v":{"$error":"#REF!"}},{"$error":"#REF!"},{"$error":"#REF!"}]
[null,null,null,{"$f":"IF(#REF!=$E$1,IF(#REF!=$G$1,#REF!,NA()),NA())","v":{"$error":"#REF!"}},{"$f":"IF(#REF!=$E$1,IF(#REF!=$G$1,#REF!,NA()),NA())","v":{"$error":"#REF!"}},{"$f":"IF(#REF!=$E$1,IF(#REF!=$G$1,IF(#REF!=\"\",NA(),#REF!),NA()),NA())","v":{"$error":"#REF!"}},{"$f":"IF(#REF!=$E$1,IF(#REF!=$G$1,IF(#REF!=\"\",NA(),#REF!),NA()),NA())","v":{"$error":"#REF!"}},{"$error":"#REF!"},{"$error":"#REF!"}]
[null,null,null,{"$f":"IF(#REF!=$E$1,IF(#REF!=$G$1,#REF!,NA()),NA())","v":{"$error":"#REF!"}},{"$f":"IF(#REF!=$E$1,IF(#REF!=$G$1,#REF!,NA()),NA())","v":{"$error":"#REF!"}},{"$f":"IF(#REF!=$E$1,IF(#REF!=$G$1,IF(#REF!=\"\",NA(),#REF!),NA()),NA())","v":{"$error":"#REF!"}},{"$f":"IF(#REF!=$E$1,IF(#REF!=$G$1,IF(#REF!=\"\",NA(),#REF!),NA()),NA())","v":{"$error":"#REF!"}},{"$error":"#REF!"},{"$error":"#REF!"}]
[null,null,null,{"$f":"IF(#REF!=$E$1,IF(#REF!=$G$1,#REF!,NA()),NA())","v":{"$error":"#REF!"}},{"$f":"IF(#REF!=$E$1,IF(#REF!=$G$1,#REF!,NA()),NA())","v":{"$error":"#REF!"}},{"$f":"IF(#REF!=$E$1,IF(#REF!=$G$1,IF(#REF!=\"\",NA(),#REF!),NA()),NA())","v":{"$error":"#REF!"}},{"$f":"IF(#REF!=$E$1,IF(#REF!=$G$1,IF(#REF!=\"\",NA(),#REF!),NA()),NA())","v":{"$error":"#REF!"}},{"$error":"#REF!"},{"$error":"#REF!"}]
[null,null,null,{"$f":"IF(#REF!=$E$1,IF(#REF!=$G$1,#REF!,NA()),NA())","v":{"$error":"#REF!"}},{"$f":"IF(#REF!=$E$1,IF(#REF!=$G$1,#REF!,NA()),NA())","v":{"$error":"#REF!"}},{"$f":"IF(#REF!=$E$1,IF(#REF!=$G$1,IF(#REF!=\"\",NA(),#REF!),NA()),NA())","v":{"$error":"#REF!"}},{"$f":"IF(#REF!=$E$1,IF(#REF!=$G$1,IF(#REF!=\"\",NA(),#REF!),NA()),NA())","v":{"$error":"#REF!"}},{"$error":"#REF!"},{"$error":"#REF!"}]
[null,null,null,{"$f":"IF(#REF!=$E$1,IF(#REF!=$G$1,#REF!,NA()),NA())","v":{"$error":"#REF!"}},{"$f":"IF(#REF!=$E$1,IF(#REF!=$G$1,#REF!,NA()),NA())","v":{"$error":"#REF!"}},{"$f":"IF(#REF!=$E$1,IF(#REF!=$G$1,IF(#REF!=\"\",NA(),#REF!),NA()),NA())","v":{"$error":"#REF!"}},{"$f":"IF(#REF!=$E$1,IF(#REF!=$G$1,IF(#REF!=\"\",NA(),#REF!),NA()),NA())","v":{"$error":"#REF!"}},{"$error":"#REF!"},{"$error":"#REF!"}]
[null,null,null,{"$f":"IF(#REF!=$E$1,IF(#REF!=$G$1,#REF!,NA()),NA())","v":{"$error":"#REF!"}},{"$f":"IF(#REF!=$E$1,IF(#REF!=$G$1,#REF!,NA()),NA())","v":{"$error":"#REF!"}},{"$f":"IF(#REF!=$E$1,IF(#REF!=$G$1,IF(#REF!=\"\",NA(),#REF!),NA()),NA())","v":{"$error":"#REF!"}},{"$f":"IF(#REF!=$E$1,IF(#REF!=$G$1,IF(#REF!=\"\",NA(),#REF!),NA()),NA())","v":{"$error":"#REF!"}},{"$error":"#REF!"},{"$error":"#REF!"}]
[null,null,null,{"$f":"IF(#REF!=$E$1,IF(#REF!=$G$1,#REF!,NA()),NA())","v":{"$error":"#REF!"}},{"$f":"IF(#REF!=$E$1,IF(#REF!=$G$1,#REF!,NA()),NA())","v":{"$error":"#REF!"}},{"$f":"IF(#REF!=$E$1,IF(#REF!=$G$1,IF(#REF!=\"\",NA(),#REF!),NA()),NA())","v":{"$error":"#REF!"}},{"$f":"IF(#REF!=$E$1,IF(#REF!=$G$1,IF(#REF!=\"\",NA(),#REF!),NA()),NA())","v":{"$error":"#REF!"}},{"$error":"#REF!"},{"$error":"#REF!"}]
[null,null,null,{"$f":"IF(#REF!=$E$1,IF(#REF!=$G$1,#REF!,NA()),NA())","v":{"$error":"#REF!"}},{"$f":"IF(#REF!=$E$1,IF(#REF!=$G$1,#REF!,NA()),NA())","v":{"$error":"#REF!"}},{"$f":"IF(#REF!=$E$1,IF(#REF!=$G$1,IF(#REF!=\"\",NA(),#REF!),NA()),NA())","v":{"$error":"#REF!"}},{"$f":"IF(#REF!=$E$1,IF(#REF!=$G$1,IF(#REF!=\"\",NA(),#REF!),NA()),NA())","v":{"$error":"#REF!"}},{"$error":"#REF!"},{"$error":"#REF!"}]
[null,null,null,{"$f":"IF(#REF!=$E$1,IF(#REF!=$G$1,#REF!,NA()),NA())","v":{"$error":"#REF!"}},{"$f":"IF(#REF!=$E$1,IF(#REF!=$G$1,#REF!,NA()),NA())","v":{"$error":"#REF!"}},{"$f":"IF(#REF!=$E$1,IF(#REF!=$G$1,IF(#REF!=\"\",NA(),#REF!),NA()),NA())","v":{"$error":"#REF!"}},{"$f":"IF(#REF!=$E$1,IF(#REF!=$G$1,IF(#REF!=\"\",NA(),#REF!),NA()),NA())","v":{"$error":"#REF!"}},{"$error":"#REF!"},{"$error":"#REF!"}]
[null,null,null,{"$f":"IF(#REF!=$E$1,IF(#REF!=$G$1,#REF!,NA()),NA())","v":{"$error":"#REF!"}},{"$f":"IF(#REF!=$E$1,IF(#REF!=$G$1,#REF!,NA()),NA())","v":{"$error":"#REF!"}},{"$f":"IF(#REF!=$E$1,IF(#REF!=$G$1,IF(#REF!=\"\",NA(),#REF!),NA()),NA())","v":{"$error":"#REF!"}},{"$f":"IF(#REF!=$E$1,IF(#REF!=$G$1,IF(#REF!=\"\",NA(),#REF!),NA()),NA())","v":{"$error":"#REF!"}},{"$error":"#REF!"},{"$error":"#REF!"}]
[null,null,null,{"$f":"IF(#REF!=$E$1,IF(#REF!=$G$1,#REF!,NA()),NA())","v":{"$error":"#REF!"}},{"$f":"IF(#REF!=$E$1,IF(#REF!=$G$1,#REF!,NA()),NA())","v":{"$error":"#REF!"}},{"$f":"IF(#REF!=$E$1,IF(#REF!=$G$1,IF(#REF!=\"\",NA(),#REF!),NA()),NA())","v":{"$error":"#REF!"}},{"$f":"IF(#REF!=$E$1,IF(#REF!=$G$1,IF(#REF!=\"\",NA(),#REF!),NA()),NA())","v":{"$error":"#REF!"}},{"$error":"#REF!"},{"$error":"#REF!"}]
[null,null,null,{"$f":"IF(#REF!=$E$1,IF(#REF!=$G$1,#REF!,NA()),NA())","v":{"$error":"#REF!"}},{"$f":"IF(#REF!=$E$1,IF(#REF!=$G$1,#REF!,NA()),NA())","v":{"$error":"#REF!"}},{"$f":"IF(#REF!=$E$1,IF(#REF!=$G$1,IF(#REF!=\"\",NA(),#REF!),NA()),NA())","v":{"$error":"#REF!"}},{"$f":"IF(#REF!=$E$1,IF(#REF!=$G$1,IF(#REF!=\"\",NA(),#REF!),NA()),NA())","v":{"$error":"#REF!"}},{"$error":"#REF!"},{"$error":"#REF!"}]
[null,null,null,{"$f":"IF(#REF!=$E$1,IF(#REF!=$G$1,#REF!,NA()),NA())","v":{"$error":"#REF!"}},{"$f":"IF(#REF!=$E$1,IF(#REF!=$G$1,#REF!,NA()),NA())","v":{"$error":"#REF!"}},{"$f":"IF(#REF!=$E$1,IF(#REF!=$G$1,IF(#REF!=\"\",NA(),#REF!),NA()),NA())","v":{"$error":"#REF!"}},{"$f":"IF(#REF!=$E$1,IF(#REF!=$G$1,IF(#REF!=\"\",NA(),#REF!),NA()),NA())","v":{"$error":"#REF!"}},{"$error":"#REF!"},{"$error":"#REF!"}]
[null,null,null,{"$f":"IF(#REF!=$E$1,IF(#REF!=$G$1,#REF!,NA()),NA())","v":{"$error":"#REF!"}},{"$f":"IF(#REF!=$E$1,IF(#REF!=$G$1,#REF!,NA()),NA())","v":{"$error":"#REF!"}},{"$f":"IF(#REF!=$E$1,IF(#REF!=$G$1,IF(#REF!=\"\",NA(),#REF!),NA()),NA())","v":{"$error":"#REF!"}},{"$f":"IF(#REF!=$E$1,IF(#REF!=$G$1,IF(#REF!=\"\",NA(),#REF!),NA()),NA())","v":{"$error":"#REF!"}},{"$error":"#REF!"},{"$error":"#REF!"}]
[null,null,null,{"$f":"IF(#REF!=$E$1,IF(#REF!=$G$1,#REF!,NA()),NA())","v":{"$error":"#REF!"}},{"$f":"IF(#REF!=$E$1,IF(#REF!=$G$1,#REF!,NA()),NA())","v":{"$error":"#REF!"}},{"$f":"IF(#REF!=$E$1,IF(#REF!=$G$1,IF(#REF!=\"\",NA(),#REF!),NA()),NA())","v":{"$error":"#REF!"}},{"$f":"IF(#REF!=$E$1,IF(#REF!=$G$1,IF(#REF!=\"\",NA(),#REF!),NA()),NA())","v":{"$error":"#REF!"}},{"$error":"#REF!"},{"$error":"#REF!"}]
[null,null,null,{"$f":"IF(#REF!=$E$1,IF(#REF!=$G$1,#REF!,NA()),NA())","v":{"$error":"#REF!"}},{"$f":"IF(#REF!=$E$1,IF(#REF!=$G$1,#REF!,NA()),NA())","v":{"$error":"#REF!"}},{"$f":"IF(#REF!=$E$1,IF(#REF!=$G$1,IF(#REF!=\"\",NA(),#REF!),NA()),NA())","v":{"$error":"#REF!"}},{"$f":"IF(#REF!=$E$1,IF(#REF!=$G$1,IF(#REF!=\"\",NA(),#REF!),NA()),NA())","v":{"$error":"#REF!"}},{"$error":"#REF!"},{"$error":"#REF!"}]
[null,null,null,{"$f":"IF(#REF!=$E$1,IF(#REF!=$G$1,#REF!,NA()),NA())","v":{"$error":"#REF!"}},{"$f":"IF(#REF!=$E$1,IF(#REF!=$G$1,#REF!,NA()),NA())","v":{"$error":"#REF!"}},{"$f":"IF(#REF!=$E$1,IF(#REF!=$G$1,IF(#REF!=\"\",NA(),#REF!),NA()),NA())","v":{"$error":"#REF!"}},{"$f":"IF(#REF!=$E$1,IF(#REF!=$G$1,IF(#REF!=\"\",NA(),#REF!),NA()),NA())","v":{"$error":"#REF!"}},{"$error":"#REF!"},{"$error":"#REF!"}]
[null,null,null,{"$f":"IF(#REF!=$E$1,IF(#REF!=$G$1,#REF!,NA()),NA())","v":{"$error":"#REF!"}},{"$f":"IF(#REF!=$E$1,IF(#REF!=$G$1,#REF!,NA()),NA())","v":{"$error":"#REF!"}},{"$f":"IF(#REF!=$E$1,IF(#REF!=$G$1,IF(#REF!=\"\",NA(),#REF!),NA()),NA())","v":{"$error":"#REF!"}},{"$f":"IF(#REF!=$E$1,IF(#REF!=$G$1,IF(#REF!=\"\",NA(),#REF!),NA()),NA())","v":{"$error":"#REF!"}},{"$error":"#REF!"},{"$error":"#REF!"}]
[null,null,null,{"$f":"IF(#REF!=$E$1,IF(#REF!=$G$1,#REF!,NA()),NA())","v":{"$error":"#REF!"}},{"$f":"IF(#REF!=$E$1,IF(#REF!=$G$1,#REF!,NA()),NA())","v":{"$error":"#REF!"}},{"$f":"IF(#REF!=$E$1,IF(#REF!=$G$1,IF(#REF!=\"\",NA(),#REF!),NA()),NA())","v":{"$error":"#REF!"}},{"$f":"IF(#REF!=$E$1,IF(#REF!=$G$1,IF(#REF!=\"\",NA(),#REF!),NA()),NA())","v":{"$error":"#REF!"}},{"$error":"#REF!"},{"$error":"#REF!"}]
[null,null,null,{"$f":"IF(#REF!=$E$1,IF(#REF!=$G$1,#REF!,NA()),NA())","v":{"$error":"#REF!"}},{"$f":"IF(#REF!=$E$1,IF(#REF!=$G$1,#REF!,NA()),NA())","v":{"$error":"#REF!"}},{"$f":"IF(#REF!=$E$1,IF(#REF!=$G$1,IF(#REF!=\"\",NA(),#REF!),NA()),NA())","v":{"$error":"#REF!"}},{"$f":"IF(#REF!=$E$1,IF(#REF!=$G$1,IF(#REF!=\"\",NA(),#REF!),NA()),NA())","v":{"$error":"#REF!"}},{"$error":"#REF!"},{"$error":"#REF!"}]
[null,null,null,{"$f":"IF(#REF!=$E$1,IF(#REF!=$G$1,#REF!,NA()),NA())","v":{"$error":"#REF!"}},{"$f":"IF(#REF!=$E$1,IF(#REF!=$G$1,#REF!,NA()),NA())","v":{"$error":"#REF!"}},{"$f":"IF(#REF!=$E$1,IF(#REF!=$G$1,IF(#REF!=\"\",NA(),#REF!),NA()),NA())","v":{"$error":"#REF!"}},{"$f":"IF(#REF!=$E$1,IF(#REF!=$G$1,IF(#REF!=\"\",NA(),#REF!),NA()),NA())","v":{"$error":"#REF!"}},{"$error":"#REF!"},{"$error":"#REF!"}]
[null,null,null,{"$f":"IF(#REF!=$E$1,IF(#REF!=$G$1,#REF!,NA()),NA())","v":{"$error":"#REF!"}},{"$f":"IF(#REF!=$E$1,IF(#REF!=$G$1,#REF!,NA()),NA())","v":{"$error":"#REF!"}},{"$f":"IF(#REF!=$E$1,IF(#REF!=$G$1,IF(#REF!=\"\",NA(),#REF!),NA()),NA())","v":{"$error":"#REF!"}},{"$f":"IF(#REF!=$E$1,IF(#REF!=$G$1,IF(#REF!=\"\",NA(),#REF!),NA()),NA())","v":{"$error":"#REF!"}},{"$error":"#REF!"},{"$error":"#REF!"}]
[null,null,null,{"$f":"IF(#REF!=$E$1,IF(#REF!=$G$1,#REF!,NA()),NA())","v":{"$error":"#REF!"}},{"$f":"IF(#REF!=$E$1,IF(#REF!=$G$1,#REF!,NA()),NA())","v":{"$error":"#REF!"}},{"$f":"IF(#REF!=$E$1,IF(#REF!=$G$1,IF(#REF!=\"\",NA(),#REF!),NA()),NA())","v":{"$error":"#REF!"}},{"$f":"IF(#REF!=$E$1,IF(#REF!=$G$1,IF(#REF!=\"\",NA(),#REF!),NA()),NA())","v":{"$error":"#REF!"}},{"$error":"#REF!"},{"$error":"#REF!"}]
[null,null,null,{"$f":"IF(#REF!=$E$1,IF(#REF!=$G$1,#REF!,NA()),NA())","v":{"$error":"#REF!"}},{"$f":"IF(#REF!=$E$1,IF(#REF!=$G$1,#REF!,NA()),NA())","v":{"$error":"#REF!"}},{"$f":"IF(#REF!=$E$1,IF(#REF!=$G$1,IF(#REF!=\"\",NA(),#REF!),NA()),NA())","v":{"$error":"#REF!"}},{"$f":"IF(#REF!=$E$1,IF(#REF!=$G$1,IF(#REF!=\"\",NA(),#REF!),NA()),NA())","v":{"$error":"#REF!"}},{"$error":"#REF!"},{"$error":"#REF!"}]
[null,null,null,{"$f":"IF(#REF!=$E$1,IF(#REF!=$G$1,#REF!,NA()),NA())","v":{"$error":"#REF!"}},{"$f":"IF(#REF!=$E$1,IF(#REF!=$G$1,#REF!,NA()),NA())","v":{"$error":"#REF!"}},{"$f":"IF(#REF!=$E$1,IF(#REF!=$G$1,IF(#REF!=\"\",NA(),#REF!),NA()),NA())","v":{"$error":"#REF!"}},{"$f":"IF(#REF!=$E$1,IF(#REF!=$G$1,IF(#REF!=\"\",NA(),#REF!),NA()),NA())","v":{"$error":"#REF!"}},{"$error":"#REF!"},{"$error":"#REF!"}]
[null,null,null,{"$f":"IF(#REF!=$E$1,IF(#REF!=$G$1,#REF!,NA()),NA())","v":{"$error":"#REF!"}},{"$f":"IF(#REF!=$E$1,IF(#REF!=$G$1,#REF!,NA()),NA())","v":{"$error":"#REF!"}},{"$f":"IF(#REF!=$E$1,IF(#REF!=$G$1,IF(#REF!=\"\",NA(),#REF!),NA()),NA())","v":{"$error":"#REF!"}},{"$f":"IF(#REF!=$E$1,IF(#REF!=$G$1,IF(#REF!=\"\",NA(),#REF!),NA()),NA())","v":{"$error":"#REF!"}},{"$error":"#REF!"},{"$error":"#REF!"}]
[null,null,null,{"$f":"IF(#REF!=$E$1,IF(#REF!=$G$1,#REF!,NA()),NA())","v":{"$error":"#REF!"}},{"$f":"IF(#REF!=$E$1,IF(#REF!=$G$1,#REF!,NA()),NA())","v":{"$error":"#REF!"}},{"$f":"IF(#REF!=$E$1,IF(#REF!=$G$1,IF(#REF!=\"\",NA(),#REF!),NA()),NA())","v":{"$error":"#REF!"}},{"$f":"IF(#REF!=$E$1,IF(#REF!=$G$1,IF(#REF!=\"\",NA(),#REF!),NA()),NA())","v":{"$error":"#REF!"}},{"$error":"#REF!"},{"$error":"#REF!"}]
[null,null,null,{"$f":"IF(#REF!=$E$1,IF(#REF!=$G$1,#REF!,NA()),NA())","v":{"$error":"#REF!"}},{"$f":"IF(#REF!=$E$1,IF(#REF!=$G$1,#REF!,NA()),NA())","v":{"$error":"#REF!"}},{"$f":"IF(#REF!=$E$1,IF(#REF!=$G$1,IF(#REF!=\"\",NA(),#REF!),NA()),NA())","v":{"$error":"#REF!"}},{"$f":"IF(#REF!=$E$1,IF(#REF!=$G$1,IF(#REF!=\"\",NA(),#REF!),NA()),NA())","v":{"$error":"#REF!"}},{"$error":"#REF!"},{"$error":"#REF!"}]
[null,null,null,{"$f":"IF(#REF!=$E$1,IF(#REF!=$G$1,#REF!,NA()),NA())","v":{"$error":"#REF!"}},{"$f":"IF(#REF!=$E$1,IF(#REF!=$G$1,#REF!,NA()),NA())","v":{"$error":"#REF!"}},{"$f":"IF(#REF!=$E$1,IF(#REF!=$G$1,IF(#REF!=\"\",NA(),#REF!),NA()),NA())","v":{"$error":"#REF!"}},{"$f":"IF(#REF!=$E$1,IF(#REF!=$G$1,IF(#REF!=\"\",NA(),#REF!),NA()),NA())","v":{"$error":"#REF!"}},{"$error":"#REF!"},{"$error":"#REF!"}]
[null,null,null,{"$f":"IF(#REF!=$E$1,IF(#REF!=$G$1,#REF!,NA()),NA())","v":{"$error":"#REF!"}},{"$f":"IF(#REF!=$E$1,IF(#REF!=$G$1,#REF!,NA()),NA())","v":{"$error":"#REF!"}},{"$f":"IF(#REF!=$E$1,IF(#REF!=$G$1,IF(#REF!=\"\",NA(),#REF!),NA()),NA())","v":{"$error":"#REF!"}},{"$f":"IF(#REF!=$E$1,IF(#REF!=$G$1,IF(#REF!=\"\",NA(),#REF!),NA()),NA())","v":{"$error":"#REF!"}},{"$error":"#REF!"},{"$error":"#REF!"}]
[null,null,null,{"$f":"IF(#REF!=$E$1,IF(#REF!=$G$1,#REF!,NA()),NA())","v":{"$error":"#REF!"}},{"$f":"IF(#REF!=$E$1,IF(#REF!=$G$1,#REF!,NA()),NA())","v":{"$error":"#REF!"}},{"$f":"IF(#REF!=$E$1,IF(#REF!=$G$1,IF(#REF!=\"\",NA(),#REF!),NA()),NA())","v":{"$error":"#REF!"}},{"$f":"IF(#REF!=$E$1,IF(#REF!=$G$1,IF(#REF!=\"\",NA(),#REF!),NA()),NA())","v":{"$error":"#REF!"}},{"$error":"#REF!"},{"$error":"#REF!"}]
[null,null,null,{"$f":"IF(#REF!=$E$1,IF(#REF!=$G$1,#REF!,NA()),NA())","v":{"$error":"#REF!"}},{"$f":"IF(#REF!=$E$1,IF(#REF!=$G$1,#REF!,NA()),NA())","v":{"$error":"#REF!"}},{"$f":"IF(#REF!=$E$1,IF(#REF!=$G$1,IF(#REF!=\"\",NA(),#REF!),NA()),NA())","v":{"$error":"#REF!"}},{"$f":"IF(#REF!=$E$1,IF(#REF!=$G$1,IF(#REF!=\"\",NA(),#REF!),NA()),NA())","v":{"$error":"#REF!"}},{"$error":"#REF!"},{"$error":"#REF!"}]
[null,null,null,{"$f":"IF(#REF!=$E$1,IF(#REF!=$G$1,#REF!,NA()),NA())","v":{"$error":"#REF!"}},{"$f":"IF(#REF!=$E$1,IF(#REF!=$G$1,#REF!,NA()),NA())","v":{"$error":"#REF!"}},{"$f":"IF(#REF!=$E$1,IF(#REF!=$G$1,IF(#REF!=\"\",NA(),#REF!),NA()),NA())","v":{"$error":"#REF!"}},{"$f":"IF(#REF!=$E$1,IF(#REF!=$G$1,IF(#REF!=\"\",NA(),#REF!),NA()),NA())","v":{"$error":"#REF!"}},{"$error":"#REF!"},{"$error":"#REF!"}]
[null,null,null,{"$f":"IF(#REF!=$E$1,IF(#REF!=$G$1,#REF!,NA()),NA())","v":{"$error":"#REF!"}},{"$f":"IF(#REF!=$E$1,IF(#REF!=$G$1,#REF!,NA()),NA())","v":{"$error":"#REF!"}},{"$f":"IF(#REF!=$E$1,IF(#REF!=$G$1,IF(#REF!=\"\",NA(),#REF!),NA()),NA())","v":{"$error":"#REF!"}},{"$f":"IF(#REF!=$E$1,IF(#REF!=$G$1,IF(#REF!=\"\",NA(),#REF!),NA()),NA())","v":{"$error":"#REF!"}},{"$error":"#REF!"},{"$error":"#REF!"}]
[null,null,null,{"$f":"IF(#REF!=$E$1,IF(#REF!=$G$1,#REF!,NA()),NA())","v":{"$error":"#REF!"}},{"$f":"IF(#REF!=$E$1,IF(#REF!=$G$1,#REF!,NA()),NA())","v":{"$error":"#REF!"}},{"$f":"IF(#REF!=$E$1,IF(#REF!=$G$1,IF(#REF!=\"\",NA(),#REF!),NA()),NA())","v":{"$error":"#REF!"}},{"$f":"IF(#REF!=$E$1,IF(#REF!=$G$1,IF(#REF!=\"\",NA(),#REF!),NA()),NA())","v":{"$error":"#REF!"}},{"$error":"#REF!"},{"$error":"#REF!"}]
[null,null,null,{"$f":"IF(#REF!=$E$1,IF(#REF!=$G$1,#REF!,NA()),NA())","v":{"$error":"#REF!"}},{"$f":"IF(#REF!=$E$1,IF(#REF!=$G$1,#REF!,NA()),NA())","v":{"$error":"#REF!"}},{"$f":"IF(#REF!=$E$1,IF(#REF!=$G$1,IF(#REF!=\"\",NA(),#REF!),NA()),NA())","v":{"$error":"#REF!"}},{"$f":"IF(#REF!=$E$1,IF(#REF!=$G$1,IF(#REF!=\"\",NA(),#REF!),NA()),NA())","v":{"$error":"#REF!"}},{"$error":"#REF!"},{"$error":"#REF!"}]
[null,null,null,{"$f":"IF(#REF!=$E$1,IF(#REF!=$G$1,#REF!,NA()),NA())","v":{"$error":"#REF!"}},{"$f":"IF(#REF!=$E$1,IF(#REF!=$G$1,#REF!,NA()),NA())","v":{"$error":"#REF!"}},{"$f":"IF(#REF!=$E$1,IF(#REF!=$G$1,IF(#REF!=\"\",NA(),#REF!),NA()),NA())","v":{"$error":"#REF!"}},{"$f":"IF(#REF!=$E$1,IF(#REF!=$G$1,IF(#REF!=\"\",NA(),#REF!),NA()),NA())","v":{"$error":"#REF!"}},{"$error":"#REF!"},{"$error":"#REF!"}]
[null,null,null,{"$f":"IF(#REF!=$E$1,IF(#REF!=$G$1,#REF!,NA()),NA())","v":{"$error":"#REF!"}},{"$f":"IF(#REF!=$E$1,IF(#REF!=$G$1,#REF!,NA()),NA())","v":{"$error":"#REF!"}},{"$f":"IF(#REF!=$E$1,IF(#REF!=$G$1,IF(#REF!=\"\",NA(),#REF!),NA()),NA())","v":{"$error":"#REF!"}},{"$f":"IF(#REF!=$E$1,IF(#REF!=$G$1,IF(#REF!=\"\",NA(),#REF!),NA()),NA())","v":{"$error":"#REF!"}},{"$error":"#REF!"},{"$error":"#REF!"}]
[null,null,null,{"$f":"IF(#REF!=$E$1,IF(#REF!=$G$1,#REF!,NA()),NA())","v":{"$error":"#REF!"}},{"$f":"IF(#REF!=$E$1,IF(#REF!=$G$1,#REF!,NA()),NA())","v":{"$error":"#REF!"}},{"$f":"IF(#REF!=$E$1,IF(#REF!=$G$1,IF(#REF!=\"\",NA(),#REF!),NA()),NA())","v":{"$error":"#REF!"}},{"$f":"IF(#REF!=$E$1,IF(#REF!=$G$1,IF(#REF!=\"\",NA(),#REF!),NA()),NA())","v":{"$error":"#REF!"}},{"$error":"#REF!"},{"$error":"#REF!"}]
[null,null,null,{"$f":"IF(#REF!=$E$1,IF(#REF!=$G$1,#REF!,NA()),NA())","v":{"$error":"#REF!"}},{"$f":"IF(#REF!=$E$1,IF(#REF!=$G$1,#REF!,NA()),NA())","v":{"$error":"#REF!"}},{"$f":"IF(#REF!=$E$1,IF(#REF!=$G$1,IF(#REF!=\"\",NA(),#REF!),NA()),NA())","v":{"$error":"#REF!"}},{"$f":"IF(#REF!=$E$1,IF(#REF!=$G$1,IF(#REF!=\"\",NA(),#REF!),NA()),NA())","v":{"$error":"#REF!"}},{"$error":"#REF!"},{"$error":"#REF!"}]
[null,null,null,{"$f":"IF(#REF!=$E$1,IF(#REF!=$G$1,#REF!,NA()),NA())","v":{"$error":"#REF!"}},{"$f":"IF(#REF!=$E$1,IF(#REF!=$G$1,#REF!,NA()),NA())","v":{"$error":"#REF!"}},{"$f":"IF(#REF!=$E$1,IF(#REF!=$G$1,IF(#REF!=\"\",NA(),#REF!),NA()),NA())","v":{"$error":"#REF!"}},{"$f":"IF(#REF!=$E$1,IF(#REF!=$G$1,IF(#REF!=\"\",NA(),#REF!),NA()),NA())","v":{"$error":"#REF!"}},{"$error":"#REF!"},{"$error":"#REF!"}]
[null,null,null,{"$f":"IF(#REF!=$E$1,IF(#REF!=$G$1,#REF!,NA()),NA())","v":{"$error":"#REF!"}},{"$f":"IF(#REF!=$E$1,IF(#REF!=$G$1,#REF!,NA()),NA())","v":{"$error":"#REF!"}},{"$f":"IF(#REF!=$E$1,IF(#REF!=$G$1,IF(#REF!=\"\",NA(),#REF!),NA()),NA())","v":{"$error":"#REF!"}},{"$f":"IF(#REF!=$E$1,IF(#REF!=$G$1,IF(#REF!=\"\",NA(),#REF!),NA()),NA())","v":{"$error":"#REF!"}},{"$error":"#REF!"},{"$error":"#REF!"}]
[null,null,null,{"$f":"IF(#REF!=$E$1,IF(#REF!=$G$1,#REF!,NA()),NA())","v":{"$error":"#REF!"}},{"$f":"IF(#REF!=$E$1,IF(#REF!=$G$1,#REF!,NA()),NA())","v":{"$error":"#REF!"}},{"$f":"IF(#REF!=$E$1,IF(#REF!=$G$1,IF(#REF!=\"\",NA(),#REF!),NA()),NA())","v":{"$error":"#REF!"}},{"$f":"IF(#REF!=$E$1,IF(#REF!=$G$1,IF(#REF!=\"\",NA(),#REF!),NA()),NA())","v":{"$error":"#REF!"}},{"$error":"#REF!"},{"$error":"#REF!"}]
[null,null,null,{"$f":"IF(#REF!=$E$1,IF(#REF!=$G$1,#REF!,NA()),NA())","v":{"$error":"#REF!"}},{"$f":"IF(#REF!=$E$1,IF(#REF!=$G$1,#REF!,NA()),NA())","v":{"$error":"#REF!"}},{"$f":"IF(#REF!=$E$1,IF(#REF!=$G$1,IF(#REF!=\"\",NA(),#REF!),NA()),NA())","v":{"$error":"#REF!"}},{"$f":"IF(#REF!=$E$1,IF(#REF!=$G$1,IF(#REF!=\"\",NA(),#REF!),NA()),NA())","v":{"$error":"#REF!"}},{"$error":"#REF!"},{"$error":"#REF!"}]
[null,null,null,{"$f":"IF(#REF!=$E$1,IF(#REF!=$G$1,#REF!,NA()),NA())","v":{"$error":"#REF!"}},{"$f":"IF(#REF!=$E$1,IF(#REF!=$G$1,#REF!,NA()),NA())","v":{"$error":"#REF!"}},{"$f":"IF(#REF!=$E$1,IF(#REF!=$G$1,IF(#REF!=\"\",NA(),#REF!),NA()),NA())","v":{"$error":"#REF!"}},{"$f":"IF(#REF!=$E$1,IF(#REF!=$G$1,IF(#REF!=\"\",NA(),#REF!),NA()),NA())","v":{"$error":"#REF!"}},{"$error":"#REF!"},{"$error":"#REF!"}]
[null,null,null,{"$f":"IF(#REF!=$E$1,IF(#REF!=$G$1,#REF!,NA()),NA())","v":{"$error":"#REF!"}},{"$f":"IF(#REF!=$E$1,IF(#REF!=$G$1,#REF!,NA()),NA())","v":{"$error":"#REF!"}},{"$f":"IF(#REF!=$E$1,IF(#REF!=$G$1,IF(#REF!=\"\",NA(),#REF!),NA()),NA())","v":{"$error":"#REF!"}},{"$f":"IF(#REF!=$E$1,IF(#REF!=$G$1,IF(#REF!=\"\",NA(),#REF!),NA()),NA())","v":{"$error":"#REF!"}},{"$error":"#REF!"},{"$error":"#REF!"}]
[null,null,null,{"$f":"IF(#REF!=$E$1,IF(#REF!=$G$1,#REF!,NA()),NA())","v":{"$error":"#REF!"}},{"$f":"IF(#REF!=$E$1,IF(#REF!=$G$1,#REF!,NA()),NA())","v":{"$error":"#REF!"}},{"$f":"IF(#REF!=$E$1,IF(#REF!=$G$1,IF(#REF!=\"\",NA(),#REF!),NA()),NA())","v":{"$error":"#REF!"}},{"$f":"IF(#REF!=$E$1,IF(#REF!=$G$1,IF(#REF!=\"\",NA(),#REF!),NA()),NA())","v":{"$error":"#REF!"}},{"$error":"#REF!"},{"$error":"#REF!"}]
[null,null,null,{"$f":"IF(#REF!=$E$1,IF(#REF!=$G$1,#REF!,NA()),NA())","v":{"$error":"#REF!"}},{"$f":"IF(#REF!=$E$1,IF(#REF!=$G$1,#REF!,NA()),NA())","v":{"$error":"#REF!"}},{"$f":"IF(#REF!=$E$1,IF(#REF!=$G$1,IF(#REF!=\"\",NA(),#REF!),NA()),NA())","v":{"$error":"#REF!"}},{"$f":"IF(#REF!=$E$1,IF(#REF!=$G$1,IF(#REF!=\"\",NA(),#REF!),NA()),NA())","v":{"$error":"#REF!"}},{"$error":"#REF!"},{"$error":"#REF!"}]
[null,null,null,{"$f":"IF(#REF!=$E$1,IF(#REF!=$G$1,#REF!,NA()),NA())","v":{"$error":"#REF!"}},{"$f":"IF(#REF!=$E$1,IF(#REF!=$G$1,#REF!,NA()),NA())","v":{"$error":"#REF!"}},{"$f":"IF(#REF!=$E$1,IF(#REF!=$G$1,IF(#REF!=\"\",NA(),#REF!),NA()),NA())","v":{"$error":"#REF!"}},{"$f":"IF(#REF!=$E$1,IF(#REF!=$G$1,IF(#REF!=\"\",NA(),#REF!),NA()),NA())","v":{"$error":"#REF!"}},{"$error":"#REF!"},{"$error":"#REF!"}]
[null,null,null,{"$f":"IF(#REF!=$E$1,IF(#REF!=$G$1,#REF!,NA()),NA())","v":{"$error":"#REF!"}},{"$f":"IF(#REF!=$E$1,IF(#REF!=$G$1,#REF!,NA()),NA())","v":{"$error":"#REF!"}},{"$f":"IF(#REF!=$E$1,IF(#REF!=$G$1,IF(#REF!=\"\",NA(),#REF!),NA()),NA())","v":{"$error":"#REF!"}},{"$f":"IF(#REF!=$E$1,IF(#REF!=$G$1,IF(#REF!=\"\",NA(),#REF!),NA()),NA())","v":{"$error":"#REF!"}},{"$error":"#REF!"},{"$error":"#REF!"}]
[null,null,null,{"$f":"IF(#REF!=$E$1,IF(#REF!=$G$1,#REF!,NA()),NA())","v":{"$error":"#REF!"}},{"$f":"IF(#REF!=$E$1,IF(#REF!=$G$1,#REF!,NA()),NA())","v":{"$error":"#REF!"}},{"$f":"IF(#REF!=$E$1,IF(#REF!=$G$1,IF(#REF!=\"\",NA(),#REF!),NA()),NA())","v":{"$error":"#REF!"}},{"$f":"IF(#REF!=$E$1,IF(#REF!=$G$1,IF(#REF!=\"\",NA(),#REF!),NA()),NA())","v":{"$error":"#REF!"}},{"$error":"#REF!"},{"$error":"#REF!"}]
[null,null,null,{"$f":"IF(#REF!=$E$1,IF(#REF!=$G$1,#REF!,NA()),NA())","v":{"$error":"#REF!"}},{"$f":"IF(#REF!=$E$1,IF(#REF!=$G$1,#REF!,NA()),NA())","v":{"$error":"#REF!"}},{"$f":"IF(#REF!=$E$1,IF(#REF!=$G$1,IF(#REF!=\"\",NA(),#REF!),NA()),NA())","v":{"$error":"#REF!"}},{"$f":"IF(#REF!=$E$1,IF(#REF!=$G$1,IF(#REF!=\"\",NA(),#REF!),NA()),NA())","v":{"$error":"#REF!"}},{"$error":"#REF!"},{"$error":"#REF!"}]
[null,null,null,{"$f":"IF(#REF!=$E$1,IF(#REF!=$G$1,#REF!,NA()),NA())","v":{"$error":"#REF!"}},{"$f":"IF(#REF!=$E$1,IF(#REF!=$G$1,#REF!,NA()),NA())","v":{"$error":"#REF!"}},{"$f":"IF(#REF!=$E$1,IF(#REF!=$G$1,IF(#REF!=\"\",NA(),#REF!),NA()),NA())","v":{"$error":"#REF!"}},{"$f":"IF(#REF!=$E$1,IF(#REF!=$G$1,IF(#REF!=\"\",NA(),#REF!),NA()),NA())","v":{"$error":"#REF!"}},{"$error":"#REF!"},{"$error":"#REF!"}]
[null,null,null,{"$f":"IF(#REF!=$E$1,IF(#REF!=$G$1,#REF!,NA()),NA())","v":{"$error":"#REF!"}},{"$f":"IF(#REF!=$E$1,IF(#REF!=$G$1,#REF!,NA()),NA())","v":{"$error":"#REF!"}},{"$f":"IF(#REF!=$E$1,IF(#REF!=$G$1,IF(#REF!=\"\",NA(),#REF!),NA()),NA())","v":{"$error":"#REF!"}},{"$f":"IF(#REF!=$E$1,IF(#REF!=$G$1,IF(#REF!=\"\",NA(),#REF!),NA()),NA())","v":{"$error":"#REF!"}},{"$error":"#REF!"},{"$error":"#REF!"}]
[null,null,null,{"$f":"IF(#REF!=$E$1,IF(#REF!=$G$1,#REF!,NA()),NA())","v":{"$error":"#REF!"}},{"$f":"IF(#REF!=$E$1,IF(#REF!=$G$1,#REF!,NA()),NA())","v":{"$error":"#REF!"}},{"$f":"IF(#REF!=$E$1,IF(#REF!=$G$1,IF(#REF!=\"\",NA(),#REF!),NA()),NA())","v":{"$error":"#REF!"}},{"$f":"IF(#REF!=$E$1,IF(#REF!=$G$1,IF(#REF!=\"\",NA(),#REF!),NA()),NA())","v":{"$error":"#REF!"}},{"$error":"#REF!"},{"$error":"#REF!"}]
[null,null,null,{"$f":"IF(#REF!=$E$1,IF(#REF!=$G$1,#REF!,NA()),NA())","v":{"$error":"#REF!"}},{"$f":"IF(#REF!=$E$1,IF(#REF!=$G$1,#REF!,NA()),NA())","v":{"$error":"#REF!"}},{"$f":"IF(#REF!=$E$1,IF(#REF!=$G$1,IF(#REF!=\"\",NA(),#REF!),NA()),NA())","v":{"$error":"#REF!"}},{"$f":"IF(#REF!=$E$1,IF(#REF!=$G$1,IF(#REF!=\"\",NA(),#REF!),NA()),NA())","v":{"$error":"#REF!"}},{"$error":"#REF!"},{"$error":"#REF!"}]
[null,null,null,{"$f":"IF(#REF!=$E$1,IF(#REF!=$G$1,#REF!,NA()),NA())","v":{"$error":"#REF!"}},{"$f":"IF(#REF!=$E$1,IF(#REF!=$G$1,#REF!,NA()),NA())","v":{"$error":"#REF!"}},{"$f":"IF(#REF!=$E$1,IF(#REF!=$G$1,IF(#REF!=\"\",NA(),#REF!),NA()),NA())","v":{"$error":"#REF!"}},{"$f":"IF(#REF!=$E$1,IF(#REF!=$G$1,IF(#REF!=\"\",NA(),#REF!),NA()),NA())","v":{"$error":"#REF!"}},{"$error":"#REF!"},{"$error":"#REF!"}]
[null,null,null,{"$f":"IF(#REF!=$E$1,IF(#REF!=$G$1,#REF!,NA()),NA())","v":{"$error":"#REF!"}},{"$f":"IF(#REF!=$E$1,IF(#REF!=$G$1,#REF!,NA()),NA())","v":{"$error":"#REF!"}},{"$f":"IF(#REF!=$E$1,IF(#REF!=$G$1,IF(#REF!=\"\",NA(),#REF!),NA()),NA())","v":{"$error":"#REF!"}},{"$f":"IF(#REF!=$E$1,IF(#REF!=$G$1,IF(#REF!=\"\",NA(),#REF!),NA()),NA())","v":{"$error":"#REF!"}},{"$error":"#REF!"},{"$error":"#REF!"}]
[null,null,null,{"$f":"IF(#REF!=$E$1,IF(#REF!=$G$1,#REF!,NA()),NA())","v":{"$error":"#REF!"}},{"$f":"IF(#REF!=$E$1,IF(#REF!=$G$1,#REF!,NA()),NA())","v":{"$error":"#REF!"}},{"$f":"IF(#REF!=$E$1,IF(#REF!=$G$1,IF(#REF!=\"\",NA(),#REF!),NA()),NA())","v":{"$error":"#REF!"}},{"$f":"IF(#REF!=$E$1,IF(#REF!=$G$1,IF(#REF!=\"\",NA(),#REF!),NA()),NA())","v":{"$error":"#REF!"}},{"$error":"#REF!"},{"$error":"#REF!"}]
[null,null,null,{"$f":"IF(#REF!=$E$1,IF(#REF!=$G$1,#REF!,NA()),NA())","v":{"$error":"#REF!"}},{"$f":"IF(#REF!=$E$1,IF(#REF!=$G$1,#REF!,NA()),NA())","v":{"$error":"#REF!"}},{"$f":"IF(#REF!=$E$1,IF(#REF!=$G$1,IF(#REF!=\"\",NA(),#REF!),NA()),NA())","v":{"$error":"#REF!"}},{"$f":"IF(#REF!=$E$1,IF(#REF!=$G$1,IF(#REF!=\"\",NA(),#REF!),NA()),NA())","v":{"$error":"#REF!"}},{"$error":"#REF!"},{"$error":"#REF!"}]
[null,null,null,{"$f":"IF(#REF!=$E$1,IF(#REF!=$G$1,#REF!,NA()),NA())","v":{"$error":"#REF!"}},{"$f":"IF(#REF!=$E$1,IF(#REF!=$G$1,#REF!,NA()),NA())","v":{"$error":"#REF!"}},{"$f":"IF(#REF!=$E$1,IF(#REF!=$G$1,IF(#REF!=\"\",NA(),#REF!),NA()),NA())","v":{"$error":"#REF!"}},{"$f":"IF(#REF!=$E$1,IF(#REF!=$G$1,IF(#REF!=\"\",NA(),#REF!),NA()),NA())","v":{"$error":"#REF!"}},{"$error":"#REF!"},{"$error":"#REF!"}]
[null,null,null,{"$f":"IF(#REF!=$E$1,IF(#REF!=$G$1,#REF!,NA()),NA())","v":{"$error":"#REF!"}},{"$f":"IF(#REF!=$E$1,IF(#REF!=$G$1,#REF!,NA()),NA())","v":{"$error":"#REF!"}},{"$f":"IF(#REF!=$E$1,IF(#REF!=$G$1,IF(#REF!=\"\",NA(),#REF!),NA()),NA())","v":{"$error":"#REF!"}},{"$f":"IF(#REF!=$E$1,IF(#REF!=$G$1,IF(#REF!=\"\",NA(),#REF!),NA()),NA())","v":{"$error":"#REF!"}},{"$error":"#REF!"},{"$error":"#REF!"}]
[null,null,null,{"$f":"IF(#REF!=$E$1,IF(#REF!=$G$1,#REF!,NA()),NA())","v":{"$error":"#REF!"}},{"$f":"IF(#REF!=$E$1,IF(#REF!=$G$1,#REF!,NA()),NA())","v":{"$error":"#REF!"}},{"$f":"IF(#REF!=$E$1,IF(#REF!=$G$1,IF(#REF!=\"\",NA(),#REF!),NA()),NA())","v":{"$error":"#REF!"}},{"$f":"IF(#REF!=$E$1,IF(#REF!=$G$1,IF(#REF!=\"\",NA(),#REF!),NA()),NA())","v":{"$error":"#REF!"}},{"$f":"IF(AND(ISNUMBER(G964),F964=\"-\"),0,F964)","v":{"$error":"#REF!"}},{"$f":"IF(AND(ISNUMBER(F964),G964=\"-\"),0,G964)","v":{"$error":"#REF!"}}]
[null,null,null,{"$f":"IF(#REF!=$E$1,IF(#REF!=$G$1,#REF!,NA()),NA())","v":{"$error":"#REF!"}},{"$f":"IF(#REF!=$E$1,IF(#REF!=$G$1,#REF!,NA()),NA())","v":{"$error":"#REF!"}},{"$f":"IF(#REF!=$E$1,IF(#REF!=$G$1,IF(#REF!=\"\",NA(),#REF!),NA()),NA())","v":{"$error":"#REF!"}},{"$f":"IF(#REF!=$E$1,IF(#REF!=$G$1,IF(#REF!=\"\",NA(),#REF!),NA()),NA())","v":{"$error":"#REF!"}},{"$error":"#REF!"},{"$error":"#REF!"}]
[null,null,null,{"$f":"IF(#REF!=$E$1,IF(#REF!=$G$1,#REF!,NA()),NA())","v":{"$error":"#REF!"}},{"$f":"IF(#REF!=$E$1,IF(#REF!=$G$1,#REF!,NA()),NA())","v":{"$error":"#REF!"}},{"$f":"IF(#REF!=$E$1,IF(#REF!=$G$1,IF(#REF!=\"\",NA(),#REF!),NA()),NA())","v":{"$error":"#REF!"}},{"$f":"IF(#REF!=$E$1,IF(#REF!=$G$1,IF(#REF!=\"\",NA(),#REF!),NA()),NA())","v":{"$error":"#REF!"}},{"$error":"#REF!"},{"$error":"#REF!"}]
[null,null,null,{"$f":"IF(#REF!=$E$1,IF(#REF!=$G$1,#REF!,NA()),NA())","v":{"$error":"#REF!"}},{"$f":"IF(#REF!=$E$1,IF(#REF!=$G$1,#REF!,NA()),NA())","v":{"$error":"#REF!"}},{"$f":"IF(#REF!=$E$1,IF(#REF!=$G$1,IF(#REF!=\"\",NA(),#REF!),NA()),NA())","v":{"$error":"#REF!"}},{"$f":"IF(#REF!=$E$1,IF(#REF!=$G$1,IF(#REF!=\"\",NA(),#REF!),NA()),NA())","v":{"$error":"#REF!"}},{"$error":"#REF!"},{"$error":"#REF!"}]
[null,null,null,{"$f":"IF(#REF!=$E$1,IF(#REF!=$G$1,#REF!,NA()),NA())","v":{"$error":"#REF!"}},{"$f":"IF(#REF!=$E$1,IF(#REF!=$G$1,#REF!,NA()),NA())","v":{"$error":"#REF!"}},{"$f":"IF(#REF!=$E$1,IF(#REF!=$G$1,IF(#REF!=\"\",NA(),#REF!),NA()),NA())","v":{"$error":"#REF!"}},{"$f":"IF(#REF!=$E$1,IF(#REF!=$G$1,IF(#REF!=\"\",NA(),#REF!),NA()),NA())","v":{"$error":"#REF!"}},{"$error":"#REF!"},{"$error":"#REF!"}]
[null,null,null,{"$f":"IF(#REF!=$E$1,IF(#REF!=$G$1,#REF!,NA()),NA())","v":{"$error":"#REF!"}},{"$f":"IF(#REF!=$E$1,IF(#REF!=$G$1,#REF!,NA()),NA())","v":{"$error":"#REF!"}},{"$f":"IF(#REF!=$E$1,IF(#REF!=$G$1,IF(#REF!=\"\",NA(),#REF!),NA()),NA())","v":{"$error":"#REF!"}},{"$f":"IF(#REF!=$E$1,IF(#REF!=$G$1,IF(#REF!=\"\",NA(),#REF!),NA()),NA())","v":{"$error":"#REF!"}},{"$error":"#REF!"},{"$error":"#REF!"}]
[null,null,null,{"$f":"IF(#REF!=$E$1,IF(#REF!=$G$1,#REF!,NA()),NA())","v":{"$error":"#REF!"}},{"$f":"IF(#REF!=$E$1,IF(#REF!=$G$1,#REF!,NA()),NA())","v":{"$error":"#REF!"}},{"$f":"IF(#REF!=$E$1,IF(#REF!=$G$1,IF(#REF!=\"\",NA(),#REF!),NA()),NA())","v":{"$error":"#REF!"}},{"$f":"IF(#REF!=$E$1,IF(#REF!=$G$1,IF(#REF!=\"\",NA(),#REF!),NA()),NA())","v":{"$error":"#REF!"}},{"$error":"#REF!"},{"$error":"#REF!"}]
[null,null,null,{"$f":"IF(#REF!=$E$1,IF(#REF!=$G$1,#REF!,NA()),NA())","v":{"$error":"#REF!"}},{"$f":"IF(#REF!=$E$1,IF(#REF!=$G$1,#REF!,NA()),NA())","v":{"$error":"#REF!"}},{"$f":"IF(#REF!=$E$1,IF(#REF!=$G$1,IF(#REF!=\"\",NA(),#REF!),NA()),NA())","v":{"$error":"#REF!"}},{"$f":"IF(#REF!=$E$1,IF(#REF!=$G$1,IF(#REF!=\"\",NA(),#REF!),NA()),NA())","v":{"$error":"#REF!"}},{"$error":"#REF!"},{"$error":"#REF!"}]
[null,null,null,{"$f":"IF(#REF!=$E$1,IF(#REF!=$G$1,#REF!,NA()),NA())","v":{"$error":"#REF!"}},{"$f":"IF(#REF!=$E$1,IF(#REF!=$G$1,#REF!,NA()),NA())","v":{"$error":"#REF!"}},{"$f":"IF(#REF!=$E$1,IF(#REF!=$G$1,IF(#REF!=\"\",NA(),#REF!),NA()),NA())","v":{"$error":"#REF!"}},{"$f":"IF(#REF!=$E$1,IF(#REF!=$G$1,IF(#REF!=\"\",NA(),#REF!),NA()),NA())","v":{"$error":"#REF!"}},{"$error":"#REF!"},{"$error":"#REF!"}]
[null,null,null,{"$f":"IF(#REF!=$E$1,IF(#REF!=$G$1,#REF!,NA()),NA())","v":{"$error":"#REF!"}},{"$f":"IF(#REF!=$E$1,IF(#REF!=$G$1,#REF!,NA()),NA())","v":{"$error":"#REF!"}},{"$f":"IF(#REF!=$E$1,IF(#REF!=$G$1,IF(#REF!=\"\",NA(),#REF!),NA()),NA())","v":{"$error":"#REF!"}},{"$f":"IF(#REF!=$E$1,IF(#REF!=$G$1,IF(#REF!=\"\",NA(),#REF!),NA()),NA())","v":{"$error":"#REF!"}},{"$error":"#REF!"},{"$error":"#REF!"}]
[null,null,null,{"$f":"IF(#REF!=$E$1,IF(#REF!=$G$1,#REF!,NA()),NA())","v":{"$error":"#REF!"}},{"$f":"IF(#REF!=$E$1,IF(#REF!=$G$1,#REF!,NA()),NA())","v":{"$error":"#REF!"}},{"$f":"IF(#REF!=$E$1,IF(#REF!=$G$1,IF(#REF!=\"\",NA(),#REF!),NA()),NA())","v":{"$error":"#REF!"}},{"$f":"IF(#REF!=$E$1,IF(#REF!=$G$1,IF(#REF!=\"\",NA(),#REF!),NA()),NA())","v":{"$error":"#REF!"}},{"$error":"#REF!"},{"$error":"#REF!"}]
[null,null,null,{"$f":"IF(#REF!=$E$1,IF(#REF!=$G$1,#REF!,NA()),NA())","v":{"$error":"#REF!"}},{"$f":"IF(#REF!=$E$1,IF(#REF!=$G$1,#REF!,NA()),NA())","v":{"$error":"#REF!"}},{"$f":"IF(#REF!=$E$1,IF(#REF!=$G$1,IF(#REF!=\"\",NA(),#REF!),NA()),NA())","v":{"$error":"#REF!"}},{"$f":"IF(#REF!=$E$1,IF(#REF!=$G$1,IF(#REF!=\"\",NA(),#REF!),NA()),NA())","v":{"$error":"#REF!"}},{"$error":"#REF!"},{"$error":"#REF!"}]
[null,null,null,{"$f":"IF(#REF!=$E$1,IF(#REF!=$G$1,#REF!,NA()),NA())","v":{"$error":"#REF!"}},{"$f":"IF(#REF!=$E$1,IF(#REF!=$G$1,#REF!,NA()),NA())","v":{"$error":"#REF!"}},{"$f":"IF(#REF!=$E$1,IF(#REF!=$G$1,IF(#REF!=\"\",NA(),#REF!),NA()),NA())","v":{"$error":"#REF!"}},{"$f":"IF(#REF!=$E$1,IF(#REF!=$G$1,IF(#REF!=\"\",NA(),#REF!),NA()),NA())","v":{"$error":"#REF!"}},{"$error":"#REF!"},{"$error":"#REF!"}]
[null,null,null,{"$f":"IF(#REF!=$E$1,IF(#REF!=$G$1,#REF!,NA()),NA())","v":{"$error":"#REF!"}},{"$f":"IF(#REF!=$E$1,IF(#REF!=$G$1,#REF!,NA()),NA())","v":{"$error":"#REF!"}},{"$f":"IF(#REF!=$E$1,IF(#REF!=$G$1,IF(#REF!=\"\",NA(),#REF!),NA()),NA())","v":{"$error":"#REF!"}},{"$f":"IF(#REF!=$E$1,IF(#REF!=$G$1,IF(#REF!=\"\",NA(),#REF!),NA()),NA())","v":{"$error":"#REF!"}},{"$error":"#REF!"},{"$error":"#REF!"}]
[null,null,null,{"$f":"IF(#REF!=$E$1,IF(#REF!=$G$1,#REF!,NA()),NA())","v":{"$error":"#REF!"}},{"$f":"IF(#REF!=$E$1,IF(#REF!=$G$1,#REF!,NA()),NA())","v":{"$error":"#REF!"}},{"$f":"IF(#REF!=$E$1,IF(#REF!=$G$1,IF(#REF!=\"\",NA(),#REF!),NA()),NA())","v":{"$error":"#REF!"}},{"$f":"IF(#REF!=$E$1,IF(#REF!=$G$1,IF(#REF!=\"\",NA(),#REF!),NA()),NA())","v":{"$error":"#REF!"}},{"$error":"#REF!"},{"$error":"#REF!"}]
[null,null,null,{"$f":"IF(#REF!=$E$1,IF(#REF!=$G$1,#REF!,NA()),NA())","v":{"$error":"#REF!"}},{"$f":"IF(#REF!=$E$1,IF(#REF!=$G$1,#REF!,NA()),NA())","v":{"$error":"#REF!"}},{"$f":"IF(#REF!=$E$1,IF(#REF!=$G$1,IF(#REF!=\"\",NA(),#REF!),NA()),NA())","v":{"$error":"#REF!"}},{"$f":"IF(#REF!=$E$1,IF(#REF!=$G$1,IF(#REF!=\"\",NA(),#REF!),NA()),NA())","v":{"$error":"#REF!"}},{"$error":"#REF!"},{"$error":"#REF!"}]
[null,null,null,{"$f":"IF(#REF!=$E$1,IF(#REF!=$G$1,#REF!,NA()),NA())","v":{"$error":"#REF!"}},{"$f":"IF(#REF!=$E$1,IF(#REF!=$G$1,#REF!,NA()),NA())","v":{"$error":"#REF!"}},{"$f":"IF(#REF!=$E$1,IF(#REF!=$G$1,IF(#REF!=\"\",NA(),#REF!),NA()),NA())","v":{"$error":"#REF!"}},{"$f":"IF(#REF!=$E$1,IF(#REF!=$G$1,IF(#REF!=\"\",NA(),#REF!),NA()),NA())","v":{"$error":"#REF!"}},{"$error":"#REF!"},{"$error":"#REF!"}]
[null,null,null,{"$f":"IF(#REF!=$E$1,IF(#REF!=$G$1,#REF!,NA()),NA())","v":{"$error":"#REF!"}},{"$f":"IF(#REF!=$E$1,IF(#REF!=$G$1,#REF!,NA()),NA())","v":{"$error":"#REF!"}},{"$f":"IF(#REF!=$E$1,IF(#REF!=$G$1,IF(#REF!=\"\",NA(),#REF!),NA()),NA())","v":{"$error":"#REF!"}},{"$f":"IF(#REF!=$E$1,IF(#REF!=$G$1,IF(#REF!=\"\",NA(),#REF!),NA()),NA())","v":{"$error":"#REF!"}},{"$error":"#REF!"},{"$error":"#REF!"}]
[null,null,null,{"$f":"IF(#REF!=$E$1,IF(#REF!=$G$1,#REF!,NA()),NA())","v":{"$error":"#REF!"}},{"$f":"IF(#REF!=$E$1,IF(#REF!=$G$1,#REF!,NA()),NA())","v":{"$error":"#REF!"}},{"$f":"IF(#REF!=$E$1,IF(#REF!=$G$1,IF(#REF!=\"\",NA(),#REF!),NA()),NA())","v":{"$error":"#REF!"}},{"$f":"IF(#REF!=$E$1,IF(#REF!=$G$1,IF(#REF!=\"\",NA(),#REF!),NA()),NA())","v":{"$error":"#REF!"}},{"$error":"#REF!"},{"$error":"#REF!"}]
[null,null,null,{"$f":"IF(#REF!=$E$1,IF(#REF!=$G$1,#REF!,NA()),NA())","v":{"$error":"#REF!"}},{"$f":"IF(#REF!=$E$1,IF(#REF!=$G$1,#REF!,NA()),NA())","v":{"$error":"#REF!"}},{"$f":"IF(#REF!=$E$1,IF(#REF!=$G$1,IF(#REF!=\"\",NA(),#REF!),NA()),NA())","v":{"$error":"#REF!"}},{"$f":"IF(#REF!=$E$1,IF(#REF!=$G$1,IF(#REF!=\"\",NA(),#REF!),NA()),NA())","v":{"$error":"#REF!"}},{"$error":"#REF!"},{"$error":"#REF!"}]
[null,null,null,{"$f":"IF(#REF!=$E$1,IF(#REF!=$G$1,#REF!,NA()),NA())","v":{"$error":"#REF!"}},{"$f":"IF(#REF!=$E$1,IF(#REF!=$G$1,#REF!,NA()),NA())","v":{"$error":"#REF!"}},{"$f":"IF(#REF!=$E$1,IF(#REF!=$G$1,IF(#REF!=\"\",NA(),#REF!),NA()),NA())","v":{"$error":"#REF!"}},{"$f":"IF(#REF!=$E$1,IF(#REF!=$G$1,IF(#REF!=\"\",NA(),#REF!),NA()),NA())","v":{"$error":"#REF!"}},{"$error":"#REF!"},{"$error":"#REF!"}]
[null,null,null,{"$f":"IF(#REF!=$E$1,IF(#REF!=$G$1,#REF!,NA()),NA())","v":{"$error":"#REF!"}},{"$f":"IF(#REF!=$E$1,IF(#REF!=$G$1,#REF!,NA()),NA())","v":{"$error":"#REF!"}},{"$f":"IF(#REF!=$E$1,IF(#REF!=$G$1,IF(#REF!=\"\",NA(),#REF!),NA()),NA())","v":{"$error":"#REF!"}},{"$f":"IF(#REF!=$E$1,IF(#REF!=$G$1,IF(#REF!=\"\",NA(),#REF!),NA()),NA())","v":{"$error":"#REF!"}},{"$error":"#REF!"},{"$error":"#REF!"}]
[null,null,null,{"$f":"IF(#REF!=$E$1,IF(#REF!=$G$1,#REF!,NA()),NA())","v":{"$error":"#REF!"}},{"$f":"IF(#REF!=$E$1,IF(#REF!=$G$1,#REF!,NA()),NA())","v":{"$error":"#REF!"}},{"$f":"IF(#REF!=$E$1,IF(#REF!=$G$1,IF(#REF!=\"\",NA(),#REF!),NA()),NA())","v":{"$error":"#REF!"}},{"$f":"IF(#REF!=$E$1,IF(#REF!=$G$1,IF(#REF!=\"\",NA(),#REF!),NA()),NA())","v":{"$error":"#REF!"}},{"$error":"#REF!"},{"$error":"#REF!"}]
[null,null,null,{"$f":"IF(#REF!=$E$1,IF(#REF!=$G$1,#REF!,NA()),NA())","v":{"$error":"#REF!"}},{"$f":"IF(#REF!=$E$1,IF(#REF!=$G$1,#REF!,NA()),NA())","v":{"$error":"#REF!"}},{"$f":"IF(#REF!=$E$1,IF(#REF!=$G$1,IF(#REF!=\"\",NA(),#REF!),NA()),NA())","v":{"$error":"#REF!"}},{"$f":"IF(#REF!=$E$1,IF(#REF!=$G$1,IF(#REF!=\"\",NA(),#REF!),NA()),NA())","v":{"$error":"#REF!"}},{"$error":"#REF!"},{"$error":"#REF!"}]
[null,null,null,{"$f":"IF(#REF!=$E$1,IF(#REF!=$G$1,#REF!,NA()),NA())","v":{"$error":"#REF!"}},{"$f":"IF(#REF!=$E$1,IF(#REF!=$G$1,#REF!,NA()),NA())","v":{"$error":"#REF!"}},{"$f":"IF(#REF!=$E$1,IF(#REF!=$G$1,IF(#REF!=\"\",NA(),#REF!),NA()),NA())","v":{"$error":"#REF!"}},{"$f":"IF(#REF!=$E$1,IF(#REF!=$G$1,IF(#REF!=\"\",NA(),#REF!),NA()),NA())","v":{"$error":"#REF!"}},{"$error":"#REF!"},{"$error":"#REF!"}]
[null,null,null,{"$f":"IF(#REF!=$E$1,IF(#REF!=$G$1,#REF!,NA()),NA())","v":{"$error":"#REF!"}},{"$f":"IF(#REF!=$E$1,IF(#REF!=$G$1,#REF!,NA()),NA())","v":{"$error":"#REF!"}},{"$f":"IF(#REF!=$E$1,IF(#REF!=$G$1,IF(#REF!=\"\",NA(),#REF!),NA()),NA())","v":{"$error":"#REF!"}},{"$f":"IF(#REF!=$E$1,IF(#REF!=$G$1,IF(#REF!=\"\",NA(),#REF!),NA()),NA())","v":{"$error":"#REF!"}},{"$error":"#REF!"},{"$error":"#REF!"}]
[null,null,null,{"$f":"IF(#REF!=$E$1,IF(#REF!=$G$1,#REF!,NA()),NA())","v":{"$error":"#REF!"}},{"$f":"IF(#REF!=$E$1,IF(#REF!=$G$1,#REF!,NA()),NA())","v":{"$error":"#REF!"}},{"$f":"IF(#REF!=$E$1,IF(#REF!=$G$1,IF(#REF!=\"\",NA(),#REF!),NA()),NA())","v":{"$error":"#REF!"}},{"$f":"IF(#REF!=$E$1,IF(#REF!=$G$1,IF(#REF!=\"\",NA(),#REF!),NA()),NA())","v":{"$error":"#REF!"}},{"$error":"#REF!"},{"$error":"#REF!"}]
[null,null,null,{"$f":"IF(#REF!=$E$1,IF(#REF!=$G$1,#REF!,NA()),NA())","v":{"$error":"#REF!"}},{"$f":"IF(#REF!=$E$1,IF(#REF!=$G$1,#REF!,NA()),NA())","v":{"$error":"#REF!"}},{"$f":"IF(#REF!=$E$1,IF(#REF!=$G$1,IF(#REF!=\"\",NA(),#REF!),NA()),NA())","v":{"$error":"#REF!"}},{"$f":"IF(#REF!=$E$1,IF(#REF!=$G$1,IF(#REF!=\"\",NA(),#REF!),NA()),NA())","v":{"$error":"#REF!"}},{"$error":"#REF!"},{"$error":"#REF!"}]
[null,null,null,{"$f":"IF(#REF!=$E$1,IF(#REF!=$G$1,#REF!,NA()),NA())","v":{"$error":"#REF!"}},{"$f":"IF(#REF!=$E$1,IF(#REF!=$G$1,#REF!,NA()),NA())","v":{"$error":"#REF!"}},{"$f":"IF(#REF!=$E$1,IF(#REF!=$G$1,IF(#REF!=\"\",NA(),#REF!),NA()),NA())","v":{"$error":"#REF!"}},{"$f":"IF(#REF!=$E$1,IF(#REF!=$G$1,IF(#REF!=\"\",NA(),#REF!),NA()),NA())","v":{"$error":"#REF!"}},{"$error":"#REF!"},{"$error":"#REF!"}]
[null,null,null,{"$f":"IF(#REF!=$E$1,IF(#REF!=$G$1,#REF!,NA()),NA())","v":{"$error":"#REF!"}},{"$f":"IF(#REF!=$E$1,IF(#REF!=$G$1,#REF!,NA()),NA())","v":{"$error":"#REF!"}},{"$f":"IF(#REF!=$E$1,IF(#REF!=$G$1,IF(#REF!=\"\",NA(),#REF!),NA()),NA())","v":{"$error":"#REF!"}},{"$f":"IF(#REF!=$E$1,IF(#REF!=$G$1,IF(#REF!=\"\",NA(),#REF!),NA()),NA())","v":{"$error":"#REF!"}},{"$error":"#REF!"},{"$error":"#REF!"}]
[null,null,null,{"$f":"IF(#REF!=$E$1,IF(#REF!=$G$1,#REF!,NA()),NA())","v":{"$error":"#REF!"}},{"$f":"IF(#REF!=$E$1,IF(#REF!=$G$1,#REF!,NA()),NA())","v":{"$error":"#REF!"}},{"$f":"IF(#REF!=$E$1,IF(#REF!=$G$1,IF(#REF!=\"\",NA(),#REF!),NA()),NA())","v":{"$error":"#REF!"}},{"$f":"IF(#REF!=$E$1,IF(#REF!=$G$1,IF(#REF!=\"\",NA(),#REF!),NA()),NA())","v":{"$error":"#REF!"}},{"$error":"#REF!"},{"$error":"#REF!"}]
[null,null,null,{"$f":"IF(#REF!=$E$1,IF(#REF!=$G$1,#REF!,NA()),NA())","v":{"$error":"#REF!"}},{"$f":"IF(#REF!=$E$1,IF(#REF!=$G$1,#REF!,NA()),NA())","v":{"$error":"#REF!"}},{"$f":"IF(#REF!=$E$1,IF(#REF!=$G$1,IF(#REF!=\"\",NA(),#REF!),NA()),NA())","v":{"$error":"#REF!"}},{"$f":"IF(#REF!=$E$1,IF(#REF!=$G$1,IF(#REF!=\"\",NA(),#REF!),NA()),NA())","v":{"$error":"#REF!"}},{"$error":"#REF!"},{"$error":"#REF!"}]
[null,null,null,{"$f":"IF(#REF!=$E$1,IF(#REF!=$G$1,#REF!,NA()),NA())","v":{"$error":"#REF!"}},{"$f":"IF(#REF!=$E$1,IF(#REF!=$G$1,#REF!,NA()),NA())","v":{"$error":"#REF!"}},{"$f":"IF(#REF!=$E$1,IF(#REF!=$G$1,IF(#REF!=\"\",NA(),#REF!),NA()),NA())","v":{"$error":"#REF!"}},{"$f":"IF(#REF!=$E$1,IF(#REF!=$G$1,IF(#REF!=\"\",NA(),#REF!),NA()),NA())","v":{"$error":"#REF!"}},{"$error":"#REF!"},{"$error":"#REF!"}]
[null,null,null,{"$f":"IF(#REF!=$E$1,IF(#REF!=$G$1,#REF!,NA()),NA())","v":{"$error":"#REF!"}},{"$f":"IF(#REF!=$E$1,IF(#REF!=$G$1,#REF!,NA()),NA())","v":{"$error":"#REF!"}},{"$f":"IF(#REF!=$E$1,IF(#REF!=$G$1,IF(#REF!=\"\",NA(),#REF!),NA()),NA())","v":{"$error":"#REF!"}},{"$f":"IF(#REF!=$E$1,IF(#REF!=$G$1,IF(#REF!=\"\",NA(),#REF!),NA()),NA())","v":{"$error":"#REF!"}},{"$error":"#REF!"},{"$error":"#REF!"}]
[null,null,null,{"$f":"IF(#REF!=$E$1,IF(#REF!=$G$1,#REF!,NA()),NA())","v":{"$error":"#REF!"}},{"$f":"IF(#REF!=$E$1,IF(#REF!=$G$1,#REF!,NA()),NA())","v":{"$error":"#REF!"}},{"$f":"IF(#REF!=$E$1,IF(#REF!=$G$1,IF(#REF!=\"\",NA(),#REF!),NA()),NA())","v":{"$error":"#REF!"}},{"$f":"IF(#REF!=$E$1,IF(#REF!=$G$1,IF(#REF!=\"\",NA(),#REF!),NA()),NA())","v":{"$error":"#REF!"}},{"$error":"#REF!"},{"$error":"#REF!"}]
[null,null,null,{"$f":"IF(#REF!=$E$1,IF(#REF!=$G$1,#REF!,NA()),NA())","v":{"$error":"#REF!"}},{"$f":"IF(#REF!=$E$1,IF(#REF!=$G$1,#REF!,NA()),NA())","v":{"$error":"#REF!"}},{"$f":"IF(#REF!=$E$1,IF(#REF!=$G$1,IF(#REF!=\"\",NA(),#REF!),NA()),NA())","v":{"$error":"#REF!"}},{"$f":"IF(#REF!=$E$1,IF(#REF!=$G$1,IF(#REF!=\"\",NA(),#REF!),NA()),NA())","v":{"$error":"#REF!"}},{"$error":"#REF!"},{"$error":"#REF!"}]
[null,null,null,{"$f":"IF(#REF!=$E$1,IF(#REF!=$G$1,#REF!,NA()),NA())","v":{"$error":"#REF!"}},{"$f":"IF(#REF!=$E$1,IF(#REF!=$G$1,#REF!,NA()),NA())","v":{"$error":"#REF!"}},{"$f":"IF(#REF!=$E$1,IF(#REF!=$G$1,IF(#REF!=\"\",NA(),#REF!),NA()),NA())","v":{"$error":"#REF!"}},{"$f":"IF(#REF!=$E$1,IF(#REF!=$G$1,IF(#REF!=\"\",NA(),#REF!),NA()),NA())","v":{"$error":"#REF!"}},{"$error":"#REF!"},{"$error":"#REF!"}]
[null,null,null,{"$f":"IF(#REF!=$E$1,IF(#REF!=$G$1,#REF!,NA()),NA())","v":{"$error":"#REF!"}},{"$f":"IF(#REF!=$E$1,IF(#REF!=$G$1,#REF!,NA()),NA())","v":{"$error":"#REF!"}},{"$f":"IF(#REF!=$E$1,IF(#REF!=$G$1,IF(#REF!=\"\",NA(),#REF!),NA()),NA())","v":{"$error":"#REF!"}},{"$f":"IF(#REF!=$E$1,IF(#REF!=$G$1,IF(#REF!=\"\",NA(),#REF!),NA()),NA())","v":{"$error":"#REF!"}},{"$error":"#REF!"},{"$error":"#REF!"}]
[null,null,null,{"$f":"IF(#REF!=$E$1,IF(#REF!=$G$1,#REF!,NA()),NA())","v":{"$error":"#REF!"}},{"$f":"IF(#REF!=$E$1,IF(#REF!=$G$1,#REF!,NA()),NA())","v":{"$error":"#REF!"}},{"$f":"IF(#REF!=$E$1,IF(#REF!=$G$1,IF(#REF!=\"\",NA(),#REF!),NA()),NA())","v":{"$error":"#REF!"}},{"$f":"IF(#REF!=$E$1,IF(#REF!=$G$1,IF(#REF!=\"\",NA(),#REF!),NA()),NA())","v":{"$error":"#REF!"}},{"$error":"#REF!"},{"$error":"#REF!"}]
[null,null,null,null,null,null,null,10000,null,"ダミーデータ"]

{"sheet":"散布図データ(無)1","index":3,"n_rows":1002,"n_cols":9,"rows_kept":1002,"cut":false,"hidden":true,"merged":[]}
["1801","福井・坂井",null,null,{"$f":"INDEX($A:$A,MATCH(F1,$B:$B,0))","v":{"$error":"#REF!"}},{"$f":"#REF!","v":{"$error":"#REF!"}},"無","【散布図データ参照列】","【散布図データ参照列】"]
["1802","奥越",null,"病床外来管理番号","紹介受診重点外来医療機関への意向の有無","初診の外来の患者延べ数に対する割合","再診の外来の患者延べ数に対する割合","初診の外来の患者延べ数に対する割合","再診の外来の患者延べ数に対する割合"]
["1803","丹南",null,{"$f":"IF(#REF!=$E$1,IF(#REF!=$G$1,#REF!,NA()),NA())","v":{"$error":"#REF!"}},{"$f":"IF(#REF!=$E$1,IF(#REF!=$G$1,#REF!,NA()),NA())","v":{"$error":"#REF!"}},{"$f":"IF(#REF!=$E$1,IF(#REF!=$G$1,IF(#REF!=\"\",NA(),#REF!),NA()),NA())","v":{"$error":"#REF!"}},{"$f":"IF(#REF!=$E$1,IF(#REF!=$G$1,IF(#REF!=\"\",NA(),#REF!),NA()),NA())","v":{"$error":"#REF!"}},{"$f":"IF(AND(ISNUMBER(G3),F3=\"-\"),0,F3)","v":{"$error":"#REF!"}},{"$f":"IF(AND(ISNUMBER(F3),G3=\"-\"),0,G3)","v":{"$error":"#REF!"}}]
["1804","嶺南",null,{"$f":"IF(#REF!=$E$1,IF(#REF!=$G$1,#REF!,NA()),NA())","v":{"$error":"#REF!"}},{"$f":"IF(#REF!=$E$1,IF(#REF!=$G$1,#REF!,NA()),NA())","v":{"$error":"#REF!"}},{"$f":"IF(#REF!=$E$1,IF(#REF!=$G$1,IF(#REF!=\"\",NA(),#REF!),NA()),NA())","v":{"$error":"#REF!"}},{"$f":"IF(#REF!=$E$1,IF(#REF!=$G$1,IF(#REF!=\"\",NA(),#REF!),NA()),NA())","v":{"$error":"#REF!"}},{"$f":"IF(AND(ISNUMBER(G4),F4=\"-\"),0,F4)","v":{"$error":"#REF!"}},{"$f":"IF(AND(ISNUMBER(F4),G4=\"-\"),0,G4)","v":{"$error":"#REF!"}}]
[null,null,null,{"$f":"IF(#REF!=$E$1,IF(#REF!=$G$1,#REF!,NA()),NA())","v":{"$error":"#REF!"}},{"$f":"IF(#REF!=$E$1,IF(#REF!=$G$1,#REF!,NA()),NA())","v":{"$error":"#REF!"}},{"$f":"IF(#REF!=$E$1,IF(#REF!=$G$1,IF(#REF!=\"\",NA(),#REF!),NA()),NA())","v":{"$error":"#REF!"}},{"$f":"IF(#REF!=$E$1,IF(#REF!=$G$1,IF(#REF!=\"\",NA(),#REF!),NA()),NA())","v":{"$error":"#REF!"}},{"$error":"#REF!"},{"$error":"#REF!"}]
[null,null,null,{"$f":"IF(#REF!=$E$1,IF(#REF!=$G$1,#REF!,NA()),NA())","v":{"$error":"#REF!"}},{"$f":"IF(#REF!=$E$1,IF(#REF!=$G$1,#REF!,NA()),NA())","v":{"$error":"#REF!"}},{"$f":"IF(#REF!=$E$1,IF(#REF!=$G$1,IF(#REF!=\"\",NA(),#REF!),NA()),NA())","v":{"$error":"#REF!"}},{"$f":"IF(#REF!=$E$1,IF(#REF!=$G$1,IF(#REF!=\"\",NA(),#REF!),NA()),NA())","v":{"$error":"#REF!"}},{"$error":"#REF!"},{"$error":"#REF!"}]
[null,null,null,{"$f":"IF(#REF!=$E$1,IF(#REF!=$G$1,#REF!,NA()),NA())","v":{"$error":"#REF!"}},{"$f":"IF(#REF!=$E$1,IF(#REF!=$G$1,#REF!,NA()),NA())","v":{"$error":"#REF!"}},{"$f":"IF(#REF!=$E$1,IF(#REF!=$G$1,IF(#REF!=\"\",NA(),#REF!),NA()),NA())","v":{"$error":"#REF!"}},{"$f":"IF(#REF!=$E$1,IF(#REF!=$G$1,IF(#REF!=\"\",NA(),#REF!),NA()),NA())","v":{"$error":"#REF!"}},{"$error":"#REF!"},{"$error":"#REF!"}]
[null,null,null,{"$f":"IF(#REF!=$E$1,IF(#REF!=$G$1,#REF!,NA()),NA())","v":{"$error":"#REF!"}},{"$f":"IF(#REF!=$E$1,IF(#REF!=$G$1,#REF!,NA()),NA())","v":{"$error":"#REF!"}},{"$f":"IF(#REF!=$E$1,IF(#REF!=$G$1,IF(#REF!=\"\",NA(),#REF!),NA()),NA())","v":{"$error":"#REF!"}},{"$f":"IF(#REF!=$E$1,IF(#REF!=$G$1,IF(#REF!=\"\",NA(),#REF!),NA()),NA())","v":{"$error":"#REF!"}},{"$error":"#REF!"},{"$error":"#REF!"}]
[null,null,null,{"$f":"IF(#REF!=$E$1,IF(#REF!=$G$1,#REF!,NA()),NA())","v":{"$error":"#REF!"}},{"$f":"IF(#REF!=$E$1,IF(#REF!=$G$1,#REF!,NA()),NA())","v":{"$error":"#REF!"}},{"$f":"IF(#REF!=$E$1,IF(#REF!=$G$1,IF(#REF!=\"\",NA(),#REF!),NA()),NA())","v":{"$error":"#REF!"}},{"$f":"IF(#REF!=$E$1,IF(#REF!=$G$1,IF(#REF!=\"\",NA(),#REF!),NA()),NA())","v":{"$error":"#REF!"}},{"$error":"#REF!"},{"$error":"#REF!"}]
[null,null,null,{"$f":"IF(#REF!=$E$1,IF(#REF!=$G$1,#REF!,NA()),NA())","v":{"$error":"#REF!"}},{"$f":"IF(#REF!=$E$1,IF(#REF!=$G$1,#REF!,NA()),NA())","v":{"$error":"#REF!"}},{"$f":"IF(#REF!=$E$1,IF(#REF!=$G$1,IF(#REF!=\"\",NA(),#REF!),NA()),NA())","v":{"$error":"#REF!"}},{"$f":"IF(#REF!=$E$1,IF(#REF!=$G$1,IF(#REF!=\"\",NA(),#REF!),NA()),NA())","v":{"$error":"#REF!"}},{"$error":"#REF!"},{"$error":"#REF!"}]
[null,null,null,{"$f":"IF(#REF!=$E$1,IF(#REF!=$G$1,#REF!,NA()),NA())","v":{"$error":"#REF!"}},{"$f":"IF(#REF!=$E$1,IF(#REF!=$G$1,#REF!,NA()),NA())","v":{"$error":"#REF!"}},{"$f":"IF(#REF!=$E$1,IF(#REF!=$G$1,IF(#REF!=\"\",NA(),#REF!),NA()),NA())","v":{"$error":"#REF!"}},{"$f":"IF(#REF!=$E$1,IF(#REF!=$G$1,IF(#REF!=\"\",NA(),#REF!),NA()),NA())","v":{"$error":"#REF!"}},{"$error":"#REF!"},{"$error":"#REF!"}]
[null,null,null,{"$f":"IF(#REF!=$E$1,IF(#REF!=$G$1,#REF!,NA()),NA())","v":{"$error":"#REF!"}},{"$f":"IF(#REF!=$E$1,IF(#REF!=$G$1,#REF!,NA()),NA())","v":{"$error":"#REF!"}},{"$f":"IF(#REF!=$E$1,IF(#REF!=$G$1,IF(#REF!=\"\",NA(),#REF!),NA()),NA())","v":{"$error":"#REF!"}},{"$f":"IF(#REF!=$E$1,IF(#REF!=$G$1,IF(#REF!=\"\",NA(),#REF!),NA()),NA())","v":{"$error":"#REF!"}},{"$error":"#REF!"},{"$error":"#REF!"}]
[null,null,null,{"$f":"IF(#REF!=$E$1,IF(#REF!=$G$1,#REF!,NA()),NA())","v":{"$error":"#REF!"}},{"$f":"IF(#REF!=$E$1,IF(#REF!=$G$1,#REF!,NA()),NA())","v":{"$error":"#REF!"}},{"$f":"IF(#REF!=$E$1,IF(#REF!=$G$1,IF(#REF!=\"\",NA(),#REF!),NA()),NA())","v":{"$error":"#REF!"}},{"$f":"IF(#REF!=$E$1,IF(#REF!=$G$1,IF(#REF!=\"\",NA(),#REF!),NA()),NA())","v":{"$error":"#REF!"}},{"$error":"#REF!"},{"$error":"#REF!"}]
[null,null,null,{"$f":"IF(#REF!=$E$1,IF(#REF!=$G$1,#REF!,NA()),NA())","v":{"$error":"#REF!"}},{"$f":"IF(#REF!=$E$1,IF(#REF!=$G$1,#REF!,NA()),NA())","v":{"$error":"#REF!"}},{"$f":"IF(#REF!=$E$1,IF(#REF!=$G$1,IF(#REF!=\"\",NA(),#REF!),NA()),NA())","v":{"$error":"#REF!"}},{"$f":"IF(#REF!=$E$1,IF(#REF!=$G$1,IF(#REF!=\"\",NA(),#REF!),NA()),NA())","v":{"$error":"#REF!"}},{"$error":"#REF!"},{"$error":"#REF!"}]
[null,null,null,{"$f":"IF(#REF!=$E$1,IF(#REF!=$G$1,#REF!,NA()),NA())","v":{"$error":"#REF!"}},{"$f":"IF(#REF!=$E$1,IF(#REF!=$G$1,#REF!,NA()),NA())","v":{"$error":"#REF!"}},{"$f":"IF(#REF!=$E$1,IF(#REF!=$G$1,IF(#REF!=\"\",NA(),#REF!),NA()),NA())","v":{"$error":"#REF!"}},{"$f":"IF(#REF!=$E$1,IF(#REF!=$G$1,IF(#REF!=\"\",NA(),#REF!),NA()),NA())","v":{"$error":"#REF!"}},{"$error":"#REF!"},{"$error":"#REF!"}]
[null,null,null,{"$f":"IF(#REF!=$E$1,IF(#REF!=$G$1,#REF!,NA()),NA())","v":{"$error":"#REF!"}},{"$f":"IF(#REF!=$E$1,IF(#REF!=$G$1,#REF!,NA()),NA())","v":{"$error":"#REF!"}},{"$f":"IF(#REF!=$E$1,IF(#REF!=$G$1,IF(#REF!=\"\",NA(),#REF!),NA()),NA())","v":{"$error":"#REF!"}},{"$f":"IF(#REF!=$E$1,IF(#REF!=$G$1,IF(#REF!=\"\",NA(),#REF!),NA()),NA())","v":{"$error":"#REF!"}},{"$error":"#REF!"},{"$error":"#REF!"}]
[null,null,null,{"$f":"IF(#REF!=$E$1,IF(#REF!=$G$1,#REF!,NA()),NA())","v":{"$error":"#REF!"}},{"$f":"IF(#REF!=$E$1,IF(#REF!=$G$1,#REF!,NA()),NA())","v":{"$error":"#REF!"}},{"$f":"IF(#REF!=$E$1,IF(#REF!=$G$1,IF(#REF!=\"\",NA(),#REF!),NA()),NA())","v":{"$error":"#REF!"}},{"$f":"IF(#REF!=$E$1,IF(#REF!=$G$1,IF(#REF!=\"\",NA(),#REF!),NA()),NA())","v":{"$error":"#REF!"}},{"$error":"#REF!"},{"$error":"#REF!"}]
[null,null,null,{"$f":"IF(#REF!=$E$1,IF(#REF!=$G$1,#REF!,NA()),NA())","v":{"$error":"#REF!"}},{"$f":"IF(#REF!=$E$1,IF(#REF!=$G$1,#REF!,NA()),NA())","v":{"$error":"#REF!"}},{"$f":"IF(#REF!=$E$1,IF(#REF!=$G$1,IF(#REF!=\"\",NA(),#REF!),NA()),NA())","v":{"$error":"#REF!"}},{"$f":"IF(#REF!=$E$1,IF(#REF!=$G$1,IF(#REF!=\"\",NA(),#REF!),NA()),NA())","v":{"$error":"#REF!"}},{"$error":"#REF!"},{"$error":"#REF!"}]
[null,null,null,{"$f":"IF(#REF!=$E$1,IF(#REF!=$G$1,#REF!,NA()),NA())","v":{"$error":"#REF!"}},{"$f":"IF(#REF!=$E$1,IF(#REF!=$G$1,#REF!,NA()),NA())","v":{"$error":"#REF!"}},{"$f":"IF(#REF!=$E$1,IF(#REF!=$G$1,IF(#REF!=\"\",NA(),#REF!),NA()),NA())","v":{"$error":"#REF!"}},{"$f":"IF(#REF!=$E$1,IF(#REF!=$G$1,IF(#REF!=\"\",NA(),#REF!),NA()),NA())","v":{"$error":"#REF!"}},{"$error":"#REF!"},{"$error":"#REF!"}]
[null,null,null,{"$f":"IF(#REF!=$E$1,IF(#REF!=$G$1,#REF!,NA()),NA())","v":{"$error":"#REF!"}},{"$f":"IF(#REF!=$E$1,IF(#REF!=$G$1,#REF!,NA()),NA())","v":{"$error":"#REF!"}},{"$f":"IF(#REF!=$E$1,IF(#REF!=$G$1,IF(#REF!=\"\",NA(),#REF!),NA()),NA())","v":{"$error":"#REF!"}},{"$f":"IF(#REF!=$E$1,IF(#REF!=$G$1,IF(#REF!=\"\",NA(),#REF!),NA()),NA())","v":{"$error":"#REF!"}},{"$error":"#REF!"},{"$error":"#REF!"}]
[null,null,null,{"$f":"IF(#REF!=$E$1,IF(#REF!=$G$1,#REF!,NA()),NA())","v":{"$error":"#REF!"}},{"$f":"IF(#REF!=$E$1,IF(#REF!=$G$1,#REF!,NA()),NA())","v":{"$error":"#REF!"}},{"$f":"IF(#REF!=$E$1,IF(#REF!=$G$1,IF(#REF!=\"\",NA(),#REF!),NA()),NA())","v":{"$error":"#REF!"}},{"$f":"IF(#REF!=$E$1,IF(#REF!=$G$1,IF(#REF!=\"\",NA(),#REF!),NA()),NA())","v":{"$error":"#REF!"}},{"$error":"#REF!"},{"$error":"#REF!"}]
[null,null,null,{"$f":"IF(#REF!=$E$1,IF(#REF!=$G$1,#REF!,NA()),NA())","v":{"$error":"#REF!"}},{"$f":"IF(#REF!=$E$1,IF(#REF!=$G$1,#REF!,NA()),NA())","v":{"$error":"#REF!"}},{"$f":"IF(#REF!=$E$1,IF(#REF!=$G$1,IF(#REF!=\"\",NA(),#REF!),NA()),NA())","v":{"$error":"#REF!"}},{"$f":"IF(#REF!=$E$1,IF(#REF!=$G$1,IF(#REF!=\"\",NA(),#REF!),NA()),NA())","v":{"$error":"#REF!"}},{"$error":"#REF!"},{"$error":"#REF!"}]
[null,null,null,{"$f":"IF(#REF!=$E$1,IF(#REF!=$G$1,#REF!,NA()),NA())","v":{"$error":"#REF!"}},{"$f":"IF(#REF!=$E$1,IF(#REF!=$G$1,#REF!,NA()),NA())","v":{"$error":"#REF!"}},{"$f":"IF(#REF!=$E$1,IF(#REF!=$G$1,IF(#REF!=\"\",NA(),#REF!),NA()),NA())","v":{"$error":"#REF!"}},{"$f":"IF(#REF!=$E$1,IF(#REF!=$G$1,IF(#REF!=\"\",NA(),#REF!),NA()),NA())","v":{"$error":"#REF!"}},{"$error":"#REF!"},{"$error":"#REF!"}]
[null,null,null,{"$f":"IF(#REF!=$E$1,IF(#REF!=$G$1,#REF!,NA()),NA())","v":{"$error":"#REF!"}},{"$f":"IF(#REF!=$E$1,IF(#REF!=$G$1,#REF!,NA()),NA())","v":{"$error":"#REF!"}},{"$f":"IF(#REF!=$E$1,IF(#REF!=$G$1,IF(#REF!=\"\",NA(),#REF!),NA()),NA())","v":{"$error":"#REF!"}},{"$f":"IF(#REF!=$E$1,IF(#REF!=$G$1,IF(#REF!=\"\",NA(),#REF!),NA()),NA())","v":{"$error":"#REF!"}},{"$error":"#REF!"},{"$error":"#REF!"}]
[null,null,null,{"$f":"IF(#REF!=$E$1,IF(#REF!=$G$1,#REF!,NA()),NA())","v":{"$error":"#REF!"}},{"$f":"IF(#REF!=$E$1,IF(#REF!=$G$1,#REF!,NA()),NA())","v":{"$error":"#REF!"}},{"$f":"IF(#REF!=$E$1,IF(#REF!=$G$1,IF(#REF!=\"\",NA(),#REF!),NA()),NA())","v":{"$error":"#REF!"}},{"$f":"IF(#REF!=$E$1,IF(#REF!=$G$1,IF(#REF!=\"\",NA(),#REF!),NA()),NA())","v":{"$error":"#REF!"}},{"$error":"#REF!"},{"$error":"#REF!"}]
[null,null,null,{"$f":"IF(#REF!=$E$1,IF(#REF!=$G$1,#REF!,NA()),NA())","v":{"$error":"#REF!"}},{"$f":"IF(#REF!=$E$1,IF(#REF!=$G$1,#REF!,NA()),NA())","v":{"$error":"#REF!"}},{"$f":"IF(#REF!=$E$1,IF(#REF!=$G$1,IF(#REF!=\"\",NA(),#REF!),NA()),NA())","v":{"$error":"#REF!"}},{"$f":"IF(#REF!=$E$1,IF(#REF!=$G$1,IF(#REF!=\"\",NA(),#REF!),NA()),NA())","v":{"$error":"#REF!"}},{"$error":"#REF!"},{"$error":"#REF!"}]
[null,null,null,{"$f":"IF(#REF!=$E$1,IF(#REF!=$G$1,#REF!,NA()),NA())","v":{"$error":"#REF!"}},{"$f":"IF(#REF!=$E$1,IF(#REF!=$G$1,#REF!,NA()),NA())","v":{"$error":"#REF!"}},{"$f":"IF(#REF!=$E$1,IF(#REF!=$G$1,IF(#REF!=\"\",NA(),#REF!),NA()),NA())","v":{"$error":"#REF!"}},{"$f":"IF(#REF!=$E$1,IF(#REF!=$G$1,IF(#REF!=\"\",NA(),#REF!),NA()),NA())","v":{"$error":"#REF!"}},{"$error":"#REF!"},{"$error":"#REF!"}]
[null,null,null,{"$f":"IF(#REF!=$E$1,IF(#REF!=$G$1,#REF!,NA()),NA())","v":{"$error":"#REF!"}},{"$f":"IF(#REF!=$E$1,IF(#REF!=$G$1,#REF!,NA()),NA())","v":{"$error":"#REF!"}},{"$f":"IF(#REF!=$E$1,IF(#REF!=$G$1,IF(#REF!=\"\",NA(),#REF!),NA()),NA())","v":{"$error":"#REF!"}},{"$f":"IF(#REF!=$E$1,IF(#REF!=$G$1,IF(#REF!=\"\",NA(),#REF!),NA()),NA())","v":{"$error":"#REF!"}},{"$error":"#REF!"},{"$error":"#REF!"}]
[null,null,null,{"$f":"IF(#REF!=$E$1,IF(#REF!=$G$1,#REF!,NA()),NA())","v":{"$error":"#REF!"}},{"$f":"IF(#REF!=$E$1,IF(#REF!=$G$1,#REF!,NA()),NA())","v":{"$error":"#REF!"}},{"$f":"IF(#REF!=$E$1,IF(#REF!=$G$1,IF(#REF!=\"\",NA(),#REF!),NA()),NA())","v":{"$error":"#REF!"}},{"$f":"IF(#REF!=$E$1,IF(#REF!=$G$1,IF(#REF!=\"\",NA(),#REF!),NA()),NA())","v":{"$error":"#REF!"}},{"$error":"#REF!"},{"$error":"#REF!"}]
[null,null,null,{"$f":"IF(#REF!=$E$1,IF(#REF!=$G$1,#REF!,NA()),NA())","v":{"$error":"#REF!"}},{"$f":"IF(#REF!=$E$1,IF(#REF!=$G$1,#REF!,NA()),NA())","v":{"$error":"#REF!"}},{"$f":"IF(#REF!=$E$1,IF(#REF!=$G$1,IF(#REF!=\"\",NA(),#REF!),NA()),NA())","v":{"$error":"#REF!"}},{"$f":"IF(#REF!=$E$1,IF(#REF!=$G$1,IF(#REF!=\"\",NA(),#REF!),NA()),NA())","v":{"$error":"#REF!"}},{"$error":"#REF!"},{"$error":"#REF!"}]
[null,null,null,{"$f":"IF(#REF!=$E$1,IF(#REF!=$G$1,#REF!,NA()),NA())","v":{"$error":"#REF!"}},{"$f":"IF(#REF!=$E$1,IF(#REF!=$G$1,#REF!,NA()),NA())","v":{"$error":"#REF!"}},{"$f":"IF(#REF!=$E$1,IF(#REF!=$G$1,IF(#REF!=\"\",NA(),#REF!),NA()),NA())","v":{"$error":"#REF!"}},{"$f":"IF(#REF!=$E$1,IF(#REF!=$G$1,IF(#REF!=\"\",NA(),#REF!),NA()),NA())","v":{"$error":"#REF!"}},{"$error":"#REF!"},{"$error":"#REF!"}]
[null,null,null,{"$f":"IF(#REF!=$E$1,IF(#REF!=$G$1,#REF!,NA()),NA())","v":{"$error":"#REF!"}},{"$f":"IF(#REF!=$E$1,IF(#REF!=$G$1,#REF!,NA()),NA())","v":{"$error":"#REF!"}},{"$f":"IF(#REF!=$E$1,IF(#REF!=$G$1,IF(#REF!=\"\",NA(),#REF!),NA()),NA())","v":{"$error":"#REF!"}},{"$f":"IF(#REF!=$E$1,IF(#REF!=$G$1,IF(#REF!=\"\",NA(),#REF!),NA()),NA())","v":{"$error":"#REF!"}},{"$error":"#REF!"},{"$error":"#REF!"}]
[null,null,null,{"$f":"IF(#REF!=$E$1,IF(#REF!=$G$1,#REF!,NA()),NA())","v":{"$error":"#REF!"}},{"$f":"IF(#REF!=$E$1,IF(#REF!=$G$1,#REF!,NA()),NA())","v":{"$error":"#REF!"}},{"$f":"IF(#REF!=$E$1,IF(#REF!=$G$1,IF(#REF!=\"\",NA(),#REF!),NA()),NA())","v":{"$error":"#REF!"}},{"$f":"IF(#REF!=$E$1,IF(#REF!=$G$1,IF(#REF!=\"\",NA(),#REF!),NA()),NA())","v":{"$error":"#REF!"}},{"$error":"#REF!"},{"$error":"#REF!"}]
[null,null,null,{"$f":"IF(#REF!=$E$1,IF(#REF!=$G$1,#REF!,NA()),NA())","v":{"$error":"#REF!"}},{"$f":"IF(#REF!=$E$1,IF(#REF!=$G$1,#REF!,NA()),NA())","v":{"$error":"#REF!"}},{"$f":"IF(#REF!=$E$1,IF(#REF!=$G$1,IF(#REF!=\"\",NA(),#REF!),NA()),NA())","v":{"$error":"#REF!"}},{"$f":"IF(#REF!=$E$1,IF(#REF!=$G$1,IF(#REF!=\"\",NA(),#REF!),NA()),NA())","v":{"$error":"#REF!"}},{"$error":"#REF!"},{"$error":"#REF!"}]
[null,null,null,{"$f":"IF(#REF!=$E$1,IF(#REF!=$G$1,#REF!,NA()),NA())","v":{"$error":"#REF!"}},{"$f":"IF(#REF!=$E$1,IF(#REF!=$G$1,#REF!,NA()),NA())","v":{"$error":"#REF!"}},{"$f":"IF(#REF!=$E$1,IF(#REF!=$G$1,IF(#REF!=\"\",NA(),#REF!),NA()),NA())","v":{"$error":"#REF!"}},{"$f":"IF(#REF!=$E$1,IF(#REF!=$G$1,IF(#REF!=\"\",NA(),#REF!),NA()),NA())","v":{"$error":"#REF!"}},{"$error":"#REF!"},{"$error":"#REF!"}]
[null,null,null,{"$f":"IF(#REF!=$E$1,IF(#REF!=$G$1,#REF!,NA()),NA())","v":{"$error":"#REF!"}},{"$f":"IF(#REF!=$E$1,IF(#REF!=$G$1,#REF!,NA()),NA())","v":{"$error":"#REF!"}},{"$f":"IF(#REF!=$E$1,IF(#REF!=$G$1,IF(#REF!=\"\",NA(),#REF!),NA()),NA())","v":{"$error":"#REF!"}},{"$f":"IF(#REF!=$E$1,IF(#REF!=$G$1,IF(#REF!=\"\",NA(),#REF!),NA()),NA())","v":{"$error":"#REF!"}},{"$error":"#REF!"},{"$error":"#REF!"}]
[null,null,null,{"$f":"IF(#REF!=$E$1,IF(#REF!=$G$1,#REF!,NA()),NA())","v":{"$error":"#REF!"}},{"$f":"IF(#REF!=$E$1,IF(#REF!=$G$1,#REF!,NA()),NA())","v":{"$error":"#REF!"}},{"$f":"IF(#REF!=$E$1,IF(#REF!=$G$1,IF(#REF!=\"\",NA(),#REF!),NA()),NA())","v":{"$error":"#REF!"}},{"$f":"IF(#REF!=$E$1,IF(#REF!=$G$1,IF(#REF!=\"\",NA(),#REF!),NA()),NA())","v":{"$error":"#REF!"}},{"$error":"#REF!"},{"$error":"#REF!"}]
[null,null,null,{"$f":"IF(#REF!=$E$1,IF(#REF!=$G$1,#REF!,NA()),NA())","v":{"$error":"#REF!"}},{"$f":"IF(#REF!=$E$1,IF(#REF!=$G$1,#REF!,NA()),NA())","v":{"$error":"#REF!"}},{"$f":"IF(#REF!=$E$1,IF(#REF!=$G$1,IF(#REF!=\"\",NA(),#REF!),NA()),NA())","v":{"$error":"#REF!"}},{"$f":"IF(#REF!=$E$1,IF(#REF!=$G$1,IF(#REF!=\"\",NA(),#REF!),NA()),NA())","v":{"$error":"#REF!"}},{"$error":"#REF!"},{"$error":"#REF!"}]
[null,null,null,{"$f":"IF(#REF!=$E$1,IF(#REF!=$G$1,#REF!,NA()),NA())","v":{"$error":"#REF!"}},{"$f":"IF(#REF!=$E$1,IF(#REF!=$G$1,#REF!,NA()),NA())","v":{"$error":"#REF!"}},{"$f":"IF(#REF!=$E$1,IF(#REF!=$G$1,IF(#REF!=\"\",NA(),#REF!),NA()),NA())","v":{"$error":"#REF!"}},{"$f":"IF(#REF!=$E$1,IF(#REF!=$G$1,IF(#REF!=\"\",NA(),#REF!),NA()),NA())","v":{"$error":"#REF!"}},{"$error":"#REF!"},{"$error":"#REF!"}]
[null,null,null,{"$f":"IF(#REF!=$E$1,IF(#REF!=$G$1,#REF!,NA()),NA())","v":{"$error":"#REF!"}},{"$f":"IF(#REF!=$E$1,IF(#REF!=$G$1,#REF!,NA()),NA())","v":{"$error":"#REF!"}},{"$f":"IF(#REF!=$E$1,IF(#REF!=$G$1,IF(#REF!=\"\",NA(),#REF!),NA()),NA())","v":{"$error":"#REF!"}},{"$f":"IF(#REF!=$E$1,IF(#REF!=$G$1,IF(#REF!=\"\",NA(),#REF!),NA()),NA())","v":{"$error":"#REF!"}},{"$error":"#REF!"},{"$error":"#REF!"}]
[null,null,null,{"$f":"IF(#REF!=$E$1,IF(#REF!=$G$1,#REF!,NA()),NA())","v":{"$error":"#REF!"}},{"$f":"IF(#REF!=$E$1,IF(#REF!=$G$1,#REF!,NA()),NA())","v":{"$error":"#REF!"}},{"$f":"IF(#REF!=$E$1,IF(#REF!=$G$1,IF(#REF!=\"\",NA(),#REF!),NA()),NA())","v":{"$error":"#REF!"}},{"$f":"IF(#REF!=$E$1,IF(#REF!=$G$1,IF(#REF!=\"\",NA(),#REF!),NA()),NA())","v":{"$error":"#REF!"}},{"$error":"#REF!"},{"$error":"#REF!"}]
[null,null,null,{"$f":"IF(#REF!=$E$1,IF(#REF!=$G$1,#REF!,NA()),NA())","v":{"$error":"#REF!"}},{"$f":"IF(#REF!=$E$1,IF(#REF!=$G$1,#REF!,NA()),NA())","v":{"$error":"#REF!"}},{"$f":"IF(#REF!=$E$1,IF(#REF!=$G$1,IF(#REF!=\"\",NA(),#REF!),NA()),NA())","v":{"$error":"#REF!"}},{"$f":"IF(#REF!=$E$1,IF(#REF!=$G$1,IF(#REF!=\"\",NA(),#REF!),NA()),NA())","v":{"$error":"#REF!"}},{"$error":"#REF!"},{"$error":"#REF!"}]
[null,null,null,{"$f":"IF(#REF!=$E$1,IF(#REF!=$G$1,#REF!,NA()),NA())","v":{"$error":"#REF!"}},{"$f":"IF(#REF!=$E$1,IF(#REF!=$G$1,#REF!,NA()),NA())","v":{"$error":"#REF!"}},{"$f":"IF(#REF!=$E$1,IF(#REF!=$G$1,IF(#REF!=\"\",NA(),#REF!),NA()),NA())","v":{"$error":"#REF!"}},{"$f":"IF(#REF!=$E$1,IF(#REF!=$G$1,IF(#REF!=\"\",NA(),#REF!),NA()),NA())","v":{"$error":"#REF!"}},{"$error":"#REF!"},{"$error":"#REF!"}]
[null,null,null,{"$f":"IF(#REF!=$E$1,IF(#REF!=$G$1,#REF!,NA()),NA())","v":{"$error":"#REF!"}},{"$f":"IF(#REF!=$E$1,IF(#REF!=$G$1,#REF!,NA()),NA())","v":{"$error":"#REF!"}},{"$f":"IF(#REF!=$E$1,IF(#REF!=$G$1,IF(#REF!=\"\",NA(),#REF!),NA()),NA())","v":{"$error":"#REF!"}},{"$f":"IF(#REF!=$E$1,IF(#REF!=$G$1,IF(#REF!=\"\",NA(),#REF!),NA()),NA())","v":{"$error":"#REF!"}},{"$error":"#REF!"},{"$error":"#REF!"}]
[null,null,null,{"$f":"IF(#REF!=$E$1,IF(#REF!=$G$1,#REF!,NA()),NA())","v":{"$error":"#REF!"}},{"$f":"IF(#REF!=$E$1,IF(#REF!=$G$1,#REF!,NA()),NA())","v":{"$error":"#REF!"}},{"$f":"IF(#REF!=$E$1,IF(#REF!=$G$1,IF(#REF!=\"\",NA(),#REF!),NA()),NA())","v":{"$error":"#REF!"}},{"$f":"IF(#REF!=$E$1,IF(#REF!=$G$1,IF(#REF!=\"\",NA(),#REF!),NA()),NA())","v":{"$error":"#REF!"}},{"$error":"#REF!"},{"$error":"#REF!"}]
[null,null,null,{"$f":"IF(#REF!=$E$1,IF(#REF!=$G$1,#REF!,NA()),NA())","v":{"$error":"#REF!"}},{"$f":"IF(#REF!=$E$1,IF(#REF!=$G$1,#REF!,NA()),NA())","v":{"$error":"#REF!"}},{"$f":"IF(#REF!=$E$1,IF(#REF!=$G$1,IF(#REF!=\"\",NA(),#REF!),NA()),NA())","v":{"$error":"#REF!"}},{"$f":"IF(#REF!=$E$1,IF(#REF!=$G$1,IF(#REF!=\"\",NA(),#REF!),NA()),NA())","v":{"$error":"#REF!"}},{"$error":"#REF!"},{"$error":"#REF!"}]
[null,null,null,{"$f":"IF(#REF!=$E$1,IF(#REF!=$G$1,#REF!,NA()),NA())","v":{"$error":"#REF!"}},{"$f":"IF(#REF!=$E$1,IF(#REF!=$G$1,#REF!,NA()),NA())","v":{"$error":"#REF!"}},{"$f":"IF(#REF!=$E$1,IF(#REF!=$G$1,IF(#REF!=\"\",NA(),#REF!),NA()),NA())","v":{"$error":"#REF!"}},{"$f":"IF(#REF!=$E$1,IF(#REF!=$G$1,IF(#REF!=\"\",NA(),#REF!),NA()),NA())","v":{"$error":"#REF!"}},{"$error":"#REF!"},{"$error":"#REF!"}]
[null,null,null,{"$f":"IF(#REF!=$E$1,IF(#REF!=$G$1,#REF!,NA()),NA())","v":{"$error":"#REF!"}},{"$f":"IF(#REF!=$E$1,IF(#REF!=$G$1,#REF!,NA()),NA())","v":{"$error":"#REF!"}},{"$f":"IF(#REF!=$E$1,IF(#REF!=$G$1,IF(#REF!=\"\",NA(),#REF!),NA()),NA())","v":{"$error":"#REF!"}},{"$f":"IF(#REF!=$E$1,IF(#REF!=$G$1,IF(#REF!=\"\",NA(),#REF!),NA()),NA())","v":{"$error":"#REF!"}},{"$error":"#REF!"},{"$error":"#REF!"}]
[null,null,null,{"$f":"IF(#REF!=$E$1,IF(#REF!=$G$1,#REF!,NA()),NA())","v":{"$error":"#REF!"}},{"$f":"IF(#REF!=$E$1,IF(#REF!=$G$1,#REF!,NA()),NA())","v":{"$error":"#REF!"}},{"$f":"IF(#REF!=$E$1,IF(#REF!=$G$1,IF(#REF!=\"\",NA(),#REF!),NA()),NA())","v":{"$error":"#REF!"}},{"$f":"IF(#REF!=$E$1,IF(#REF!=$G$1,IF(#REF!=\"\",NA(),#REF!),NA()),NA())","v":{"$error":"#REF!"}},{"$error":"#REF!"},{"$error":"#REF!"}]
[null,null,null,{"$f":"IF(#REF!=$E$1,IF(#REF!=$G$1,#REF!,NA()),NA())","v":{"$error":"#REF!"}},{"$f":"IF(#REF!=$E$1,IF(#REF!=$G$1,#REF!,NA()),NA())","v":{"$error":"#REF!"}},{"$f":"IF(#REF!=$E$1,IF(#REF!=$G$1,IF(#REF!=\"\",NA(),#REF!),NA()),NA())","v":{"$error":"#REF!"}},{"$f":"IF(#REF!=$E$1,IF(#REF!=$G$1,IF(#REF!=\"\",NA(),#REF!),NA()),NA())","v":{"$error":"#REF!"}},{"$error":"#REF!"},{"$error":"#REF!"}]
[null,null,null,{"$f":"IF(#REF!=$E$1,IF(#REF!=$G$1,#REF!,NA()),NA())","v":{"$error":"#REF!"}},{"$f":"IF(#REF!=$E$1,IF(#REF!=$G$1,#REF!,NA()),NA())","v":{"$error":"#REF!"}},{"$f":"IF(#REF!=$E$1,IF(#REF!=$G$1,IF(#REF!=\"\",NA(),#REF!),NA()),NA())","v":{"$error":"#REF!"}},{"$f":"IF(#REF!=$E$1,IF(#REF!=$G$1,IF(#REF!=\"\",NA(),#REF!),NA()),NA())","v":{"$error":"#REF!"}},{"$error":"#REF!"},{"$error":"#REF!"}]
[null,null,null,{"$f":"IF(#REF!=$E$1,IF(#REF!=$G$1,#REF!,NA()),NA())","v":{"$error":"#REF!"}},{"$f":"IF(#REF!=$E$1,IF(#REF!=$G$1,#REF!,NA()),NA())","v":{"$error":"#REF!"}},{"$f":"IF(#REF!=$E$1,IF(#REF!=$G$1,IF(#REF!=\"\",NA(),#REF!),NA()),NA())","v":{"$error":"#REF!"}},{"$f":"IF(#REF!=$E$1,IF(#REF!=$G$1,IF(#REF!=\"\",NA(),#REF!),NA()),NA())","v":{"$error":"#REF!"}},{"$error":"#REF!"},{"$error":"#REF!"}]
[null,null,null,{"$f":"IF(#REF!=$E$1,IF(#REF!=$G$1,#REF!,NA()),NA())","v":{"$error":"#REF!"}},{"$f":"IF(#REF!=$E$1,IF(#REF!=$G$1,#REF!,NA()),NA())","v":{"$error":"#REF!"}},{"$f":"IF(#REF!=$E$1,IF(#REF!=$G$1,IF(#REF!=\"\",NA(),#REF!),NA()),NA())","v":{"$error":"#REF!"}},{"$f":"IF(#REF!=$E$1,IF(#REF!=$G$1,IF(#REF!=\"\",NA(),#REF!),NA()),NA())","v":{"$error":"#REF!"}},{"$error":"#REF!"},{"$error":"#REF!"}]
[null,null,null,{"$f":"IF(#REF!=$E$1,IF(#REF!=$G$1,#REF!,NA()),NA())","v":{"$error":"#REF!"}},{"$f":"IF(#REF!=$E$1,IF(#REF!=$G$1,#REF!,NA()),NA())","v":{"$error":"#REF!"}},{"$f":"IF(#REF!=$E$1,IF(#REF!=$G$1,IF(#REF!=\"\",NA(),#REF!),NA()),NA())","v":{"$error":"#REF!"}},{"$f":"IF(#REF!=$E$1,IF(#REF!=$G$1,IF(#REF!=\"\",NA(),#REF!),NA()),NA())","v":{"$error":"#REF!"}},{"$error":"#REF!"},{"$error":"#REF!"}]
[null,null,null,{"$f":"IF(#REF!=$E$1,IF(#REF!=$G$1,#REF!,NA()),NA())","v":{"$error":"#REF!"}},{"$f":"IF(#REF!=$E$1,IF(#REF!=$G$1,#REF!,NA()),NA())","v":{"$error":"#REF!"}},{"$f":"IF(#REF!=$E$1,IF(#REF!=$G$1,IF(#REF!=\"\",NA(),#REF!),NA()),NA())","v":{"$error":"#REF!"}},{"$f":"IF(#REF!=$E$1,IF(#REF!=$G$1,IF(#REF!=\"\",NA(),#REF!),NA()),NA())","v":{"$error":"#REF!"}},{"$error":"#REF!"},{"$error":"#REF!"}]
[null,null,null,{"$f":"IF(#REF!=$E$1,IF(#REF!=$G$1,#REF!,NA()),NA())","v":{"$error":"#REF!"}},{"$f":"IF(#REF!=$E$1,IF(#REF!=$G$1,#REF!,NA()),NA())","v":{"$error":"#REF!"}},{"$f":"IF(#REF!=$E$1,IF(#REF!=$G$1,IF(#REF!=\"\",NA(),#REF!),NA()),NA())","v":{"$error":"#REF!"}},{"$f":"IF(#REF!=$E$1,IF(#REF!=$G$1,IF(#REF!=\"\",NA(),#REF!),NA()),NA())","v":{"$error":"#REF!"}},{"$error":"#REF!"},{"$error":"#REF!"}]
[null,null,null,{"$f":"IF(#REF!=$E$1,IF(#REF!=$G$1,#REF!,NA()),NA())","v":{"$error":"#REF!"}},{"$f":"IF(#REF!=$E$1,IF(#REF!=$G$1,#REF!,NA()),NA())","v":{"$error":"#REF!"}},{"$f":"IF(#REF!=$E$1,IF(#REF!=$G$1,IF(#REF!=\"\",NA(),#REF!),NA()),NA())","v":{"$error":"#REF!"}},{"$f":"IF(#REF!=$E$1,IF(#REF!=$G$1,IF(#REF!=\"\",NA(),#REF!),NA()),NA())","v":{"$error":"#REF!"}},{"$error":"#REF!"},{"$error":"#REF!"}]
[null,null,null,{"$f":"IF(#REF!=$E$1,IF(#REF!=$G$1,#REF!,NA()),NA())","v":{"$error":"#REF!"}},{"$f":"IF(#REF!=$E$1,IF(#REF!=$G$1,#REF!,NA()),NA())","v":{"$error":"#REF!"}},{"$f":"IF(#REF!=$E$1,IF(#REF!=$G$1,IF(#REF!=\"\",NA(),#REF!),NA()),NA())","v":{"$error":"#REF!"}},{"$f":"IF(#REF!=$E$1,IF(#REF!=$G$1,IF(#REF!=\"\",NA(),#REF!),NA()),NA())","v":{"$error":"#REF!"}},{"$error":"#REF!"},{"$error":"#REF!"}]
[null,null,null,{"$f":"IF(#REF!=$E$1,IF(#REF!=$G$1,#REF!,NA()),NA())","v":{"$error":"#REF!"}},{"$f":"IF(#REF!=$E$1,IF(#REF!=$G$1,#REF!,NA()),NA())","v":{"$error":"#REF!"}},{"$f":"IF(#REF!=$E$1,IF(#REF!=$G$1,IF(#REF!=\"\",NA(),#REF!),NA()),NA())","v":{"$error":"#REF!"}},{"$f":"IF(#REF!=$E$1,IF(#REF!=$G$1,IF(#REF!=\"\",NA(),#REF!),NA()),NA())","v":{"$error":"#REF!"}},{"$error":"#REF!"},{"$error":"#REF!"}]
[null,null,null,{"$f":"IF(#REF!=$E$1,IF(#REF!=$G$1,#REF!,NA()),NA())","v":{"$error":"#REF!"}},{"$f":"IF(#REF!=$E$1,IF(#REF!=$G$1,#REF!,NA()),NA())","v":{"$error":"#REF!"}},{"$f":"IF(#REF!=$E$1,IF(#REF!=$G$1,IF(#REF!=\"\",NA(),#REF!),NA()),NA())","v":{"$error":"#REF!"}},{"$f":"IF(#REF!=$E$1,IF(#REF!=$G$1,IF(#REF!=\"\",NA(),#REF!),NA()),NA())","v":{"$error":"#REF!"}},{"$error":"#REF!"},{"$error":"#REF!"}]
[null,null,null,{"$f":"IF(#REF!=$E$1,IF(#REF!=$G$1,#REF!,NA()),NA())","v":{"$error":"#REF!"}},{"$f":"IF(#REF!=$E$1,IF(#REF!=$G$1,#REF!,NA()),NA())","v":{"$error":"#REF!"}},{"$f":"IF(#REF!=$E$1,IF(#REF!=$G$1,IF(#REF!=\"\",NA(),#REF!),NA()),NA())","v":{"$error":"#REF!"}},{"$f":"IF(#REF!=$E$1,IF(#REF!=$G$1,IF(#REF!=\"\",NA(),#REF!),NA()),NA())","v":{"$error":"#REF!"}},{"$error":"#REF!"},{"$error":"#REF!"}]
[null,null,null,{"$f":"IF(#REF!=$E$1,IF(#REF!=$G$1,#REF!,NA()),NA())","v":{"$error":"#REF!"}},{"$f":"IF(#REF!=$E$1,IF(#REF!=$G$1,#REF!,NA()),NA())","v":{"$error":"#REF!"}},{"$f":"IF(#REF!=$E$1,IF(#REF!=$G$1,IF(#REF!=\"\",NA(),#REF!),NA()),NA())","v":{"$error":"#REF!"}},{"$f":"IF(#REF!=$E$1,IF(#REF!=$G$1,IF(#REF!=\"\",NA(),#REF!),NA()),NA())","v":{"$error":"#REF!"}},{"$error":"#REF!"},{"$error":"#REF!"}]
[null,null,null,{"$f":"IF(#REF!=$E$1,IF(#REF!=$G$1,#REF!,NA()),NA())","v":{"$error":"#REF!"}},{"$f":"IF(#REF!=$E$1,IF(#REF!=$G$1,#REF!,NA()),NA())","v":{"$error":"#REF!"}},{"$f":"IF(#REF!=$E$1,IF(#REF!=$G$1,IF(#REF!=\"\",NA(),#REF!),NA()),NA())","v":{"$error":"#REF!"}},{"$f":"IF(#REF!=$E$1,IF(#REF!=$G$1,IF(#REF!=\"\",NA(),#REF!),NA()),NA())","v":{"$error":"#REF!"}},{"$error":"#REF!"},{"$error":"#REF!"}]
[null,null,null,{"$f":"IF(#REF!=$E$1,IF(#REF!=$G$1,#REF!,NA()),NA())","v":{"$error":"#REF!"}},{"$f":"IF(#REF!=$E$1,IF(#REF!=$G$1,#REF!,NA()),NA())","v":{"$error":"#REF!"}},{"$f":"IF(#REF!=$E$1,IF(#REF!=$G$1,IF(#REF!=\"\",NA(),#REF!),NA()),NA())","v":{"$error":"#REF!"}},{"$f":"IF(#REF!=$E$1,IF(#REF!=$G$1,IF(#REF!=\"\",NA(),#REF!),NA()),NA())","v":{"$error":"#REF!"}},{"$error":"#REF!"},{"$error":"#REF!"}]
[null,null,null,{"$f":"IF(#REF!=$E$1,IF(#REF!=$G$1,#REF!,NA()),NA())","v":{"$error":"#REF!"}},{"$f":"IF(#REF!=$E$1,IF(#REF!=$G$1,#REF!,NA()),NA())","v":{"$error":"#REF!"}},{"$f":"IF(#REF!=$E$1,IF(#REF!=$G$1,IF(#REF!=\"\",NA(),#REF!),NA()),NA())","v":{"$error":"#REF!"}},{"$f":"IF(#REF!=$E$1,IF(#REF!=$G$1,IF(#REF!=\"\",NA(),#REF!),NA()),NA())","v":{"$error":"#REF!"}},{"$error":"#REF!"},{"$error":"#REF!"}]
[null,null,null,{"$f":"IF(#REF!=$E$1,IF(#REF!=$G$1,#REF!,NA()),NA())","v":{"$error":"#REF!"}},{"$f":"IF(#REF!=$E$1,IF(#REF!=$G$1,#REF!,NA()),NA())","v":{"$error":"#REF!"}},{"$f":"IF(#REF!=$E$1,IF(#REF!=$G$1,IF(#REF!=\"\",NA(),#REF!),NA()),NA())","v":{"$error":"#REF!"}},{"$f":"IF(#REF!=$E$1,IF(#REF!=$G$1,IF(#REF!=\"\",NA(),#REF!),NA()),NA())","v":{"$error":"#REF!"}},{"$error":"#REF!"},{"$error":"#REF!"}]
[null,null,null,{"$f":"IF(#REF!=$E$1,IF(#REF!=$G$1,#REF!,NA()),NA())","v":{"$error":"#REF!"}},{"$f":"IF(#REF!=$E$1,IF(#REF!=$G$1,#REF!,NA()),NA())","v":{"$error":"#REF!"}},{"$f":"IF(#REF!=$E$1,IF(#REF!=$G$1,IF(#REF!=\"\",NA(),#REF!),NA()),NA())","v":{"$error":"#REF!"}},{"$f":"IF(#REF!=$E$1,IF(#REF!=$G$1,IF(#REF!=\"\",NA(),#REF!),NA()),NA())","v":{"$error":"#REF!"}},{"$error":"#REF!"},{"$error":"#REF!"}]
[null,null,null,{"$f":"IF(#REF!=$E$1,IF(#REF!=$G$1,#REF!,NA()),NA())","v":{"$error":"#REF!"}},{"$f":"IF(#REF!=$E$1,IF(#REF!=$G$1,#REF!,NA()),NA())","v":{"$error":"#REF!"}},{"$f":"IF(#REF!=$E$1,IF(#REF!=$G$1,IF(#REF!=\"\",NA(),#REF!),NA()),NA())","v":{"$error":"#REF!"}},{"$f":"IF(#REF!=$E$1,IF(#REF!=$G$1,IF(#REF!=\"\",NA(),#REF!),NA()),NA())","v":{"$error":"#REF!"}},{"$f":"IF(AND(ISNUMBER(G68),F68=\"-\"),0,F68)","v":{"$error":"#REF!"}},{"$f":"IF(AND(ISNUMBER(F68),G68=\"-\"),0,G68)","v":{"$error":"#REF!"}}]
[null,null,null,{"$f":"IF(#REF!=$E$1,IF(#REF!=$G$1,#REF!,NA()),NA())","v":{"$error":"#REF!"}},{"$f":"IF(#REF!=$E$1,IF(#REF!=$G$1,#REF!,NA()),NA())","v":{"$error":"#REF!"}},{"$f":"IF(#REF!=$E$1,IF(#REF!=$G$1,IF(#REF!=\"\",NA(),#REF!),NA()),NA())","v":{"$error":"#REF!"}},{"$f":"IF(#REF!=$E$1,IF(#REF!=$G$1,IF(#REF!=\"\",NA(),#REF!),NA()),NA())","v":{"$error":"#REF!"}},{"$error":"#REF!"},{"$error":"#REF!"}]
[null,null,null,{"$f":"IF(#REF!=$E$1,IF(#REF!=$G$1,#REF!,NA()),NA())","v":{"$error":"#REF!"}},{"$f":"IF(#REF!=$E$1,IF(#REF!=$G$1,#REF!,NA()),NA())","v":{"$error":"#REF!"}},{"$f":"IF(#REF!=$E$1,IF(#REF!=$G$1,IF(#REF!=\"\",NA(),#REF!),NA()),NA())","v":{"$error":"#REF!"}},{"$f":"IF(#REF!=$E$1,IF(#REF!=$G$1,IF(#REF!=\"\",NA(),#REF!),NA()),NA())","v":{"$error":"#REF!"}},{"$error":"#REF!"},{"$error":"#REF!"}]
[null,null,null,{"$f":"IF(#REF!=$E$1,IF(#REF!=$G$1,#REF!,NA()),NA())","v":{"$error":"#REF!"}},{"$f":"IF(#REF!=$E$1,IF(#REF!=$G$1,#REF!,NA()),NA())","v":{"$error":"#REF!"}},{"$f":"IF(#REF!=$E$1,IF(#REF!=$G$1,IF(#REF!=\"\",NA(),#REF!),NA()),NA())","v":{"$error":"#REF!"}},{"$f":"IF(#REF!=$E$1,IF(#REF!=$G$1,IF(#REF!=\"\",NA(),#REF!),NA()),NA())","v":{"$error":"#REF!"}},{"$error":"#REF!"},{"$error":"#REF!"}]
[null,null,null,{"$f":"IF(#REF!=$E$1,IF(#REF!=$G$1,#REF!,NA()),NA())","v":{"$error":"#REF!"}},{"$f":"IF(#REF!=$E$1,IF(#REF!=$G$1,#REF!,NA()),NA())","v":{"$error":"#REF!"}},{"$f":"IF(#REF!=$E$1,IF(#REF!=$G$1,IF(#REF!=\"\",NA(),#REF!),NA()),NA())","v":{"$error":"#REF!"}},{"$f":"IF(#REF!=$E$1,IF(#REF!=$G$1,IF(#REF!=\"\",NA(),#REF!),NA()),NA())","v":{"$error":"#REF!"}},{"$error":"#REF!"},{"$error":"#REF!"}]
[null,null,null,{"$f":"IF(#REF!=$E$1,IF(#REF!=$G$1,#REF!,NA()),NA())","v":{"$error":"#REF!"}},{"$f":"IF(#REF!=$E$1,IF(#REF!=$G$1,#REF!,NA()),NA())","v":{"$error":"#REF!"}},{"$f":"IF(#REF!=$E$1,IF(#REF!=$G$1,IF(#REF!=\"\",NA(),#REF!),NA()),NA())","v":{"$error":"#REF!"}},{"$f":"IF(#REF!=$E$1,IF(#REF!=$G$1,IF(#REF!=\"\",NA(),#REF!),NA()),NA())","v":{"$error":"#REF!"}},{"$error":"#REF!"},{"$error":"#REF!"}]
[null,null,null,{"$f":"IF(#REF!=$E$1,IF(#REF!=$G$1,#REF!,NA()),NA())","v":{"$error":"#REF!"}},{"$f":"IF(#REF!=$E$1,IF(#REF!=$G$1,#REF!,NA()),NA())","v":{"$error":"#REF!"}},{"$f":"IF(#REF!=$E$1,IF(#REF!=$G$1,IF(#REF!=\"\",NA(),#REF!),NA()),NA())","v":{"$error":"#REF!"}},{"$f":"IF(#REF!=$E$1,IF(#REF!=$G$1,IF(#REF!=\"\",NA(),#REF!),NA()),NA())","v":{"$error":"#REF!"}},{"$error":"#REF!"},{"$error":"#REF!"}]
[null,null,null,{"$f":"IF(#REF!=$E$1,IF(#REF!=$G$1,#REF!,NA()),NA())","v":{"$error":"#REF!"}},{"$f":"IF(#REF!=$E$1,IF(#REF!=$G$1,#REF!,NA()),NA())","v":{"$error":"#REF!"}},{"$f":"IF(#REF!=$E$1,IF(#REF!=$G$1,IF(#REF!=\"\",NA(),#REF!),NA()),NA())","v":{"$error":"#REF!"}},{"$f":"IF(#REF!=$E$1,IF(#REF!=$G$1,IF(#REF!=\"\",NA(),#REF!),NA()),NA())","v":{"$error":"#REF!"}},{"$error":"#REF!"},{"$error":"#REF!"}]
[null,null,null,{"$f":"IF(#REF!=$E$1,IF(#REF!=$G$1,#REF!,NA()),NA())","v":{"$error":"#REF!"}},{"$f":"IF(#REF!=$E$1,IF(#REF!=$G$1,#REF!,NA()),NA())","v":{"$error":"#REF!"}},{"$f":"IF(#REF!=$E$1,IF(#REF!=$G$1,IF(#REF!=\"\",NA(),#REF!),NA()),NA())","v":{"$error":"#REF!"}},{"$f":"IF(#REF!=$E$1,IF(#REF!=$G$1,IF(#REF!=\"\",NA(),#REF!),NA()),NA())","v":{"$error":"#REF!"}},{"$error":"#REF!"},{"$error":"#REF!"}]
[null,null,null,{"$f":"IF(#REF!=$E$1,IF(#REF!=$G$1,#REF!,NA()),NA())","v":{"$error":"#REF!"}},{"$f":"IF(#REF!=$E$1,IF(#REF!=$G$1,#REF!,NA()),NA())","v":{"$error":"#REF!"}},{"$f":"IF(#REF!=$E$1,IF(#REF!=$G$1,IF(#REF!=\"\",NA(),#REF!),NA()),NA())","v":{"$error":"#REF!"}},{"$f":"IF(#REF!=$E$1,IF(#REF!=$G$1,IF(#REF!=\"\",NA(),#REF!),NA()),NA())","v":{"$error":"#REF!"}},{"$error":"#REF!"},{"$error":"#REF!"}]
[null,null,null,{"$f":"IF(#REF!=$E$1,IF(#REF!=$G$1,#REF!,NA()),NA())","v":{"$error":"#REF!"}},{"$f":"IF(#REF!=$E$1,IF(#REF!=$G$1,#REF!,NA()),NA())","v":{"$error":"#REF!"}},{"$f":"IF(#REF!=$E$1,IF(#REF!=$G$1,IF(#REF!=\"\",NA(),#REF!),NA()),NA())","v":{"$error":"#REF!"}},{"$f":"IF(#REF!=$E$1,IF(#REF!=$G$1,IF(#REF!=\"\",NA(),#REF!),NA()),NA())","v":{"$error":"#REF!"}},{"$error":"#REF!"},{"$error":"#REF!"}]
[null,null,null,{"$f":"IF(#REF!=$E$1,IF(#REF!=$G$1,#REF!,NA()),NA())","v":{"$error":"#REF!"}},{"$f":"IF(#REF!=$E$1,IF(#REF!=$G$1,#REF!,NA()),NA())","v":{"$error":"#REF!"}},{"$f":"IF(#REF!=$E$1,IF(#REF!=$G$1,IF(#REF!=\"\",NA(),#REF!),NA()),NA())","v":{"$error":"#REF!"}},{"$f":"IF(#REF!=$E$1,IF(#REF!=$G$1,IF(#REF!=\"\",NA(),#REF!),NA()),NA())","v":{"$error":"#REF!"}},{"$error":"#REF!"},{"$error":"#REF!"}]
[null,null,null,{"$f":"IF(#REF!=$E$1,IF(#REF!=$G$1,#REF!,NA()),NA())","v":{"$error":"#REF!"}},{"$f":"IF(#REF!=$E$1,IF(#REF!=$G$1,#REF!,NA()),NA())","v":{"$error":"#REF!"}},{"$f":"IF(#REF!=$E$1,IF(#REF!=$G$1,IF(#REF!=\"\",NA(),#REF!),NA()),NA())","v":{"$error":"#REF!"}},{"$f":"IF(#REF!=$E$1,IF(#REF!=$G$1,IF(#REF!=\"\",NA(),#REF!),NA()),NA())","v":{"$error":"#REF!"}},{"$error":"#REF!"},{"$error":"#REF!"}]
[null,null,null,{"$f":"IF(#REF!=$E$1,IF(#REF!=$G$1,#REF!,NA()),NA())","v":{"$error":"#REF!"}},{"$f":"IF(#REF!=$E$1,IF(#REF!=$G$1,#REF!,NA()),NA())","v":{"$error":"#REF!"}},{"$f":"IF(#REF!=$E$1,IF(#REF!=$G$1,IF(#REF!=\"\",NA(),#REF!),NA()),NA())","v":{"$error":"#REF!"}},{"$f":"IF(#REF!=$E$1,IF(#REF!=$G$1,IF(#REF!=\"\",NA(),#REF!),NA()),NA())","v":{"$error":"#REF!"}},{"$error":"#REF!"},{"$error":"#REF!"}]
[null,null,null,{"$f":"IF(#REF!=$E$1,IF(#REF!=$G$1,#REF!,NA()),NA())","v":{"$error":"#REF!"}},{"$f":"IF(#REF!=$E$1,IF(#REF!=$G$1,#REF!,NA()),NA())","v":{"$error":"#REF!"}},{"$f":"IF(#REF!=$E$1,IF(#REF!=$G$1,IF(#REF!=\"\",NA(),#REF!),NA()),NA())","v":{"$error":"#REF!"}},{"$f":"IF(#REF!=$E$1,IF(#REF!=$G$1,IF(#REF!=\"\",NA(),#REF!),NA()),NA())","v":{"$error":"#REF!"}},{"$error":"#REF!"},{"$error":"#REF!"}]
[null,null,null,{"$f":"IF(#REF!=$E$1,IF(#REF!=$G$1,#REF!,NA()),NA())","v":{"$error":"#REF!"}},{"$f":"IF(#REF!=$E$1,IF(#REF!=$G$1,#REF!,NA()),NA())","v":{"$error":"#REF!"}},{"$f":"IF(#REF!=$E$1,IF(#REF!=$G$1,IF(#REF!=\"\",NA(),#REF!),NA()),NA())","v":{"$error":"#REF!"}},{"$f":"IF(#REF!=$E$1,IF(#REF!=$G$1,IF(#REF!=\"\",NA(),#REF!),NA()),NA())","v":{"$error":"#REF!"}},{"$error":"#REF!"},{"$error":"#REF!"}]
[null,null,null,{"$f":"IF(#REF!=$E$1,IF(#REF!=$G$1,#REF!,NA()),NA())","v":{"$error":"#REF!"}},{"$f":"IF(#REF!=$E$1,IF(#REF!=$G$1,#REF!,NA()),NA())","v":{"$error":"#REF!"}},{"$f":"IF(#REF!=$E$1,IF(#REF!=$G$1,IF(#REF!=\"\",NA(),#REF!),NA()),NA())","v":{"$error":"#REF!"}},{"$f":"IF(#REF!=$E$1,IF(#REF!=$G$1,IF(#REF!=\"\",NA(),#REF!),NA()),NA())","v":{"$error":"#REF!"}},{"$error":"#REF!"},{"$error":"#REF!"}]
[null,null,null,{"$f":"IF(#REF!=$E$1,IF(#REF!=$G$1,#REF!,NA()),NA())","v":{"$error":"#REF!"}},{"$f":"IF(#REF!=$E$1,IF(#REF!=$G$1,#REF!,NA()),NA())","v":{"$error":"#REF!"}},{"$f":"IF(#REF!=$E$1,IF(#REF!=$G$1,IF(#REF!=\"\",NA(),#REF!),NA()),NA())","v":{"$error":"#REF!"}},{"$f":"IF(#REF!=$E$1,IF(#REF!=$G$1,IF(#REF!=\"\",NA(),#REF!),NA()),NA())","v":{"$error":"#REF!"}},{"$error":"#REF!"},{"$error":"#REF!"}]
[null,null,null,{"$f":"IF(#REF!=$E$1,IF(#REF!=$G$1,#REF!,NA()),NA())","v":{"$error":"#REF!"}},{"$f":"IF(#REF!=$E$1,IF(#REF!=$G$1,#REF!,NA()),NA())","v":{"$error":"#REF!"}},{"$f":"IF(#REF!=$E$1,IF(#REF!=$G$1,IF(#REF!=\"\",NA(),#REF!),NA()),NA())","v":{"$error":"#REF!"}},{"$f":"IF(#REF!=$E$1,IF(#REF!=$G$1,IF(#REF!=\"\",NA(),#REF!),NA()),NA())","v":{"$error":"#REF!"}},{"$error":"#REF!"},{"$error":"#REF!"}]
[null,null,null,{"$f":"IF(#REF!=$E$1,IF(#REF!=$G$1,#REF!,NA()),NA())","v":{"$error":"#REF!"}},{"$f":"IF(#REF!=$E$1,IF(#REF!=$G$1,#REF!,NA()),NA())","v":{"$error":"#REF!"}},{"$f":"IF(#REF!=$E$1,IF(#REF!=$G$1,IF(#REF!=\"\",NA(),#REF!),NA()),NA())","v":{"$error":"#REF!"}},{"$f":"IF(#REF!=$E$1,IF(#REF!=$G$1,IF(#REF!=\"\",NA(),#REF!),NA()),NA())","v":{"$error":"#REF!"}},{"$error":"#REF!"},{"$error":"#REF!"}]
[null,null,null,{"$f":"IF(#REF!=$E$1,IF(#REF!=$G$1,#REF!,NA()),NA())","v":{"$error":"#REF!"}},{"$f":"IF(#REF!=$E$1,IF(#REF!=$G$1,#REF!,NA()),NA())","v":{"$error":"#REF!"}},{"$f":"IF(#REF!=$E$1,IF(#REF!=$G$1,IF(#REF!=\"\",NA(),#REF!),NA()),NA())","v":{"$error":"#REF!"}},{"$f":"IF(#REF!=$E$1,IF(#REF!=$G$1,IF(#REF!=\"\",NA(),#REF!),NA()),NA())","v":{"$error":"#REF!"}},{"$error":"#REF!"},{"$error":"#REF!"}]
[null,null,null,{"$f":"IF(#REF!=$E$1,IF(#REF!=$G$1,#REF!,NA()),NA())","v":{"$error":"#REF!"}},{"$f":"IF(#REF!=$E$1,IF(#REF!=$G$1,#REF!,NA()),NA())","v":{"$error":"#REF!"}},{"$f":"IF(#REF!=$E$1,IF(#REF!=$G$1,IF(#REF!=\"\",NA(),#REF!),NA()),NA())","v":{"$error":"#REF!"}},{"$f":"IF(#REF!=$E$1,IF(#REF!=$G$1,IF(#REF!=\"\",NA(),#REF!),NA()),NA())","v":{"$error":"#REF!"}},{"$error":"#REF!"},{"$error":"#REF!"}]
[null,null,null,{"$f":"IF(#REF!=$E$1,IF(#REF!=$G$1,#REF!,NA()),NA())","v":{"$error":"#REF!"}},{"$f":"IF(#REF!=$E$1,IF(#REF!=$G$1,#REF!,NA()),NA())","v":{"$error":"#REF!"}},{"$f":"IF(#REF!=$E$1,IF(#REF!=$G$1,IF(#REF!=\"\",NA(),#REF!),NA()),NA())","v":{"$error":"#REF!"}},{"$f":"IF(#REF!=$E$1,IF(#REF!=$G$1,IF(#REF!=\"\",NA(),#REF!),NA()),NA())","v":{"$error":"#REF!"}},{"$error":"#REF!"},{"$error":"#REF!"}]
[null,null,null,{"$f":"IF(#REF!=$E$1,IF(#REF!=$G$1,#REF!,NA()),NA())","v":{"$error":"#REF!"}},{"$f":"IF(#REF!=$E$1,IF(#REF!=$G$1,#REF!,NA()),NA())","v":{"$error":"#REF!"}},{"$f":"IF(#REF!=$E$1,IF(#REF!=$G$1,IF(#REF!=\"\",NA(),#REF!),NA()),NA())","v":{"$error":"#REF!"}},{"$f":"IF(#REF!=$E$1,IF(#REF!=$G$1,IF(#REF!=\"\",NA(),#REF!),NA()),NA())","v":{"$error":"#REF!"}},{"$error":"#REF!"},{"$error":"#REF!"}]
[null,null,null,{"$f":"IF(#REF!=$E$1,IF(#REF!=$G$1,#REF!,NA()),NA())","v":{"$error":"#REF!"}},{"$f":"IF(#REF!=$E$1,IF(#REF!=$G$1,#REF!,NA()),NA())","v":{"$error":"#REF!"}},{"$f":"IF(#REF!=$E$1,IF(#REF!=$G$1,IF(#REF!=\"\",NA(),#REF!),NA()),NA())","v":{"$error":"#REF!"}},{"$f":"IF(#REF!=$E$1,IF(#REF!=$G$1,IF(#REF!=\"\",NA(),#REF!),NA()),NA())","v":{"$error":"#REF!"}},{"$error":"#REF!"},{"$error":"#REF!"}]
[null,null,null,{"$f":"IF(#REF!=$E$1,IF(#REF!=$G$1,#REF!,NA()),NA())","v":{"$error":"#REF!"}},{"$f":"IF(#REF!=$E$1,IF(#REF!=$G$1,#REF!,NA()),NA())","v":{"$error":"#REF!"}},{"$f":"IF(#REF!=$E$1,IF(#REF!=$G$1,IF(#REF!=\"\",NA(),#REF!),NA()),NA())","v":{"$error":"#REF!"}},{"$f":"IF(#REF!=$E$1,IF(#REF!=$G$1,IF(#REF!=\"\",NA(),#REF!),NA()),NA())","v":{"$error":"#REF!"}},{"$error":"#REF!"},{"$error":"#REF!"}]
[null,null,null,{"$f":"IF(#REF!=$E$1,IF(#REF!=$G$1,#REF!,NA()),NA())","v":{"$error":"#REF!"}},{"$f":"IF(#REF!=$E$1,IF(#REF!=$G$1,#REF!,NA()),NA())","v":{"$error":"#REF!"}},{"$f":"IF(#REF!=$E$1,IF(#REF!=$G$1,IF(#REF!=\"\",NA(),#REF!),NA()),NA())","v":{"$error":"#REF!"}},{"$f":"IF(#REF!=$E$1,IF(#REF!=$G$1,IF(#REF!=\"\",NA(),#REF!),NA()),NA())","v":{"$error":"#REF!"}},{"$error":"#REF!"},{"$error":"#REF!"}]
[null,null,null,{"$f":"IF(#REF!=$E$1,IF(#REF!=$G$1,#REF!,NA()),NA())","v":{"$error":"#REF!"}},{"$f":"IF(#REF!=$E$1,IF(#REF!=$G$1,#REF!,NA()),NA())","v":{"$error":"#REF!"}},{"$f":"IF(#REF!=$E$1,IF(#REF!=$G$1,IF(#REF!=\"\",NA(),#REF!),NA()),NA())","v":{"$error":"#REF!"}},{"$f":"IF(#REF!=$E$1,IF(#REF!=$G$1,IF(#REF!=\"\",NA(),#REF!),NA()),NA())","v":{"$error":"#REF!"}},{"$error":"#REF!"},{"$error":"#REF!"}]
[null,null,null,{"$f":"IF(#REF!=$E$1,IF(#REF!=$G$1,#REF!,NA()),NA())","v":{"$error":"#REF!"}},{"$f":"IF(#REF!=$E$1,IF(#REF!=$G$1,#REF!,NA()),NA())","v":{"$error":"#REF!"}},{"$f":"IF(#REF!=$E$1,IF(#REF!=$G$1,IF(#REF!=\"\",NA(),#REF!),NA()),NA())","v":{"$error":"#REF!"}},{"$f":"IF(#REF!=$E$1,IF(#REF!=$G$1,IF(#REF!=\"\",NA(),#REF!),NA()),NA())","v":{"$error":"#REF!"}},{"$error":"#REF!"},{"$error":"#REF!"}]
[null,null,null,{"$f":"IF(#REF!=$E$1,IF(#REF!=$G$1,#REF!,NA()),NA())","v":{"$error":"#REF!"}},{"$f":"IF(#REF!=$E$1,IF(#REF!=$G$1,#REF!,NA()),NA())","v":{"$error":"#REF!"}},{"$f":"IF(#REF!=$E$1,IF(#REF!=$G$1,IF(#REF!=\"\",NA(),#REF!),NA()),NA())","v":{"$error":"#REF!"}},{"$f":"IF(#REF!=$E$1,IF(#REF!=$G$1,IF(#REF!=\"\",NA(),#REF!),NA()),NA())","v":{"$error":"#REF!"}},{"$error":"#REF!"},{"$error":"#REF!"}]
[null,null,null,{"$f":"IF(#REF!=$E$1,IF(#REF!=$G$1,#REF!,NA()),NA())","v":{"$error":"#REF!"}},{"$f":"IF(#REF!=$E$1,IF(#REF!=$G$1,#REF!,NA()),NA())","v":{"$error":"#REF!"}},{"$f":"IF(#REF!=$E$1,IF(#REF!=$G$1,IF(#REF!=\"\",NA(),#REF!),NA()),NA())","v":{"$error":"#REF!"}},{"$f":"IF(#REF!=$E$1,IF(#REF!=$G$1,IF(#REF!=\"\",NA(),#REF!),NA()),NA())","v":{"$error":"#REF!"}},{"$error":"#REF!"},{"$error":"#REF!"}]
[null,null,null,{"$f":"IF(#REF!=$E$1,IF(#REF!=$G$1,#REF!,NA()),NA())","v":{"$error":"#REF!"}},{"$f":"IF(#REF!=$E$1,IF(#REF!=$G$1,#REF!,NA()),NA())","v":{"$error":"#REF!"}},{"$f":"IF(#REF!=$E$1,IF(#REF!=$G$1,IF(#REF!=\"\",NA(),#REF!),NA()),NA())","v":{"$error":"#REF!"}},{"$f":"IF(#REF!=$E$1,IF(#REF!=$G$1,IF(#REF!=\"\",NA(),#REF!),NA()),NA())","v":{"$error":"#REF!"}},{"$error":"#REF!"},{"$error":"#REF!"}]
[null,null,null,{"$f":"IF(#REF!=$E$1,IF(#REF!=$G$1,#REF!,NA()),NA())","v":{"$error":"#REF!"}},{"$f":"IF(#REF!=$E$1,IF(#REF!=$G$1,#REF!,NA()),NA())","v":{"$error":"#REF!"}},{"$f":"IF(#REF!=$E$1,IF(#REF!=$G$1,IF(#REF!=\"\",NA(),#REF!),NA()),NA())","v":{"$error":"#REF!"}},{"$f":"IF(#REF!=$E$1,IF(#REF!=$G$1,IF(#REF!=\"\",NA(),#REF!),NA()),NA())","v":{"$error":"#REF!"}},{"$error":"#REF!"},{"$error":"#REF!"}]
[null,null,null,{"$f":"IF(#REF!=$E$1,IF(#REF!=$G$1,#REF!,NA()),NA())","v":{"$error":"#REF!"}},{"$f":"IF(#REF!=$E$1,IF(#REF!=$G$1,#REF!,NA()),NA())","v":{"$error":"#REF!"}},{"$f":"IF(#REF!=$E$1,IF(#REF!=$G$1,IF(#REF!=\"\",NA(),#REF!),NA()),NA())","v":{"$error":"#REF!"}},{"$f":"IF(#REF!=$E$1,IF(#REF!=$G$1,IF(#REF!=\"\",NA(),#REF!),NA()),NA())","v":{"$error":"#REF!"}},{"$error":"#REF!"},{"$error":"#REF!"}]
[null,null,null,{"$f":"IF(#REF!=$E$1,IF(#REF!=$G$1,#REF!,NA()),NA())","v":{"$error":"#REF!"}},{"$f":"IF(#REF!=$E$1,IF(#REF!=$G$1,#REF!,NA()),NA())","v":{"$error":"#REF!"}},{"$f":"IF(#REF!=$E$1,IF(#REF!=$G$1,IF(#REF!=\"\",NA(),#REF!),NA()),NA())","v":{"$error":"#REF!"}},{"$f":"IF(#REF!=$E$1,IF(#REF!=$G$1,IF(#REF!=\"\",NA(),#REF!),NA()),NA())","v":{"$error":"#REF!"}},{"$error":"#REF!"},{"$error":"#REF!"}]
[null,null,null,{"$f":"IF(#REF!=$E$1,IF(#REF!=$G$1,#REF!,NA()),NA())","v":{"$error":"#REF!"}},{"$f":"IF(#REF!=$E$1,IF(#REF!=$G$1,#REF!,NA()),NA())","v":{"$error":"#REF!"}},{"$f":"IF(#REF!=$E$1,IF(#REF!=$G$1,IF(#REF!=\"\",NA(),#REF!),NA()),NA())","v":{"$error":"#REF!"}},{"$f":"IF(#REF!=$E$1,IF(#REF!=$G$1,IF(#REF!=\"\",NA(),#REF!),NA()),NA())","v":{"$error":"#REF!"}},{"$error":"#REF!"},{"$error":"#REF!"}]
[null,null,null,{"$f":"IF(#REF!=$E$1,IF(#REF!=$G$1,#REF!,NA()),NA())","v":{"$error":"#REF!"}},{"$f":"IF(#REF!=$E$1,IF(#REF!=$G$1,#REF!,NA()),NA())","v":{"$error":"#REF!"}},{"$f":"IF(#REF!=$E$1,IF(#REF!=$G$1,IF(#REF!=\"\",NA(),#REF!),NA()),NA())","v":{"$error":"#REF!"}},{"$f":"IF(#REF!=$E$1,IF(#REF!=$G$1,IF(#REF!=\"\",NA(),#REF!),NA()),NA())","v":{"$error":"#REF!"}},{"$error":"#REF!"},{"$error":"#REF!"}]
[null,null,null,{"$f":"IF(#REF!=$E$1,IF(#REF!=$G$1,#REF!,NA()),NA())","v":{"$error":"#REF!"}},{"$f":"IF(#REF!=$E$1,IF(#REF!=$G$1,#REF!,NA()),NA())","v":{"$error":"#REF!"}},{"$f":"IF(#REF!=$E$1,IF(#REF!=$G$1,IF(#REF!=\"\",NA(),#REF!),NA()),NA())","v":{"$error":"#REF!"}},{"$f":"IF(#REF!=$E$1,IF(#REF!=$G$1,IF(#REF!=\"\",NA(),#REF!),NA()),NA())","v":{"$error":"#REF!"}},{"$error":"#REF!"},{"$error":"#REF!"}]
[null,null,null,{"$f":"IF(#REF!=$E$1,IF(#REF!=$G$1,#REF!,NA()),NA())","v":{"$error":"#REF!"}},{"$f":"IF(#REF!=$E$1,IF(#REF!=$G$1,#REF!,NA()),NA())","v":{"$error":"#REF!"}},{"$f":"IF(#REF!=$E$1,IF(#REF!=$G$1,IF(#REF!=\"\",NA(),#REF!),NA()),NA())","v":{"$error":"#REF!"}},{"$f":"IF(#REF!=$E$1,IF(#REF!=$G$1,IF(#REF!=\"\",NA(),#REF!),NA()),NA())","v":{"$error":"#REF!"}},{"$error":"#REF!"},{"$error":"#REF!"}]
[null,null,null,{"$f":"IF(#REF!=$E$1,IF(#REF!=$G$1,#REF!,NA()),NA())","v":{"$error":"#REF!"}},{"$f":"IF(#REF!=$E$1,IF(#REF!=$G$1,#REF!,NA()),NA())","v":{"$error":"#REF!"}},{"$f":"IF(#REF!=$E$1,IF(#REF!=$G$1,IF(#REF!=\"\",NA(),#REF!),NA()),NA())","v":{"$error":"#REF!"}},{"$f":"IF(#REF!=$E$1,IF(#REF!=$G$1,IF(#REF!=\"\",NA(),#REF!),NA()),NA())","v":{"$error":"#REF!"}},{"$error":"#REF!"},{"$error":"#REF!"}]
[null,null,null,{"$f":"IF(#REF!=$E$1,IF(#REF!=$G$1,#REF!,NA()),NA())","v":{"$error":"#REF!"}},{"$f":"IF(#REF!=$E$1,IF(#REF!=$G$1,#REF!,NA()),NA())","v":{"$error":"#REF!"}},{"$f":"IF(#REF!=$E$1,IF(#REF!=$G$1,IF(#REF!=\"\",NA(),#REF!),NA()),NA())","v":{"$error":"#REF!"}},{"$f":"IF(#REF!=$E$1,IF(#REF!=$G$1,IF(#REF!=\"\",NA(),#REF!),NA()),NA())","v":{"$error":"#REF!"}},{"$error":"#REF!"},{"$error":"#REF!"}]
[null,null,null,{"$f":"IF(#REF!=$E$1,IF(#REF!=$G$1,#REF!,NA()),NA())","v":{"$error":"#REF!"}},{"$f":"IF(#REF!=$E$1,IF(#REF!=$G$1,#REF!,NA()),NA())","v":{"$error":"#REF!"}},{"$f":"IF(#REF!=$E$1,IF(#REF!=$G$1,IF(#REF!=\"\",NA(),#REF!),NA()),NA())","v":{"$error":"#REF!"}},{"$f":"IF(#REF!=$E$1,IF(#REF!=$G$1,IF(#REF!=\"\",NA(),#REF!),NA()),NA())","v":{"$error":"#REF!"}},{"$error":"#REF!"},{"$error":"#REF!"}]
[null,null,null,{"$f":"IF(#REF!=$E$1,IF(#REF!=$G$1,#REF!,NA()),NA())","v":{"$error":"#REF!"}},{"$f":"IF(#REF!=$E$1,IF(#REF!=$G$1,#REF!,NA()),NA())","v":{"$error":"#REF!"}},{"$f":"IF(#REF!=$E$1,IF(#REF!=$G$1,IF(#REF!=\"\",NA(),#REF!),NA()),NA())","v":{"$error":"#REF!"}},{"$f":"IF(#REF!=$E$1,IF(#REF!=$G$1,IF(#REF!=\"\",NA(),#REF!),NA()),NA())","v":{"$error":"#REF!"}},{"$error":"#REF!"},{"$error":"#REF!"}]
[null,null,null,{"$f":"IF(#REF!=$E$1,IF(#REF!=$G$1,#REF!,NA()),NA())","v":{"$error":"#REF!"}},{"$f":"IF(#REF!=$E$1,IF(#REF!=$G$1,#REF!,NA()),NA())","v":{"$error":"#REF!"}},{"$f":"IF(#REF!=$E$1,IF(#REF!=$G$1,IF(#REF!=\"\",NA(),#REF!),NA()),NA())","v":{"$error":"#REF!"}},{"$f":"IF(#REF!=$E$1,IF(#REF!=$G$1,IF(#REF!=\"\",NA(),#REF!),NA()),NA())","v":{"$error":"#REF!"}},{"$error":"#REF!"},{"$error":"#REF!"}]
[null,null,null,{"$f":"IF(#REF!=$E$1,IF(#REF!=$G$1,#REF!,NA()),NA())","v":{"$error":"#REF!"}},{"$f":"IF(#REF!=$E$1,IF(#REF!=$G$1,#REF!,NA()),NA())","v":{"$error":"#REF!"}},{"$f":"IF(#REF!=$E$1,IF(#REF!=$G$1,IF(#REF!=\"\",NA(),#REF!),NA()),NA())","v":{"$error":"#REF!"}},{"$f":"IF(#REF!=$E$1,IF(#REF!=$G$1,IF(#REF!=\"\",NA(),#REF!),NA()),NA())","v":{"$error":"#REF!"}},{"$error":"#REF!"},{"$error":"#REF!"}]
[null,null,null,{"$f":"IF(#REF!=$E$1,IF(#REF!=$G$1,#REF!,NA()),NA())","v":{"$error":"#REF!"}},{"$f":"IF(#REF!=$E$1,IF(#REF!=$G$1,#REF!,NA()),NA())","v":{"$error":"#REF!"}},{"$f":"IF(#REF!=$E$1,IF(#REF!=$G$1,IF(#REF!=\"\",NA(),#REF!),NA()),NA())","v":{"$error":"#REF!"}},{"$f":"IF(#REF!=$E$1,IF(#REF!=$G$1,IF(#REF!=\"\",NA(),#REF!),NA()),NA())","v":{"$error":"#REF!"}},{"$error":"#REF!"},{"$error":"#REF!"}]
[null,null,null,{"$f":"IF(#REF!=$E$1,IF(#REF!=$G$1,#REF!,NA()),NA())","v":{"$error":"#REF!"}},{"$f":"IF(#REF!=$E$1,IF(#REF!=$G$1,#REF!,NA()),NA())","v":{"$error":"#REF!"}},{"$f":"IF(#REF!=$E$1,IF(#REF!=$G$1,IF(#REF!=\"\",NA(),#REF!),NA()),NA())","v":{"$error":"#REF!"}},{"$f":"IF(#REF!=$E$1,IF(#REF!=$G$1,IF(#REF!=\"\",NA(),#REF!),NA()),NA())","v":{"$error":"#REF!"}},{"$error":"#REF!"},{"$error":"#REF!"}]
[null,null,null,{"$f":"IF(#REF!=$E$1,IF(#REF!=$G$1,#REF!,NA()),NA())","v":{"$error":"#REF!"}},{"$f":"IF(#REF!=$E$1,IF(#REF!=$G$1,#REF!,NA()),NA())","v":{"$error":"#REF!"}},{"$f":"IF(#REF!=$E$1,IF(#REF!=$G$1,IF(#REF!=\"\",NA(),#REF!),NA()),NA())","v":{"$error":"#REF!"}},{"$f":"IF(#REF!=$E$1,IF(#REF!=$G$1,IF(#REF!=\"\",NA(),#REF!),NA()),NA())","v":{"$error":"#REF!"}},{"$error":"#REF!"},{"$error":"#REF!"}]
[null,null,null,{"$f":"IF(#REF!=$E$1,IF(#REF!=$G$1,#REF!,NA()),NA())","v":{"$error":"#REF!"}},{"$f":"IF(#REF!=$E$1,IF(#REF!=$G$1,#REF!,NA()),NA())","v":{"$error":"#REF!"}},{"$f":"IF(#REF!=$E$1,IF(#REF!=$G$1,IF(#REF!=\"\",NA(),#REF!),NA()),NA())","v":{"$error":"#REF!"}},{"$f":"IF(#REF!=$E$1,IF(#REF!=$G$1,IF(#REF!=\"\",NA(),#REF!),NA()),NA())","v":{"$error":"#REF!"}},{"$error":"#REF!"},{"$error":"#REF!"}]
[null,null,null,{"$f":"IF(#REF!=$E$1,IF(#REF!=$G$1,#REF!,NA()),NA())","v":{"$error":"#REF!"}},{"$f":"IF(#REF!=$E$1,IF(#REF!=$G$1,#REF!,NA()),NA())","v":{"$error":"#REF!"}},{"$f":"IF(#REF!=$E$1,IF(#REF!=$G$1,IF(#REF!=\"\",NA(),#REF!),NA()),NA())","v":{"$error":"#REF!"}},{"$f":"IF(#REF!=$E$1,IF(#REF!=$G$1,IF(#REF!=\"\",NA(),#REF!),NA()),NA())","v":{"$error":"#REF!"}},{"$error":"#REF!"},{"$error":"#REF!"}]
[null,null,null,{"$f":"IF(#REF!=$E$1,IF(#REF!=$G$1,#REF!,NA()),NA())","v":{"$error":"#REF!"}},{"$f":"IF(#REF!=$E$1,IF(#REF!=$G$1,#REF!,NA()),NA())","v":{"$error":"#REF!"}},{"$f":"IF(#REF!=$E$1,IF(#REF!=$G$1,IF(#REF!=\"\",NA(),#REF!),NA()),NA())","v":{"$error":"#REF!"}},{"$f":"IF(#REF!=$E$1,IF(#REF!=$G$1,IF(#REF!=\"\",NA(),#REF!),NA()),NA())","v":{"$error":"#REF!"}},{"$error":"#REF!"},{"$error":"#REF!"}]
[null,null,null,{"$f":"IF(#REF!=$E$1,IF(#REF!=$G$1,#REF!,NA()),NA())","v":{"$error":"#REF!"}},{"$f":"IF(#REF!=$E$1,IF(#REF!=$G$1,#REF!,NA()),NA())","v":{"$error":"#REF!"}},{"$f":"IF(#REF!=$E$1,IF(#REF!=$G$1,IF(#REF!=\"\",NA(),#REF!),NA()),NA())","v":{"$error":"#REF!"}},{"$f":"IF(#REF!=$E$1,IF(#REF!=$G$1,IF(#REF!=\"\",NA(),#REF!),NA()),NA())","v":{"$error":"#REF!"}},{"$error":"#REF!"},{"$error":"#REF!"}]
[null,null,null,{"$f":"IF(#REF!=$E$1,IF(#REF!=$G$1,#REF!,NA()),NA())","v":{"$error":"#REF!"}},{"$f":"IF(#REF!=$E$1,IF(#REF!=$G$1,#REF!,NA()),NA())","v":{"$error":"#REF!"}},{"$f":"IF(#REF!=$E$1,IF(#REF!=$G$1,IF(#REF!=\"\",NA(),#REF!),NA()),NA())","v":{"$error":"#REF!"}},{"$f":"IF(#REF!=$E$1,IF(#REF!=$G$1,IF(#REF!=\"\",NA(),#REF!),NA()),NA())","v":{"$error":"#REF!"}},{"$error":"#REF!"},{"$error":"#REF!"}]
[null,null,null,{"$f":"IF(#REF!=$E$1,IF(#REF!=$G$1,#REF!,NA()),NA())","v":{"$error":"#REF!"}},{"$f":"IF(#REF!=$E$1,IF(#REF!=$G$1,#REF!,NA()),NA())","v":{"$error":"#REF!"}},{"$f":"IF(#REF!=$E$1,IF(#REF!=$G$1,IF(#REF!=\"\",NA(),#REF!),NA()),NA())","v":{"$error":"#REF!"}},{"$f":"IF(#REF!=$E$1,IF(#REF!=$G$1,IF(#REF!=\"\",NA(),#REF!),NA()),NA())","v":{"$error":"#REF!"}},{"$error":"#REF!"},{"$error":"#REF!"}]
[null,null,null,{"$f":"IF(#REF!=$E$1,IF(#REF!=$G$1,#REF!,NA()),NA())","v":{"$error":"#REF!"}},{"$f":"IF(#REF!=$E$1,IF(#REF!=$G$1,#REF!,NA()),NA())","v":{"$error":"#REF!"}},{"$f":"IF(#REF!=$E$1,IF(#REF!=$G$1,IF(#REF!=\"\",NA(),#REF!),NA()),NA())","v":{"$error":"#REF!"}},{"$f":"IF(#REF!=$E$1,IF(#REF!=$G$1,IF(#REF!=\"\",NA(),#REF!),NA()),NA())","v":{"$error":"#REF!"}},{"$error":"#REF!"},{"$error":"#REF!"}]
[null,null,null,{"$f":"IF(#REF!=$E$1,IF(#REF!=$G$1,#REF!,NA()),NA())","v":{"$error":"#REF!"}},{"$f":"IF(#REF!=$E$1,IF(#REF!=$G$1,#REF!,NA()),NA())","v":{"$error":"#REF!"}},{"$f":"IF(#REF!=$E$1,IF(#REF!=$G$1,IF(#REF!=\"\",NA(),#REF!),NA()),NA())","v":{"$error":"#REF!"}},{"$f":"IF(#REF!=$E$1,IF(#REF!=$G$1,IF(#REF!=\"\",NA(),#REF!),NA()),NA())","v":{"$error":"#REF!"}},{"$error":"#REF!"},{"$error":"#REF!"}]
[null,null,null,{"$f":"IF(#REF!=$E$1,IF(#REF!=$G$1,#REF!,NA()),NA())","v":{"$error":"#REF!"}},{"$f":"IF(#REF!=$E$1,IF(#REF!=$G$1,#REF!,NA()),NA())","v":{"$error":"#REF!"}},{"$f":"IF(#REF!=$E$1,IF(#REF!=$G$1,IF(#REF!=\"\",NA(),#REF!),NA()),NA())","v":{"$error":"#REF!"}},{"$f":"IF(#REF!=$E$1,IF(#REF!=$G$1,IF(#REF!=\"\",NA(),#REF!),NA()),NA())","v":{"$error":"#REF!"}},{"$error":"#REF!"},{"$error":"#REF!"}]
[null,null,null,{"$f":"IF(#REF!=$E$1,IF(#REF!=$G$1,#REF!,NA()),NA())","v":{"$error":"#REF!"}},{"$f":"IF(#REF!=$E$1,IF(#REF!=$G$1,#REF!,NA()),NA())","v":{"$error":"#REF!"}},{"$f":"IF(#REF!=$E$1,IF(#REF!=$G$1,IF(#REF!=\"\",NA(),#REF!),NA()),NA())","v":{"$error":"#REF!"}},{"$f":"IF(#REF!=$E$1,IF(#REF!=$G$1,IF(#REF!=\"\",NA(),#REF!),NA()),NA())","v":{"$error":"#REF!"}},{"$error":"#REF!"},{"$error":"#REF!"}]
[null,null,null,{"$f":"IF(#REF!=$E$1,IF(#REF!=$G$1,#REF!,NA()),NA())","v":{"$error":"#REF!"}},{"$f":"IF(#REF!=$E$1,IF(#REF!=$G$1,#REF!,NA()),NA())","v":{"$error":"#REF!"}},{"$f":"IF(#REF!=$E$1,IF(#REF!=$G$1,IF(#REF!=\"\",NA(),#REF!),NA()),NA())","v":{"$error":"#REF!"}},{"$f":"IF(#REF!=$E$1,IF(#REF!=$G$1,IF(#REF!=\"\",NA(),#REF!),NA()),NA())","v":{"$error":"#REF!"}},{"$error":"#REF!"},{"$error":"#REF!"}]
[null,null,null,{"$f":"IF(#REF!=$E$1,IF(#REF!=$G$1,#REF!,NA()),NA())","v":{"$error":"#REF!"}},{"$f":"IF(#REF!=$E$1,IF(#REF!=$G$1,#REF!,NA()),NA())","v":{"$error":"#REF!"}},{"$f":"IF(#REF!=$E$1,IF(#REF!=$G$1,IF(#REF!=\"\",NA(),#REF!),NA()),NA())","v":{"$error":"#REF!"}},{"$f":"IF(#REF!=$E$1,IF(#REF!=$G$1,IF(#REF!=\"\",NA(),#REF!),NA()),NA())","v":{"$error":"#REF!"}},{"$error":"#REF!"},{"$error":"#REF!"}]
[null,null,null,{"$f":"IF(#REF!=$E$1,IF(#REF!=$G$1,#REF!,NA()),NA())","v":{"$error":"#REF!"}},{"$f":"IF(#REF!=$E$1,IF(#REF!=$G$1,#REF!,NA()),NA())","v":{"$error":"#REF!"}},{"$f":"IF(#REF!=$E$1,IF(#REF!=$G$1,IF(#REF!=\"\",NA(),#REF!),NA()),NA())","v":{"$error":"#REF!"}},{"$f":"IF(#REF!=$E$1,IF(#REF!=$G$1,IF(#REF!=\"\",NA(),#REF!),NA()),NA())","v":{"$error":"#REF!"}},{"$error":"#REF!"},{"$error":"#REF!"}]
[null,null,null,{"$f":"IF(#REF!=$E$1,IF(#REF!=$G$1,#REF!,NA()),NA())","v":{"$error":"#REF!"}},{"$f":"IF(#REF!=$E$1,IF(#REF!=$G$1,#REF!,NA()),NA())","v":{"$error":"#REF!"}},{"$f":"IF(#REF!=$E$1,IF(#REF!=$G$1,IF(#REF!=\"\",NA(),#REF!),NA()),NA())","v":{"$error":"#REF!"}},{"$f":"IF(#REF!=$E$1,IF(#REF!=$G$1,IF(#REF!=\"\",NA(),#REF!),NA()),NA())","v":{"$error":"#REF!"}},{"$error":"#REF!"},{"$error":"#REF!"}]
[null,null,null,{"$f":"IF(#REF!=$E$1,IF(#REF!=$G$1,#REF!,NA()),NA())","v":{"$error":"#REF!"}},{"$f":"IF(#REF!=$E$1,IF(#REF!=$G$1,#REF!,NA()),NA())","v":{"$error":"#REF!"}},{"$f":"IF(#REF!=$E$1,IF(#REF!=$G$1,IF(#REF!=\"\",NA(),#REF!),NA()),NA())","v":{"$error":"#REF!"}},{"$f":"IF(#REF!=$E$1,IF(#REF!=$G$1,IF(#REF!=\"\",NA(),#REF!),NA()),NA())","v":{"$error":"#REF!"}},{"$error":"#REF!"},{"$error":"#REF!"}]
[null,null,null,{"$f":"IF(#REF!=$E$1,IF(#REF!=$G$1,#REF!,NA()),NA())","v":{"$error":"#REF!"}},{"$f":"IF(#REF!=$E$1,IF(#REF!=$G$1,#REF!,NA()),NA())","v":{"$error":"#REF!"}},{"$f":"IF(#REF!=$E$1,IF(#REF!=$G$1,IF(#REF!=\"\",NA(),#REF!),NA()),NA())","v":{"$error":"#REF!"}},{"$f":"IF(#REF!=$E$1,IF(#REF!=$G$1,IF(#REF!=\"\",NA(),#REF!),NA()),NA())","v":{"$error":"#REF!"}},{"$error":"#REF!"},{"$error":"#REF!"}]
[null,null,null,{"$f":"IF(#REF!=$E$1,IF(#REF!=$G$1,#REF!,NA()),NA())","v":{"$error":"#REF!"}},{"$f":"IF(#REF!=$E$1,IF(#REF!=$G$1,#REF!,NA()),NA())","v":{"$error":"#REF!"}},{"$f":"IF(#REF!=$E$1,IF(#REF!=$G$1,IF(#REF!=\"\",NA(),#REF!),NA()),NA())","v":{"$error":"#REF!"}},{"$f":"IF(#REF!=$E$1,IF(#REF!=$G$1,IF(#REF!=\"\",NA(),#REF!),NA()),NA())","v":{"$error":"#REF!"}},{"$f":"IF(AND(ISNUMBER(G132),F132=\"-\"),0,F132)","v":{"$error":"#REF!"}},{"$f":"IF(AND(ISNUMBER(F132),G132=\"-\"),0,G132)","v":{"$error":"#REF!"}}]
[null,null,null,{"$f":"IF(#REF!=$E$1,IF(#REF!=$G$1,#REF!,NA()),NA())","v":{"$error":"#REF!"}},{"$f":"IF(#REF!=$E$1,IF(#REF!=$G$1,#REF!,NA()),NA())","v":{"$error":"#REF!"}},{"$f":"IF(#REF!=$E$1,IF(#REF!=$G$1,IF(#REF!=\"\",NA(),#REF!),NA()),NA())","v":{"$error":"#REF!"}},{"$f":"IF(#REF!=$E$1,IF(#REF!=$G$1,IF(#REF!=\"\",NA(),#REF!),NA()),NA())","v":{"$error":"#REF!"}},{"$error":"#REF!"},{"$error":"#REF!"}]
[null,null,null,{"$f":"IF(#REF!=$E$1,IF(#REF!=$G$1,#REF!,NA()),NA())","v":{"$error":"#REF!"}},{"$f":"IF(#REF!=$E$1,IF(#REF!=$G$1,#REF!,NA()),NA())","v":{"$error":"#REF!"}},{"$f":"IF(#REF!=$E$1,IF(#REF!=$G$1,IF(#REF!=\"\",NA(),#REF!),NA()),NA())","v":{"$error":"#REF!"}},{"$f":"IF(#REF!=$E$1,IF(#REF!=$G$1,IF(#REF!=\"\",NA(),#REF!),NA()),NA())","v":{"$error":"#REF!"}},{"$error":"#REF!"},{"$error":"#REF!"}]
[null,null,null,{"$f":"IF(#REF!=$E$1,IF(#REF!=$G$1,#REF!,NA()),NA())","v":{"$error":"#REF!"}},{"$f":"IF(#REF!=$E$1,IF(#REF!=$G$1,#REF!,NA()),NA())","v":{"$error":"#REF!"}},{"$f":"IF(#REF!=$E$1,IF(#REF!=$G$1,IF(#REF!=\"\",NA(),#REF!),NA()),NA())","v":{"$error":"#REF!"}},{"$f":"IF(#REF!=$E$1,IF(#REF!=$G$1,IF(#REF!=\"\",NA(),#REF!),NA()),NA())","v":{"$error":"#REF!"}},{"$error":"#REF!"},{"$error":"#REF!"}]
[null,null,null,{"$f":"IF(#REF!=$E$1,IF(#REF!=$G$1,#REF!,NA()),NA())","v":{"$error":"#REF!"}},{"$f":"IF(#REF!=$E$1,IF(#REF!=$G$1,#REF!,NA()),NA())","v":{"$error":"#REF!"}},{"$f":"IF(#REF!=$E$1,IF(#REF!=$G$1,IF(#REF!=\"\",NA(),#REF!),NA()),NA())","v":{"$error":"#REF!"}},{"$f":"IF(#REF!=$E$1,IF(#REF!=$G$1,IF(#REF!=\"\",NA(),#REF!),NA()),NA())","v":{"$error":"#REF!"}},{"$error":"#REF!"},{"$error":"#REF!"}]
[null,null,null,{"$f":"IF(#REF!=$E$1,IF(#REF!=$G$1,#REF!,NA()),NA())","v":{"$error":"#REF!"}},{"$f":"IF(#REF!=$E$1,IF(#REF!=$G$1,#REF!,NA()),NA())","v":{"$error":"#REF!"}},{"$f":"IF(#REF!=$E$1,IF(#REF!=$G$1,IF(#REF!=\"\",NA(),#REF!),NA()),NA())","v":{"$error":"#REF!"}},{"$f":"IF(#REF!=$E$1,IF(#REF!=$G$1,IF(#REF!=\"\",NA(),#REF!),NA()),NA())","v":{"$error":"#REF!"}},{"$error":"#REF!"},{"$error":"#REF!"}]
[null,null,null,{"$f":"IF(#REF!=$E$1,IF(#REF!=$G$1,#REF!,NA()),NA())","v":{"$error":"#REF!"}},{"$f":"IF(#REF!=$E$1,IF(#REF!=$G$1,#REF!,NA()),NA())","v":{"$error":"#REF!"}},{"$f":"IF(#REF!=$E$1,IF(#REF!=$G$1,IF(#REF!=\"\",NA(),#REF!),NA()),NA())","v":{"$error":"#REF!"}},{"$f":"IF(#REF!=$E$1,IF(#REF!=$G$1,IF(#REF!=\"\",NA(),#REF!),NA()),NA())","v":{"$error":"#REF!"}},{"$error":"#REF!"},{"$error":"#REF!"}]
[null,null,null,{"$f":"IF(#REF!=$E$1,IF(#REF!=$G$1,#REF!,NA()),NA())","v":{"$error":"#REF!"}},{"$f":"IF(#REF!=$E$1,IF(#REF!=$G$1,#REF!,NA()),NA())","v":{"$error":"#REF!"}},{"$f":"IF(#REF!=$E$1,IF(#REF!=$G$1,IF(#REF!=\"\",NA(),#REF!),NA()),NA())","v":{"$error":"#REF!"}},{"$f":"IF(#REF!=$E$1,IF(#REF!=$G$1,IF(#REF!=\"\",NA(),#REF!),NA()),NA())","v":{"$error":"#REF!"}},{"$error":"#REF!"},{"$error":"#REF!"}]
[null,null,null,{"$f":"IF(#REF!=$E$1,IF(#REF!=$G$1,#REF!,NA()),NA())","v":{"$error":"#REF!"}},{"$f":"IF(#REF!=$E$1,IF(#REF!=$G$1,#REF!,NA()),NA())","v":{"$error":"#REF!"}},{"$f":"IF(#REF!=$E$1,IF(#REF!=$G$1,IF(#REF!=\"\",NA(),#REF!),NA()),NA())","v":{"$error":"#REF!"}},{"$f":"IF(#REF!=$E$1,IF(#REF!=$G$1,IF(#REF!=\"\",NA(),#REF!),NA()),NA())","v":{"$error":"#REF!"}},{"$error":"#REF!"},{"$error":"#REF!"}]
[null,null,null,{"$f":"IF(#REF!=$E$1,IF(#REF!=$G$1,#REF!,NA()),NA())","v":{"$error":"#REF!"}},{"$f":"IF(#REF!=$E$1,IF(#REF!=$G$1,#REF!,NA()),NA())","v":{"$error":"#REF!"}},{"$f":"IF(#REF!=$E$1,IF(#REF!=$G$1,IF(#REF!=\"\",NA(),#REF!),NA()),NA())","v":{"$error":"#REF!"}},{"$f":"IF(#REF!=$E$1,IF(#REF!=$G$1,IF(#REF!=\"\",NA(),#REF!),NA()),NA())","v":{"$error":"#REF!"}},{"$error":"#REF!"},{"$error":"#REF!"}]
[null,null,null,{"$f":"IF(#REF!=$E$1,IF(#REF!=$G$1,#REF!,NA()),NA())","v":{"$error":"#REF!"}},{"$f":"IF(#REF!=$E$1,IF(#REF!=$G$1,#REF!,NA()),NA())","v":{"$error":"#REF!"}},{"$f":"IF(#REF!=$E$1,IF(#REF!=$G$1,IF(#REF!=\"\",NA(),#REF!),NA()),NA())","v":{"$error":"#REF!"}},{"$f":"IF(#REF!=$E$1,IF(#REF!=$G$1,IF(#REF!=\"\",NA(),#REF!),NA()),NA())","v":{"$error":"#REF!"}},{"$error":"#REF!"},{"$error":"#REF!"}]
[null,null,null,{"$f":"IF(#REF!=$E$1,IF(#REF!=$G$1,#REF!,NA()),NA())","v":{"$error":"#REF!"}},{"$f":"IF(#REF!=$E$1,IF(#REF!=$G$1,#REF!,NA()),NA())","v":{"$error":"#REF!"}},{"$f":"IF(#REF!=$E$1,IF(#REF!=$G$1,IF(#REF!=\"\",NA(),#REF!),NA()),NA())","v":{"$error":"#REF!"}},{"$f":"IF(#REF!=$E$1,IF(#REF!=$G$1,IF(#REF!=\"\",NA(),#REF!),NA()),NA())","v":{"$error":"#REF!"}},{"$error":"#REF!"},{"$error":"#REF!"}]
[null,null,null,{"$f":"IF(#REF!=$E$1,IF(#REF!=$G$1,#REF!,NA()),NA())","v":{"$error":"#REF!"}},{"$f":"IF(#REF!=$E$1,IF(#REF!=$G$1,#REF!,NA()),NA())","v":{"$error":"#REF!"}},{"$f":"IF(#REF!=$E$1,IF(#REF!=$G$1,IF(#REF!=\"\",NA(),#REF!),NA()),NA())","v":{"$error":"#REF!"}},{"$f":"IF(#REF!=$E$1,IF(#REF!=$G$1,IF(#REF!=\"\",NA(),#REF!),NA()),NA())","v":{"$error":"#REF!"}},{"$error":"#REF!"},{"$error":"#REF!"}]
[null,null,null,{"$f":"IF(#REF!=$E$1,IF(#REF!=$G$1,#REF!,NA()),NA())","v":{"$error":"#REF!"}},{"$f":"IF(#REF!=$E$1,IF(#REF!=$G$1,#REF!,NA()),NA())","v":{"$error":"#REF!"}},{"$f":"IF(#REF!=$E$1,IF(#REF!=$G$1,IF(#REF!=\"\",NA(),#REF!),NA()),NA())","v":{"$error":"#REF!"}},{"$f":"IF(#REF!=$E$1,IF(#REF!=$G$1,IF(#REF!=\"\",NA(),#REF!),NA()),NA())","v":{"$error":"#REF!"}},{"$error":"#REF!"},{"$error":"#REF!"}]
[null,null,null,{"$f":"IF(#REF!=$E$1,IF(#REF!=$G$1,#REF!,NA()),NA())","v":{"$error":"#REF!"}},{"$f":"IF(#REF!=$E$1,IF(#REF!=$G$1,#REF!,NA()),NA())","v":{"$error":"#REF!"}},{"$f":"IF(#REF!=$E$1,IF(#REF!=$G$1,IF(#REF!=\"\",NA(),#REF!),NA()),NA())","v":{"$error":"#REF!"}},{"$f":"IF(#REF!=$E$1,IF(#REF!=$G$1,IF(#REF!=\"\",NA(),#REF!),NA()),NA())","v":{"$error":"#REF!"}},{"$error":"#REF!"},{"$error":"#REF!"}]
[null,null,null,{"$f":"IF(#REF!=$E$1,IF(#REF!=$G$1,#REF!,NA()),NA())","v":{"$error":"#REF!"}},{"$f":"IF(#REF!=$E$1,IF(#REF!=$G$1,#REF!,NA()),NA())","v":{"$error":"#REF!"}},{"$f":"IF(#REF!=$E$1,IF(#REF!=$G$1,IF(#REF!=\"\",NA(),#REF!),NA()),NA())","v":{"$error":"#REF!"}},{"$f":"IF(#REF!=$E$1,IF(#REF!=$G$1,IF(#REF!=\"\",NA(),#REF!),NA()),NA())","v":{"$error":"#REF!"}},{"$error":"#REF!"},{"$error":"#REF!"}]
[null,null,null,{"$f":"IF(#REF!=$E$1,IF(#REF!=$G$1,#REF!,NA()),NA())","v":{"$error":"#REF!"}},{"$f":"IF(#REF!=$E$1,IF(#REF!=$G$1,#REF!,NA()),NA())","v":{"$error":"#REF!"}},{"$f":"IF(#REF!=$E$1,IF(#REF!=$G$1,IF(#REF!=\"\",NA(),#REF!),NA()),NA())","v":{"$error":"#REF!"}},{"$f":"IF(#REF!=$E$1,IF(#REF!=$G$1,IF(#REF!=\"\",NA(),#REF!),NA()),NA())","v":{"$error":"#REF!"}},{"$error":"#REF!"},{"$error":"#REF!"}]
[null,null,null,{"$f":"IF(#REF!=$E$1,IF(#REF!=$G$1,#REF!,NA()),NA())","v":{"$error":"#REF!"}},{"$f":"IF(#REF!=$E$1,IF(#REF!=$G$1,#REF!,NA()),NA())","v":{"$error":"#REF!"}},{"$f":"IF(#REF!=$E$1,IF(#REF!=$G$1,IF(#REF!=\"\",NA(),#REF!),NA()),NA())","v":{"$error":"#REF!"}},{"$f":"IF(#REF!=$E$1,IF(#REF!=$G$1,IF(#REF!=\"\",NA(),#REF!),NA()),NA())","v":{"$error":"#REF!"}},{"$error":"#REF!"},{"$error":"#REF!"}]
[null,null,null,{"$f":"IF(#REF!=$E$1,IF(#REF!=$G$1,#REF!,NA()),NA())","v":{"$error":"#REF!"}},{"$f":"IF(#REF!=$E$1,IF(#REF!=$G$1,#REF!,NA()),NA())","v":{"$error":"#REF!"}},{"$f":"IF(#REF!=$E$1,IF(#REF!=$G$1,IF(#REF!=\"\",NA(),#REF!),NA()),NA())","v":{"$error":"#REF!"}},{"$f":"IF(#REF!=$E$1,IF(#REF!=$G$1,IF(#REF!=\"\",NA(),#REF!),NA()),NA())","v":{"$error":"#REF!"}},{"$error":"#REF!"},{"$error":"#REF!"}]
[null,null,null,{"$f":"IF(#REF!=$E$1,IF(#REF!=$G$1,#REF!,NA()),NA())","v":{"$error":"#REF!"}},{"$f":"IF(#REF!=$E$1,IF(#REF!=$G$1,#REF!,NA()),NA())","v":{"$error":"#REF!"}},{"$f":"IF(#REF!=$E$1,IF(#REF!=$G$1,IF(#REF!=\"\",NA(),#REF!),NA()),NA())","v":{"$error":"#REF!"}},{"$f":"IF(#REF!=$E$1,IF(#REF!=$G$1,IF(#REF!=\"\",NA(),#REF!),NA()),NA())","v":{"$error":"#REF!"}},{"$error":"#REF!"},{"$error":"#REF!"}]
[null,null,null,{"$f":"IF(#REF!=$E$1,IF(#REF!=$G$1,#REF!,NA()),NA())","v":{"$error":"#REF!"}},{"$f":"IF(#REF!=$E$1,IF(#REF!=$G$1,#REF!,NA()),NA())","v":{"$error":"#REF!"}},{"$f":"IF(#REF!=$E$1,IF(#REF!=$G$1,IF(#REF!=\"\",NA(),#REF!),NA()),NA())","v":{"$error":"#REF!"}},{"$f":"IF(#REF!=$E$1,IF(#REF!=$G$1,IF(#REF!=\"\",NA(),#REF!),NA()),NA())","v":{"$error":"#REF!"}},{"$error":"#REF!"},{"$error":"#REF!"}]
[null,null,null,{"$f":"IF(#REF!=$E$1,IF(#REF!=$G$1,#REF!,NA()),NA())","v":{"$error":"#REF!"}},{"$f":"IF(#REF!=$E$1,IF(#REF!=$G$1,#REF!,NA()),NA())","v":{"$error":"#REF!"}},{"$f":"IF(#REF!=$E$1,IF(#REF!=$G$1,IF(#REF!=\"\",NA(),#REF!),NA()),NA())","v":{"$error":"#REF!"}},{"$f":"IF(#REF!=$E$1,IF(#REF!=$G$1,IF(#REF!=\"\",NA(),#REF!),NA()),NA())","v":{"$error":"#REF!"}},{"$error":"#REF!"},{"$error":"#REF!"}]
[null,null,null,{"$f":"IF(#REF!=$E$1,IF(#REF!=$G$1,#REF!,NA()),NA())","v":{"$error":"#REF!"}},{"$f":"IF(#REF!=$E$1,IF(#REF!=$G$1,#REF!,NA()),NA())","v":{"$error":"#REF!"}},{"$f":"IF(#REF!=$E$1,IF(#REF!=$G$1,IF(#REF!=\"\",NA(),#REF!),NA()),NA())","v":{"$error":"#REF!"}},{"$f":"IF(#REF!=$E$1,IF(#REF!=$G$1,IF(#REF!=\"\",NA(),#REF!),NA()),NA())","v":{"$error":"#REF!"}},{"$error":"#REF!"},{"$error":"#REF!"}]
[null,null,null,{"$f":"IF(#REF!=$E$1,IF(#REF!=$G$1,#REF!,NA()),NA())","v":{"$error":"#REF!"}},{"$f":"IF(#REF!=$E$1,IF(#REF!=$G$1,#REF!,NA()),NA())","v":{"$error":"#REF!"}},{"$f":"IF(#REF!=$E$1,IF(#REF!=$G$1,IF(#REF!=\"\",NA(),#REF!),NA()),NA())","v":{"$error":"#REF!"}},{"$f":"IF(#REF!=$E$1,IF(#REF!=$G$1,IF(#REF!=\"\",NA(),#REF!),NA()),NA())","v":{"$error":"#REF!"}},{"$error":"#REF!"},{"$error":"#REF!"}]
[null,null,null,{"$f":"IF(#REF!=$E$1,IF(#REF!=$G$1,#REF!,NA()),NA())","v":{"$error":"#REF!"}},{"$f":"IF(#REF!=$E$1,IF(#REF!=$G$1,#REF!,NA()),NA())","v":{"$error":"#REF!"}},{"$f":"IF(#REF!=$E$1,IF(#REF!=$G$1,IF(#REF!=\"\",NA(),#REF!),NA()),NA())","v":{"$error":"#REF!"}},{"$f":"IF(#REF!=$E$1,IF(#REF!=$G$1,IF(#REF!=\"\",NA(),#REF!),NA()),NA())","v":{"$error":"#REF!"}},{"$error":"#REF!"},{"$error":"#REF!"}]
[null,null,null,{"$f":"IF(#REF!=$E$1,IF(#REF!=$G$1,#REF!,NA()),NA())","v":{"$error":"#REF!"}},{"$f":"IF(#REF!=$E$1,IF(#REF!=$G$1,#REF!,NA()),NA())","v":{"$error":"#REF!"}},{"$f":"IF(#REF!=$E$1,IF(#REF!=$G$1,IF(#REF!=\"\",NA(),#REF!),NA()),NA())","v":{"$error":"#REF!"}},{"$f":"IF(#REF!=$E$1,IF(#REF!=$G$1,IF(#REF!=\"\",NA(),#REF!),NA()),NA())","v":{"$error":"#REF!"}},{"$error":"#REF!"},{"$error":"#REF!"}]
[null,null,null,{"$f":"IF(#REF!=$E$1,IF(#REF!=$G$1,#REF!,NA()),NA())","v":{"$error":"#REF!"}},{"$f":"IF(#REF!=$E$1,IF(#REF!=$G$1,#REF!,NA()),NA())","v":{"$error":"#REF!"}},{"$f":"IF(#REF!=$E$1,IF(#REF!=$G$1,IF(#REF!=\"\",NA(),#REF!),NA()),NA())","v":{"$error":"#REF!"}},{"$f":"IF(#REF!=$E$1,IF(#REF!=$G$1,IF(#REF!=\"\",NA(),#REF!),NA()),NA())","v":{"$error":"#REF!"}},{"$error":"#REF!"},{"$error":"#REF!"}]
[null,null,null,{"$f":"IF(#REF!=$E$1,IF(#REF!=$G$1,#REF!,NA()),NA())","v":{"$error":"#REF!"}},{"$f":"IF(#REF!=$E$1,IF(#REF!=$G$1,#REF!,NA()),NA())","v":{"$error":"#REF!"}},{"$f":"IF(#REF!=$E$1,IF(#REF!=$G$1,IF(#REF!=\"\",NA(),#REF!),NA()),NA())","v":{"$error":"#REF!"}},{"$f":"IF(#REF!=$E$1,IF(#REF!=$G$1,IF(#REF!=\"\",NA(),#REF!),NA()),NA())","v":{"$error":"#REF!"}},{"$error":"#REF!"},{"$error":"#REF!"}]
[null,null,null,{"$f":"IF(#REF!=$E$1,IF(#REF!=$G$1,#REF!,NA()),NA())","v":{"$error":"#REF!"}},{"$f":"IF(#REF!=$E$1,IF(#REF!=$G$1,#REF!,NA()),NA())","v":{"$error":"#REF!"}},{"$f":"IF(#REF!=$E$1,IF(#REF!=$G$1,IF(#REF!=\"\",NA(),#REF!),NA()),NA())","v":{"$error":"#REF!"}},{"$f":"IF(#REF!=$E$1,IF(#REF!=$G$1,IF(#REF!=\"\",NA(),#REF!),NA()),NA())","v":{"$error":"#REF!"}},{"$error":"#REF!"},{"$error":"#REF!"}]
[null,null,null,{"$f":"IF(#REF!=$E$1,IF(#REF!=$G$1,#REF!,NA()),NA())","v":{"$error":"#REF!"}},{"$f":"IF(#REF!=$E$1,IF(#REF!=$G$1,#REF!,NA()),NA())","v":{"$error":"#REF!"}},{"$f":"IF(#REF!=$E$1,IF(#REF!=$G$1,IF(#REF!=\"\",NA(),#REF!),NA()),NA())","v":{"$error":"#REF!"}},{"$f":"IF(#REF!=$E$1,IF(#REF!=$G$1,IF(#REF!=\"\",NA(),#REF!),NA()),NA())","v":{"$error":"#REF!"}},{"$error":"#REF!"},{"$error":"#REF!"}]
[null,null,null,{"$f":"IF(#REF!=$E$1,IF(#REF!=$G$1,#REF!,NA()),NA())","v":{"$error":"#REF!"}},{"$f":"IF(#REF!=$E$1,IF(#REF!=$G$1,#REF!,NA()),NA())","v":{"$error":"#REF!"}},{"$f":"IF(#REF!=$E$1,IF(#REF!=$G$1,IF(#REF!=\"\",NA(),#REF!),NA()),NA())","v":{"$error":"#REF!"}},{"$f":"IF(#REF!=$E$1,IF(#REF!=$G$1,IF(#REF!=\"\",NA(),#REF!),NA()),NA())","v":{"$error":"#REF!"}},{"$error":"#REF!"},{"$error":"#REF!"}]
[null,null,null,{"$f":"IF(#REF!=$E$1,IF(#REF!=$G$1,#REF!,NA()),NA())","v":{"$error":"#REF!"}},{"$f":"IF(#REF!=$E$1,IF(#REF!=$G$1,#REF!,NA()),NA())","v":{"$error":"#REF!"}},{"$f":"IF(#REF!=$E$1,IF(#REF!=$G$1,IF(#REF!=\"\",NA(),#REF!),NA()),NA())","v":{"$error":"#REF!"}},{"$f":"IF(#REF!=$E$1,IF(#REF!=$G$1,IF(#REF!=\"\",NA(),#REF!),NA()),NA())","v":{"$error":"#REF!"}},{"$error":"#REF!"},{"$error":"#REF!"}]
[null,null,null,{"$f":"IF(#REF!=$E$1,IF(#REF!=$G$1,#REF!,NA()),NA())","v":{"$error":"#REF!"}},{"$f":"IF(#REF!=$E$1,IF(#REF!=$G$1,#REF!,NA()),NA())","v":{"$error":"#REF!"}},{"$f":"IF(#REF!=$E$1,IF(#REF!=$G$1,IF(#REF!=\"\",NA(),#REF!),NA()),NA())","v":{"$error":"#REF!"}},{"$f":"IF(#REF!=$E$1,IF(#REF!=$G$1,IF(#REF!=\"\",NA(),#REF!),NA()),NA())","v":{"$error":"#REF!"}},{"$error":"#REF!"},{"$error":"#REF!"}]
[null,null,null,{"$f":"IF(#REF!=$E$1,IF(#REF!=$G$1,#REF!,NA()),NA())","v":{"$error":"#REF!"}},{"$f":"IF(#REF!=$E$1,IF(#REF!=$G$1,#REF!,NA()),NA())","v":{"$error":"#REF!"}},{"$f":"IF(#REF!=$E$1,IF(#REF!=$G$1,IF(#REF!=\"\",NA(),#REF!),NA()),NA())","v":{"$error":"#REF!"}},{"$f":"IF(#REF!=$E$1,IF(#REF!=$G$1,IF(#REF!=\"\",NA(),#REF!),NA()),NA())","v":{"$error":"#REF!"}},{"$error":"#REF!"},{"$error":"#REF!"}]
[null,null,null,{"$f":"IF(#REF!=$E$1,IF(#REF!=$G$1,#REF!,NA()),NA())","v":{"$error":"#REF!"}},{"$f":"IF(#REF!=$E$1,IF(#REF!=$G$1,#REF!,NA()),NA())","v":{"$error":"#REF!"}},{"$f":"IF(#REF!=$E$1,IF(#REF!=$G$1,IF(#REF!=\"\",NA(),#REF!),NA()),NA())","v":{"$error":"#REF!"}},{"$f":"IF(#REF!=$E$1,IF(#REF!=$G$1,IF(#REF!=\"\",NA(),#REF!),NA()),NA())","v":{"$error":"#REF!"}},{"$error":"#REF!"},{"$error":"#REF!"}]
[null,null,null,{"$f":"IF(#REF!=$E$1,IF(#REF!=$G$1,#REF!,NA()),NA())","v":{"$error":"#REF!"}},{"$f":"IF(#REF!=$E$1,IF(#REF!=$G$1,#REF!,NA()),NA())","v":{"$error":"#REF!"}},{"$f":"IF(#REF!=$E$1,IF(#REF!=$G$1,IF(#REF!=\"\",NA(),#REF!),NA()),NA())","v":{"$error":"#REF!"}},{"$f":"IF(#REF!=$E$1,IF(#REF!=$G$1,IF(#REF!=\"\",NA(),#REF!),NA()),NA())","v":{"$error":"#REF!"}},{"$error":"#REF!"},{"$error":"#REF!"}]
[null,null,null,{"$f":"IF(#REF!=$E$1,IF(#REF!=$G$1,#REF!,NA()),NA())","v":{"$error":"#REF!"}},{"$f":"IF(#REF!=$E$1,IF(#REF!=$G$1,#REF!,NA()),NA())","v":{"$error":"#REF!"}},{"$f":"IF(#REF!=$E$1,IF(#REF!=$G$1,IF(#REF!=\"\",NA(),#REF!),NA()),NA())","v":{"$error":"#REF!"}},{"$f":"IF(#REF!=$E$1,IF(#REF!=$G$1,IF(#REF!=\"\",NA(),#REF!),NA()),NA())","v":{"$error":"#REF!"}},{"$error":"#REF!"},{"$error":"#REF!"}]
[null,null,null,{"$f":"IF(#REF!=$E$1,IF(#REF!=$G$1,#REF!,NA()),NA())","v":{"$error":"#REF!"}},{"$f":"IF(#REF!=$E$1,IF(#REF!=$G$1,#REF!,NA()),NA())","v":{"$error":"#REF!"}},{"$f":"IF(#REF!=$E$1,IF(#REF!=$G$1,IF(#REF!=\"\",NA(),#REF!),NA()),NA())","v":{"$error":"#REF!"}},{"$f":"IF(#REF!=$E$1,IF(#REF!=$G$1,IF(#REF!=\"\",NA(),#REF!),NA()),NA())","v":{"$error":"#REF!"}},{"$error":"#REF!"},{"$error":"#REF!"}]
[null,null,null,{"$f":"IF(#REF!=$E$1,IF(#REF!=$G$1,#REF!,NA()),NA())","v":{"$error":"#REF!"}},{"$f":"IF(#REF!=$E$1,IF(#REF!=$G$1,#REF!,NA()),NA())","v":{"$error":"#REF!"}},{"$f":"IF(#REF!=$E$1,IF(#REF!=$G$1,IF(#REF!=\"\",NA(),#REF!),NA()),NA())","v":{"$error":"#REF!"}},{"$f":"IF(#REF!=$E$1,IF(#REF!=$G$1,IF(#REF!=\"\",NA(),#REF!),NA()),NA())","v":{"$error":"#REF!"}},{"$error":"#REF!"},{"$error":"#REF!"}]
[null,null,null,{"$f":"IF(#REF!=$E$1,IF(#REF!=$G$1,#REF!,NA()),NA())","v":{"$error":"#REF!"}},{"$f":"IF(#REF!=$E$1,IF(#REF!=$G$1,#REF!,NA()),NA())","v":{"$error":"#REF!"}},{"$f":"IF(#REF!=$E$1,IF(#REF!=$G$1,IF(#REF!=\"\",NA(),#REF!),NA()),NA())","v":{"$error":"#REF!"}},{"$f":"IF(#REF!=$E$1,IF(#REF!=$G$1,IF(#REF!=\"\",NA(),#REF!),NA()),NA())","v":{"$error":"#REF!"}},{"$error":"#REF!"},{"$error":"#REF!"}]
[null,null,null,{"$f":"IF(#REF!=$E$1,IF(#REF!=$G$1,#REF!,NA()),NA())","v":{"$error":"#REF!"}},{"$f":"IF(#REF!=$E$1,IF(#REF!=$G$1,#REF!,NA()),NA())","v":{"$error":"#REF!"}},{"$f":"IF(#REF!=$E$1,IF(#REF!=$G$1,IF(#REF!=\"\",NA(),#REF!),NA()),NA())","v":{"$error":"#REF!"}},{"$f":"IF(#REF!=$E$1,IF(#REF!=$G$1,IF(#REF!=\"\",NA(),#REF!),NA()),NA())","v":{"$error":"#REF!"}},{"$error":"#REF!"},{"$error":"#REF!"}]
[null,null,null,{"$f":"IF(#REF!=$E$1,IF(#REF!=$G$1,#REF!,NA()),NA())","v":{"$error":"#REF!"}},{"$f":"IF(#REF!=$E$1,IF(#REF!=$G$1,#REF!,NA()),NA())","v":{"$error":"#REF!"}},{"$f":"IF(#REF!=$E$1,IF(#REF!=$G$1,IF(#REF!=\"\",NA(),#REF!),NA()),NA())","v":{"$error":"#REF!"}},{"$f":"IF(#REF!=$E$1,IF(#REF!=$G$1,IF(#REF!=\"\",NA(),#REF!),NA()),NA())","v":{"$error":"#REF!"}},{"$error":"#REF!"},{"$error":"#REF!"}]
[null,null,null,{"$f":"IF(#REF!=$E$1,IF(#REF!=$G$1,#REF!,NA()),NA())","v":{"$error":"#REF!"}},{"$f":"IF(#REF!=$E$1,IF(#REF!=$G$1,#REF!,NA()),NA())","v":{"$error":"#REF!"}},{"$f":"IF(#REF!=$E$1,IF(#REF!=$G$1,IF(#REF!=\"\",NA(),#REF!),NA()),NA())","v":{"$error":"#REF!"}},{"$f":"IF(#REF!=$E$1,IF(#REF!=$G$1,IF(#REF!=\"\",NA(),#REF!),NA()),NA())","v":{"$error":"#REF!"}},{"$error":"#REF!"},{"$error":"#REF!"}]
[null,null,null,{"$f":"IF(#REF!=$E$1,IF(#REF!=$G$1,#REF!,NA()),NA())","v":{"$error":"#REF!"}},{"$f":"IF(#REF!=$E$1,IF(#REF!=$G$1,#REF!,NA()),NA())","v":{"$error":"#REF!"}},{"$f":"IF(#REF!=$E$1,IF(#REF!=$G$1,IF(#REF!=\"\",NA(),#REF!),NA()),NA())","v":{"$error":"#REF!"}},{"$f":"IF(#REF!=$E$1,IF(#REF!=$G$1,IF(#REF!=\"\",NA(),#REF!),NA()),NA())","v":{"$error":"#REF!"}},{"$error":"#REF!"},{"$error":"#REF!"}]
[null,null,null,{"$f":"IF(#REF!=$E$1,IF(#REF!=$G$1,#REF!,NA()),NA())","v":{"$error":"#REF!"}},{"$f":"IF(#REF!=$E$1,IF(#REF!=$G$1,#REF!,NA()),NA())","v":{"$error":"#REF!"}},{"$f":"IF(#REF!=$E$1,IF(#REF!=$G$1,IF(#REF!=\"\",NA(),#REF!),NA()),NA())","v":{"$error":"#REF!"}},{"$f":"IF(#REF!=$E$1,IF(#REF!=$G$1,IF(#REF!=\"\",NA(),#REF!),NA()),NA())","v":{"$error":"#REF!"}},{"$error":"#REF!"},{"$error":"#REF!"}]
[null,null,null,{"$f":"IF(#REF!=$E$1,IF(#REF!=$G$1,#REF!,NA()),NA())","v":{"$error":"#REF!"}},{"$f":"IF(#REF!=$E$1,IF(#REF!=$G$1,#REF!,NA()),NA())","v":{"$error":"#REF!"}},{"$f":"IF(#REF!=$E$1,IF(#REF!=$G$1,IF(#REF!=\"\",NA(),#REF!),NA()),NA())","v":{"$error":"#REF!"}},{"$f":"IF(#REF!=$E$1,IF(#REF!=$G$1,IF(#REF!=\"\",NA(),#REF!),NA()),NA())","v":{"$error":"#REF!"}},{"$error":"#REF!"},{"$error":"#REF!"}]
[null,null,null,{"$f":"IF(#REF!=$E$1,IF(#REF!=$G$1,#REF!,NA()),NA())","v":{"$error":"#REF!"}},{"$f":"IF(#REF!=$E$1,IF(#REF!=$G$1,#REF!,NA()),NA())","v":{"$error":"#REF!"}},{"$f":"IF(#REF!=$E$1,IF(#REF!=$G$1,IF(#REF!=\"\",NA(),#REF!),NA()),NA())","v":{"$error":"#REF!"}},{"$f":"IF(#REF!=$E$1,IF(#REF!=$G$1,IF(#REF!=\"\",NA(),#REF!),NA()),NA())","v":{"$error":"#REF!"}},{"$error":"#REF!"},{"$error":"#REF!"}]
[null,null,null,{"$f":"IF(#REF!=$E$1,IF(#REF!=$G$1,#REF!,NA()),NA())","v":{"$error":"#REF!"}},{"$f":"IF(#REF!=$E$1,IF(#REF!=$G$1,#REF!,NA()),NA())","v":{"$error":"#REF!"}},{"$f":"IF(#REF!=$E$1,IF(#REF!=$G$1,IF(#REF!=\"\",NA(),#REF!),NA()),NA())","v":{"$error":"#REF!"}},{"$f":"IF(#REF!=$E$1,IF(#REF!=$G$1,IF(#REF!=\"\",NA(),#REF!),NA()),NA())","v":{"$error":"#REF!"}},{"$error":"#REF!"},{"$error":"#REF!"}]
[null,null,null,{"$f":"IF(#REF!=$E$1,IF(#REF!=$G$1,#REF!,NA()),NA())","v":{"$error":"#REF!"}},{"$f":"IF(#REF!=$E$1,IF(#REF!=$G$1,#REF!,NA()),NA())","v":{"$error":"#REF!"}},{"$f":"IF(#REF!=$E$1,IF(#REF!=$G$1,IF(#REF!=\"\",NA(),#REF!),NA()),NA())","v":{"$error":"#REF!"}},{"$f":"IF(#REF!=$E$1,IF(#REF!=$G$1,IF(#REF!=\"\",NA(),#REF!),NA()),NA())","v":{"$error":"#REF!"}},{"$error":"#REF!"},{"$error":"#REF!"}]
[null,null,null,{"$f":"IF(#REF!=$E$1,IF(#REF!=$G$1,#REF!,NA()),NA())","v":{"$error":"#REF!"}},{"$f":"IF(#REF!=$E$1,IF(#REF!=$G$1,#REF!,NA()),NA())","v":{"$error":"#REF!"}},{"$f":"IF(#REF!=$E$1,IF(#REF!=$G$1,IF(#REF!=\"\",NA(),#REF!),NA()),NA())","v":{"$error":"#REF!"}},{"$f":"IF(#REF!=$E$1,IF(#REF!=$G$1,IF(#REF!=\"\",NA(),#REF!),NA()),NA())","v":{"$error":"#REF!"}},{"$error":"#REF!"},{"$error":"#REF!"}]
[null,null,null,{"$f":"IF(#REF!=$E$1,IF(#REF!=$G$1,#REF!,NA()),NA())","v":{"$error":"#REF!"}},{"$f":"IF(#REF!=$E$1,IF(#REF!=$G$1,#REF!,NA()),NA())","v":{"$error":"#REF!"}},{"$f":"IF(#REF!=$E$1,IF(#REF!=$G$1,IF(#REF!=\"\",NA(),#REF!),NA()),NA())","v":{"$error":"#REF!"}},{"$f":"IF(#REF!=$E$1,IF(#REF!=$G$1,IF(#REF!=\"\",NA(),#REF!),NA()),NA())","v":{"$error":"#REF!"}},{"$error":"#REF!"},{"$error":"#REF!"}]
[null,null,null,{"$f":"IF(#REF!=$E$1,IF(#REF!=$G$1,#REF!,NA()),NA())","v":{"$error":"#REF!"}},{"$f":"IF(#REF!=$E$1,IF(#REF!=$G$1,#REF!,NA()),NA())","v":{"$error":"#REF!"}},{"$f":"IF(#REF!=$E$1,IF(#REF!=$G$1,IF(#REF!=\"\",NA(),#REF!),NA()),NA())","v":{"$error":"#REF!"}},{"$f":"IF(#REF!=$E$1,IF(#REF!=$G$1,IF(#REF!=\"\",NA(),#REF!),NA()),NA())","v":{"$error":"#REF!"}},{"$error":"#REF!"},{"$error":"#REF!"}]
[null,null,null,{"$f":"IF(#REF!=$E$1,IF(#REF!=$G$1,#REF!,NA()),NA())","v":{"$error":"#REF!"}},{"$f":"IF(#REF!=$E$1,IF(#REF!=$G$1,#REF!,NA()),NA())","v":{"$error":"#REF!"}},{"$f":"IF(#REF!=$E$1,IF(#REF!=$G$1,IF(#REF!=\"\",NA(),#REF!),NA()),NA())","v":{"$error":"#REF!"}},{"$f":"IF(#REF!=$E$1,IF(#REF!=$G$1,IF(#REF!=\"\",NA(),#REF!),NA()),NA())","v":{"$error":"#REF!"}},{"$error":"#REF!"},{"$error":"#REF!"}]
[null,null,null,{"$f":"IF(#REF!=$E$1,IF(#REF!=$G$1,#REF!,NA()),NA())","v":{"$error":"#REF!"}},{"$f":"IF(#REF!=$E$1,IF(#REF!=$G$1,#REF!,NA()),NA())","v":{"$error":"#REF!"}},{"$f":"IF(#REF!=$E$1,IF(#REF!=$G$1,IF(#REF!=\"\",NA(),#REF!),NA()),NA())","v":{"$error":"#REF!"}},{"$f":"IF(#REF!=$E$1,IF(#REF!=$G$1,IF(#REF!=\"\",NA(),#REF!),NA()),NA())","v":{"$error":"#REF!"}},{"$error":"#REF!"},{"$error":"#REF!"}]
[null,null,null,{"$f":"IF(#REF!=$E$1,IF(#REF!=$G$1,#REF!,NA()),NA())","v":{"$error":"#REF!"}},{"$f":"IF(#REF!=$E$1,IF(#REF!=$G$1,#REF!,NA()),NA())","v":{"$error":"#REF!"}},{"$f":"IF(#REF!=$E$1,IF(#REF!=$G$1,IF(#REF!=\"\",NA(),#REF!),NA()),NA())","v":{"$error":"#REF!"}},{"$f":"IF(#REF!=$E$1,IF(#REF!=$G$1,IF(#REF!=\"\",NA(),#REF!),NA()),NA())","v":{"$error":"#REF!"}},{"$error":"#REF!"},{"$error":"#REF!"}]
[null,null,null,{"$f":"IF(#REF!=$E$1,IF(#REF!=$G$1,#REF!,NA()),NA())","v":{"$error":"#REF!"}},{"$f":"IF(#REF!=$E$1,IF(#REF!=$G$1,#REF!,NA()),NA())","v":{"$error":"#REF!"}},{"$f":"IF(#REF!=$E$1,IF(#REF!=$G$1,IF(#REF!=\"\",NA(),#REF!),NA()),NA())","v":{"$error":"#REF!"}},{"$f":"IF(#REF!=$E$1,IF(#REF!=$G$1,IF(#REF!=\"\",NA(),#REF!),NA()),NA())","v":{"$error":"#REF!"}},{"$error":"#REF!"},{"$error":"#REF!"}]
[null,null,null,{"$f":"IF(#REF!=$E$1,IF(#REF!=$G$1,#REF!,NA()),NA())","v":{"$error":"#REF!"}},{"$f":"IF(#REF!=$E$1,IF(#REF!=$G$1,#REF!,NA()),NA())","v":{"$error":"#REF!"}},{"$f":"IF(#REF!=$E$1,IF(#REF!=$G$1,IF(#REF!=\"\",NA(),#REF!),NA()),NA())","v":{"$error":"#REF!"}},{"$f":"IF(#REF!=$E$1,IF(#REF!=$G$1,IF(#REF!=\"\",NA(),#REF!),NA()),NA())","v":{"$error":"#REF!"}},{"$error":"#REF!"},{"$error":"#REF!"}]
[null,null,null,{"$f":"IF(#REF!=$E$1,IF(#REF!=$G$1,#REF!,NA()),NA())","v":{"$error":"#REF!"}},{"$f":"IF(#REF!=$E$1,IF(#REF!=$G$1,#REF!,NA()),NA())","v":{"$error":"#REF!"}},{"$f":"IF(#REF!=$E$1,IF(#REF!=$G$1,IF(#REF!=\"\",NA(),#REF!),NA()),NA())","v":{"$error":"#REF!"}},{"$f":"IF(#REF!=$E$1,IF(#REF!=$G$1,IF(#REF!=\"\",NA(),#REF!),NA()),NA())","v":{"$error":"#REF!"}},{"$error":"#REF!"},{"$error":"#REF!"}]
[null,null,null,{"$f":"IF(#REF!=$E$1,IF(#REF!=$G$1,#REF!,NA()),NA())","v":{"$error":"#REF!"}},{"$f":"IF(#REF!=$E$1,IF(#REF!=$G$1,#REF!,NA()),NA())","v":{"$error":"#REF!"}},{"$f":"IF(#REF!=$E$1,IF(#REF!=$G$1,IF(#REF!=\"\",NA(),#REF!),NA()),NA())","v":{"$error":"#REF!"}},{"$f":"IF(#REF!=$E$1,IF(#REF!=$G$1,IF(#REF!=\"\",NA(),#REF!),NA()),NA())","v":{"$error":"#REF!"}},{"$error":"#REF!"},{"$error":"#REF!"}]
[null,null,null,{"$f":"IF(#REF!=$E$1,IF(#REF!=$G$1,#REF!,NA()),NA())","v":{"$error":"#REF!"}},{"$f":"IF(#REF!=$E$1,IF(#REF!=$G$1,#REF!,NA()),NA())","v":{"$error":"#REF!"}},{"$f":"IF(#REF!=$E$1,IF(#REF!=$G$1,IF(#REF!=\"\",NA(),#REF!),NA()),NA())","v":{"$error":"#REF!"}},{"$f":"IF(#REF!=$E$1,IF(#REF!=$G$1,IF(#REF!=\"\",NA(),#REF!),NA()),NA())","v":{"$error":"#REF!"}},{"$error":"#REF!"},{"$error":"#REF!"}]
[null,null,null,{"$f":"IF(#REF!=$E$1,IF(#REF!=$G$1,#REF!,NA()),NA())","v":{"$error":"#REF!"}},{"$f":"IF(#REF!=$E$1,IF(#REF!=$G$1,#REF!,NA()),NA())","v":{"$error":"#REF!"}},{"$f":"IF(#REF!=$E$1,IF(#REF!=$G$1,IF(#REF!=\"\",NA(),#REF!),NA()),NA())","v":{"$error":"#REF!"}},{"$f":"IF(#REF!=$E$1,IF(#REF!=$G$1,IF(#REF!=\"\",NA(),#REF!),NA()),NA())","v":{"$error":"#REF!"}},{"$error":"#REF!"},{"$error":"#REF!"}]
[null,null,null,{"$f":"IF(#REF!=$E$1,IF(#REF!=$G$1,#REF!,NA()),NA())","v":{"$error":"#REF!"}},{"$f":"IF(#REF!=$E$1,IF(#REF!=$G$1,#REF!,NA()),NA())","v":{"$error":"#REF!"}},{"$f":"IF(#REF!=$E$1,IF(#REF!=$G$1,IF(#REF!=\"\",NA(),#REF!),NA()),NA())","v":{"$error":"#REF!"}},{"$f":"IF(#REF!=$E$1,IF(#REF!=$G$1,IF(#REF!=\"\",NA(),#REF!),NA()),NA())","v":{"$error":"#REF!"}},{"$error":"#REF!"},{"$error":"#REF!"}]
[null,null,null,{"$f":"IF(#REF!=$E$1,IF(#REF!=$G$1,#REF!,NA()),NA())","v":{"$error":"#REF!"}},{"$f":"IF(#REF!=$E$1,IF(#REF!=$G$1,#REF!,NA()),NA())","v":{"$error":"#REF!"}},{"$f":"IF(#REF!=$E$1,IF(#REF!=$G$1,IF(#REF!=\"\",NA(),#REF!),NA()),NA())","v":{"$error":"#REF!"}},{"$f":"IF(#REF!=$E$1,IF(#REF!=$G$1,IF(#REF!=\"\",NA(),#REF!),NA()),NA())","v":{"$error":"#REF!"}},{"$error":"#REF!"},{"$error":"#REF!"}]
[null,null,null,{"$f":"IF(#REF!=$E$1,IF(#REF!=$G$1,#REF!,NA()),NA())","v":{"$error":"#REF!"}},{"$f":"IF(#REF!=$E$1,IF(#REF!=$G$1,#REF!,NA()),NA())","v":{"$error":"#REF!"}},{"$f":"IF(#REF!=$E$1,IF(#REF!=$G$1,IF(#REF!=\"\",NA(),#REF!),NA()),NA())","v":{"$error":"#REF!"}},{"$f":"IF(#REF!=$E$1,IF(#REF!=$G$1,IF(#REF!=\"\",NA(),#REF!),NA()),NA())","v":{"$error":"#REF!"}},{"$error":"#REF!"},{"$error":"#REF!"}]
[null,null,null,{"$f":"IF(#REF!=$E$1,IF(#REF!=$G$1,#REF!,NA()),NA())","v":{"$error":"#REF!"}},{"$f":"IF(#REF!=$E$1,IF(#REF!=$G$1,#REF!,NA()),NA())","v":{"$error":"#REF!"}},{"$f":"IF(#REF!=$E$1,IF(#REF!=$G$1,IF(#REF!=\"\",NA(),#REF!),NA()),NA())","v":{"$error":"#REF!"}},{"$f":"IF(#REF!=$E$1,IF(#REF!=$G$1,IF(#REF!=\"\",NA(),#REF!),NA()),NA())","v":{"$error":"#REF!"}},{"$f":"IF(AND(ISNUMBER(G196),F196=\"-\"),0,F196)","v":{"$error":"#REF!"}},{"$f":"IF(AND(ISNUMBER(F196),G196=\"-\"),0,G196)","v":{"$error":"#REF!"}}]
[null,null,null,{"$f":"IF(#REF!=$E$1,IF(#REF!=$G$1,#REF!,NA()),NA())","v":{"$error":"#REF!"}},{"$f":"IF(#REF!=$E$1,IF(#REF!=$G$1,#REF!,NA()),NA())","v":{"$error":"#REF!"}},{"$f":"IF(#REF!=$E$1,IF(#REF!=$G$1,IF(#REF!=\"\",NA(),#REF!),NA()),NA())","v":{"$error":"#REF!"}},{"$f":"IF(#REF!=$E$1,IF(#REF!=$G$1,IF(#REF!=\"\",NA(),#REF!),NA()),NA())","v":{"$error":"#REF!"}},{"$error":"#REF!"},{"$error":"#REF!"}]
[null,null,null,{"$f":"IF(#REF!=$E$1,IF(#REF!=$G$1,#REF!,NA()),NA())","v":{"$error":"#REF!"}},{"$f":"IF(#REF!=$E$1,IF(#REF!=$G$1,#REF!,NA()),NA())","v":{"$error":"#REF!"}},{"$f":"IF(#REF!=$E$1,IF(#REF!=$G$1,IF(#REF!=\"\",NA(),#REF!),NA()),NA())","v":{"$error":"#REF!"}},{"$f":"IF(#REF!=$E$1,IF(#REF!=$G$1,IF(#REF!=\"\",NA(),#REF!),NA()),NA())","v":{"$error":"#REF!"}},{"$error":"#REF!"},{"$error":"#REF!"}]
[null,null,null,{"$f":"IF(#REF!=$E$1,IF(#REF!=$G$1,#REF!,NA()),NA())","v":{"$error":"#REF!"}},{"$f":"IF(#REF!=$E$1,IF(#REF!=$G$1,#REF!,NA()),NA())","v":{"$error":"#REF!"}},{"$f":"IF(#REF!=$E$1,IF(#REF!=$G$1,IF(#REF!=\"\",NA(),#REF!),NA()),NA())","v":{"$error":"#REF!"}},{"$f":"IF(#REF!=$E$1,IF(#REF!=$G$1,IF(#REF!=\"\",NA(),#REF!),NA()),NA())","v":{"$error":"#REF!"}},{"$error":"#REF!"},{"$error":"#REF!"}]
[null,null,null,{"$f":"IF(#REF!=$E$1,IF(#REF!=$G$1,#REF!,NA()),NA())","v":{"$error":"#REF!"}},{"$f":"IF(#REF!=$E$1,IF(#REF!=$G$1,#REF!,NA()),NA())","v":{"$error":"#REF!"}},{"$f":"IF(#REF!=$E$1,IF(#REF!=$G$1,IF(#REF!=\"\",NA(),#REF!),NA()),NA())","v":{"$error":"#REF!"}},{"$f":"IF(#REF!=$E$1,IF(#REF!=$G$1,IF(#REF!=\"\",NA(),#REF!),NA()),NA())","v":{"$error":"#REF!"}},{"$error":"#REF!"},{"$error":"#REF!"}]
[null,null,null,{"$f":"IF(#REF!=$E$1,IF(#REF!=$G$1,#REF!,NA()),NA())","v":{"$error":"#REF!"}},{"$f":"IF(#REF!=$E$1,IF(#REF!=$G$1,#REF!,NA()),NA())","v":{"$error":"#REF!"}},{"$f":"IF(#REF!=$E$1,IF(#REF!=$G$1,IF(#REF!=\"\",NA(),#REF!),NA()),NA())","v":{"$error":"#REF!"}},{"$f":"IF(#REF!=$E$1,IF(#REF!=$G$1,IF(#REF!=\"\",NA(),#REF!),NA()),NA())","v":{"$error":"#REF!"}},{"$error":"#REF!"},{"$error":"#REF!"}]
[null,null,null,{"$f":"IF(#REF!=$E$1,IF(#REF!=$G$1,#REF!,NA()),NA())","v":{"$error":"#REF!"}},{"$f":"IF(#REF!=$E$1,IF(#REF!=$G$1,#REF!,NA()),NA())","v":{"$error":"#REF!"}},{"$f":"IF(#REF!=$E$1,IF(#REF!=$G$1,IF(#REF!=\"\",NA(),#REF!),NA()),NA())","v":{"$error":"#REF!"}},{"$f":"IF(#REF!=$E$1,IF(#REF!=$G$1,IF(#REF!=\"\",NA(),#REF!),NA()),NA())","v":{"$error":"#REF!"}},{"$error":"#REF!"},{"$error":"#REF!"}]
[null,null,null,{"$f":"IF(#REF!=$E$1,IF(#REF!=$G$1,#REF!,NA()),NA())","v":{"$error":"#REF!"}},{"$f":"IF(#REF!=$E$1,IF(#REF!=$G$1,#REF!,NA()),NA())","v":{"$error":"#REF!"}},{"$f":"IF(#REF!=$E$1,IF(#REF!=$G$1,IF(#REF!=\"\",NA(),#REF!),NA()),NA())","v":{"$error":"#REF!"}},{"$f":"IF(#REF!=$E$1,IF(#REF!=$G$1,IF(#REF!=\"\",NA(),#REF!),NA()),NA())","v":{"$error":"#REF!"}},{"$error":"#REF!"},{"$error":"#REF!"}]
[null,null,null,{"$f":"IF(#REF!=$E$1,IF(#REF!=$G$1,#REF!,NA()),NA())","v":{"$error":"#REF!"}},{"$f":"IF(#REF!=$E$1,IF(#REF!=$G$1,#REF!,NA()),NA())","v":{"$error":"#REF!"}},{"$f":"IF(#REF!=$E$1,IF(#REF!=$G$1,IF(#REF!=\"\",NA(),#REF!),NA()),NA())","v":{"$error":"#REF!"}},{"$f":"IF(#REF!=$E$1,IF(#REF!=$G$1,IF(#REF!=\"\",NA(),#REF!),NA()),NA())","v":{"$error":"#REF!"}},{"$error":"#REF!"},{"$error":"#REF!"}]
[null,null,null,{"$f":"IF(#REF!=$E$1,IF(#REF!=$G$1,#REF!,NA()),NA())","v":{"$error":"#REF!"}},{"$f":"IF(#REF!=$E$1,IF(#REF!=$G$1,#REF!,NA()),NA())","v":{"$error":"#REF!"}},{"$f":"IF(#REF!=$E$1,IF(#REF!=$G$1,IF(#REF!=\"\",NA(),#REF!),NA()),NA())","v":{"$error":"#REF!"}},{"$f":"IF(#REF!=$E$1,IF(#REF!=$G$1,IF(#REF!=\"\",NA(),#REF!),NA()),NA())","v":{"$error":"#REF!"}},{"$error":"#REF!"},{"$error":"#REF!"}]
[null,null,null,{"$f":"IF(#REF!=$E$1,IF(#REF!=$G$1,#REF!,NA()),NA())","v":{"$error":"#REF!"}},{"$f":"IF(#REF!=$E$1,IF(#REF!=$G$1,#REF!,NA()),NA())","v":{"$error":"#REF!"}},{"$f":"IF(#REF!=$E$1,IF(#REF!=$G$1,IF(#REF!=\"\",NA(),#REF!),NA()),NA())","v":{"$error":"#REF!"}},{"$f":"IF(#REF!=$E$1,IF(#REF!=$G$1,IF(#REF!=\"\",NA(),#REF!),NA()),NA())","v":{"$error":"#REF!"}},{"$error":"#REF!"},{"$error":"#REF!"}]
[null,null,null,{"$f":"IF(#REF!=$E$1,IF(#REF!=$G$1,#REF!,NA()),NA())","v":{"$error":"#REF!"}},{"$f":"IF(#REF!=$E$1,IF(#REF!=$G$1,#REF!,NA()),NA())","v":{"$error":"#REF!"}},{"$f":"IF(#REF!=$E$1,IF(#REF!=$G$1,IF(#REF!=\"\",NA(),#REF!),NA()),NA())","v":{"$error":"#REF!"}},{"$f":"IF(#REF!=$E$1,IF(#REF!=$G$1,IF(#REF!=\"\",NA(),#REF!),NA()),NA())","v":{"$error":"#REF!"}},{"$error":"#REF!"},{"$error":"#REF!"}]
[null,null,null,{"$f":"IF(#REF!=$E$1,IF(#REF!=$G$1,#REF!,NA()),NA())","v":{"$error":"#REF!"}},{"$f":"IF(#REF!=$E$1,IF(#REF!=$G$1,#REF!,NA()),NA())","v":{"$error":"#REF!"}},{"$f":"IF(#REF!=$E$1,IF(#REF!=$G$1,IF(#REF!=\"\",NA(),#REF!),NA()),NA())","v":{"$error":"#REF!"}},{"$f":"IF(#REF!=$E$1,IF(#REF!=$G$1,IF(#REF!=\"\",NA(),#REF!),NA()),NA())","v":{"$error":"#REF!"}},{"$error":"#REF!"},{"$error":"#REF!"}]
[null,null,null,{"$f":"IF(#REF!=$E$1,IF(#REF!=$G$1,#REF!,NA()),NA())","v":{"$error":"#REF!"}},{"$f":"IF(#REF!=$E$1,IF(#REF!=$G$1,#REF!,NA()),NA())","v":{"$error":"#REF!"}},{"$f":"IF(#REF!=$E$1,IF(#REF!=$G$1,IF(#REF!=\"\",NA(),#REF!),NA()),NA())","v":{"$error":"#REF!"}},{"$f":"IF(#REF!=$E$1,IF(#REF!=$G$1,IF(#REF!=\"\",NA(),#REF!),NA()),NA())","v":{"$error":"#REF!"}},{"$error":"#REF!"},{"$error":"#REF!"}]
[null,null,null,{"$f":"IF(#REF!=$E$1,IF(#REF!=$G$1,#REF!,NA()),NA())","v":{"$error":"#REF!"}},{"$f":"IF(#REF!=$E$1,IF(#REF!=$G$1,#REF!,NA()),NA())","v":{"$error":"#REF!"}},{"$f":"IF(#REF!=$E$1,IF(#REF!=$G$1,IF(#REF!=\"\",NA(),#REF!),NA()),NA())","v":{"$error":"#REF!"}},{"$f":"IF(#REF!=$E$1,IF(#REF!=$G$1,IF(#REF!=\"\",NA(),#REF!),NA()),NA())","v":{"$error":"#REF!"}},{"$error":"#REF!"},{"$error":"#REF!"}]
[null,null,null,{"$f":"IF(#REF!=$E$1,IF(#REF!=$G$1,#REF!,NA()),NA())","v":{"$error":"#REF!"}},{"$f":"IF(#REF!=$E$1,IF(#REF!=$G$1,#REF!,NA()),NA())","v":{"$error":"#REF!"}},{"$f":"IF(#REF!=$E$1,IF(#REF!=$G$1,IF(#REF!=\"\",NA(),#REF!),NA()),NA())","v":{"$error":"#REF!"}},{"$f":"IF(#REF!=$E$1,IF(#REF!=$G$1,IF(#REF!=\"\",NA(),#REF!),NA()),NA())","v":{"$error":"#REF!"}},{"$error":"#REF!"},{"$error":"#REF!"}]
[null,null,null,{"$f":"IF(#REF!=$E$1,IF(#REF!=$G$1,#REF!,NA()),NA())","v":{"$error":"#REF!"}},{"$f":"IF(#REF!=$E$1,IF(#REF!=$G$1,#REF!,NA()),NA())","v":{"$error":"#REF!"}},{"$f":"IF(#REF!=$E$1,IF(#REF!=$G$1,IF(#REF!=\"\",NA(),#REF!),NA()),NA())","v":{"$error":"#REF!"}},{"$f":"IF(#REF!=$E$1,IF(#REF!=$G$1,IF(#REF!=\"\",NA(),#REF!),NA()),NA())","v":{"$error":"#REF!"}},{"$error":"#REF!"},{"$error":"#REF!"}]
[null,null,null,{"$f":"IF(#REF!=$E$1,IF(#REF!=$G$1,#REF!,NA()),NA())","v":{"$error":"#REF!"}},{"$f":"IF(#REF!=$E$1,IF(#REF!=$G$1,#REF!,NA()),NA())","v":{"$error":"#REF!"}},{"$f":"IF(#REF!=$E$1,IF(#REF!=$G$1,IF(#REF!=\"\",NA(),#REF!),NA()),NA())","v":{"$error":"#REF!"}},{"$f":"IF(#REF!=$E$1,IF(#REF!=$G$1,IF(#REF!=\"\",NA(),#REF!),NA()),NA())","v":{"$error":"#REF!"}},{"$error":"#REF!"},{"$error":"#REF!"}]
[null,null,null,{"$f":"IF(#REF!=$E$1,IF(#REF!=$G$1,#REF!,NA()),NA())","v":{"$error":"#REF!"}},{"$f":"IF(#REF!=$E$1,IF(#REF!=$G$1,#REF!,NA()),NA())","v":{"$error":"#REF!"}},{"$f":"IF(#REF!=$E$1,IF(#REF!=$G$1,IF(#REF!=\"\",NA(),#REF!),NA()),NA())","v":{"$error":"#REF!"}},{"$f":"IF(#REF!=$E$1,IF(#REF!=$G$1,IF(#REF!=\"\",NA(),#REF!),NA()),NA())","v":{"$error":"#REF!"}},{"$error":"#REF!"},{"$error":"#REF!"}]
[null,null,null,{"$f":"IF(#REF!=$E$1,IF(#REF!=$G$1,#REF!,NA()),NA())","v":{"$error":"#REF!"}},{"$f":"IF(#REF!=$E$1,IF(#REF!=$G$1,#REF!,NA()),NA())","v":{"$error":"#REF!"}},{"$f":"IF(#REF!=$E$1,IF(#REF!=$G$1,IF(#REF!=\"\",NA(),#REF!),NA()),NA())","v":{"$error":"#REF!"}},{"$f":"IF(#REF!=$E$1,IF(#REF!=$G$1,IF(#REF!=\"\",NA(),#REF!),NA()),NA())","v":{"$error":"#REF!"}},{"$error":"#REF!"},{"$error":"#REF!"}]
[null,null,null,{"$f":"IF(#REF!=$E$1,IF(#REF!=$G$1,#REF!,NA()),NA())","v":{"$error":"#REF!"}},{"$f":"IF(#REF!=$E$1,IF(#REF!=$G$1,#REF!,NA()),NA())","v":{"$error":"#REF!"}},{"$f":"IF(#REF!=$E$1,IF(#REF!=$G$1,IF(#REF!=\"\",NA(),#REF!),NA()),NA())","v":{"$error":"#REF!"}},{"$f":"IF(#REF!=$E$1,IF(#REF!=$G$1,IF(#REF!=\"\",NA(),#REF!),NA()),NA())","v":{"$error":"#REF!"}},{"$error":"#REF!"},{"$error":"#REF!"}]
[null,null,null,{"$f":"IF(#REF!=$E$1,IF(#REF!=$G$1,#REF!,NA()),NA())","v":{"$error":"#REF!"}},{"$f":"IF(#REF!=$E$1,IF(#REF!=$G$1,#REF!,NA()),NA())","v":{"$error":"#REF!"}},{"$f":"IF(#REF!=$E$1,IF(#REF!=$G$1,IF(#REF!=\"\",NA(),#REF!),NA()),NA())","v":{"$error":"#REF!"}},{"$f":"IF(#REF!=$E$1,IF(#REF!=$G$1,IF(#REF!=\"\",NA(),#REF!),NA()),NA())","v":{"$error":"#REF!"}},{"$error":"#REF!"},{"$error":"#REF!"}]
[null,null,null,{"$f":"IF(#REF!=$E$1,IF(#REF!=$G$1,#REF!,NA()),NA())","v":{"$error":"#REF!"}},{"$f":"IF(#REF!=$E$1,IF(#REF!=$G$1,#REF!,NA()),NA())","v":{"$error":"#REF!"}},{"$f":"IF(#REF!=$E$1,IF(#REF!=$G$1,IF(#REF!=\"\",NA(),#REF!),NA()),NA())","v":{"$error":"#REF!"}},{"$f":"IF(#REF!=$E$1,IF(#REF!=$G$1,IF(#REF!=\"\",NA(),#REF!),NA()),NA())","v":{"$error":"#REF!"}},{"$error":"#REF!"},{"$error":"#REF!"}]
[null,null,null,{"$f":"IF(#REF!=$E$1,IF(#REF!=$G$1,#REF!,NA()),NA())","v":{"$error":"#REF!"}},{"$f":"IF(#REF!=$E$1,IF(#REF!=$G$1,#REF!,NA()),NA())","v":{"$error":"#REF!"}},{"$f":"IF(#REF!=$E$1,IF(#REF!=$G$1,IF(#REF!=\"\",NA(),#REF!),NA()),NA())","v":{"$error":"#REF!"}},{"$f":"IF(#REF!=$E$1,IF(#REF!=$G$1,IF(#REF!=\"\",NA(),#REF!),NA()),NA())","v":{"$error":"#REF!"}},{"$error":"#REF!"},{"$error":"#REF!"}]
[null,null,null,{"$f":"IF(#REF!=$E$1,IF(#REF!=$G$1,#REF!,NA()),NA())","v":{"$error":"#REF!"}},{"$f":"IF(#REF!=$E$1,IF(#REF!=$G$1,#REF!,NA()),NA())","v":{"$error":"#REF!"}},{"$f":"IF(#REF!=$E$1,IF(#REF!=$G$1,IF(#REF!=\"\",NA(),#REF!),NA()),NA())","v":{"$error":"#REF!"}},{"$f":"IF(#REF!=$E$1,IF(#REF!=$G$1,IF(#REF!=\"\",NA(),#REF!),NA()),NA())","v":{"$error":"#REF!"}},{"$error":"#REF!"},{"$error":"#REF!"}]
[null,null,null,{"$f":"IF(#REF!=$E$1,IF(#REF!=$G$1,#REF!,NA()),NA())","v":{"$error":"#REF!"}},{"$f":"IF(#REF!=$E$1,IF(#REF!=$G$1,#REF!,NA()),NA())","v":{"$error":"#REF!"}},{"$f":"IF(#REF!=$E$1,IF(#REF!=$G$1,IF(#REF!=\"\",NA(),#REF!),NA()),NA())","v":{"$error":"#REF!"}},{"$f":"IF(#REF!=$E$1,IF(#REF!=$G$1,IF(#REF!=\"\",NA(),#REF!),NA()),NA())","v":{"$error":"#REF!"}},{"$error":"#REF!"},{"$error":"#REF!"}]
[null,null,null,{"$f":"IF(#REF!=$E$1,IF(#REF!=$G$1,#REF!,NA()),NA())","v":{"$error":"#REF!"}},{"$f":"IF(#REF!=$E$1,IF(#REF!=$G$1,#REF!,NA()),NA())","v":{"$error":"#REF!"}},{"$f":"IF(#REF!=$E$1,IF(#REF!=$G$1,IF(#REF!=\"\",NA(),#REF!),NA()),NA())","v":{"$error":"#REF!"}},{"$f":"IF(#REF!=$E$1,IF(#REF!=$G$1,IF(#REF!=\"\",NA(),#REF!),NA()),NA())","v":{"$error":"#REF!"}},{"$error":"#REF!"},{"$error":"#REF!"}]
[null,null,null,{"$f":"IF(#REF!=$E$1,IF(#REF!=$G$1,#REF!,NA()),NA())","v":{"$error":"#REF!"}},{"$f":"IF(#REF!=$E$1,IF(#REF!=$G$1,#REF!,NA()),NA())","v":{"$error":"#REF!"}},{"$f":"IF(#REF!=$E$1,IF(#REF!=$G$1,IF(#REF!=\"\",NA(),#REF!),NA()),NA())","v":{"$error":"#REF!"}},{"$f":"IF(#REF!=$E$1,IF(#REF!=$G$1,IF(#REF!=\"\",NA(),#REF!),NA()),NA())","v":{"$error":"#REF!"}},{"$error":"#REF!"},{"$error":"#REF!"}]
[null,null,null,{"$f":"IF(#REF!=$E$1,IF(#REF!=$G$1,#REF!,NA()),NA())","v":{"$error":"#REF!"}},{"$f":"IF(#REF!=$E$1,IF(#REF!=$G$1,#REF!,NA()),NA())","v":{"$error":"#REF!"}},{"$f":"IF(#REF!=$E$1,IF(#REF!=$G$1,IF(#REF!=\"\",NA(),#REF!),NA()),NA())","v":{"$error":"#REF!"}},{"$f":"IF(#REF!=$E$1,IF(#REF!=$G$1,IF(#REF!=\"\",NA(),#REF!),NA()),NA())","v":{"$error":"#REF!"}},{"$error":"#REF!"},{"$error":"#REF!"}]
[null,null,null,{"$f":"IF(#REF!=$E$1,IF(#REF!=$G$1,#REF!,NA()),NA())","v":{"$error":"#REF!"}},{"$f":"IF(#REF!=$E$1,IF(#REF!=$G$1,#REF!,NA()),NA())","v":{"$error":"#REF!"}},{"$f":"IF(#REF!=$E$1,IF(#REF!=$G$1,IF(#REF!=\"\",NA(),#REF!),NA()),NA())","v":{"$error":"#REF!"}},{"$f":"IF(#REF!=$E$1,IF(#REF!=$G$1,IF(#REF!=\"\",NA(),#REF!),NA()),NA())","v":{"$error":"#REF!"}},{"$error":"#REF!"},{"$error":"#REF!"}]
[null,null,null,{"$f":"IF(#REF!=$E$1,IF(#REF!=$G$1,#REF!,NA()),NA())","v":{"$error":"#REF!"}},{"$f":"IF(#REF!=$E$1,IF(#REF!=$G$1,#REF!,NA()),NA())","v":{"$error":"#REF!"}},{"$f":"IF(#REF!=$E$1,IF(#REF!=$G$1,IF(#REF!=\"\",NA(),#REF!),NA()),NA())","v":{"$error":"#REF!"}},{"$f":"IF(#REF!=$E$1,IF(#REF!=$G$1,IF(#REF!=\"\",NA(),#REF!),NA()),NA())","v":{"$error":"#REF!"}},{"$error":"#REF!"},{"$error":"#REF!"}]
[null,null,null,{"$f":"IF(#REF!=$E$1,IF(#REF!=$G$1,#REF!,NA()),NA())","v":{"$error":"#REF!"}},{"$f":"IF(#REF!=$E$1,IF(#REF!=$G$1,#REF!,NA()),NA())","v":{"$error":"#REF!"}},{"$f":"IF(#REF!=$E$1,IF(#REF!=$G$1,IF(#REF!=\"\",NA(),#REF!),NA()),NA())","v":{"$error":"#REF!"}},{"$f":"IF(#REF!=$E$1,IF(#REF!=$G$1,IF(#REF!=\"\",NA(),#REF!),NA()),NA())","v":{"$error":"#REF!"}},{"$error":"#REF!"},{"$error":"#REF!"}]
[null,null,null,{"$f":"IF(#REF!=$E$1,IF(#REF!=$G$1,#REF!,NA()),NA())","v":{"$error":"#REF!"}},{"$f":"IF(#REF!=$E$1,IF(#REF!=$G$1,#REF!,NA()),NA())","v":{"$error":"#REF!"}},{"$f":"IF(#REF!=$E$1,IF(#REF!=$G$1,IF(#REF!=\"\",NA(),#REF!),NA()),NA())","v":{"$error":"#REF!"}},{"$f":"IF(#REF!=$E$1,IF(#REF!=$G$1,IF(#REF!=\"\",NA(),#REF!),NA()),NA())","v":{"$error":"#REF!"}},{"$error":"#REF!"},{"$error":"#REF!"}]
[null,null,null,{"$f":"IF(#REF!=$E$1,IF(#REF!=$G$1,#REF!,NA()),NA())","v":{"$error":"#REF!"}},{"$f":"IF(#REF!=$E$1,IF(#REF!=$G$1,#REF!,NA()),NA())","v":{"$error":"#REF!"}},{"$f":"IF(#REF!=$E$1,IF(#REF!=$G$1,IF(#REF!=\"\",NA(),#REF!),NA()),NA())","v":{"$error":"#REF!"}},{"$f":"IF(#REF!=$E$1,IF(#REF!=$G$1,IF(#REF!=\"\",NA(),#REF!),NA()),NA())","v":{"$error":"#REF!"}},{"$error":"#REF!"},{"$error":"#REF!"}]
[null,null,null,{"$f":"IF(#REF!=$E$1,IF(#REF!=$G$1,#REF!,NA()),NA())","v":{"$error":"#REF!"}},{"$f":"IF(#REF!=$E$1,IF(#REF!=$G$1,#REF!,NA()),NA())","v":{"$error":"#REF!"}},{"$f":"IF(#REF!=$E$1,IF(#REF!=$G$1,IF(#REF!=\"\",NA(),#REF!),NA()),NA())","v":{"$error":"#REF!"}},{"$f":"IF(#REF!=$E$1,IF(#REF!=$G$1,IF(#REF!=\"\",NA(),#REF!),NA()),NA())","v":{"$error":"#REF!"}},{"$error":"#REF!"},{"$error":"#REF!"}]
[null,null,null,{"$f":"IF(#REF!=$E$1,IF(#REF!=$G$1,#REF!,NA()),NA())","v":{"$error":"#REF!"}},{"$f":"IF(#REF!=$E$1,IF(#REF!=$G$1,#REF!,NA()),NA())","v":{"$error":"#REF!"}},{"$f":"IF(#REF!=$E$1,IF(#REF!=$G$1,IF(#REF!=\"\",NA(),#REF!),NA()),NA())","v":{"$error":"#REF!"}},{"$f":"IF(#REF!=$E$1,IF(#REF!=$G$1,IF(#REF!=\"\",NA(),#REF!),NA()),NA())","v":{"$error":"#REF!"}},{"$error":"#REF!"},{"$error":"#REF!"}]
[null,null,null,{"$f":"IF(#REF!=$E$1,IF(#REF!=$G$1,#REF!,NA()),NA())","v":{"$error":"#REF!"}},{"$f":"IF(#REF!=$E$1,IF(#REF!=$G$1,#REF!,NA()),NA())","v":{"$error":"#REF!"}},{"$f":"IF(#REF!=$E$1,IF(#REF!=$G$1,IF(#REF!=\"\",NA(),#REF!),NA()),NA())","v":{"$error":"#REF!"}},{"$f":"IF(#REF!=$E$1,IF(#REF!=$G$1,IF(#REF!=\"\",NA(),#REF!),NA()),NA())","v":{"$error":"#REF!"}},{"$error":"#REF!"},{"$error":"#REF!"}]
[null,null,null,{"$f":"IF(#REF!=$E$1,IF(#REF!=$G$1,#REF!,NA()),NA())","v":{"$error":"#REF!"}},{"$f":"IF(#REF!=$E$1,IF(#REF!=$G$1,#REF!,NA()),NA())","v":{"$error":"#REF!"}},{"$f":"IF(#REF!=$E$1,IF(#REF!=$G$1,IF(#REF!=\"\",NA(),#REF!),NA()),NA())","v":{"$error":"#REF!"}},{"$f":"IF(#REF!=$E$1,IF(#REF!=$G$1,IF(#REF!=\"\",NA(),#REF!),NA()),NA())","v":{"$error":"#REF!"}},{"$error":"#REF!"},{"$error":"#REF!"}]
[null,null,null,{"$f":"IF(#REF!=$E$1,IF(#REF!=$G$1,#REF!,NA()),NA())","v":{"$error":"#REF!"}},{"$f":"IF(#REF!=$E$1,IF(#REF!=$G$1,#REF!,NA()),NA())","v":{"$error":"#REF!"}},{"$f":"IF(#REF!=$E$1,IF(#REF!=$G$1,IF(#REF!=\"\",NA(),#REF!),NA()),NA())","v":{"$error":"#REF!"}},{"$f":"IF(#REF!=$E$1,IF(#REF!=$G$1,IF(#REF!=\"\",NA(),#REF!),NA()),NA())","v":{"$error":"#REF!"}},{"$error":"#REF!"},{"$error":"#REF!"}]
[null,null,null,{"$f":"IF(#REF!=$E$1,IF(#REF!=$G$1,#REF!,NA()),NA())","v":{"$error":"#REF!"}},{"$f":"IF(#REF!=$E$1,IF(#REF!=$G$1,#REF!,NA()),NA())","v":{"$error":"#REF!"}},{"$f":"IF(#REF!=$E$1,IF(#REF!=$G$1,IF(#REF!=\"\",NA(),#REF!),NA()),NA())","v":{"$error":"#REF!"}},{"$f":"IF(#REF!=$E$1,IF(#REF!=$G$1,IF(#REF!=\"\",NA(),#REF!),NA()),NA())","v":{"$error":"#REF!"}},{"$error":"#REF!"},{"$error":"#REF!"}]
[null,null,null,{"$f":"IF(#REF!=$E$1,IF(#REF!=$G$1,#REF!,NA()),NA())","v":{"$error":"#REF!"}},{"$f":"IF(#REF!=$E$1,IF(#REF!=$G$1,#REF!,NA()),NA())","v":{"$error":"#REF!"}},{"$f":"IF(#REF!=$E$1,IF(#REF!=$G$1,IF(#REF!=\"\",NA(),#REF!),NA()),NA())","v":{"$error":"#REF!"}},{"$f":"IF(#REF!=$E$1,IF(#REF!=$G$1,IF(#REF!=\"\",NA(),#REF!),NA()),NA())","v":{"$error":"#REF!"}},{"$error":"#REF!"},{"$error":"#REF!"}]
[null,null,null,{"$f":"IF(#REF!=$E$1,IF(#REF!=$G$1,#REF!,NA()),NA())","v":{"$error":"#REF!"}},{"$f":"IF(#REF!=$E$1,IF(#REF!=$G$1,#REF!,NA()),NA())","v":{"$error":"#REF!"}},{"$f":"IF(#REF!=$E$1,IF(#REF!=$G$1,IF(#REF!=\"\",NA(),#REF!),NA()),NA())","v":{"$error":"#REF!"}},{"$f":"IF(#REF!=$E$1,IF(#REF!=$G$1,IF(#REF!=\"\",NA(),#REF!),NA()),NA())","v":{"$error":"#REF!"}},{"$error":"#REF!"},{"$error":"#REF!"}]
[null,null,null,{"$f":"IF(#REF!=$E$1,IF(#REF!=$G$1,#REF!,NA()),NA())","v":{"$error":"#REF!"}},{"$f":"IF(#REF!=$E$1,IF(#REF!=$G$1,#REF!,NA()),NA())","v":{"$error":"#REF!"}},{"$f":"IF(#REF!=$E$1,IF(#REF!=$G$1,IF(#REF!=\"\",NA(),#REF!),NA()),NA())","v":{"$error":"#REF!"}},{"$f":"IF(#REF!=$E$1,IF(#REF!=$G$1,IF(#REF!=\"\",NA(),#REF!),NA()),NA())","v":{"$error":"#REF!"}},{"$error":"#REF!"},{"$error":"#REF!"}]
[null,null,null,{"$f":"IF(#REF!=$E$1,IF(#REF!=$G$1,#REF!,NA()),NA())","v":{"$error":"#REF!"}},{"$f":"IF(#REF!=$E$1,IF(#REF!=$G$1,#REF!,NA()),NA())","v":{"$error":"#REF!"}},{"$f":"IF(#REF!=$E$1,IF(#REF!=$G$1,IF(#REF!=\"\",NA(),#REF!),NA()),NA())","v":{"$error":"#REF!"}},{"$f":"IF(#REF!=$E$1,IF(#REF!=$G$1,IF(#REF!=\"\",NA(),#REF!),NA()),NA())","v":{"$error":"#REF!"}},{"$error":"#REF!"},{"$error":"#REF!"}]
[null,null,null,{"$f":"IF(#REF!=$E$1,IF(#REF!=$G$1,#REF!,NA()),NA())","v":{"$error":"#REF!"}},{"$f":"IF(#REF!=$E$1,IF(#REF!=$G$1,#REF!,NA()),NA())","v":{"$error":"#REF!"}},{"$f":"IF(#REF!=$E$1,IF(#REF!=$G$1,IF(#REF!=\"\",NA(),#REF!),NA()),NA())","v":{"$error":"#REF!"}},{"$f":"IF(#REF!=$E$1,IF(#REF!=$G$1,IF(#REF!=\"\",NA(),#REF!),NA()),NA())","v":{"$error":"#REF!"}},{"$error":"#REF!"},{"$error":"#REF!"}]
[null,null,null,{"$f":"IF(#REF!=$E$1,IF(#REF!=$G$1,#REF!,NA()),NA())","v":{"$error":"#REF!"}},{"$f":"IF(#REF!=$E$1,IF(#REF!=$G$1,#REF!,NA()),NA())","v":{"$error":"#REF!"}},{"$f":"IF(#REF!=$E$1,IF(#REF!=$G$1,IF(#REF!=\"\",NA(),#REF!),NA()),NA())","v":{"$error":"#REF!"}},{"$f":"IF(#REF!=$E$1,IF(#REF!=$G$1,IF(#REF!=\"\",NA(),#REF!),NA()),NA())","v":{"$error":"#REF!"}},{"$error":"#REF!"},{"$error":"#REF!"}]
[null,null,null,{"$f":"IF(#REF!=$E$1,IF(#REF!=$G$1,#REF!,NA()),NA())","v":{"$error":"#REF!"}},{"$f":"IF(#REF!=$E$1,IF(#REF!=$G$1,#REF!,NA()),NA())","v":{"$error":"#REF!"}},{"$f":"IF(#REF!=$E$1,IF(#REF!=$G$1,IF(#REF!=\"\",NA(),#REF!),NA()),NA())","v":{"$error":"#REF!"}},{"$f":"IF(#REF!=$E$1,IF(#REF!=$G$1,IF(#REF!=\"\",NA(),#REF!),NA()),NA())","v":{"$error":"#REF!"}},{"$error":"#REF!"},{"$error":"#REF!"}]
[null,null,null,{"$f":"IF(#REF!=$E$1,IF(#REF!=$G$1,#REF!,NA()),NA())","v":{"$error":"#REF!"}},{"$f":"IF(#REF!=$E$1,IF(#REF!=$G$1,#REF!,NA()),NA())","v":{"$error":"#REF!"}},{"$f":"IF(#REF!=$E$1,IF(#REF!=$G$1,IF(#REF!=\"\",NA(),#REF!),NA()),NA())","v":{"$error":"#REF!"}},{"$f":"IF(#REF!=$E$1,IF(#REF!=$G$1,IF(#REF!=\"\",NA(),#REF!),NA()),NA())","v":{"$error":"#REF!"}},{"$error":"#REF!"},{"$error":"#REF!"}]
[null,null,null,{"$f":"IF(#REF!=$E$1,IF(#REF!=$G$1,#REF!,NA()),NA())","v":{"$error":"#REF!"}},{"$f":"IF(#REF!=$E$1,IF(#REF!=$G$1,#REF!,NA()),NA())","v":{"$error":"#REF!"}},{"$f":"IF(#REF!=$E$1,IF(#REF!=$G$1,IF(#REF!=\"\",NA(),#REF!),NA()),NA())","v":{"$error":"#REF!"}},{"$f":"IF(#REF!=$E$1,IF(#REF!=$G$1,IF(#REF!=\"\",NA(),#REF!),NA()),NA())","v":{"$error":"#REF!"}},{"$error":"#REF!"},{"$error":"#REF!"}]
[null,null,null,{"$f":"IF(#REF!=$E$1,IF(#REF!=$G$1,#REF!,NA()),NA())","v":{"$error":"#REF!"}},{"$f":"IF(#REF!=$E$1,IF(#REF!=$G$1,#REF!,NA()),NA())","v":{"$error":"#REF!"}},{"$f":"IF(#REF!=$E$1,IF(#REF!=$G$1,IF(#REF!=\"\",NA(),#REF!),NA()),NA())","v":{"$error":"#REF!"}},{"$f":"IF(#REF!=$E$1,IF(#REF!=$G$1,IF(#REF!=\"\",NA(),#REF!),NA()),NA())","v":{"$error":"#REF!"}},{"$error":"#REF!"},{"$error":"#REF!"}]
[null,null,null,{"$f":"IF(#REF!=$E$1,IF(#REF!=$G$1,#REF!,NA()),NA())","v":{"$error":"#REF!"}},{"$f":"IF(#REF!=$E$1,IF(#REF!=$G$1,#REF!,NA()),NA())","v":{"$error":"#REF!"}},{"$f":"IF(#REF!=$E$1,IF(#REF!=$G$1,IF(#REF!=\"\",NA(),#REF!),NA()),NA())","v":{"$error":"#REF!"}},{"$f":"IF(#REF!=$E$1,IF(#REF!=$G$1,IF(#REF!=\"\",NA(),#REF!),NA()),NA())","v":{"$error":"#REF!"}},{"$error":"#REF!"},{"$error":"#REF!"}]
[null,null,null,{"$f":"IF(#REF!=$E$1,IF(#REF!=$G$1,#REF!,NA()),NA())","v":{"$error":"#REF!"}},{"$f":"IF(#REF!=$E$1,IF(#REF!=$G$1,#REF!,NA()),NA())","v":{"$error":"#REF!"}},{"$f":"IF(#REF!=$E$1,IF(#REF!=$G$1,IF(#REF!=\"\",NA(),#REF!),NA()),NA())","v":{"$error":"#REF!"}},{"$f":"IF(#REF!=$E$1,IF(#REF!=$G$1,IF(#REF!=\"\",NA(),#REF!),NA()),NA())","v":{"$error":"#REF!"}},{"$error":"#REF!"},{"$error":"#REF!"}]
[null,null,null,{"$f":"IF(#REF!=$E$1,IF(#REF!=$G$1,#REF!,NA()),NA())","v":{"$error":"#REF!"}},{"$f":"IF(#REF!=$E$1,IF(#REF!=$G$1,#REF!,NA()),NA())","v":{"$error":"#REF!"}},{"$f":"IF(#REF!=$E$1,IF(#REF!=$G$1,IF(#REF!=\"\",NA(),#REF!),NA()),NA())","v":{"$error":"#REF!"}},{"$f":"IF(#REF!=$E$1,IF(#REF!=$G$1,IF(#REF!=\"\",NA(),#REF!),NA()),NA())","v":{"$error":"#REF!"}},{"$error":"#REF!"},{"$error":"#REF!"}]
[null,null,null,{"$f":"IF(#REF!=$E$1,IF(#REF!=$G$1,#REF!,NA()),NA())","v":{"$error":"#REF!"}},{"$f":"IF(#REF!=$E$1,IF(#REF!=$G$1,#REF!,NA()),NA())","v":{"$error":"#REF!"}},{"$f":"IF(#REF!=$E$1,IF(#REF!=$G$1,IF(#REF!=\"\",NA(),#REF!),NA()),NA())","v":{"$error":"#REF!"}},{"$f":"IF(#REF!=$E$1,IF(#REF!=$G$1,IF(#REF!=\"\",NA(),#REF!),NA()),NA())","v":{"$error":"#REF!"}},{"$error":"#REF!"},{"$error":"#REF!"}]
[null,null,null,{"$f":"IF(#REF!=$E$1,IF(#REF!=$G$1,#REF!,NA()),NA())","v":{"$error":"#REF!"}},{"$f":"IF(#REF!=$E$1,IF(#REF!=$G$1,#REF!,NA()),NA())","v":{"$error":"#REF!"}},{"$f":"IF(#REF!=$E$1,IF(#REF!=$G$1,IF(#REF!=\"\",NA(),#REF!),NA()),NA())","v":{"$error":"#REF!"}},{"$f":"IF(#REF!=$E$1,IF(#REF!=$G$1,IF(#REF!=\"\",NA(),#REF!),NA()),NA())","v":{"$error":"#REF!"}},{"$error":"#REF!"},{"$error":"#REF!"}]
[null,null,null,{"$f":"IF(#REF!=$E$1,IF(#REF!=$G$1,#REF!,NA()),NA())","v":{"$error":"#REF!"}},{"$f":"IF(#REF!=$E$1,IF(#REF!=$G$1,#REF!,NA()),NA())","v":{"$error":"#REF!"}},{"$f":"IF(#REF!=$E$1,IF(#REF!=$G$1,IF(#REF!=\"\",NA(),#REF!),NA()),NA())","v":{"$error":"#REF!"}},{"$f":"IF(#REF!=$E$1,IF(#REF!=$G$1,IF(#REF!=\"\",NA(),#REF!),NA()),NA())","v":{"$error":"#REF!"}},{"$error":"#REF!"},{"$error":"#REF!"}]
[null,null,null,{"$f":"IF(#REF!=$E$1,IF(#REF!=$G$1,#REF!,NA()),NA())","v":{"$error":"#REF!"}},{"$f":"IF(#REF!=$E$1,IF(#REF!=$G$1,#REF!,NA()),NA())","v":{"$error":"#REF!"}},{"$f":"IF(#REF!=$E$1,IF(#REF!=$G$1,IF(#REF!=\"\",NA(),#REF!),NA()),NA())","v":{"$error":"#REF!"}},{"$f":"IF(#REF!=$E$1,IF(#REF!=$G$1,IF(#REF!=\"\",NA(),#REF!),NA()),NA())","v":{"$error":"#REF!"}},{"$error":"#REF!"},{"$error":"#REF!"}]
[null,null,null,{"$f":"IF(#REF!=$E$1,IF(#REF!=$G$1,#REF!,NA()),NA())","v":{"$error":"#REF!"}},{"$f":"IF(#REF!=$E$1,IF(#REF!=$G$1,#REF!,NA()),NA())","v":{"$error":"#REF!"}},{"$f":"IF(#REF!=$E$1,IF(#REF!=$G$1,IF(#REF!=\"\",NA(),#REF!),NA()),NA())","v":{"$error":"#REF!"}},{"$f":"IF(#REF!=$E$1,IF(#REF!=$G$1,IF(#REF!=\"\",NA(),#REF!),NA()),NA())","v":{"$error":"#REF!"}},{"$error":"#REF!"},{"$error":"#REF!"}]
[null,null,null,{"$f":"IF(#REF!=$E$1,IF(#REF!=$G$1,#REF!,NA()),NA())","v":{"$error":"#REF!"}},{"$f":"IF(#REF!=$E$1,IF(#REF!=$G$1,#REF!,NA()),NA())","v":{"$error":"#REF!"}},{"$f":"IF(#REF!=$E$1,IF(#REF!=$G$1,IF(#REF!=\"\",NA(),#REF!),NA()),NA())","v":{"$error":"#REF!"}},{"$f":"IF(#REF!=$E$1,IF(#REF!=$G$1,IF(#REF!=\"\",NA(),#REF!),NA()),NA())","v":{"$error":"#REF!"}},{"$error":"#REF!"},{"$error":"#REF!"}]
[null,null,null,{"$f":"IF(#REF!=$E$1,IF(#REF!=$G$1,#REF!,NA()),NA())","v":{"$error":"#REF!"}},{"$f":"IF(#REF!=$E$1,IF(#REF!=$G$1,#REF!,NA()),NA())","v":{"$error":"#REF!"}},{"$f":"IF(#REF!=$E$1,IF(#REF!=$G$1,IF(#REF!=\"\",NA(),#REF!),NA()),NA())","v":{"$error":"#REF!"}},{"$f":"IF(#REF!=$E$1,IF(#REF!=$G$1,IF(#REF!=\"\",NA(),#REF!),NA()),NA())","v":{"$error":"#REF!"}},{"$error":"#REF!"},{"$error":"#REF!"}]
[null,null,null,{"$f":"IF(#REF!=$E$1,IF(#REF!=$G$1,#REF!,NA()),NA())","v":{"$error":"#REF!"}},{"$f":"IF(#REF!=$E$1,IF(#REF!=$G$1,#REF!,NA()),NA())","v":{"$error":"#REF!"}},{"$f":"IF(#REF!=$E$1,IF(#REF!=$G$1,IF(#REF!=\"\",NA(),#REF!),NA()),NA())","v":{"$error":"#REF!"}},{"$f":"IF(#REF!=$E$1,IF(#REF!=$G$1,IF(#REF!=\"\",NA(),#REF!),NA()),NA())","v":{"$error":"#REF!"}},{"$error":"#REF!"},{"$error":"#REF!"}]
[null,null,null,{"$f":"IF(#REF!=$E$1,IF(#REF!=$G$1,#REF!,NA()),NA())","v":{"$error":"#REF!"}},{"$f":"IF(#REF!=$E$1,IF(#REF!=$G$1,#REF!,NA()),NA())","v":{"$error":"#REF!"}},{"$f":"IF(#REF!=$E$1,IF(#REF!=$G$1,IF(#REF!=\"\",NA(),#REF!),NA()),NA())","v":{"$error":"#REF!"}},{"$f":"IF(#REF!=$E$1,IF(#REF!=$G$1,IF(#REF!=\"\",NA(),#REF!),NA()),NA())","v":{"$error":"#REF!"}},{"$error":"#REF!"},{"$error":"#REF!"}]
[null,null,null,{"$f":"IF(#REF!=$E$1,IF(#REF!=$G$1,#REF!,NA()),NA())","v":{"$error":"#REF!"}},{"$f":"IF(#REF!=$E$1,IF(#REF!=$G$1,#REF!,NA()),NA())","v":{"$error":"#REF!"}},{"$f":"IF(#REF!=$E$1,IF(#REF!=$G$1,IF(#REF!=\"\",NA(),#REF!),NA()),NA())","v":{"$error":"#REF!"}},{"$f":"IF(#REF!=$E$1,IF(#REF!=$G$1,IF(#REF!=\"\",NA(),#REF!),NA()),NA())","v":{"$error":"#REF!"}},{"$error":"#REF!"},{"$error":"#REF!"}]
[null,null,null,{"$f":"IF(#REF!=$E$1,IF(#REF!=$G$1,#REF!,NA()),NA())","v":{"$error":"#REF!"}},{"$f":"IF(#REF!=$E$1,IF(#REF!=$G$1,#REF!,NA()),NA())","v":{"$error":"#REF!"}},{"$f":"IF(#REF!=$E$1,IF(#REF!=$G$1,IF(#REF!=\"\",NA(),#REF!),NA()),NA())","v":{"$error":"#REF!"}},{"$f":"IF(#REF!=$E$1,IF(#REF!=$G$1,IF(#REF!=\"\",NA(),#REF!),NA()),NA())","v":{"$error":"#REF!"}},{"$error":"#REF!"},{"$error":"#REF!"}]
[null,null,null,{"$f":"IF(#REF!=$E$1,IF(#REF!=$G$1,#REF!,NA()),NA())","v":{"$error":"#REF!"}},{"$f":"IF(#REF!=$E$1,IF(#REF!=$G$1,#REF!,NA()),NA())","v":{"$error":"#REF!"}},{"$f":"IF(#REF!=$E$1,IF(#REF!=$G$1,IF(#REF!=\"\",NA(),#REF!),NA()),NA())","v":{"$error":"#REF!"}},{"$f":"IF(#REF!=$E$1,IF(#REF!=$G$1,IF(#REF!=\"\",NA(),#REF!),NA()),NA())","v":{"$error":"#REF!"}},{"$f":"IF(AND(ISNUMBER(G260),F260=\"-\"),0,F260)","v":{"$error":"#REF!"}},{"$f":"IF(AND(ISNUMBER(F260),G260=\"-\"),0,G260)","v":{"$error":"#REF!"}}]
[null,null,null,{"$f":"IF(#REF!=$E$1,IF(#REF!=$G$1,#REF!,NA()),NA())","v":{"$error":"#REF!"}},{"$f":"IF(#REF!=$E$1,IF(#REF!=$G$1,#REF!,NA()),NA())","v":{"$error":"#REF!"}},{"$f":"IF(#REF!=$E$1,IF(#REF!=$G$1,IF(#REF!=\"\",NA(),#REF!),NA()),NA())","v":{"$error":"#REF!"}},{"$f":"IF(#REF!=$E$1,IF(#REF!=$G$1,IF(#REF!=\"\",NA(),#REF!),NA()),NA())","v":{"$error":"#REF!"}},{"$error":"#REF!"},{"$error":"#REF!"}]
[null,null,null,{"$f":"IF(#REF!=$E$1,IF(#REF!=$G$1,#REF!,NA()),NA())","v":{"$error":"#REF!"}},{"$f":"IF(#REF!=$E$1,IF(#REF!=$G$1,#REF!,NA()),NA())","v":{"$error":"#REF!"}},{"$f":"IF(#REF!=$E$1,IF(#REF!=$G$1,IF(#REF!=\"\",NA(),#REF!),NA()),NA())","v":{"$error":"#REF!"}},{"$f":"IF(#REF!=$E$1,IF(#REF!=$G$1,IF(#REF!=\"\",NA(),#REF!),NA()),NA())","v":{"$error":"#REF!"}},{"$error":"#REF!"},{"$error":"#REF!"}]
[null,null,null,{"$f":"IF(#REF!=$E$1,IF(#REF!=$G$1,#REF!,NA()),NA())","v":{"$error":"#REF!"}},{"$f":"IF(#REF!=$E$1,IF(#REF!=$G$1,#REF!,NA()),NA())","v":{"$error":"#REF!"}},{"$f":"IF(#REF!=$E$1,IF(#REF!=$G$1,IF(#REF!=\"\",NA(),#REF!),NA()),NA())","v":{"$error":"#REF!"}},{"$f":"IF(#REF!=$E$1,IF(#REF!=$G$1,IF(#REF!=\"\",NA(),#REF!),NA()),NA())","v":{"$error":"#REF!"}},{"$error":"#REF!"},{"$error":"#REF!"}]
[null,null,null,{"$f":"IF(#REF!=$E$1,IF(#REF!=$G$1,#REF!,NA()),NA())","v":{"$error":"#REF!"}},{"$f":"IF(#REF!=$E$1,IF(#REF!=$G$1,#REF!,NA()),NA())","v":{"$error":"#REF!"}},{"$f":"IF(#REF!=$E$1,IF(#REF!=$G$1,IF(#REF!=\"\",NA(),#REF!),NA()),NA())","v":{"$error":"#REF!"}},{"$f":"IF(#REF!=$E$1,IF(#REF!=$G$1,IF(#REF!=\"\",NA(),#REF!),NA()),NA())","v":{"$error":"#REF!"}},{"$error":"#REF!"},{"$error":"#REF!"}]
[null,null,null,{"$f":"IF(#REF!=$E$1,IF(#REF!=$G$1,#REF!,NA()),NA())","v":{"$error":"#REF!"}},{"$f":"IF(#REF!=$E$1,IF(#REF!=$G$1,#REF!,NA()),NA())","v":{"$error":"#REF!"}},{"$f":"IF(#REF!=$E$1,IF(#REF!=$G$1,IF(#REF!=\"\",NA(),#REF!),NA()),NA())","v":{"$error":"#REF!"}},{"$f":"IF(#REF!=$E$1,IF(#REF!=$G$1,IF(#REF!=\"\",NA(),#REF!),NA()),NA())","v":{"$error":"#REF!"}},{"$error":"#REF!"},{"$error":"#REF!"}]
[null,null,null,{"$f":"IF(#REF!=$E$1,IF(#REF!=$G$1,#REF!,NA()),NA())","v":{"$error":"#REF!"}},{"$f":"IF(#REF!=$E$1,IF(#REF!=$G$1,#REF!,NA()),NA())","v":{"$error":"#REF!"}},{"$f":"IF(#REF!=$E$1,IF(#REF!=$G$1,IF(#REF!=\"\",NA(),#REF!),NA()),NA())","v":{"$error":"#REF!"}},{"$f":"IF(#REF!=$E$1,IF(#REF!=$G$1,IF(#REF!=\"\",NA(),#REF!),NA()),NA())","v":{"$error":"#REF!"}},{"$error":"#REF!"},{"$error":"#REF!"}]
[null,null,null,{"$f":"IF(#REF!=$E$1,IF(#REF!=$G$1,#REF!,NA()),NA())","v":{"$error":"#REF!"}},{"$f":"IF(#REF!=$E$1,IF(#REF!=$G$1,#REF!,NA()),NA())","v":{"$error":"#REF!"}},{"$f":"IF(#REF!=$E$1,IF(#REF!=$G$1,IF(#REF!=\"\",NA(),#REF!),NA()),NA())","v":{"$error":"#REF!"}},{"$f":"IF(#REF!=$E$1,IF(#REF!=$G$1,IF(#REF!=\"\",NA(),#REF!),NA()),NA())","v":{"$error":"#REF!"}},{"$error":"#REF!"},{"$error":"#REF!"}]
[null,null,null,{"$f":"IF(#REF!=$E$1,IF(#REF!=$G$1,#REF!,NA()),NA())","v":{"$error":"#REF!"}},{"$f":"IF(#REF!=$E$1,IF(#REF!=$G$1,#REF!,NA()),NA())","v":{"$error":"#REF!"}},{"$f":"IF(#REF!=$E$1,IF(#REF!=$G$1,IF(#REF!=\"\",NA(),#REF!),NA()),NA())","v":{"$error":"#REF!"}},{"$f":"IF(#REF!=$E$1,IF(#REF!=$G$1,IF(#REF!=\"\",NA(),#REF!),NA()),NA())","v":{"$error":"#REF!"}},{"$error":"#REF!"},{"$error":"#REF!"}]
[null,null,null,{"$f":"IF(#REF!=$E$1,IF(#REF!=$G$1,#REF!,NA()),NA())","v":{"$error":"#REF!"}},{"$f":"IF(#REF!=$E$1,IF(#REF!=$G$1,#REF!,NA()),NA())","v":{"$error":"#REF!"}},{"$f":"IF(#REF!=$E$1,IF(#REF!=$G$1,IF(#REF!=\"\",NA(),#REF!),NA()),NA())","v":{"$error":"#REF!"}},{"$f":"IF(#REF!=$E$1,IF(#REF!=$G$1,IF(#REF!=\"\",NA(),#REF!),NA()),NA())","v":{"$error":"#REF!"}},{"$error":"#REF!"},{"$error":"#REF!"}]
[null,null,null,{"$f":"IF(#REF!=$E$1,IF(#REF!=$G$1,#REF!,NA()),NA())","v":{"$error":"#REF!"}},{"$f":"IF(#REF!=$E$1,IF(#REF!=$G$1,#REF!,NA()),NA())","v":{"$error":"#REF!"}},{"$f":"IF(#REF!=$E$1,IF(#REF!=$G$1,IF(#REF!=\"\",NA(),#REF!),NA()),NA())","v":{"$error":"#REF!"}},{"$f":"IF(#REF!=$E$1,IF(#REF!=$G$1,IF(#REF!=\"\",NA(),#REF!),NA()),NA())","v":{"$error":"#REF!"}},{"$error":"#REF!"},{"$error":"#REF!"}]
[null,null,null,{"$f":"IF(#REF!=$E$1,IF(#REF!=$G$1,#REF!,NA()),NA())","v":{"$error":"#REF!"}},{"$f":"IF(#REF!=$E$1,IF(#REF!=$G$1,#REF!,NA()),NA())","v":{"$error":"#REF!"}},{"$f":"IF(#REF!=$E$1,IF(#REF!=$G$1,IF(#REF!=\"\",NA(),#REF!),NA()),NA())","v":{"$error":"#REF!"}},{"$f":"IF(#REF!=$E$1,IF(#REF!=$G$1,IF(#REF!=\"\",NA(),#REF!),NA()),NA())","v":{"$error":"#REF!"}},{"$error":"#REF!"},{"$error":"#REF!"}]
[null,null,null,{"$f":"IF(#REF!=$E$1,IF(#REF!=$G$1,#REF!,NA()),NA())","v":{"$error":"#REF!"}},{"$f":"IF(#REF!=$E$1,IF(#REF!=$G$1,#REF!,NA()),NA())","v":{"$error":"#REF!"}},{"$f":"IF(#REF!=$E$1,IF(#REF!=$G$1,IF(#REF!=\"\",NA(),#REF!),NA()),NA())","v":{"$error":"#REF!"}},{"$f":"IF(#REF!=$E$1,IF(#REF!=$G$1,IF(#REF!=\"\",NA(),#REF!),NA()),NA())","v":{"$error":"#REF!"}},{"$error":"#REF!"},{"$error":"#REF!"}]
[null,null,null,{"$f":"IF(#REF!=$E$1,IF(#REF!=$G$1,#REF!,NA()),NA())","v":{"$error":"#REF!"}},{"$f":"IF(#REF!=$E$1,IF(#REF!=$G$1,#REF!,NA()),NA())","v":{"$error":"#REF!"}},{"$f":"IF(#REF!=$E$1,IF(#REF!=$G$1,IF(#REF!=\"\",NA(),#REF!),NA()),NA())","v":{"$error":"#REF!"}},{"$f":"IF(#REF!=$E$1,IF(#REF!=$G$1,IF(#REF!=\"\",NA(),#REF!),NA()),NA())","v":{"$error":"#REF!"}},{"$error":"#REF!"},{"$error":"#REF!"}]
[null,null,null,{"$f":"IF(#REF!=$E$1,IF(#REF!=$G$1,#REF!,NA()),NA())","v":{"$error":"#REF!"}},{"$f":"IF(#REF!=$E$1,IF(#REF!=$G$1,#REF!,NA()),NA())","v":{"$error":"#REF!"}},{"$f":"IF(#REF!=$E$1,IF(#REF!=$G$1,IF(#REF!=\"\",NA(),#REF!),NA()),NA())","v":{"$error":"#REF!"}},{"$f":"IF(#REF!=$E$1,IF(#REF!=$G$1,IF(#REF!=\"\",NA(),#REF!),NA()),NA())","v":{"$error":"#REF!"}},{"$error":"#REF!"},{"$error":"#REF!"}]
[null,null,null,{"$f":"IF(#REF!=$E$1,IF(#REF!=$G$1,#REF!,NA()),NA())","v":{"$error":"#REF!"}},{"$f":"IF(#REF!=$E$1,IF(#REF!=$G$1,#REF!,NA()),NA())","v":{"$error":"#REF!"}},{"$f":"IF(#REF!=$E$1,IF(#REF!=$G$1,IF(#REF!=\"\",NA(),#REF!),NA()),NA())","v":{"$error":"#REF!"}},{"$f":"IF(#REF!=$E$1,IF(#REF!=$G$1,IF(#REF!=\"\",NA(),#REF!),NA()),NA())","v":{"$error":"#REF!"}},{"$error":"#REF!"},{"$error":"#REF!"}]
[null,null,null,{"$f":"IF(#REF!=$E$1,IF(#REF!=$G$1,#REF!,NA()),NA())","v":{"$error":"#REF!"}},{"$f":"IF(#REF!=$E$1,IF(#REF!=$G$1,#REF!,NA()),NA())","v":{"$error":"#REF!"}},{"$f":"IF(#REF!=$E$1,IF(#REF!=$G$1,IF(#REF!=\"\",NA(),#REF!),NA()),NA())","v":{"$error":"#REF!"}},{"$f":"IF(#REF!=$E$1,IF(#REF!=$G$1,IF(#REF!=\"\",NA(),#REF!),NA()),NA())","v":{"$error":"#REF!"}},{"$error":"#REF!"},{"$error":"#REF!"}]
[null,null,null,{"$f":"IF(#REF!=$E$1,IF(#REF!=$G$1,#REF!,NA()),NA())","v":{"$error":"#REF!"}},{"$f":"IF(#REF!=$E$1,IF(#REF!=$G$1,#REF!,NA()),NA())","v":{"$error":"#REF!"}},{"$f":"IF(#REF!=$E$1,IF(#REF!=$G$1,IF(#REF!=\"\",NA(),#REF!),NA()),NA())","v":{"$error":"#REF!"}},{"$f":"IF(#REF!=$E$1,IF(#REF!=$G$1,IF(#REF!=\"\",NA(),#REF!),NA()),NA())","v":{"$error":"#REF!"}},{"$error":"#REF!"},{"$error":"#REF!"}]
[null,null,null,{"$f":"IF(#REF!=$E$1,IF(#REF!=$G$1,#REF!,NA()),NA())","v":{"$error":"#REF!"}},{"$f":"IF(#REF!=$E$1,IF(#REF!=$G$1,#REF!,NA()),NA())","v":{"$error":"#REF!"}},{"$f":"IF(#REF!=$E$1,IF(#REF!=$G$1,IF(#REF!=\"\",NA(),#REF!),NA()),NA())","v":{"$error":"#REF!"}},{"$f":"IF(#REF!=$E$1,IF(#REF!=$G$1,IF(#REF!=\"\",NA(),#REF!),NA()),NA())","v":{"$error":"#REF!"}},{"$error":"#REF!"},{"$error":"#REF!"}]
[null,null,null,{"$f":"IF(#REF!=$E$1,IF(#REF!=$G$1,#REF!,NA()),NA())","v":{"$error":"#REF!"}},{"$f":"IF(#REF!=$E$1,IF(#REF!=$G$1,#REF!,NA()),NA())","v":{"$error":"#REF!"}},{"$f":"IF(#REF!=$E$1,IF(#REF!=$G$1,IF(#REF!=\"\",NA(),#REF!),NA()),NA())","v":{"$error":"#REF!"}},{"$f":"IF(#REF!=$E$1,IF(#REF!=$G$1,IF(#REF!=\"\",NA(),#REF!),NA()),NA())","v":{"$error":"#REF!"}},{"$error":"#REF!"},{"$error":"#REF!"}]
[null,null,null,{"$f":"IF(#REF!=$E$1,IF(#REF!=$G$1,#REF!,NA()),NA())","v":{"$error":"#REF!"}},{"$f":"IF(#REF!=$E$1,IF(#REF!=$G$1,#REF!,NA()),NA())","v":{"$error":"#REF!"}},{"$f":"IF(#REF!=$E$1,IF(#REF!=$G$1,IF(#REF!=\"\",NA(),#REF!),NA()),NA())","v":{"$error":"#REF!"}},{"$f":"IF(#REF!=$E$1,IF(#REF!=$G$1,IF(#REF!=\"\",NA(),#REF!),NA()),NA())","v":{"$error":"#REF!"}},{"$error":"#REF!"},{"$error":"#REF!"}]
[null,null,null,{"$f":"IF(#REF!=$E$1,IF(#REF!=$G$1,#REF!,NA()),NA())","v":{"$error":"#REF!"}},{"$f":"IF(#REF!=$E$1,IF(#REF!=$G$1,#REF!,NA()),NA())","v":{"$error":"#REF!"}},{"$f":"IF(#REF!=$E$1,IF(#REF!=$G$1,IF(#REF!=\"\",NA(),#REF!),NA()),NA())","v":{"$error":"#REF!"}},{"$f":"IF(#REF!=$E$1,IF(#REF!=$G$1,IF(#REF!=\"\",NA(),#REF!),NA()),NA())","v":{"$error":"#REF!"}},{"$error":"#REF!"},{"$error":"#REF!"}]
[null,null,null,{"$f":"IF(#REF!=$E$1,IF(#REF!=$G$1,#REF!,NA()),NA())","v":{"$error":"#REF!"}},{"$f":"IF(#REF!=$E$1,IF(#REF!=$G$1,#REF!,NA()),NA())","v":{"$error":"#REF!"}},{"$f":"IF(#REF!=$E$1,IF(#REF!=$G$1,IF(#REF!=\"\",NA(),#REF!),NA()),NA())","v":{"$error":"#REF!"}},{"$f":"IF(#REF!=$E$1,IF(#REF!=$G$1,IF(#REF!=\"\",NA(),#REF!),NA()),NA())","v":{"$error":"#REF!"}},{"$error":"#REF!"},{"$error":"#REF!"}]
[null,null,null,{"$f":"IF(#REF!=$E$1,IF(#REF!=$G$1,#REF!,NA()),NA())","v":{"$error":"#REF!"}},{"$f":"IF(#REF!=$E$1,IF(#REF!=$G$1,#REF!,NA()),NA())","v":{"$error":"#REF!"}},{"$f":"IF(#REF!=$E$1,IF(#REF!=$G$1,IF(#REF!=\"\",NA(),#REF!),NA()),NA())","v":{"$error":"#REF!"}},{"$f":"IF(#REF!=$E$1,IF(#REF!=$G$1,IF(#REF!=\"\",NA(),#REF!),NA()),NA())","v":{"$error":"#REF!"}},{"$error":"#REF!"},{"$error":"#REF!"}]
[null,null,null,{"$f":"IF(#REF!=$E$1,IF(#REF!=$G$1,#REF!,NA()),NA())","v":{"$error":"#REF!"}},{"$f":"IF(#REF!=$E$1,IF(#REF!=$G$1,#REF!,NA()),NA())","v":{"$error":"#REF!"}},{"$f":"IF(#REF!=$E$1,IF(#REF!=$G$1,IF(#REF!=\"\",NA(),#REF!),NA()),NA())","v":{"$error":"#REF!"}},{"$f":"IF(#REF!=$E$1,IF(#REF!=$G$1,IF(#REF!=\"\",NA(),#REF!),NA()),NA())","v":{"$error":"#REF!"}},{"$error":"#REF!"},{"$error":"#REF!"}]
[null,null,null,{"$f":"IF(#REF!=$E$1,IF(#REF!=$G$1,#REF!,NA()),NA())","v":{"$error":"#REF!"}},{"$f":"IF(#REF!=$E$1,IF(#REF!=$G$1,#REF!,NA()),NA())","v":{"$error":"#REF!"}},{"$f":"IF(#REF!=$E$1,IF(#REF!=$G$1,IF(#REF!=\"\",NA(),#REF!),NA()),NA())","v":{"$error":"#REF!"}},{"$f":"IF(#REF!=$E$1,IF(#REF!=$G$1,IF(#REF!=\"\",NA(),#REF!),NA()),NA())","v":{"$error":"#REF!"}},{"$error":"#REF!"},{"$error":"#REF!"}]
[null,null,null,{"$f":"IF(#REF!=$E$1,IF(#REF!=$G$1,#REF!,NA()),NA())","v":{"$error":"#REF!"}},{"$f":"IF(#REF!=$E$1,IF(#REF!=$G$1,#REF!,NA()),NA())","v":{"$error":"#REF!"}},{"$f":"IF(#REF!=$E$1,IF(#REF!=$G$1,IF(#REF!=\"\",NA(),#REF!),NA()),NA())","v":{"$error":"#REF!"}},{"$f":"IF(#REF!=$E$1,IF(#REF!=$G$1,IF(#REF!=\"\",NA(),#REF!),NA()),NA())","v":{"$error":"#REF!"}},{"$error":"#REF!"},{"$error":"#REF!"}]
[null,null,null,{"$f":"IF(#REF!=$E$1,IF(#REF!=$G$1,#REF!,NA()),NA())","v":{"$error":"#REF!"}},{"$f":"IF(#REF!=$E$1,IF(#REF!=$G$1,#REF!,NA()),NA())","v":{"$error":"#REF!"}},{"$f":"IF(#REF!=$E$1,IF(#REF!=$G$1,IF(#REF!=\"\",NA(),#REF!),NA()),NA())","v":{"$error":"#REF!"}},{"$f":"IF(#REF!=$E$1,IF(#REF!=$G$1,IF(#REF!=\"\",NA(),#REF!),NA()),NA())","v":{"$error":"#REF!"}},{"$error":"#REF!"},{"$error":"#REF!"}]
[null,null,null,{"$f":"IF(#REF!=$E$1,IF(#REF!=$G$1,#REF!,NA()),NA())","v":{"$error":"#REF!"}},{"$f":"IF(#REF!=$E$1,IF(#REF!=$G$1,#REF!,NA()),NA())","v":{"$error":"#REF!"}},{"$f":"IF(#REF!=$E$1,IF(#REF!=$G$1,IF(#REF!=\"\",NA(),#REF!),NA()),NA())","v":{"$error":"#REF!"}},{"$f":"IF(#REF!=$E$1,IF(#REF!=$G$1,IF(#REF!=\"\",NA(),#REF!),NA()),NA())","v":{"$error":"#REF!"}},{"$error":"#REF!"},{"$error":"#REF!"}]
[null,null,null,{"$f":"IF(#REF!=$E$1,IF(#REF!=$G$1,#REF!,NA()),NA())","v":{"$error":"#REF!"}},{"$f":"IF(#REF!=$E$1,IF(#REF!=$G$1,#REF!,NA()),NA())","v":{"$error":"#REF!"}},{"$f":"IF(#REF!=$E$1,IF(#REF!=$G$1,IF(#REF!=\"\",NA(),#REF!),NA()),NA())","v":{"$error":"#REF!"}},{"$f":"IF(#REF!=$E$1,IF(#REF!=$G$1,IF(#REF!=\"\",NA(),#REF!),NA()),NA())","v":{"$error":"#REF!"}},{"$error":"#REF!"},{"$error":"#REF!"}]
[null,null,null,{"$f":"IF(#REF!=$E$1,IF(#REF!=$G$1,#REF!,NA()),NA())","v":{"$error":"#REF!"}},{"$f":"IF(#REF!=$E$1,IF(#REF!=$G$1,#REF!,NA()),NA())","v":{"$error":"#REF!"}},{"$f":"IF(#REF!=$E$1,IF(#REF!=$G$1,IF(#REF!=\"\",NA(),#REF!),NA()),NA())","v":{"$error":"#REF!"}},{"$f":"IF(#REF!=$E$1,IF(#REF!=$G$1,IF(#REF!=\"\",NA(),#REF!),NA()),NA())","v":{"$error":"#REF!"}},{"$error":"#REF!"},{"$error":"#REF!"}]
[null,null,null,{"$f":"IF(#REF!=$E$1,IF(#REF!=$G$1,#REF!,NA()),NA())","v":{"$error":"#REF!"}},{"$f":"IF(#REF!=$E$1,IF(#REF!=$G$1,#REF!,NA()),NA())","v":{"$error":"#REF!"}},{"$f":"IF(#REF!=$E$1,IF(#REF!=$G$1,IF(#REF!=\"\",NA(),#REF!),NA()),NA())","v":{"$error":"#REF!"}},{"$f":"IF(#REF!=$E$1,IF(#REF!=$G$1,IF(#REF!=\"\",NA(),#REF!),NA()),NA())","v":{"$error":"#REF!"}},{"$error":"#REF!"},{"$error":"#REF!"}]
[null,null,null,{"$f":"IF(#REF!=$E$1,IF(#REF!=$G$1,#REF!,NA()),NA())","v":{"$error":"#REF!"}},{"$f":"IF(#REF!=$E$1,IF(#REF!=$G$1,#REF!,NA()),NA())","v":{"$error":"#REF!"}},{"$f":"IF(#REF!=$E$1,IF(#REF!=$G$1,IF(#REF!=\"\",NA(),#REF!),NA()),NA())","v":{"$error":"#REF!"}},{"$f":"IF(#REF!=$E$1,IF(#REF!=$G$1,IF(#REF!=\"\",NA(),#REF!),NA()),NA())","v":{"$error":"#REF!"}},{"$error":"#REF!"},{"$error":"#REF!"}]
[null,null,null,{"$f":"IF(#REF!=$E$1,IF(#REF!=$G$1,#REF!,NA()),NA())","v":{"$error":"#REF!"}},{"$f":"IF(#REF!=$E$1,IF(#REF!=$G$1,#REF!,NA()),NA())","v":{"$error":"#REF!"}},{"$f":"IF(#REF!=$E$1,IF(#REF!=$G$1,IF(#REF!=\"\",NA(),#REF!),NA()),NA())","v":{"$error":"#REF!"}},{"$f":"IF(#REF!=$E$1,IF(#REF!=$G$1,IF(#REF!=\"\",NA(),#REF!),NA()),NA())","v":{"$error":"#REF!"}},{"$error":"#REF!"},{"$error":"#REF!"}]
[null,null,null,{"$f":"IF(#REF!=$E$1,IF(#REF!=$G$1,#REF!,NA()),NA())","v":{"$error":"#REF!"}},{"$f":"IF(#REF!=$E$1,IF(#REF!=$G$1,#REF!,NA()),NA())","v":{"$error":"#REF!"}},{"$f":"IF(#REF!=$E$1,IF(#REF!=$G$1,IF(#REF!=\"\",NA(),#REF!),NA()),NA())","v":{"$error":"#REF!"}},{"$f":"IF(#REF!=$E$1,IF(#REF!=$G$1,IF(#REF!=\"\",NA(),#REF!),NA()),NA())","v":{"$error":"#REF!"}},{"$error":"#REF!"},{"$error":"#REF!"}]
[null,null,null,{"$f":"IF(#REF!=$E$1,IF(#REF!=$G$1,#REF!,NA()),NA())","v":{"$error":"#REF!"}},{"$f":"IF(#REF!=$E$1,IF(#REF!=$G$1,#REF!,NA()),NA())","v":{"$error":"#REF!"}},{"$f":"IF(#REF!=$E$1,IF(#REF!=$G$1,IF(#REF!=\"\",NA(),#REF!),NA()),NA())","v":{"$error":"#REF!"}},{"$f":"IF(#REF!=$E$1,IF(#REF!=$G$1,IF(#REF!=\"\",NA(),#REF!),NA()),NA())","v":{"$error":"#REF!"}},{"$error":"#REF!"},{"$error":"#REF!"}]
[null,null,null,{"$f":"IF(#REF!=$E$1,IF(#REF!=$G$1,#REF!,NA()),NA())","v":{"$error":"#REF!"}},{"$f":"IF(#REF!=$E$1,IF(#REF!=$G$1,#REF!,NA()),NA())","v":{"$error":"#REF!"}},{"$f":"IF(#REF!=$E$1,IF(#REF!=$G$1,IF(#REF!=\"\",NA(),#REF!),NA()),NA())","v":{"$error":"#REF!"}},{"$f":"IF(#REF!=$E$1,IF(#REF!=$G$1,IF(#REF!=\"\",NA(),#REF!),NA()),NA())","v":{"$error":"#REF!"}},{"$error":"#REF!"},{"$error":"#REF!"}]
[null,null,null,{"$f":"IF(#REF!=$E$1,IF(#REF!=$G$1,#REF!,NA()),NA())","v":{"$error":"#REF!"}},{"$f":"IF(#REF!=$E$1,IF(#REF!=$G$1,#REF!,NA()),NA())","v":{"$error":"#REF!"}},{"$f":"IF(#REF!=$E$1,IF(#REF!=$G$1,IF(#REF!=\"\",NA(),#REF!),NA()),NA())","v":{"$error":"#REF!"}},{"$f":"IF(#REF!=$E$1,IF(#REF!=$G$1,IF(#REF!=\"\",NA(),#REF!),NA()),NA())","v":{"$error":"#REF!"}},{"$error":"#REF!"},{"$error":"#REF!"}]
[null,null,null,{"$f":"IF(#REF!=$E$1,IF(#REF!=$G$1,#REF!,NA()),NA())","v":{"$error":"#REF!"}},{"$f":"IF(#REF!=$E$1,IF(#REF!=$G$1,#REF!,NA()),NA())","v":{"$error":"#REF!"}},{"$f":"IF(#REF!=$E$1,IF(#REF!=$G$1,IF(#REF!=\"\",NA(),#REF!),NA()),NA())","v":{"$error":"#REF!"}},{"$f":"IF(#REF!=$E$1,IF(#REF!=$G$1,IF(#REF!=\"\",NA(),#REF!),NA()),NA())","v":{"$error":"#REF!"}},{"$error":"#REF!"},{"$error":"#REF!"}]
[null,null,null,{"$f":"IF(#REF!=$E$1,IF(#REF!=$G$1,#REF!,NA()),NA())","v":{"$error":"#REF!"}},{"$f":"IF(#REF!=$E$1,IF(#REF!=$G$1,#REF!,NA()),NA())","v":{"$error":"#REF!"}},{"$f":"IF(#REF!=$E$1,IF(#REF!=$G$1,IF(#REF!=\"\",NA(),#REF!),NA()),NA())","v":{"$error":"#REF!"}},{"$f":"IF(#REF!=$E$1,IF(#REF!=$G$1,IF(#REF!=\"\",NA(),#REF!),NA()),NA())","v":{"$error":"#REF!"}},{"$error":"#REF!"},{"$error":"#REF!"}]
[null,null,null,{"$f":"IF(#REF!=$E$1,IF(#REF!=$G$1,#REF!,NA()),NA())","v":{"$error":"#REF!"}},{"$f":"IF(#REF!=$E$1,IF(#REF!=$G$1,#REF!,NA()),NA())","v":{"$error":"#REF!"}},{"$f":"IF(#REF!=$E$1,IF(#REF!=$G$1,IF(#REF!=\"\",NA(),#REF!),NA()),NA())","v":{"$error":"#REF!"}},{"$f":"IF(#REF!=$E$1,IF(#REF!=$G$1,IF(#REF!=\"\",NA(),#REF!),NA()),NA())","v":{"$error":"#REF!"}},{"$error":"#REF!"},{"$error":"#REF!"}]
[null,null,null,{"$f":"IF(#REF!=$E$1,IF(#REF!=$G$1,#REF!,NA()),NA())","v":{"$error":"#REF!"}},{"$f":"IF(#REF!=$E$1,IF(#REF!=$G$1,#REF!,NA()),NA())","v":{"$error":"#REF!"}},{"$f":"IF(#REF!=$E$1,IF(#REF!=$G$1,IF(#REF!=\"\",NA(),#REF!),NA()),NA())","v":{"$error":"#REF!"}},{"$f":"IF(#REF!=$E$1,IF(#REF!=$G$1,IF(#REF!=\"\",NA(),#REF!),NA()),NA())","v":{"$error":"#REF!"}},{"$error":"#REF!"},{"$error":"#REF!"}]
[null,null,null,{"$f":"IF(#REF!=$E$1,IF(#REF!=$G$1,#REF!,NA()),NA())","v":{"$error":"#REF!"}},{"$f":"IF(#REF!=$E$1,IF(#REF!=$G$1,#REF!,NA()),NA())","v":{"$error":"#REF!"}},{"$f":"IF(#REF!=$E$1,IF(#REF!=$G$1,IF(#REF!=\"\",NA(),#REF!),NA()),NA())","v":{"$error":"#REF!"}},{"$f":"IF(#REF!=$E$1,IF(#REF!=$G$1,IF(#REF!=\"\",NA(),#REF!),NA()),NA())","v":{"$error":"#REF!"}},{"$error":"#REF!"},{"$error":"#REF!"}]
[null,null,null,{"$f":"IF(#REF!=$E$1,IF(#REF!=$G$1,#REF!,NA()),NA())","v":{"$error":"#REF!"}},{"$f":"IF(#REF!=$E$1,IF(#REF!=$G$1,#REF!,NA()),NA())","v":{"$error":"#REF!"}},{"$f":"IF(#REF!=$E$1,IF(#REF!=$G$1,IF(#REF!=\"\",NA(),#REF!),NA()),NA())","v":{"$error":"#REF!"}},{"$f":"IF(#REF!=$E$1,IF(#REF!=$G$1,IF(#REF!=\"\",NA(),#REF!),NA()),NA())","v":{"$error":"#REF!"}},{"$error":"#REF!"},{"$error":"#REF!"}]
[null,null,null,{"$f":"IF(#REF!=$E$1,IF(#REF!=$G$1,#REF!,NA()),NA())","v":{"$error":"#REF!"}},{"$f":"IF(#REF!=$E$1,IF(#REF!=$G$1,#REF!,NA()),NA())","v":{"$error":"#REF!"}},{"$f":"IF(#REF!=$E$1,IF(#REF!=$G$1,IF(#REF!=\"\",NA(),#REF!),NA()),NA())","v":{"$error":"#REF!"}},{"$f":"IF(#REF!=$E$1,IF(#REF!=$G$1,IF(#REF!=\"\",NA(),#REF!),NA()),NA())","v":{"$error":"#REF!"}},{"$error":"#REF!"},{"$error":"#REF!"}]
[null,null,null,{"$f":"IF(#REF!=$E$1,IF(#REF!=$G$1,#REF!,NA()),NA())","v":{"$error":"#REF!"}},{"$f":"IF(#REF!=$E$1,IF(#REF!=$G$1,#REF!,NA()),NA())","v":{"$error":"#REF!"}},{"$f":"IF(#REF!=$E$1,IF(#REF!=$G$1,IF(#REF!=\"\",NA(),#REF!),NA()),NA())","v":{"$error":"#REF!"}},{"$f":"IF(#REF!=$E$1,IF(#REF!=$G$1,IF(#REF!=\"\",NA(),#REF!),NA()),NA())","v":{"$error":"#REF!"}},{"$error":"#REF!"},{"$error":"#REF!"}]
[null,null,null,{"$f":"IF(#REF!=$E$1,IF(#REF!=$G$1,#REF!,NA()),NA())","v":{"$error":"#REF!"}},{"$f":"IF(#REF!=$E$1,IF(#REF!=$G$1,#REF!,NA()),NA())","v":{"$error":"#REF!"}},{"$f":"IF(#REF!=$E$1,IF(#REF!=$G$1,IF(#REF!=\"\",NA(),#REF!),NA()),NA())","v":{"$error":"#REF!"}},{"$f":"IF(#REF!=$E$1,IF(#REF!=$G$1,IF(#REF!=\"\",NA(),#REF!),NA()),NA())","v":{"$error":"#REF!"}},{"$error":"#REF!"},{"$error":"#REF!"}]
[null,null,null,{"$f":"IF(#REF!=$E$1,IF(#REF!=$G$1,#REF!,NA()),NA())","v":{"$error":"#REF!"}},{"$f":"IF(#REF!=$E$1,IF(#REF!=$G$1,#REF!,NA()),NA())","v":{"$error":"#REF!"}},{"$f":"IF(#REF!=$E$1,IF(#REF!=$G$1,IF(#REF!=\"\",NA(),#REF!),NA()),NA())","v":{"$error":"#REF!"}},{"$f":"IF(#REF!=$E$1,IF(#REF!=$G$1,IF(#REF!=\"\",NA(),#REF!),NA()),NA())","v":{"$error":"#REF!"}},{"$error":"#REF!"},{"$error":"#REF!"}]
[null,null,null,{"$f":"IF(#REF!=$E$1,IF(#REF!=$G$1,#REF!,NA()),NA())","v":{"$error":"#REF!"}},{"$f":"IF(#REF!=$E$1,IF(#REF!=$G$1,#REF!,NA()),NA())","v":{"$error":"#REF!"}},{"$f":"IF(#REF!=$E$1,IF(#REF!=$G$1,IF(#REF!=\"\",NA(),#REF!),NA()),NA())","v":{"$error":"#REF!"}},{"$f":"IF(#REF!=$E$1,IF(#REF!=$G$1,IF(#REF!=\"\",NA(),#REF!),NA()),NA())","v":{"$error":"#REF!"}},{"$error":"#REF!"},{"$error":"#REF!"}]
[null,null,null,{"$f":"IF(#REF!=$E$1,IF(#REF!=$G$1,#REF!,NA()),NA())","v":{"$error":"#REF!"}},{"$f":"IF(#REF!=$E$1,IF(#REF!=$G$1,#REF!,NA()),NA())","v":{"$error":"#REF!"}},{"$f":"IF(#REF!=$E$1,IF(#REF!=$G$1,IF(#REF!=\"\",NA(),#REF!),NA()),NA())","v":{"$error":"#REF!"}},{"$f":"IF(#REF!=$E$1,IF(#REF!=$G$1,IF(#REF!=\"\",NA(),#REF!),NA()),NA())","v":{"$error":"#REF!"}},{"$error":"#REF!"},{"$error":"#REF!"}]
[null,null,null,{"$f":"IF(#REF!=$E$1,IF(#REF!=$G$1,#REF!,NA()),NA())","v":{"$error":"#REF!"}},{"$f":"IF(#REF!=$E$1,IF(#REF!=$G$1,#REF!,NA()),NA())","v":{"$error":"#REF!"}},{"$f":"IF(#REF!=$E$1,IF(#REF!=$G$1,IF(#REF!=\"\",NA(),#REF!),NA()),NA())","v":{"$error":"#REF!"}},{"$f":"IF(#REF!=$E$1,IF(#REF!=$G$1,IF(#REF!=\"\",NA(),#REF!),NA()),NA())","v":{"$error":"#REF!"}},{"$error":"#REF!"},{"$error":"#REF!"}]
[null,null,null,{"$f":"IF(#REF!=$E$1,IF(#REF!=$G$1,#REF!,NA()),NA())","v":{"$error":"#REF!"}},{"$f":"IF(#REF!=$E$1,IF(#REF!=$G$1,#REF!,NA()),NA())","v":{"$error":"#REF!"}},{"$f":"IF(#REF!=$E$1,IF(#REF!=$G$1,IF(#REF!=\"\",NA(),#REF!),NA()),NA())","v":{"$error":"#REF!"}},{"$f":"IF(#REF!=$E$1,IF(#REF!=$G$1,IF(#REF!=\"\",NA(),#REF!),NA()),NA())","v":{"$error":"#REF!"}},{"$error":"#REF!"},{"$error":"#REF!"}]
[null,null,null,{"$f":"IF(#REF!=$E$1,IF(#REF!=$G$1,#REF!,NA()),NA())","v":{"$error":"#REF!"}},{"$f":"IF(#REF!=$E$1,IF(#REF!=$G$1,#REF!,NA()),NA())","v":{"$error":"#REF!"}},{"$f":"IF(#REF!=$E$1,IF(#REF!=$G$1,IF(#REF!=\"\",NA(),#REF!),NA()),NA())","v":{"$error":"#REF!"}},{"$f":"IF(#REF!=$E$1,IF(#REF!=$G$1,IF(#REF!=\"\",NA(),#REF!),NA()),NA())","v":{"$error":"#REF!"}},{"$error":"#REF!"},{"$error":"#REF!"}]
[null,null,null,{"$f":"IF(#REF!=$E$1,IF(#REF!=$G$1,#REF!,NA()),NA())","v":{"$error":"#REF!"}},{"$f":"IF(#REF!=$E$1,IF(#REF!=$G$1,#REF!,NA()),NA())","v":{"$error":"#REF!"}},{"$f":"IF(#REF!=$E$1,IF(#REF!=$G$1,IF(#REF!=\"\",NA(),#REF!),NA()),NA())","v":{"$error":"#REF!"}},{"$f":"IF(#REF!=$E$1,IF(#REF!=$G$1,IF(#REF!=\"\",NA(),#REF!),NA()),NA())","v":{"$error":"#REF!"}},{"$error":"#REF!"},{"$error":"#REF!"}]
[null,null,null,{"$f":"IF(#REF!=$E$1,IF(#REF!=$G$1,#REF!,NA()),NA())","v":{"$error":"#REF!"}},{"$f":"IF(#REF!=$E$1,IF(#REF!=$G$1,#REF!,NA()),NA())","v":{"$error":"#REF!"}},{"$f":"IF(#REF!=$E$1,IF(#REF!=$G$1,IF(#REF!=\"\",NA(),#REF!),NA()),NA())","v":{"$error":"#REF!"}},{"$f":"IF(#REF!=$E$1,IF(#REF!=$G$1,IF(#REF!=\"\",NA(),#REF!),NA()),NA())","v":{"$error":"#REF!"}},{"$error":"#REF!"},{"$error":"#REF!"}]
[null,null,null,{"$f":"IF(#REF!=$E$1,IF(#REF!=$G$1,#REF!,NA()),NA())","v":{"$error":"#REF!"}},{"$f":"IF(#REF!=$E$1,IF(#REF!=$G$1,#REF!,NA()),NA())","v":{"$error":"#REF!"}},{"$f":"IF(#REF!=$E$1,IF(#REF!=$G$1,IF(#REF!=\"\",NA(),#REF!),NA()),NA())","v":{"$error":"#REF!"}},{"$f":"IF(#REF!=$E$1,IF(#REF!=$G$1,IF(#REF!=\"\",NA(),#REF!),NA()),NA())","v":{"$error":"#REF!"}},{"$error":"#REF!"},{"$error":"#REF!"}]
[null,null,null,{"$f":"IF(#REF!=$E$1,IF(#REF!=$G$1,#REF!,NA()),NA())","v":{"$error":"#REF!"}},{"$f":"IF(#REF!=$E$1,IF(#REF!=$G$1,#REF!,NA()),NA())","v":{"$error":"#REF!"}},{"$f":"IF(#REF!=$E$1,IF(#REF!=$G$1,IF(#REF!=\"\",NA(),#REF!),NA()),NA())","v":{"$error":"#REF!"}},{"$f":"IF(#REF!=$E$1,IF(#REF!=$G$1,IF(#REF!=\"\",NA(),#REF!),NA()),NA())","v":{"$error":"#REF!"}},{"$error":"#REF!"},{"$error":"#REF!"}]
[null,null,null,{"$f":"IF(#REF!=$E$1,IF(#REF!=$G$1,#REF!,NA()),NA())","v":{"$error":"#REF!"}},{"$f":"IF(#REF!=$E$1,IF(#REF!=$G$1,#REF!,NA()),NA())","v":{"$error":"#REF!"}},{"$f":"IF(#REF!=$E$1,IF(#REF!=$G$1,IF(#REF!=\"\",NA(),#REF!),NA()),NA())","v":{"$error":"#REF!"}},{"$f":"IF(#REF!=$E$1,IF(#REF!=$G$1,IF(#REF!=\"\",NA(),#REF!),NA()),NA())","v":{"$error":"#REF!"}},{"$error":"#REF!"},{"$error":"#REF!"}]
[null,null,null,{"$f":"IF(#REF!=$E$1,IF(#REF!=$G$1,#REF!,NA()),NA())","v":{"$error":"#REF!"}},{"$f":"IF(#REF!=$E$1,IF(#REF!=$G$1,#REF!,NA()),NA())","v":{"$error":"#REF!"}},{"$f":"IF(#REF!=$E$1,IF(#REF!=$G$1,IF(#REF!=\"\",NA(),#REF!),NA()),NA())","v":{"$error":"#REF!"}},{"$f":"IF(#REF!=$E$1,IF(#REF!=$G$1,IF(#REF!=\"\",NA(),#REF!),NA()),NA())","v":{"$error":"#REF!"}},{"$error":"#REF!"},{"$error":"#REF!"}]
[null,null,null,{"$f":"IF(#REF!=$E$1,IF(#REF!=$G$1,#REF!,NA()),NA())","v":{"$error":"#REF!"}},{"$f":"IF(#REF!=$E$1,IF(#REF!=$G$1,#REF!,NA()),NA())","v":{"$error":"#REF!"}},{"$f":"IF(#REF!=$E$1,IF(#REF!=$G$1,IF(#REF!=\"\",NA(),#REF!),NA()),NA())","v":{"$error":"#REF!"}},{"$f":"IF(#REF!=$E$1,IF(#REF!=$G$1,IF(#REF!=\"\",NA(),#REF!),NA()),NA())","v":{"$error":"#REF!"}},{"$error":"#REF!"},{"$error":"#REF!"}]
[null,null,null,{"$f":"IF(#REF!=$E$1,IF(#REF!=$G$1,#REF!,NA()),NA())","v":{"$error":"#REF!"}},{"$f":"IF(#REF!=$E$1,IF(#REF!=$G$1,#REF!,NA()),NA())","v":{"$error":"#REF!"}},{"$f":"IF(#REF!=$E$1,IF(#REF!=$G$1,IF(#REF!=\"\",NA(),#REF!),NA()),NA())","v":{"$error":"#REF!"}},{"$f":"IF(#REF!=$E$1,IF(#REF!=$G$1,IF(#REF!=\"\",NA(),#REF!),NA()),NA())","v":{"$error":"#REF!"}},{"$error":"#REF!"},{"$error":"#REF!"}]
[null,null,null,{"$f":"IF(#REF!=$E$1,IF(#REF!=$G$1,#REF!,NA()),NA())","v":{"$error":"#REF!"}},{"$f":"IF(#REF!=$E$1,IF(#REF!=$G$1,#REF!,NA()),NA())","v":{"$error":"#REF!"}},{"$f":"IF(#REF!=$E$1,IF(#REF!=$G$1,IF(#REF!=\"\",NA(),#REF!),NA()),NA())","v":{"$error":"#REF!"}},{"$f":"IF(#REF!=$E$1,IF(#REF!=$G$1,IF(#REF!=\"\",NA(),#REF!),NA()),NA())","v":{"$error":"#REF!"}},{"$error":"#REF!"},{"$error":"#REF!"}]
[null,null,null,{"$f":"IF(#REF!=$E$1,IF(#REF!=$G$1,#REF!,NA()),NA())","v":{"$error":"#REF!"}},{"$f":"IF(#REF!=$E$1,IF(#REF!=$G$1,#REF!,NA()),NA())","v":{"$error":"#REF!"}},{"$f":"IF(#REF!=$E$1,IF(#REF!=$G$1,IF(#REF!=\"\",NA(),#REF!),NA()),NA())","v":{"$error":"#REF!"}},{"$f":"IF(#REF!=$E$1,IF(#REF!=$G$1,IF(#REF!=\"\",NA(),#REF!),NA()),NA())","v":{"$error":"#REF!"}},{"$error":"#REF!"},{"$error":"#REF!"}]
[null,null,null,{"$f":"IF(#REF!=$E$1,IF(#REF!=$G$1,#REF!,NA()),NA())","v":{"$error":"#REF!"}},{"$f":"IF(#REF!=$E$1,IF(#REF!=$G$1,#REF!,NA()),NA())","v":{"$error":"#REF!"}},{"$f":"IF(#REF!=$E$1,IF(#REF!=$G$1,IF(#REF!=\"\",NA(),#REF!),NA()),NA())","v":{"$error":"#REF!"}},{"$f":"IF(#REF!=$E$1,IF(#REF!=$G$1,IF(#REF!=\"\",NA(),#REF!),NA()),NA())","v":{"$error":"#REF!"}},{"$error":"#REF!"},{"$error":"#REF!"}]
[null,null,null,{"$f":"IF(#REF!=$E$1,IF(#REF!=$G$1,#REF!,NA()),NA())","v":{"$error":"#REF!"}},{"$f":"IF(#REF!=$E$1,IF(#REF!=$G$1,#REF!,NA()),NA())","v":{"$error":"#REF!"}},{"$f":"IF(#REF!=$E$1,IF(#REF!=$G$1,IF(#REF!=\"\",NA(),#REF!),NA()),NA())","v":{"$error":"#REF!"}},{"$f":"IF(#REF!=$E$1,IF(#REF!=$G$1,IF(#REF!=\"\",NA(),#REF!),NA()),NA())","v":{"$error":"#REF!"}},{"$f":"IF(AND(ISNUMBER(G324),F324=\"-\"),0,F324)","v":{"$error":"#REF!"}},{"$f":"IF(AND(ISNUMBER(F324),G324=\"-\"),0,G324)","v":{"$error":"#REF!"}}]
[null,null,null,{"$f":"IF(#REF!=$E$1,IF(#REF!=$G$1,#REF!,NA()),NA())","v":{"$error":"#REF!"}},{"$f":"IF(#REF!=$E$1,IF(#REF!=$G$1,#REF!,NA()),NA())","v":{"$error":"#REF!"}},{"$f":"IF(#REF!=$E$1,IF(#REF!=$G$1,IF(#REF!=\"\",NA(),#REF!),NA()),NA())","v":{"$error":"#REF!"}},{"$f":"IF(#REF!=$E$1,IF(#REF!=$G$1,IF(#REF!=\"\",NA(),#REF!),NA()),NA())","v":{"$error":"#REF!"}},{"$error":"#REF!"},{"$error":"#REF!"}]
[null,null,null,{"$f":"IF(#REF!=$E$1,IF(#REF!=$G$1,#REF!,NA()),NA())","v":{"$error":"#REF!"}},{"$f":"IF(#REF!=$E$1,IF(#REF!=$G$1,#REF!,NA()),NA())","v":{"$error":"#REF!"}},{"$f":"IF(#REF!=$E$1,IF(#REF!=$G$1,IF(#REF!=\"\",NA(),#REF!),NA()),NA())","v":{"$error":"#REF!"}},{"$f":"IF(#REF!=$E$1,IF(#REF!=$G$1,IF(#REF!=\"\",NA(),#REF!),NA()),NA())","v":{"$error":"#REF!"}},{"$error":"#REF!"},{"$error":"#REF!"}]
[null,null,null,{"$f":"IF(#REF!=$E$1,IF(#REF!=$G$1,#REF!,NA()),NA())","v":{"$error":"#REF!"}},{"$f":"IF(#REF!=$E$1,IF(#REF!=$G$1,#REF!,NA()),NA())","v":{"$error":"#REF!"}},{"$f":"IF(#REF!=$E$1,IF(#REF!=$G$1,IF(#REF!=\"\",NA(),#REF!),NA()),NA())","v":{"$error":"#REF!"}},{"$f":"IF(#REF!=$E$1,IF(#REF!=$G$1,IF(#REF!=\"\",NA(),#REF!),NA()),NA())","v":{"$error":"#REF!"}},{"$error":"#REF!"},{"$error":"#REF!"}]
[null,null,null,{"$f":"IF(#REF!=$E$1,IF(#REF!=$G$1,#REF!,NA()),NA())","v":{"$error":"#REF!"}},{"$f":"IF(#REF!=$E$1,IF(#REF!=$G$1,#REF!,NA()),NA())","v":{"$error":"#REF!"}},{"$f":"IF(#REF!=$E$1,IF(#REF!=$G$1,IF(#REF!=\"\",NA(),#REF!),NA()),NA())","v":{"$error":"#REF!"}},{"$f":"IF(#REF!=$E$1,IF(#REF!=$G$1,IF(#REF!=\"\",NA(),#REF!),NA()),NA())","v":{"$error":"#REF!"}},{"$error":"#REF!"},{"$error":"#REF!"}]
[null,null,null,{"$f":"IF(#REF!=$E$1,IF(#REF!=$G$1,#REF!,NA()),NA())","v":{"$error":"#REF!"}},{"$f":"IF(#REF!=$E$1,IF(#REF!=$G$1,#REF!,NA()),NA())","v":{"$error":"#REF!"}},{"$f":"IF(#REF!=$E$1,IF(#REF!=$G$1,IF(#REF!=\"\",NA(),#REF!),NA()),NA())","v":{"$error":"#REF!"}},{"$f":"IF(#REF!=$E$1,IF(#REF!=$G$1,IF(#REF!=\"\",NA(),#REF!),NA()),NA())","v":{"$error":"#REF!"}},{"$error":"#REF!"},{"$error":"#REF!"}]
[null,null,null,{"$f":"IF(#REF!=$E$1,IF(#REF!=$G$1,#REF!,NA()),NA())","v":{"$error":"#REF!"}},{"$f":"IF(#REF!=$E$1,IF(#REF!=$G$1,#REF!,NA()),NA())","v":{"$error":"#REF!"}},{"$f":"IF(#REF!=$E$1,IF(#REF!=$G$1,IF(#REF!=\"\",NA(),#REF!),NA()),NA())","v":{"$error":"#REF!"}},{"$f":"IF(#REF!=$E$1,IF(#REF!=$G$1,IF(#REF!=\"\",NA(),#REF!),NA()),NA())","v":{"$error":"#REF!"}},{"$error":"#REF!"},{"$error":"#REF!"}]
[null,null,null,{"$f":"IF(#REF!=$E$1,IF(#REF!=$G$1,#REF!,NA()),NA())","v":{"$error":"#REF!"}},{"$f":"IF(#REF!=$E$1,IF(#REF!=$G$1,#REF!,NA()),NA())","v":{"$error":"#REF!"}},{"$f":"IF(#REF!=$E$1,IF(#REF!=$G$1,IF(#REF!=\"\",NA(),#REF!),NA()),NA())","v":{"$error":"#REF!"}},{"$f":"IF(#REF!=$E$1,IF(#REF!=$G$1,IF(#REF!=\"\",NA(),#REF!),NA()),NA())","v":{"$error":"#REF!"}},{"$error":"#REF!"},{"$error":"#REF!"}]
[null,null,null,{"$f":"IF(#REF!=$E$1,IF(#REF!=$G$1,#REF!,NA()),NA())","v":{"$error":"#REF!"}},{"$f":"IF(#REF!=$E$1,IF(#REF!=$G$1,#REF!,NA()),NA())","v":{"$error":"#REF!"}},{"$f":"IF(#REF!=$E$1,IF(#REF!=$G$1,IF(#REF!=\"\",NA(),#REF!),NA()),NA())","v":{"$error":"#REF!"}},{"$f":"IF(#REF!=$E$1,IF(#REF!=$G$1,IF(#REF!=\"\",NA(),#REF!),NA()),NA())","v":{"$error":"#REF!"}},{"$error":"#REF!"},{"$error":"#REF!"}]
[null,null,null,{"$f":"IF(#REF!=$E$1,IF(#REF!=$G$1,#REF!,NA()),NA())","v":{"$error":"#REF!"}},{"$f":"IF(#REF!=$E$1,IF(#REF!=$G$1,#REF!,NA()),NA())","v":{"$error":"#REF!"}},{"$f":"IF(#REF!=$E$1,IF(#REF!=$G$1,IF(#REF!=\"\",NA(),#REF!),NA()),NA())","v":{"$error":"#REF!"}},{"$f":"IF(#REF!=$E$1,IF(#REF!=$G$1,IF(#REF!=\"\",NA(),#REF!),NA()),NA())","v":{"$error":"#REF!"}},{"$error":"#REF!"},{"$error":"#REF!"}]
[null,null,null,{"$f":"IF(#REF!=$E$1,IF(#REF!=$G$1,#REF!,NA()),NA())","v":{"$error":"#REF!"}},{"$f":"IF(#REF!=$E$1,IF(#REF!=$G$1,#REF!,NA()),NA())","v":{"$error":"#REF!"}},{"$f":"IF(#REF!=$E$1,IF(#REF!=$G$1,IF(#REF!=\"\",NA(),#REF!),NA()),NA())","v":{"$error":"#REF!"}},{"$f":"IF(#REF!=$E$1,IF(#REF!=$G$1,IF(#REF!=\"\",NA(),#REF!),NA()),NA())","v":{"$error":"#REF!"}},{"$error":"#REF!"},{"$error":"#REF!"}]
[null,null,null,{"$f":"IF(#REF!=$E$1,IF(#REF!=$G$1,#REF!,NA()),NA())","v":{"$error":"#REF!"}},{"$f":"IF(#REF!=$E$1,IF(#REF!=$G$1,#REF!,NA()),NA())","v":{"$error":"#REF!"}},{"$f":"IF(#REF!=$E$1,IF(#REF!=$G$1,IF(#REF!=\"\",NA(),#REF!),NA()),NA())","v":{"$error":"#REF!"}},{"$f":"IF(#REF!=$E$1,IF(#REF!=$G$1,IF(#REF!=\"\",NA(),#REF!),NA()),NA())","v":{"$error":"#REF!"}},{"$error":"#REF!"},{"$error":"#REF!"}]
[null,null,null,{"$f":"IF(#REF!=$E$1,IF(#REF!=$G$1,#REF!,NA()),NA())","v":{"$error":"#REF!"}},{"$f":"IF(#REF!=$E$1,IF(#REF!=$G$1,#REF!,NA()),NA())","v":{"$error":"#REF!"}},{"$f":"IF(#REF!=$E$1,IF(#REF!=$G$1,IF(#REF!=\"\",NA(),#REF!),NA()),NA())","v":{"$error":"#REF!"}},{"$f":"IF(#REF!=$E$1,IF(#REF!=$G$1,IF(#REF!=\"\",NA(),#REF!),NA()),NA())","v":{"$error":"#REF!"}},{"$error":"#REF!"},{"$error":"#REF!"}]
[null,null,null,{"$f":"IF(#REF!=$E$1,IF(#REF!=$G$1,#REF!,NA()),NA())","v":{"$error":"#REF!"}},{"$f":"IF(#REF!=$E$1,IF(#REF!=$G$1,#REF!,NA()),NA())","v":{"$error":"#REF!"}},{"$f":"IF(#REF!=$E$1,IF(#REF!=$G$1,IF(#REF!=\"\",NA(),#REF!),NA()),NA())","v":{"$error":"#REF!"}},{"$f":"IF(#REF!=$E$1,IF(#REF!=$G$1,IF(#REF!=\"\",NA(),#REF!),NA()),NA())","v":{"$error":"#REF!"}},{"$error":"#REF!"},{"$error":"#REF!"}]
[null,null,null,{"$f":"IF(#REF!=$E$1,IF(#REF!=$G$1,#REF!,NA()),NA())","v":{"$error":"#REF!"}},{"$f":"IF(#REF!=$E$1,IF(#REF!=$G$1,#REF!,NA()),NA())","v":{"$error":"#REF!"}},{"$f":"IF(#REF!=$E$1,IF(#REF!=$G$1,IF(#REF!=\"\",NA(),#REF!),NA()),NA())","v":{"$error":"#REF!"}},{"$f":"IF(#REF!=$E$1,IF(#REF!=$G$1,IF(#REF!=\"\",NA(),#REF!),NA()),NA())","v":{"$error":"#REF!"}},{"$error":"#REF!"},{"$error":"#REF!"}]
[null,null,null,{"$f":"IF(#REF!=$E$1,IF(#REF!=$G$1,#REF!,NA()),NA())","v":{"$error":"#REF!"}},{"$f":"IF(#REF!=$E$1,IF(#REF!=$G$1,#REF!,NA()),NA())","v":{"$error":"#REF!"}},{"$f":"IF(#REF!=$E$1,IF(#REF!=$G$1,IF(#REF!=\"\",NA(),#REF!),NA()),NA())","v":{"$error":"#REF!"}},{"$f":"IF(#REF!=$E$1,IF(#REF!=$G$1,IF(#REF!=\"\",NA(),#REF!),NA()),NA())","v":{"$error":"#REF!"}},{"$error":"#REF!"},{"$error":"#REF!"}]
[null,null,null,{"$f":"IF(#REF!=$E$1,IF(#REF!=$G$1,#REF!,NA()),NA())","v":{"$error":"#REF!"}},{"$f":"IF(#REF!=$E$1,IF(#REF!=$G$1,#REF!,NA()),NA())","v":{"$error":"#REF!"}},{"$f":"IF(#REF!=$E$1,IF(#REF!=$G$1,IF(#REF!=\"\",NA(),#REF!),NA()),NA())","v":{"$error":"#REF!"}},{"$f":"IF(#REF!=$E$1,IF(#REF!=$G$1,IF(#REF!=\"\",NA(),#REF!),NA()),NA())","v":{"$error":"#REF!"}},{"$error":"#REF!"},{"$error":"#REF!"}]
[null,null,null,{"$f":"IF(#REF!=$E$1,IF(#REF!=$G$1,#REF!,NA()),NA())","v":{"$error":"#REF!"}},{"$f":"IF(#REF!=$E$1,IF(#REF!=$G$1,#REF!,NA()),NA())","v":{"$error":"#REF!"}},{"$f":"IF(#REF!=$E$1,IF(#REF!=$G$1,IF(#REF!=\"\",NA(),#REF!),NA()),NA())","v":{"$error":"#REF!"}},{"$f":"IF(#REF!=$E$1,IF(#REF!=$G$1,IF(#REF!=\"\",NA(),#REF!),NA()),NA())","v":{"$error":"#REF!"}},{"$error":"#REF!"},{"$error":"#REF!"}]
[null,null,null,{"$f":"IF(#REF!=$E$1,IF(#REF!=$G$1,#REF!,NA()),NA())","v":{"$error":"#REF!"}},{"$f":"IF(#REF!=$E$1,IF(#REF!=$G$1,#REF!,NA()),NA())","v":{"$error":"#REF!"}},{"$f":"IF(#REF!=$E$1,IF(#REF!=$G$1,IF(#REF!=\"\",NA(),#REF!),NA()),NA())","v":{"$error":"#REF!"}},{"$f":"IF(#REF!=$E$1,IF(#REF!=$G$1,IF(#REF!=\"\",NA(),#REF!),NA()),NA())","v":{"$error":"#REF!"}},{"$error":"#REF!"},{"$error":"#REF!"}]
[null,null,null,{"$f":"IF(#REF!=$E$1,IF(#REF!=$G$1,#REF!,NA()),NA())","v":{"$error":"#REF!"}},{"$f":"IF(#REF!=$E$1,IF(#REF!=$G$1,#REF!,NA()),NA())","v":{"$error":"#REF!"}},{"$f":"IF(#REF!=$E$1,IF(#REF!=$G$1,IF(#REF!=\"\",NA(),#REF!),NA()),NA())","v":{"$error":"#REF!"}},{"$f":"IF(#REF!=$E$1,IF(#REF!=$G$1,IF(#REF!=\"\",NA(),#REF!),NA()),NA())","v":{"$error":"#REF!"}},{"$error":"#REF!"},{"$error":"#REF!"}]
[null,null,null,{"$f":"IF(#REF!=$E$1,IF(#REF!=$G$1,#REF!,NA()),NA())","v":{"$error":"#REF!"}},{"$f":"IF(#REF!=$E$1,IF(#REF!=$G$1,#REF!,NA()),NA())","v":{"$error":"#REF!"}},{"$f":"IF(#REF!=$E$1,IF(#REF!=$G$1,IF(#REF!=\"\",NA(),#REF!),NA()),NA())","v":{"$error":"#REF!"}},{"$f":"IF(#REF!=$E$1,IF(#REF!=$G$1,IF(#REF!=\"\",NA(),#REF!),NA()),NA())","v":{"$error":"#REF!"}},{"$error":"#REF!"},{"$error":"#REF!"}]
[null,null,null,{"$f":"IF(#REF!=$E$1,IF(#REF!=$G$1,#REF!,NA()),NA())","v":{"$error":"#REF!"}},{"$f":"IF(#REF!=$E$1,IF(#REF!=$G$1,#REF!,NA()),NA())","v":{"$error":"#REF!"}},{"$f":"IF(#REF!=$E$1,IF(#REF!=$G$1,IF(#REF!=\"\",NA(),#REF!),NA()),NA())","v":{"$error":"#REF!"}},{"$f":"IF(#REF!=$E$1,IF(#REF!=$G$1,IF(#REF!=\"\",NA(),#REF!),NA()),NA())","v":{"$error":"#REF!"}},{"$error":"#REF!"},{"$error":"#REF!"}]
[null,null,null,{"$f":"IF(#REF!=$E$1,IF(#REF!=$G$1,#REF!,NA()),NA())","v":{"$error":"#REF!"}},{"$f":"IF(#REF!=$E$1,IF(#REF!=$G$1,#REF!,NA()),NA())","v":{"$error":"#REF!"}},{"$f":"IF(#REF!=$E$1,IF(#REF!=$G$1,IF(#REF!=\"\",NA(),#REF!),NA()),NA())","v":{"$error":"#REF!"}},{"$f":"IF(#REF!=$E$1,IF(#REF!=$G$1,IF(#REF!=\"\",NA(),#REF!),NA()),NA())","v":{"$error":"#REF!"}},{"$error":"#REF!"},{"$error":"#REF!"}]
[null,null,null,{"$f":"IF(#REF!=$E$1,IF(#REF!=$G$1,#REF!,NA()),NA())","v":{"$error":"#REF!"}},{"$f":"IF(#REF!=$E$1,IF(#REF!=$G$1,#REF!,NA()),NA())","v":{"$error":"#REF!"}},{"$f":"IF(#REF!=$E$1,IF(#REF!=$G$1,IF(#REF!=\"\",NA(),#REF!),NA()),NA())","v":{"$error":"#REF!"}},{"$f":"IF(#REF!=$E$1,IF(#REF!=$G$1,IF(#REF!=\"\",NA(),#REF!),NA()),NA())","v":{"$error":"#REF!"}},{"$error":"#REF!"},{"$error":"#REF!"}]
[null,null,null,{"$f":"IF(#REF!=$E$1,IF(#REF!=$G$1,#REF!,NA()),NA())","v":{"$error":"#REF!"}},{"$f":"IF(#REF!=$E$1,IF(#REF!=$G$1,#REF!,NA()),NA())","v":{"$error":"#REF!"}},{"$f":"IF(#REF!=$E$1,IF(#REF!=$G$1,IF(#REF!=\"\",NA(),#REF!),NA()),NA())","v":{"$error":"#REF!"}},{"$f":"IF(#REF!=$E$1,IF(#REF!=$G$1,IF(#REF!=\"\",NA(),#REF!),NA()),NA())","v":{"$error":"#REF!"}},{"$error":"#REF!"},{"$error":"#REF!"}]
[null,null,null,{"$f":"IF(#REF!=$E$1,IF(#REF!=$G$1,#REF!,NA()),NA())","v":{"$error":"#REF!"}},{"$f":"IF(#REF!=$E$1,IF(#REF!=$G$1,#REF!,NA()),NA())","v":{"$error":"#REF!"}},{"$f":"IF(#REF!=$E$1,IF(#REF!=$G$1,IF(#REF!=\"\",NA(),#REF!),NA()),NA())","v":{"$error":"#REF!"}},{"$f":"IF(#REF!=$E$1,IF(#REF!=$G$1,IF(#REF!=\"\",NA(),#REF!),NA()),NA())","v":{"$error":"#REF!"}},{"$error":"#REF!"},{"$error":"#REF!"}]
[null,null,null,{"$f":"IF(#REF!=$E$1,IF(#REF!=$G$1,#REF!,NA()),NA())","v":{"$error":"#REF!"}},{"$f":"IF(#REF!=$E$1,IF(#REF!=$G$1,#REF!,NA()),NA())","v":{"$error":"#REF!"}},{"$f":"IF(#REF!=$E$1,IF(#REF!=$G$1,IF(#REF!=\"\",NA(),#REF!),NA()),NA())","v":{"$error":"#REF!"}},{"$f":"IF(#REF!=$E$1,IF(#REF!=$G$1,IF(#REF!=\"\",NA(),#REF!),NA()),NA())","v":{"$error":"#REF!"}},{"$error":"#REF!"},{"$error":"#REF!"}]
[null,null,null,{"$f":"IF(#REF!=$E$1,IF(#REF!=$G$1,#REF!,NA()),NA())","v":{"$error":"#REF!"}},{"$f":"IF(#REF!=$E$1,IF(#REF!=$G$1,#REF!,NA()),NA())","v":{"$error":"#REF!"}},{"$f":"IF(#REF!=$E$1,IF(#REF!=$G$1,IF(#REF!=\"\",NA(),#REF!),NA()),NA())","v":{"$error":"#REF!"}},{"$f":"IF(#REF!=$E$1,IF(#REF!=$G$1,IF(#REF!=\"\",NA(),#REF!),NA()),NA())","v":{"$error":"#REF!"}},{"$error":"#REF!"},{"$error":"#REF!"}]
[null,null,null,{"$f":"IF(#REF!=$E$1,IF(#REF!=$G$1,#REF!,NA()),NA())","v":{"$error":"#REF!"}},{"$f":"IF(#REF!=$E$1,IF(#REF!=$G$1,#REF!,NA()),NA())","v":{"$error":"#REF!"}},{"$f":"IF(#REF!=$E$1,IF(#REF!=$G$1,IF(#REF!=\"\",NA(),#REF!),NA()),NA())","v":{"$error":"#REF!"}},{"$f":"IF(#REF!=$E$1,IF(#REF!=$G$1,IF(#REF!=\"\",NA(),#REF!),NA()),NA())","v":{"$error":"#REF!"}},{"$error":"#REF!"},{"$error":"#REF!"}]
[null,null,null,{"$f":"IF(#REF!=$E$1,IF(#REF!=$G$1,#REF!,NA()),NA())","v":{"$error":"#REF!"}},{"$f":"IF(#REF!=$E$1,IF(#REF!=$G$1,#REF!,NA()),NA())","v":{"$error":"#REF!"}},{"$f":"IF(#REF!=$E$1,IF(#REF!=$G$1,IF(#REF!=\"\",NA(),#REF!),NA()),NA())","v":{"$error":"#REF!"}},{"$f":"IF(#REF!=$E$1,IF(#REF!=$G$1,IF(#REF!=\"\",NA(),#REF!),NA()),NA())","v":{"$error":"#REF!"}},{"$error":"#REF!"},{"$error":"#REF!"}]
[null,null,null,{"$f":"IF(#REF!=$E$1,IF(#REF!=$G$1,#REF!,NA()),NA())","v":{"$error":"#REF!"}},{"$f":"IF(#REF!=$E$1,IF(#REF!=$G$1,#REF!,NA()),NA())","v":{"$error":"#REF!"}},{"$f":"IF(#REF!=$E$1,IF(#REF!=$G$1,IF(#REF!=\"\",NA(),#REF!),NA()),NA())","v":{"$error":"#REF!"}},{"$f":"IF(#REF!=$E$1,IF(#REF!=$G$1,IF(#REF!=\"\",NA(),#REF!),NA()),NA())","v":{"$error":"#REF!"}},{"$error":"#REF!"},{"$error":"#REF!"}]
[null,null,null,{"$f":"IF(#REF!=$E$1,IF(#REF!=$G$1,#REF!,NA()),NA())","v":{"$error":"#REF!"}},{"$f":"IF(#REF!=$E$1,IF(#REF!=$G$1,#REF!,NA()),NA())","v":{"$error":"#REF!"}},{"$f":"IF(#REF!=$E$1,IF(#REF!=$G$1,IF(#REF!=\"\",NA(),#REF!),NA()),NA())","v":{"$error":"#REF!"}},{"$f":"IF(#REF!=$E$1,IF(#REF!=$G$1,IF(#REF!=\"\",NA(),#REF!),NA()),NA())","v":{"$error":"#REF!"}},{"$error":"#REF!"},{"$error":"#REF!"}]
[null,null,null,{"$f":"IF(#REF!=$E$1,IF(#REF!=$G$1,#REF!,NA()),NA())","v":{"$error":"#REF!"}},{"$f":"IF(#REF!=$E$1,IF(#REF!=$G$1,#REF!,NA()),NA())","v":{"$error":"#REF!"}},{"$f":"IF(#REF!=$E$1,IF(#REF!=$G$1,IF(#REF!=\"\",NA(),#REF!),NA()),NA())","v":{"$error":"#REF!"}},{"$f":"IF(#REF!=$E$1,IF(#REF!=$G$1,IF(#REF!=\"\",NA(),#REF!),NA()),NA())","v":{"$error":"#REF!"}},{"$error":"#REF!"},{"$error":"#REF!"}]
[null,null,null,{"$f":"IF(#REF!=$E$1,IF(#REF!=$G$1,#REF!,NA()),NA())","v":{"$error":"#REF!"}},{"$f":"IF(#REF!=$E$1,IF(#REF!=$G$1,#REF!,NA()),NA())","v":{"$error":"#REF!"}},{"$f":"IF(#REF!=$E$1,IF(#REF!=$G$1,IF(#REF!=\"\",NA(),#REF!),NA()),NA())","v":{"$error":"#REF!"}},{"$f":"IF(#REF!=$E$1,IF(#REF!=$G$1,IF(#REF!=\"\",NA(),#REF!),NA()),NA())","v":{"$error":"#REF!"}},{"$error":"#REF!"},{"$error":"#REF!"}]
[null,null,null,{"$f":"IF(#REF!=$E$1,IF(#REF!=$G$1,#REF!,NA()),NA())","v":{"$error":"#REF!"}},{"$f":"IF(#REF!=$E$1,IF(#REF!=$G$1,#REF!,NA()),NA())","v":{"$error":"#REF!"}},{"$f":"IF(#REF!=$E$1,IF(#REF!=$G$1,IF(#REF!=\"\",NA(),#REF!),NA()),NA())","v":{"$error":"#REF!"}},{"$f":"IF(#REF!=$E$1,IF(#REF!=$G$1,IF(#REF!=\"\",NA(),#REF!),NA()),NA())","v":{"$error":"#REF!"}},{"$error":"#REF!"},{"$error":"#REF!"}]
[null,null,null,{"$f":"IF(#REF!=$E$1,IF(#REF!=$G$1,#REF!,NA()),NA())","v":{"$error":"#REF!"}},{"$f":"IF(#REF!=$E$1,IF(#REF!=$G$1,#REF!,NA()),NA())","v":{"$error":"#REF!"}},{"$f":"IF(#REF!=$E$1,IF(#REF!=$G$1,IF(#REF!=\"\",NA(),#REF!),NA()),NA())","v":{"$error":"#REF!"}},{"$f":"IF(#REF!=$E$1,IF(#REF!=$G$1,IF(#REF!=\"\",NA(),#REF!),NA()),NA())","v":{"$error":"#REF!"}},{"$error":"#REF!"},{"$error":"#REF!"}]
[null,null,null,{"$f":"IF(#REF!=$E$1,IF(#REF!=$G$1,#REF!,NA()),NA())","v":{"$error":"#REF!"}},{"$f":"IF(#REF!=$E$1,IF(#REF!=$G$1,#REF!,NA()),NA())","v":{"$error":"#REF!"}},{"$f":"IF(#REF!=$E$1,IF(#REF!=$G$1,IF(#REF!=\"\",NA(),#REF!),NA()),NA())","v":{"$error":"#REF!"}},{"$f":"IF(#REF!=$E$1,IF(#REF!=$G$1,IF(#REF!=\"\",NA(),#REF!),NA()),NA())","v":{"$error":"#REF!"}},{"$error":"#REF!"},{"$error":"#REF!"}]
[null,null,null,{"$f":"IF(#REF!=$E$1,IF(#REF!=$G$1,#REF!,NA()),NA())","v":{"$error":"#REF!"}},{"$f":"IF(#REF!=$E$1,IF(#REF!=$G$1,#REF!,NA()),NA())","v":{"$error":"#REF!"}},{"$f":"IF(#REF!=$E$1,IF(#REF!=$G$1,IF(#REF!=\"\",NA(),#REF!),NA()),NA())","v":{"$error":"#REF!"}},{"$f":"IF(#REF!=$E$1,IF(#REF!=$G$1,IF(#REF!=\"\",NA(),#REF!),NA()),NA())","v":{"$error":"#REF!"}},{"$error":"#REF!"},{"$error":"#REF!"}]
[null,null,null,{"$f":"IF(#REF!=$E$1,IF(#REF!=$G$1,#REF!,NA()),NA())","v":{"$error":"#REF!"}},{"$f":"IF(#REF!=$E$1,IF(#REF!=$G$1,#REF!,NA()),NA())","v":{"$error":"#REF!"}},{"$f":"IF(#REF!=$E$1,IF(#REF!=$G$1,IF(#REF!=\"\",NA(),#REF!),NA()),NA())","v":{"$error":"#REF!"}},{"$f":"IF(#REF!=$E$1,IF(#REF!=$G$1,IF(#REF!=\"\",NA(),#REF!),NA()),NA())","v":{"$error":"#REF!"}},{"$error":"#REF!"},{"$error":"#REF!"}]
[null,null,null,{"$f":"IF(#REF!=$E$1,IF(#REF!=$G$1,#REF!,NA()),NA())","v":{"$error":"#REF!"}},{"$f":"IF(#REF!=$E$1,IF(#REF!=$G$1,#REF!,NA()),NA())","v":{"$error":"#REF!"}},{"$f":"IF(#REF!=$E$1,IF(#REF!=$G$1,IF(#REF!=\"\",NA(),#REF!),NA()),NA())","v":{"$error":"#REF!"}},{"$f":"IF(#REF!=$E$1,IF(#REF!=$G$1,IF(#REF!=\"\",NA(),#REF!),NA()),NA())","v":{"$error":"#REF!"}},{"$error":"#REF!"},{"$error":"#REF!"}]
[null,null,null,{"$f":"IF(#REF!=$E$1,IF(#REF!=$G$1,#REF!,NA()),NA())","v":{"$error":"#REF!"}},{"$f":"IF(#REF!=$E$1,IF(#REF!=$G$1,#REF!,NA()),NA())","v":{"$error":"#REF!"}},{"$f":"IF(#REF!=$E$1,IF(#REF!=$G$1,IF(#REF!=\"\",NA(),#REF!),NA()),NA())","v":{"$error":"#REF!"}},{"$f":"IF(#REF!=$E$1,IF(#REF!=$G$1,IF(#REF!=\"\",NA(),#REF!),NA()),NA())","v":{"$error":"#REF!"}},{"$error":"#REF!"},{"$error":"#REF!"}]
[null,null,null,{"$f":"IF(#REF!=$E$1,IF(#REF!=$G$1,#REF!,NA()),NA())","v":{"$error":"#REF!"}},{"$f":"IF(#REF!=$E$1,IF(#REF!=$G$1,#REF!,NA()),NA())","v":{"$error":"#REF!"}},{"$f":"IF(#REF!=$E$1,IF(#REF!=$G$1,IF(#REF!=\"\",NA(),#REF!),NA()),NA())","v":{"$error":"#REF!"}},{"$f":"IF(#REF!=$E$1,IF(#REF!=$G$1,IF(#REF!=\"\",NA(),#REF!),NA()),NA())","v":{"$error":"#REF!"}},{"$error":"#REF!"},{"$error":"#REF!"}]
[null,null,null,{"$f":"IF(#REF!=$E$1,IF(#REF!=$G$1,#REF!,NA()),NA())","v":{"$error":"#REF!"}},{"$f":"IF(#REF!=$E$1,IF(#REF!=$G$1,#REF!,NA()),NA())","v":{"$error":"#REF!"}},{"$f":"IF(#REF!=$E$1,IF(#REF!=$G$1,IF(#REF!=\"\",NA(),#REF!),NA()),NA())","v":{"$error":"#REF!"}},{"$f":"IF(#REF!=$E$1,IF(#REF!=$G$1,IF(#REF!=\"\",NA(),#REF!),NA()),NA())","v":{"$error":"#REF!"}},{"$error":"#REF!"},{"$error":"#REF!"}]
[null,null,null,{"$f":"IF(#REF!=$E$1,IF(#REF!=$G$1,#REF!,NA()),NA())","v":{"$error":"#REF!"}},{"$f":"IF(#REF!=$E$1,IF(#REF!=$G$1,#REF!,NA()),NA())","v":{"$error":"#REF!"}},{"$f":"IF(#REF!=$E$1,IF(#REF!=$G$1,IF(#REF!=\"\",NA(),#REF!),NA()),NA())","v":{"$error":"#REF!"}},{"$f":"IF(#REF!=$E$1,IF(#REF!=$G$1,IF(#REF!=\"\",NA(),#REF!),NA()),NA())","v":{"$error":"#REF!"}},{"$error":"#REF!"},{"$error":"#REF!"}]
[null,null,null,{"$f":"IF(#REF!=$E$1,IF(#REF!=$G$1,#REF!,NA()),NA())","v":{"$error":"#REF!"}},{"$f":"IF(#REF!=$E$1,IF(#REF!=$G$1,#REF!,NA()),NA())","v":{"$error":"#REF!"}},{"$f":"IF(#REF!=$E$1,IF(#REF!=$G$1,IF(#REF!=\"\",NA(),#REF!),NA()),NA())","v":{"$error":"#REF!"}},{"$f":"IF(#REF!=$E$1,IF(#REF!=$G$1,IF(#REF!=\"\",NA(),#REF!),NA()),NA())","v":{"$error":"#REF!"}},{"$error":"#REF!"},{"$error":"#REF!"}]
[null,null,null,{"$f":"IF(#REF!=$E$1,IF(#REF!=$G$1,#REF!,NA()),NA())","v":{"$error":"#REF!"}},{"$f":"IF(#REF!=$E$1,IF(#REF!=$G$1,#REF!,NA()),NA())","v":{"$error":"#REF!"}},{"$f":"IF(#REF!=$E$1,IF(#REF!=$G$1,IF(#REF!=\"\",NA(),#REF!),NA()),NA())","v":{"$error":"#REF!"}},{"$f":"IF(#REF!=$E$1,IF(#REF!=$G$1,IF(#REF!=\"\",NA(),#REF!),NA()),NA())","v":{"$error":"#REF!"}},{"$error":"#REF!"},{"$error":"#REF!"}]
[null,null,null,{"$f":"IF(#REF!=$E$1,IF(#REF!=$G$1,#REF!,NA()),NA())","v":{"$error":"#REF!"}},{"$f":"IF(#REF!=$E$1,IF(#REF!=$G$1,#REF!,NA()),NA())","v":{"$error":"#REF!"}},{"$f":"IF(#REF!=$E$1,IF(#REF!=$G$1,IF(#REF!=\"\",NA(),#REF!),NA()),NA())","v":{"$error":"#REF!"}},{"$f":"IF(#REF!=$E$1,IF(#REF!=$G$1,IF(#REF!=\"\",NA(),#REF!),NA()),NA())","v":{"$error":"#REF!"}},{"$error":"#REF!"},{"$error":"#REF!"}]
[null,null,null,{"$f":"IF(#REF!=$E$1,IF(#REF!=$G$1,#REF!,NA()),NA())","v":{"$error":"#REF!"}},{"$f":"IF(#REF!=$E$1,IF(#REF!=$G$1,#REF!,NA()),NA())","v":{"$error":"#REF!"}},{"$f":"IF(#REF!=$E$1,IF(#REF!=$G$1,IF(#REF!=\"\",NA(),#REF!),NA()),NA())","v":{"$error":"#REF!"}},{"$f":"IF(#REF!=$E$1,IF(#REF!=$G$1,IF(#REF!=\"\",NA(),#REF!),NA()),NA())","v":{"$error":"#REF!"}},{"$error":"#REF!"},{"$error":"#REF!"}]
[null,null,null,{"$f":"IF(#REF!=$E$1,IF(#REF!=$G$1,#REF!,NA()),NA())","v":{"$error":"#REF!"}},{"$f":"IF(#REF!=$E$1,IF(#REF!=$G$1,#REF!,NA()),NA())","v":{"$error":"#REF!"}},{"$f":"IF(#REF!=$E$1,IF(#REF!=$G$1,IF(#REF!=\"\",NA(),#REF!),NA()),NA())","v":{"$error":"#REF!"}},{"$f":"IF(#REF!=$E$1,IF(#REF!=$G$1,IF(#REF!=\"\",NA(),#REF!),NA()),NA())","v":{"$error":"#REF!"}},{"$error":"#REF!"},{"$error":"#REF!"}]
[null,null,null,{"$f":"IF(#REF!=$E$1,IF(#REF!=$G$1,#REF!,NA()),NA())","v":{"$error":"#REF!"}},{"$f":"IF(#REF!=$E$1,IF(#REF!=$G$1,#REF!,NA()),NA())","v":{"$error":"#REF!"}},{"$f":"IF(#REF!=$E$1,IF(#REF!=$G$1,IF(#REF!=\"\",NA(),#REF!),NA()),NA())","v":{"$error":"#REF!"}},{"$f":"IF(#REF!=$E$1,IF(#REF!=$G$1,IF(#REF!=\"\",NA(),#REF!),NA()),NA())","v":{"$error":"#REF!"}},{"$error":"#REF!"},{"$error":"#REF!"}]
[null,null,null,{"$f":"IF(#REF!=$E$1,IF(#REF!=$G$1,#REF!,NA()),NA())","v":{"$error":"#REF!"}},{"$f":"IF(#REF!=$E$1,IF(#REF!=$G$1,#REF!,NA()),NA())","v":{"$error":"#REF!"}},{"$f":"IF(#REF!=$E$1,IF(#REF!=$G$1,IF(#REF!=\"\",NA(),#REF!),NA()),NA())","v":{"$error":"#REF!"}},{"$f":"IF(#REF!=$E$1,IF(#REF!=$G$1,IF(#REF!=\"\",NA(),#REF!),NA()),NA())","v":{"$error":"#REF!"}},{"$error":"#REF!"},{"$error":"#REF!"}]
[null,null,null,{"$f":"IF(#REF!=$E$1,IF(#REF!=$G$1,#REF!,NA()),NA())","v":{"$error":"#REF!"}},{"$f":"IF(#REF!=$E$1,IF(#REF!=$G$1,#REF!,NA()),NA())","v":{"$error":"#REF!"}},{"$f":"IF(#REF!=$E$1,IF(#REF!=$G$1,IF(#REF!=\"\",NA(),#REF!),NA()),NA())","v":{"$error":"#REF!"}},{"$f":"IF(#REF!=$E$1,IF(#REF!=$G$1,IF(#REF!=\"\",NA(),#REF!),NA()),NA())","v":{"$error":"#REF!"}},{"$error":"#REF!"},{"$error":"#REF!"}]
[null,null,null,{"$f":"IF(#REF!=$E$1,IF(#REF!=$G$1,#REF!,NA()),NA())","v":{"$error":"#REF!"}},{"$f":"IF(#REF!=$E$1,IF(#REF!=$G$1,#REF!,NA()),NA())","v":{"$error":"#REF!"}},{"$f":"IF(#REF!=$E$1,IF(#REF!=$G$1,IF(#REF!=\"\",NA(),#REF!),NA()),NA())","v":{"$error":"#REF!"}},{"$f":"IF(#REF!=$E$1,IF(#REF!=$G$1,IF(#REF!=\"\",NA(),#REF!),NA()),NA())","v":{"$error":"#REF!"}},{"$error":"#REF!"},{"$error":"#REF!"}]
[null,null,null,{"$f":"IF(#REF!=$E$1,IF(#REF!=$G$1,#REF!,NA()),NA())","v":{"$error":"#REF!"}},{"$f":"IF(#REF!=$E$1,IF(#REF!=$G$1,#REF!,NA()),NA())","v":{"$error":"#REF!"}},{"$f":"IF(#REF!=$E$1,IF(#REF!=$G$1,IF(#REF!=\"\",NA(),#REF!),NA()),NA())","v":{"$error":"#REF!"}},{"$f":"IF(#REF!=$E$1,IF(#REF!=$G$1,IF(#REF!=\"\",NA(),#REF!),NA()),NA())","v":{"$error":"#REF!"}},{"$error":"#REF!"},{"$error":"#REF!"}]
[null,null,null,{"$f":"IF(#REF!=$E$1,IF(#REF!=$G$1,#REF!,NA()),NA())","v":{"$error":"#REF!"}},{"$f":"IF(#REF!=$E$1,IF(#REF!=$G$1,#REF!,NA()),NA())","v":{"$error":"#REF!"}},{"$f":"IF(#REF!=$E$1,IF(#REF!=$G$1,IF(#REF!=\"\",NA(),#REF!),NA()),NA())","v":{"$error":"#REF!"}},{"$f":"IF(#REF!=$E$1,IF(#REF!=$G$1,IF(#REF!=\"\",NA(),#REF!),NA()),NA())","v":{"$error":"#REF!"}},{"$error":"#REF!"},{"$error":"#REF!"}]
[null,null,null,{"$f":"IF(#REF!=$E$1,IF(#REF!=$G$1,#REF!,NA()),NA())","v":{"$error":"#REF!"}},{"$f":"IF(#REF!=$E$1,IF(#REF!=$G$1,#REF!,NA()),NA())","v":{"$error":"#REF!"}},{"$f":"IF(#REF!=$E$1,IF(#REF!=$G$1,IF(#REF!=\"\",NA(),#REF!),NA()),NA())","v":{"$error":"#REF!"}},{"$f":"IF(#REF!=$E$1,IF(#REF!=$G$1,IF(#REF!=\"\",NA(),#REF!),NA()),NA())","v":{"$error":"#REF!"}},{"$error":"#REF!"},{"$error":"#REF!"}]
[null,null,null,{"$f":"IF(#REF!=$E$1,IF(#REF!=$G$1,#REF!,NA()),NA())","v":{"$error":"#REF!"}},{"$f":"IF(#REF!=$E$1,IF(#REF!=$G$1,#REF!,NA()),NA())","v":{"$error":"#REF!"}},{"$f":"IF(#REF!=$E$1,IF(#REF!=$G$1,IF(#REF!=\"\",NA(),#REF!),NA()),NA())","v":{"$error":"#REF!"}},{"$f":"IF(#REF!=$E$1,IF(#REF!=$G$1,IF(#REF!=\"\",NA(),#REF!),NA()),NA())","v":{"$error":"#REF!"}},{"$error":"#REF!"},{"$error":"#REF!"}]
[null,null,null,{"$f":"IF(#REF!=$E$1,IF(#REF!=$G$1,#REF!,NA()),NA())","v":{"$error":"#REF!"}},{"$f":"IF(#REF!=$E$1,IF(#REF!=$G$1,#REF!,NA()),NA())","v":{"$error":"#REF!"}},{"$f":"IF(#REF!=$E$1,IF(#REF!=$G$1,IF(#REF!=\"\",NA(),#REF!),NA()),NA())","v":{"$error":"#REF!"}},{"$f":"IF(#REF!=$E$1,IF(#REF!=$G$1,IF(#REF!=\"\",NA(),#REF!),NA()),NA())","v":{"$error":"#REF!"}},{"$error":"#REF!"},{"$error":"#REF!"}]
[null,null,null,{"$f":"IF(#REF!=$E$1,IF(#REF!=$G$1,#REF!,NA()),NA())","v":{"$error":"#REF!"}},{"$f":"IF(#REF!=$E$1,IF(#REF!=$G$1,#REF!,NA()),NA())","v":{"$error":"#REF!"}},{"$f":"IF(#REF!=$E$1,IF(#REF!=$G$1,IF(#REF!=\"\",NA(),#REF!),NA()),NA())","v":{"$error":"#REF!"}},{"$f":"IF(#REF!=$E$1,IF(#REF!=$G$1,IF(#REF!=\"\",NA(),#REF!),NA()),NA())","v":{"$error":"#REF!"}},{"$error":"#REF!"},{"$error":"#REF!"}]
[null,null,null,{"$f":"IF(#REF!=$E$1,IF(#REF!=$G$1,#REF!,NA()),NA())","v":{"$error":"#REF!"}},{"$f":"IF(#REF!=$E$1,IF(#REF!=$G$1,#REF!,NA()),NA())","v":{"$error":"#REF!"}},{"$f":"IF(#REF!=$E$1,IF(#REF!=$G$1,IF(#REF!=\"\",NA(),#REF!),NA()),NA())","v":{"$error":"#REF!"}},{"$f":"IF(#REF!=$E$1,IF(#REF!=$G$1,IF(#REF!=\"\",NA(),#REF!),NA()),NA())","v":{"$error":"#REF!"}},{"$error":"#REF!"},{"$error":"#REF!"}]
[null,null,null,{"$f":"IF(#REF!=$E$1,IF(#REF!=$G$1,#REF!,NA()),NA())","v":{"$error":"#REF!"}},{"$f":"IF(#REF!=$E$1,IF(#REF!=$G$1,#REF!,NA()),NA())","v":{"$error":"#REF!"}},{"$f":"IF(#REF!=$E$1,IF(#REF!=$G$1,IF(#REF!=\"\",NA(),#REF!),NA()),NA())","v":{"$error":"#REF!"}},{"$f":"IF(#REF!=$E$1,IF(#REF!=$G$1,IF(#REF!=\"\",NA(),#REF!),NA()),NA())","v":{"$error":"#REF!"}},{"$error":"#REF!"},{"$error":"#REF!"}]
[null,null,null,{"$f":"IF(#REF!=$E$1,IF(#REF!=$G$1,#REF!,NA()),NA())","v":{"$error":"#REF!"}},{"$f":"IF(#REF!=$E$1,IF(#REF!=$G$1,#REF!,NA()),NA())","v":{"$error":"#REF!"}},{"$f":"IF(#REF!=$E$1,IF(#REF!=$G$1,IF(#REF!=\"\",NA(),#REF!),NA()),NA())","v":{"$error":"#REF!"}},{"$f":"IF(#REF!=$E$1,IF(#REF!=$G$1,IF(#REF!=\"\",NA(),#REF!),NA()),NA())","v":{"$error":"#REF!"}},{"$error":"#REF!"},{"$error":"#REF!"}]
[null,null,null,{"$f":"IF(#REF!=$E$1,IF(#REF!=$G$1,#REF!,NA()),NA())","v":{"$error":"#REF!"}},{"$f":"IF(#REF!=$E$1,IF(#REF!=$G$1,#REF!,NA()),NA())","v":{"$error":"#REF!"}},{"$f":"IF(#REF!=$E$1,IF(#REF!=$G$1,IF(#REF!=\"\",NA(),#REF!),NA()),NA())","v":{"$error":"#REF!"}},{"$f":"IF(#REF!=$E$1,IF(#REF!=$G$1,IF(#REF!=\"\",NA(),#REF!),NA()),NA())","v":{"$error":"#REF!"}},{"$error":"#REF!"},{"$error":"#REF!"}]
[null,null,null,{"$f":"IF(#REF!=$E$1,IF(#REF!=$G$1,#REF!,NA()),NA())","v":{"$error":"#REF!"}},{"$f":"IF(#REF!=$E$1,IF(#REF!=$G$1,#REF!,NA()),NA())","v":{"$error":"#REF!"}},{"$f":"IF(#REF!=$E$1,IF(#REF!=$G$1,IF(#REF!=\"\",NA(),#REF!),NA()),NA())","v":{"$error":"#REF!"}},{"$f":"IF(#REF!=$E$1,IF(#REF!=$G$1,IF(#REF!=\"\",NA(),#REF!),NA()),NA())","v":{"$error":"#REF!"}},{"$error":"#REF!"},{"$error":"#REF!"}]
[null,null,null,{"$f":"IF(#REF!=$E$1,IF(#REF!=$G$1,#REF!,NA()),NA())","v":{"$error":"#REF!"}},{"$f":"IF(#REF!=$E$1,IF(#REF!=$G$1,#REF!,NA()),NA())","v":{"$error":"#REF!"}},{"$f":"IF(#REF!=$E$1,IF(#REF!=$G$1,IF(#REF!=\"\",NA(),#REF!),NA()),NA())","v":{"$error":"#REF!"}},{"$f":"IF(#REF!=$E$1,IF(#REF!=$G$1,IF(#REF!=\"\",NA(),#REF!),NA()),NA())","v":{"$error":"#REF!"}},{"$f":"IF(AND(ISNUMBER(G388),F388=\"-\"),0,F388)","v":{"$error":"#REF!"}},{"$f":"IF(AND(ISNUMBER(F388),G388=\"-\"),0,G388)","v":{"$error":"#REF!"}}]
[null,null,null,{"$f":"IF(#REF!=$E$1,IF(#REF!=$G$1,#REF!,NA()),NA())","v":{"$error":"#REF!"}},{"$f":"IF(#REF!=$E$1,IF(#REF!=$G$1,#REF!,NA()),NA())","v":{"$error":"#REF!"}},{"$f":"IF(#REF!=$E$1,IF(#REF!=$G$1,IF(#REF!=\"\",NA(),#REF!),NA()),NA())","v":{"$error":"#REF!"}},{"$f":"IF(#REF!=$E$1,IF(#REF!=$G$1,IF(#REF!=\"\",NA(),#REF!),NA()),NA())","v":{"$error":"#REF!"}},{"$error":"#REF!"},{"$error":"#REF!"}]
[null,null,null,{"$f":"IF(#REF!=$E$1,IF(#REF!=$G$1,#REF!,NA()),NA())","v":{"$error":"#REF!"}},{"$f":"IF(#REF!=$E$1,IF(#REF!=$G$1,#REF!,NA()),NA())","v":{"$error":"#REF!"}},{"$f":"IF(#REF!=$E$1,IF(#REF!=$G$1,IF(#REF!=\"\",NA(),#REF!),NA()),NA())","v":{"$error":"#REF!"}},{"$f":"IF(#REF!=$E$1,IF(#REF!=$G$1,IF(#REF!=\"\",NA(),#REF!),NA()),NA())","v":{"$error":"#REF!"}},{"$error":"#REF!"},{"$error":"#REF!"}]
[null,null,null,{"$f":"IF(#REF!=$E$1,IF(#REF!=$G$1,#REF!,NA()),NA())","v":{"$error":"#REF!"}},{"$f":"IF(#REF!=$E$1,IF(#REF!=$G$1,#REF!,NA()),NA())","v":{"$error":"#REF!"}},{"$f":"IF(#REF!=$E$1,IF(#REF!=$G$1,IF(#REF!=\"\",NA(),#REF!),NA()),NA())","v":{"$error":"#REF!"}},{"$f":"IF(#REF!=$E$1,IF(#REF!=$G$1,IF(#REF!=\"\",NA(),#REF!),NA()),NA())","v":{"$error":"#REF!"}},{"$error":"#REF!"},{"$error":"#REF!"}]
[null,null,null,{"$f":"IF(#REF!=$E$1,IF(#REF!=$G$1,#REF!,NA()),NA())","v":{"$error":"#REF!"}},{"$f":"IF(#REF!=$E$1,IF(#REF!=$G$1,#REF!,NA()),NA())","v":{"$error":"#REF!"}},{"$f":"IF(#REF!=$E$1,IF(#REF!=$G$1,IF(#REF!=\"\",NA(),#REF!),NA()),NA())","v":{"$error":"#REF!"}},{"$f":"IF(#REF!=$E$1,IF(#REF!=$G$1,IF(#REF!=\"\",NA(),#REF!),NA()),NA())","v":{"$error":"#REF!"}},{"$error":"#REF!"},{"$error":"#REF!"}]
[null,null,null,{"$f":"IF(#REF!=$E$1,IF(#REF!=$G$1,#REF!,NA()),NA())","v":{"$error":"#REF!"}},{"$f":"IF(#REF!=$E$1,IF(#REF!=$G$1,#REF!,NA()),NA())","v":{"$error":"#REF!"}},{"$f":"IF(#REF!=$E$1,IF(#REF!=$G$1,IF(#REF!=\"\",NA(),#REF!),NA()),NA())","v":{"$error":"#REF!"}},{"$f":"IF(#REF!=$E$1,IF(#REF!=$G$1,IF(#REF!=\"\",NA(),#REF!),NA()),NA())","v":{"$error":"#REF!"}},{"$error":"#REF!"},{"$error":"#REF!"}]
[null,null,null,{"$f":"IF(#REF!=$E$1,IF(#REF!=$G$1,#REF!,NA()),NA())","v":{"$error":"#REF!"}},{"$f":"IF(#REF!=$E$1,IF(#REF!=$G$1,#REF!,NA()),NA())","v":{"$error":"#REF!"}},{"$f":"IF(#REF!=$E$1,IF(#REF!=$G$1,IF(#REF!=\"\",NA(),#REF!),NA()),NA())","v":{"$error":"#REF!"}},{"$f":"IF(#REF!=$E$1,IF(#REF!=$G$1,IF(#REF!=\"\",NA(),#REF!),NA()),NA())","v":{"$error":"#REF!"}},{"$error":"#REF!"},{"$error":"#REF!"}]
[null,null,null,{"$f":"IF(#REF!=$E$1,IF(#REF!=$G$1,#REF!,NA()),NA())","v":{"$error":"#REF!"}},{"$f":"IF(#REF!=$E$1,IF(#REF!=$G$1,#REF!,NA()),NA())","v":{"$error":"#REF!"}},{"$f":"IF(#REF!=$E$1,IF(#REF!=$G$1,IF(#REF!=\"\",NA(),#REF!),NA()),NA())","v":{"$error":"#REF!"}},{"$f":"IF(#REF!=$E$1,IF(#REF!=$G$1,IF(#REF!=\"\",NA(),#REF!),NA()),NA())","v":{"$error":"#REF!"}},{"$error":"#REF!"},{"$error":"#REF!"}]
[null,null,null,{"$f":"IF(#REF!=$E$1,IF(#REF!=$G$1,#REF!,NA()),NA())","v":{"$error":"#REF!"}},{"$f":"IF(#REF!=$E$1,IF(#REF!=$G$1,#REF!,NA()),NA())","v":{"$error":"#REF!"}},{"$f":"IF(#REF!=$E$1,IF(#REF!=$G$1,IF(#REF!=\"\",NA(),#REF!),NA()),NA())","v":{"$error":"#REF!"}},{"$f":"IF(#REF!=$E$1,IF(#REF!=$G$1,IF(#REF!=\"\",NA(),#REF!),NA()),NA())","v":{"$error":"#REF!"}},{"$error":"#REF!"},{"$error":"#REF!"}]
[null,null,null,{"$f":"IF(#REF!=$E$1,IF(#REF!=$G$1,#REF!,NA()),NA())","v":{"$error":"#REF!"}},{"$f":"IF(#REF!=$E$1,IF(#REF!=$G$1,#REF!,NA()),NA())","v":{"$error":"#REF!"}},{"$f":"IF(#REF!=$E$1,IF(#REF!=$G$1,IF(#REF!=\"\",NA(),#REF!),NA()),NA())","v":{"$error":"#REF!"}},{"$f":"IF(#REF!=$E$1,IF(#REF!=$G$1,IF(#REF!=\"\",NA(),#REF!),NA()),NA())","v":{"$error":"#REF!"}},{"$error":"#REF!"},{"$error":"#REF!"}]
[null,null,null,{"$f":"IF(#REF!=$E$1,IF(#REF!=$G$1,#REF!,NA()),NA())","v":{"$error":"#REF!"}},{"$f":"IF(#REF!=$E$1,IF(#REF!=$G$1,#REF!,NA()),NA())","v":{"$error":"#REF!"}},{"$f":"IF(#REF!=$E$1,IF(#REF!=$G$1,IF(#REF!=\"\",NA(),#REF!),NA()),NA())","v":{"$error":"#REF!"}},{"$f":"IF(#REF!=$E$1,IF(#REF!=$G$1,IF(#REF!=\"\",NA(),#REF!),NA()),NA())","v":{"$error":"#REF!"}},{"$error":"#REF!"},{"$error":"#REF!"}]
[null,null,null,{"$f":"IF(#REF!=$E$1,IF(#REF!=$G$1,#REF!,NA()),NA())","v":{"$error":"#REF!"}},{"$f":"IF(#REF!=$E$1,IF(#REF!=$G$1,#REF!,NA()),NA())","v":{"$error":"#REF!"}},{"$f":"IF(#REF!=$E$1,IF(#REF!=$G$1,IF(#REF!=\"\",NA(),#REF!),NA()),NA())","v":{"$error":"#REF!"}},{"$f":"IF(#REF!=$E$1,IF(#REF!=$G$1,IF(#REF!=\"\",NA(),#REF!),NA()),NA())","v":{"$error":"#REF!"}},{"$error":"#REF!"},{"$error":"#REF!"}]
[null,null,null,{"$f":"IF(#REF!=$E$1,IF(#REF!=$G$1,#REF!,NA()),NA())","v":{"$error":"#REF!"}},{"$f":"IF(#REF!=$E$1,IF(#REF!=$G$1,#REF!,NA()),NA())","v":{"$error":"#REF!"}},{"$f":"IF(#REF!=$E$1,IF(#REF!=$G$1,IF(#REF!=\"\",NA(),#REF!),NA()),NA())","v":{"$error":"#REF!"}},{"$f":"IF(#REF!=$E$1,IF(#REF!=$G$1,IF(#REF!=\"\",NA(),#REF!),NA()),NA())","v":{"$error":"#REF!"}},{"$error":"#REF!"},{"$error":"#REF!"}]
[null,null,null,{"$f":"IF(#REF!=$E$1,IF(#REF!=$G$1,#REF!,NA()),NA())","v":{"$error":"#REF!"}},{"$f":"IF(#REF!=$E$1,IF(#REF!=$G$1,#REF!,NA()),NA())","v":{"$error":"#REF!"}},{"$f":"IF(#REF!=$E$1,IF(#REF!=$G$1,IF(#REF!=\"\",NA(),#REF!),NA()),NA())","v":{"$error":"#REF!"}},{"$f":"IF(#REF!=$E$1,IF(#REF!=$G$1,IF(#REF!=\"\",NA(),#REF!),NA()),NA())","v":{"$error":"#REF!"}},{"$error":"#REF!"},{"$error":"#REF!"}]
[null,null,null,{"$f":"IF(#REF!=$E$1,IF(#REF!=$G$1,#REF!,NA()),NA())","v":{"$error":"#REF!"}},{"$f":"IF(#REF!=$E$1,IF(#REF!=$G$1,#REF!,NA()),NA())","v":{"$error":"#REF!"}},{"$f":"IF(#REF!=$E$1,IF(#REF!=$G$1,IF(#REF!=\"\",NA(),#REF!),NA()),NA())","v":{"$error":"#REF!"}},{"$f":"IF(#REF!=$E$1,IF(#REF!=$G$1,IF(#REF!=\"\",NA(),#REF!),NA()),NA())","v":{"$error":"#REF!"}},{"$error":"#REF!"},{"$error":"#REF!"}]
[null,null,null,{"$f":"IF(#REF!=$E$1,IF(#REF!=$G$1,#REF!,NA()),NA())","v":{"$error":"#REF!"}},{"$f":"IF(#REF!=$E$1,IF(#REF!=$G$1,#REF!,NA()),NA())","v":{"$error":"#REF!"}},{"$f":"IF(#REF!=$E$1,IF(#REF!=$G$1,IF(#REF!=\"\",NA(),#REF!),NA()),NA())","v":{"$error":"#REF!"}},{"$f":"IF(#REF!=$E$1,IF(#REF!=$G$1,IF(#REF!=\"\",NA(),#REF!),NA()),NA())","v":{"$error":"#REF!"}},{"$error":"#REF!"},{"$error":"#REF!"}]
[null,null,null,{"$f":"IF(#REF!=$E$1,IF(#REF!=$G$1,#REF!,NA()),NA())","v":{"$error":"#REF!"}},{"$f":"IF(#REF!=$E$1,IF(#REF!=$G$1,#REF!,NA()),NA())","v":{"$error":"#REF!"}},{"$f":"IF(#REF!=$E$1,IF(#REF!=$G$1,IF(#REF!=\"\",NA(),#REF!),NA()),NA())","v":{"$error":"#REF!"}},{"$f":"IF(#REF!=$E$1,IF(#REF!=$G$1,IF(#REF!=\"\",NA(),#REF!),NA()),NA())","v":{"$error":"#REF!"}},{"$error":"#REF!"},{"$error":"#REF!"}]
[null,null,null,{"$f":"IF(#REF!=$E$1,IF(#REF!=$G$1,#REF!,NA()),NA())","v":{"$error":"#REF!"}},{"$f":"IF(#REF!=$E$1,IF(#REF!=$G$1,#REF!,NA()),NA())","v":{"$error":"#REF!"}},{"$f":"IF(#REF!=$E$1,IF(#REF!=$G$1,IF(#REF!=\"\",NA(),#REF!),NA()),NA())","v":{"$error":"#REF!"}},{"$f":"IF(#REF!=$E$1,IF(#REF!=$G$1,IF(#REF!=\"\",NA(),#REF!),NA()),NA())","v":{"$error":"#REF!"}},{"$error":"#REF!"},{"$error":"#REF!"}]
[null,null,null,{"$f":"IF(#REF!=$E$1,IF(#REF!=$G$1,#REF!,NA()),NA())","v":{"$error":"#REF!"}},{"$f":"IF(#REF!=$E$1,IF(#REF!=$G$1,#REF!,NA()),NA())","v":{"$error":"#REF!"}},{"$f":"IF(#REF!=$E$1,IF(#REF!=$G$1,IF(#REF!=\"\",NA(),#REF!),NA()),NA())","v":{"$error":"#REF!"}},{"$f":"IF(#REF!=$E$1,IF(#REF!=$G$1,IF(#REF!=\"\",NA(),#REF!),NA()),NA())","v":{"$error":"#REF!"}},{"$error":"#REF!"},{"$error":"#REF!"}]
[null,null,null,{"$f":"IF(#REF!=$E$1,IF(#REF!=$G$1,#REF!,NA()),NA())","v":{"$error":"#REF!"}},{"$f":"IF(#REF!=$E$1,IF(#REF!=$G$1,#REF!,NA()),NA())","v":{"$error":"#REF!"}},{"$f":"IF(#REF!=$E$1,IF(#REF!=$G$1,IF(#REF!=\"\",NA(),#REF!),NA()),NA())","v":{"$error":"#REF!"}},{"$f":"IF(#REF!=$E$1,IF(#REF!=$G$1,IF(#REF!=\"\",NA(),#REF!),NA()),NA())","v":{"$error":"#REF!"}},{"$error":"#REF!"},{"$error":"#REF!"}]
[null,null,null,{"$f":"IF(#REF!=$E$1,IF(#REF!=$G$1,#REF!,NA()),NA())","v":{"$error":"#REF!"}},{"$f":"IF(#REF!=$E$1,IF(#REF!=$G$1,#REF!,NA()),NA())","v":{"$error":"#REF!"}},{"$f":"IF(#REF!=$E$1,IF(#REF!=$G$1,IF(#REF!=\"\",NA(),#REF!),NA()),NA())","v":{"$error":"#REF!"}},{"$f":"IF(#REF!=$E$1,IF(#REF!=$G$1,IF(#REF!=\"\",NA(),#REF!),NA()),NA())","v":{"$error":"#REF!"}},{"$error":"#REF!"},{"$error":"#REF!"}]
[null,null,null,{"$f":"IF(#REF!=$E$1,IF(#REF!=$G$1,#REF!,NA()),NA())","v":{"$error":"#REF!"}},{"$f":"IF(#REF!=$E$1,IF(#REF!=$G$1,#REF!,NA()),NA())","v":{"$error":"#REF!"}},{"$f":"IF(#REF!=$E$1,IF(#REF!=$G$1,IF(#REF!=\"\",NA(),#REF!),NA()),NA())","v":{"$error":"#REF!"}},{"$f":"IF(#REF!=$E$1,IF(#REF!=$G$1,IF(#REF!=\"\",NA(),#REF!),NA()),NA())","v":{"$error":"#REF!"}},{"$error":"#REF!"},{"$error":"#REF!"}]
[null,null,null,{"$f":"IF(#REF!=$E$1,IF(#REF!=$G$1,#REF!,NA()),NA())","v":{"$error":"#REF!"}},{"$f":"IF(#REF!=$E$1,IF(#REF!=$G$1,#REF!,NA()),NA())","v":{"$error":"#REF!"}},{"$f":"IF(#REF!=$E$1,IF(#REF!=$G$1,IF(#REF!=\"\",NA(),#REF!),NA()),NA())","v":{"$error":"#REF!"}},{"$f":"IF(#REF!=$E$1,IF(#REF!=$G$1,IF(#REF!=\"\",NA(),#REF!),NA()),NA())","v":{"$error":"#REF!"}},{"$error":"#REF!"},{"$error":"#REF!"}]
[null,null,null,{"$f":"IF(#REF!=$E$1,IF(#REF!=$G$1,#REF!,NA()),NA())","v":{"$error":"#REF!"}},{"$f":"IF(#REF!=$E$1,IF(#REF!=$G$1,#REF!,NA()),NA())","v":{"$error":"#REF!"}},{"$f":"IF(#REF!=$E$1,IF(#REF!=$G$1,IF(#REF!=\"\",NA(),#REF!),NA()),NA())","v":{"$error":"#REF!"}},{"$f":"IF(#REF!=$E$1,IF(#REF!=$G$1,IF(#REF!=\"\",NA(),#REF!),NA()),NA())","v":{"$error":"#REF!"}},{"$error":"#REF!"},{"$error":"#REF!"}]
[null,null,null,{"$f":"IF(#REF!=$E$1,IF(#REF!=$G$1,#REF!,NA()),NA())","v":{"$error":"#REF!"}},{"$f":"IF(#REF!=$E$1,IF(#REF!=$G$1,#REF!,NA()),NA())","v":{"$error":"#REF!"}},{"$f":"IF(#REF!=$E$1,IF(#REF!=$G$1,IF(#REF!=\"\",NA(),#REF!),NA()),NA())","v":{"$error":"#REF!"}},{"$f":"IF(#REF!=$E$1,IF(#REF!=$G$1,IF(#REF!=\"\",NA(),#REF!),NA()),NA())","v":{"$error":"#REF!"}},{"$error":"#REF!"},{"$error":"#REF!"}]
[null,null,null,{"$f":"IF(#REF!=$E$1,IF(#REF!=$G$1,#REF!,NA()),NA())","v":{"$error":"#REF!"}},{"$f":"IF(#REF!=$E$1,IF(#REF!=$G$1,#REF!,NA()),NA())","v":{"$error":"#REF!"}},{"$f":"IF(#REF!=$E$1,IF(#REF!=$G$1,IF(#REF!=\"\",NA(),#REF!),NA()),NA())","v":{"$error":"#REF!"}},{"$f":"IF(#REF!=$E$1,IF(#REF!=$G$1,IF(#REF!=\"\",NA(),#REF!),NA()),NA())","v":{"$error":"#REF!"}},{"$error":"#REF!"},{"$error":"#REF!"}]
[null,null,null,{"$f":"IF(#REF!=$E$1,IF(#REF!=$G$1,#REF!,NA()),NA())","v":{"$error":"#REF!"}},{"$f":"IF(#REF!=$E$1,IF(#REF!=$G$1,#REF!,NA()),NA())","v":{"$error":"#REF!"}},{"$f":"IF(#REF!=$E$1,IF(#REF!=$G$1,IF(#REF!=\"\",NA(),#REF!),NA()),NA())","v":{"$error":"#REF!"}},{"$f":"IF(#REF!=$E$1,IF(#REF!=$G$1,IF(#REF!=\"\",NA(),#REF!),NA()),NA())","v":{"$error":"#REF!"}},{"$error":"#REF!"},{"$error":"#REF!"}]
[null,null,null,{"$f":"IF(#REF!=$E$1,IF(#REF!=$G$1,#REF!,NA()),NA())","v":{"$error":"#REF!"}},{"$f":"IF(#REF!=$E$1,IF(#REF!=$G$1,#REF!,NA()),NA())","v":{"$error":"#REF!"}},{"$f":"IF(#REF!=$E$1,IF(#REF!=$G$1,IF(#REF!=\"\",NA(),#REF!),NA()),NA())","v":{"$error":"#REF!"}},{"$f":"IF(#REF!=$E$1,IF(#REF!=$G$1,IF(#REF!=\"\",NA(),#REF!),NA()),NA())","v":{"$error":"#REF!"}},{"$error":"#REF!"},{"$error":"#REF!"}]
[null,null,null,{"$f":"IF(#REF!=$E$1,IF(#REF!=$G$1,#REF!,NA()),NA())","v":{"$error":"#REF!"}},{"$f":"IF(#REF!=$E$1,IF(#REF!=$G$1,#REF!,NA()),NA())","v":{"$error":"#REF!"}},{"$f":"IF(#REF!=$E$1,IF(#REF!=$G$1,IF(#REF!=\"\",NA(),#REF!),NA()),NA())","v":{"$error":"#REF!"}},{"$f":"IF(#REF!=$E$1,IF(#REF!=$G$1,IF(#REF!=\"\",NA(),#REF!),NA()),NA())","v":{"$error":"#REF!"}},{"$error":"#REF!"},{"$error":"#REF!"}]
[null,null,null,{"$f":"IF(#REF!=$E$1,IF(#REF!=$G$1,#REF!,NA()),NA())","v":{"$error":"#REF!"}},{"$f":"IF(#REF!=$E$1,IF(#REF!=$G$1,#REF!,NA()),NA())","v":{"$error":"#REF!"}},{"$f":"IF(#REF!=$E$1,IF(#REF!=$G$1,IF(#REF!=\"\",NA(),#REF!),NA()),NA())","v":{"$error":"#REF!"}},{"$f":"IF(#REF!=$E$1,IF(#REF!=$G$1,IF(#REF!=\"\",NA(),#REF!),NA()),NA())","v":{"$error":"#REF!"}},{"$error":"#REF!"},{"$error":"#REF!"}]
[null,null,null,{"$f":"IF(#REF!=$E$1,IF(#REF!=$G$1,#REF!,NA()),NA())","v":{"$error":"#REF!"}},{"$f":"IF(#REF!=$E$1,IF(#REF!=$G$1,#REF!,NA()),NA())","v":{"$error":"#REF!"}},{"$f":"IF(#REF!=$E$1,IF(#REF!=$G$1,IF(#REF!=\"\",NA(),#REF!),NA()),NA())","v":{"$error":"#REF!"}},{"$f":"IF(#REF!=$E$1,IF(#REF!=$G$1,IF(#REF!=\"\",NA(),#REF!),NA()),NA())","v":{"$error":"#REF!"}},{"$error":"#REF!"},{"$error":"#REF!"}]
[null,null,null,{"$f":"IF(#REF!=$E$1,IF(#REF!=$G$1,#REF!,NA()),NA())","v":{"$error":"#REF!"}},{"$f":"IF(#REF!=$E$1,IF(#REF!=$G$1,#REF!,NA()),NA())","v":{"$error":"#REF!"}},{"$f":"IF(#REF!=$E$1,IF(#REF!=$G$1,IF(#REF!=\"\",NA(),#REF!),NA()),NA())","v":{"$error":"#REF!"}},{"$f":"IF(#REF!=$E$1,IF(#REF!=$G$1,IF(#REF!=\"\",NA(),#REF!),NA()),NA())","v":{"$error":"#REF!"}},{"$error":"#REF!"},{"$error":"#REF!"}]
[null,null,null,{"$f":"IF(#REF!=$E$1,IF(#REF!=$G$1,#REF!,NA()),NA())","v":{"$error":"#REF!"}},{"$f":"IF(#REF!=$E$1,IF(#REF!=$G$1,#REF!,NA()),NA())","v":{"$error":"#REF!"}},{"$f":"IF(#REF!=$E$1,IF(#REF!=$G$1,IF(#REF!=\"\",NA(),#REF!),NA()),NA())","v":{"$error":"#REF!"}},{"$f":"IF(#REF!=$E$1,IF(#REF!=$G$1,IF(#REF!=\"\",NA(),#REF!),NA()),NA())","v":{"$error":"#REF!"}},{"$error":"#REF!"},{"$error":"#REF!"}]
[null,null,null,{"$f":"IF(#REF!=$E$1,IF(#REF!=$G$1,#REF!,NA()),NA())","v":{"$error":"#REF!"}},{"$f":"IF(#REF!=$E$1,IF(#REF!=$G$1,#REF!,NA()),NA())","v":{"$error":"#REF!"}},{"$f":"IF(#REF!=$E$1,IF(#REF!=$G$1,IF(#REF!=\"\",NA(),#REF!),NA()),NA())","v":{"$error":"#REF!"}},{"$f":"IF(#REF!=$E$1,IF(#REF!=$G$1,IF(#REF!=\"\",NA(),#REF!),NA()),NA())","v":{"$error":"#REF!"}},{"$error":"#REF!"},{"$error":"#REF!"}]
[null,null,null,{"$f":"IF(#REF!=$E$1,IF(#REF!=$G$1,#REF!,NA()),NA())","v":{"$error":"#REF!"}},{"$f":"IF(#REF!=$E$1,IF(#REF!=$G$1,#REF!,NA()),NA())","v":{"$error":"#REF!"}},{"$f":"IF(#REF!=$E$1,IF(#REF!=$G$1,IF(#REF!=\"\",NA(),#REF!),NA()),NA())","v":{"$error":"#REF!"}},{"$f":"IF(#REF!=$E$1,IF(#REF!=$G$1,IF(#REF!=\"\",NA(),#REF!),NA()),NA())","v":{"$error":"#REF!"}},{"$error":"#REF!"},{"$error":"#REF!"}]
[null,null,null,{"$f":"IF(#REF!=$E$1,IF(#REF!=$G$1,#REF!,NA()),NA())","v":{"$error":"#REF!"}},{"$f":"IF(#REF!=$E$1,IF(#REF!=$G$1,#REF!,NA()),NA())","v":{"$error":"#REF!"}},{"$f":"IF(#REF!=$E$1,IF(#REF!=$G$1,IF(#REF!=\"\",NA(),#REF!),NA()),NA())","v":{"$error":"#REF!"}},{"$f":"IF(#REF!=$E$1,IF(#REF!=$G$1,IF(#REF!=\"\",NA(),#REF!),NA()),NA())","v":{"$error":"#REF!"}},{"$error":"#REF!"},{"$error":"#REF!"}]
[null,null,null,{"$f":"IF(#REF!=$E$1,IF(#REF!=$G$1,#REF!,NA()),NA())","v":{"$error":"#REF!"}},{"$f":"IF(#REF!=$E$1,IF(#REF!=$G$1,#REF!,NA()),NA())","v":{"$error":"#REF!"}},{"$f":"IF(#REF!=$E$1,IF(#REF!=$G$1,IF(#REF!=\"\",NA(),#REF!),NA()),NA())","v":{"$error":"#REF!"}},{"$f":"IF(#REF!=$E$1,IF(#REF!=$G$1,IF(#REF!=\"\",NA(),#REF!),NA()),NA())","v":{"$error":"#REF!"}},{"$error":"#REF!"},{"$error":"#REF!"}]
[null,null,null,{"$f":"IF(#REF!=$E$1,IF(#REF!=$G$1,#REF!,NA()),NA())","v":{"$error":"#REF!"}},{"$f":"IF(#REF!=$E$1,IF(#REF!=$G$1,#REF!,NA()),NA())","v":{"$error":"#REF!"}},{"$f":"IF(#REF!=$E$1,IF(#REF!=$G$1,IF(#REF!=\"\",NA(),#REF!),NA()),NA())","v":{"$error":"#REF!"}},{"$f":"IF(#REF!=$E$1,IF(#REF!=$G$1,IF(#REF!=\"\",NA(),#REF!),NA()),NA())","v":{"$error":"#REF!"}},{"$error":"#REF!"},{"$error":"#REF!"}]
[null,null,null,{"$f":"IF(#REF!=$E$1,IF(#REF!=$G$1,#REF!,NA()),NA())","v":{"$error":"#REF!"}},{"$f":"IF(#REF!=$E$1,IF(#REF!=$G$1,#REF!,NA()),NA())","v":{"$error":"#REF!"}},{"$f":"IF(#REF!=$E$1,IF(#REF!=$G$1,IF(#REF!=\"\",NA(),#REF!),NA()),NA())","v":{"$error":"#REF!"}},{"$f":"IF(#REF!=$E$1,IF(#REF!=$G$1,IF(#REF!=\"\",NA(),#REF!),NA()),NA())","v":{"$error":"#REF!"}},{"$error":"#REF!"},{"$error":"#REF!"}]
[null,null,null,{"$f":"IF(#REF!=$E$1,IF(#REF!=$G$1,#REF!,NA()),NA())","v":{"$error":"#REF!"}},{"$f":"IF(#REF!=$E$1,IF(#REF!=$G$1,#REF!,NA()),NA())","v":{"$error":"#REF!"}},{"$f":"IF(#REF!=$E$1,IF(#REF!=$G$1,IF(#REF!=\"\",NA(),#REF!),NA()),NA())","v":{"$error":"#REF!"}},{"$f":"IF(#REF!=$E$1,IF(#REF!=$G$1,IF(#REF!=\"\",NA(),#REF!),NA()),NA())","v":{"$error":"#REF!"}},{"$error":"#REF!"},{"$error":"#REF!"}]
[null,null,null,{"$f":"IF(#REF!=$E$1,IF(#REF!=$G$1,#REF!,NA()),NA())","v":{"$error":"#REF!"}},{"$f":"IF(#REF!=$E$1,IF(#REF!=$G$1,#REF!,NA()),NA())","v":{"$error":"#REF!"}},{"$f":"IF(#REF!=$E$1,IF(#REF!=$G$1,IF(#REF!=\"\",NA(),#REF!),NA()),NA())","v":{"$error":"#REF!"}},{"$f":"IF(#REF!=$E$1,IF(#REF!=$G$1,IF(#REF!=\"\",NA(),#REF!),NA()),NA())","v":{"$error":"#REF!"}},{"$error":"#REF!"},{"$error":"#REF!"}]
[null,null,null,{"$f":"IF(#REF!=$E$1,IF(#REF!=$G$1,#REF!,NA()),NA())","v":{"$error":"#REF!"}},{"$f":"IF(#REF!=$E$1,IF(#REF!=$G$1,#REF!,NA()),NA())","v":{"$error":"#REF!"}},{"$f":"IF(#REF!=$E$1,IF(#REF!=$G$1,IF(#REF!=\"\",NA(),#REF!),NA()),NA())","v":{"$error":"#REF!"}},{"$f":"IF(#REF!=$E$1,IF(#REF!=$G$1,IF(#REF!=\"\",NA(),#REF!),NA()),NA())","v":{"$error":"#REF!"}},{"$error":"#REF!"},{"$error":"#REF!"}]
[null,null,null,{"$f":"IF(#REF!=$E$1,IF(#REF!=$G$1,#REF!,NA()),NA())","v":{"$error":"#REF!"}},{"$f":"IF(#REF!=$E$1,IF(#REF!=$G$1,#REF!,NA()),NA())","v":{"$error":"#REF!"}},{"$f":"IF(#REF!=$E$1,IF(#REF!=$G$1,IF(#REF!=\"\",NA(),#REF!),NA()),NA())","v":{"$error":"#REF!"}},{"$f":"IF(#REF!=$E$1,IF(#REF!=$G$1,IF(#REF!=\"\",NA(),#REF!),NA()),NA())","v":{"$error":"#REF!"}},{"$error":"#REF!"},{"$error":"#REF!"}]
[null,null,null,{"$f":"IF(#REF!=$E$1,IF(#REF!=$G$1,#REF!,NA()),NA())","v":{"$error":"#REF!"}},{"$f":"IF(#REF!=$E$1,IF(#REF!=$G$1,#REF!,NA()),NA())","v":{"$error":"#REF!"}},{"$f":"IF(#REF!=$E$1,IF(#REF!=$G$1,IF(#REF!=\"\",NA(),#REF!),NA()),NA())","v":{"$error":"#REF!"}},{"$f":"IF(#REF!=$E$1,IF(#REF!=$G$1,IF(#REF!=\"\",NA(),#REF!),NA()),NA())","v":{"$error":"#REF!"}},{"$error":"#REF!"},{"$error":"#REF!"}]
[null,null,null,{"$f":"IF(#REF!=$E$1,IF(#REF!=$G$1,#REF!,NA()),NA())","v":{"$error":"#REF!"}},{"$f":"IF(#REF!=$E$1,IF(#REF!=$G$1,#REF!,NA()),NA())","v":{"$error":"#REF!"}},{"$f":"IF(#REF!=$E$1,IF(#REF!=$G$1,IF(#REF!=\"\",NA(),#REF!),NA()),NA())","v":{"$error":"#REF!"}},{"$f":"IF(#REF!=$E$1,IF(#REF!=$G$1,IF(#REF!=\"\",NA(),#REF!),NA()),NA())","v":{"$error":"#REF!"}},{"$error":"#REF!"},{"$error":"#REF!"}]
[null,null,null,{"$f":"IF(#REF!=$E$1,IF(#REF!=$G$1,#REF!,NA()),NA())","v":{"$error":"#REF!"}},{"$f":"IF(#REF!=$E$1,IF(#REF!=$G$1,#REF!,NA()),NA())","v":{"$error":"#REF!"}},{"$f":"IF(#REF!=$E$1,IF(#REF!=$G$1,IF(#REF!=\"\",NA(),#REF!),NA()),NA())","v":{"$error":"#REF!"}},{"$f":"IF(#REF!=$E$1,IF(#REF!=$G$1,IF(#REF!=\"\",NA(),#REF!),NA()),NA())","v":{"$error":"#REF!"}},{"$error":"#REF!"},{"$error":"#REF!"}]
[null,null,null,{"$f":"IF(#REF!=$E$1,IF(#REF!=$G$1,#REF!,NA()),NA())","v":{"$error":"#REF!"}},{"$f":"IF(#REF!=$E$1,IF(#REF!=$G$1,#REF!,NA()),NA())","v":{"$error":"#REF!"}},{"$f":"IF(#REF!=$E$1,IF(#REF!=$G$1,IF(#REF!=\"\",NA(),#REF!),NA()),NA())","v":{"$error":"#REF!"}},{"$f":"IF(#REF!=$E$1,IF(#REF!=$G$1,IF(#REF!=\"\",NA(),#REF!),NA()),NA())","v":{"$error":"#REF!"}},{"$error":"#REF!"},{"$error":"#REF!"}]
[null,null,null,{"$f":"IF(#REF!=$E$1,IF(#REF!=$G$1,#REF!,NA()),NA())","v":{"$error":"#REF!"}},{"$f":"IF(#REF!=$E$1,IF(#REF!=$G$1,#REF!,NA()),NA())","v":{"$error":"#REF!"}},{"$f":"IF(#REF!=$E$1,IF(#REF!=$G$1,IF(#REF!=\"\",NA(),#REF!),NA()),NA())","v":{"$error":"#REF!"}},{"$f":"IF(#REF!=$E$1,IF(#REF!=$G$1,IF(#REF!=\"\",NA(),#REF!),NA()),NA())","v":{"$error":"#REF!"}},{"$error":"#REF!"},{"$error":"#REF!"}]
[null,null,null,{"$f":"IF(#REF!=$E$1,IF(#REF!=$G$1,#REF!,NA()),NA())","v":{"$error":"#REF!"}},{"$f":"IF(#REF!=$E$1,IF(#REF!=$G$1,#REF!,NA()),NA())","v":{"$error":"#REF!"}},{"$f":"IF(#REF!=$E$1,IF(#REF!=$G$1,IF(#REF!=\"\",NA(),#REF!),NA()),NA())","v":{"$error":"#REF!"}},{"$f":"IF(#REF!=$E$1,IF(#REF!=$G$1,IF(#REF!=\"\",NA(),#REF!),NA()),NA())","v":{"$error":"#REF!"}},{"$error":"#REF!"},{"$error":"#REF!"}]
[null,null,null,{"$f":"IF(#REF!=$E$1,IF(#REF!=$G$1,#REF!,NA()),NA())","v":{"$error":"#REF!"}},{"$f":"IF(#REF!=$E$1,IF(#REF!=$G$1,#REF!,NA()),NA())","v":{"$error":"#REF!"}},{"$f":"IF(#REF!=$E$1,IF(#REF!=$G$1,IF(#REF!=\"\",NA(),#REF!),NA()),NA())","v":{"$error":"#REF!"}},{"$f":"IF(#REF!=$E$1,IF(#REF!=$G$1,IF(#REF!=\"\",NA(),#REF!),NA()),NA())","v":{"$error":"#REF!"}},{"$error":"#REF!"},{"$error":"#REF!"}]
[null,null,null,{"$f":"IF(#REF!=$E$1,IF(#REF!=$G$1,#REF!,NA()),NA())","v":{"$error":"#REF!"}},{"$f":"IF(#REF!=$E$1,IF(#REF!=$G$1,#REF!,NA()),NA())","v":{"$error":"#REF!"}},{"$f":"IF(#REF!=$E$1,IF(#REF!=$G$1,IF(#REF!=\"\",NA(),#REF!),NA()),NA())","v":{"$error":"#REF!"}},{"$f":"IF(#REF!=$E$1,IF(#REF!=$G$1,IF(#REF!=\"\",NA(),#REF!),NA()),NA())","v":{"$error":"#REF!"}},{"$error":"#REF!"},{"$error":"#REF!"}]
[null,null,null,{"$f":"IF(#REF!=$E$1,IF(#REF!=$G$1,#REF!,NA()),NA())","v":{"$error":"#REF!"}},{"$f":"IF(#REF!=$E$1,IF(#REF!=$G$1,#REF!,NA()),NA())","v":{"$error":"#REF!"}},{"$f":"IF(#REF!=$E$1,IF(#REF!=$G$1,IF(#REF!=\"\",NA(),#REF!),NA()),NA())","v":{"$error":"#REF!"}},{"$f":"IF(#REF!=$E$1,IF(#REF!=$G$1,IF(#REF!=\"\",NA(),#REF!),NA()),NA())","v":{"$error":"#REF!"}},{"$error":"#REF!"},{"$error":"#REF!"}]
[null,null,null,{"$f":"IF(#REF!=$E$1,IF(#REF!=$G$1,#REF!,NA()),NA())","v":{"$error":"#REF!"}},{"$f":"IF(#REF!=$E$1,IF(#REF!=$G$1,#REF!,NA()),NA())","v":{"$error":"#REF!"}},{"$f":"IF(#REF!=$E$1,IF(#REF!=$G$1,IF(#REF!=\"\",NA(),#REF!),NA()),NA())","v":{"$error":"#REF!"}},{"$f":"IF(#REF!=$E$1,IF(#REF!=$G$1,IF(#REF!=\"\",NA(),#REF!),NA()),NA())","v":{"$error":"#REF!"}},{"$error":"#REF!"},{"$error":"#REF!"}]
[null,null,null,{"$f":"IF(#REF!=$E$1,IF(#REF!=$G$1,#REF!,NA()),NA())","v":{"$error":"#REF!"}},{"$f":"IF(#REF!=$E$1,IF(#REF!=$G$1,#REF!,NA()),NA())","v":{"$error":"#REF!"}},{"$f":"IF(#REF!=$E$1,IF(#REF!=$G$1,IF(#REF!=\"\",NA(),#REF!),NA()),NA())","v":{"$error":"#REF!"}},{"$f":"IF(#REF!=$E$1,IF(#REF!=$G$1,IF(#REF!=\"\",NA(),#REF!),NA()),NA())","v":{"$error":"#REF!"}},{"$error":"#REF!"},{"$error":"#REF!"}]
[null,null,null,{"$f":"IF(#REF!=$E$1,IF(#REF!=$G$1,#REF!,NA()),NA())","v":{"$error":"#REF!"}},{"$f":"IF(#REF!=$E$1,IF(#REF!=$G$1,#REF!,NA()),NA())","v":{"$error":"#REF!"}},{"$f":"IF(#REF!=$E$1,IF(#REF!=$G$1,IF(#REF!=\"\",NA(),#REF!),NA()),NA())","v":{"$error":"#REF!"}},{"$f":"IF(#REF!=$E$1,IF(#REF!=$G$1,IF(#REF!=\"\",NA(),#REF!),NA()),NA())","v":{"$error":"#REF!"}},{"$error":"#REF!"},{"$error":"#REF!"}]
[null,null,null,{"$f":"IF(#REF!=$E$1,IF(#REF!=$G$1,#REF!,NA()),NA())","v":{"$error":"#REF!"}},{"$f":"IF(#REF!=$E$1,IF(#REF!=$G$1,#REF!,NA()),NA())","v":{"$error":"#REF!"}},{"$f":"IF(#REF!=$E$1,IF(#REF!=$G$1,IF(#REF!=\"\",NA(),#REF!),NA()),NA())","v":{"$error":"#REF!"}},{"$f":"IF(#REF!=$E$1,IF(#REF!=$G$1,IF(#REF!=\"\",NA(),#REF!),NA()),NA())","v":{"$error":"#REF!"}},{"$error":"#REF!"},{"$error":"#REF!"}]
[null,null,null,{"$f":"IF(#REF!=$E$1,IF(#REF!=$G$1,#REF!,NA()),NA())","v":{"$error":"#REF!"}},{"$f":"IF(#REF!=$E$1,IF(#REF!=$G$1,#REF!,NA()),NA())","v":{"$error":"#REF!"}},{"$f":"IF(#REF!=$E$1,IF(#REF!=$G$1,IF(#REF!=\"\",NA(),#REF!),NA()),NA())","v":{"$error":"#REF!"}},{"$f":"IF(#REF!=$E$1,IF(#REF!=$G$1,IF(#REF!=\"\",NA(),#REF!),NA()),NA())","v":{"$error":"#REF!"}},{"$error":"#REF!"},{"$error":"#REF!"}]
[null,null,null,{"$f":"IF(#REF!=$E$1,IF(#REF!=$G$1,#REF!,NA()),NA())","v":{"$error":"#REF!"}},{"$f":"IF(#REF!=$E$1,IF(#REF!=$G$1,#REF!,NA()),NA())","v":{"$error":"#REF!"}},{"$f":"IF(#REF!=$E$1,IF(#REF!=$G$1,IF(#REF!=\"\",NA(),#REF!),NA()),NA())","v":{"$error":"#REF!"}},{"$f":"IF(#REF!=$E$1,IF(#REF!=$G$1,IF(#REF!=\"\",NA(),#REF!),NA()),NA())","v":{"$error":"#REF!"}},{"$error":"#REF!"},{"$error":"#REF!"}]
[null,null,null,{"$f":"IF(#REF!=$E$1,IF(#REF!=$G$1,#REF!,NA()),NA())","v":{"$error":"#REF!"}},{"$f":"IF(#REF!=$E$1,IF(#REF!=$G$1,#REF!,NA()),NA())","v":{"$error":"#REF!"}},{"$f":"IF(#REF!=$E$1,IF(#REF!=$G$1,IF(#REF!=\"\",NA(),#REF!),NA()),NA())","v":{"$error":"#REF!"}},{"$f":"IF(#REF!=$E$1,IF(#REF!=$G$1,IF(#REF!=\"\",NA(),#REF!),NA()),NA())","v":{"$error":"#REF!"}},{"$error":"#REF!"},{"$error":"#REF!"}]
[null,null,null,{"$f":"IF(#REF!=$E$1,IF(#REF!=$G$1,#REF!,NA()),NA())","v":{"$error":"#REF!"}},{"$f":"IF(#REF!=$E$1,IF(#REF!=$G$1,#REF!,NA()),NA())","v":{"$error":"#REF!"}},{"$f":"IF(#REF!=$E$1,IF(#REF!=$G$1,IF(#REF!=\"\",NA(),#REF!),NA()),NA())","v":{"$error":"#REF!"}},{"$f":"IF(#REF!=$E$1,IF(#REF!=$G$1,IF(#REF!=\"\",NA(),#REF!),NA()),NA())","v":{"$error":"#REF!"}},{"$error":"#REF!"},{"$error":"#REF!"}]
[null,null,null,{"$f":"IF(#REF!=$E$1,IF(#REF!=$G$1,#REF!,NA()),NA())","v":{"$error":"#REF!"}},{"$f":"IF(#REF!=$E$1,IF(#REF!=$G$1,#REF!,NA()),NA())","v":{"$error":"#REF!"}},{"$f":"IF(#REF!=$E$1,IF(#REF!=$G$1,IF(#REF!=\"\",NA(),#REF!),NA()),NA())","v":{"$error":"#REF!"}},{"$f":"IF(#REF!=$E$1,IF(#REF!=$G$1,IF(#REF!=\"\",NA(),#REF!),NA()),NA())","v":{"$error":"#REF!"}},{"$error":"#REF!"},{"$error":"#REF!"}]
[null,null,null,{"$f":"IF(#REF!=$E$1,IF(#REF!=$G$1,#REF!,NA()),NA())","v":{"$error":"#REF!"}},{"$f":"IF(#REF!=$E$1,IF(#REF!=$G$1,#REF!,NA()),NA())","v":{"$error":"#REF!"}},{"$f":"IF(#REF!=$E$1,IF(#REF!=$G$1,IF(#REF!=\"\",NA(),#REF!),NA()),NA())","v":{"$error":"#REF!"}},{"$f":"IF(#REF!=$E$1,IF(#REF!=$G$1,IF(#REF!=\"\",NA(),#REF!),NA()),NA())","v":{"$error":"#REF!"}},{"$error":"#REF!"},{"$error":"#REF!"}]
[null,null,null,{"$f":"IF(#REF!=$E$1,IF(#REF!=$G$1,#REF!,NA()),NA())","v":{"$error":"#REF!"}},{"$f":"IF(#REF!=$E$1,IF(#REF!=$G$1,#REF!,NA()),NA())","v":{"$error":"#REF!"}},{"$f":"IF(#REF!=$E$1,IF(#REF!=$G$1,IF(#REF!=\"\",NA(),#REF!),NA()),NA())","v":{"$error":"#REF!"}},{"$f":"IF(#REF!=$E$1,IF(#REF!=$G$1,IF(#REF!=\"\",NA(),#REF!),NA()),NA())","v":{"$error":"#REF!"}},{"$error":"#REF!"},{"$error":"#REF!"}]
[null,null,null,{"$f":"IF(#REF!=$E$1,IF(#REF!=$G$1,#REF!,NA()),NA())","v":{"$error":"#REF!"}},{"$f":"IF(#REF!=$E$1,IF(#REF!=$G$1,#REF!,NA()),NA())","v":{"$error":"#REF!"}},{"$f":"IF(#REF!=$E$1,IF(#REF!=$G$1,IF(#REF!=\"\",NA(),#REF!),NA()),NA())","v":{"$error":"#REF!"}},{"$f":"IF(#REF!=$E$1,IF(#REF!=$G$1,IF(#REF!=\"\",NA(),#REF!),NA()),NA())","v":{"$error":"#REF!"}},{"$error":"#REF!"},{"$error":"#REF!"}]
[null,null,null,{"$f":"IF(#REF!=$E$1,IF(#REF!=$G$1,#REF!,NA()),NA())","v":{"$error":"#REF!"}},{"$f":"IF(#REF!=$E$1,IF(#REF!=$G$1,#REF!,NA()),NA())","v":{"$error":"#REF!"}},{"$f":"IF(#REF!=$E$1,IF(#REF!=$G$1,IF(#REF!=\"\",NA(),#REF!),NA()),NA())","v":{"$error":"#REF!"}},{"$f":"IF(#REF!=$E$1,IF(#REF!=$G$1,IF(#REF!=\"\",NA(),#REF!),NA()),NA())","v":{"$error":"#REF!"}},{"$f":"IF(AND(ISNUMBER(G452),F452=\"-\"),0,F452)","v":{"$error":"#REF!"}},{"$f":"IF(AND(ISNUMBER(F452),G452=\"-\"),0,G452)","v":{"$error":"#REF!"}}]
[null,null,null,{"$f":"IF(#REF!=$E$1,IF(#REF!=$G$1,#REF!,NA()),NA())","v":{"$error":"#REF!"}},{"$f":"IF(#REF!=$E$1,IF(#REF!=$G$1,#REF!,NA()),NA())","v":{"$error":"#REF!"}},{"$f":"IF(#REF!=$E$1,IF(#REF!=$G$1,IF(#REF!=\"\",NA(),#REF!),NA()),NA())","v":{"$error":"#REF!"}},{"$f":"IF(#REF!=$E$1,IF(#REF!=$G$1,IF(#REF!=\"\",NA(),#REF!),NA()),NA())","v":{"$error":"#REF!"}},{"$error":"#REF!"},{"$error":"#REF!"}]
[null,null,null,{"$f":"IF(#REF!=$E$1,IF(#REF!=$G$1,#REF!,NA()),NA())","v":{"$error":"#REF!"}},{"$f":"IF(#REF!=$E$1,IF(#REF!=$G$1,#REF!,NA()),NA())","v":{"$error":"#REF!"}},{"$f":"IF(#REF!=$E$1,IF(#REF!=$G$1,IF(#REF!=\"\",NA(),#REF!),NA()),NA())","v":{"$error":"#REF!"}},{"$f":"IF(#REF!=$E$1,IF(#REF!=$G$1,IF(#REF!=\"\",NA(),#REF!),NA()),NA())","v":{"$error":"#REF!"}},{"$error":"#REF!"},{"$error":"#REF!"}]
[null,null,null,{"$f":"IF(#REF!=$E$1,IF(#REF!=$G$1,#REF!,NA()),NA())","v":{"$error":"#REF!"}},{"$f":"IF(#REF!=$E$1,IF(#REF!=$G$1,#REF!,NA()),NA())","v":{"$error":"#REF!"}},{"$f":"IF(#REF!=$E$1,IF(#REF!=$G$1,IF(#REF!=\"\",NA(),#REF!),NA()),NA())","v":{"$error":"#REF!"}},{"$f":"IF(#REF!=$E$1,IF(#REF!=$G$1,IF(#REF!=\"\",NA(),#REF!),NA()),NA())","v":{"$error":"#REF!"}},{"$error":"#REF!"},{"$error":"#REF!"}]
[null,null,null,{"$f":"IF(#REF!=$E$1,IF(#REF!=$G$1,#REF!,NA()),NA())","v":{"$error":"#REF!"}},{"$f":"IF(#REF!=$E$1,IF(#REF!=$G$1,#REF!,NA()),NA())","v":{"$error":"#REF!"}},{"$f":"IF(#REF!=$E$1,IF(#REF!=$G$1,IF(#REF!=\"\",NA(),#REF!),NA()),NA())","v":{"$error":"#REF!"}},{"$f":"IF(#REF!=$E$1,IF(#REF!=$G$1,IF(#REF!=\"\",NA(),#REF!),NA()),NA())","v":{"$error":"#REF!"}},{"$error":"#REF!"},{"$error":"#REF!"}]
[null,null,null,{"$f":"IF(#REF!=$E$1,IF(#REF!=$G$1,#REF!,NA()),NA())","v":{"$error":"#REF!"}},{"$f":"IF(#REF!=$E$1,IF(#REF!=$G$1,#REF!,NA()),NA())","v":{"$error":"#REF!"}},{"$f":"IF(#REF!=$E$1,IF(#REF!=$G$1,IF(#REF!=\"\",NA(),#REF!),NA()),NA())","v":{"$error":"#REF!"}},{"$f":"IF(#REF!=$E$1,IF(#REF!=$G$1,IF(#REF!=\"\",NA(),#REF!),NA()),NA())","v":{"$error":"#REF!"}},{"$error":"#REF!"},{"$error":"#REF!"}]
[null,null,null,{"$f":"IF(#REF!=$E$1,IF(#REF!=$G$1,#REF!,NA()),NA())","v":{"$error":"#REF!"}},{"$f":"IF(#REF!=$E$1,IF(#REF!=$G$1,#REF!,NA()),NA())","v":{"$error":"#REF!"}},{"$f":"IF(#REF!=$E$1,IF(#REF!=$G$1,IF(#REF!=\"\",NA(),#REF!),NA()),NA())","v":{"$error":"#REF!"}},{"$f":"IF(#REF!=$E$1,IF(#REF!=$G$1,IF(#REF!=\"\",NA(),#REF!),NA()),NA())","v":{"$error":"#REF!"}},{"$error":"#REF!"},{"$error":"#REF!"}]
[null,null,null,{"$f":"IF(#REF!=$E$1,IF(#REF!=$G$1,#REF!,NA()),NA())","v":{"$error":"#REF!"}},{"$f":"IF(#REF!=$E$1,IF(#REF!=$G$1,#REF!,NA()),NA())","v":{"$error":"#REF!"}},{"$f":"IF(#REF!=$E$1,IF(#REF!=$G$1,IF(#REF!=\"\",NA(),#REF!),NA()),NA())","v":{"$error":"#REF!"}},{"$f":"IF(#REF!=$E$1,IF(#REF!=$G$1,IF(#REF!=\"\",NA(),#REF!),NA()),NA())","v":{"$error":"#REF!"}},{"$error":"#REF!"},{"$error":"#REF!"}]
[null,null,null,{"$f":"IF(#REF!=$E$1,IF(#REF!=$G$1,#REF!,NA()),NA())","v":{"$error":"#REF!"}},{"$f":"IF(#REF!=$E$1,IF(#REF!=$G$1,#REF!,NA()),NA())","v":{"$error":"#REF!"}},{"$f":"IF(#REF!=$E$1,IF(#REF!=$G$1,IF(#REF!=\"\",NA(),#REF!),NA()),NA())","v":{"$error":"#REF!"}},{"$f":"IF(#REF!=$E$1,IF(#REF!=$G$1,IF(#REF!=\"\",NA(),#REF!),NA()),NA())","v":{"$error":"#REF!"}},{"$error":"#REF!"},{"$error":"#REF!"}]
[null,null,null,{"$f":"IF(#REF!=$E$1,IF(#REF!=$G$1,#REF!,NA()),NA())","v":{"$error":"#REF!"}},{"$f":"IF(#REF!=$E$1,IF(#REF!=$G$1,#REF!,NA()),NA())","v":{"$error":"#REF!"}},{"$f":"IF(#REF!=$E$1,IF(#REF!=$G$1,IF(#REF!=\"\",NA(),#REF!),NA()),NA())","v":{"$error":"#REF!"}},{"$f":"IF(#REF!=$E$1,IF(#REF!=$G$1,IF(#REF!=\"\",NA(),#REF!),NA()),NA())","v":{"$error":"#REF!"}},{"$error":"#REF!"},{"$error":"#REF!"}]
[null,null,null,{"$f":"IF(#REF!=$E$1,IF(#REF!=$G$1,#REF!,NA()),NA())","v":{"$error":"#REF!"}},{"$f":"IF(#REF!=$E$1,IF(#REF!=$G$1,#REF!,NA()),NA())","v":{"$error":"#REF!"}},{"$f":"IF(#REF!=$E$1,IF(#REF!=$G$1,IF(#REF!=\"\",NA(),#REF!),NA()),NA())","v":{"$error":"#REF!"}},{"$f":"IF(#REF!=$E$1,IF(#REF!=$G$1,IF(#REF!=\"\",NA(),#REF!),NA()),NA())","v":{"$error":"#REF!"}},{"$error":"#REF!"},{"$error":"#REF!"}]
[null,null,null,{"$f":"IF(#REF!=$E$1,IF(#REF!=$G$1,#REF!,NA()),NA())","v":{"$error":"#REF!"}},{"$f":"IF(#REF!=$E$1,IF(#REF!=$G$1,#REF!,NA()),NA())","v":{"$error":"#REF!"}},{"$f":"IF(#REF!=$E$1,IF(#REF!=$G$1,IF(#REF!=\"\",NA(),#REF!),NA()),NA())","v":{"$error":"#REF!"}},{"$f":"IF(#REF!=$E$1,IF(#REF!=$G$1,IF(#REF!=\"\",NA(),#REF!),NA()),NA())","v":{"$error":"#REF!"}},{"$error":"#REF!"},{"$error":"#REF!"}]
[null,null,null,{"$f":"IF(#REF!=$E$1,IF(#REF!=$G$1,#REF!,NA()),NA())","v":{"$error":"#REF!"}},{"$f":"IF(#REF!=$E$1,IF(#REF!=$G$1,#REF!,NA()),NA())","v":{"$error":"#REF!"}},{"$f":"IF(#REF!=$E$1,IF(#REF!=$G$1,IF(#REF!=\"\",NA(),#REF!),NA()),NA())","v":{"$error":"#REF!"}},{"$f":"IF(#REF!=$E$1,IF(#REF!=$G$1,IF(#REF!=\"\",NA(),#REF!),NA()),NA())","v":{"$error":"#REF!"}},{"$error":"#REF!"},{"$error":"#REF!"}]
[null,null,null,{"$f":"IF(#REF!=$E$1,IF(#REF!=$G$1,#REF!,NA()),NA())","v":{"$error":"#REF!"}},{"$f":"IF(#REF!=$E$1,IF(#REF!=$G$1,#REF!,NA()),NA())","v":{"$error":"#REF!"}},{"$f":"IF(#REF!=$E$1,IF(#REF!=$G$1,IF(#REF!=\"\",NA(),#REF!),NA()),NA())","v":{"$error":"#REF!"}},{"$f":"IF(#REF!=$E$1,IF(#REF!=$G$1,IF(#REF!=\"\",NA(),#REF!),NA()),NA())","v":{"$error":"#REF!"}},{"$error":"#REF!"},{"$error":"#REF!"}]
[null,null,null,{"$f":"IF(#REF!=$E$1,IF(#REF!=$G$1,#REF!,NA()),NA())","v":{"$error":"#REF!"}},{"$f":"IF(#REF!=$E$1,IF(#REF!=$G$1,#REF!,NA()),NA())","v":{"$error":"#REF!"}},{"$f":"IF(#REF!=$E$1,IF(#REF!=$G$1,IF(#REF!=\"\",NA(),#REF!),NA()),NA())","v":{"$error":"#REF!"}},{"$f":"IF(#REF!=$E$1,IF(#REF!=$G$1,IF(#REF!=\"\",NA(),#REF!),NA()),NA())","v":{"$error":"#REF!"}},{"$error":"#REF!"},{"$error":"#REF!"}]
[null,null,null,{"$f":"IF(#REF!=$E$1,IF(#REF!=$G$1,#REF!,NA()),NA())","v":{"$error":"#REF!"}},{"$f":"IF(#REF!=$E$1,IF(#REF!=$G$1,#REF!,NA()),NA())","v":{"$error":"#REF!"}},{"$f":"IF(#REF!=$E$1,IF(#REF!=$G$1,IF(#REF!=\"\",NA(),#REF!),NA()),NA())","v":{"$error":"#REF!"}},{"$f":"IF(#REF!=$E$1,IF(#REF!=$G$1,IF(#REF!=\"\",NA(),#REF!),NA()),NA())","v":{"$error":"#REF!"}},{"$error":"#REF!"},{"$error":"#REF!"}]
[null,null,null,{"$f":"IF(#REF!=$E$1,IF(#REF!=$G$1,#REF!,NA()),NA())","v":{"$error":"#REF!"}},{"$f":"IF(#REF!=$E$1,IF(#REF!=$G$1,#REF!,NA()),NA())","v":{"$error":"#REF!"}},{"$f":"IF(#REF!=$E$1,IF(#REF!=$G$1,IF(#REF!=\"\",NA(),#REF!),NA()),NA())","v":{"$error":"#REF!"}},{"$f":"IF(#REF!=$E$1,IF(#REF!=$G$1,IF(#REF!=\"\",NA(),#REF!),NA()),NA())","v":{"$error":"#REF!"}},{"$error":"#REF!"},{"$error":"#REF!"}]
[null,null,null,{"$f":"IF(#REF!=$E$1,IF(#REF!=$G$1,#REF!,NA()),NA())","v":{"$error":"#REF!"}},{"$f":"IF(#REF!=$E$1,IF(#REF!=$G$1,#REF!,NA()),NA())","v":{"$error":"#REF!"}},{"$f":"IF(#REF!=$E$1,IF(#REF!=$G$1,IF(#REF!=\"\",NA(),#REF!),NA()),NA())","v":{"$error":"#REF!"}},{"$f":"IF(#REF!=$E$1,IF(#REF!=$G$1,IF(#REF!=\"\",NA(),#REF!),NA()),NA())","v":{"$error":"#REF!"}},{"$error":"#REF!"},{"$error":"#REF!"}]
[null,null,null,{"$f":"IF(#REF!=$E$1,IF(#REF!=$G$1,#REF!,NA()),NA())","v":{"$error":"#REF!"}},{"$f":"IF(#REF!=$E$1,IF(#REF!=$G$1,#REF!,NA()),NA())","v":{"$error":"#REF!"}},{"$f":"IF(#REF!=$E$1,IF(#REF!=$G$1,IF(#REF!=\"\",NA(),#REF!),NA()),NA())","v":{"$error":"#REF!"}},{"$f":"IF(#REF!=$E$1,IF(#REF!=$G$1,IF(#REF!=\"\",NA(),#REF!),NA()),NA())","v":{"$error":"#REF!"}},{"$error":"#REF!"},{"$error":"#REF!"}]
[null,null,null,{"$f":"IF(#REF!=$E$1,IF(#REF!=$G$1,#REF!,NA()),NA())","v":{"$error":"#REF!"}},{"$f":"IF(#REF!=$E$1,IF(#REF!=$G$1,#REF!,NA()),NA())","v":{"$error":"#REF!"}},{"$f":"IF(#REF!=$E$1,IF(#REF!=$G$1,IF(#REF!=\"\",NA(),#REF!),NA()),NA())","v":{"$error":"#REF!"}},{"$f":"IF(#REF!=$E$1,IF(#REF!=$G$1,IF(#REF!=\"\",NA(),#REF!),NA()),NA())","v":{"$error":"#REF!"}},{"$error":"#REF!"},{"$error":"#REF!"}]
[null,null,null,{"$f":"IF(#REF!=$E$1,IF(#REF!=$G$1,#REF!,NA()),NA())","v":{"$error":"#REF!"}},{"$f":"IF(#REF!=$E$1,IF(#REF!=$G$1,#REF!,NA()),NA())","v":{"$error":"#REF!"}},{"$f":"IF(#REF!=$E$1,IF(#REF!=$G$1,IF(#REF!=\"\",NA(),#REF!),NA()),NA())","v":{"$error":"#REF!"}},{"$f":"IF(#REF!=$E$1,IF(#REF!=$G$1,IF(#REF!=\"\",NA(),#REF!),NA()),NA())","v":{"$error":"#REF!"}},{"$error":"#REF!"},{"$error":"#REF!"}]
[null,null,null,{"$f":"IF(#REF!=$E$1,IF(#REF!=$G$1,#REF!,NA()),NA())","v":{"$error":"#REF!"}},{"$f":"IF(#REF!=$E$1,IF(#REF!=$G$1,#REF!,NA()),NA())","v":{"$error":"#REF!"}},{"$f":"IF(#REF!=$E$1,IF(#REF!=$G$1,IF(#REF!=\"\",NA(),#REF!),NA()),NA())","v":{"$error":"#REF!"}},{"$f":"IF(#REF!=$E$1,IF(#REF!=$G$1,IF(#REF!=\"\",NA(),#REF!),NA()),NA())","v":{"$error":"#REF!"}},{"$error":"#REF!"},{"$error":"#REF!"}]
[null,null,null,{"$f":"IF(#REF!=$E$1,IF(#REF!=$G$1,#REF!,NA()),NA())","v":{"$error":"#REF!"}},{"$f":"IF(#REF!=$E$1,IF(#REF!=$G$1,#REF!,NA()),NA())","v":{"$error":"#REF!"}},{"$f":"IF(#REF!=$E$1,IF(#REF!=$G$1,IF(#REF!=\"\",NA(),#REF!),NA()),NA())","v":{"$error":"#REF!"}},{"$f":"IF(#REF!=$E$1,IF(#REF!=$G$1,IF(#REF!=\"\",NA(),#REF!),NA()),NA())","v":{"$error":"#REF!"}},{"$error":"#REF!"},{"$error":"#REF!"}]
[null,null,null,{"$f":"IF(#REF!=$E$1,IF(#REF!=$G$1,#REF!,NA()),NA())","v":{"$error":"#REF!"}},{"$f":"IF(#REF!=$E$1,IF(#REF!=$G$1,#REF!,NA()),NA())","v":{"$error":"#REF!"}},{"$f":"IF(#REF!=$E$1,IF(#REF!=$G$1,IF(#REF!=\"\",NA(),#REF!),NA()),NA())","v":{"$error":"#REF!"}},{"$f":"IF(#REF!=$E$1,IF(#REF!=$G$1,IF(#REF!=\"\",NA(),#REF!),NA()),NA())","v":{"$error":"#REF!"}},{"$error":"#REF!"},{"$error":"#REF!"}]
[null,null,null,{"$f":"IF(#REF!=$E$1,IF(#REF!=$G$1,#REF!,NA()),NA())","v":{"$error":"#REF!"}},{"$f":"IF(#REF!=$E$1,IF(#REF!=$G$1,#REF!,NA()),NA())","v":{"$error":"#REF!"}},{"$f":"IF(#REF!=$E$1,IF(#REF!=$G$1,IF(#REF!=\"\",NA(),#REF!),NA()),NA())","v":{"$error":"#REF!"}},{"$f":"IF(#REF!=$E$1,IF(#REF!=$G$1,IF(#REF!=\"\",NA(),#REF!),NA()),NA())","v":{"$error":"#REF!"}},{"$error":"#REF!"},{"$error":"#REF!"}]
[null,null,null,{"$f":"IF(#REF!=$E$1,IF(#REF!=$G$1,#REF!,NA()),NA())","v":{"$error":"#REF!"}},{"$f":"IF(#REF!=$E$1,IF(#REF!=$G$1,#REF!,NA()),NA())","v":{"$error":"#REF!"}},{"$f":"IF(#REF!=$E$1,IF(#REF!=$G$1,IF(#REF!=\"\",NA(),#REF!),NA()),NA())","v":{"$error":"#REF!"}},{"$f":"IF(#REF!=$E$1,IF(#REF!=$G$1,IF(#REF!=\"\",NA(),#REF!),NA()),NA())","v":{"$error":"#REF!"}},{"$error":"#REF!"},{"$error":"#REF!"}]
[null,null,null,{"$f":"IF(#REF!=$E$1,IF(#REF!=$G$1,#REF!,NA()),NA())","v":{"$error":"#REF!"}},{"$f":"IF(#REF!=$E$1,IF(#REF!=$G$1,#REF!,NA()),NA())","v":{"$error":"#REF!"}},{"$f":"IF(#REF!=$E$1,IF(#REF!=$G$1,IF(#REF!=\"\",NA(),#REF!),NA()),NA())","v":{"$error":"#REF!"}},{"$f":"IF(#REF!=$E$1,IF(#REF!=$G$1,IF(#REF!=\"\",NA(),#REF!),NA()),NA())","v":{"$error":"#REF!"}},{"$error":"#REF!"},{"$error":"#REF!"}]
[null,null,null,{"$f":"IF(#REF!=$E$1,IF(#REF!=$G$1,#REF!,NA()),NA())","v":{"$error":"#REF!"}},{"$f":"IF(#REF!=$E$1,IF(#REF!=$G$1,#REF!,NA()),NA())","v":{"$error":"#REF!"}},{"$f":"IF(#REF!=$E$1,IF(#REF!=$G$1,IF(#REF!=\"\",NA(),#REF!),NA()),NA())","v":{"$error":"#REF!"}},{"$f":"IF(#REF!=$E$1,IF(#REF!=$G$1,IF(#REF!=\"\",NA(),#REF!),NA()),NA())","v":{"$error":"#REF!"}},{"$error":"#REF!"},{"$error":"#REF!"}]
[null,null,null,{"$f":"IF(#REF!=$E$1,IF(#REF!=$G$1,#REF!,NA()),NA())","v":{"$error":"#REF!"}},{"$f":"IF(#REF!=$E$1,IF(#REF!=$G$1,#REF!,NA()),NA())","v":{"$error":"#REF!"}},{"$f":"IF(#REF!=$E$1,IF(#REF!=$G$1,IF(#REF!=\"\",NA(),#REF!),NA()),NA())","v":{"$error":"#REF!"}},{"$f":"IF(#REF!=$E$1,IF(#REF!=$G$1,IF(#REF!=\"\",NA(),#REF!),NA()),NA())","v":{"$error":"#REF!"}},{"$error":"#REF!"},{"$error":"#REF!"}]
[null,null,null,{"$f":"IF(#REF!=$E$1,IF(#REF!=$G$1,#REF!,NA()),NA())","v":{"$error":"#REF!"}},{"$f":"IF(#REF!=$E$1,IF(#REF!=$G$1,#REF!,NA()),NA())","v":{"$error":"#REF!"}},{"$f":"IF(#REF!=$E$1,IF(#REF!=$G$1,IF(#REF!=\"\",NA(),#REF!),NA()),NA())","v":{"$error":"#REF!"}},{"$f":"IF(#REF!=$E$1,IF(#REF!=$G$1,IF(#REF!=\"\",NA(),#REF!),NA()),NA())","v":{"$error":"#REF!"}},{"$error":"#REF!"},{"$error":"#REF!"}]
[null,null,null,{"$f":"IF(#REF!=$E$1,IF(#REF!=$G$1,#REF!,NA()),NA())","v":{"$error":"#REF!"}},{"$f":"IF(#REF!=$E$1,IF(#REF!=$G$1,#REF!,NA()),NA())","v":{"$error":"#REF!"}},{"$f":"IF(#REF!=$E$1,IF(#REF!=$G$1,IF(#REF!=\"\",NA(),#REF!),NA()),NA())","v":{"$error":"#REF!"}},{"$f":"IF(#REF!=$E$1,IF(#REF!=$G$1,IF(#REF!=\"\",NA(),#REF!),NA()),NA())","v":{"$error":"#REF!"}},{"$error":"#REF!"},{"$error":"#REF!"}]
[null,null,null,{"$f":"IF(#REF!=$E$1,IF(#REF!=$G$1,#REF!,NA()),NA())","v":{"$error":"#REF!"}},{"$f":"IF(#REF!=$E$1,IF(#REF!=$G$1,#REF!,NA()),NA())","v":{"$error":"#REF!"}},{"$f":"IF(#REF!=$E$1,IF(#REF!=$G$1,IF(#REF!=\"\",NA(),#REF!),NA()),NA())","v":{"$error":"#REF!"}},{"$f":"IF(#REF!=$E$1,IF(#REF!=$G$1,IF(#REF!=\"\",NA(),#REF!),NA()),NA())","v":{"$error":"#REF!"}},{"$error":"#REF!"},{"$error":"#REF!"}]
[null,null,null,{"$f":"IF(#REF!=$E$1,IF(#REF!=$G$1,#REF!,NA()),NA())","v":{"$error":"#REF!"}},{"$f":"IF(#REF!=$E$1,IF(#REF!=$G$1,#REF!,NA()),NA())","v":{"$error":"#REF!"}},{"$f":"IF(#REF!=$E$1,IF(#REF!=$G$1,IF(#REF!=\"\",NA(),#REF!),NA()),NA())","v":{"$error":"#REF!"}},{"$f":"IF(#REF!=$E$1,IF(#REF!=$G$1,IF(#REF!=\"\",NA(),#REF!),NA()),NA())","v":{"$error":"#REF!"}},{"$error":"#REF!"},{"$error":"#REF!"}]
[null,null,null,{"$f":"IF(#REF!=$E$1,IF(#REF!=$G$1,#REF!,NA()),NA())","v":{"$error":"#REF!"}},{"$f":"IF(#REF!=$E$1,IF(#REF!=$G$1,#REF!,NA()),NA())","v":{"$error":"#REF!"}},{"$f":"IF(#REF!=$E$1,IF(#REF!=$G$1,IF(#REF!=\"\",NA(),#REF!),NA()),NA())","v":{"$error":"#REF!"}},{"$f":"IF(#REF!=$E$1,IF(#REF!=$G$1,IF(#REF!=\"\",NA(),#REF!),NA()),NA())","v":{"$error":"#REF!"}},{"$error":"#REF!"},{"$error":"#REF!"}]
[null,null,null,{"$f":"IF(#REF!=$E$1,IF(#REF!=$G$1,#REF!,NA()),NA())","v":{"$error":"#REF!"}},{"$f":"IF(#REF!=$E$1,IF(#REF!=$G$1,#REF!,NA()),NA())","v":{"$error":"#REF!"}},{"$f":"IF(#REF!=$E$1,IF(#REF!=$G$1,IF(#REF!=\"\",NA(),#REF!),NA()),NA())","v":{"$error":"#REF!"}},{"$f":"IF(#REF!=$E$1,IF(#REF!=$G$1,IF(#REF!=\"\",NA(),#REF!),NA()),NA())","v":{"$error":"#REF!"}},{"$error":"#REF!"},{"$error":"#REF!"}]
[null,null,null,{"$f":"IF(#REF!=$E$1,IF(#REF!=$G$1,#REF!,NA()),NA())","v":{"$error":"#REF!"}},{"$f":"IF(#REF!=$E$1,IF(#REF!=$G$1,#REF!,NA()),NA())","v":{"$error":"#REF!"}},{"$f":"IF(#REF!=$E$1,IF(#REF!=$G$1,IF(#REF!=\"\",NA(),#REF!),NA()),NA())","v":{"$error":"#REF!"}},{"$f":"IF(#REF!=$E$1,IF(#REF!=$G$1,IF(#REF!=\"\",NA(),#REF!),NA()),NA())","v":{"$error":"#REF!"}},{"$error":"#REF!"},{"$error":"#REF!"}]
[null,null,null,{"$f":"IF(#REF!=$E$1,IF(#REF!=$G$1,#REF!,NA()),NA())","v":{"$error":"#REF!"}},{"$f":"IF(#REF!=$E$1,IF(#REF!=$G$1,#REF!,NA()),NA())","v":{"$error":"#REF!"}},{"$f":"IF(#REF!=$E$1,IF(#REF!=$G$1,IF(#REF!=\"\",NA(),#REF!),NA()),NA())","v":{"$error":"#REF!"}},{"$f":"IF(#REF!=$E$1,IF(#REF!=$G$1,IF(#REF!=\"\",NA(),#REF!),NA()),NA())","v":{"$error":"#REF!"}},{"$error":"#REF!"},{"$error":"#REF!"}]
[null,null,null,{"$f":"IF(#REF!=$E$1,IF(#REF!=$G$1,#REF!,NA()),NA())","v":{"$error":"#REF!"}},{"$f":"IF(#REF!=$E$1,IF(#REF!=$G$1,#REF!,NA()),NA())","v":{"$error":"#REF!"}},{"$f":"IF(#REF!=$E$1,IF(#REF!=$G$1,IF(#REF!=\"\",NA(),#REF!),NA()),NA())","v":{"$error":"#REF!"}},{"$f":"IF(#REF!=$E$1,IF(#REF!=$G$1,IF(#REF!=\"\",NA(),#REF!),NA()),NA())","v":{"$error":"#REF!"}},{"$error":"#REF!"},{"$error":"#REF!"}]
[null,null,null,{"$f":"IF(#REF!=$E$1,IF(#REF!=$G$1,#REF!,NA()),NA())","v":{"$error":"#REF!"}},{"$f":"IF(#REF!=$E$1,IF(#REF!=$G$1,#REF!,NA()),NA())","v":{"$error":"#REF!"}},{"$f":"IF(#REF!=$E$1,IF(#REF!=$G$1,IF(#REF!=\"\",NA(),#REF!),NA()),NA())","v":{"$error":"#REF!"}},{"$f":"IF(#REF!=$E$1,IF(#REF!=$G$1,IF(#REF!=\"\",NA(),#REF!),NA()),NA())","v":{"$error":"#REF!"}},{"$error":"#REF!"},{"$error":"#REF!"}]
[null,null,null,{"$f":"IF(#REF!=$E$1,IF(#REF!=$G$1,#REF!,NA()),NA())","v":{"$error":"#REF!"}},{"$f":"IF(#REF!=$E$1,IF(#REF!=$G$1,#REF!,NA()),NA())","v":{"$error":"#REF!"}},{"$f":"IF(#REF!=$E$1,IF(#REF!=$G$1,IF(#REF!=\"\",NA(),#REF!),NA()),NA())","v":{"$error":"#REF!"}},{"$f":"IF(#REF!=$E$1,IF(#REF!=$G$1,IF(#REF!=\"\",NA(),#REF!),NA()),NA())","v":{"$error":"#REF!"}},{"$error":"#REF!"},{"$error":"#REF!"}]
[null,null,null,{"$f":"IF(#REF!=$E$1,IF(#REF!=$G$1,#REF!,NA()),NA())","v":{"$error":"#REF!"}},{"$f":"IF(#REF!=$E$1,IF(#REF!=$G$1,#REF!,NA()),NA())","v":{"$error":"#REF!"}},{"$f":"IF(#REF!=$E$1,IF(#REF!=$G$1,IF(#REF!=\"\",NA(),#REF!),NA()),NA())","v":{"$error":"#REF!"}},{"$f":"IF(#REF!=$E$1,IF(#REF!=$G$1,IF(#REF!=\"\",NA(),#REF!),NA()),NA())","v":{"$error":"#REF!"}},{"$error":"#REF!"},{"$error":"#REF!"}]
[null,null,null,{"$f":"IF(#REF!=$E$1,IF(#REF!=$G$1,#REF!,NA()),NA())","v":{"$error":"#REF!"}},{"$f":"IF(#REF!=$E$1,IF(#REF!=$G$1,#REF!,NA()),NA())","v":{"$error":"#REF!"}},{"$f":"IF(#REF!=$E$1,IF(#REF!=$G$1,IF(#REF!=\"\",NA(),#REF!),NA()),NA())","v":{"$error":"#REF!"}},{"$f":"IF(#REF!=$E$1,IF(#REF!=$G$1,IF(#REF!=\"\",NA(),#REF!),NA()),NA())","v":{"$error":"#REF!"}},{"$error":"#REF!"},{"$error":"#REF!"}]
[null,null,null,{"$f":"IF(#REF!=$E$1,IF(#REF!=$G$1,#REF!,NA()),NA())","v":{"$error":"#REF!"}},{"$f":"IF(#REF!=$E$1,IF(#REF!=$G$1,#REF!,NA()),NA())","v":{"$error":"#REF!"}},{"$f":"IF(#REF!=$E$1,IF(#REF!=$G$1,IF(#REF!=\"\",NA(),#REF!),NA()),NA())","v":{"$error":"#REF!"}},{"$f":"IF(#REF!=$E$1,IF(#REF!=$G$1,IF(#REF!=\"\",NA(),#REF!),NA()),NA())","v":{"$error":"#REF!"}},{"$error":"#REF!"},{"$error":"#REF!"}]
[null,null,null,{"$f":"IF(#REF!=$E$1,IF(#REF!=$G$1,#REF!,NA()),NA())","v":{"$error":"#REF!"}},{"$f":"IF(#REF!=$E$1,IF(#REF!=$G$1,#REF!,NA()),NA())","v":{"$error":"#REF!"}},{"$f":"IF(#REF!=$E$1,IF(#REF!=$G$1,IF(#REF!=\"\",NA(),#REF!),NA()),NA())","v":{"$error":"#REF!"}},{"$f":"IF(#REF!=$E$1,IF(#REF!=$G$1,IF(#REF!=\"\",NA(),#REF!),NA()),NA())","v":{"$error":"#REF!"}},{"$error":"#REF!"},{"$error":"#REF!"}]
[null,null,null,{"$f":"IF(#REF!=$E$1,IF(#REF!=$G$1,#REF!,NA()),NA())","v":{"$error":"#REF!"}},{"$f":"IF(#REF!=$E$1,IF(#REF!=$G$1,#REF!,NA()),NA())","v":{"$error":"#REF!"}},{"$f":"IF(#REF!=$E$1,IF(#REF!=$G$1,IF(#REF!=\"\",NA(),#REF!),NA()),NA())","v":{"$error":"#REF!"}},{"$f":"IF(#REF!=$E$1,IF(#REF!=$G$1,IF(#REF!=\"\",NA(),#REF!),NA()),NA())","v":{"$error":"#REF!"}},{"$error":"#REF!"},{"$error":"#REF!"}]
[null,null,null,{"$f":"IF(#REF!=$E$1,IF(#REF!=$G$1,#REF!,NA()),NA())","v":{"$error":"#REF!"}},{"$f":"IF(#REF!=$E$1,IF(#REF!=$G$1,#REF!,NA()),NA())","v":{"$error":"#REF!"}},{"$f":"IF(#REF!=$E$1,IF(#REF!=$G$1,IF(#REF!=\"\",NA(),#REF!),NA()),NA())","v":{"$error":"#REF!"}},{"$f":"IF(#REF!=$E$1,IF(#REF!=$G$1,IF(#REF!=\"\",NA(),#REF!),NA()),NA())","v":{"$error":"#REF!"}},{"$error":"#REF!"},{"$error":"#REF!"}]
[null,null,null,{"$f":"IF(#REF!=$E$1,IF(#REF!=$G$1,#REF!,NA()),NA())","v":{"$error":"#REF!"}},{"$f":"IF(#REF!=$E$1,IF(#REF!=$G$1,#REF!,NA()),NA())","v":{"$error":"#REF!"}},{"$f":"IF(#REF!=$E$1,IF(#REF!=$G$1,IF(#REF!=\"\",NA(),#REF!),NA()),NA())","v":{"$error":"#REF!"}},{"$f":"IF(#REF!=$E$1,IF(#REF!=$G$1,IF(#REF!=\"\",NA(),#REF!),NA()),NA())","v":{"$error":"#REF!"}},{"$error":"#REF!"},{"$error":"#REF!"}]
[null,null,null,{"$f":"IF(#REF!=$E$1,IF(#REF!=$G$1,#REF!,NA()),NA())","v":{"$error":"#REF!"}},{"$f":"IF(#REF!=$E$1,IF(#REF!=$G$1,#REF!,NA()),NA())","v":{"$error":"#REF!"}},{"$f":"IF(#REF!=$E$1,IF(#REF!=$G$1,IF(#REF!=\"\",NA(),#REF!),NA()),NA())","v":{"$error":"#REF!"}},{"$f":"IF(#REF!=$E$1,IF(#REF!=$G$1,IF(#REF!=\"\",NA(),#REF!),NA()),NA())","v":{"$error":"#REF!"}},{"$error":"#REF!"},{"$error":"#REF!"}]
[null,null,null,{"$f":"IF(#REF!=$E$1,IF(#REF!=$G$1,#REF!,NA()),NA())","v":{"$error":"#REF!"}},{"$f":"IF(#REF!=$E$1,IF(#REF!=$G$1,#REF!,NA()),NA())","v":{"$error":"#REF!"}},{"$f":"IF(#REF!=$E$1,IF(#REF!=$G$1,IF(#REF!=\"\",NA(),#REF!),NA()),NA())","v":{"$error":"#REF!"}},{"$f":"IF(#REF!=$E$1,IF(#REF!=$G$1,IF(#REF!=\"\",NA(),#REF!),NA()),NA())","v":{"$error":"#REF!"}},{"$error":"#REF!"},{"$error":"#REF!"}]
[null,null,null,{"$f":"IF(#REF!=$E$1,IF(#REF!=$G$1,#REF!,NA()),NA())","v":{"$error":"#REF!"}},{"$f":"IF(#REF!=$E$1,IF(#REF!=$G$1,#REF!,NA()),NA())","v":{"$error":"#REF!"}},{"$f":"IF(#REF!=$E$1,IF(#REF!=$G$1,IF(#REF!=\"\",NA(),#REF!),NA()),NA())","v":{"$error":"#REF!"}},{"$f":"IF(#REF!=$E$1,IF(#REF!=$G$1,IF(#REF!=\"\",NA(),#REF!),NA()),NA())","v":{"$error":"#REF!"}},{"$error":"#REF!"},{"$error":"#REF!"}]
[null,null,null,{"$f":"IF(#REF!=$E$1,IF(#REF!=$G$1,#REF!,NA()),NA())","v":{"$error":"#REF!"}},{"$f":"IF(#REF!=$E$1,IF(#REF!=$G$1,#REF!,NA()),NA())","v":{"$error":"#REF!"}},{"$f":"IF(#REF!=$E$1,IF(#REF!=$G$1,IF(#REF!=\"\",NA(),#REF!),NA()),NA())","v":{"$error":"#REF!"}},{"$f":"IF(#REF!=$E$1,IF(#REF!=$G$1,IF(#REF!=\"\",NA(),#REF!),NA()),NA())","v":{"$error":"#REF!"}},{"$error":"#REF!"},{"$error":"#REF!"}]
[null,null,null,{"$f":"IF(#REF!=$E$1,IF(#REF!=$G$1,#REF!,NA()),NA())","v":{"$error":"#REF!"}},{"$f":"IF(#REF!=$E$1,IF(#REF!=$G$1,#REF!,NA()),NA())","v":{"$error":"#REF!"}},{"$f":"IF(#REF!=$E$1,IF(#REF!=$G$1,IF(#REF!=\"\",NA(),#REF!),NA()),NA())","v":{"$error":"#REF!"}},{"$f":"IF(#REF!=$E$1,IF(#REF!=$G$1,IF(#REF!=\"\",NA(),#REF!),NA()),NA())","v":{"$error":"#REF!"}},{"$error":"#REF!"},{"$error":"#REF!"}]
[null,null,null,{"$f":"IF(#REF!=$E$1,IF(#REF!=$G$1,#REF!,NA()),NA())","v":{"$error":"#REF!"}},{"$f":"IF(#REF!=$E$1,IF(#REF!=$G$1,#REF!,NA()),NA())","v":{"$error":"#REF!"}},{"$f":"IF(#REF!=$E$1,IF(#REF!=$G$1,IF(#REF!=\"\",NA(),#REF!),NA()),NA())","v":{"$error":"#REF!"}},{"$f":"IF(#REF!=$E$1,IF(#REF!=$G$1,IF(#REF!=\"\",NA(),#REF!),NA()),NA())","v":{"$error":"#REF!"}},{"$error":"#REF!"},{"$error":"#REF!"}]
[null,null,null,{"$f":"IF(#REF!=$E$1,IF(#REF!=$G$1,#REF!,NA()),NA())","v":{"$error":"#REF!"}},{"$f":"IF(#REF!=$E$1,IF(#REF!=$G$1,#REF!,NA()),NA())","v":{"$error":"#REF!"}},{"$f":"IF(#REF!=$E$1,IF(#REF!=$G$1,IF(#REF!=\"\",NA(),#REF!),NA()),NA())","v":{"$error":"#REF!"}},{"$f":"IF(#REF!=$E$1,IF(#REF!=$G$1,IF(#REF!=\"\",NA(),#REF!),NA()),NA())","v":{"$error":"#REF!"}},{"$error":"#REF!"},{"$error":"#REF!"}]
[null,null,null,{"$f":"IF(#REF!=$E$1,IF(#REF!=$G$1,#REF!,NA()),NA())","v":{"$error":"#REF!"}},{"$f":"IF(#REF!=$E$1,IF(#REF!=$G$1,#REF!,NA()),NA())","v":{"$error":"#REF!"}},{"$f":"IF(#REF!=$E$1,IF(#REF!=$G$1,IF(#REF!=\"\",NA(),#REF!),NA()),NA())","v":{"$error":"#REF!"}},{"$f":"IF(#REF!=$E$1,IF(#REF!=$G$1,IF(#REF!=\"\",NA(),#REF!),NA()),NA())","v":{"$error":"#REF!"}},{"$error":"#REF!"},{"$error":"#REF!"}]
[null,null,null,{"$f":"IF(#REF!=$E$1,IF(#REF!=$G$1,#REF!,NA()),NA())","v":{"$error":"#REF!"}},{"$f":"IF(#REF!=$E$1,IF(#REF!=$G$1,#REF!,NA()),NA())","v":{"$error":"#REF!"}},{"$f":"IF(#REF!=$E$1,IF(#REF!=$G$1,IF(#REF!=\"\",NA(),#REF!),NA()),NA())","v":{"$error":"#REF!"}},{"$f":"IF(#REF!=$E$1,IF(#REF!=$G$1,IF(#REF!=\"\",NA(),#REF!),NA()),NA())","v":{"$error":"#REF!"}},{"$error":"#REF!"},{"$error":"#REF!"}]
[null,null,null,{"$f":"IF(#REF!=$E$1,IF(#REF!=$G$1,#REF!,NA()),NA())","v":{"$error":"#REF!"}},{"$f":"IF(#REF!=$E$1,IF(#REF!=$G$1,#REF!,NA()),NA())","v":{"$error":"#REF!"}},{"$f":"IF(#REF!=$E$1,IF(#REF!=$G$1,IF(#REF!=\"\",NA(),#REF!),NA()),NA())","v":{"$error":"#REF!"}},{"$f":"IF(#REF!=$E$1,IF(#REF!=$G$1,IF(#REF!=\"\",NA(),#REF!),NA()),NA())","v":{"$error":"#REF!"}},{"$error":"#REF!"},{"$error":"#REF!"}]
[null,null,null,{"$f":"IF(#REF!=$E$1,IF(#REF!=$G$1,#REF!,NA()),NA())","v":{"$error":"#REF!"}},{"$f":"IF(#REF!=$E$1,IF(#REF!=$G$1,#REF!,NA()),NA())","v":{"$error":"#REF!"}},{"$f":"IF(#REF!=$E$1,IF(#REF!=$G$1,IF(#REF!=\"\",NA(),#REF!),NA()),NA())","v":{"$error":"#REF!"}},{"$f":"IF(#REF!=$E$1,IF(#REF!=$G$1,IF(#REF!=\"\",NA(),#REF!),NA()),NA())","v":{"$error":"#REF!"}},{"$error":"#REF!"},{"$error":"#REF!"}]
[null,null,null,{"$f":"IF(#REF!=$E$1,IF(#REF!=$G$1,#REF!,NA()),NA())","v":{"$error":"#REF!"}},{"$f":"IF(#REF!=$E$1,IF(#REF!=$G$1,#REF!,NA()),NA())","v":{"$error":"#REF!"}},{"$f":"IF(#REF!=$E$1,IF(#REF!=$G$1,IF(#REF!=\"\",NA(),#REF!),NA()),NA())","v":{"$error":"#REF!"}},{"$f":"IF(#REF!=$E$1,IF(#REF!=$G$1,IF(#REF!=\"\",NA(),#REF!),NA()),NA())","v":{"$error":"#REF!"}},{"$error":"#REF!"},{"$error":"#REF!"}]
[null,null,null,{"$f":"IF(#REF!=$E$1,IF(#REF!=$G$1,#REF!,NA()),NA())","v":{"$error":"#REF!"}},{"$f":"IF(#REF!=$E$1,IF(#REF!=$G$1,#REF!,NA()),NA())","v":{"$error":"#REF!"}},{"$f":"IF(#REF!=$E$1,IF(#REF!=$G$1,IF(#REF!=\"\",NA(),#REF!),NA()),NA())","v":{"$error":"#REF!"}},{"$f":"IF(#REF!=$E$1,IF(#REF!=$G$1,IF(#REF!=\"\",NA(),#REF!),NA()),NA())","v":{"$error":"#REF!"}},{"$error":"#REF!"},{"$error":"#REF!"}]
[null,null,null,{"$f":"IF(#REF!=$E$1,IF(#REF!=$G$1,#REF!,NA()),NA())","v":{"$error":"#REF!"}},{"$f":"IF(#REF!=$E$1,IF(#REF!=$G$1,#REF!,NA()),NA())","v":{"$error":"#REF!"}},{"$f":"IF(#REF!=$E$1,IF(#REF!=$G$1,IF(#REF!=\"\",NA(),#REF!),NA()),NA())","v":{"$error":"#REF!"}},{"$f":"IF(#REF!=$E$1,IF(#REF!=$G$1,IF(#REF!=\"\",NA(),#REF!),NA()),NA())","v":{"$error":"#REF!"}},{"$error":"#REF!"},{"$error":"#REF!"}]
[null,null,null,{"$f":"IF(#REF!=$E$1,IF(#REF!=$G$1,#REF!,NA()),NA())","v":{"$error":"#REF!"}},{"$f":"IF(#REF!=$E$1,IF(#REF!=$G$1,#REF!,NA()),NA())","v":{"$error":"#REF!"}},{"$f":"IF(#REF!=$E$1,IF(#REF!=$G$1,IF(#REF!=\"\",NA(),#REF!),NA()),NA())","v":{"$error":"#REF!"}},{"$f":"IF(#REF!=$E$1,IF(#REF!=$G$1,IF(#REF!=\"\",NA(),#REF!),NA()),NA())","v":{"$error":"#REF!"}},{"$error":"#REF!"},{"$error":"#REF!"}]
[null,null,null,{"$f":"IF(#REF!=$E$1,IF(#REF!=$G$1,#REF!,NA()),NA())","v":{"$error":"#REF!"}},{"$f":"IF(#REF!=$E$1,IF(#REF!=$G$1,#REF!,NA()),NA())","v":{"$error":"#REF!"}},{"$f":"IF(#REF!=$E$1,IF(#REF!=$G$1,IF(#REF!=\"\",NA(),#REF!),NA()),NA())","v":{"$error":"#REF!"}},{"$f":"IF(#REF!=$E$1,IF(#REF!=$G$1,IF(#REF!=\"\",NA(),#REF!),NA()),NA())","v":{"$error":"#REF!"}},{"$error":"#REF!"},{"$error":"#REF!"}]
[null,null,null,{"$f":"IF(#REF!=$E$1,IF(#REF!=$G$1,#REF!,NA()),NA())","v":{"$error":"#REF!"}},{"$f":"IF(#REF!=$E$1,IF(#REF!=$G$1,#REF!,NA()),NA())","v":{"$error":"#REF!"}},{"$f":"IF(#REF!=$E$1,IF(#REF!=$G$1,IF(#REF!=\"\",NA(),#REF!),NA()),NA())","v":{"$error":"#REF!"}},{"$f":"IF(#REF!=$E$1,IF(#REF!=$G$1,IF(#REF!=\"\",NA(),#REF!),NA()),NA())","v":{"$error":"#REF!"}},{"$error":"#REF!"},{"$error":"#REF!"}]
[null,null,null,{"$f":"IF(#REF!=$E$1,IF(#REF!=$G$1,#REF!,NA()),NA())","v":{"$error":"#REF!"}},{"$f":"IF(#REF!=$E$1,IF(#REF!=$G$1,#REF!,NA()),NA())","v":{"$error":"#REF!"}},{"$f":"IF(#REF!=$E$1,IF(#REF!=$G$1,IF(#REF!=\"\",NA(),#REF!),NA()),NA())","v":{"$error":"#REF!"}},{"$f":"IF(#REF!=$E$1,IF(#REF!=$G$1,IF(#REF!=\"\",NA(),#REF!),NA()),NA())","v":{"$error":"#REF!"}},{"$f":"IF(AND(ISNUMBER(G516),F516=\"-\"),0,F516)","v":{"$error":"#REF!"}},{"$f":"IF(AND(ISNUMBER(F516),G516=\"-\"),0,G516)","v":{"$error":"#REF!"}}]
[null,null,null,{"$f":"IF(#REF!=$E$1,IF(#REF!=$G$1,#REF!,NA()),NA())","v":{"$error":"#REF!"}},{"$f":"IF(#REF!=$E$1,IF(#REF!=$G$1,#REF!,NA()),NA())","v":{"$error":"#REF!"}},{"$f":"IF(#REF!=$E$1,IF(#REF!=$G$1,IF(#REF!=\"\",NA(),#REF!),NA()),NA())","v":{"$error":"#REF!"}},{"$f":"IF(#REF!=$E$1,IF(#REF!=$G$1,IF(#REF!=\"\",NA(),#REF!),NA()),NA())","v":{"$error":"#REF!"}},{"$error":"#REF!"},{"$error":"#REF!"}]
[null,null,null,{"$f":"IF(#REF!=$E$1,IF(#REF!=$G$1,#REF!,NA()),NA())","v":{"$error":"#REF!"}},{"$f":"IF(#REF!=$E$1,IF(#REF!=$G$1,#REF!,NA()),NA())","v":{"$error":"#REF!"}},{"$f":"IF(#REF!=$E$1,IF(#REF!=$G$1,IF(#REF!=\"\",NA(),#REF!),NA()),NA())","v":{"$error":"#REF!"}},{"$f":"IF(#REF!=$E$1,IF(#REF!=$G$1,IF(#REF!=\"\",NA(),#REF!),NA()),NA())","v":{"$error":"#REF!"}},{"$error":"#REF!"},{"$error":"#REF!"}]
[null,null,null,{"$f":"IF(#REF!=$E$1,IF(#REF!=$G$1,#REF!,NA()),NA())","v":{"$error":"#REF!"}},{"$f":"IF(#REF!=$E$1,IF(#REF!=$G$1,#REF!,NA()),NA())","v":{"$error":"#REF!"}},{"$f":"IF(#REF!=$E$1,IF(#REF!=$G$1,IF(#REF!=\"\",NA(),#REF!),NA()),NA())","v":{"$error":"#REF!"}},{"$f":"IF(#REF!=$E$1,IF(#REF!=$G$1,IF(#REF!=\"\",NA(),#REF!),NA()),NA())","v":{"$error":"#REF!"}},{"$error":"#REF!"},{"$error":"#REF!"}]
[null,null,null,{"$f":"IF(#REF!=$E$1,IF(#REF!=$G$1,#REF!,NA()),NA())","v":{"$error":"#REF!"}},{"$f":"IF(#REF!=$E$1,IF(#REF!=$G$1,#REF!,NA()),NA())","v":{"$error":"#REF!"}},{"$f":"IF(#REF!=$E$1,IF(#REF!=$G$1,IF(#REF!=\"\",NA(),#REF!),NA()),NA())","v":{"$error":"#REF!"}},{"$f":"IF(#REF!=$E$1,IF(#REF!=$G$1,IF(#REF!=\"\",NA(),#REF!),NA()),NA())","v":{"$error":"#REF!"}},{"$error":"#REF!"},{"$error":"#REF!"}]
[null,null,null,{"$f":"IF(#REF!=$E$1,IF(#REF!=$G$1,#REF!,NA()),NA())","v":{"$error":"#REF!"}},{"$f":"IF(#REF!=$E$1,IF(#REF!=$G$1,#REF!,NA()),NA())","v":{"$error":"#REF!"}},{"$f":"IF(#REF!=$E$1,IF(#REF!=$G$1,IF(#REF!=\"\",NA(),#REF!),NA()),NA())","v":{"$error":"#REF!"}},{"$f":"IF(#REF!=$E$1,IF(#REF!=$G$1,IF(#REF!=\"\",NA(),#REF!),NA()),NA())","v":{"$error":"#REF!"}},{"$error":"#REF!"},{"$error":"#REF!"}]
[null,null,null,{"$f":"IF(#REF!=$E$1,IF(#REF!=$G$1,#REF!,NA()),NA())","v":{"$error":"#REF!"}},{"$f":"IF(#REF!=$E$1,IF(#REF!=$G$1,#REF!,NA()),NA())","v":{"$error":"#REF!"}},{"$f":"IF(#REF!=$E$1,IF(#REF!=$G$1,IF(#REF!=\"\",NA(),#REF!),NA()),NA())","v":{"$error":"#REF!"}},{"$f":"IF(#REF!=$E$1,IF(#REF!=$G$1,IF(#REF!=\"\",NA(),#REF!),NA()),NA())","v":{"$error":"#REF!"}},{"$error":"#REF!"},{"$error":"#REF!"}]
[null,null,null,{"$f":"IF(#REF!=$E$1,IF(#REF!=$G$1,#REF!,NA()),NA())","v":{"$error":"#REF!"}},{"$f":"IF(#REF!=$E$1,IF(#REF!=$G$1,#REF!,NA()),NA())","v":{"$error":"#REF!"}},{"$f":"IF(#REF!=$E$1,IF(#REF!=$G$1,IF(#REF!=\"\",NA(),#REF!),NA()),NA())","v":{"$error":"#REF!"}},{"$f":"IF(#REF!=$E$1,IF(#REF!=$G$1,IF(#REF!=\"\",NA(),#REF!),NA()),NA())","v":{"$error":"#REF!"}},{"$error":"#REF!"},{"$error":"#REF!"}]
[null,null,null,{"$f":"IF(#REF!=$E$1,IF(#REF!=$G$1,#REF!,NA()),NA())","v":{"$error":"#REF!"}},{"$f":"IF(#REF!=$E$1,IF(#REF!=$G$1,#REF!,NA()),NA())","v":{"$error":"#REF!"}},{"$f":"IF(#REF!=$E$1,IF(#REF!=$G$1,IF(#REF!=\"\",NA(),#REF!),NA()),NA())","v":{"$error":"#REF!"}},{"$f":"IF(#REF!=$E$1,IF(#REF!=$G$1,IF(#REF!=\"\",NA(),#REF!),NA()),NA())","v":{"$error":"#REF!"}},{"$error":"#REF!"},{"$error":"#REF!"}]
[null,null,null,{"$f":"IF(#REF!=$E$1,IF(#REF!=$G$1,#REF!,NA()),NA())","v":{"$error":"#REF!"}},{"$f":"IF(#REF!=$E$1,IF(#REF!=$G$1,#REF!,NA()),NA())","v":{"$error":"#REF!"}},{"$f":"IF(#REF!=$E$1,IF(#REF!=$G$1,IF(#REF!=\"\",NA(),#REF!),NA()),NA())","v":{"$error":"#REF!"}},{"$f":"IF(#REF!=$E$1,IF(#REF!=$G$1,IF(#REF!=\"\",NA(),#REF!),NA()),NA())","v":{"$error":"#REF!"}},{"$error":"#REF!"},{"$error":"#REF!"}]
[null,null,null,{"$f":"IF(#REF!=$E$1,IF(#REF!=$G$1,#REF!,NA()),NA())","v":{"$error":"#REF!"}},{"$f":"IF(#REF!=$E$1,IF(#REF!=$G$1,#REF!,NA()),NA())","v":{"$error":"#REF!"}},{"$f":"IF(#REF!=$E$1,IF(#REF!=$G$1,IF(#REF!=\"\",NA(),#REF!),NA()),NA())","v":{"$error":"#REF!"}},{"$f":"IF(#REF!=$E$1,IF(#REF!=$G$1,IF(#REF!=\"\",NA(),#REF!),NA()),NA())","v":{"$error":"#REF!"}},{"$error":"#REF!"},{"$error":"#REF!"}]
[null,null,null,{"$f":"IF(#REF!=$E$1,IF(#REF!=$G$1,#REF!,NA()),NA())","v":{"$error":"#REF!"}},{"$f":"IF(#REF!=$E$1,IF(#REF!=$G$1,#REF!,NA()),NA())","v":{"$error":"#REF!"}},{"$f":"IF(#REF!=$E$1,IF(#REF!=$G$1,IF(#REF!=\"\",NA(),#REF!),NA()),NA())","v":{"$error":"#REF!"}},{"$f":"IF(#REF!=$E$1,IF(#REF!=$G$1,IF(#REF!=\"\",NA(),#REF!),NA()),NA())","v":{"$error":"#REF!"}},{"$error":"#REF!"},{"$error":"#REF!"}]
[null,null,null,{"$f":"IF(#REF!=$E$1,IF(#REF!=$G$1,#REF!,NA()),NA())","v":{"$error":"#REF!"}},{"$f":"IF(#REF!=$E$1,IF(#REF!=$G$1,#REF!,NA()),NA())","v":{"$error":"#REF!"}},{"$f":"IF(#REF!=$E$1,IF(#REF!=$G$1,IF(#REF!=\"\",NA(),#REF!),NA()),NA())","v":{"$error":"#REF!"}},{"$f":"IF(#REF!=$E$1,IF(#REF!=$G$1,IF(#REF!=\"\",NA(),#REF!),NA()),NA())","v":{"$error":"#REF!"}},{"$error":"#REF!"},{"$error":"#REF!"}]
[null,null,null,{"$f":"IF(#REF!=$E$1,IF(#REF!=$G$1,#REF!,NA()),NA())","v":{"$error":"#REF!"}},{"$f":"IF(#REF!=$E$1,IF(#REF!=$G$1,#REF!,NA()),NA())","v":{"$error":"#REF!"}},{"$f":"IF(#REF!=$E$1,IF(#REF!=$G$1,IF(#REF!=\"\",NA(),#REF!),NA()),NA())","v":{"$error":"#REF!"}},{"$f":"IF(#REF!=$E$1,IF(#REF!=$G$1,IF(#REF!=\"\",NA(),#REF!),NA()),NA())","v":{"$error":"#REF!"}},{"$error":"#REF!"},{"$error":"#REF!"}]
[null,null,null,{"$f":"IF(#REF!=$E$1,IF(#REF!=$G$1,#REF!,NA()),NA())","v":{"$error":"#REF!"}},{"$f":"IF(#REF!=$E$1,IF(#REF!=$G$1,#REF!,NA()),NA())","v":{"$error":"#REF!"}},{"$f":"IF(#REF!=$E$1,IF(#REF!=$G$1,IF(#REF!=\"\",NA(),#REF!),NA()),NA())","v":{"$error":"#REF!"}},{"$f":"IF(#REF!=$E$1,IF(#REF!=$G$1,IF(#REF!=\"\",NA(),#REF!),NA()),NA())","v":{"$error":"#REF!"}},{"$error":"#REF!"},{"$error":"#REF!"}]
[null,null,null,{"$f":"IF(#REF!=$E$1,IF(#REF!=$G$1,#REF!,NA()),NA())","v":{"$error":"#REF!"}},{"$f":"IF(#REF!=$E$1,IF(#REF!=$G$1,#REF!,NA()),NA())","v":{"$error":"#REF!"}},{"$f":"IF(#REF!=$E$1,IF(#REF!=$G$1,IF(#REF!=\"\",NA(),#REF!),NA()),NA())","v":{"$error":"#REF!"}},{"$f":"IF(#REF!=$E$1,IF(#REF!=$G$1,IF(#REF!=\"\",NA(),#REF!),NA()),NA())","v":{"$error":"#REF!"}},{"$error":"#REF!"},{"$error":"#REF!"}]
[null,null,null,{"$f":"IF(#REF!=$E$1,IF(#REF!=$G$1,#REF!,NA()),NA())","v":{"$error":"#REF!"}},{"$f":"IF(#REF!=$E$1,IF(#REF!=$G$1,#REF!,NA()),NA())","v":{"$error":"#REF!"}},{"$f":"IF(#REF!=$E$1,IF(#REF!=$G$1,IF(#REF!=\"\",NA(),#REF!),NA()),NA())","v":{"$error":"#REF!"}},{"$f":"IF(#REF!=$E$1,IF(#REF!=$G$1,IF(#REF!=\"\",NA(),#REF!),NA()),NA())","v":{"$error":"#REF!"}},{"$error":"#REF!"},{"$error":"#REF!"}]
[null,null,null,{"$f":"IF(#REF!=$E$1,IF(#REF!=$G$1,#REF!,NA()),NA())","v":{"$error":"#REF!"}},{"$f":"IF(#REF!=$E$1,IF(#REF!=$G$1,#REF!,NA()),NA())","v":{"$error":"#REF!"}},{"$f":"IF(#REF!=$E$1,IF(#REF!=$G$1,IF(#REF!=\"\",NA(),#REF!),NA()),NA())","v":{"$error":"#REF!"}},{"$f":"IF(#REF!=$E$1,IF(#REF!=$G$1,IF(#REF!=\"\",NA(),#REF!),NA()),NA())","v":{"$error":"#REF!"}},{"$error":"#REF!"},{"$error":"#REF!"}]
[null,null,null,{"$f":"IF(#REF!=$E$1,IF(#REF!=$G$1,#REF!,NA()),NA())","v":{"$error":"#REF!"}},{"$f":"IF(#REF!=$E$1,IF(#REF!=$G$1,#REF!,NA()),NA())","v":{"$error":"#REF!"}},{"$f":"IF(#REF!=$E$1,IF(#REF!=$G$1,IF(#REF!=\"\",NA(),#REF!),NA()),NA())","v":{"$error":"#REF!"}},{"$f":"IF(#REF!=$E$1,IF(#REF!=$G$1,IF(#REF!=\"\",NA(),#REF!),NA()),NA())","v":{"$error":"#REF!"}},{"$error":"#REF!"},{"$error":"#REF!"}]
[null,null,null,{"$f":"IF(#REF!=$E$1,IF(#REF!=$G$1,#REF!,NA()),NA())","v":{"$error":"#REF!"}},{"$f":"IF(#REF!=$E$1,IF(#REF!=$G$1,#REF!,NA()),NA())","v":{"$error":"#REF!"}},{"$f":"IF(#REF!=$E$1,IF(#REF!=$G$1,IF(#REF!=\"\",NA(),#REF!),NA()),NA())","v":{"$error":"#REF!"}},{"$f":"IF(#REF!=$E$1,IF(#REF!=$G$1,IF(#REF!=\"\",NA(),#REF!),NA()),NA())","v":{"$error":"#REF!"}},{"$error":"#REF!"},{"$error":"#REF!"}]
[null,null,null,{"$f":"IF(#REF!=$E$1,IF(#REF!=$G$1,#REF!,NA()),NA())","v":{"$error":"#REF!"}},{"$f":"IF(#REF!=$E$1,IF(#REF!=$G$1,#REF!,NA()),NA())","v":{"$error":"#REF!"}},{"$f":"IF(#REF!=$E$1,IF(#REF!=$G$1,IF(#REF!=\"\",NA(),#REF!),NA()),NA())","v":{"$error":"#REF!"}},{"$f":"IF(#REF!=$E$1,IF(#REF!=$G$1,IF(#REF!=\"\",NA(),#REF!),NA()),NA())","v":{"$error":"#REF!"}},{"$error":"#REF!"},{"$error":"#REF!"}]
[null,null,null,{"$f":"IF(#REF!=$E$1,IF(#REF!=$G$1,#REF!,NA()),NA())","v":{"$error":"#REF!"}},{"$f":"IF(#REF!=$E$1,IF(#REF!=$G$1,#REF!,NA()),NA())","v":{"$error":"#REF!"}},{"$f":"IF(#REF!=$E$1,IF(#REF!=$G$1,IF(#REF!=\"\",NA(),#REF!),NA()),NA())","v":{"$error":"#REF!"}},{"$f":"IF(#REF!=$E$1,IF(#REF!=$G$1,IF(#REF!=\"\",NA(),#REF!),NA()),NA())","v":{"$error":"#REF!"}},{"$error":"#REF!"},{"$error":"#REF!"}]
[null,null,null,{"$f":"IF(#REF!=$E$1,IF(#REF!=$G$1,#REF!,NA()),NA())","v":{"$error":"#REF!"}},{"$f":"IF(#REF!=$E$1,IF(#REF!=$G$1,#REF!,NA()),NA())","v":{"$error":"#REF!"}},{"$f":"IF(#REF!=$E$1,IF(#REF!=$G$1,IF(#REF!=\"\",NA(),#REF!),NA()),NA())","v":{"$error":"#REF!"}},{"$f":"IF(#REF!=$E$1,IF(#REF!=$G$1,IF(#REF!=\"\",NA(),#REF!),NA()),NA())","v":{"$error":"#REF!"}},{"$error":"#REF!"},{"$error":"#REF!"}]
[null,null,null,{"$f":"IF(#REF!=$E$1,IF(#REF!=$G$1,#REF!,NA()),NA())","v":{"$error":"#REF!"}},{"$f":"IF(#REF!=$E$1,IF(#REF!=$G$1,#REF!,NA()),NA())","v":{"$error":"#REF!"}},{"$f":"IF(#REF!=$E$1,IF(#REF!=$G$1,IF(#REF!=\"\",NA(),#REF!),NA()),NA())","v":{"$error":"#REF!"}},{"$f":"IF(#REF!=$E$1,IF(#REF!=$G$1,IF(#REF!=\"\",NA(),#REF!),NA()),NA())","v":{"$error":"#REF!"}},{"$error":"#REF!"},{"$error":"#REF!"}]
[null,null,null,{"$f":"IF(#REF!=$E$1,IF(#REF!=$G$1,#REF!,NA()),NA())","v":{"$error":"#REF!"}},{"$f":"IF(#REF!=$E$1,IF(#REF!=$G$1,#REF!,NA()),NA())","v":{"$error":"#REF!"}},{"$f":"IF(#REF!=$E$1,IF(#REF!=$G$1,IF(#REF!=\"\",NA(),#REF!),NA()),NA())","v":{"$error":"#REF!"}},{"$f":"IF(#REF!=$E$1,IF(#REF!=$G$1,IF(#REF!=\"\",NA(),#REF!),NA()),NA())","v":{"$error":"#REF!"}},{"$error":"#REF!"},{"$error":"#REF!"}]
[null,null,null,{"$f":"IF(#REF!=$E$1,IF(#REF!=$G$1,#REF!,NA()),NA())","v":{"$error":"#REF!"}},{"$f":"IF(#REF!=$E$1,IF(#REF!=$G$1,#REF!,NA()),NA())","v":{"$error":"#REF!"}},{"$f":"IF(#REF!=$E$1,IF(#REF!=$G$1,IF(#REF!=\"\",NA(),#REF!),NA()),NA())","v":{"$error":"#REF!"}},{"$f":"IF(#REF!=$E$1,IF(#REF!=$G$1,IF(#REF!=\"\",NA(),#REF!),NA()),NA())","v":{"$error":"#REF!"}},{"$error":"#REF!"},{"$error":"#REF!"}]
[null,null,null,{"$f":"IF(#REF!=$E$1,IF(#REF!=$G$1,#REF!,NA()),NA())","v":{"$error":"#REF!"}},{"$f":"IF(#REF!=$E$1,IF(#REF!=$G$1,#REF!,NA()),NA())","v":{"$error":"#REF!"}},{"$f":"IF(#REF!=$E$1,IF(#REF!=$G$1,IF(#REF!=\"\",NA(),#REF!),NA()),NA())","v":{"$error":"#REF!"}},{"$f":"IF(#REF!=$E$1,IF(#REF!=$G$1,IF(#REF!=\"\",NA(),#REF!),NA()),NA())","v":{"$error":"#REF!"}},{"$error":"#REF!"},{"$error":"#REF!"}]
[null,null,null,{"$f":"IF(#REF!=$E$1,IF(#REF!=$G$1,#REF!,NA()),NA())","v":{"$error":"#REF!"}},{"$f":"IF(#REF!=$E$1,IF(#REF!=$G$1,#REF!,NA()),NA())","v":{"$error":"#REF!"}},{"$f":"IF(#REF!=$E$1,IF(#REF!=$G$1,IF(#REF!=\"\",NA(),#REF!),NA()),NA())","v":{"$error":"#REF!"}},{"$f":"IF(#REF!=$E$1,IF(#REF!=$G$1,IF(#REF!=\"\",NA(),#REF!),NA()),NA())","v":{"$error":"#REF!"}},{"$error":"#REF!"},{"$error":"#REF!"}]
[null,null,null,{"$f":"IF(#REF!=$E$1,IF(#REF!=$G$1,#REF!,NA()),NA())","v":{"$error":"#REF!"}},{"$f":"IF(#REF!=$E$1,IF(#REF!=$G$1,#REF!,NA()),NA())","v":{"$error":"#REF!"}},{"$f":"IF(#REF!=$E$1,IF(#REF!=$G$1,IF(#REF!=\"\",NA(),#REF!),NA()),NA())","v":{"$error":"#REF!"}},{"$f":"IF(#REF!=$E$1,IF(#REF!=$G$1,IF(#REF!=\"\",NA(),#REF!),NA()),NA())","v":{"$error":"#REF!"}},{"$error":"#REF!"},{"$error":"#REF!"}]
[null,null,null,{"$f":"IF(#REF!=$E$1,IF(#REF!=$G$1,#REF!,NA()),NA())","v":{"$error":"#REF!"}},{"$f":"IF(#REF!=$E$1,IF(#REF!=$G$1,#REF!,NA()),NA())","v":{"$error":"#REF!"}},{"$f":"IF(#REF!=$E$1,IF(#REF!=$G$1,IF(#REF!=\"\",NA(),#REF!),NA()),NA())","v":{"$error":"#REF!"}},{"$f":"IF(#REF!=$E$1,IF(#REF!=$G$1,IF(#REF!=\"\",NA(),#REF!),NA()),NA())","v":{"$error":"#REF!"}},{"$error":"#REF!"},{"$error":"#REF!"}]
[null,null,null,{"$f":"IF(#REF!=$E$1,IF(#REF!=$G$1,#REF!,NA()),NA())","v":{"$error":"#REF!"}},{"$f":"IF(#REF!=$E$1,IF(#REF!=$G$1,#REF!,NA()),NA())","v":{"$error":"#REF!"}},{"$f":"IF(#REF!=$E$1,IF(#REF!=$G$1,IF(#REF!=\"\",NA(),#REF!),NA()),NA())","v":{"$error":"#REF!"}},{"$f":"IF(#REF!=$E$1,IF(#REF!=$G$1,IF(#REF!=\"\",NA(),#REF!),NA()),NA())","v":{"$error":"#REF!"}},{"$error":"#REF!"},{"$error":"#REF!"}]
[null,null,null,{"$f":"IF(#REF!=$E$1,IF(#REF!=$G$1,#REF!,NA()),NA())","v":{"$error":"#REF!"}},{"$f":"IF(#REF!=$E$1,IF(#REF!=$G$1,#REF!,NA()),NA())","v":{"$error":"#REF!"}},{"$f":"IF(#REF!=$E$1,IF(#REF!=$G$1,IF(#REF!=\"\",NA(),#REF!),NA()),NA())","v":{"$error":"#REF!"}},{"$f":"IF(#REF!=$E$1,IF(#REF!=$G$1,IF(#REF!=\"\",NA(),#REF!),NA()),NA())","v":{"$error":"#REF!"}},{"$error":"#REF!"},{"$error":"#REF!"}]
[null,null,null,{"$f":"IF(#REF!=$E$1,IF(#REF!=$G$1,#REF!,NA()),NA())","v":{"$error":"#REF!"}},{"$f":"IF(#REF!=$E$1,IF(#REF!=$G$1,#REF!,NA()),NA())","v":{"$error":"#REF!"}},{"$f":"IF(#REF!=$E$1,IF(#REF!=$G$1,IF(#REF!=\"\",NA(),#REF!),NA()),NA())","v":{"$error":"#REF!"}},{"$f":"IF(#REF!=$E$1,IF(#REF!=$G$1,IF(#REF!=\"\",NA(),#REF!),NA()),NA())","v":{"$error":"#REF!"}},{"$error":"#REF!"},{"$error":"#REF!"}]
[null,null,null,{"$f":"IF(#REF!=$E$1,IF(#REF!=$G$1,#REF!,NA()),NA())","v":{"$error":"#REF!"}},{"$f":"IF(#REF!=$E$1,IF(#REF!=$G$1,#REF!,NA()),NA())","v":{"$error":"#REF!"}},{"$f":"IF(#REF!=$E$1,IF(#REF!=$G$1,IF(#REF!=\"\",NA(),#REF!),NA()),NA())","v":{"$error":"#REF!"}},{"$f":"IF(#REF!=$E$1,IF(#REF!=$G$1,IF(#REF!=\"\",NA(),#REF!),NA()),NA())","v":{"$error":"#REF!"}},{"$error":"#REF!"},{"$error":"#REF!"}]
[null,null,null,{"$f":"IF(#REF!=$E$1,IF(#REF!=$G$1,#REF!,NA()),NA())","v":{"$error":"#REF!"}},{"$f":"IF(#REF!=$E$1,IF(#REF!=$G$1,#REF!,NA()),NA())","v":{"$error":"#REF!"}},{"$f":"IF(#REF!=$E$1,IF(#REF!=$G$1,IF(#REF!=\"\",NA(),#REF!),NA()),NA())","v":{"$error":"#REF!"}},{"$f":"IF(#REF!=$E$1,IF(#REF!=$G$1,IF(#REF!=\"\",NA(),#REF!),NA()),NA())","v":{"$error":"#REF!"}},{"$error":"#REF!"},{"$error":"#REF!"}]
[null,null,null,{"$f":"IF(#REF!=$E$1,IF(#REF!=$G$1,#REF!,NA()),NA())","v":{"$error":"#REF!"}},{"$f":"IF(#REF!=$E$1,IF(#REF!=$G$1,#REF!,NA()),NA())","v":{"$error":"#REF!"}},{"$f":"IF(#REF!=$E$1,IF(#REF!=$G$1,IF(#REF!=\"\",NA(),#REF!),NA()),NA())","v":{"$error":"#REF!"}},{"$f":"IF(#REF!=$E$1,IF(#REF!=$G$1,IF(#REF!=\"\",NA(),#REF!),NA()),NA())","v":{"$error":"#REF!"}},{"$error":"#REF!"},{"$error":"#REF!"}]
[null,null,null,{"$f":"IF(#REF!=$E$1,IF(#REF!=$G$1,#REF!,NA()),NA())","v":{"$error":"#REF!"}},{"$f":"IF(#REF!=$E$1,IF(#REF!=$G$1,#REF!,NA()),NA())","v":{"$error":"#REF!"}},{"$f":"IF(#REF!=$E$1,IF(#REF!=$G$1,IF(#REF!=\"\",NA(),#REF!),NA()),NA())","v":{"$error":"#REF!"}},{"$f":"IF(#REF!=$E$1,IF(#REF!=$G$1,IF(#REF!=\"\",NA(),#REF!),NA()),NA())","v":{"$error":"#REF!"}},{"$error":"#REF!"},{"$error":"#REF!"}]
[null,null,null,{"$f":"IF(#REF!=$E$1,IF(#REF!=$G$1,#REF!,NA()),NA())","v":{"$error":"#REF!"}},{"$f":"IF(#REF!=$E$1,IF(#REF!=$G$1,#REF!,NA()),NA())","v":{"$error":"#REF!"}},{"$f":"IF(#REF!=$E$1,IF(#REF!=$G$1,IF(#REF!=\"\",NA(),#REF!),NA()),NA())","v":{"$error":"#REF!"}},{"$f":"IF(#REF!=$E$1,IF(#REF!=$G$1,IF(#REF!=\"\",NA(),#REF!),NA()),NA())","v":{"$error":"#REF!"}},{"$error":"#REF!"},{"$error":"#REF!"}]
[null,null,null,{"$f":"IF(#REF!=$E$1,IF(#REF!=$G$1,#REF!,NA()),NA())","v":{"$error":"#REF!"}},{"$f":"IF(#REF!=$E$1,IF(#REF!=$G$1,#REF!,NA()),NA())","v":{"$error":"#REF!"}},{"$f":"IF(#REF!=$E$1,IF(#REF!=$G$1,IF(#REF!=\"\",NA(),#REF!),NA()),NA())","v":{"$error":"#REF!"}},{"$f":"IF(#REF!=$E$1,IF(#REF!=$G$1,IF(#REF!=\"\",NA(),#REF!),NA()),NA())","v":{"$error":"#REF!"}},{"$error":"#REF!"},{"$error":"#REF!"}]
[null,null,null,{"$f":"IF(#REF!=$E$1,IF(#REF!=$G$1,#REF!,NA()),NA())","v":{"$error":"#REF!"}},{"$f":"IF(#REF!=$E$1,IF(#REF!=$G$1,#REF!,NA()),NA())","v":{"$error":"#REF!"}},{"$f":"IF(#REF!=$E$1,IF(#REF!=$G$1,IF(#REF!=\"\",NA(),#REF!),NA()),NA())","v":{"$error":"#REF!"}},{"$f":"IF(#REF!=$E$1,IF(#REF!=$G$1,IF(#REF!=\"\",NA(),#REF!),NA()),NA())","v":{"$error":"#REF!"}},{"$error":"#REF!"},{"$error":"#REF!"}]
[null,null,null,{"$f":"IF(#REF!=$E$1,IF(#REF!=$G$1,#REF!,NA()),NA())","v":{"$error":"#REF!"}},{"$f":"IF(#REF!=$E$1,IF(#REF!=$G$1,#REF!,NA()),NA())","v":{"$error":"#REF!"}},{"$f":"IF(#REF!=$E$1,IF(#REF!=$G$1,IF(#REF!=\"\",NA(),#REF!),NA()),NA())","v":{"$error":"#REF!"}},{"$f":"IF(#REF!=$E$1,IF(#REF!=$G$1,IF(#REF!=\"\",NA(),#REF!),NA()),NA())","v":{"$error":"#REF!"}},{"$error":"#REF!"},{"$error":"#REF!"}]
[null,null,null,{"$f":"IF(#REF!=$E$1,IF(#REF!=$G$1,#REF!,NA()),NA())","v":{"$error":"#REF!"}},{"$f":"IF(#REF!=$E$1,IF(#REF!=$G$1,#REF!,NA()),NA())","v":{"$error":"#REF!"}},{"$f":"IF(#REF!=$E$1,IF(#REF!=$G$1,IF(#REF!=\"\",NA(),#REF!),NA()),NA())","v":{"$error":"#REF!"}},{"$f":"IF(#REF!=$E$1,IF(#REF!=$G$1,IF(#REF!=\"\",NA(),#REF!),NA()),NA())","v":{"$error":"#REF!"}},{"$error":"#REF!"},{"$error":"#REF!"}]
[null,null,null,{"$f":"IF(#REF!=$E$1,IF(#REF!=$G$1,#REF!,NA()),NA())","v":{"$error":"#REF!"}},{"$f":"IF(#REF!=$E$1,IF(#REF!=$G$1,#REF!,NA()),NA())","v":{"$error":"#REF!"}},{"$f":"IF(#REF!=$E$1,IF(#REF!=$G$1,IF(#REF!=\"\",NA(),#REF!),NA()),NA())","v":{"$error":"#REF!"}},{"$f":"IF(#REF!=$E$1,IF(#REF!=$G$1,IF(#REF!=\"\",NA(),#REF!),NA()),NA())","v":{"$error":"#REF!"}},{"$error":"#REF!"},{"$error":"#REF!"}]
[null,null,null,{"$f":"IF(#REF!=$E$1,IF(#REF!=$G$1,#REF!,NA()),NA())","v":{"$error":"#REF!"}},{"$f":"IF(#REF!=$E$1,IF(#REF!=$G$1,#REF!,NA()),NA())","v":{"$error":"#REF!"}},{"$f":"IF(#REF!=$E$1,IF(#REF!=$G$1,IF(#REF!=\"\",NA(),#REF!),NA()),NA())","v":{"$error":"#REF!"}},{"$f":"IF(#REF!=$E$1,IF(#REF!=$G$1,IF(#REF!=\"\",NA(),#REF!),NA()),NA())","v":{"$error":"#REF!"}},{"$error":"#REF!"},{"$error":"#REF!"}]
[null,null,null,{"$f":"IF(#REF!=$E$1,IF(#REF!=$G$1,#REF!,NA()),NA())","v":{"$error":"#REF!"}},{"$f":"IF(#REF!=$E$1,IF(#REF!=$G$1,#REF!,NA()),NA())","v":{"$error":"#REF!"}},{"$f":"IF(#REF!=$E$1,IF(#REF!=$G$1,IF(#REF!=\"\",NA(),#REF!),NA()),NA())","v":{"$error":"#REF!"}},{"$f":"IF(#REF!=$E$1,IF(#REF!=$G$1,IF(#REF!=\"\",NA(),#REF!),NA()),NA())","v":{"$error":"#REF!"}},{"$error":"#REF!"},{"$error":"#REF!"}]
[null,null,null,{"$f":"IF(#REF!=$E$1,IF(#REF!=$G$1,#REF!,NA()),NA())","v":{"$error":"#REF!"}},{"$f":"IF(#REF!=$E$1,IF(#REF!=$G$1,#REF!,NA()),NA())","v":{"$error":"#REF!"}},{"$f":"IF(#REF!=$E$1,IF(#REF!=$G$1,IF(#REF!=\"\",NA(),#REF!),NA()),NA())","v":{"$error":"#REF!"}},{"$f":"IF(#REF!=$E$1,IF(#REF!=$G$1,IF(#REF!=\"\",NA(),#REF!),NA()),NA())","v":{"$error":"#REF!"}},{"$error":"#REF!"},{"$error":"#REF!"}]
[null,null,null,{"$f":"IF(#REF!=$E$1,IF(#REF!=$G$1,#REF!,NA()),NA())","v":{"$error":"#REF!"}},{"$f":"IF(#REF!=$E$1,IF(#REF!=$G$1,#REF!,NA()),NA())","v":{"$error":"#REF!"}},{"$f":"IF(#REF!=$E$1,IF(#REF!=$G$1,IF(#REF!=\"\",NA(),#REF!),NA()),NA())","v":{"$error":"#REF!"}},{"$f":"IF(#REF!=$E$1,IF(#REF!=$G$1,IF(#REF!=\"\",NA(),#REF!),NA()),NA())","v":{"$error":"#REF!"}},{"$error":"#REF!"},{"$error":"#REF!"}]
[null,null,null,{"$f":"IF(#REF!=$E$1,IF(#REF!=$G$1,#REF!,NA()),NA())","v":{"$error":"#REF!"}},{"$f":"IF(#REF!=$E$1,IF(#REF!=$G$1,#REF!,NA()),NA())","v":{"$error":"#REF!"}},{"$f":"IF(#REF!=$E$1,IF(#REF!=$G$1,IF(#REF!=\"\",NA(),#REF!),NA()),NA())","v":{"$error":"#REF!"}},{"$f":"IF(#REF!=$E$1,IF(#REF!=$G$1,IF(#REF!=\"\",NA(),#REF!),NA()),NA())","v":{"$error":"#REF!"}},{"$error":"#REF!"},{"$error":"#REF!"}]
[null,null,null,{"$f":"IF(#REF!=$E$1,IF(#REF!=$G$1,#REF!,NA()),NA())","v":{"$error":"#REF!"}},{"$f":"IF(#REF!=$E$1,IF(#REF!=$G$1,#REF!,NA()),NA())","v":{"$error":"#REF!"}},{"$f":"IF(#REF!=$E$1,IF(#REF!=$G$1,IF(#REF!=\"\",NA(),#REF!),NA()),NA())","v":{"$error":"#REF!"}},{"$f":"IF(#REF!=$E$1,IF(#REF!=$G$1,IF(#REF!=\"\",NA(),#REF!),NA()),NA())","v":{"$error":"#REF!"}},{"$error":"#REF!"},{"$error":"#REF!"}]
[null,null,null,{"$f":"IF(#REF!=$E$1,IF(#REF!=$G$1,#REF!,NA()),NA())","v":{"$error":"#REF!"}},{"$f":"IF(#REF!=$E$1,IF(#REF!=$G$1,#REF!,NA()),NA())","v":{"$error":"#REF!"}},{"$f":"IF(#REF!=$E$1,IF(#REF!=$G$1,IF(#REF!=\"\",NA(),#REF!),NA()),NA())","v":{"$error":"#REF!"}},{"$f":"IF(#REF!=$E$1,IF(#REF!=$G$1,IF(#REF!=\"\",NA(),#REF!),NA()),NA())","v":{"$error":"#REF!"}},{"$error":"#REF!"},{"$error":"#REF!"}]
[null,null,null,{"$f":"IF(#REF!=$E$1,IF(#REF!=$G$1,#REF!,NA()),NA())","v":{"$error":"#REF!"}},{"$f":"IF(#REF!=$E$1,IF(#REF!=$G$1,#REF!,NA()),NA())","v":{"$error":"#REF!"}},{"$f":"IF(#REF!=$E$1,IF(#REF!=$G$1,IF(#REF!=\"\",NA(),#REF!),NA()),NA())","v":{"$error":"#REF!"}},{"$f":"IF(#REF!=$E$1,IF(#REF!=$G$1,IF(#REF!=\"\",NA(),#REF!),NA()),NA())","v":{"$error":"#REF!"}},{"$error":"#REF!"},{"$error":"#REF!"}]
[null,null,null,{"$f":"IF(#REF!=$E$1,IF(#REF!=$G$1,#REF!,NA()),NA())","v":{"$error":"#REF!"}},{"$f":"IF(#REF!=$E$1,IF(#REF!=$G$1,#REF!,NA()),NA())","v":{"$error":"#REF!"}},{"$f":"IF(#REF!=$E$1,IF(#REF!=$G$1,IF(#REF!=\"\",NA(),#REF!),NA()),NA())","v":{"$error":"#REF!"}},{"$f":"IF(#REF!=$E$1,IF(#REF!=$G$1,IF(#REF!=\"\",NA(),#REF!),NA()),NA())","v":{"$error":"#REF!"}},{"$error":"#REF!"},{"$error":"#REF!"}]
[null,null,null,{"$f":"IF(#REF!=$E$1,IF(#REF!=$G$1,#REF!,NA()),NA())","v":{"$error":"#REF!"}},{"$f":"IF(#REF!=$E$1,IF(#REF!=$G$1,#REF!,NA()),NA())","v":{"$error":"#REF!"}},{"$f":"IF(#REF!=$E$1,IF(#REF!=$G$1,IF(#REF!=\"\",NA(),#REF!),NA()),NA())","v":{"$error":"#REF!"}},{"$f":"IF(#REF!=$E$1,IF(#REF!=$G$1,IF(#REF!=\"\",NA(),#REF!),NA()),NA())","v":{"$error":"#REF!"}},{"$error":"#REF!"},{"$error":"#REF!"}]
[null,null,null,{"$f":"IF(#REF!=$E$1,IF(#REF!=$G$1,#REF!,NA()),NA())","v":{"$error":"#REF!"}},{"$f":"IF(#REF!=$E$1,IF(#REF!=$G$1,#REF!,NA()),NA())","v":{"$error":"#REF!"}},{"$f":"IF(#REF!=$E$1,IF(#REF!=$G$1,IF(#REF!=\"\",NA(),#REF!),NA()),NA())","v":{"$error":"#REF!"}},{"$f":"IF(#REF!=$E$1,IF(#REF!=$G$1,IF(#REF!=\"\",NA(),#REF!),NA()),NA())","v":{"$error":"#REF!"}},{"$error":"#REF!"},{"$error":"#REF!"}]
[null,null,null,{"$f":"IF(#REF!=$E$1,IF(#REF!=$G$1,#REF!,NA()),NA())","v":{"$error":"#REF!"}},{"$f":"IF(#REF!=$E$1,IF(#REF!=$G$1,#REF!,NA()),NA())","v":{"$error":"#REF!"}},{"$f":"IF(#REF!=$E$1,IF(#REF!=$G$1,IF(#REF!=\"\",NA(),#REF!),NA()),NA())","v":{"$error":"#REF!"}},{"$f":"IF(#REF!=$E$1,IF(#REF!=$G$1,IF(#REF!=\"\",NA(),#REF!),NA()),NA())","v":{"$error":"#REF!"}},{"$error":"#REF!"},{"$error":"#REF!"}]
[null,null,null,{"$f":"IF(#REF!=$E$1,IF(#REF!=$G$1,#REF!,NA()),NA())","v":{"$error":"#REF!"}},{"$f":"IF(#REF!=$E$1,IF(#REF!=$G$1,#REF!,NA()),NA())","v":{"$error":"#REF!"}},{"$f":"IF(#REF!=$E$1,IF(#REF!=$G$1,IF(#REF!=\"\",NA(),#REF!),NA()),NA())","v":{"$error":"#REF!"}},{"$f":"IF(#REF!=$E$1,IF(#REF!=$G$1,IF(#REF!=\"\",NA(),#REF!),NA()),NA())","v":{"$error":"#REF!"}},{"$error":"#REF!"},{"$error":"#REF!"}]
[null,null,null,{"$f":"IF(#REF!=$E$1,IF(#REF!=$G$1,#REF!,NA()),NA())","v":{"$error":"#REF!"}},{"$f":"IF(#REF!=$E$1,IF(#REF!=$G$1,#REF!,NA()),NA())","v":{"$error":"#REF!"}},{"$f":"IF(#REF!=$E$1,IF(#REF!=$G$1,IF(#REF!=\"\",NA(),#REF!),NA()),NA())","v":{"$error":"#REF!"}},{"$f":"IF(#REF!=$E$1,IF(#REF!=$G$1,IF(#REF!=\"\",NA(),#REF!),NA()),NA())","v":{"$error":"#REF!"}},{"$error":"#REF!"},{"$error":"#REF!"}]
[null,null,null,{"$f":"IF(#REF!=$E$1,IF(#REF!=$G$1,#REF!,NA()),NA())","v":{"$error":"#REF!"}},{"$f":"IF(#REF!=$E$1,IF(#REF!=$G$1,#REF!,NA()),NA())","v":{"$error":"#REF!"}},{"$f":"IF(#REF!=$E$1,IF(#REF!=$G$1,IF(#REF!=\"\",NA(),#REF!),NA()),NA())","v":{"$error":"#REF!"}},{"$f":"IF(#REF!=$E$1,IF(#REF!=$G$1,IF(#REF!=\"\",NA(),#REF!),NA()),NA())","v":{"$error":"#REF!"}},{"$error":"#REF!"},{"$error":"#REF!"}]
[null,null,null,{"$f":"IF(#REF!=$E$1,IF(#REF!=$G$1,#REF!,NA()),NA())","v":{"$error":"#REF!"}},{"$f":"IF(#REF!=$E$1,IF(#REF!=$G$1,#REF!,NA()),NA())","v":{"$error":"#REF!"}},{"$f":"IF(#REF!=$E$1,IF(#REF!=$G$1,IF(#REF!=\"\",NA(),#REF!),NA()),NA())","v":{"$error":"#REF!"}},{"$f":"IF(#REF!=$E$1,IF(#REF!=$G$1,IF(#REF!=\"\",NA(),#REF!),NA()),NA())","v":{"$error":"#REF!"}},{"$error":"#REF!"},{"$error":"#REF!"}]
[null,null,null,{"$f":"IF(#REF!=$E$1,IF(#REF!=$G$1,#REF!,NA()),NA())","v":{"$error":"#REF!"}},{"$f":"IF(#REF!=$E$1,IF(#REF!=$G$1,#REF!,NA()),NA())","v":{"$error":"#REF!"}},{"$f":"IF(#REF!=$E$1,IF(#REF!=$G$1,IF(#REF!=\"\",NA(),#REF!),NA()),NA())","v":{"$error":"#REF!"}},{"$f":"IF(#REF!=$E$1,IF(#REF!=$G$1,IF(#REF!=\"\",NA(),#REF!),NA()),NA())","v":{"$error":"#REF!"}},{"$error":"#REF!"},{"$error":"#REF!"}]
[null,null,null,{"$f":"IF(#REF!=$E$1,IF(#REF!=$G$1,#REF!,NA()),NA())","v":{"$error":"#REF!"}},{"$f":"IF(#REF!=$E$1,IF(#REF!=$G$1,#REF!,NA()),NA())","v":{"$error":"#REF!"}},{"$f":"IF(#REF!=$E$1,IF(#REF!=$G$1,IF(#REF!=\"\",NA(),#REF!),NA()),NA())","v":{"$error":"#REF!"}},{"$f":"IF(#REF!=$E$1,IF(#REF!=$G$1,IF(#REF!=\"\",NA(),#REF!),NA()),NA())","v":{"$error":"#REF!"}},{"$error":"#REF!"},{"$error":"#REF!"}]
[null,null,null,{"$f":"IF(#REF!=$E$1,IF(#REF!=$G$1,#REF!,NA()),NA())","v":{"$error":"#REF!"}},{"$f":"IF(#REF!=$E$1,IF(#REF!=$G$1,#REF!,NA()),NA())","v":{"$error":"#REF!"}},{"$f":"IF(#REF!=$E$1,IF(#REF!=$G$1,IF(#REF!=\"\",NA(),#REF!),NA()),NA())","v":{"$error":"#REF!"}},{"$f":"IF(#REF!=$E$1,IF(#REF!=$G$1,IF(#REF!=\"\",NA(),#REF!),NA()),NA())","v":{"$error":"#REF!"}},{"$error":"#REF!"},{"$error":"#REF!"}]
[null,null,null,{"$f":"IF(#REF!=$E$1,IF(#REF!=$G$1,#REF!,NA()),NA())","v":{"$error":"#REF!"}},{"$f":"IF(#REF!=$E$1,IF(#REF!=$G$1,#REF!,NA()),NA())","v":{"$error":"#REF!"}},{"$f":"IF(#REF!=$E$1,IF(#REF!=$G$1,IF(#REF!=\"\",NA(),#REF!),NA()),NA())","v":{"$error":"#REF!"}},{"$f":"IF(#REF!=$E$1,IF(#REF!=$G$1,IF(#REF!=\"\",NA(),#REF!),NA()),NA())","v":{"$error":"#REF!"}},{"$error":"#REF!"},{"$error":"#REF!"}]
[null,null,null,{"$f":"IF(#REF!=$E$1,IF(#REF!=$G$1,#REF!,NA()),NA())","v":{"$error":"#REF!"}},{"$f":"IF(#REF!=$E$1,IF(#REF!=$G$1,#REF!,NA()),NA())","v":{"$error":"#REF!"}},{"$f":"IF(#REF!=$E$1,IF(#REF!=$G$1,IF(#REF!=\"\",NA(),#REF!),NA()),NA())","v":{"$error":"#REF!"}},{"$f":"IF(#REF!=$E$1,IF(#REF!=$G$1,IF(#REF!=\"\",NA(),#REF!),NA()),NA())","v":{"$error":"#REF!"}},{"$error":"#REF!"},{"$error":"#REF!"}]
[null,null,null,{"$f":"IF(#REF!=$E$1,IF(#REF!=$G$1,#REF!,NA()),NA())","v":{"$error":"#REF!"}},{"$f":"IF(#REF!=$E$1,IF(#REF!=$G$1,#REF!,NA()),NA())","v":{"$error":"#REF!"}},{"$f":"IF(#REF!=$E$1,IF(#REF!=$G$1,IF(#REF!=\"\",NA(),#REF!),NA()),NA())","v":{"$error":"#REF!"}},{"$f":"IF(#REF!=$E$1,IF(#REF!=$G$1,IF(#REF!=\"\",NA(),#REF!),NA()),NA())","v":{"$error":"#REF!"}},{"$f":"IF(AND(ISNUMBER(G580),F580=\"-\"),0,F580)","v":{"$error":"#REF!"}},{"$f":"IF(AND(ISNUMBER(F580),G580=\"-\"),0,G580)","v":{"$error":"#REF!"}}]
[null,null,null,{"$f":"IF(#REF!=$E$1,IF(#REF!=$G$1,#REF!,NA()),NA())","v":{"$error":"#REF!"}},{"$f":"IF(#REF!=$E$1,IF(#REF!=$G$1,#REF!,NA()),NA())","v":{"$error":"#REF!"}},{"$f":"IF(#REF!=$E$1,IF(#REF!=$G$1,IF(#REF!=\"\",NA(),#REF!),NA()),NA())","v":{"$error":"#REF!"}},{"$f":"IF(#REF!=$E$1,IF(#REF!=$G$1,IF(#REF!=\"\",NA(),#REF!),NA()),NA())","v":{"$error":"#REF!"}},{"$error":"#REF!"},{"$error":"#REF!"}]
[null,null,null,{"$f":"IF(#REF!=$E$1,IF(#REF!=$G$1,#REF!,NA()),NA())","v":{"$error":"#REF!"}},{"$f":"IF(#REF!=$E$1,IF(#REF!=$G$1,#REF!,NA()),NA())","v":{"$error":"#REF!"}},{"$f":"IF(#REF!=$E$1,IF(#REF!=$G$1,IF(#REF!=\"\",NA(),#REF!),NA()),NA())","v":{"$error":"#REF!"}},{"$f":"IF(#REF!=$E$1,IF(#REF!=$G$1,IF(#REF!=\"\",NA(),#REF!),NA()),NA())","v":{"$error":"#REF!"}},{"$error":"#REF!"},{"$error":"#REF!"}]
[null,null,null,{"$f":"IF(#REF!=$E$1,IF(#REF!=$G$1,#REF!,NA()),NA())","v":{"$error":"#REF!"}},{"$f":"IF(#REF!=$E$1,IF(#REF!=$G$1,#REF!,NA()),NA())","v":{"$error":"#REF!"}},{"$f":"IF(#REF!=$E$1,IF(#REF!=$G$1,IF(#REF!=\"\",NA(),#REF!),NA()),NA())","v":{"$error":"#REF!"}},{"$f":"IF(#REF!=$E$1,IF(#REF!=$G$1,IF(#REF!=\"\",NA(),#REF!),NA()),NA())","v":{"$error":"#REF!"}},{"$error":"#REF!"},{"$error":"#REF!"}]
[null,null,null,{"$f":"IF(#REF!=$E$1,IF(#REF!=$G$1,#REF!,NA()),NA())","v":{"$error":"#REF!"}},{"$f":"IF(#REF!=$E$1,IF(#REF!=$G$1,#REF!,NA()),NA())","v":{"$error":"#REF!"}},{"$f":"IF(#REF!=$E$1,IF(#REF!=$G$1,IF(#REF!=\"\",NA(),#REF!),NA()),NA())","v":{"$error":"#REF!"}},{"$f":"IF(#REF!=$E$1,IF(#REF!=$G$1,IF(#REF!=\"\",NA(),#REF!),NA()),NA())","v":{"$error":"#REF!"}},{"$error":"#REF!"},{"$error":"#REF!"}]
[null,null,null,{"$f":"IF(#REF!=$E$1,IF(#REF!=$G$1,#REF!,NA()),NA())","v":{"$error":"#REF!"}},{"$f":"IF(#REF!=$E$1,IF(#REF!=$G$1,#REF!,NA()),NA())","v":{"$error":"#REF!"}},{"$f":"IF(#REF!=$E$1,IF(#REF!=$G$1,IF(#REF!=\"\",NA(),#REF!),NA()),NA())","v":{"$error":"#REF!"}},{"$f":"IF(#REF!=$E$1,IF(#REF!=$G$1,IF(#REF!=\"\",NA(),#REF!),NA()),NA())","v":{"$error":"#REF!"}},{"$error":"#REF!"},{"$error":"#REF!"}]
[null,null,null,{"$f":"IF(#REF!=$E$1,IF(#REF!=$G$1,#REF!,NA()),NA())","v":{"$error":"#REF!"}},{"$f":"IF(#REF!=$E$1,IF(#REF!=$G$1,#REF!,NA()),NA())","v":{"$error":"#REF!"}},{"$f":"IF(#REF!=$E$1,IF(#REF!=$G$1,IF(#REF!=\"\",NA(),#REF!),NA()),NA())","v":{"$error":"#REF!"}},{"$f":"IF(#REF!=$E$1,IF(#REF!=$G$1,IF(#REF!=\"\",NA(),#REF!),NA()),NA())","v":{"$error":"#REF!"}},{"$error":"#REF!"},{"$error":"#REF!"}]
[null,null,null,{"$f":"IF(#REF!=$E$1,IF(#REF!=$G$1,#REF!,NA()),NA())","v":{"$error":"#REF!"}},{"$f":"IF(#REF!=$E$1,IF(#REF!=$G$1,#REF!,NA()),NA())","v":{"$error":"#REF!"}},{"$f":"IF(#REF!=$E$1,IF(#REF!=$G$1,IF(#REF!=\"\",NA(),#REF!),NA()),NA())","v":{"$error":"#REF!"}},{"$f":"IF(#REF!=$E$1,IF(#REF!=$G$1,IF(#REF!=\"\",NA(),#REF!),NA()),NA())","v":{"$error":"#REF!"}},{"$error":"#REF!"},{"$error":"#REF!"}]
[null,null,null,{"$f":"IF(#REF!=$E$1,IF(#REF!=$G$1,#REF!,NA()),NA())","v":{"$error":"#REF!"}},{"$f":"IF(#REF!=$E$1,IF(#REF!=$G$1,#REF!,NA()),NA())","v":{"$error":"#REF!"}},{"$f":"IF(#REF!=$E$1,IF(#REF!=$G$1,IF(#REF!=\"\",NA(),#REF!),NA()),NA())","v":{"$error":"#REF!"}},{"$f":"IF(#REF!=$E$1,IF(#REF!=$G$1,IF(#REF!=\"\",NA(),#REF!),NA()),NA())","v":{"$error":"#REF!"}},{"$error":"#REF!"},{"$error":"#REF!"}]
[null,null,null,{"$f":"IF(#REF!=$E$1,IF(#REF!=$G$1,#REF!,NA()),NA())","v":{"$error":"#REF!"}},{"$f":"IF(#REF!=$E$1,IF(#REF!=$G$1,#REF!,NA()),NA())","v":{"$error":"#REF!"}},{"$f":"IF(#REF!=$E$1,IF(#REF!=$G$1,IF(#REF!=\"\",NA(),#REF!),NA()),NA())","v":{"$error":"#REF!"}},{"$f":"IF(#REF!=$E$1,IF(#REF!=$G$1,IF(#REF!=\"\",NA(),#REF!),NA()),NA())","v":{"$error":"#REF!"}},{"$error":"#REF!"},{"$error":"#REF!"}]
[null,null,null,{"$f":"IF(#REF!=$E$1,IF(#REF!=$G$1,#REF!,NA()),NA())","v":{"$error":"#REF!"}},{"$f":"IF(#REF!=$E$1,IF(#REF!=$G$1,#REF!,NA()),NA())","v":{"$error":"#REF!"}},{"$f":"IF(#REF!=$E$1,IF(#REF!=$G$1,IF(#REF!=\"\",NA(),#REF!),NA()),NA())","v":{"$error":"#REF!"}},{"$f":"IF(#REF!=$E$1,IF(#REF!=$G$1,IF(#REF!=\"\",NA(),#REF!),NA()),NA())","v":{"$error":"#REF!"}},{"$error":"#REF!"},{"$error":"#REF!"}]
[null,null,null,{"$f":"IF(#REF!=$E$1,IF(#REF!=$G$1,#REF!,NA()),NA())","v":{"$error":"#REF!"}},{"$f":"IF(#REF!=$E$1,IF(#REF!=$G$1,#REF!,NA()),NA())","v":{"$error":"#REF!"}},{"$f":"IF(#REF!=$E$1,IF(#REF!=$G$1,IF(#REF!=\"\",NA(),#REF!),NA()),NA())","v":{"$error":"#REF!"}},{"$f":"IF(#REF!=$E$1,IF(#REF!=$G$1,IF(#REF!=\"\",NA(),#REF!),NA()),NA())","v":{"$error":"#REF!"}},{"$error":"#REF!"},{"$error":"#REF!"}]
[null,null,null,{"$f":"IF(#REF!=$E$1,IF(#REF!=$G$1,#REF!,NA()),NA())","v":{"$error":"#REF!"}},{"$f":"IF(#REF!=$E$1,IF(#REF!=$G$1,#REF!,NA()),NA())","v":{"$error":"#REF!"}},{"$f":"IF(#REF!=$E$1,IF(#REF!=$G$1,IF(#REF!=\"\",NA(),#REF!),NA()),NA())","v":{"$error":"#REF!"}},{"$f":"IF(#REF!=$E$1,IF(#REF!=$G$1,IF(#REF!=\"\",NA(),#REF!),NA()),NA())","v":{"$error":"#REF!"}},{"$error":"#REF!"},{"$error":"#REF!"}]
[null,null,null,{"$f":"IF(#REF!=$E$1,IF(#REF!=$G$1,#REF!,NA()),NA())","v":{"$error":"#REF!"}},{"$f":"IF(#REF!=$E$1,IF(#REF!=$G$1,#REF!,NA()),NA())","v":{"$error":"#REF!"}},{"$f":"IF(#REF!=$E$1,IF(#REF!=$G$1,IF(#REF!=\"\",NA(),#REF!),NA()),NA())","v":{"$error":"#REF!"}},{"$f":"IF(#REF!=$E$1,IF(#REF!=$G$1,IF(#REF!=\"\",NA(),#REF!),NA()),NA())","v":{"$error":"#REF!"}},{"$error":"#REF!"},{"$error":"#REF!"}]
[null,null,null,{"$f":"IF(#REF!=$E$1,IF(#REF!=$G$1,#REF!,NA()),NA())","v":{"$error":"#REF!"}},{"$f":"IF(#REF!=$E$1,IF(#REF!=$G$1,#REF!,NA()),NA())","v":{"$error":"#REF!"}},{"$f":"IF(#REF!=$E$1,IF(#REF!=$G$1,IF(#REF!=\"\",NA(),#REF!),NA()),NA())","v":{"$error":"#REF!"}},{"$f":"IF(#REF!=$E$1,IF(#REF!=$G$1,IF(#REF!=\"\",NA(),#REF!),NA()),NA())","v":{"$error":"#REF!"}},{"$error":"#REF!"},{"$error":"#REF!"}]
[null,null,null,{"$f":"IF(#REF!=$E$1,IF(#REF!=$G$1,#REF!,NA()),NA())","v":{"$error":"#REF!"}},{"$f":"IF(#REF!=$E$1,IF(#REF!=$G$1,#REF!,NA()),NA())","v":{"$error":"#REF!"}},{"$f":"IF(#REF!=$E$1,IF(#REF!=$G$1,IF(#REF!=\"\",NA(),#REF!),NA()),NA())","v":{"$error":"#REF!"}},{"$f":"IF(#REF!=$E$1,IF(#REF!=$G$1,IF(#REF!=\"\",NA(),#REF!),NA()),NA())","v":{"$error":"#REF!"}},{"$error":"#REF!"},{"$error":"#REF!"}]
[null,null,null,{"$f":"IF(#REF!=$E$1,IF(#REF!=$G$1,#REF!,NA()),NA())","v":{"$error":"#REF!"}},{"$f":"IF(#REF!=$E$1,IF(#REF!=$G$1,#REF!,NA()),NA())","v":{"$error":"#REF!"}},{"$f":"IF(#REF!=$E$1,IF(#REF!=$G$1,IF(#REF!=\"\",NA(),#REF!),NA()),NA())","v":{"$error":"#REF!"}},{"$f":"IF(#REF!=$E$1,IF(#REF!=$G$1,IF(#REF!=\"\",NA(),#REF!),NA()),NA())","v":{"$error":"#REF!"}},{"$error":"#REF!"},{"$error":"#REF!"}]
[null,null,null,{"$f":"IF(#REF!=$E$1,IF(#REF!=$G$1,#REF!,NA()),NA())","v":{"$error":"#REF!"}},{"$f":"IF(#REF!=$E$1,IF(#REF!=$G$1,#REF!,NA()),NA())","v":{"$error":"#REF!"}},{"$f":"IF(#REF!=$E$1,IF(#REF!=$G$1,IF(#REF!=\"\",NA(),#REF!),NA()),NA())","v":{"$error":"#REF!"}},{"$f":"IF(#REF!=$E$1,IF(#REF!=$G$1,IF(#REF!=\"\",NA(),#REF!),NA()),NA())","v":{"$error":"#REF!"}},{"$error":"#REF!"},{"$error":"#REF!"}]
[null,null,null,{"$f":"IF(#REF!=$E$1,IF(#REF!=$G$1,#REF!,NA()),NA())","v":{"$error":"#REF!"}},{"$f":"IF(#REF!=$E$1,IF(#REF!=$G$1,#REF!,NA()),NA())","v":{"$error":"#REF!"}},{"$f":"IF(#REF!=$E$1,IF(#REF!=$G$1,IF(#REF!=\"\",NA(),#REF!),NA()),NA())","v":{"$error":"#REF!"}},{"$f":"IF(#REF!=$E$1,IF(#REF!=$G$1,IF(#REF!=\"\",NA(),#REF!),NA()),NA())","v":{"$error":"#REF!"}},{"$error":"#REF!"},{"$error":"#REF!"}]
[null,null,null,{"$f":"IF(#REF!=$E$1,IF(#REF!=$G$1,#REF!,NA()),NA())","v":{"$error":"#REF!"}},{"$f":"IF(#REF!=$E$1,IF(#REF!=$G$1,#REF!,NA()),NA())","v":{"$error":"#REF!"}},{"$f":"IF(#REF!=$E$1,IF(#REF!=$G$1,IF(#REF!=\"\",NA(),#REF!),NA()),NA())","v":{"$error":"#REF!"}},{"$f":"IF(#REF!=$E$1,IF(#REF!=$G$1,IF(#REF!=\"\",NA(),#REF!),NA()),NA())","v":{"$error":"#REF!"}},{"$error":"#REF!"},{"$error":"#REF!"}]
[null,null,null,{"$f":"IF(#REF!=$E$1,IF(#REF!=$G$1,#REF!,NA()),NA())","v":{"$error":"#REF!"}},{"$f":"IF(#REF!=$E$1,IF(#REF!=$G$1,#REF!,NA()),NA())","v":{"$error":"#REF!"}},{"$f":"IF(#REF!=$E$1,IF(#REF!=$G$1,IF(#REF!=\"\",NA(),#REF!),NA()),NA())","v":{"$error":"#REF!"}},{"$f":"IF(#REF!=$E$1,IF(#REF!=$G$1,IF(#REF!=\"\",NA(),#REF!),NA()),NA())","v":{"$error":"#REF!"}},{"$error":"#REF!"},{"$error":"#REF!"}]
[null,null,null,{"$f":"IF(#REF!=$E$1,IF(#REF!=$G$1,#REF!,NA()),NA())","v":{"$error":"#REF!"}},{"$f":"IF(#REF!=$E$1,IF(#REF!=$G$1,#REF!,NA()),NA())","v":{"$error":"#REF!"}},{"$f":"IF(#REF!=$E$1,IF(#REF!=$G$1,IF(#REF!=\"\",NA(),#REF!),NA()),NA())","v":{"$error":"#REF!"}},{"$f":"IF(#REF!=$E$1,IF(#REF!=$G$1,IF(#REF!=\"\",NA(),#REF!),NA()),NA())","v":{"$error":"#REF!"}},{"$error":"#REF!"},{"$error":"#REF!"}]
[null,null,null,{"$f":"IF(#REF!=$E$1,IF(#REF!=$G$1,#REF!,NA()),NA())","v":{"$error":"#REF!"}},{"$f":"IF(#REF!=$E$1,IF(#REF!=$G$1,#REF!,NA()),NA())","v":{"$error":"#REF!"}},{"$f":"IF(#REF!=$E$1,IF(#REF!=$G$1,IF(#REF!=\"\",NA(),#REF!),NA()),NA())","v":{"$error":"#REF!"}},{"$f":"IF(#REF!=$E$1,IF(#REF!=$G$1,IF(#REF!=\"\",NA(),#REF!),NA()),NA())","v":{"$error":"#REF!"}},{"$error":"#REF!"},{"$error":"#REF!"}]
[null,null,null,{"$f":"IF(#REF!=$E$1,IF(#REF!=$G$1,#REF!,NA()),NA())","v":{"$error":"#REF!"}},{"$f":"IF(#REF!=$E$1,IF(#REF!=$G$1,#REF!,NA()),NA())","v":{"$error":"#REF!"}},{"$f":"IF(#REF!=$E$1,IF(#REF!=$G$1,IF(#REF!=\"\",NA(),#REF!),NA()),NA())","v":{"$error":"#REF!"}},{"$f":"IF(#REF!=$E$1,IF(#REF!=$G$1,IF(#REF!=\"\",NA(),#REF!),NA()),NA())","v":{"$error":"#REF!"}},{"$error":"#REF!"},{"$error":"#REF!"}]
[null,null,null,{"$f":"IF(#REF!=$E$1,IF(#REF!=$G$1,#REF!,NA()),NA())","v":{"$error":"#REF!"}},{"$f":"IF(#REF!=$E$1,IF(#REF!=$G$1,#REF!,NA()),NA())","v":{"$error":"#REF!"}},{"$f":"IF(#REF!=$E$1,IF(#REF!=$G$1,IF(#REF!=\"\",NA(),#REF!),NA()),NA())","v":{"$error":"#REF!"}},{"$f":"IF(#REF!=$E$1,IF(#REF!=$G$1,IF(#REF!=\"\",NA(),#REF!),NA()),NA())","v":{"$error":"#REF!"}},{"$error":"#REF!"},{"$error":"#REF!"}]
[null,null,null,{"$f":"IF(#REF!=$E$1,IF(#REF!=$G$1,#REF!,NA()),NA())","v":{"$error":"#REF!"}},{"$f":"IF(#REF!=$E$1,IF(#REF!=$G$1,#REF!,NA()),NA())","v":{"$error":"#REF!"}},{"$f":"IF(#REF!=$E$1,IF(#REF!=$G$1,IF(#REF!=\"\",NA(),#REF!),NA()),NA())","v":{"$error":"#REF!"}},{"$f":"IF(#REF!=$E$1,IF(#REF!=$G$1,IF(#REF!=\"\",NA(),#REF!),NA()),NA())","v":{"$error":"#REF!"}},{"$error":"#REF!"},{"$error":"#REF!"}]
[null,null,null,{"$f":"IF(#REF!=$E$1,IF(#REF!=$G$1,#REF!,NA()),NA())","v":{"$error":"#REF!"}},{"$f":"IF(#REF!=$E$1,IF(#REF!=$G$1,#REF!,NA()),NA())","v":{"$error":"#REF!"}},{"$f":"IF(#REF!=$E$1,IF(#REF!=$G$1,IF(#REF!=\"\",NA(),#REF!),NA()),NA())","v":{"$error":"#REF!"}},{"$f":"IF(#REF!=$E$1,IF(#REF!=$G$1,IF(#REF!=\"\",NA(),#REF!),NA()),NA())","v":{"$error":"#REF!"}},{"$error":"#REF!"},{"$error":"#REF!"}]
[null,null,null,{"$f":"IF(#REF!=$E$1,IF(#REF!=$G$1,#REF!,NA()),NA())","v":{"$error":"#REF!"}},{"$f":"IF(#REF!=$E$1,IF(#REF!=$G$1,#REF!,NA()),NA())","v":{"$error":"#REF!"}},{"$f":"IF(#REF!=$E$1,IF(#REF!=$G$1,IF(#REF!=\"\",NA(),#REF!),NA()),NA())","v":{"$error":"#REF!"}},{"$f":"IF(#REF!=$E$1,IF(#REF!=$G$1,IF(#REF!=\"\",NA(),#REF!),NA()),NA())","v":{"$error":"#REF!"}},{"$error":"#REF!"},{"$error":"#REF!"}]
[null,null,null,{"$f":"IF(#REF!=$E$1,IF(#REF!=$G$1,#REF!,NA()),NA())","v":{"$error":"#REF!"}},{"$f":"IF(#REF!=$E$1,IF(#REF!=$G$1,#REF!,NA()),NA())","v":{"$error":"#REF!"}},{"$f":"IF(#REF!=$E$1,IF(#REF!=$G$1,IF(#REF!=\"\",NA(),#REF!),NA()),NA())","v":{"$error":"#REF!"}},{"$f":"IF(#REF!=$E$1,IF(#REF!=$G$1,IF(#REF!=\"\",NA(),#REF!),NA()),NA())","v":{"$error":"#REF!"}},{"$error":"#REF!"},{"$error":"#REF!"}]
[null,null,null,{"$f":"IF(#REF!=$E$1,IF(#REF!=$G$1,#REF!,NA()),NA())","v":{"$error":"#REF!"}},{"$f":"IF(#REF!=$E$1,IF(#REF!=$G$1,#REF!,NA()),NA())","v":{"$error":"#REF!"}},{"$f":"IF(#REF!=$E$1,IF(#REF!=$G$1,IF(#REF!=\"\",NA(),#REF!),NA()),NA())","v":{"$error":"#REF!"}},{"$f":"IF(#REF!=$E$1,IF(#REF!=$G$1,IF(#REF!=\"\",NA(),#REF!),NA()),NA())","v":{"$error":"#REF!"}},{"$error":"#REF!"},{"$error":"#REF!"}]
[null,null,null,{"$f":"IF(#REF!=$E$1,IF(#REF!=$G$1,#REF!,NA()),NA())","v":{"$error":"#REF!"}},{"$f":"IF(#REF!=$E$1,IF(#REF!=$G$1,#REF!,NA()),NA())","v":{"$error":"#REF!"}},{"$f":"IF(#REF!=$E$1,IF(#REF!=$G$1,IF(#REF!=\"\",NA(),#REF!),NA()),NA())","v":{"$error":"#REF!"}},{"$f":"IF(#REF!=$E$1,IF(#REF!=$G$1,IF(#REF!=\"\",NA(),#REF!),NA()),NA())","v":{"$error":"#REF!"}},{"$error":"#REF!"},{"$error":"#REF!"}]
[null,null,null,{"$f":"IF(#REF!=$E$1,IF(#REF!=$G$1,#REF!,NA()),NA())","v":{"$error":"#REF!"}},{"$f":"IF(#REF!=$E$1,IF(#REF!=$G$1,#REF!,NA()),NA())","v":{"$error":"#REF!"}},{"$f":"IF(#REF!=$E$1,IF(#REF!=$G$1,IF(#REF!=\"\",NA(),#REF!),NA()),NA())","v":{"$error":"#REF!"}},{"$f":"IF(#REF!=$E$1,IF(#REF!=$G$1,IF(#REF!=\"\",NA(),#REF!),NA()),NA())","v":{"$error":"#REF!"}},{"$error":"#REF!"},{"$error":"#REF!"}]
[null,null,null,{"$f":"IF(#REF!=$E$1,IF(#REF!=$G$1,#REF!,NA()),NA())","v":{"$error":"#REF!"}},{"$f":"IF(#REF!=$E$1,IF(#REF!=$G$1,#REF!,NA()),NA())","v":{"$error":"#REF!"}},{"$f":"IF(#REF!=$E$1,IF(#REF!=$G$1,IF(#REF!=\"\",NA(),#REF!),NA()),NA())","v":{"$error":"#REF!"}},{"$f":"IF(#REF!=$E$1,IF(#REF!=$G$1,IF(#REF!=\"\",NA(),#REF!),NA()),NA())","v":{"$error":"#REF!"}},{"$error":"#REF!"},{"$error":"#REF!"}]
[null,null,null,{"$f":"IF(#REF!=$E$1,IF(#REF!=$G$1,#REF!,NA()),NA())","v":{"$error":"#REF!"}},{"$f":"IF(#REF!=$E$1,IF(#REF!=$G$1,#REF!,NA()),NA())","v":{"$error":"#REF!"}},{"$f":"IF(#REF!=$E$1,IF(#REF!=$G$1,IF(#REF!=\"\",NA(),#REF!),NA()),NA())","v":{"$error":"#REF!"}},{"$f":"IF(#REF!=$E$1,IF(#REF!=$G$1,IF(#REF!=\"\",NA(),#REF!),NA()),NA())","v":{"$error":"#REF!"}},{"$error":"#REF!"},{"$error":"#REF!"}]
[null,null,null,{"$f":"IF(#REF!=$E$1,IF(#REF!=$G$1,#REF!,NA()),NA())","v":{"$error":"#REF!"}},{"$f":"IF(#REF!=$E$1,IF(#REF!=$G$1,#REF!,NA()),NA())","v":{"$error":"#REF!"}},{"$f":"IF(#REF!=$E$1,IF(#REF!=$G$1,IF(#REF!=\"\",NA(),#REF!),NA()),NA())","v":{"$error":"#REF!"}},{"$f":"IF(#REF!=$E$1,IF(#REF!=$G$1,IF(#REF!=\"\",NA(),#REF!),NA()),NA())","v":{"$error":"#REF!"}},{"$error":"#REF!"},{"$error":"#REF!"}]
[null,null,null,{"$f":"IF(#REF!=$E$1,IF(#REF!=$G$1,#REF!,NA()),NA())","v":{"$error":"#REF!"}},{"$f":"IF(#REF!=$E$1,IF(#REF!=$G$1,#REF!,NA()),NA())","v":{"$error":"#REF!"}},{"$f":"IF(#REF!=$E$1,IF(#REF!=$G$1,IF(#REF!=\"\",NA(),#REF!),NA()),NA())","v":{"$error":"#REF!"}},{"$f":"IF(#REF!=$E$1,IF(#REF!=$G$1,IF(#REF!=\"\",NA(),#REF!),NA()),NA())","v":{"$error":"#REF!"}},{"$error":"#REF!"},{"$error":"#REF!"}]
[null,null,null,{"$f":"IF(#REF!=$E$1,IF(#REF!=$G$1,#REF!,NA()),NA())","v":{"$error":"#REF!"}},{"$f":"IF(#REF!=$E$1,IF(#REF!=$G$1,#REF!,NA()),NA())","v":{"$error":"#REF!"}},{"$f":"IF(#REF!=$E$1,IF(#REF!=$G$1,IF(#REF!=\"\",NA(),#REF!),NA()),NA())","v":{"$error":"#REF!"}},{"$f":"IF(#REF!=$E$1,IF(#REF!=$G$1,IF(#REF!=\"\",NA(),#REF!),NA()),NA())","v":{"$error":"#REF!"}},{"$error":"#REF!"},{"$error":"#REF!"}]
[null,null,null,{"$f":"IF(#REF!=$E$1,IF(#REF!=$G$1,#REF!,NA()),NA())","v":{"$error":"#REF!"}},{"$f":"IF(#REF!=$E$1,IF(#REF!=$G$1,#REF!,NA()),NA())","v":{"$error":"#REF!"}},{"$f":"IF(#REF!=$E$1,IF(#REF!=$G$1,IF(#REF!=\"\",NA(),#REF!),NA()),NA())","v":{"$error":"#REF!"}},{"$f":"IF(#REF!=$E$1,IF(#REF!=$G$1,IF(#REF!=\"\",NA(),#REF!),NA()),NA())","v":{"$error":"#REF!"}},{"$error":"#REF!"},{"$error":"#REF!"}]
[null,null,null,{"$f":"IF(#REF!=$E$1,IF(#REF!=$G$1,#REF!,NA()),NA())","v":{"$error":"#REF!"}},{"$f":"IF(#REF!=$E$1,IF(#REF!=$G$1,#REF!,NA()),NA())","v":{"$error":"#REF!"}},{"$f":"IF(#REF!=$E$1,IF(#REF!=$G$1,IF(#REF!=\"\",NA(),#REF!),NA()),NA())","v":{"$error":"#REF!"}},{"$f":"IF(#REF!=$E$1,IF(#REF!=$G$1,IF(#REF!=\"\",NA(),#REF!),NA()),NA())","v":{"$error":"#REF!"}},{"$error":"#REF!"},{"$error":"#REF!"}]
[null,null,null,{"$f":"IF(#REF!=$E$1,IF(#REF!=$G$1,#REF!,NA()),NA())","v":{"$error":"#REF!"}},{"$f":"IF(#REF!=$E$1,IF(#REF!=$G$1,#REF!,NA()),NA())","v":{"$error":"#REF!"}},{"$f":"IF(#REF!=$E$1,IF(#REF!=$G$1,IF(#REF!=\"\",NA(),#REF!),NA()),NA())","v":{"$error":"#REF!"}},{"$f":"IF(#REF!=$E$1,IF(#REF!=$G$1,IF(#REF!=\"\",NA(),#REF!),NA()),NA())","v":{"$error":"#REF!"}},{"$error":"#REF!"},{"$error":"#REF!"}]
[null,null,null,{"$f":"IF(#REF!=$E$1,IF(#REF!=$G$1,#REF!,NA()),NA())","v":{"$error":"#REF!"}},{"$f":"IF(#REF!=$E$1,IF(#REF!=$G$1,#REF!,NA()),NA())","v":{"$error":"#REF!"}},{"$f":"IF(#REF!=$E$1,IF(#REF!=$G$1,IF(#REF!=\"\",NA(),#REF!),NA()),NA())","v":{"$error":"#REF!"}},{"$f":"IF(#REF!=$E$1,IF(#REF!=$G$1,IF(#REF!=\"\",NA(),#REF!),NA()),NA())","v":{"$error":"#REF!"}},{"$error":"#REF!"},{"$error":"#REF!"}]
[null,null,null,{"$f":"IF(#REF!=$E$1,IF(#REF!=$G$1,#REF!,NA()),NA())","v":{"$error":"#REF!"}},{"$f":"IF(#REF!=$E$1,IF(#REF!=$G$1,#REF!,NA()),NA())","v":{"$error":"#REF!"}},{"$f":"IF(#REF!=$E$1,IF(#REF!=$G$1,IF(#REF!=\"\",NA(),#REF!),NA()),NA())","v":{"$error":"#REF!"}},{"$f":"IF(#REF!=$E$1,IF(#REF!=$G$1,IF(#REF!=\"\",NA(),#REF!),NA()),NA())","v":{"$error":"#REF!"}},{"$error":"#REF!"},{"$error":"#REF!"}]
[null,null,null,{"$f":"IF(#REF!=$E$1,IF(#REF!=$G$1,#REF!,NA()),NA())","v":{"$error":"#REF!"}},{"$f":"IF(#REF!=$E$1,IF(#REF!=$G$1,#REF!,NA()),NA())","v":{"$error":"#REF!"}},{"$f":"IF(#REF!=$E$1,IF(#REF!=$G$1,IF(#REF!=\"\",NA(),#REF!),NA()),NA())","v":{"$error":"#REF!"}},{"$f":"IF(#REF!=$E$1,IF(#REF!=$G$1,IF(#REF!=\"\",NA(),#REF!),NA()),NA())","v":{"$error":"#REF!"}},{"$error":"#REF!"},{"$error":"#REF!"}]
[null,null,null,{"$f":"IF(#REF!=$E$1,IF(#REF!=$G$1,#REF!,NA()),NA())","v":{"$error":"#REF!"}},{"$f":"IF(#REF!=$E$1,IF(#REF!=$G$1,#REF!,NA()),NA())","v":{"$error":"#REF!"}},{"$f":"IF(#REF!=$E$1,IF(#REF!=$G$1,IF(#REF!=\"\",NA(),#REF!),NA()),NA())","v":{"$error":"#REF!"}},{"$f":"IF(#REF!=$E$1,IF(#REF!=$G$1,IF(#REF!=\"\",NA(),#REF!),NA()),NA())","v":{"$error":"#REF!"}},{"$error":"#REF!"},{"$error":"#REF!"}]
[null,null,null,{"$f":"IF(#REF!=$E$1,IF(#REF!=$G$1,#REF!,NA()),NA())","v":{"$error":"#REF!"}},{"$f":"IF(#REF!=$E$1,IF(#REF!=$G$1,#REF!,NA()),NA())","v":{"$error":"#REF!"}},{"$f":"IF(#REF!=$E$1,IF(#REF!=$G$1,IF(#REF!=\"\",NA(),#REF!),NA()),NA())","v":{"$error":"#REF!"}},{"$f":"IF(#REF!=$E$1,IF(#REF!=$G$1,IF(#REF!=\"\",NA(),#REF!),NA()),NA())","v":{"$error":"#REF!"}},{"$error":"#REF!"},{"$error":"#REF!"}]
[null,null,null,{"$f":"IF(#REF!=$E$1,IF(#REF!=$G$1,#REF!,NA()),NA())","v":{"$error":"#REF!"}},{"$f":"IF(#REF!=$E$1,IF(#REF!=$G$1,#REF!,NA()),NA())","v":{"$error":"#REF!"}},{"$f":"IF(#REF!=$E$1,IF(#REF!=$G$1,IF(#REF!=\"\",NA(),#REF!),NA()),NA())","v":{"$error":"#REF!"}},{"$f":"IF(#REF!=$E$1,IF(#REF!=$G$1,IF(#REF!=\"\",NA(),#REF!),NA()),NA())","v":{"$error":"#REF!"}},{"$error":"#REF!"},{"$error":"#REF!"}]
[null,null,null,{"$f":"IF(#REF!=$E$1,IF(#REF!=$G$1,#REF!,NA()),NA())","v":{"$error":"#REF!"}},{"$f":"IF(#REF!=$E$1,IF(#REF!=$G$1,#REF!,NA()),NA())","v":{"$error":"#REF!"}},{"$f":"IF(#REF!=$E$1,IF(#REF!=$G$1,IF(#REF!=\"\",NA(),#REF!),NA()),NA())","v":{"$error":"#REF!"}},{"$f":"IF(#REF!=$E$1,IF(#REF!=$G$1,IF(#REF!=\"\",NA(),#REF!),NA()),NA())","v":{"$error":"#REF!"}},{"$error":"#REF!"},{"$error":"#REF!"}]
[null,null,null,{"$f":"IF(#REF!=$E$1,IF(#REF!=$G$1,#REF!,NA()),NA())","v":{"$error":"#REF!"}},{"$f":"IF(#REF!=$E$1,IF(#REF!=$G$1,#REF!,NA()),NA())","v":{"$error":"#REF!"}},{"$f":"IF(#REF!=$E$1,IF(#REF!=$G$1,IF(#REF!=\"\",NA(),#REF!),NA()),NA())","v":{"$error":"#REF!"}},{"$f":"IF(#REF!=$E$1,IF(#REF!=$G$1,IF(#REF!=\"\",NA(),#REF!),NA()),NA())","v":{"$error":"#REF!"}},{"$error":"#REF!"},{"$error":"#REF!"}]
[null,null,null,{"$f":"IF(#REF!=$E$1,IF(#REF!=$G$1,#REF!,NA()),NA())","v":{"$error":"#REF!"}},{"$f":"IF(#REF!=$E$1,IF(#REF!=$G$1,#REF!,NA()),NA())","v":{"$error":"#REF!"}},{"$f":"IF(#REF!=$E$1,IF(#REF!=$G$1,IF(#REF!=\"\",NA(),#REF!),NA()),NA())","v":{"$error":"#REF!"}},{"$f":"IF(#REF!=$E$1,IF(#REF!=$G$1,IF(#REF!=\"\",NA(),#REF!),NA()),NA())","v":{"$error":"#REF!"}},{"$error":"#REF!"},{"$error":"#REF!"}]
[null,null,null,{"$f":"IF(#REF!=$E$1,IF(#REF!=$G$1,#REF!,NA()),NA())","v":{"$error":"#REF!"}},{"$f":"IF(#REF!=$E$1,IF(#REF!=$G$1,#REF!,NA()),NA())","v":{"$error":"#REF!"}},{"$f":"IF(#REF!=$E$1,IF(#REF!=$G$1,IF(#REF!=\"\",NA(),#REF!),NA()),NA())","v":{"$error":"#REF!"}},{"$f":"IF(#REF!=$E$1,IF(#REF!=$G$1,IF(#REF!=\"\",NA(),#REF!),NA()),NA())","v":{"$error":"#REF!"}},{"$error":"#REF!"},{"$error":"#REF!"}]
[null,null,null,{"$f":"IF(#REF!=$E$1,IF(#REF!=$G$1,#REF!,NA()),NA())","v":{"$error":"#REF!"}},{"$f":"IF(#REF!=$E$1,IF(#REF!=$G$1,#REF!,NA()),NA())","v":{"$error":"#REF!"}},{"$f":"IF(#REF!=$E$1,IF(#REF!=$G$1,IF(#REF!=\"\",NA(),#REF!),NA()),NA())","v":{"$error":"#REF!"}},{"$f":"IF(#REF!=$E$1,IF(#REF!=$G$1,IF(#REF!=\"\",NA(),#REF!),NA()),NA())","v":{"$error":"#REF!"}},{"$error":"#REF!"},{"$error":"#REF!"}]
[null,null,null,{"$f":"IF(#REF!=$E$1,IF(#REF!=$G$1,#REF!,NA()),NA())","v":{"$error":"#REF!"}},{"$f":"IF(#REF!=$E$1,IF(#REF!=$G$1,#REF!,NA()),NA())","v":{"$error":"#REF!"}},{"$f":"IF(#REF!=$E$1,IF(#REF!=$G$1,IF(#REF!=\"\",NA(),#REF!),NA()),NA())","v":{"$error":"#REF!"}},{"$f":"IF(#REF!=$E$1,IF(#REF!=$G$1,IF(#REF!=\"\",NA(),#REF!),NA()),NA())","v":{"$error":"#REF!"}},{"$error":"#REF!"},{"$error":"#REF!"}]
[null,null,null,{"$f":"IF(#REF!=$E$1,IF(#REF!=$G$1,#REF!,NA()),NA())","v":{"$error":"#REF!"}},{"$f":"IF(#REF!=$E$1,IF(#REF!=$G$1,#REF!,NA()),NA())","v":{"$error":"#REF!"}},{"$f":"IF(#REF!=$E$1,IF(#REF!=$G$1,IF(#REF!=\"\",NA(),#REF!),NA()),NA())","v":{"$error":"#REF!"}},{"$f":"IF(#REF!=$E$1,IF(#REF!=$G$1,IF(#REF!=\"\",NA(),#REF!),NA()),NA())","v":{"$error":"#REF!"}},{"$error":"#REF!"},{"$error":"#REF!"}]
[null,null,null,{"$f":"IF(#REF!=$E$1,IF(#REF!=$G$1,#REF!,NA()),NA())","v":{"$error":"#REF!"}},{"$f":"IF(#REF!=$E$1,IF(#REF!=$G$1,#REF!,NA()),NA())","v":{"$error":"#REF!"}},{"$f":"IF(#REF!=$E$1,IF(#REF!=$G$1,IF(#REF!=\"\",NA(),#REF!),NA()),NA())","v":{"$error":"#REF!"}},{"$f":"IF(#REF!=$E$1,IF(#REF!=$G$1,IF(#REF!=\"\",NA(),#REF!),NA()),NA())","v":{"$error":"#REF!"}},{"$error":"#REF!"},{"$error":"#REF!"}]
[null,null,null,{"$f":"IF(#REF!=$E$1,IF(#REF!=$G$1,#REF!,NA()),NA())","v":{"$error":"#REF!"}},{"$f":"IF(#REF!=$E$1,IF(#REF!=$G$1,#REF!,NA()),NA())","v":{"$error":"#REF!"}},{"$f":"IF(#REF!=$E$1,IF(#REF!=$G$1,IF(#REF!=\"\",NA(),#REF!),NA()),NA())","v":{"$error":"#REF!"}},{"$f":"IF(#REF!=$E$1,IF(#REF!=$G$1,IF(#REF!=\"\",NA(),#REF!),NA()),NA())","v":{"$error":"#REF!"}},{"$error":"#REF!"},{"$error":"#REF!"}]
[null,null,null,{"$f":"IF(#REF!=$E$1,IF(#REF!=$G$1,#REF!,NA()),NA())","v":{"$error":"#REF!"}},{"$f":"IF(#REF!=$E$1,IF(#REF!=$G$1,#REF!,NA()),NA())","v":{"$error":"#REF!"}},{"$f":"IF(#REF!=$E$1,IF(#REF!=$G$1,IF(#REF!=\"\",NA(),#REF!),NA()),NA())","v":{"$error":"#REF!"}},{"$f":"IF(#REF!=$E$1,IF(#REF!=$G$1,IF(#REF!=\"\",NA(),#REF!),NA()),NA())","v":{"$error":"#REF!"}},{"$error":"#REF!"},{"$error":"#REF!"}]
[null,null,null,{"$f":"IF(#REF!=$E$1,IF(#REF!=$G$1,#REF!,NA()),NA())","v":{"$error":"#REF!"}},{"$f":"IF(#REF!=$E$1,IF(#REF!=$G$1,#REF!,NA()),NA())","v":{"$error":"#REF!"}},{"$f":"IF(#REF!=$E$1,IF(#REF!=$G$1,IF(#REF!=\"\",NA(),#REF!),NA()),NA())","v":{"$error":"#REF!"}},{"$f":"IF(#REF!=$E$1,IF(#REF!=$G$1,IF(#REF!=\"\",NA(),#REF!),NA()),NA())","v":{"$error":"#REF!"}},{"$error":"#REF!"},{"$error":"#REF!"}]
[null,null,null,{"$f":"IF(#REF!=$E$1,IF(#REF!=$G$1,#REF!,NA()),NA())","v":{"$error":"#REF!"}},{"$f":"IF(#REF!=$E$1,IF(#REF!=$G$1,#REF!,NA()),NA())","v":{"$error":"#REF!"}},{"$f":"IF(#REF!=$E$1,IF(#REF!=$G$1,IF(#REF!=\"\",NA(),#REF!),NA()),NA())","v":{"$error":"#REF!"}},{"$f":"IF(#REF!=$E$1,IF(#REF!=$G$1,IF(#REF!=\"\",NA(),#REF!),NA()),NA())","v":{"$error":"#REF!"}},{"$error":"#REF!"},{"$error":"#REF!"}]
[null,null,null,{"$f":"IF(#REF!=$E$1,IF(#REF!=$G$1,#REF!,NA()),NA())","v":{"$error":"#REF!"}},{"$f":"IF(#REF!=$E$1,IF(#REF!=$G$1,#REF!,NA()),NA())","v":{"$error":"#REF!"}},{"$f":"IF(#REF!=$E$1,IF(#REF!=$G$1,IF(#REF!=\"\",NA(),#REF!),NA()),NA())","v":{"$error":"#REF!"}},{"$f":"IF(#REF!=$E$1,IF(#REF!=$G$1,IF(#REF!=\"\",NA(),#REF!),NA()),NA())","v":{"$error":"#REF!"}},{"$error":"#REF!"},{"$error":"#REF!"}]
[null,null,null,{"$f":"IF(#REF!=$E$1,IF(#REF!=$G$1,#REF!,NA()),NA())","v":{"$error":"#REF!"}},{"$f":"IF(#REF!=$E$1,IF(#REF!=$G$1,#REF!,NA()),NA())","v":{"$error":"#REF!"}},{"$f":"IF(#REF!=$E$1,IF(#REF!=$G$1,IF(#REF!=\"\",NA(),#REF!),NA()),NA())","v":{"$error":"#REF!"}},{"$f":"IF(#REF!=$E$1,IF(#REF!=$G$1,IF(#REF!=\"\",NA(),#REF!),NA()),NA())","v":{"$error":"#REF!"}},{"$error":"#REF!"},{"$error":"#REF!"}]
[null,null,null,{"$f":"IF(#REF!=$E$1,IF(#REF!=$G$1,#REF!,NA()),NA())","v":{"$error":"#REF!"}},{"$f":"IF(#REF!=$E$1,IF(#REF!=$G$1,#REF!,NA()),NA())","v":{"$error":"#REF!"}},{"$f":"IF(#REF!=$E$1,IF(#REF!=$G$1,IF(#REF!=\"\",NA(),#REF!),NA()),NA())","v":{"$error":"#REF!"}},{"$f":"IF(#REF!=$E$1,IF(#REF!=$G$1,IF(#REF!=\"\",NA(),#REF!),NA()),NA())","v":{"$error":"#REF!"}},{"$error":"#REF!"},{"$error":"#REF!"}]
[null,null,null,{"$f":"IF(#REF!=$E$1,IF(#REF!=$G$1,#REF!,NA()),NA())","v":{"$error":"#REF!"}},{"$f":"IF(#REF!=$E$1,IF(#REF!=$G$1,#REF!,NA()),NA())","v":{"$error":"#REF!"}},{"$f":"IF(#REF!=$E$1,IF(#REF!=$G$1,IF(#REF!=\"\",NA(),#REF!),NA()),NA())","v":{"$error":"#REF!"}},{"$f":"IF(#REF!=$E$1,IF(#REF!=$G$1,IF(#REF!=\"\",NA(),#REF!),NA()),NA())","v":{"$error":"#REF!"}},{"$error":"#REF!"},{"$error":"#REF!"}]
[null,null,null,{"$f":"IF(#REF!=$E$1,IF(#REF!=$G$1,#REF!,NA()),NA())","v":{"$error":"#REF!"}},{"$f":"IF(#REF!=$E$1,IF(#REF!=$G$1,#REF!,NA()),NA())","v":{"$error":"#REF!"}},{"$f":"IF(#REF!=$E$1,IF(#REF!=$G$1,IF(#REF!=\"\",NA(),#REF!),NA()),NA())","v":{"$error":"#REF!"}},{"$f":"IF(#REF!=$E$1,IF(#REF!=$G$1,IF(#REF!=\"\",NA(),#REF!),NA()),NA())","v":{"$error":"#REF!"}},{"$error":"#REF!"},{"$error":"#REF!"}]
[null,null,null,{"$f":"IF(#REF!=$E$1,IF(#REF!=$G$1,#REF!,NA()),NA())","v":{"$error":"#REF!"}},{"$f":"IF(#REF!=$E$1,IF(#REF!=$G$1,#REF!,NA()),NA())","v":{"$error":"#REF!"}},{"$f":"IF(#REF!=$E$1,IF(#REF!=$G$1,IF(#REF!=\"\",NA(),#REF!),NA()),NA())","v":{"$error":"#REF!"}},{"$f":"IF(#REF!=$E$1,IF(#REF!=$G$1,IF(#REF!=\"\",NA(),#REF!),NA()),NA())","v":{"$error":"#REF!"}},{"$error":"#REF!"},{"$error":"#REF!"}]
[null,null,null,{"$f":"IF(#REF!=$E$1,IF(#REF!=$G$1,#REF!,NA()),NA())","v":{"$error":"#REF!"}},{"$f":"IF(#REF!=$E$1,IF(#REF!=$G$1,#REF!,NA()),NA())","v":{"$error":"#REF!"}},{"$f":"IF(#REF!=$E$1,IF(#REF!=$G$1,IF(#REF!=\"\",NA(),#REF!),NA()),NA())","v":{"$error":"#REF!"}},{"$f":"IF(#REF!=$E$1,IF(#REF!=$G$1,IF(#REF!=\"\",NA(),#REF!),NA()),NA())","v":{"$error":"#REF!"}},{"$f":"IF(AND(ISNUMBER(G644),F644=\"-\"),0,F644)","v":{"$error":"#REF!"}},{"$f":"IF(AND(ISNUMBER(F644),G644=\"-\"),0,G644)","v":{"$error":"#REF!"}}]
[null,null,null,{"$f":"IF(#REF!=$E$1,IF(#REF!=$G$1,#REF!,NA()),NA())","v":{"$error":"#REF!"}},{"$f":"IF(#REF!=$E$1,IF(#REF!=$G$1,#REF!,NA()),NA())","v":{"$error":"#REF!"}},{"$f":"IF(#REF!=$E$1,IF(#REF!=$G$1,IF(#REF!=\"\",NA(),#REF!),NA()),NA())","v":{"$error":"#REF!"}},{"$f":"IF(#REF!=$E$1,IF(#REF!=$G$1,IF(#REF!=\"\",NA(),#REF!),NA()),NA())","v":{"$error":"#REF!"}},{"$error":"#REF!"},{"$error":"#REF!"}]
[null,null,null,{"$f":"IF(#REF!=$E$1,IF(#REF!=$G$1,#REF!,NA()),NA())","v":{"$error":"#REF!"}},{"$f":"IF(#REF!=$E$1,IF(#REF!=$G$1,#REF!,NA()),NA())","v":{"$error":"#REF!"}},{"$f":"IF(#REF!=$E$1,IF(#REF!=$G$1,IF(#REF!=\"\",NA(),#REF!),NA()),NA())","v":{"$error":"#REF!"}},{"$f":"IF(#REF!=$E$1,IF(#REF!=$G$1,IF(#REF!=\"\",NA(),#REF!),NA()),NA())","v":{"$error":"#REF!"}},{"$error":"#REF!"},{"$error":"#REF!"}]
[null,null,null,{"$f":"IF(#REF!=$E$1,IF(#REF!=$G$1,#REF!,NA()),NA())","v":{"$error":"#REF!"}},{"$f":"IF(#REF!=$E$1,IF(#REF!=$G$1,#REF!,NA()),NA())","v":{"$error":"#REF!"}},{"$f":"IF(#REF!=$E$1,IF(#REF!=$G$1,IF(#REF!=\"\",NA(),#REF!),NA()),NA())","v":{"$error":"#REF!"}},{"$f":"IF(#REF!=$E$1,IF(#REF!=$G$1,IF(#REF!=\"\",NA(),#REF!),NA()),NA())","v":{"$error":"#REF!"}},{"$error":"#REF!"},{"$error":"#REF!"}]
[null,null,null,{"$f":"IF(#REF!=$E$1,IF(#REF!=$G$1,#REF!,NA()),NA())","v":{"$error":"#REF!"}},{"$f":"IF(#REF!=$E$1,IF(#REF!=$G$1,#REF!,NA()),NA())","v":{"$error":"#REF!"}},{"$f":"IF(#REF!=$E$1,IF(#REF!=$G$1,IF(#REF!=\"\",NA(),#REF!),NA()),NA())","v":{"$error":"#REF!"}},{"$f":"IF(#REF!=$E$1,IF(#REF!=$G$1,IF(#REF!=\"\",NA(),#REF!),NA()),NA())","v":{"$error":"#REF!"}},{"$error":"#REF!"},{"$error":"#REF!"}]
[null,null,null,{"$f":"IF(#REF!=$E$1,IF(#REF!=$G$1,#REF!,NA()),NA())","v":{"$error":"#REF!"}},{"$f":"IF(#REF!=$E$1,IF(#REF!=$G$1,#REF!,NA()),NA())","v":{"$error":"#REF!"}},{"$f":"IF(#REF!=$E$1,IF(#REF!=$G$1,IF(#REF!=\"\",NA(),#REF!),NA()),NA())","v":{"$error":"#REF!"}},{"$f":"IF(#REF!=$E$1,IF(#REF!=$G$1,IF(#REF!=\"\",NA(),#REF!),NA()),NA())","v":{"$error":"#REF!"}},{"$error":"#REF!"},{"$error":"#REF!"}]
[null,null,null,{"$f":"IF(#REF!=$E$1,IF(#REF!=$G$1,#REF!,NA()),NA())","v":{"$error":"#REF!"}},{"$f":"IF(#REF!=$E$1,IF(#REF!=$G$1,#REF!,NA()),NA())","v":{"$error":"#REF!"}},{"$f":"IF(#REF!=$E$1,IF(#REF!=$G$1,IF(#REF!=\"\",NA(),#REF!),NA()),NA())","v":{"$error":"#REF!"}},{"$f":"IF(#REF!=$E$1,IF(#REF!=$G$1,IF(#REF!=\"\",NA(),#REF!),NA()),NA())","v":{"$error":"#REF!"}},{"$error":"#REF!"},{"$error":"#REF!"}]
[null,null,null,{"$f":"IF(#REF!=$E$1,IF(#REF!=$G$1,#REF!,NA()),NA())","v":{"$error":"#REF!"}},{"$f":"IF(#REF!=$E$1,IF(#REF!=$G$1,#REF!,NA()),NA())","v":{"$error":"#REF!"}},{"$f":"IF(#REF!=$E$1,IF(#REF!=$G$1,IF(#REF!=\"\",NA(),#REF!),NA()),NA())","v":{"$error":"#REF!"}},{"$f":"IF(#REF!=$E$1,IF(#REF!=$G$1,IF(#REF!=\"\",NA(),#REF!),NA()),NA())","v":{"$error":"#REF!"}},{"$error":"#REF!"},{"$error":"#REF!"}]
[null,null,null,{"$f":"IF(#REF!=$E$1,IF(#REF!=$G$1,#REF!,NA()),NA())","v":{"$error":"#REF!"}},{"$f":"IF(#REF!=$E$1,IF(#REF!=$G$1,#REF!,NA()),NA())","v":{"$error":"#REF!"}},{"$f":"IF(#REF!=$E$1,IF(#REF!=$G$1,IF(#REF!=\"\",NA(),#REF!),NA()),NA())","v":{"$error":"#REF!"}},{"$f":"IF(#REF!=$E$1,IF(#REF!=$G$1,IF(#REF!=\"\",NA(),#REF!),NA()),NA())","v":{"$error":"#REF!"}},{"$error":"#REF!"},{"$error":"#REF!"}]
[null,null,null,{"$f":"IF(#REF!=$E$1,IF(#REF!=$G$1,#REF!,NA()),NA())","v":{"$error":"#REF!"}},{"$f":"IF(#REF!=$E$1,IF(#REF!=$G$1,#REF!,NA()),NA())","v":{"$error":"#REF!"}},{"$f":"IF(#REF!=$E$1,IF(#REF!=$G$1,IF(#REF!=\"\",NA(),#REF!),NA()),NA())","v":{"$error":"#REF!"}},{"$f":"IF(#REF!=$E$1,IF(#REF!=$G$1,IF(#REF!=\"\",NA(),#REF!),NA()),NA())","v":{"$error":"#REF!"}},{"$error":"#REF!"},{"$error":"#REF!"}]
[null,null,null,{"$f":"IF(#REF!=$E$1,IF(#REF!=$G$1,#REF!,NA()),NA())","v":{"$error":"#REF!"}},{"$f":"IF(#REF!=$E$1,IF(#REF!=$G$1,#REF!,NA()),NA())","v":{"$error":"#REF!"}},{"$f":"IF(#REF!=$E$1,IF(#REF!=$G$1,IF(#REF!=\"\",NA(),#REF!),NA()),NA())","v":{"$error":"#REF!"}},{"$f":"IF(#REF!=$E$1,IF(#REF!=$G$1,IF(#REF!=\"\",NA(),#REF!),NA()),NA())","v":{"$error":"#REF!"}},{"$error":"#REF!"},{"$error":"#REF!"}]
[null,null,null,{"$f":"IF(#REF!=$E$1,IF(#REF!=$G$1,#REF!,NA()),NA())","v":{"$error":"#REF!"}},{"$f":"IF(#REF!=$E$1,IF(#REF!=$G$1,#REF!,NA()),NA())","v":{"$error":"#REF!"}},{"$f":"IF(#REF!=$E$1,IF(#REF!=$G$1,IF(#REF!=\"\",NA(),#REF!),NA()),NA())","v":{"$error":"#REF!"}},{"$f":"IF(#REF!=$E$1,IF(#REF!=$G$1,IF(#REF!=\"\",NA(),#REF!),NA()),NA())","v":{"$error":"#REF!"}},{"$error":"#REF!"},{"$error":"#REF!"}]
[null,null,null,{"$f":"IF(#REF!=$E$1,IF(#REF!=$G$1,#REF!,NA()),NA())","v":{"$error":"#REF!"}},{"$f":"IF(#REF!=$E$1,IF(#REF!=$G$1,#REF!,NA()),NA())","v":{"$error":"#REF!"}},{"$f":"IF(#REF!=$E$1,IF(#REF!=$G$1,IF(#REF!=\"\",NA(),#REF!),NA()),NA())","v":{"$error":"#REF!"}},{"$f":"IF(#REF!=$E$1,IF(#REF!=$G$1,IF(#REF!=\"\",NA(),#REF!),NA()),NA())","v":{"$error":"#REF!"}},{"$error":"#REF!"},{"$error":"#REF!"}]
[null,null,null,{"$f":"IF(#REF!=$E$1,IF(#REF!=$G$1,#REF!,NA()),NA())","v":{"$error":"#REF!"}},{"$f":"IF(#REF!=$E$1,IF(#REF!=$G$1,#REF!,NA()),NA())","v":{"$error":"#REF!"}},{"$f":"IF(#REF!=$E$1,IF(#REF!=$G$1,IF(#REF!=\"\",NA(),#REF!),NA()),NA())","v":{"$error":"#REF!"}},{"$f":"IF(#REF!=$E$1,IF(#REF!=$G$1,IF(#REF!=\"\",NA(),#REF!),NA()),NA())","v":{"$error":"#REF!"}},{"$error":"#REF!"},{"$error":"#REF!"}]
[null,null,null,{"$f":"IF(#REF!=$E$1,IF(#REF!=$G$1,#REF!,NA()),NA())","v":{"$error":"#REF!"}},{"$f":"IF(#REF!=$E$1,IF(#REF!=$G$1,#REF!,NA()),NA())","v":{"$error":"#REF!"}},{"$f":"IF(#REF!=$E$1,IF(#REF!=$G$1,IF(#REF!=\"\",NA(),#REF!),NA()),NA())","v":{"$error":"#REF!"}},{"$f":"IF(#REF!=$E$1,IF(#REF!=$G$1,IF(#REF!=\"\",NA(),#REF!),NA()),NA())","v":{"$error":"#REF!"}},{"$error":"#REF!"},{"$error":"#REF!"}]
[null,null,null,{"$f":"IF(#REF!=$E$1,IF(#REF!=$G$1,#REF!,NA()),NA())","v":{"$error":"#REF!"}},{"$f":"IF(#REF!=$E$1,IF(#REF!=$G$1,#REF!,NA()),NA())","v":{"$error":"#REF!"}},{"$f":"IF(#REF!=$E$1,IF(#REF!=$G$1,IF(#REF!=\"\",NA(),#REF!),NA()),NA())","v":{"$error":"#REF!"}},{"$f":"IF(#REF!=$E$1,IF(#REF!=$G$1,IF(#REF!=\"\",NA(),#REF!),NA()),NA())","v":{"$error":"#REF!"}},{"$error":"#REF!"},{"$error":"#REF!"}]
[null,null,null,{"$f":"IF(#REF!=$E$1,IF(#REF!=$G$1,#REF!,NA()),NA())","v":{"$error":"#REF!"}},{"$f":"IF(#REF!=$E$1,IF(#REF!=$G$1,#REF!,NA()),NA())","v":{"$error":"#REF!"}},{"$f":"IF(#REF!=$E$1,IF(#REF!=$G$1,IF(#REF!=\"\",NA(),#REF!),NA()),NA())","v":{"$error":"#REF!"}},{"$f":"IF(#REF!=$E$1,IF(#REF!=$G$1,IF(#REF!=\"\",NA(),#REF!),NA()),NA())","v":{"$error":"#REF!"}},{"$error":"#REF!"},{"$error":"#REF!"}]
[null,null,null,{"$f":"IF(#REF!=$E$1,IF(#REF!=$G$1,#REF!,NA()),NA())","v":{"$error":"#REF!"}},{"$f":"IF(#REF!=$E$1,IF(#REF!=$G$1,#REF!,NA()),NA())","v":{"$error":"#REF!"}},{"$f":"IF(#REF!=$E$1,IF(#REF!=$G$1,IF(#REF!=\"\",NA(),#REF!),NA()),NA())","v":{"$error":"#REF!"}},{"$f":"IF(#REF!=$E$1,IF(#REF!=$G$1,IF(#REF!=\"\",NA(),#REF!),NA()),NA())","v":{"$error":"#REF!"}},{"$error":"#REF!"},{"$error":"#REF!"}]
[null,null,null,{"$f":"IF(#REF!=$E$1,IF(#REF!=$G$1,#REF!,NA()),NA())","v":{"$error":"#REF!"}},{"$f":"IF(#REF!=$E$1,IF(#REF!=$G$1,#REF!,NA()),NA())","v":{"$error":"#REF!"}},{"$f":"IF(#REF!=$E$1,IF(#REF!=$G$1,IF(#REF!=\"\",NA(),#REF!),NA()),NA())","v":{"$error":"#REF!"}},{"$f":"IF(#REF!=$E$1,IF(#REF!=$G$1,IF(#REF!=\"\",NA(),#REF!),NA()),NA())","v":{"$error":"#REF!"}},{"$error":"#REF!"},{"$error":"#REF!"}]
[null,null,null,{"$f":"IF(#REF!=$E$1,IF(#REF!=$G$1,#REF!,NA()),NA())","v":{"$error":"#REF!"}},{"$f":"IF(#REF!=$E$1,IF(#REF!=$G$1,#REF!,NA()),NA())","v":{"$error":"#REF!"}},{"$f":"IF(#REF!=$E$1,IF(#REF!=$G$1,IF(#REF!=\"\",NA(),#REF!),NA()),NA())","v":{"$error":"#REF!"}},{"$f":"IF(#REF!=$E$1,IF(#REF!=$G$1,IF(#REF!=\"\",NA(),#REF!),NA()),NA())","v":{"$error":"#REF!"}},{"$error":"#REF!"},{"$error":"#REF!"}]
[null,null,null,{"$f":"IF(#REF!=$E$1,IF(#REF!=$G$1,#REF!,NA()),NA())","v":{"$error":"#REF!"}},{"$f":"IF(#REF!=$E$1,IF(#REF!=$G$1,#REF!,NA()),NA())","v":{"$error":"#REF!"}},{"$f":"IF(#REF!=$E$1,IF(#REF!=$G$1,IF(#REF!=\"\",NA(),#REF!),NA()),NA())","v":{"$error":"#REF!"}},{"$f":"IF(#REF!=$E$1,IF(#REF!=$G$1,IF(#REF!=\"\",NA(),#REF!),NA()),NA())","v":{"$error":"#REF!"}},{"$error":"#REF!"},{"$error":"#REF!"}]
[null,null,null,{"$f":"IF(#REF!=$E$1,IF(#REF!=$G$1,#REF!,NA()),NA())","v":{"$error":"#REF!"}},{"$f":"IF(#REF!=$E$1,IF(#REF!=$G$1,#REF!,NA()),NA())","v":{"$error":"#REF!"}},{"$f":"IF(#REF!=$E$1,IF(#REF!=$G$1,IF(#REF!=\"\",NA(),#REF!),NA()),NA())","v":{"$error":"#REF!"}},{"$f":"IF(#REF!=$E$1,IF(#REF!=$G$1,IF(#REF!=\"\",NA(),#REF!),NA()),NA())","v":{"$error":"#REF!"}},{"$error":"#REF!"},{"$error":"#REF!"}]
[null,null,null,{"$f":"IF(#REF!=$E$1,IF(#REF!=$G$1,#REF!,NA()),NA())","v":{"$error":"#REF!"}},{"$f":"IF(#REF!=$E$1,IF(#REF!=$G$1,#REF!,NA()),NA())","v":{"$error":"#REF!"}},{"$f":"IF(#REF!=$E$1,IF(#REF!=$G$1,IF(#REF!=\"\",NA(),#REF!),NA()),NA())","v":{"$error":"#REF!"}},{"$f":"IF(#REF!=$E$1,IF(#REF!=$G$1,IF(#REF!=\"\",NA(),#REF!),NA()),NA())","v":{"$error":"#REF!"}},{"$error":"#REF!"},{"$error":"#REF!"}]
[null,null,null,{"$f":"IF(#REF!=$E$1,IF(#REF!=$G$1,#REF!,NA()),NA())","v":{"$error":"#REF!"}},{"$f":"IF(#REF!=$E$1,IF(#REF!=$G$1,#REF!,NA()),NA())","v":{"$error":"#REF!"}},{"$f":"IF(#REF!=$E$1,IF(#REF!=$G$1,IF(#REF!=\"\",NA(),#REF!),NA()),NA())","v":{"$error":"#REF!"}},{"$f":"IF(#REF!=$E$1,IF(#REF!=$G$1,IF(#REF!=\"\",NA(),#REF!),NA()),NA())","v":{"$error":"#REF!"}},{"$error":"#REF!"},{"$error":"#REF!"}]
[null,null,null,{"$f":"IF(#REF!=$E$1,IF(#REF!=$G$1,#REF!,NA()),NA())","v":{"$error":"#REF!"}},{"$f":"IF(#REF!=$E$1,IF(#REF!=$G$1,#REF!,NA()),NA())","v":{"$error":"#REF!"}},{"$f":"IF(#REF!=$E$1,IF(#REF!=$G$1,IF(#REF!=\"\",NA(),#REF!),NA()),NA())","v":{"$error":"#REF!"}},{"$f":"IF(#REF!=$E$1,IF(#REF!=$G$1,IF(#REF!=\"\",NA(),#REF!),NA()),NA())","v":{"$error":"#REF!"}},{"$error":"#REF!"},{"$error":"#REF!"}]
[null,null,null,{"$f":"IF(#REF!=$E$1,IF(#REF!=$G$1,#REF!,NA()),NA())","v":{"$error":"#REF!"}},{"$f":"IF(#REF!=$E$1,IF(#REF!=$G$1,#REF!,NA()),NA())","v":{"$error":"#REF!"}},{"$f":"IF(#REF!=$E$1,IF(#REF!=$G$1,IF(#REF!=\"\",NA(),#REF!),NA()),NA())","v":{"$error":"#REF!"}},{"$f":"IF(#REF!=$E$1,IF(#REF!=$G$1,IF(#REF!=\"\",NA(),#REF!),NA()),NA())","v":{"$error":"#REF!"}},{"$error":"#REF!"},{"$error":"#REF!"}]
[null,null,null,{"$f":"IF(#REF!=$E$1,IF(#REF!=$G$1,#REF!,NA()),NA())","v":{"$error":"#REF!"}},{"$f":"IF(#REF!=$E$1,IF(#REF!=$G$1,#REF!,NA()),NA())","v":{"$error":"#REF!"}},{"$f":"IF(#REF!=$E$1,IF(#REF!=$G$1,IF(#REF!=\"\",NA(),#REF!),NA()),NA())","v":{"$error":"#REF!"}},{"$f":"IF(#REF!=$E$1,IF(#REF!=$G$1,IF(#REF!=\"\",NA(),#REF!),NA()),NA())","v":{"$error":"#REF!"}},{"$error":"#REF!"},{"$error":"#REF!"}]
[null,null,null,{"$f":"IF(#REF!=$E$1,IF(#REF!=$G$1,#REF!,NA()),NA())","v":{"$error":"#REF!"}},{"$f":"IF(#REF!=$E$1,IF(#REF!=$G$1,#REF!,NA()),NA())","v":{"$error":"#REF!"}},{"$f":"IF(#REF!=$E$1,IF(#REF!=$G$1,IF(#REF!=\"\",NA(),#REF!),NA()),NA())","v":{"$error":"#REF!"}},{"$f":"IF(#REF!=$E$1,IF(#REF!=$G$1,IF(#REF!=\"\",NA(),#REF!),NA()),NA())","v":{"$error":"#REF!"}},{"$error":"#REF!"},{"$error":"#REF!"}]
[null,null,null,{"$f":"IF(#REF!=$E$1,IF(#REF!=$G$1,#REF!,NA()),NA())","v":{"$error":"#REF!"}},{"$f":"IF(#REF!=$E$1,IF(#REF!=$G$1,#REF!,NA()),NA())","v":{"$error":"#REF!"}},{"$f":"IF(#REF!=$E$1,IF(#REF!=$G$1,IF(#REF!=\"\",NA(),#REF!),NA()),NA())","v":{"$error":"#REF!"}},{"$f":"IF(#REF!=$E$1,IF(#REF!=$G$1,IF(#REF!=\"\",NA(),#REF!),NA()),NA())","v":{"$error":"#REF!"}},{"$error":"#REF!"},{"$error":"#REF!"}]
[null,null,null,{"$f":"IF(#REF!=$E$1,IF(#REF!=$G$1,#REF!,NA()),NA())","v":{"$error":"#REF!"}},{"$f":"IF(#REF!=$E$1,IF(#REF!=$G$1,#REF!,NA()),NA())","v":{"$error":"#REF!"}},{"$f":"IF(#REF!=$E$1,IF(#REF!=$G$1,IF(#REF!=\"\",NA(),#REF!),NA()),NA())","v":{"$error":"#REF!"}},{"$f":"IF(#REF!=$E$1,IF(#REF!=$G$1,IF(#REF!=\"\",NA(),#REF!),NA()),NA())","v":{"$error":"#REF!"}},{"$error":"#REF!"},{"$error":"#REF!"}]
[null,null,null,{"$f":"IF(#REF!=$E$1,IF(#REF!=$G$1,#REF!,NA()),NA())","v":{"$error":"#REF!"}},{"$f":"IF(#REF!=$E$1,IF(#REF!=$G$1,#REF!,NA()),NA())","v":{"$error":"#REF!"}},{"$f":"IF(#REF!=$E$1,IF(#REF!=$G$1,IF(#REF!=\"\",NA(),#REF!),NA()),NA())","v":{"$error":"#REF!"}},{"$f":"IF(#REF!=$E$1,IF(#REF!=$G$1,IF(#REF!=\"\",NA(),#REF!),NA()),NA())","v":{"$error":"#REF!"}},{"$error":"#REF!"},{"$error":"#REF!"}]
[null,null,null,{"$f":"IF(#REF!=$E$1,IF(#REF!=$G$1,#REF!,NA()),NA())","v":{"$error":"#REF!"}},{"$f":"IF(#REF!=$E$1,IF(#REF!=$G$1,#REF!,NA()),NA())","v":{"$error":"#REF!"}},{"$f":"IF(#REF!=$E$1,IF(#REF!=$G$1,IF(#REF!=\"\",NA(),#REF!),NA()),NA())","v":{"$error":"#REF!"}},{"$f":"IF(#REF!=$E$1,IF(#REF!=$G$1,IF(#REF!=\"\",NA(),#REF!),NA()),NA())","v":{"$error":"#REF!"}},{"$error":"#REF!"},{"$error":"#REF!"}]
[null,null,null,{"$f":"IF(#REF!=$E$1,IF(#REF!=$G$1,#REF!,NA()),NA())","v":{"$error":"#REF!"}},{"$f":"IF(#REF!=$E$1,IF(#REF!=$G$1,#REF!,NA()),NA())","v":{"$error":"#REF!"}},{"$f":"IF(#REF!=$E$1,IF(#REF!=$G$1,IF(#REF!=\"\",NA(),#REF!),NA()),NA())","v":{"$error":"#REF!"}},{"$f":"IF(#REF!=$E$1,IF(#REF!=$G$1,IF(#REF!=\"\",NA(),#REF!),NA()),NA())","v":{"$error":"#REF!"}},{"$error":"#REF!"},{"$error":"#REF!"}]
[null,null,null,{"$f":"IF(#REF!=$E$1,IF(#REF!=$G$1,#REF!,NA()),NA())","v":{"$error":"#REF!"}},{"$f":"IF(#REF!=$E$1,IF(#REF!=$G$1,#REF!,NA()),NA())","v":{"$error":"#REF!"}},{"$f":"IF(#REF!=$E$1,IF(#REF!=$G$1,IF(#REF!=\"\",NA(),#REF!),NA()),NA())","v":{"$error":"#REF!"}},{"$f":"IF(#REF!=$E$1,IF(#REF!=$G$1,IF(#REF!=\"\",NA(),#REF!),NA()),NA())","v":{"$error":"#REF!"}},{"$error":"#REF!"},{"$error":"#REF!"}]
[null,null,null,{"$f":"IF(#REF!=$E$1,IF(#REF!=$G$1,#REF!,NA()),NA())","v":{"$error":"#REF!"}},{"$f":"IF(#REF!=$E$1,IF(#REF!=$G$1,#REF!,NA()),NA())","v":{"$error":"#REF!"}},{"$f":"IF(#REF!=$E$1,IF(#REF!=$G$1,IF(#REF!=\"\",NA(),#REF!),NA()),NA())","v":{"$error":"#REF!"}},{"$f":"IF(#REF!=$E$1,IF(#REF!=$G$1,IF(#REF!=\"\",NA(),#REF!),NA()),NA())","v":{"$error":"#REF!"}},{"$error":"#REF!"},{"$error":"#REF!"}]
[null,null,null,{"$f":"IF(#REF!=$E$1,IF(#REF!=$G$1,#REF!,NA()),NA())","v":{"$error":"#REF!"}},{"$f":"IF(#REF!=$E$1,IF(#REF!=$G$1,#REF!,NA()),NA())","v":{"$error":"#REF!"}},{"$f":"IF(#REF!=$E$1,IF(#REF!=$G$1,IF(#REF!=\"\",NA(),#REF!),NA()),NA())","v":{"$error":"#REF!"}},{"$f":"IF(#REF!=$E$1,IF(#REF!=$G$1,IF(#REF!=\"\",NA(),#REF!),NA()),NA())","v":{"$error":"#REF!"}},{"$error":"#REF!"},{"$error":"#REF!"}]
[null,null,null,{"$f":"IF(#REF!=$E$1,IF(#REF!=$G$1,#REF!,NA()),NA())","v":{"$error":"#REF!"}},{"$f":"IF(#REF!=$E$1,IF(#REF!=$G$1,#REF!,NA()),NA())","v":{"$error":"#REF!"}},{"$f":"IF(#REF!=$E$1,IF(#REF!=$G$1,IF(#REF!=\"\",NA(),#REF!),NA()),NA())","v":{"$error":"#REF!"}},{"$f":"IF(#REF!=$E$1,IF(#REF!=$G$1,IF(#REF!=\"\",NA(),#REF!),NA()),NA())","v":{"$error":"#REF!"}},{"$error":"#REF!"},{"$error":"#REF!"}]
[null,null,null,{"$f":"IF(#REF!=$E$1,IF(#REF!=$G$1,#REF!,NA()),NA())","v":{"$error":"#REF!"}},{"$f":"IF(#REF!=$E$1,IF(#REF!=$G$1,#REF!,NA()),NA())","v":{"$error":"#REF!"}},{"$f":"IF(#REF!=$E$1,IF(#REF!=$G$1,IF(#REF!=\"\",NA(),#REF!),NA()),NA())","v":{"$error":"#REF!"}},{"$f":"IF(#REF!=$E$1,IF(#REF!=$G$1,IF(#REF!=\"\",NA(),#REF!),NA()),NA())","v":{"$error":"#REF!"}},{"$error":"#REF!"},{"$error":"#REF!"}]
[null,null,null,{"$f":"IF(#REF!=$E$1,IF(#REF!=$G$1,#REF!,NA()),NA())","v":{"$error":"#REF!"}},{"$f":"IF(#REF!=$E$1,IF(#REF!=$G$1,#REF!,NA()),NA())","v":{"$error":"#REF!"}},{"$f":"IF(#REF!=$E$1,IF(#REF!=$G$1,IF(#REF!=\"\",NA(),#REF!),NA()),NA())","v":{"$error":"#REF!"}},{"$f":"IF(#REF!=$E$1,IF(#REF!=$G$1,IF(#REF!=\"\",NA(),#REF!),NA()),NA())","v":{"$error":"#REF!"}},{"$error":"#REF!"},{"$error":"#REF!"}]
[null,null,null,{"$f":"IF(#REF!=$E$1,IF(#REF!=$G$1,#REF!,NA()),NA())","v":{"$error":"#REF!"}},{"$f":"IF(#REF!=$E$1,IF(#REF!=$G$1,#REF!,NA()),NA())","v":{"$error":"#REF!"}},{"$f":"IF(#REF!=$E$1,IF(#REF!=$G$1,IF(#REF!=\"\",NA(),#REF!),NA()),NA())","v":{"$error":"#REF!"}},{"$f":"IF(#REF!=$E$1,IF(#REF!=$G$1,IF(#REF!=\"\",NA(),#REF!),NA()),NA())","v":{"$error":"#REF!"}},{"$error":"#REF!"},{"$error":"#REF!"}]
[null,null,null,{"$f":"IF(#REF!=$E$1,IF(#REF!=$G$1,#REF!,NA()),NA())","v":{"$error":"#REF!"}},{"$f":"IF(#REF!=$E$1,IF(#REF!=$G$1,#REF!,NA()),NA())","v":{"$error":"#REF!"}},{"$f":"IF(#REF!=$E$1,IF(#REF!=$G$1,IF(#REF!=\"\",NA(),#REF!),NA()),NA())","v":{"$error":"#REF!"}},{"$f":"IF(#REF!=$E$1,IF(#REF!=$G$1,IF(#REF!=\"\",NA(),#REF!),NA()),NA())","v":{"$error":"#REF!"}},{"$error":"#REF!"},{"$error":"#REF!"}]
[null,null,null,{"$f":"IF(#REF!=$E$1,IF(#REF!=$G$1,#REF!,NA()),NA())","v":{"$error":"#REF!"}},{"$f":"IF(#REF!=$E$1,IF(#REF!=$G$1,#REF!,NA()),NA())","v":{"$error":"#REF!"}},{"$f":"IF(#REF!=$E$1,IF(#REF!=$G$1,IF(#REF!=\"\",NA(),#REF!),NA()),NA())","v":{"$error":"#REF!"}},{"$f":"IF(#REF!=$E$1,IF(#REF!=$G$1,IF(#REF!=\"\",NA(),#REF!),NA()),NA())","v":{"$error":"#REF!"}},{"$error":"#REF!"},{"$error":"#REF!"}]
[null,null,null,{"$f":"IF(#REF!=$E$1,IF(#REF!=$G$1,#REF!,NA()),NA())","v":{"$error":"#REF!"}},{"$f":"IF(#REF!=$E$1,IF(#REF!=$G$1,#REF!,NA()),NA())","v":{"$error":"#REF!"}},{"$f":"IF(#REF!=$E$1,IF(#REF!=$G$1,IF(#REF!=\"\",NA(),#REF!),NA()),NA())","v":{"$error":"#REF!"}},{"$f":"IF(#REF!=$E$1,IF(#REF!=$G$1,IF(#REF!=\"\",NA(),#REF!),NA()),NA())","v":{"$error":"#REF!"}},{"$error":"#REF!"},{"$error":"#REF!"}]
[null,null,null,{"$f":"IF(#REF!=$E$1,IF(#REF!=$G$1,#REF!,NA()),NA())","v":{"$error":"#REF!"}},{"$f":"IF(#REF!=$E$1,IF(#REF!=$G$1,#REF!,NA()),NA())","v":{"$error":"#REF!"}},{"$f":"IF(#REF!=$E$1,IF(#REF!=$G$1,IF(#REF!=\"\",NA(),#REF!),NA()),NA())","v":{"$error":"#REF!"}},{"$f":"IF(#REF!=$E$1,IF(#REF!=$G$1,IF(#REF!=\"\",NA(),#REF!),NA()),NA())","v":{"$error":"#REF!"}},{"$error":"#REF!"},{"$error":"#REF!"}]
[null,null,null,{"$f":"IF(#REF!=$E$1,IF(#REF!=$G$1,#REF!,NA()),NA())","v":{"$error":"#REF!"}},{"$f":"IF(#REF!=$E$1,IF(#REF!=$G$1,#REF!,NA()),NA())","v":{"$error":"#REF!"}},{"$f":"IF(#REF!=$E$1,IF(#REF!=$G$1,IF(#REF!=\"\",NA(),#REF!),NA()),NA())","v":{"$error":"#REF!"}},{"$f":"IF(#REF!=$E$1,IF(#REF!=$G$1,IF(#REF!=\"\",NA(),#REF!),NA()),NA())","v":{"$error":"#REF!"}},{"$error":"#REF!"},{"$error":"#REF!"}]
[null,null,null,{"$f":"IF(#REF!=$E$1,IF(#REF!=$G$1,#REF!,NA()),NA())","v":{"$error":"#REF!"}},{"$f":"IF(#REF!=$E$1,IF(#REF!=$G$1,#REF!,NA()),NA())","v":{"$error":"#REF!"}},{"$f":"IF(#REF!=$E$1,IF(#REF!=$G$1,IF(#REF!=\"\",NA(),#REF!),NA()),NA())","v":{"$error":"#REF!"}},{"$f":"IF(#REF!=$E$1,IF(#REF!=$G$1,IF(#REF!=\"\",NA(),#REF!),NA()),NA())","v":{"$error":"#REF!"}},{"$error":"#REF!"},{"$error":"#REF!"}]
[null,null,null,{"$f":"IF(#REF!=$E$1,IF(#REF!=$G$1,#REF!,NA()),NA())","v":{"$error":"#REF!"}},{"$f":"IF(#REF!=$E$1,IF(#REF!=$G$1,#REF!,NA()),NA())","v":{"$error":"#REF!"}},{"$f":"IF(#REF!=$E$1,IF(#REF!=$G$1,IF(#REF!=\"\",NA(),#REF!),NA()),NA())","v":{"$error":"#REF!"}},{"$f":"IF(#REF!=$E$1,IF(#REF!=$G$1,IF(#REF!=\"\",NA(),#REF!),NA()),NA())","v":{"$error":"#REF!"}},{"$error":"#REF!"},{"$error":"#REF!"}]
[null,null,null,{"$f":"IF(#REF!=$E$1,IF(#REF!=$G$1,#REF!,NA()),NA())","v":{"$error":"#REF!"}},{"$f":"IF(#REF!=$E$1,IF(#REF!=$G$1,#REF!,NA()),NA())","v":{"$error":"#REF!"}},{"$f":"IF(#REF!=$E$1,IF(#REF!=$G$1,IF(#REF!=\"\",NA(),#REF!),NA()),NA())","v":{"$error":"#REF!"}},{"$f":"IF(#REF!=$E$1,IF(#REF!=$G$1,IF(#REF!=\"\",NA(),#REF!),NA()),NA())","v":{"$error":"#REF!"}},{"$error":"#REF!"},{"$error":"#REF!"}]
[null,null,null,{"$f":"IF(#REF!=$E$1,IF(#REF!=$G$1,#REF!,NA()),NA())","v":{"$error":"#REF!"}},{"$f":"IF(#REF!=$E$1,IF(#REF!=$G$1,#REF!,NA()),NA())","v":{"$error":"#REF!"}},{"$f":"IF(#REF!=$E$1,IF(#REF!=$G$1,IF(#REF!=\"\",NA(),#REF!),NA()),NA())","v":{"$error":"#REF!"}},{"$f":"IF(#REF!=$E$1,IF(#REF!=$G$1,IF(#REF!=\"\",NA(),#REF!),NA()),NA())","v":{"$error":"#REF!"}},{"$error":"#REF!"},{"$error":"#REF!"}]
[null,null,null,{"$f":"IF(#REF!=$E$1,IF(#REF!=$G$1,#REF!,NA()),NA())","v":{"$error":"#REF!"}},{"$f":"IF(#REF!=$E$1,IF(#REF!=$G$1,#REF!,NA()),NA())","v":{"$error":"#REF!"}},{"$f":"IF(#REF!=$E$1,IF(#REF!=$G$1,IF(#REF!=\"\",NA(),#REF!),NA()),NA())","v":{"$error":"#REF!"}},{"$f":"IF(#REF!=$E$1,IF(#REF!=$G$1,IF(#REF!=\"\",NA(),#REF!),NA()),NA())","v":{"$error":"#REF!"}},{"$error":"#REF!"},{"$error":"#REF!"}]
[null,null,null,{"$f":"IF(#REF!=$E$1,IF(#REF!=$G$1,#REF!,NA()),NA())","v":{"$error":"#REF!"}},{"$f":"IF(#REF!=$E$1,IF(#REF!=$G$1,#REF!,NA()),NA())","v":{"$error":"#REF!"}},{"$f":"IF(#REF!=$E$1,IF(#REF!=$G$1,IF(#REF!=\"\",NA(),#REF!),NA()),NA())","v":{"$error":"#REF!"}},{"$f":"IF(#REF!=$E$1,IF(#REF!=$G$1,IF(#REF!=\"\",NA(),#REF!),NA()),NA())","v":{"$error":"#REF!"}},{"$error":"#REF!"},{"$error":"#REF!"}]
[null,null,null,{"$f":"IF(#REF!=$E$1,IF(#REF!=$G$1,#REF!,NA()),NA())","v":{"$error":"#REF!"}},{"$f":"IF(#REF!=$E$1,IF(#REF!=$G$1,#REF!,NA()),NA())","v":{"$error":"#REF!"}},{"$f":"IF(#REF!=$E$1,IF(#REF!=$G$1,IF(#REF!=\"\",NA(),#REF!),NA()),NA())","v":{"$error":"#REF!"}},{"$f":"IF(#REF!=$E$1,IF(#REF!=$G$1,IF(#REF!=\"\",NA(),#REF!),NA()),NA())","v":{"$error":"#REF!"}},{"$error":"#REF!"},{"$error":"#REF!"}]
[null,null,null,{"$f":"IF(#REF!=$E$1,IF(#REF!=$G$1,#REF!,NA()),NA())","v":{"$error":"#REF!"}},{"$f":"IF(#REF!=$E$1,IF(#REF!=$G$1,#REF!,NA()),NA())","v":{"$error":"#REF!"}},{"$f":"IF(#REF!=$E$1,IF(#REF!=$G$1,IF(#REF!=\"\",NA(),#REF!),NA()),NA())","v":{"$error":"#REF!"}},{"$f":"IF(#REF!=$E$1,IF(#REF!=$G$1,IF(#REF!=\"\",NA(),#REF!),NA()),NA())","v":{"$error":"#REF!"}},{"$error":"#REF!"},{"$error":"#REF!"}]
[null,null,null,{"$f":"IF(#REF!=$E$1,IF(#REF!=$G$1,#REF!,NA()),NA())","v":{"$error":"#REF!"}},{"$f":"IF(#REF!=$E$1,IF(#REF!=$G$1,#REF!,NA()),NA())","v":{"$error":"#REF!"}},{"$f":"IF(#REF!=$E$1,IF(#REF!=$G$1,IF(#REF!=\"\",NA(),#REF!),NA()),NA())","v":{"$error":"#REF!"}},{"$f":"IF(#REF!=$E$1,IF(#REF!=$G$1,IF(#REF!=\"\",NA(),#REF!),NA()),NA())","v":{"$error":"#REF!"}},{"$error":"#REF!"},{"$error":"#REF!"}]
[null,null,null,{"$f":"IF(#REF!=$E$1,IF(#REF!=$G$1,#REF!,NA()),NA())","v":{"$error":"#REF!"}},{"$f":"IF(#REF!=$E$1,IF(#REF!=$G$1,#REF!,NA()),NA())","v":{"$error":"#REF!"}},{"$f":"IF(#REF!=$E$1,IF(#REF!=$G$1,IF(#REF!=\"\",NA(),#REF!),NA()),NA())","v":{"$error":"#REF!"}},{"$f":"IF(#REF!=$E$1,IF(#REF!=$G$1,IF(#REF!=\"\",NA(),#REF!),NA()),NA())","v":{"$error":"#REF!"}},{"$error":"#REF!"},{"$error":"#REF!"}]
[null,null,null,{"$f":"IF(#REF!=$E$1,IF(#REF!=$G$1,#REF!,NA()),NA())","v":{"$error":"#REF!"}},{"$f":"IF(#REF!=$E$1,IF(#REF!=$G$1,#REF!,NA()),NA())","v":{"$error":"#REF!"}},{"$f":"IF(#REF!=$E$1,IF(#REF!=$G$1,IF(#REF!=\"\",NA(),#REF!),NA()),NA())","v":{"$error":"#REF!"}},{"$f":"IF(#REF!=$E$1,IF(#REF!=$G$1,IF(#REF!=\"\",NA(),#REF!),NA()),NA())","v":{"$error":"#REF!"}},{"$error":"#REF!"},{"$error":"#REF!"}]
[null,null,null,{"$f":"IF(#REF!=$E$1,IF(#REF!=$G$1,#REF!,NA()),NA())","v":{"$error":"#REF!"}},{"$f":"IF(#REF!=$E$1,IF(#REF!=$G$1,#REF!,NA()),NA())","v":{"$error":"#REF!"}},{"$f":"IF(#REF!=$E$1,IF(#REF!=$G$1,IF(#REF!=\"\",NA(),#REF!),NA()),NA())","v":{"$error":"#REF!"}},{"$f":"IF(#REF!=$E$1,IF(#REF!=$G$1,IF(#REF!=\"\",NA(),#REF!),NA()),NA())","v":{"$error":"#REF!"}},{"$error":"#REF!"},{"$error":"#REF!"}]
[null,null,null,{"$f":"IF(#REF!=$E$1,IF(#REF!=$G$1,#REF!,NA()),NA())","v":{"$error":"#REF!"}},{"$f":"IF(#REF!=$E$1,IF(#REF!=$G$1,#REF!,NA()),NA())","v":{"$error":"#REF!"}},{"$f":"IF(#REF!=$E$1,IF(#REF!=$G$1,IF(#REF!=\"\",NA(),#REF!),NA()),NA())","v":{"$error":"#REF!"}},{"$f":"IF(#REF!=$E$1,IF(#REF!=$G$1,IF(#REF!=\"\",NA(),#REF!),NA()),NA())","v":{"$error":"#REF!"}},{"$error":"#REF!"},{"$error":"#REF!"}]
[null,null,null,{"$f":"IF(#REF!=$E$1,IF(#REF!=$G$1,#REF!,NA()),NA())","v":{"$error":"#REF!"}},{"$f":"IF(#REF!=$E$1,IF(#REF!=$G$1,#REF!,NA()),NA())","v":{"$error":"#REF!"}},{"$f":"IF(#REF!=$E$1,IF(#REF!=$G$1,IF(#REF!=\"\",NA(),#REF!),NA()),NA())","v":{"$error":"#REF!"}},{"$f":"IF(#REF!=$E$1,IF(#REF!=$G$1,IF(#REF!=\"\",NA(),#REF!),NA()),NA())","v":{"$error":"#REF!"}},{"$error":"#REF!"},{"$error":"#REF!"}]
[null,null,null,{"$f":"IF(#REF!=$E$1,IF(#REF!=$G$1,#REF!,NA()),NA())","v":{"$error":"#REF!"}},{"$f":"IF(#REF!=$E$1,IF(#REF!=$G$1,#REF!,NA()),NA())","v":{"$error":"#REF!"}},{"$f":"IF(#REF!=$E$1,IF(#REF!=$G$1,IF(#REF!=\"\",NA(),#REF!),NA()),NA())","v":{"$error":"#REF!"}},{"$f":"IF(#REF!=$E$1,IF(#REF!=$G$1,IF(#REF!=\"\",NA(),#REF!),NA()),NA())","v":{"$error":"#REF!"}},{"$error":"#REF!"},{"$error":"#REF!"}]
[null,null,null,{"$f":"IF(#REF!=$E$1,IF(#REF!=$G$1,#REF!,NA()),NA())","v":{"$error":"#REF!"}},{"$f":"IF(#REF!=$E$1,IF(#REF!=$G$1,#REF!,NA()),NA())","v":{"$error":"#REF!"}},{"$f":"IF(#REF!=$E$1,IF(#REF!=$G$1,IF(#REF!=\"\",NA(),#REF!),NA()),NA())","v":{"$error":"#REF!"}},{"$f":"IF(#REF!=$E$1,IF(#REF!=$G$1,IF(#REF!=\"\",NA(),#REF!),NA()),NA())","v":{"$error":"#REF!"}},{"$error":"#REF!"},{"$error":"#REF!"}]
[null,null,null,{"$f":"IF(#REF!=$E$1,IF(#REF!=$G$1,#REF!,NA()),NA())","v":{"$error":"#REF!"}},{"$f":"IF(#REF!=$E$1,IF(#REF!=$G$1,#REF!,NA()),NA())","v":{"$error":"#REF!"}},{"$f":"IF(#REF!=$E$1,IF(#REF!=$G$1,IF(#REF!=\"\",NA(),#REF!),NA()),NA())","v":{"$error":"#REF!"}},{"$f":"IF(#REF!=$E$1,IF(#REF!=$G$1,IF(#REF!=\"\",NA(),#REF!),NA()),NA())","v":{"$error":"#REF!"}},{"$error":"#REF!"},{"$error":"#REF!"}]
[null,null,null,{"$f":"IF(#REF!=$E$1,IF(#REF!=$G$1,#REF!,NA()),NA())","v":{"$error":"#REF!"}},{"$f":"IF(#REF!=$E$1,IF(#REF!=$G$1,#REF!,NA()),NA())","v":{"$error":"#REF!"}},{"$f":"IF(#REF!=$E$1,IF(#REF!=$G$1,IF(#REF!=\"\",NA(),#REF!),NA()),NA())","v":{"$error":"#REF!"}},{"$f":"IF(#REF!=$E$1,IF(#REF!=$G$1,IF(#REF!=\"\",NA(),#REF!),NA()),NA())","v":{"$error":"#REF!"}},{"$error":"#REF!"},{"$error":"#REF!"}]
[null,null,null,{"$f":"IF(#REF!=$E$1,IF(#REF!=$G$1,#REF!,NA()),NA())","v":{"$error":"#REF!"}},{"$f":"IF(#REF!=$E$1,IF(#REF!=$G$1,#REF!,NA()),NA())","v":{"$error":"#REF!"}},{"$f":"IF(#REF!=$E$1,IF(#REF!=$G$1,IF(#REF!=\"\",NA(),#REF!),NA()),NA())","v":{"$error":"#REF!"}},{"$f":"IF(#REF!=$E$1,IF(#REF!=$G$1,IF(#REF!=\"\",NA(),#REF!),NA()),NA())","v":{"$error":"#REF!"}},{"$error":"#REF!"},{"$error":"#REF!"}]
[null,null,null,{"$f":"IF(#REF!=$E$1,IF(#REF!=$G$1,#REF!,NA()),NA())","v":{"$error":"#REF!"}},{"$f":"IF(#REF!=$E$1,IF(#REF!=$G$1,#REF!,NA()),NA())","v":{"$error":"#REF!"}},{"$f":"IF(#REF!=$E$1,IF(#REF!=$G$1,IF(#REF!=\"\",NA(),#REF!),NA()),NA())","v":{"$error":"#REF!"}},{"$f":"IF(#REF!=$E$1,IF(#REF!=$G$1,IF(#REF!=\"\",NA(),#REF!),NA()),NA())","v":{"$error":"#REF!"}},{"$f":"IF(AND(ISNUMBER(G708),F708=\"-\"),0,F708)","v":{"$error":"#REF!"}},{"$f":"IF(AND(ISNUMBER(F708),G708=\"-\"),0,G708)","v":{"$error":"#REF!"}}]
[null,null,null,{"$f":"IF(#REF!=$E$1,IF(#REF!=$G$1,#REF!,NA()),NA())","v":{"$error":"#REF!"}},{"$f":"IF(#REF!=$E$1,IF(#REF!=$G$1,#REF!,NA()),NA())","v":{"$error":"#REF!"}},{"$f":"IF(#REF!=$E$1,IF(#REF!=$G$1,IF(#REF!=\"\",NA(),#REF!),NA()),NA())","v":{"$error":"#REF!"}},{"$f":"IF(#REF!=$E$1,IF(#REF!=$G$1,IF(#REF!=\"\",NA(),#REF!),NA()),NA())","v":{"$error":"#REF!"}},{"$error":"#REF!"},{"$error":"#REF!"}]
[null,null,null,{"$f":"IF(#REF!=$E$1,IF(#REF!=$G$1,#REF!,NA()),NA())","v":{"$error":"#REF!"}},{"$f":"IF(#REF!=$E$1,IF(#REF!=$G$1,#REF!,NA()),NA())","v":{"$error":"#REF!"}},{"$f":"IF(#REF!=$E$1,IF(#REF!=$G$1,IF(#REF!=\"\",NA(),#REF!),NA()),NA())","v":{"$error":"#REF!"}},{"$f":"IF(#REF!=$E$1,IF(#REF!=$G$1,IF(#REF!=\"\",NA(),#REF!),NA()),NA())","v":{"$error":"#REF!"}},{"$error":"#REF!"},{"$error":"#REF!"}]
[null,null,null,{"$f":"IF(#REF!=$E$1,IF(#REF!=$G$1,#REF!,NA()),NA())","v":{"$error":"#REF!"}},{"$f":"IF(#REF!=$E$1,IF(#REF!=$G$1,#REF!,NA()),NA())","v":{"$error":"#REF!"}},{"$f":"IF(#REF!=$E$1,IF(#REF!=$G$1,IF(#REF!=\"\",NA(),#REF!),NA()),NA())","v":{"$error":"#REF!"}},{"$f":"IF(#REF!=$E$1,IF(#REF!=$G$1,IF(#REF!=\"\",NA(),#REF!),NA()),NA())","v":{"$error":"#REF!"}},{"$error":"#REF!"},{"$error":"#REF!"}]
[null,null,null,{"$f":"IF(#REF!=$E$1,IF(#REF!=$G$1,#REF!,NA()),NA())","v":{"$error":"#REF!"}},{"$f":"IF(#REF!=$E$1,IF(#REF!=$G$1,#REF!,NA()),NA())","v":{"$error":"#REF!"}},{"$f":"IF(#REF!=$E$1,IF(#REF!=$G$1,IF(#REF!=\"\",NA(),#REF!),NA()),NA())","v":{"$error":"#REF!"}},{"$f":"IF(#REF!=$E$1,IF(#REF!=$G$1,IF(#REF!=\"\",NA(),#REF!),NA()),NA())","v":{"$error":"#REF!"}},{"$error":"#REF!"},{"$error":"#REF!"}]
[null,null,null,{"$f":"IF(#REF!=$E$1,IF(#REF!=$G$1,#REF!,NA()),NA())","v":{"$error":"#REF!"}},{"$f":"IF(#REF!=$E$1,IF(#REF!=$G$1,#REF!,NA()),NA())","v":{"$error":"#REF!"}},{"$f":"IF(#REF!=$E$1,IF(#REF!=$G$1,IF(#REF!=\"\",NA(),#REF!),NA()),NA())","v":{"$error":"#REF!"}},{"$f":"IF(#REF!=$E$1,IF(#REF!=$G$1,IF(#REF!=\"\",NA(),#REF!),NA()),NA())","v":{"$error":"#REF!"}},{"$error":"#REF!"},{"$error":"#REF!"}]
[null,null,null,{"$f":"IF(#REF!=$E$1,IF(#REF!=$G$1,#REF!,NA()),NA())","v":{"$error":"#REF!"}},{"$f":"IF(#REF!=$E$1,IF(#REF!=$G$1,#REF!,NA()),NA())","v":{"$error":"#REF!"}},{"$f":"IF(#REF!=$E$1,IF(#REF!=$G$1,IF(#REF!=\"\",NA(),#REF!),NA()),NA())","v":{"$error":"#REF!"}},{"$f":"IF(#REF!=$E$1,IF(#REF!=$G$1,IF(#REF!=\"\",NA(),#REF!),NA()),NA())","v":{"$error":"#REF!"}},{"$error":"#REF!"},{"$error":"#REF!"}]
[null,null,null,{"$f":"IF(#REF!=$E$1,IF(#REF!=$G$1,#REF!,NA()),NA())","v":{"$error":"#REF!"}},{"$f":"IF(#REF!=$E$1,IF(#REF!=$G$1,#REF!,NA()),NA())","v":{"$error":"#REF!"}},{"$f":"IF(#REF!=$E$1,IF(#REF!=$G$1,IF(#REF!=\"\",NA(),#REF!),NA()),NA())","v":{"$error":"#REF!"}},{"$f":"IF(#REF!=$E$1,IF(#REF!=$G$1,IF(#REF!=\"\",NA(),#REF!),NA()),NA())","v":{"$error":"#REF!"}},{"$error":"#REF!"},{"$error":"#REF!"}]
[null,null,null,{"$f":"IF(#REF!=$E$1,IF(#REF!=$G$1,#REF!,NA()),NA())","v":{"$error":"#REF!"}},{"$f":"IF(#REF!=$E$1,IF(#REF!=$G$1,#REF!,NA()),NA())","v":{"$error":"#REF!"}},{"$f":"IF(#REF!=$E$1,IF(#REF!=$G$1,IF(#REF!=\"\",NA(),#REF!),NA()),NA())","v":{"$error":"#REF!"}},{"$f":"IF(#REF!=$E$1,IF(#REF!=$G$1,IF(#REF!=\"\",NA(),#REF!),NA()),NA())","v":{"$error":"#REF!"}},{"$error":"#REF!"},{"$error":"#REF!"}]
[null,null,null,{"$f":"IF(#REF!=$E$1,IF(#REF!=$G$1,#REF!,NA()),NA())","v":{"$error":"#REF!"}},{"$f":"IF(#REF!=$E$1,IF(#REF!=$G$1,#REF!,NA()),NA())","v":{"$error":"#REF!"}},{"$f":"IF(#REF!=$E$1,IF(#REF!=$G$1,IF(#REF!=\"\",NA(),#REF!),NA()),NA())","v":{"$error":"#REF!"}},{"$f":"IF(#REF!=$E$1,IF(#REF!=$G$1,IF(#REF!=\"\",NA(),#REF!),NA()),NA())","v":{"$error":"#REF!"}},{"$error":"#REF!"},{"$error":"#REF!"}]
[null,null,null,{"$f":"IF(#REF!=$E$1,IF(#REF!=$G$1,#REF!,NA()),NA())","v":{"$error":"#REF!"}},{"$f":"IF(#REF!=$E$1,IF(#REF!=$G$1,#REF!,NA()),NA())","v":{"$error":"#REF!"}},{"$f":"IF(#REF!=$E$1,IF(#REF!=$G$1,IF(#REF!=\"\",NA(),#REF!),NA()),NA())","v":{"$error":"#REF!"}},{"$f":"IF(#REF!=$E$1,IF(#REF!=$G$1,IF(#REF!=\"\",NA(),#REF!),NA()),NA())","v":{"$error":"#REF!"}},{"$error":"#REF!"},{"$error":"#REF!"}]
[null,null,null,{"$f":"IF(#REF!=$E$1,IF(#REF!=$G$1,#REF!,NA()),NA())","v":{"$error":"#REF!"}},{"$f":"IF(#REF!=$E$1,IF(#REF!=$G$1,#REF!,NA()),NA())","v":{"$error":"#REF!"}},{"$f":"IF(#REF!=$E$1,IF(#REF!=$G$1,IF(#REF!=\"\",NA(),#REF!),NA()),NA())","v":{"$error":"#REF!"}},{"$f":"IF(#REF!=$E$1,IF(#REF!=$G$1,IF(#REF!=\"\",NA(),#REF!),NA()),NA())","v":{"$error":"#REF!"}},{"$error":"#REF!"},{"$error":"#REF!"}]
[null,null,null,{"$f":"IF(#REF!=$E$1,IF(#REF!=$G$1,#REF!,NA()),NA())","v":{"$error":"#REF!"}},{"$f":"IF(#REF!=$E$1,IF(#REF!=$G$1,#REF!,NA()),NA())","v":{"$error":"#REF!"}},{"$f":"IF(#REF!=$E$1,IF(#REF!=$G$1,IF(#REF!=\"\",NA(),#REF!),NA()),NA())","v":{"$error":"#REF!"}},{"$f":"IF(#REF!=$E$1,IF(#REF!=$G$1,IF(#REF!=\"\",NA(),#REF!),NA()),NA())","v":{"$error":"#REF!"}},{"$error":"#REF!"},{"$error":"#REF!"}]
[null,null,null,{"$f":"IF(#REF!=$E$1,IF(#REF!=$G$1,#REF!,NA()),NA())","v":{"$error":"#REF!"}},{"$f":"IF(#REF!=$E$1,IF(#REF!=$G$1,#REF!,NA()),NA())","v":{"$error":"#REF!"}},{"$f":"IF(#REF!=$E$1,IF(#REF!=$G$1,IF(#REF!=\"\",NA(),#REF!),NA()),NA())","v":{"$error":"#REF!"}},{"$f":"IF(#REF!=$E$1,IF(#REF!=$G$1,IF(#REF!=\"\",NA(),#REF!),NA()),NA())","v":{"$error":"#REF!"}},{"$error":"#REF!"},{"$error":"#REF!"}]
[null,null,null,{"$f":"IF(#REF!=$E$1,IF(#REF!=$G$1,#REF!,NA()),NA())","v":{"$error":"#REF!"}},{"$f":"IF(#REF!=$E$1,IF(#REF!=$G$1,#REF!,NA()),NA())","v":{"$error":"#REF!"}},{"$f":"IF(#REF!=$E$1,IF(#REF!=$G$1,IF(#REF!=\"\",NA(),#REF!),NA()),NA())","v":{"$error":"#REF!"}},{"$f":"IF(#REF!=$E$1,IF(#REF!=$G$1,IF(#REF!=\"\",NA(),#REF!),NA()),NA())","v":{"$error":"#REF!"}},{"$error":"#REF!"},{"$error":"#REF!"}]
[null,null,null,{"$f":"IF(#REF!=$E$1,IF(#REF!=$G$1,#REF!,NA()),NA())","v":{"$error":"#REF!"}},{"$f":"IF(#REF!=$E$1,IF(#REF!=$G$1,#REF!,NA()),NA())","v":{"$error":"#REF!"}},{"$f":"IF(#REF!=$E$1,IF(#REF!=$G$1,IF(#REF!=\"\",NA(),#REF!),NA()),NA())","v":{"$error":"#REF!"}},{"$f":"IF(#REF!=$E$1,IF(#REF!=$G$1,IF(#REF!=\"\",NA(),#REF!),NA()),NA())","v":{"$error":"#REF!"}},{"$error":"#REF!"},{"$error":"#REF!"}]
[null,null,null,{"$f":"IF(#REF!=$E$1,IF(#REF!=$G$1,#REF!,NA()),NA())","v":{"$error":"#REF!"}},{"$f":"IF(#REF!=$E$1,IF(#REF!=$G$1,#REF!,NA()),NA())","v":{"$error":"#REF!"}},{"$f":"IF(#REF!=$E$1,IF(#REF!=$G$1,IF(#REF!=\"\",NA(),#REF!),NA()),NA())","v":{"$error":"#REF!"}},{"$f":"IF(#REF!=$E$1,IF(#REF!=$G$1,IF(#REF!=\"\",NA(),#REF!),NA()),NA())","v":{"$error":"#REF!"}},{"$error":"#REF!"},{"$error":"#REF!"}]
[null,null,null,{"$f":"IF(#REF!=$E$1,IF(#REF!=$G$1,#REF!,NA()),NA())","v":{"$error":"#REF!"}},{"$f":"IF(#REF!=$E$1,IF(#REF!=$G$1,#REF!,NA()),NA())","v":{"$error":"#REF!"}},{"$f":"IF(#REF!=$E$1,IF(#REF!=$G$1,IF(#REF!=\"\",NA(),#REF!),NA()),NA())","v":{"$error":"#REF!"}},{"$f":"IF(#REF!=$E$1,IF(#REF!=$G$1,IF(#REF!=\"\",NA(),#REF!),NA()),NA())","v":{"$error":"#REF!"}},{"$error":"#REF!"},{"$error":"#REF!"}]
[null,null,null,{"$f":"IF(#REF!=$E$1,IF(#REF!=$G$1,#REF!,NA()),NA())","v":{"$error":"#REF!"}},{"$f":"IF(#REF!=$E$1,IF(#REF!=$G$1,#REF!,NA()),NA())","v":{"$error":"#REF!"}},{"$f":"IF(#REF!=$E$1,IF(#REF!=$G$1,IF(#REF!=\"\",NA(),#REF!),NA()),NA())","v":{"$error":"#REF!"}},{"$f":"IF(#REF!=$E$1,IF(#REF!=$G$1,IF(#REF!=\"\",NA(),#REF!),NA()),NA())","v":{"$error":"#REF!"}},{"$error":"#REF!"},{"$error":"#REF!"}]
[null,null,null,{"$f":"IF(#REF!=$E$1,IF(#REF!=$G$1,#REF!,NA()),NA())","v":{"$error":"#REF!"}},{"$f":"IF(#REF!=$E$1,IF(#REF!=$G$1,#REF!,NA()),NA())","v":{"$error":"#REF!"}},{"$f":"IF(#REF!=$E$1,IF(#REF!=$G$1,IF(#REF!=\"\",NA(),#REF!),NA()),NA())","v":{"$error":"#REF!"}},{"$f":"IF(#REF!=$E$1,IF(#REF!=$G$1,IF(#REF!=\"\",NA(),#REF!),NA()),NA())","v":{"$error":"#REF!"}},{"$error":"#REF!"},{"$error":"#REF!"}]
[null,null,null,{"$f":"IF(#REF!=$E$1,IF(#REF!=$G$1,#REF!,NA()),NA())","v":{"$error":"#REF!"}},{"$f":"IF(#REF!=$E$1,IF(#REF!=$G$1,#REF!,NA()),NA())","v":{"$error":"#REF!"}},{"$f":"IF(#REF!=$E$1,IF(#REF!=$G$1,IF(#REF!=\"\",NA(),#REF!),NA()),NA())","v":{"$error":"#REF!"}},{"$f":"IF(#REF!=$E$1,IF(#REF!=$G$1,IF(#REF!=\"\",NA(),#REF!),NA()),NA())","v":{"$error":"#REF!"}},{"$error":"#REF!"},{"$error":"#REF!"}]
[null,null,null,{"$f":"IF(#REF!=$E$1,IF(#REF!=$G$1,#REF!,NA()),NA())","v":{"$error":"#REF!"}},{"$f":"IF(#REF!=$E$1,IF(#REF!=$G$1,#REF!,NA()),NA())","v":{"$error":"#REF!"}},{"$f":"IF(#REF!=$E$1,IF(#REF!=$G$1,IF(#REF!=\"\",NA(),#REF!),NA()),NA())","v":{"$error":"#REF!"}},{"$f":"IF(#REF!=$E$1,IF(#REF!=$G$1,IF(#REF!=\"\",NA(),#REF!),NA()),NA())","v":{"$error":"#REF!"}},{"$error":"#REF!"},{"$error":"#REF!"}]
[null,null,null,{"$f":"IF(#REF!=$E$1,IF(#REF!=$G$1,#REF!,NA()),NA())","v":{"$error":"#REF!"}},{"$f":"IF(#REF!=$E$1,IF(#REF!=$G$1,#REF!,NA()),NA())","v":{"$error":"#REF!"}},{"$f":"IF(#REF!=$E$1,IF(#REF!=$G$1,IF(#REF!=\"\",NA(),#REF!),NA()),NA())","v":{"$error":"#REF!"}},{"$f":"IF(#REF!=$E$1,IF(#REF!=$G$1,IF(#REF!=\"\",NA(),#REF!),NA()),NA())","v":{"$error":"#REF!"}},{"$error":"#REF!"},{"$error":"#REF!"}]
[null,null,null,{"$f":"IF(#REF!=$E$1,IF(#REF!=$G$1,#REF!,NA()),NA())","v":{"$error":"#REF!"}},{"$f":"IF(#REF!=$E$1,IF(#REF!=$G$1,#REF!,NA()),NA())","v":{"$error":"#REF!"}},{"$f":"IF(#REF!=$E$1,IF(#REF!=$G$1,IF(#REF!=\"\",NA(),#REF!),NA()),NA())","v":{"$error":"#REF!"}},{"$f":"IF(#REF!=$E$1,IF(#REF!=$G$1,IF(#REF!=\"\",NA(),#REF!),NA()),NA())","v":{"$error":"#REF!"}},{"$error":"#REF!"},{"$error":"#REF!"}]
[null,null,null,{"$f":"IF(#REF!=$E$1,IF(#REF!=$G$1,#REF!,NA()),NA())","v":{"$error":"#REF!"}},{"$f":"IF(#REF!=$E$1,IF(#REF!=$G$1,#REF!,NA()),NA())","v":{"$error":"#REF!"}},{"$f":"IF(#REF!=$E$1,IF(#REF!=$G$1,IF(#REF!=\"\",NA(),#REF!),NA()),NA())","v":{"$error":"#REF!"}},{"$f":"IF(#REF!=$E$1,IF(#REF!=$G$1,IF(#REF!=\"\",NA(),#REF!),NA()),NA())","v":{"$error":"#REF!"}},{"$error":"#REF!"},{"$error":"#REF!"}]
[null,null,null,{"$f":"IF(#REF!=$E$1,IF(#REF!=$G$1,#REF!,NA()),NA())","v":{"$error":"#REF!"}},{"$f":"IF(#REF!=$E$1,IF(#REF!=$G$1,#REF!,NA()),NA())","v":{"$error":"#REF!"}},{"$f":"IF(#REF!=$E$1,IF(#REF!=$G$1,IF(#REF!=\"\",NA(),#REF!),NA()),NA())","v":{"$error":"#REF!"}},{"$f":"IF(#REF!=$E$1,IF(#REF!=$G$1,IF(#REF!=\"\",NA(),#REF!),NA()),NA())","v":{"$error":"#REF!"}},{"$error":"#REF!"},{"$error":"#REF!"}]
[null,null,null,{"$f":"IF(#REF!=$E$1,IF(#REF!=$G$1,#REF!,NA()),NA())","v":{"$error":"#REF!"}},{"$f":"IF(#REF!=$E$1,IF(#REF!=$G$1,#REF!,NA()),NA())","v":{"$error":"#REF!"}},{"$f":"IF(#REF!=$E$1,IF(#REF!=$G$1,IF(#REF!=\"\",NA(),#REF!),NA()),NA())","v":{"$error":"#REF!"}},{"$f":"IF(#REF!=$E$1,IF(#REF!=$G$1,IF(#REF!=\"\",NA(),#REF!),NA()),NA())","v":{"$error":"#REF!"}},{"$error":"#REF!"},{"$error":"#REF!"}]
[null,null,null,{"$f":"IF(#REF!=$E$1,IF(#REF!=$G$1,#REF!,NA()),NA())","v":{"$error":"#REF!"}},{"$f":"IF(#REF!=$E$1,IF(#REF!=$G$1,#REF!,NA()),NA())","v":{"$error":"#REF!"}},{"$f":"IF(#REF!=$E$1,IF(#REF!=$G$1,IF(#REF!=\"\",NA(),#REF!),NA()),NA())","v":{"$error":"#REF!"}},{"$f":"IF(#REF!=$E$1,IF(#REF!=$G$1,IF(#REF!=\"\",NA(),#REF!),NA()),NA())","v":{"$error":"#REF!"}},{"$error":"#REF!"},{"$error":"#REF!"}]
[null,null,null,{"$f":"IF(#REF!=$E$1,IF(#REF!=$G$1,#REF!,NA()),NA())","v":{"$error":"#REF!"}},{"$f":"IF(#REF!=$E$1,IF(#REF!=$G$1,#REF!,NA()),NA())","v":{"$error":"#REF!"}},{"$f":"IF(#REF!=$E$1,IF(#REF!=$G$1,IF(#REF!=\"\",NA(),#REF!),NA()),NA())","v":{"$error":"#REF!"}},{"$f":"IF(#REF!=$E$1,IF(#REF!=$G$1,IF(#REF!=\"\",NA(),#REF!),NA()),NA())","v":{"$error":"#REF!"}},{"$error":"#REF!"},{"$error":"#REF!"}]
[null,null,null,{"$f":"IF(#REF!=$E$1,IF(#REF!=$G$1,#REF!,NA()),NA())","v":{"$error":"#REF!"}},{"$f":"IF(#REF!=$E$1,IF(#REF!=$G$1,#REF!,NA()),NA())","v":{"$error":"#REF!"}},{"$f":"IF(#REF!=$E$1,IF(#REF!=$G$1,IF(#REF!=\"\",NA(),#REF!),NA()),NA())","v":{"$error":"#REF!"}},{"$f":"IF(#REF!=$E$1,IF(#REF!=$G$1,IF(#REF!=\"\",NA(),#REF!),NA()),NA())","v":{"$error":"#REF!"}},{"$error":"#REF!"},{"$error":"#REF!"}]
[null,null,null,{"$f":"IF(#REF!=$E$1,IF(#REF!=$G$1,#REF!,NA()),NA())","v":{"$error":"#REF!"}},{"$f":"IF(#REF!=$E$1,IF(#REF!=$G$1,#REF!,NA()),NA())","v":{"$error":"#REF!"}},{"$f":"IF(#REF!=$E$1,IF(#REF!=$G$1,IF(#REF!=\"\",NA(),#REF!),NA()),NA())","v":{"$error":"#REF!"}},{"$f":"IF(#REF!=$E$1,IF(#REF!=$G$1,IF(#REF!=\"\",NA(),#REF!),NA()),NA())","v":{"$error":"#REF!"}},{"$error":"#REF!"},{"$error":"#REF!"}]
[null,null,null,{"$f":"IF(#REF!=$E$1,IF(#REF!=$G$1,#REF!,NA()),NA())","v":{"$error":"#REF!"}},{"$f":"IF(#REF!=$E$1,IF(#REF!=$G$1,#REF!,NA()),NA())","v":{"$error":"#REF!"}},{"$f":"IF(#REF!=$E$1,IF(#REF!=$G$1,IF(#REF!=\"\",NA(),#REF!),NA()),NA())","v":{"$error":"#REF!"}},{"$f":"IF(#REF!=$E$1,IF(#REF!=$G$1,IF(#REF!=\"\",NA(),#REF!),NA()),NA())","v":{"$error":"#REF!"}},{"$error":"#REF!"},{"$error":"#REF!"}]
[null,null,null,{"$f":"IF(#REF!=$E$1,IF(#REF!=$G$1,#REF!,NA()),NA())","v":{"$error":"#REF!"}},{"$f":"IF(#REF!=$E$1,IF(#REF!=$G$1,#REF!,NA()),NA())","v":{"$error":"#REF!"}},{"$f":"IF(#REF!=$E$1,IF(#REF!=$G$1,IF(#REF!=\"\",NA(),#REF!),NA()),NA())","v":{"$error":"#REF!"}},{"$f":"IF(#REF!=$E$1,IF(#REF!=$G$1,IF(#REF!=\"\",NA(),#REF!),NA()),NA())","v":{"$error":"#REF!"}},{"$error":"#REF!"},{"$error":"#REF!"}]
[null,null,null,{"$f":"IF(#REF!=$E$1,IF(#REF!=$G$1,#REF!,NA()),NA())","v":{"$error":"#REF!"}},{"$f":"IF(#REF!=$E$1,IF(#REF!=$G$1,#REF!,NA()),NA())","v":{"$error":"#REF!"}},{"$f":"IF(#REF!=$E$1,IF(#REF!=$G$1,IF(#REF!=\"\",NA(),#REF!),NA()),NA())","v":{"$error":"#REF!"}},{"$f":"IF(#REF!=$E$1,IF(#REF!=$G$1,IF(#REF!=\"\",NA(),#REF!),NA()),NA())","v":{"$error":"#REF!"}},{"$error":"#REF!"},{"$error":"#REF!"}]
[null,null,null,{"$f":"IF(#REF!=$E$1,IF(#REF!=$G$1,#REF!,NA()),NA())","v":{"$error":"#REF!"}},{"$f":"IF(#REF!=$E$1,IF(#REF!=$G$1,#REF!,NA()),NA())","v":{"$error":"#REF!"}},{"$f":"IF(#REF!=$E$1,IF(#REF!=$G$1,IF(#REF!=\"\",NA(),#REF!),NA()),NA())","v":{"$error":"#REF!"}},{"$f":"IF(#REF!=$E$1,IF(#REF!=$G$1,IF(#REF!=\"\",NA(),#REF!),NA()),NA())","v":{"$error":"#REF!"}},{"$error":"#REF!"},{"$error":"#REF!"}]
[null,null,null,{"$f":"IF(#REF!=$E$1,IF(#REF!=$G$1,#REF!,NA()),NA())","v":{"$error":"#REF!"}},{"$f":"IF(#REF!=$E$1,IF(#REF!=$G$1,#REF!,NA()),NA())","v":{"$error":"#REF!"}},{"$f":"IF(#REF!=$E$1,IF(#REF!=$G$1,IF(#REF!=\"\",NA(),#REF!),NA()),NA())","v":{"$error":"#REF!"}},{"$f":"IF(#REF!=$E$1,IF(#REF!=$G$1,IF(#REF!=\"\",NA(),#REF!),NA()),NA())","v":{"$error":"#REF!"}},{"$error":"#REF!"},{"$error":"#REF!"}]
[null,null,null,{"$f":"IF(#REF!=$E$1,IF(#REF!=$G$1,#REF!,NA()),NA())","v":{"$error":"#REF!"}},{"$f":"IF(#REF!=$E$1,IF(#REF!=$G$1,#REF!,NA()),NA())","v":{"$error":"#REF!"}},{"$f":"IF(#REF!=$E$1,IF(#REF!=$G$1,IF(#REF!=\"\",NA(),#REF!),NA()),NA())","v":{"$error":"#REF!"}},{"$f":"IF(#REF!=$E$1,IF(#REF!=$G$1,IF(#REF!=\"\",NA(),#REF!),NA()),NA())","v":{"$error":"#REF!"}},{"$error":"#REF!"},{"$error":"#REF!"}]
[null,null,null,{"$f":"IF(#REF!=$E$1,IF(#REF!=$G$1,#REF!,NA()),NA())","v":{"$error":"#REF!"}},{"$f":"IF(#REF!=$E$1,IF(#REF!=$G$1,#REF!,NA()),NA())","v":{"$error":"#REF!"}},{"$f":"IF(#REF!=$E$1,IF(#REF!=$G$1,IF(#REF!=\"\",NA(),#REF!),NA()),NA())","v":{"$error":"#REF!"}},{"$f":"IF(#REF!=$E$1,IF(#REF!=$G$1,IF(#REF!=\"\",NA(),#REF!),NA()),NA())","v":{"$error":"#REF!"}},{"$error":"#REF!"},{"$error":"#REF!"}]
[null,null,null,{"$f":"IF(#REF!=$E$1,IF(#REF!=$G$1,#REF!,NA()),NA())","v":{"$error":"#REF!"}},{"$f":"IF(#REF!=$E$1,IF(#REF!=$G$1,#REF!,NA()),NA())","v":{"$error":"#REF!"}},{"$f":"IF(#REF!=$E$1,IF(#REF!=$G$1,IF(#REF!=\"\",NA(),#REF!),NA()),NA())","v":{"$error":"#REF!"}},{"$f":"IF(#REF!=$E$1,IF(#REF!=$G$1,IF(#REF!=\"\",NA(),#REF!),NA()),NA())","v":{"$error":"#REF!"}},{"$error":"#REF!"},{"$error":"#REF!"}]
[null,null,null,{"$f":"IF(#REF!=$E$1,IF(#REF!=$G$1,#REF!,NA()),NA())","v":{"$error":"#REF!"}},{"$f":"IF(#REF!=$E$1,IF(#REF!=$G$1,#REF!,NA()),NA())","v":{"$error":"#REF!"}},{"$f":"IF(#REF!=$E$1,IF(#REF!=$G$1,IF(#REF!=\"\",NA(),#REF!),NA()),NA())","v":{"$error":"#REF!"}},{"$f":"IF(#REF!=$E$1,IF(#REF!=$G$1,IF(#REF!=\"\",NA(),#REF!),NA()),NA())","v":{"$error":"#REF!"}},{"$error":"#REF!"},{"$error":"#REF!"}]
[null,null,null,{"$f":"IF(#REF!=$E$1,IF(#REF!=$G$1,#REF!,NA()),NA())","v":{"$error":"#REF!"}},{"$f":"IF(#REF!=$E$1,IF(#REF!=$G$1,#REF!,NA()),NA())","v":{"$error":"#REF!"}},{"$f":"IF(#REF!=$E$1,IF(#REF!=$G$1,IF(#REF!=\"\",NA(),#REF!),NA()),NA())","v":{"$error":"#REF!"}},{"$f":"IF(#REF!=$E$1,IF(#REF!=$G$1,IF(#REF!=\"\",NA(),#REF!),NA()),NA())","v":{"$error":"#REF!"}},{"$error":"#REF!"},{"$error":"#REF!"}]
[null,null,null,{"$f":"IF(#REF!=$E$1,IF(#REF!=$G$1,#REF!,NA()),NA())","v":{"$error":"#REF!"}},{"$f":"IF(#REF!=$E$1,IF(#REF!=$G$1,#REF!,NA()),NA())","v":{"$error":"#REF!"}},{"$f":"IF(#REF!=$E$1,IF(#REF!=$G$1,IF(#REF!=\"\",NA(),#REF!),NA()),NA())","v":{"$error":"#REF!"}},{"$f":"IF(#REF!=$E$1,IF(#REF!=$G$1,IF(#REF!=\"\",NA(),#REF!),NA()),NA())","v":{"$error":"#REF!"}},{"$error":"#REF!"},{"$error":"#REF!"}]
[null,null,null,{"$f":"IF(#REF!=$E$1,IF(#REF!=$G$1,#REF!,NA()),NA())","v":{"$error":"#REF!"}},{"$f":"IF(#REF!=$E$1,IF(#REF!=$G$1,#REF!,NA()),NA())","v":{"$error":"#REF!"}},{"$f":"IF(#REF!=$E$1,IF(#REF!=$G$1,IF(#REF!=\"\",NA(),#REF!),NA()),NA())","v":{"$error":"#REF!"}},{"$f":"IF(#REF!=$E$1,IF(#REF!=$G$1,IF(#REF!=\"\",NA(),#REF!),NA()),NA())","v":{"$error":"#REF!"}},{"$error":"#REF!"},{"$error":"#REF!"}]
[null,null,null,{"$f":"IF(#REF!=$E$1,IF(#REF!=$G$1,#REF!,NA()),NA())","v":{"$error":"#REF!"}},{"$f":"IF(#REF!=$E$1,IF(#REF!=$G$1,#REF!,NA()),NA())","v":{"$error":"#REF!"}},{"$f":"IF(#REF!=$E$1,IF(#REF!=$G$1,IF(#REF!=\"\",NA(),#REF!),NA()),NA())","v":{"$error":"#REF!"}},{"$f":"IF(#REF!=$E$1,IF(#REF!=$G$1,IF(#REF!=\"\",NA(),#REF!),NA()),NA())","v":{"$error":"#REF!"}},{"$error":"#REF!"},{"$error":"#REF!"}]
[null,null,null,{"$f":"IF(#REF!=$E$1,IF(#REF!=$G$1,#REF!,NA()),NA())","v":{"$error":"#REF!"}},{"$f":"IF(#REF!=$E$1,IF(#REF!=$G$1,#REF!,NA()),NA())","v":{"$error":"#REF!"}},{"$f":"IF(#REF!=$E$1,IF(#REF!=$G$1,IF(#REF!=\"\",NA(),#REF!),NA()),NA())","v":{"$error":"#REF!"}},{"$f":"IF(#REF!=$E$1,IF(#REF!=$G$1,IF(#REF!=\"\",NA(),#REF!),NA()),NA())","v":{"$error":"#REF!"}},{"$error":"#REF!"},{"$error":"#REF!"}]
[null,null,null,{"$f":"IF(#REF!=$E$1,IF(#REF!=$G$1,#REF!,NA()),NA())","v":{"$error":"#REF!"}},{"$f":"IF(#REF!=$E$1,IF(#REF!=$G$1,#REF!,NA()),NA())","v":{"$error":"#REF!"}},{"$f":"IF(#REF!=$E$1,IF(#REF!=$G$1,IF(#REF!=\"\",NA(),#REF!),NA()),NA())","v":{"$error":"#REF!"}},{"$f":"IF(#REF!=$E$1,IF(#REF!=$G$1,IF(#REF!=\"\",NA(),#REF!),NA()),NA())","v":{"$error":"#REF!"}},{"$error":"#REF!"},{"$error":"#REF!"}]
[null,null,null,{"$f":"IF(#REF!=$E$1,IF(#REF!=$G$1,#REF!,NA()),NA())","v":{"$error":"#REF!"}},{"$f":"IF(#REF!=$E$1,IF(#REF!=$G$1,#REF!,NA()),NA())","v":{"$error":"#REF!"}},{"$f":"IF(#REF!=$E$1,IF(#REF!=$G$1,IF(#REF!=\"\",NA(),#REF!),NA()),NA())","v":{"$error":"#REF!"}},{"$f":"IF(#REF!=$E$1,IF(#REF!=$G$1,IF(#REF!=\"\",NA(),#REF!),NA()),NA())","v":{"$error":"#REF!"}},{"$error":"#REF!"},{"$error":"#REF!"}]
[null,null,null,{"$f":"IF(#REF!=$E$1,IF(#REF!=$G$1,#REF!,NA()),NA())","v":{"$error":"#REF!"}},{"$f":"IF(#REF!=$E$1,IF(#REF!=$G$1,#REF!,NA()),NA())","v":{"$error":"#REF!"}},{"$f":"IF(#REF!=$E$1,IF(#REF!=$G$1,IF(#REF!=\"\",NA(),#REF!),NA()),NA())","v":{"$error":"#REF!"}},{"$f":"IF(#REF!=$E$1,IF(#REF!=$G$1,IF(#REF!=\"\",NA(),#REF!),NA()),NA())","v":{"$error":"#REF!"}},{"$error":"#REF!"},{"$error":"#REF!"}]
[null,null,null,{"$f":"IF(#REF!=$E$1,IF(#REF!=$G$1,#REF!,NA()),NA())","v":{"$error":"#REF!"}},{"$f":"IF(#REF!=$E$1,IF(#REF!=$G$1,#REF!,NA()),NA())","v":{"$error":"#REF!"}},{"$f":"IF(#REF!=$E$1,IF(#REF!=$G$1,IF(#REF!=\"\",NA(),#REF!),NA()),NA())","v":{"$error":"#REF!"}},{"$f":"IF(#REF!=$E$1,IF(#REF!=$G$1,IF(#REF!=\"\",NA(),#REF!),NA()),NA())","v":{"$error":"#REF!"}},{"$error":"#REF!"},{"$error":"#REF!"}]
[null,null,null,{"$f":"IF(#REF!=$E$1,IF(#REF!=$G$1,#REF!,NA()),NA())","v":{"$error":"#REF!"}},{"$f":"IF(#REF!=$E$1,IF(#REF!=$G$1,#REF!,NA()),NA())","v":{"$error":"#REF!"}},{"$f":"IF(#REF!=$E$1,IF(#REF!=$G$1,IF(#REF!=\"\",NA(),#REF!),NA()),NA())","v":{"$error":"#REF!"}},{"$f":"IF(#REF!=$E$1,IF(#REF!=$G$1,IF(#REF!=\"\",NA(),#REF!),NA()),NA())","v":{"$error":"#REF!"}},{"$error":"#REF!"},{"$error":"#REF!"}]
[null,null,null,{"$f":"IF(#REF!=$E$1,IF(#REF!=$G$1,#REF!,NA()),NA())","v":{"$error":"#REF!"}},{"$f":"IF(#REF!=$E$1,IF(#REF!=$G$1,#REF!,NA()),NA())","v":{"$error":"#REF!"}},{"$f":"IF(#REF!=$E$1,IF(#REF!=$G$1,IF(#REF!=\"\",NA(),#REF!),NA()),NA())","v":{"$error":"#REF!"}},{"$f":"IF(#REF!=$E$1,IF(#REF!=$G$1,IF(#REF!=\"\",NA(),#REF!),NA()),NA())","v":{"$error":"#REF!"}},{"$error":"#REF!"},{"$error":"#REF!"}]
[null,null,null,{"$f":"IF(#REF!=$E$1,IF(#REF!=$G$1,#REF!,NA()),NA())","v":{"$error":"#REF!"}},{"$f":"IF(#REF!=$E$1,IF(#REF!=$G$1,#REF!,NA()),NA())","v":{"$error":"#REF!"}},{"$f":"IF(#REF!=$E$1,IF(#REF!=$G$1,IF(#REF!=\"\",NA(),#REF!),NA()),NA())","v":{"$error":"#REF!"}},{"$f":"IF(#REF!=$E$1,IF(#REF!=$G$1,IF(#REF!=\"\",NA(),#REF!),NA()),NA())","v":{"$error":"#REF!"}},{"$error":"#REF!"},{"$error":"#REF!"}]
[null,null,null,{"$f":"IF(#REF!=$E$1,IF(#REF!=$G$1,#REF!,NA()),NA())","v":{"$error":"#REF!"}},{"$f":"IF(#REF!=$E$1,IF(#REF!=$G$1,#REF!,NA()),NA())","v":{"$error":"#REF!"}},{"$f":"IF(#REF!=$E$1,IF(#REF!=$G$1,IF(#REF!=\"\",NA(),#REF!),NA()),NA())","v":{"$error":"#REF!"}},{"$f":"IF(#REF!=$E$1,IF(#REF!=$G$1,IF(#REF!=\"\",NA(),#REF!),NA()),NA())","v":{"$error":"#REF!"}},{"$error":"#REF!"},{"$error":"#REF!"}]
[null,null,null,{"$f":"IF(#REF!=$E$1,IF(#REF!=$G$1,#REF!,NA()),NA())","v":{"$error":"#REF!"}},{"$f":"IF(#REF!=$E$1,IF(#REF!=$G$1,#REF!,NA()),NA())","v":{"$error":"#REF!"}},{"$f":"IF(#REF!=$E$1,IF(#REF!=$G$1,IF(#REF!=\"\",NA(),#REF!),NA()),NA())","v":{"$error":"#REF!"}},{"$f":"IF(#REF!=$E$1,IF(#REF!=$G$1,IF(#REF!=\"\",NA(),#REF!),NA()),NA())","v":{"$error":"#REF!"}},{"$error":"#REF!"},{"$error":"#REF!"}]
[null,null,null,{"$f":"IF(#REF!=$E$1,IF(#REF!=$G$1,#REF!,NA()),NA())","v":{"$error":"#REF!"}},{"$f":"IF(#REF!=$E$1,IF(#REF!=$G$1,#REF!,NA()),NA())","v":{"$error":"#REF!"}},{"$f":"IF(#REF!=$E$1,IF(#REF!=$G$1,IF(#REF!=\"\",NA(),#REF!),NA()),NA())","v":{"$error":"#REF!"}},{"$f":"IF(#REF!=$E$1,IF(#REF!=$G$1,IF(#REF!=\"\",NA(),#REF!),NA()),NA())","v":{"$error":"#REF!"}},{"$error":"#REF!"},{"$error":"#REF!"}]
[null,null,null,{"$f":"IF(#REF!=$E$1,IF(#REF!=$G$1,#REF!,NA()),NA())","v":{"$error":"#REF!"}},{"$f":"IF(#REF!=$E$1,IF(#REF!=$G$1,#REF!,NA()),NA())","v":{"$error":"#REF!"}},{"$f":"IF(#REF!=$E$1,IF(#REF!=$G$1,IF(#REF!=\"\",NA(),#REF!),NA()),NA())","v":{"$error":"#REF!"}},{"$f":"IF(#REF!=$E$1,IF(#REF!=$G$1,IF(#REF!=\"\",NA(),#REF!),NA()),NA())","v":{"$error":"#REF!"}},{"$error":"#REF!"},{"$error":"#REF!"}]
[null,null,null,{"$f":"IF(#REF!=$E$1,IF(#REF!=$G$1,#REF!,NA()),NA())","v":{"$error":"#REF!"}},{"$f":"IF(#REF!=$E$1,IF(#REF!=$G$1,#REF!,NA()),NA())","v":{"$error":"#REF!"}},{"$f":"IF(#REF!=$E$1,IF(#REF!=$G$1,IF(#REF!=\"\",NA(),#REF!),NA()),NA())","v":{"$error":"#REF!"}},{"$f":"IF(#REF!=$E$1,IF(#REF!=$G$1,IF(#REF!=\"\",NA(),#REF!),NA()),NA())","v":{"$error":"#REF!"}},{"$error":"#REF!"},{"$error":"#REF!"}]
[null,null,null,{"$f":"IF(#REF!=$E$1,IF(#REF!=$G$1,#REF!,NA()),NA())","v":{"$error":"#REF!"}},{"$f":"IF(#REF!=$E$1,IF(#REF!=$G$1,#REF!,NA()),NA())","v":{"$error":"#REF!"}},{"$f":"IF(#REF!=$E$1,IF(#REF!=$G$1,IF(#REF!=\"\",NA(),#REF!),NA()),NA())","v":{"$error":"#REF!"}},{"$f":"IF(#REF!=$E$1,IF(#REF!=$G$1,IF(#REF!=\"\",NA(),#REF!),NA()),NA())","v":{"$error":"#REF!"}},{"$error":"#REF!"},{"$error":"#REF!"}]
[null,null,null,{"$f":"IF(#REF!=$E$1,IF(#REF!=$G$1,#REF!,NA()),NA())","v":{"$error":"#REF!"}},{"$f":"IF(#REF!=$E$1,IF(#REF!=$G$1,#REF!,NA()),NA())","v":{"$error":"#REF!"}},{"$f":"IF(#REF!=$E$1,IF(#REF!=$G$1,IF(#REF!=\"\",NA(),#REF!),NA()),NA())","v":{"$error":"#REF!"}},{"$f":"IF(#REF!=$E$1,IF(#REF!=$G$1,IF(#REF!=\"\",NA(),#REF!),NA()),NA())","v":{"$error":"#REF!"}},{"$error":"#REF!"},{"$error":"#REF!"}]
[null,null,null,{"$f":"IF(#REF!=$E$1,IF(#REF!=$G$1,#REF!,NA()),NA())","v":{"$error":"#REF!"}},{"$f":"IF(#REF!=$E$1,IF(#REF!=$G$1,#REF!,NA()),NA())","v":{"$error":"#REF!"}},{"$f":"IF(#REF!=$E$1,IF(#REF!=$G$1,IF(#REF!=\"\",NA(),#REF!),NA()),NA())","v":{"$error":"#REF!"}},{"$f":"IF(#REF!=$E$1,IF(#REF!=$G$1,IF(#REF!=\"\",NA(),#REF!),NA()),NA())","v":{"$error":"#REF!"}},{"$error":"#REF!"},{"$error":"#REF!"}]
[null,null,null,{"$f":"IF(#REF!=$E$1,IF(#REF!=$G$1,#REF!,NA()),NA())","v":{"$error":"#REF!"}},{"$f":"IF(#REF!=$E$1,IF(#REF!=$G$1,#REF!,NA()),NA())","v":{"$error":"#REF!"}},{"$f":"IF(#REF!=$E$1,IF(#REF!=$G$1,IF(#REF!=\"\",NA(),#REF!),NA()),NA())","v":{"$error":"#REF!"}},{"$f":"IF(#REF!=$E$1,IF(#REF!=$G$1,IF(#REF!=\"\",NA(),#REF!),NA()),NA())","v":{"$error":"#REF!"}},{"$error":"#REF!"},{"$error":"#REF!"}]
[null,null,null,{"$f":"IF(#REF!=$E$1,IF(#REF!=$G$1,#REF!,NA()),NA())","v":{"$error":"#REF!"}},{"$f":"IF(#REF!=$E$1,IF(#REF!=$G$1,#REF!,NA()),NA())","v":{"$error":"#REF!"}},{"$f":"IF(#REF!=$E$1,IF(#REF!=$G$1,IF(#REF!=\"\",NA(),#REF!),NA()),NA())","v":{"$error":"#REF!"}},{"$f":"IF(#REF!=$E$1,IF(#REF!=$G$1,IF(#REF!=\"\",NA(),#REF!),NA()),NA())","v":{"$error":"#REF!"}},{"$error":"#REF!"},{"$error":"#REF!"}]
[null,null,null,{"$f":"IF(#REF!=$E$1,IF(#REF!=$G$1,#REF!,NA()),NA())","v":{"$error":"#REF!"}},{"$f":"IF(#REF!=$E$1,IF(#REF!=$G$1,#REF!,NA()),NA())","v":{"$error":"#REF!"}},{"$f":"IF(#REF!=$E$1,IF(#REF!=$G$1,IF(#REF!=\"\",NA(),#REF!),NA()),NA())","v":{"$error":"#REF!"}},{"$f":"IF(#REF!=$E$1,IF(#REF!=$G$1,IF(#REF!=\"\",NA(),#REF!),NA()),NA())","v":{"$error":"#REF!"}},{"$error":"#REF!"},{"$error":"#REF!"}]
[null,null,null,{"$f":"IF(#REF!=$E$1,IF(#REF!=$G$1,#REF!,NA()),NA())","v":{"$error":"#REF!"}},{"$f":"IF(#REF!=$E$1,IF(#REF!=$G$1,#REF!,NA()),NA())","v":{"$error":"#REF!"}},{"$f":"IF(#REF!=$E$1,IF(#REF!=$G$1,IF(#REF!=\"\",NA(),#REF!),NA()),NA())","v":{"$error":"#REF!"}},{"$f":"IF(#REF!=$E$1,IF(#REF!=$G$1,IF(#REF!=\"\",NA(),#REF!),NA()),NA())","v":{"$error":"#REF!"}},{"$error":"#REF!"},{"$error":"#REF!"}]
[null,null,null,{"$f":"IF(#REF!=$E$1,IF(#REF!=$G$1,#REF!,NA()),NA())","v":{"$error":"#REF!"}},{"$f":"IF(#REF!=$E$1,IF(#REF!=$G$1,#REF!,NA()),NA())","v":{"$error":"#REF!"}},{"$f":"IF(#REF!=$E$1,IF(#REF!=$G$1,IF(#REF!=\"\",NA(),#REF!),NA()),NA())","v":{"$error":"#REF!"}},{"$f":"IF(#REF!=$E$1,IF(#REF!=$G$1,IF(#REF!=\"\",NA(),#REF!),NA()),NA())","v":{"$error":"#REF!"}},{"$f":"IF(AND(ISNUMBER(G772),F772=\"-\"),0,F772)","v":{"$error":"#REF!"}},{"$f":"IF(AND(ISNUMBER(F772),G772=\"-\"),0,G772)","v":{"$error":"#REF!"}}]
[null,null,null,{"$f":"IF(#REF!=$E$1,IF(#REF!=$G$1,#REF!,NA()),NA())","v":{"$error":"#REF!"}},{"$f":"IF(#REF!=$E$1,IF(#REF!=$G$1,#REF!,NA()),NA())","v":{"$error":"#REF!"}},{"$f":"IF(#REF!=$E$1,IF(#REF!=$G$1,IF(#REF!=\"\",NA(),#REF!),NA()),NA())","v":{"$error":"#REF!"}},{"$f":"IF(#REF!=$E$1,IF(#REF!=$G$1,IF(#REF!=\"\",NA(),#REF!),NA()),NA())","v":{"$error":"#REF!"}},{"$error":"#REF!"},{"$error":"#REF!"}]
[null,null,null,{"$f":"IF(#REF!=$E$1,IF(#REF!=$G$1,#REF!,NA()),NA())","v":{"$error":"#REF!"}},{"$f":"IF(#REF!=$E$1,IF(#REF!=$G$1,#REF!,NA()),NA())","v":{"$error":"#REF!"}},{"$f":"IF(#REF!=$E$1,IF(#REF!=$G$1,IF(#REF!=\"\",NA(),#REF!),NA()),NA())","v":{"$error":"#REF!"}},{"$f":"IF(#REF!=$E$1,IF(#REF!=$G$1,IF(#REF!=\"\",NA(),#REF!),NA()),NA())","v":{"$error":"#REF!"}},{"$error":"#REF!"},{"$error":"#REF!"}]
[null,null,null,{"$f":"IF(#REF!=$E$1,IF(#REF!=$G$1,#REF!,NA()),NA())","v":{"$error":"#REF!"}},{"$f":"IF(#REF!=$E$1,IF(#REF!=$G$1,#REF!,NA()),NA())","v":{"$error":"#REF!"}},{"$f":"IF(#REF!=$E$1,IF(#REF!=$G$1,IF(#REF!=\"\",NA(),#REF!),NA()),NA())","v":{"$error":"#REF!"}},{"$f":"IF(#REF!=$E$1,IF(#REF!=$G$1,IF(#REF!=\"\",NA(),#REF!),NA()),NA())","v":{"$error":"#REF!"}},{"$error":"#REF!"},{"$error":"#REF!"}]
[null,null,null,{"$f":"IF(#REF!=$E$1,IF(#REF!=$G$1,#REF!,NA()),NA())","v":{"$error":"#REF!"}},{"$f":"IF(#REF!=$E$1,IF(#REF!=$G$1,#REF!,NA()),NA())","v":{"$error":"#REF!"}},{"$f":"IF(#REF!=$E$1,IF(#REF!=$G$1,IF(#REF!=\"\",NA(),#REF!),NA()),NA())","v":{"$error":"#REF!"}},{"$f":"IF(#REF!=$E$1,IF(#REF!=$G$1,IF(#REF!=\"\",NA(),#REF!),NA()),NA())","v":{"$error":"#REF!"}},{"$error":"#REF!"},{"$error":"#REF!"}]
[null,null,null,{"$f":"IF(#REF!=$E$1,IF(#REF!=$G$1,#REF!,NA()),NA())","v":{"$error":"#REF!"}},{"$f":"IF(#REF!=$E$1,IF(#REF!=$G$1,#REF!,NA()),NA())","v":{"$error":"#REF!"}},{"$f":"IF(#REF!=$E$1,IF(#REF!=$G$1,IF(#REF!=\"\",NA(),#REF!),NA()),NA())","v":{"$error":"#REF!"}},{"$f":"IF(#REF!=$E$1,IF(#REF!=$G$1,IF(#REF!=\"\",NA(),#REF!),NA()),NA())","v":{"$error":"#REF!"}},{"$error":"#REF!"},{"$error":"#REF!"}]
[null,null,null,{"$f":"IF(#REF!=$E$1,IF(#REF!=$G$1,#REF!,NA()),NA())","v":{"$error":"#REF!"}},{"$f":"IF(#REF!=$E$1,IF(#REF!=$G$1,#REF!,NA()),NA())","v":{"$error":"#REF!"}},{"$f":"IF(#REF!=$E$1,IF(#REF!=$G$1,IF(#REF!=\"\",NA(),#REF!),NA()),NA())","v":{"$error":"#REF!"}},{"$f":"IF(#REF!=$E$1,IF(#REF!=$G$1,IF(#REF!=\"\",NA(),#REF!),NA()),NA())","v":{"$error":"#REF!"}},{"$error":"#REF!"},{"$error":"#REF!"}]
[null,null,null,{"$f":"IF(#REF!=$E$1,IF(#REF!=$G$1,#REF!,NA()),NA())","v":{"$error":"#REF!"}},{"$f":"IF(#REF!=$E$1,IF(#REF!=$G$1,#REF!,NA()),NA())","v":{"$error":"#REF!"}},{"$f":"IF(#REF!=$E$1,IF(#REF!=$G$1,IF(#REF!=\"\",NA(),#REF!),NA()),NA())","v":{"$error":"#REF!"}},{"$f":"IF(#REF!=$E$1,IF(#REF!=$G$1,IF(#REF!=\"\",NA(),#REF!),NA()),NA())","v":{"$error":"#REF!"}},{"$error":"#REF!"},{"$error":"#REF!"}]
[null,null,null,{"$f":"IF(#REF!=$E$1,IF(#REF!=$G$1,#REF!,NA()),NA())","v":{"$error":"#REF!"}},{"$f":"IF(#REF!=$E$1,IF(#REF!=$G$1,#REF!,NA()),NA())","v":{"$error":"#REF!"}},{"$f":"IF(#REF!=$E$1,IF(#REF!=$G$1,IF(#REF!=\"\",NA(),#REF!),NA()),NA())","v":{"$error":"#REF!"}},{"$f":"IF(#REF!=$E$1,IF(#REF!=$G$1,IF(#REF!=\"\",NA(),#REF!),NA()),NA())","v":{"$error":"#REF!"}},{"$error":"#REF!"},{"$error":"#REF!"}]
[null,null,null,{"$f":"IF(#REF!=$E$1,IF(#REF!=$G$1,#REF!,NA()),NA())","v":{"$error":"#REF!"}},{"$f":"IF(#REF!=$E$1,IF(#REF!=$G$1,#REF!,NA()),NA())","v":{"$error":"#REF!"}},{"$f":"IF(#REF!=$E$1,IF(#REF!=$G$1,IF(#REF!=\"\",NA(),#REF!),NA()),NA())","v":{"$error":"#REF!"}},{"$f":"IF(#REF!=$E$1,IF(#REF!=$G$1,IF(#REF!=\"\",NA(),#REF!),NA()),NA())","v":{"$error":"#REF!"}},{"$error":"#REF!"},{"$error":"#REF!"}]
[null,null,null,{"$f":"IF(#REF!=$E$1,IF(#REF!=$G$1,#REF!,NA()),NA())","v":{"$error":"#REF!"}},{"$f":"IF(#REF!=$E$1,IF(#REF!=$G$1,#REF!,NA()),NA())","v":{"$error":"#REF!"}},{"$f":"IF(#REF!=$E$1,IF(#REF!=$G$1,IF(#REF!=\"\",NA(),#REF!),NA()),NA())","v":{"$error":"#REF!"}},{"$f":"IF(#REF!=$E$1,IF(#REF!=$G$1,IF(#REF!=\"\",NA(),#REF!),NA()),NA())","v":{"$error":"#REF!"}},{"$error":"#REF!"},{"$error":"#REF!"}]
[null,null,null,{"$f":"IF(#REF!=$E$1,IF(#REF!=$G$1,#REF!,NA()),NA())","v":{"$error":"#REF!"}},{"$f":"IF(#REF!=$E$1,IF(#REF!=$G$1,#REF!,NA()),NA())","v":{"$error":"#REF!"}},{"$f":"IF(#REF!=$E$1,IF(#REF!=$G$1,IF(#REF!=\"\",NA(),#REF!),NA()),NA())","v":{"$error":"#REF!"}},{"$f":"IF(#REF!=$E$1,IF(#REF!=$G$1,IF(#REF!=\"\",NA(),#REF!),NA()),NA())","v":{"$error":"#REF!"}},{"$error":"#REF!"},{"$error":"#REF!"}]
[null,null,null,{"$f":"IF(#REF!=$E$1,IF(#REF!=$G$1,#REF!,NA()),NA())","v":{"$error":"#REF!"}},{"$f":"IF(#REF!=$E$1,IF(#REF!=$G$1,#REF!,NA()),NA())","v":{"$error":"#REF!"}},{"$f":"IF(#REF!=$E$1,IF(#REF!=$G$1,IF(#REF!=\"\",NA(),#REF!),NA()),NA())","v":{"$error":"#REF!"}},{"$f":"IF(#REF!=$E$1,IF(#REF!=$G$1,IF(#REF!=\"\",NA(),#REF!),NA()),NA())","v":{"$error":"#REF!"}},{"$error":"#REF!"},{"$error":"#REF!"}]
[null,null,null,{"$f":"IF(#REF!=$E$1,IF(#REF!=$G$1,#REF!,NA()),NA())","v":{"$error":"#REF!"}},{"$f":"IF(#REF!=$E$1,IF(#REF!=$G$1,#REF!,NA()),NA())","v":{"$error":"#REF!"}},{"$f":"IF(#REF!=$E$1,IF(#REF!=$G$1,IF(#REF!=\"\",NA(),#REF!),NA()),NA())","v":{"$error":"#REF!"}},{"$f":"IF(#REF!=$E$1,IF(#REF!=$G$1,IF(#REF!=\"\",NA(),#REF!),NA()),NA())","v":{"$error":"#REF!"}},{"$error":"#REF!"},{"$error":"#REF!"}]
[null,null,null,{"$f":"IF(#REF!=$E$1,IF(#REF!=$G$1,#REF!,NA()),NA())","v":{"$error":"#REF!"}},{"$f":"IF(#REF!=$E$1,IF(#REF!=$G$1,#REF!,NA()),NA())","v":{"$error":"#REF!"}},{"$f":"IF(#REF!=$E$1,IF(#REF!=$G$1,IF(#REF!=\"\",NA(),#REF!),NA()),NA())","v":{"$error":"#REF!"}},{"$f":"IF(#REF!=$E$1,IF(#REF!=$G$1,IF(#REF!=\"\",NA(),#REF!),NA()),NA())","v":{"$error":"#REF!"}},{"$error":"#REF!"},{"$error":"#REF!"}]
[null,null,null,{"$f":"IF(#REF!=$E$1,IF(#REF!=$G$1,#REF!,NA()),NA())","v":{"$error":"#REF!"}},{"$f":"IF(#REF!=$E$1,IF(#REF!=$G$1,#REF!,NA()),NA())","v":{"$error":"#REF!"}},{"$f":"IF(#REF!=$E$1,IF(#REF!=$G$1,IF(#REF!=\"\",NA(),#REF!),NA()),NA())","v":{"$error":"#REF!"}},{"$f":"IF(#REF!=$E$1,IF(#REF!=$G$1,IF(#REF!=\"\",NA(),#REF!),NA()),NA())","v":{"$error":"#REF!"}},{"$error":"#REF!"},{"$error":"#REF!"}]
[null,null,null,{"$f":"IF(#REF!=$E$1,IF(#REF!=$G$1,#REF!,NA()),NA())","v":{"$error":"#REF!"}},{"$f":"IF(#REF!=$E$1,IF(#REF!=$G$1,#REF!,NA()),NA())","v":{"$error":"#REF!"}},{"$f":"IF(#REF!=$E$1,IF(#REF!=$G$1,IF(#REF!=\"\",NA(),#REF!),NA()),NA())","v":{"$error":"#REF!"}},{"$f":"IF(#REF!=$E$1,IF(#REF!=$G$1,IF(#REF!=\"\",NA(),#REF!),NA()),NA())","v":{"$error":"#REF!"}},{"$error":"#REF!"},{"$error":"#REF!"}]
[null,null,null,{"$f":"IF(#REF!=$E$1,IF(#REF!=$G$1,#REF!,NA()),NA())","v":{"$error":"#REF!"}},{"$f":"IF(#REF!=$E$1,IF(#REF!=$G$1,#REF!,NA()),NA())","v":{"$error":"#REF!"}},{"$f":"IF(#REF!=$E$1,IF(#REF!=$G$1,IF(#REF!=\"\",NA(),#REF!),NA()),NA())","v":{"$error":"#REF!"}},{"$f":"IF(#REF!=$E$1,IF(#REF!=$G$1,IF(#REF!=\"\",NA(),#REF!),NA()),NA())","v":{"$error":"#REF!"}},{"$error":"#REF!"},{"$error":"#REF!"}]
[null,null,null,{"$f":"IF(#REF!=$E$1,IF(#REF!=$G$1,#REF!,NA()),NA())","v":{"$error":"#REF!"}},{"$f":"IF(#REF!=$E$1,IF(#REF!=$G$1,#REF!,NA()),NA())","v":{"$error":"#REF!"}},{"$f":"IF(#REF!=$E$1,IF(#REF!=$G$1,IF(#REF!=\"\",NA(),#REF!),NA()),NA())","v":{"$error":"#REF!"}},{"$f":"IF(#REF!=$E$1,IF(#REF!=$G$1,IF(#REF!=\"\",NA(),#REF!),NA()),NA())","v":{"$error":"#REF!"}},{"$error":"#REF!"},{"$error":"#REF!"}]
[null,null,null,{"$f":"IF(#REF!=$E$1,IF(#REF!=$G$1,#REF!,NA()),NA())","v":{"$error":"#REF!"}},{"$f":"IF(#REF!=$E$1,IF(#REF!=$G$1,#REF!,NA()),NA())","v":{"$error":"#REF!"}},{"$f":"IF(#REF!=$E$1,IF(#REF!=$G$1,IF(#REF!=\"\",NA(),#REF!),NA()),NA())","v":{"$error":"#REF!"}},{"$f":"IF(#REF!=$E$1,IF(#REF!=$G$1,IF(#REF!=\"\",NA(),#REF!),NA()),NA())","v":{"$error":"#REF!"}},{"$error":"#REF!"},{"$error":"#REF!"}]
[null,null,null,{"$f":"IF(#REF!=$E$1,IF(#REF!=$G$1,#REF!,NA()),NA())","v":{"$error":"#REF!"}},{"$f":"IF(#REF!=$E$1,IF(#REF!=$G$1,#REF!,NA()),NA())","v":{"$error":"#REF!"}},{"$f":"IF(#REF!=$E$1,IF(#REF!=$G$1,IF(#REF!=\"\",NA(),#REF!),NA()),NA())","v":{"$error":"#REF!"}},{"$f":"IF(#REF!=$E$1,IF(#REF!=$G$1,IF(#REF!=\"\",NA(),#REF!),NA()),NA())","v":{"$error":"#REF!"}},{"$error":"#REF!"},{"$error":"#REF!"}]
[null,null,null,{"$f":"IF(#REF!=$E$1,IF(#REF!=$G$1,#REF!,NA()),NA())","v":{"$error":"#REF!"}},{"$f":"IF(#REF!=$E$1,IF(#REF!=$G$1,#REF!,NA()),NA())","v":{"$error":"#REF!"}},{"$f":"IF(#REF!=$E$1,IF(#REF!=$G$1,IF(#REF!=\"\",NA(),#REF!),NA()),NA())","v":{"$error":"#REF!"}},{"$f":"IF(#REF!=$E$1,IF(#REF!=$G$1,IF(#REF!=\"\",NA(),#REF!),NA()),NA())","v":{"$error":"#REF!"}},{"$error":"#REF!"},{"$error":"#REF!"}]
[null,null,null,{"$f":"IF(#REF!=$E$1,IF(#REF!=$G$1,#REF!,NA()),NA())","v":{"$error":"#REF!"}},{"$f":"IF(#REF!=$E$1,IF(#REF!=$G$1,#REF!,NA()),NA())","v":{"$error":"#REF!"}},{"$f":"IF(#REF!=$E$1,IF(#REF!=$G$1,IF(#REF!=\"\",NA(),#REF!),NA()),NA())","v":{"$error":"#REF!"}},{"$f":"IF(#REF!=$E$1,IF(#REF!=$G$1,IF(#REF!=\"\",NA(),#REF!),NA()),NA())","v":{"$error":"#REF!"}},{"$error":"#REF!"},{"$error":"#REF!"}]
[null,null,null,{"$f":"IF(#REF!=$E$1,IF(#REF!=$G$1,#REF!,NA()),NA())","v":{"$error":"#REF!"}},{"$f":"IF(#REF!=$E$1,IF(#REF!=$G$1,#REF!,NA()),NA())","v":{"$error":"#REF!"}},{"$f":"IF(#REF!=$E$1,IF(#REF!=$G$1,IF(#REF!=\"\",NA(),#REF!),NA()),NA())","v":{"$error":"#REF!"}},{"$f":"IF(#REF!=$E$1,IF(#REF!=$G$1,IF(#REF!=\"\",NA(),#REF!),NA()),NA())","v":{"$error":"#REF!"}},{"$error":"#REF!"},{"$error":"#REF!"}]
[null,null,null,{"$f":"IF(#REF!=$E$1,IF(#REF!=$G$1,#REF!,NA()),NA())","v":{"$error":"#REF!"}},{"$f":"IF(#REF!=$E$1,IF(#REF!=$G$1,#REF!,NA()),NA())","v":{"$error":"#REF!"}},{"$f":"IF(#REF!=$E$1,IF(#REF!=$G$1,IF(#REF!=\"\",NA(),#REF!),NA()),NA())","v":{"$error":"#REF!"}},{"$f":"IF(#REF!=$E$1,IF(#REF!=$G$1,IF(#REF!=\"\",NA(),#REF!),NA()),NA())","v":{"$error":"#REF!"}},{"$error":"#REF!"},{"$error":"#REF!"}]
[null,null,null,{"$f":"IF(#REF!=$E$1,IF(#REF!=$G$1,#REF!,NA()),NA())","v":{"$error":"#REF!"}},{"$f":"IF(#REF!=$E$1,IF(#REF!=$G$1,#REF!,NA()),NA())","v":{"$error":"#REF!"}},{"$f":"IF(#REF!=$E$1,IF(#REF!=$G$1,IF(#REF!=\"\",NA(),#REF!),NA()),NA())","v":{"$error":"#REF!"}},{"$f":"IF(#REF!=$E$1,IF(#REF!=$G$1,IF(#REF!=\"\",NA(),#REF!),NA()),NA())","v":{"$error":"#REF!"}},{"$error":"#REF!"},{"$error":"#REF!"}]
[null,null,null,{"$f":"IF(#REF!=$E$1,IF(#REF!=$G$1,#REF!,NA()),NA())","v":{"$error":"#REF!"}},{"$f":"IF(#REF!=$E$1,IF(#REF!=$G$1,#REF!,NA()),NA())","v":{"$error":"#REF!"}},{"$f":"IF(#REF!=$E$1,IF(#REF!=$G$1,IF(#REF!=\"\",NA(),#REF!),NA()),NA())","v":{"$error":"#REF!"}},{"$f":"IF(#REF!=$E$1,IF(#REF!=$G$1,IF(#REF!=\"\",NA(),#REF!),NA()),NA())","v":{"$error":"#REF!"}},{"$error":"#REF!"},{"$error":"#REF!"}]
[null,null,null,{"$f":"IF(#REF!=$E$1,IF(#REF!=$G$1,#REF!,NA()),NA())","v":{"$error":"#REF!"}},{"$f":"IF(#REF!=$E$1,IF(#REF!=$G$1,#REF!,NA()),NA())","v":{"$error":"#REF!"}},{"$f":"IF(#REF!=$E$1,IF(#REF!=$G$1,IF(#REF!=\"\",NA(),#REF!),NA()),NA())","v":{"$error":"#REF!"}},{"$f":"IF(#REF!=$E$1,IF(#REF!=$G$1,IF(#REF!=\"\",NA(),#REF!),NA()),NA())","v":{"$error":"#REF!"}},{"$error":"#REF!"},{"$error":"#REF!"}]
[null,null,null,{"$f":"IF(#REF!=$E$1,IF(#REF!=$G$1,#REF!,NA()),NA())","v":{"$error":"#REF!"}},{"$f":"IF(#REF!=$E$1,IF(#REF!=$G$1,#REF!,NA()),NA())","v":{"$error":"#REF!"}},{"$f":"IF(#REF!=$E$1,IF(#REF!=$G$1,IF(#REF!=\"\",NA(),#REF!),NA()),NA())","v":{"$error":"#REF!"}},{"$f":"IF(#REF!=$E$1,IF(#REF!=$G$1,IF(#REF!=\"\",NA(),#REF!),NA()),NA())","v":{"$error":"#REF!"}},{"$error":"#REF!"},{"$error":"#REF!"}]
[null,null,null,{"$f":"IF(#REF!=$E$1,IF(#REF!=$G$1,#REF!,NA()),NA())","v":{"$error":"#REF!"}},{"$f":"IF(#REF!=$E$1,IF(#REF!=$G$1,#REF!,NA()),NA())","v":{"$error":"#REF!"}},{"$f":"IF(#REF!=$E$1,IF(#REF!=$G$1,IF(#REF!=\"\",NA(),#REF!),NA()),NA())","v":{"$error":"#REF!"}},{"$f":"IF(#REF!=$E$1,IF(#REF!=$G$1,IF(#REF!=\"\",NA(),#REF!),NA()),NA())","v":{"$error":"#REF!"}},{"$error":"#REF!"},{"$error":"#REF!"}]
[null,null,null,{"$f":"IF(#REF!=$E$1,IF(#REF!=$G$1,#REF!,NA()),NA())","v":{"$error":"#REF!"}},{"$f":"IF(#REF!=$E$1,IF(#REF!=$G$1,#REF!,NA()),NA())","v":{"$error":"#REF!"}},{"$f":"IF(#REF!=$E$1,IF(#REF!=$G$1,IF(#REF!=\"\",NA(),#REF!),NA()),NA())","v":{"$error":"#REF!"}},{"$f":"IF(#REF!=$E$1,IF(#REF!=$G$1,IF(#REF!=\"\",NA(),#REF!),NA()),NA())","v":{"$error":"#REF!"}},{"$error":"#REF!"},{"$error":"#REF!"}]
[null,null,null,{"$f":"IF(#REF!=$E$1,IF(#REF!=$G$1,#REF!,NA()),NA())","v":{"$error":"#REF!"}},{"$f":"IF(#REF!=$E$1,IF(#REF!=$G$1,#REF!,NA()),NA())","v":{"$error":"#REF!"}},{"$f":"IF(#REF!=$E$1,IF(#REF!=$G$1,IF(#REF!=\"\",NA(),#REF!),NA()),NA())","v":{"$error":"#REF!"}},{"$f":"IF(#REF!=$E$1,IF(#REF!=$G$1,IF(#REF!=\"\",NA(),#REF!),NA()),NA())","v":{"$error":"#REF!"}},{"$error":"#REF!"},{"$error":"#REF!"}]
[null,null,null,{"$f":"IF(#REF!=$E$1,IF(#REF!=$G$1,#REF!,NA()),NA())","v":{"$error":"#REF!"}},{"$f":"IF(#REF!=$E$1,IF(#REF!=$G$1,#REF!,NA()),NA())","v":{"$error":"#REF!"}},{"$f":"IF(#REF!=$E$1,IF(#REF!=$G$1,IF(#REF!=\"\",NA(),#REF!),NA()),NA())","v":{"$error":"#REF!"}},{"$f":"IF(#REF!=$E$1,IF(#REF!=$G$1,IF(#REF!=\"\",NA(),#REF!),NA()),NA())","v":{"$error":"#REF!"}},{"$error":"#REF!"},{"$error":"#REF!"}]
[null,null,null,{"$f":"IF(#REF!=$E$1,IF(#REF!=$G$1,#REF!,NA()),NA())","v":{"$error":"#REF!"}},{"$f":"IF(#REF!=$E$1,IF(#REF!=$G$1,#REF!,NA()),NA())","v":{"$error":"#REF!"}},{"$f":"IF(#REF!=$E$1,IF(#REF!=$G$1,IF(#REF!=\"\",NA(),#REF!),NA()),NA())","v":{"$error":"#REF!"}},{"$f":"IF(#REF!=$E$1,IF(#REF!=$G$1,IF(#REF!=\"\",NA(),#REF!),NA()),NA())","v":{"$error":"#REF!"}},{"$error":"#REF!"},{"$error":"#REF!"}]
[null,null,null,{"$f":"IF(#REF!=$E$1,IF(#REF!=$G$1,#REF!,NA()),NA())","v":{"$error":"#REF!"}},{"$f":"IF(#REF!=$E$1,IF(#REF!=$G$1,#REF!,NA()),NA())","v":{"$error":"#REF!"}},{"$f":"IF(#REF!=$E$1,IF(#REF!=$G$1,IF(#REF!=\"\",NA(),#REF!),NA()),NA())","v":{"$error":"#REF!"}},{"$f":"IF(#REF!=$E$1,IF(#REF!=$G$1,IF(#REF!=\"\",NA(),#REF!),NA()),NA())","v":{"$error":"#REF!"}},{"$error":"#REF!"},{"$error":"#REF!"}]
[null,null,null,{"$f":"IF(#REF!=$E$1,IF(#REF!=$G$1,#REF!,NA()),NA())","v":{"$error":"#REF!"}},{"$f":"IF(#REF!=$E$1,IF(#REF!=$G$1,#REF!,NA()),NA())","v":{"$error":"#REF!"}},{"$f":"IF(#REF!=$E$1,IF(#REF!=$G$1,IF(#REF!=\"\",NA(),#REF!),NA()),NA())","v":{"$error":"#REF!"}},{"$f":"IF(#REF!=$E$1,IF(#REF!=$G$1,IF(#REF!=\"\",NA(),#REF!),NA()),NA())","v":{"$error":"#REF!"}},{"$error":"#REF!"},{"$error":"#REF!"}]
[null,null,null,{"$f":"IF(#REF!=$E$1,IF(#REF!=$G$1,#REF!,NA()),NA())","v":{"$error":"#REF!"}},{"$f":"IF(#REF!=$E$1,IF(#REF!=$G$1,#REF!,NA()),NA())","v":{"$error":"#REF!"}},{"$f":"IF(#REF!=$E$1,IF(#REF!=$G$1,IF(#REF!=\"\",NA(),#REF!),NA()),NA())","v":{"$error":"#REF!"}},{"$f":"IF(#REF!=$E$1,IF(#REF!=$G$1,IF(#REF!=\"\",NA(),#REF!),NA()),NA())","v":{"$error":"#REF!"}},{"$error":"#REF!"},{"$error":"#REF!"}]
[null,null,null,{"$f":"IF(#REF!=$E$1,IF(#REF!=$G$1,#REF!,NA()),NA())","v":{"$error":"#REF!"}},{"$f":"IF(#REF!=$E$1,IF(#REF!=$G$1,#REF!,NA()),NA())","v":{"$error":"#REF!"}},{"$f":"IF(#REF!=$E$1,IF(#REF!=$G$1,IF(#REF!=\"\",NA(),#REF!),NA()),NA())","v":{"$error":"#REF!"}},{"$f":"IF(#REF!=$E$1,IF(#REF!=$G$1,IF(#REF!=\"\",NA(),#REF!),NA()),NA())","v":{"$error":"#REF!"}},{"$error":"#REF!"},{"$error":"#REF!"}]
[null,null,null,{"$f":"IF(#REF!=$E$1,IF(#REF!=$G$1,#REF!,NA()),NA())","v":{"$error":"#REF!"}},{"$f":"IF(#REF!=$E$1,IF(#REF!=$G$1,#REF!,NA()),NA())","v":{"$error":"#REF!"}},{"$f":"IF(#REF!=$E$1,IF(#REF!=$G$1,IF(#REF!=\"\",NA(),#REF!),NA()),NA())","v":{"$error":"#REF!"}},{"$f":"IF(#REF!=$E$1,IF(#REF!=$G$1,IF(#REF!=\"\",NA(),#REF!),NA()),NA())","v":{"$error":"#REF!"}},{"$error":"#REF!"},{"$error":"#REF!"}]
[null,null,null,{"$f":"IF(#REF!=$E$1,IF(#REF!=$G$1,#REF!,NA()),NA())","v":{"$error":"#REF!"}},{"$f":"IF(#REF!=$E$1,IF(#REF!=$G$1,#REF!,NA()),NA())","v":{"$error":"#REF!"}},{"$f":"IF(#REF!=$E$1,IF(#REF!=$G$1,IF(#REF!=\"\",NA(),#REF!),NA()),NA())","v":{"$error":"#REF!"}},{"$f":"IF(#REF!=$E$1,IF(#REF!=$G$1,IF(#REF!=\"\",NA(),#REF!),NA()),NA())","v":{"$error":"#REF!"}},{"$error":"#REF!"},{"$error":"#REF!"}]
[null,null,null,{"$f":"IF(#REF!=$E$1,IF(#REF!=$G$1,#REF!,NA()),NA())","v":{"$error":"#REF!"}},{"$f":"IF(#REF!=$E$1,IF(#REF!=$G$1,#REF!,NA()),NA())","v":{"$error":"#REF!"}},{"$f":"IF(#REF!=$E$1,IF(#REF!=$G$1,IF(#REF!=\"\",NA(),#REF!),NA()),NA())","v":{"$error":"#REF!"}},{"$f":"IF(#REF!=$E$1,IF(#REF!=$G$1,IF(#REF!=\"\",NA(),#REF!),NA()),NA())","v":{"$error":"#REF!"}},{"$error":"#REF!"},{"$error":"#REF!"}]
[null,null,null,{"$f":"IF(#REF!=$E$1,IF(#REF!=$G$1,#REF!,NA()),NA())","v":{"$error":"#REF!"}},{"$f":"IF(#REF!=$E$1,IF(#REF!=$G$1,#REF!,NA()),NA())","v":{"$error":"#REF!"}},{"$f":"IF(#REF!=$E$1,IF(#REF!=$G$1,IF(#REF!=\"\",NA(),#REF!),NA()),NA())","v":{"$error":"#REF!"}},{"$f":"IF(#REF!=$E$1,IF(#REF!=$G$1,IF(#REF!=\"\",NA(),#REF!),NA()),NA())","v":{"$error":"#REF!"}},{"$error":"#REF!"},{"$error":"#REF!"}]
[null,null,null,{"$f":"IF(#REF!=$E$1,IF(#REF!=$G$1,#REF!,NA()),NA())","v":{"$error":"#REF!"}},{"$f":"IF(#REF!=$E$1,IF(#REF!=$G$1,#REF!,NA()),NA())","v":{"$error":"#REF!"}},{"$f":"IF(#REF!=$E$1,IF(#REF!=$G$1,IF(#REF!=\"\",NA(),#REF!),NA()),NA())","v":{"$error":"#REF!"}},{"$f":"IF(#REF!=$E$1,IF(#REF!=$G$1,IF(#REF!=\"\",NA(),#REF!),NA()),NA())","v":{"$error":"#REF!"}},{"$error":"#REF!"},{"$error":"#REF!"}]
[null,null,null,{"$f":"IF(#REF!=$E$1,IF(#REF!=$G$1,#REF!,NA()),NA())","v":{"$error":"#REF!"}},{"$f":"IF(#REF!=$E$1,IF(#REF!=$G$1,#REF!,NA()),NA())","v":{"$error":"#REF!"}},{"$f":"IF(#REF!=$E$1,IF(#REF!=$G$1,IF(#REF!=\"\",NA(),#REF!),NA()),NA())","v":{"$error":"#REF!"}},{"$f":"IF(#REF!=$E$1,IF(#REF!=$G$1,IF(#REF!=\"\",NA(),#REF!),NA()),NA())","v":{"$error":"#REF!"}},{"$error":"#REF!"},{"$error":"#REF!"}]
[null,null,null,{"$f":"IF(#REF!=$E$1,IF(#REF!=$G$1,#REF!,NA()),NA())","v":{"$error":"#REF!"}},{"$f":"IF(#REF!=$E$1,IF(#REF!=$G$1,#REF!,NA()),NA())","v":{"$error":"#REF!"}},{"$f":"IF(#REF!=$E$1,IF(#REF!=$G$1,IF(#REF!=\"\",NA(),#REF!),NA()),NA())","v":{"$error":"#REF!"}},{"$f":"IF(#REF!=$E$1,IF(#REF!=$G$1,IF(#REF!=\"\",NA(),#REF!),NA()),NA())","v":{"$error":"#REF!"}},{"$error":"#REF!"},{"$error":"#REF!"}]
[null,null,null,{"$f":"IF(#REF!=$E$1,IF(#REF!=$G$1,#REF!,NA()),NA())","v":{"$error":"#REF!"}},{"$f":"IF(#REF!=$E$1,IF(#REF!=$G$1,#REF!,NA()),NA())","v":{"$error":"#REF!"}},{"$f":"IF(#REF!=$E$1,IF(#REF!=$G$1,IF(#REF!=\"\",NA(),#REF!),NA()),NA())","v":{"$error":"#REF!"}},{"$f":"IF(#REF!=$E$1,IF(#REF!=$G$1,IF(#REF!=\"\",NA(),#REF!),NA()),NA())","v":{"$error":"#REF!"}},{"$error":"#REF!"},{"$error":"#REF!"}]
[null,null,null,{"$f":"IF(#REF!=$E$1,IF(#REF!=$G$1,#REF!,NA()),NA())","v":{"$error":"#REF!"}},{"$f":"IF(#REF!=$E$1,IF(#REF!=$G$1,#REF!,NA()),NA())","v":{"$error":"#REF!"}},{"$f":"IF(#REF!=$E$1,IF(#REF!=$G$1,IF(#REF!=\"\",NA(),#REF!),NA()),NA())","v":{"$error":"#REF!"}},{"$f":"IF(#REF!=$E$1,IF(#REF!=$G$1,IF(#REF!=\"\",NA(),#REF!),NA()),NA())","v":{"$error":"#REF!"}},{"$error":"#REF!"},{"$error":"#REF!"}]
[null,null,null,{"$f":"IF(#REF!=$E$1,IF(#REF!=$G$1,#REF!,NA()),NA())","v":{"$error":"#REF!"}},{"$f":"IF(#REF!=$E$1,IF(#REF!=$G$1,#REF!,NA()),NA())","v":{"$error":"#REF!"}},{"$f":"IF(#REF!=$E$1,IF(#REF!=$G$1,IF(#REF!=\"\",NA(),#REF!),NA()),NA())","v":{"$error":"#REF!"}},{"$f":"IF(#REF!=$E$1,IF(#REF!=$G$1,IF(#REF!=\"\",NA(),#REF!),NA()),NA())","v":{"$error":"#REF!"}},{"$error":"#REF!"},{"$error":"#REF!"}]
[null,null,null,{"$f":"IF(#REF!=$E$1,IF(#REF!=$G$1,#REF!,NA()),NA())","v":{"$error":"#REF!"}},{"$f":"IF(#REF!=$E$1,IF(#REF!=$G$1,#REF!,NA()),NA())","v":{"$error":"#REF!"}},{"$f":"IF(#REF!=$E$1,IF(#REF!=$G$1,IF(#REF!=\"\",NA(),#REF!),NA()),NA())","v":{"$error":"#REF!"}},{"$f":"IF(#REF!=$E$1,IF(#REF!=$G$1,IF(#REF!=\"\",NA(),#REF!),NA()),NA())","v":{"$error":"#REF!"}},{"$error":"#REF!"},{"$error":"#REF!"}]
[null,null,null,{"$f":"IF(#REF!=$E$1,IF(#REF!=$G$1,#REF!,NA()),NA())","v":{"$error":"#REF!"}},{"$f":"IF(#REF!=$E$1,IF(#REF!=$G$1,#REF!,NA()),NA())","v":{"$error":"#REF!"}},{"$f":"IF(#REF!=$E$1,IF(#REF!=$G$1,IF(#REF!=\"\",NA(),#REF!),NA()),NA())","v":{"$error":"#REF!"}},{"$f":"IF(#REF!=$E$1,IF(#REF!=$G$1,IF(#REF!=\"\",NA(),#REF!),NA()),NA())","v":{"$error":"#REF!"}},{"$error":"#REF!"},{"$error":"#REF!"}]
[null,null,null,{"$f":"IF(#REF!=$E$1,IF(#REF!=$G$1,#REF!,NA()),NA())","v":{"$error":"#REF!"}},{"$f":"IF(#REF!=$E$1,IF(#REF!=$G$1,#REF!,NA()),NA())","v":{"$error":"#REF!"}},{"$f":"IF(#REF!=$E$1,IF(#REF!=$G$1,IF(#REF!=\"\",NA(),#REF!),NA()),NA())","v":{"$error":"#REF!"}},{"$f":"IF(#REF!=$E$1,IF(#REF!=$G$1,IF(#REF!=\"\",NA(),#REF!),NA()),NA())","v":{"$error":"#REF!"}},{"$error":"#REF!"},{"$error":"#REF!"}]
[null,null,null,{"$f":"IF(#REF!=$E$1,IF(#REF!=$G$1,#REF!,NA()),NA())","v":{"$error":"#REF!"}},{"$f":"IF(#REF!=$E$1,IF(#REF!=$G$1,#REF!,NA()),NA())","v":{"$error":"#REF!"}},{"$f":"IF(#REF!=$E$1,IF(#REF!=$G$1,IF(#REF!=\"\",NA(),#REF!),NA()),NA())","v":{"$error":"#REF!"}},{"$f":"IF(#REF!=$E$1,IF(#REF!=$G$1,IF(#REF!=\"\",NA(),#REF!),NA()),NA())","v":{"$error":"#REF!"}},{"$error":"#REF!"},{"$error":"#REF!"}]
[null,null,null,{"$f":"IF(#REF!=$E$1,IF(#REF!=$G$1,#REF!,NA()),NA())","v":{"$error":"#REF!"}},{"$f":"IF(#REF!=$E$1,IF(#REF!=$G$1,#REF!,NA()),NA())","v":{"$error":"#REF!"}},{"$f":"IF(#REF!=$E$1,IF(#REF!=$G$1,IF(#REF!=\"\",NA(),#REF!),NA()),NA())","v":{"$error":"#REF!"}},{"$f":"IF(#REF!=$E$1,IF(#REF!=$G$1,IF(#REF!=\"\",NA(),#REF!),NA()),NA())","v":{"$error":"#REF!"}},{"$error":"#REF!"},{"$error":"#REF!"}]
[null,null,null,{"$f":"IF(#REF!=$E$1,IF(#REF!=$G$1,#REF!,NA()),NA())","v":{"$error":"#REF!"}},{"$f":"IF(#REF!=$E$1,IF(#REF!=$G$1,#REF!,NA()),NA())","v":{"$error":"#REF!"}},{"$f":"IF(#REF!=$E$1,IF(#REF!=$G$1,IF(#REF!=\"\",NA(),#REF!),NA()),NA())","v":{"$error":"#REF!"}},{"$f":"IF(#REF!=$E$1,IF(#REF!=$G$1,IF(#REF!=\"\",NA(),#REF!),NA()),NA())","v":{"$error":"#REF!"}},{"$error":"#REF!"},{"$error":"#REF!"}]
[null,null,null,{"$f":"IF(#REF!=$E$1,IF(#REF!=$G$1,#REF!,NA()),NA())","v":{"$error":"#REF!"}},{"$f":"IF(#REF!=$E$1,IF(#REF!=$G$1,#REF!,NA()),NA())","v":{"$error":"#REF!"}},{"$f":"IF(#REF!=$E$1,IF(#REF!=$G$1,IF(#REF!=\"\",NA(),#REF!),NA()),NA())","v":{"$error":"#REF!"}},{"$f":"IF(#REF!=$E$1,IF(#REF!=$G$1,IF(#REF!=\"\",NA(),#REF!),NA()),NA())","v":{"$error":"#REF!"}},{"$error":"#REF!"},{"$error":"#REF!"}]
[null,null,null,{"$f":"IF(#REF!=$E$1,IF(#REF!=$G$1,#REF!,NA()),NA())","v":{"$error":"#REF!"}},{"$f":"IF(#REF!=$E$1,IF(#REF!=$G$1,#REF!,NA()),NA())","v":{"$error":"#REF!"}},{"$f":"IF(#REF!=$E$1,IF(#REF!=$G$1,IF(#REF!=\"\",NA(),#REF!),NA()),NA())","v":{"$error":"#REF!"}},{"$f":"IF(#REF!=$E$1,IF(#REF!=$G$1,IF(#REF!=\"\",NA(),#REF!),NA()),NA())","v":{"$error":"#REF!"}},{"$error":"#REF!"},{"$error":"#REF!"}]
[null,null,null,{"$f":"IF(#REF!=$E$1,IF(#REF!=$G$1,#REF!,NA()),NA())","v":{"$error":"#REF!"}},{"$f":"IF(#REF!=$E$1,IF(#REF!=$G$1,#REF!,NA()),NA())","v":{"$error":"#REF!"}},{"$f":"IF(#REF!=$E$1,IF(#REF!=$G$1,IF(#REF!=\"\",NA(),#REF!),NA()),NA())","v":{"$error":"#REF!"}},{"$f":"IF(#REF!=$E$1,IF(#REF!=$G$1,IF(#REF!=\"\",NA(),#REF!),NA()),NA())","v":{"$error":"#REF!"}},{"$error":"#REF!"},{"$error":"#REF!"}]
[null,null,null,{"$f":"IF(#REF!=$E$1,IF(#REF!=$G$1,#REF!,NA()),NA())","v":{"$error":"#REF!"}},{"$f":"IF(#REF!=$E$1,IF(#REF!=$G$1,#REF!,NA()),NA())","v":{"$error":"#REF!"}},{"$f":"IF(#REF!=$E$1,IF(#REF!=$G$1,IF(#REF!=\"\",NA(),#REF!),NA()),NA())","v":{"$error":"#REF!"}},{"$f":"IF(#REF!=$E$1,IF(#REF!=$G$1,IF(#REF!=\"\",NA(),#REF!),NA()),NA())","v":{"$error":"#REF!"}},{"$error":"#REF!"},{"$error":"#REF!"}]
[null,null,null,{"$f":"IF(#REF!=$E$1,IF(#REF!=$G$1,#REF!,NA()),NA())","v":{"$error":"#REF!"}},{"$f":"IF(#REF!=$E$1,IF(#REF!=$G$1,#REF!,NA()),NA())","v":{"$error":"#REF!"}},{"$f":"IF(#REF!=$E$1,IF(#REF!=$G$1,IF(#REF!=\"\",NA(),#REF!),NA()),NA())","v":{"$error":"#REF!"}},{"$f":"IF(#REF!=$E$1,IF(#REF!=$G$1,IF(#REF!=\"\",NA(),#REF!),NA()),NA())","v":{"$error":"#REF!"}},{"$error":"#REF!"},{"$error":"#REF!"}]
[null,null,null,{"$f":"IF(#REF!=$E$1,IF(#REF!=$G$1,#REF!,NA()),NA())","v":{"$error":"#REF!"}},{"$f":"IF(#REF!=$E$1,IF(#REF!=$G$1,#REF!,NA()),NA())","v":{"$error":"#REF!"}},{"$f":"IF(#REF!=$E$1,IF(#REF!=$G$1,IF(#REF!=\"\",NA(),#REF!),NA()),NA())","v":{"$error":"#REF!"}},{"$f":"IF(#REF!=$E$1,IF(#REF!=$G$1,IF(#REF!=\"\",NA(),#REF!),NA()),NA())","v":{"$error":"#REF!"}},{"$error":"#REF!"},{"$error":"#REF!"}]
[null,null,null,{"$f":"IF(#REF!=$E$1,IF(#REF!=$G$1,#REF!,NA()),NA())","v":{"$error":"#REF!"}},{"$f":"IF(#REF!=$E$1,IF(#REF!=$G$1,#REF!,NA()),NA())","v":{"$error":"#REF!"}},{"$f":"IF(#REF!=$E$1,IF(#REF!=$G$1,IF(#REF!=\"\",NA(),#REF!),NA()),NA())","v":{"$error":"#REF!"}},{"$f":"IF(#REF!=$E$1,IF(#REF!=$G$1,IF(#REF!=\"\",NA(),#REF!),NA()),NA())","v":{"$error":"#REF!"}},{"$error":"#REF!"},{"$error":"#REF!"}]
[null,null,null,{"$f":"IF(#REF!=$E$1,IF(#REF!=$G$1,#REF!,NA()),NA())","v":{"$error":"#REF!"}},{"$f":"IF(#REF!=$E$1,IF(#REF!=$G$1,#REF!,NA()),NA())","v":{"$error":"#REF!"}},{"$f":"IF(#REF!=$E$1,IF(#REF!=$G$1,IF(#REF!=\"\",NA(),#REF!),NA()),NA())","v":{"$error":"#REF!"}},{"$f":"IF(#REF!=$E$1,IF(#REF!=$G$1,IF(#REF!=\"\",NA(),#REF!),NA()),NA())","v":{"$error":"#REF!"}},{"$error":"#REF!"},{"$error":"#REF!"}]
[null,null,null,{"$f":"IF(#REF!=$E$1,IF(#REF!=$G$1,#REF!,NA()),NA())","v":{"$error":"#REF!"}},{"$f":"IF(#REF!=$E$1,IF(#REF!=$G$1,#REF!,NA()),NA())","v":{"$error":"#REF!"}},{"$f":"IF(#REF!=$E$1,IF(#REF!=$G$1,IF(#REF!=\"\",NA(),#REF!),NA()),NA())","v":{"$error":"#REF!"}},{"$f":"IF(#REF!=$E$1,IF(#REF!=$G$1,IF(#REF!=\"\",NA(),#REF!),NA()),NA())","v":{"$error":"#REF!"}},{"$error":"#REF!"},{"$error":"#REF!"}]
[null,null,null,{"$f":"IF(#REF!=$E$1,IF(#REF!=$G$1,#REF!,NA()),NA())","v":{"$error":"#REF!"}},{"$f":"IF(#REF!=$E$1,IF(#REF!=$G$1,#REF!,NA()),NA())","v":{"$error":"#REF!"}},{"$f":"IF(#REF!=$E$1,IF(#REF!=$G$1,IF(#REF!=\"\",NA(),#REF!),NA()),NA())","v":{"$error":"#REF!"}},{"$f":"IF(#REF!=$E$1,IF(#REF!=$G$1,IF(#REF!=\"\",NA(),#REF!),NA()),NA())","v":{"$error":"#REF!"}},{"$error":"#REF!"},{"$error":"#REF!"}]
[null,null,null,{"$f":"IF(#REF!=$E$1,IF(#REF!=$G$1,#REF!,NA()),NA())","v":{"$error":"#REF!"}},{"$f":"IF(#REF!=$E$1,IF(#REF!=$G$1,#REF!,NA()),NA())","v":{"$error":"#REF!"}},{"$f":"IF(#REF!=$E$1,IF(#REF!=$G$1,IF(#REF!=\"\",NA(),#REF!),NA()),NA())","v":{"$error":"#REF!"}},{"$f":"IF(#REF!=$E$1,IF(#REF!=$G$1,IF(#REF!=\"\",NA(),#REF!),NA()),NA())","v":{"$error":"#REF!"}},{"$f":"IF(AND(ISNUMBER(G836),F836=\"-\"),0,F836)","v":{"$error":"#REF!"}},{"$f":"IF(AND(ISNUMBER(F836),G836=\"-\"),0,G836)","v":{"$error":"#REF!"}}]
[null,null,null,{"$f":"IF(#REF!=$E$1,IF(#REF!=$G$1,#REF!,NA()),NA())","v":{"$error":"#REF!"}},{"$f":"IF(#REF!=$E$1,IF(#REF!=$G$1,#REF!,NA()),NA())","v":{"$error":"#REF!"}},{"$f":"IF(#REF!=$E$1,IF(#REF!=$G$1,IF(#REF!=\"\",NA(),#REF!),NA()),NA())","v":{"$error":"#REF!"}},{"$f":"IF(#REF!=$E$1,IF(#REF!=$G$1,IF(#REF!=\"\",NA(),#REF!),NA()),NA())","v":{"$error":"#REF!"}},{"$error":"#REF!"},{"$error":"#REF!"}]
[null,null,null,{"$f":"IF(#REF!=$E$1,IF(#REF!=$G$1,#REF!,NA()),NA())","v":{"$error":"#REF!"}},{"$f":"IF(#REF!=$E$1,IF(#REF!=$G$1,#REF!,NA()),NA())","v":{"$error":"#REF!"}},{"$f":"IF(#REF!=$E$1,IF(#REF!=$G$1,IF(#REF!=\"\",NA(),#REF!),NA()),NA())","v":{"$error":"#REF!"}},{"$f":"IF(#REF!=$E$1,IF(#REF!=$G$1,IF(#REF!=\"\",NA(),#REF!),NA()),NA())","v":{"$error":"#REF!"}},{"$error":"#REF!"},{"$error":"#REF!"}]
[null,null,null,{"$f":"IF(#REF!=$E$1,IF(#REF!=$G$1,#REF!,NA()),NA())","v":{"$error":"#REF!"}},{"$f":"IF(#REF!=$E$1,IF(#REF!=$G$1,#REF!,NA()),NA())","v":{"$error":"#REF!"}},{"$f":"IF(#REF!=$E$1,IF(#REF!=$G$1,IF(#REF!=\"\",NA(),#REF!),NA()),NA())","v":{"$error":"#REF!"}},{"$f":"IF(#REF!=$E$1,IF(#REF!=$G$1,IF(#REF!=\"\",NA(),#REF!),NA()),NA())","v":{"$error":"#REF!"}},{"$error":"#REF!"},{"$error":"#REF!"}]
[null,null,null,{"$f":"IF(#REF!=$E$1,IF(#REF!=$G$1,#REF!,NA()),NA())","v":{"$error":"#REF!"}},{"$f":"IF(#REF!=$E$1,IF(#REF!=$G$1,#REF!,NA()),NA())","v":{"$error":"#REF!"}},{"$f":"IF(#REF!=$E$1,IF(#REF!=$G$1,IF(#REF!=\"\",NA(),#REF!),NA()),NA())","v":{"$error":"#REF!"}},{"$f":"IF(#REF!=$E$1,IF(#REF!=$G$1,IF(#REF!=\"\",NA(),#REF!),NA()),NA())","v":{"$error":"#REF!"}},{"$error":"#REF!"},{"$error":"#REF!"}]
[null,null,null,{"$f":"IF(#REF!=$E$1,IF(#REF!=$G$1,#REF!,NA()),NA())","v":{"$error":"#REF!"}},{"$f":"IF(#REF!=$E$1,IF(#REF!=$G$1,#REF!,NA()),NA())","v":{"$error":"#REF!"}},{"$f":"IF(#REF!=$E$1,IF(#REF!=$G$1,IF(#REF!=\"\",NA(),#REF!),NA()),NA())","v":{"$error":"#REF!"}},{"$f":"IF(#REF!=$E$1,IF(#REF!=$G$1,IF(#REF!=\"\",NA(),#REF!),NA()),NA())","v":{"$error":"#REF!"}},{"$error":"#REF!"},{"$error":"#REF!"}]
[null,null,null,{"$f":"IF(#REF!=$E$1,IF(#REF!=$G$1,#REF!,NA()),NA())","v":{"$error":"#REF!"}},{"$f":"IF(#REF!=$E$1,IF(#REF!=$G$1,#REF!,NA()),NA())","v":{"$error":"#REF!"}},{"$f":"IF(#REF!=$E$1,IF(#REF!=$G$1,IF(#REF!=\"\",NA(),#REF!),NA()),NA())","v":{"$error":"#REF!"}},{"$f":"IF(#REF!=$E$1,IF(#REF!=$G$1,IF(#REF!=\"\",NA(),#REF!),NA()),NA())","v":{"$error":"#REF!"}},{"$error":"#REF!"},{"$error":"#REF!"}]
[null,null,null,{"$f":"IF(#REF!=$E$1,IF(#REF!=$G$1,#REF!,NA()),NA())","v":{"$error":"#REF!"}},{"$f":"IF(#REF!=$E$1,IF(#REF!=$G$1,#REF!,NA()),NA())","v":{"$error":"#REF!"}},{"$f":"IF(#REF!=$E$1,IF(#REF!=$G$1,IF(#REF!=\"\",NA(),#REF!),NA()),NA())","v":{"$error":"#REF!"}},{"$f":"IF(#REF!=$E$1,IF(#REF!=$G$1,IF(#REF!=\"\",NA(),#REF!),NA()),NA())","v":{"$error":"#REF!"}},{"$error":"#REF!"},{"$error":"#REF!"}]
[null,null,null,{"$f":"IF(#REF!=$E$1,IF(#REF!=$G$1,#REF!,NA()),NA())","v":{"$error":"#REF!"}},{"$f":"IF(#REF!=$E$1,IF(#REF!=$G$1,#REF!,NA()),NA())","v":{"$error":"#REF!"}},{"$f":"IF(#REF!=$E$1,IF(#REF!=$G$1,IF(#REF!=\"\",NA(),#REF!),NA()),NA())","v":{"$error":"#REF!"}},{"$f":"IF(#REF!=$E$1,IF(#REF!=$G$1,IF(#REF!=\"\",NA(),#REF!),NA()),NA())","v":{"$error":"#REF!"}},{"$error":"#REF!"},{"$error":"#REF!"}]
[null,null,null,{"$f":"IF(#REF!=$E$1,IF(#REF!=$G$1,#REF!,NA()),NA())","v":{"$error":"#REF!"}},{"$f":"IF(#REF!=$E$1,IF(#REF!=$G$1,#REF!,NA()),NA())","v":{"$error":"#REF!"}},{"$f":"IF(#REF!=$E$1,IF(#REF!=$G$1,IF(#REF!=\"\",NA(),#REF!),NA()),NA())","v":{"$error":"#REF!"}},{"$f":"IF(#REF!=$E$1,IF(#REF!=$G$1,IF(#REF!=\"\",NA(),#REF!),NA()),NA())","v":{"$error":"#REF!"}},{"$error":"#REF!"},{"$error":"#REF!"}]
[null,null,null,{"$f":"IF(#REF!=$E$1,IF(#REF!=$G$1,#REF!,NA()),NA())","v":{"$error":"#REF!"}},{"$f":"IF(#REF!=$E$1,IF(#REF!=$G$1,#REF!,NA()),NA())","v":{"$error":"#REF!"}},{"$f":"IF(#REF!=$E$1,IF(#REF!=$G$1,IF(#REF!=\"\",NA(),#REF!),NA()),NA())","v":{"$error":"#REF!"}},{"$f":"IF(#REF!=$E$1,IF(#REF!=$G$1,IF(#REF!=\"\",NA(),#REF!),NA()),NA())","v":{"$error":"#REF!"}},{"$error":"#REF!"},{"$error":"#REF!"}]
[null,null,null,{"$f":"IF(#REF!=$E$1,IF(#REF!=$G$1,#REF!,NA()),NA())","v":{"$error":"#REF!"}},{"$f":"IF(#REF!=$E$1,IF(#REF!=$G$1,#REF!,NA()),NA())","v":{"$error":"#REF!"}},{"$f":"IF(#REF!=$E$1,IF(#REF!=$G$1,IF(#REF!=\"\",NA(),#REF!),NA()),NA())","v":{"$error":"#REF!"}},{"$f":"IF(#REF!=$E$1,IF(#REF!=$G$1,IF(#REF!=\"\",NA(),#REF!),NA()),NA())","v":{"$error":"#REF!"}},{"$error":"#REF!"},{"$error":"#REF!"}]
[null,null,null,{"$f":"IF(#REF!=$E$1,IF(#REF!=$G$1,#REF!,NA()),NA())","v":{"$error":"#REF!"}},{"$f":"IF(#REF!=$E$1,IF(#REF!=$G$1,#REF!,NA()),NA())","v":{"$error":"#REF!"}},{"$f":"IF(#REF!=$E$1,IF(#REF!=$G$1,IF(#REF!=\"\",NA(),#REF!),NA()),NA())","v":{"$error":"#REF!"}},{"$f":"IF(#REF!=$E$1,IF(#REF!=$G$1,IF(#REF!=\"\",NA(),#REF!),NA()),NA())","v":{"$error":"#REF!"}},{"$error":"#REF!"},{"$error":"#REF!"}]
[null,null,null,{"$f":"IF(#REF!=$E$1,IF(#REF!=$G$1,#REF!,NA()),NA())","v":{"$error":"#REF!"}},{"$f":"IF(#REF!=$E$1,IF(#REF!=$G$1,#REF!,NA()),NA())","v":{"$error":"#REF!"}},{"$f":"IF(#REF!=$E$1,IF(#REF!=$G$1,IF(#REF!=\"\",NA(),#REF!),NA()),NA())","v":{"$error":"#REF!"}},{"$f":"IF(#REF!=$E$1,IF(#REF!=$G$1,IF(#REF!=\"\",NA(),#REF!),NA()),NA())","v":{"$error":"#REF!"}},{"$error":"#REF!"},{"$error":"#REF!"}]
[null,null,null,{"$f":"IF(#REF!=$E$1,IF(#REF!=$G$1,#REF!,NA()),NA())","v":{"$error":"#REF!"}},{"$f":"IF(#REF!=$E$1,IF(#REF!=$G$1,#REF!,NA()),NA())","v":{"$error":"#REF!"}},{"$f":"IF(#REF!=$E$1,IF(#REF!=$G$1,IF(#REF!=\"\",NA(),#REF!),NA()),NA())","v":{"$error":"#REF!"}},{"$f":"IF(#REF!=$E$1,IF(#REF!=$G$1,IF(#REF!=\"\",NA(),#REF!),NA()),NA())","v":{"$error":"#REF!"}},{"$error":"#REF!"},{"$error":"#REF!"}]
[null,null,null,{"$f":"IF(#REF!=$E$1,IF(#REF!=$G$1,#REF!,NA()),NA())","v":{"$error":"#REF!"}},{"$f":"IF(#REF!=$E$1,IF(#REF!=$G$1,#REF!,NA()),NA())","v":{"$error":"#REF!"}},{"$f":"IF(#REF!=$E$1,IF(#REF!=$G$1,IF(#REF!=\"\",NA(),#REF!),NA()),NA())","v":{"$error":"#REF!"}},{"$f":"IF(#REF!=$E$1,IF(#REF!=$G$1,IF(#REF!=\"\",NA(),#REF!),NA()),NA())","v":{"$error":"#REF!"}},{"$error":"#REF!"},{"$error":"#REF!"}]
[null,null,null,{"$f":"IF(#REF!=$E$1,IF(#REF!=$G$1,#REF!,NA()),NA())","v":{"$error":"#REF!"}},{"$f":"IF(#REF!=$E$1,IF(#REF!=$G$1,#REF!,NA()),NA())","v":{"$error":"#REF!"}},{"$f":"IF(#REF!=$E$1,IF(#REF!=$G$1,IF(#REF!=\"\",NA(),#REF!),NA()),NA())","v":{"$error":"#REF!"}},{"$f":"IF(#REF!=$E$1,IF(#REF!=$G$1,IF(#REF!=\"\",NA(),#REF!),NA()),NA())","v":{"$error":"#REF!"}},{"$error":"#REF!"},{"$error":"#REF!"}]
[null,null,null,{"$f":"IF(#REF!=$E$1,IF(#REF!=$G$1,#REF!,NA()),NA())","v":{"$error":"#REF!"}},{"$f":"IF(#REF!=$E$1,IF(#REF!=$G$1,#REF!,NA()),NA())","v":{"$error":"#REF!"}},{"$f":"IF(#REF!=$E$1,IF(#REF!=$G$1,IF(#REF!=\"\",NA(),#REF!),NA()),NA())","v":{"$error":"#REF!"}},{"$f":"IF(#REF!=$E$1,IF(#REF!=$G$1,IF(#REF!=\"\",NA(),#REF!),NA()),NA())","v":{"$error":"#REF!"}},{"$error":"#REF!"},{"$error":"#REF!"}]
[null,null,null,{"$f":"IF(#REF!=$E$1,IF(#REF!=$G$1,#REF!,NA()),NA())","v":{"$error":"#REF!"}},{"$f":"IF(#REF!=$E$1,IF(#REF!=$G$1,#REF!,NA()),NA())","v":{"$error":"#REF!"}},{"$f":"IF(#REF!=$E$1,IF(#REF!=$G$1,IF(#REF!=\"\",NA(),#REF!),NA()),NA())","v":{"$error":"#REF!"}},{"$f":"IF(#REF!=$E$1,IF(#REF!=$G$1,IF(#REF!=\"\",NA(),#REF!),NA()),NA())","v":{"$error":"#REF!"}},{"$error":"#REF!"},{"$error":"#REF!"}]
[null,null,null,{"$f":"IF(#REF!=$E$1,IF(#REF!=$G$1,#REF!,NA()),NA())","v":{"$error":"#REF!"}},{"$f":"IF(#REF!=$E$1,IF(#REF!=$G$1,#REF!,NA()),NA())","v":{"$error":"#REF!"}},{"$f":"IF(#REF!=$E$1,IF(#REF!=$G$1,IF(#REF!=\"\",NA(),#REF!),NA()),NA())","v":{"$error":"#REF!"}},{"$f":"IF(#REF!=$E$1,IF(#REF!=$G$1,IF(#REF!=\"\",NA(),#REF!),NA()),NA())","v":{"$error":"#REF!"}},{"$error":"#REF!"},{"$error":"#REF!"}]
[null,null,null,{"$f":"IF(#REF!=$E$1,IF(#REF!=$G$1,#REF!,NA()),NA())","v":{"$error":"#REF!"}},{"$f":"IF(#REF!=$E$1,IF(#REF!=$G$1,#REF!,NA()),NA())","v":{"$error":"#REF!"}},{"$f":"IF(#REF!=$E$1,IF(#REF!=$G$1,IF(#REF!=\"\",NA(),#REF!),NA()),NA())","v":{"$error":"#REF!"}},{"$f":"IF(#REF!=$E$1,IF(#REF!=$G$1,IF(#REF!=\"\",NA(),#REF!),NA()),NA())","v":{"$error":"#REF!"}},{"$error":"#REF!"},{"$error":"#REF!"}]
[null,null,null,{"$f":"IF(#REF!=$E$1,IF(#REF!=$G$1,#REF!,NA()),NA())","v":{"$error":"#REF!"}},{"$f":"IF(#REF!=$E$1,IF(#REF!=$G$1,#REF!,NA()),NA())","v":{"$error":"#REF!"}},{"$f":"IF(#REF!=$E$1,IF(#REF!=$G$1,IF(#REF!=\"\",NA(),#REF!),NA()),NA())","v":{"$error":"#REF!"}},{"$f":"IF(#REF!=$E$1,IF(#REF!=$G$1,IF(#REF!=\"\",NA(),#REF!),NA()),NA())","v":{"$error":"#REF!"}},{"$error":"#REF!"},{"$error":"#REF!"}]
[null,null,null,{"$f":"IF(#REF!=$E$1,IF(#REF!=$G$1,#REF!,NA()),NA())","v":{"$error":"#REF!"}},{"$f":"IF(#REF!=$E$1,IF(#REF!=$G$1,#REF!,NA()),NA())","v":{"$error":"#REF!"}},{"$f":"IF(#REF!=$E$1,IF(#REF!=$G$1,IF(#REF!=\"\",NA(),#REF!),NA()),NA())","v":{"$error":"#REF!"}},{"$f":"IF(#REF!=$E$1,IF(#REF!=$G$1,IF(#REF!=\"\",NA(),#REF!),NA()),NA())","v":{"$error":"#REF!"}},{"$error":"#REF!"},{"$error":"#REF!"}]
[null,null,null,{"$f":"IF(#REF!=$E$1,IF(#REF!=$G$1,#REF!,NA()),NA())","v":{"$error":"#REF!"}},{"$f":"IF(#REF!=$E$1,IF(#REF!=$G$1,#REF!,NA()),NA())","v":{"$error":"#REF!"}},{"$f":"IF(#REF!=$E$1,IF(#REF!=$G$1,IF(#REF!=\"\",NA(),#REF!),NA()),NA())","v":{"$error":"#REF!"}},{"$f":"IF(#REF!=$E$1,IF(#REF!=$G$1,IF(#REF!=\"\",NA(),#REF!),NA()),NA())","v":{"$error":"#REF!"}},{"$error":"#REF!"},{"$error":"#REF!"}]
[null,null,null,{"$f":"IF(#REF!=$E$1,IF(#REF!=$G$1,#REF!,NA()),NA())","v":{"$error":"#REF!"}},{"$f":"IF(#REF!=$E$1,IF(#REF!=$G$1,#REF!,NA()),NA())","v":{"$error":"#REF!"}},{"$f":"IF(#REF!=$E$1,IF(#REF!=$G$1,IF(#REF!=\"\",NA(),#REF!),NA()),NA())","v":{"$error":"#REF!"}},{"$f":"IF(#REF!=$E$1,IF(#REF!=$G$1,IF(#REF!=\"\",NA(),#REF!),NA()),NA())","v":{"$error":"#REF!"}},{"$error":"#REF!"},{"$error":"#REF!"}]
[null,null,null,{"$f":"IF(#REF!=$E$1,IF(#REF!=$G$1,#REF!,NA()),NA())","v":{"$error":"#REF!"}},{"$f":"IF(#REF!=$E$1,IF(#REF!=$G$1,#REF!,NA()),NA())","v":{"$error":"#REF!"}},{"$f":"IF(#REF!=$E$1,IF(#REF!=$G$1,IF(#REF!=\"\",NA(),#REF!),NA()),NA())","v":{"$error":"#REF!"}},{"$f":"IF(#REF!=$E$1,IF(#REF!=$G$1,IF(#REF!=\"\",NA(),#REF!),NA()),NA())","v":{"$error":"#REF!"}},{"$error":"#REF!"},{"$error":"#REF!"}]
[null,null,null,{"$f":"IF(#REF!=$E$1,IF(#REF!=$G$1,#REF!,NA()),NA())","v":{"$error":"#REF!"}},{"$f":"IF(#REF!=$E$1,IF(#REF!=$G$1,#REF!,NA()),NA())","v":{"$error":"#REF!"}},{"$f":"IF(#REF!=$E$1,IF(#REF!=$G$1,IF(#REF!=\"\",NA(),#REF!),NA()),NA())","v":{"$error":"#REF!"}},{"$f":"IF(#REF!=$E$1,IF(#REF!=$G$1,IF(#REF!=\"\",NA(),#REF!),NA()),NA())","v":{"$error":"#REF!"}},{"$error":"#REF!"},{"$error":"#REF!"}]
[null,null,null,{"$f":"IF(#REF!=$E$1,IF(#REF!=$G$1,#REF!,NA()),NA())","v":{"$error":"#REF!"}},{"$f":"IF(#REF!=$E$1,IF(#REF!=$G$1,#REF!,NA()),NA())","v":{"$error":"#REF!"}},{"$f":"IF(#REF!=$E$1,IF(#REF!=$G$1,IF(#REF!=\"\",NA(),#REF!),NA()),NA())","v":{"$error":"#REF!"}},{"$f":"IF(#REF!=$E$1,IF(#REF!=$G$1,IF(#REF!=\"\",NA(),#REF!),NA()),NA())","v":{"$error":"#REF!"}},{"$error":"#REF!"},{"$error":"#REF!"}]
[null,null,null,{"$f":"IF(#REF!=$E$1,IF(#REF!=$G$1,#REF!,NA()),NA())","v":{"$error":"#REF!"}},{"$f":"IF(#REF!=$E$1,IF(#REF!=$G$1,#REF!,NA()),NA())","v":{"$error":"#REF!"}},{"$f":"IF(#REF!=$E$1,IF(#REF!=$G$1,IF(#REF!=\"\",NA(),#REF!),NA()),NA())","v":{"$error":"#REF!"}},{"$f":"IF(#REF!=$E$1,IF(#REF!=$G$1,IF(#REF!=\"\",NA(),#REF!),NA()),NA())","v":{"$error":"#REF!"}},{"$error":"#REF!"},{"$error":"#REF!"}]
[null,null,null,{"$f":"IF(#REF!=$E$1,IF(#REF!=$G$1,#REF!,NA()),NA())","v":{"$error":"#REF!"}},{"$f":"IF(#REF!=$E$1,IF(#REF!=$G$1,#REF!,NA()),NA())","v":{"$error":"#REF!"}},{"$f":"IF(#REF!=$E$1,IF(#REF!=$G$1,IF(#REF!=\"\",NA(),#REF!),NA()),NA())","v":{"$error":"#REF!"}},{"$f":"IF(#REF!=$E$1,IF(#REF!=$G$1,IF(#REF!=\"\",NA(),#REF!),NA()),NA())","v":{"$error":"#REF!"}},{"$error":"#REF!"},{"$error":"#REF!"}]
[null,null,null,{"$f":"IF(#REF!=$E$1,IF(#REF!=$G$1,#REF!,NA()),NA())","v":{"$error":"#REF!"}},{"$f":"IF(#REF!=$E$1,IF(#REF!=$G$1,#REF!,NA()),NA())","v":{"$error":"#REF!"}},{"$f":"IF(#REF!=$E$1,IF(#REF!=$G$1,IF(#REF!=\"\",NA(),#REF!),NA()),NA())","v":{"$error":"#REF!"}},{"$f":"IF(#REF!=$E$1,IF(#REF!=$G$1,IF(#REF!=\"\",NA(),#REF!),NA()),NA())","v":{"$error":"#REF!"}},{"$error":"#REF!"},{"$error":"#REF!"}]
[null,null,null,{"$f":"IF(#REF!=$E$1,IF(#REF!=$G$1,#REF!,NA()),NA())","v":{"$error":"#REF!"}},{"$f":"IF(#REF!=$E$1,IF(#REF!=$G$1,#REF!,NA()),NA())","v":{"$error":"#REF!"}},{"$f":"IF(#REF!=$E$1,IF(#REF!=$G$1,IF(#REF!=\"\",NA(),#REF!),NA()),NA())","v":{"$error":"#REF!"}},{"$f":"IF(#REF!=$E$1,IF(#REF!=$G$1,IF(#REF!=\"\",NA(),#REF!),NA()),NA())","v":{"$error":"#REF!"}},{"$error":"#REF!"},{"$error":"#REF!"}]
[null,null,null,{"$f":"IF(#REF!=$E$1,IF(#REF!=$G$1,#REF!,NA()),NA())","v":{"$error":"#REF!"}},{"$f":"IF(#REF!=$E$1,IF(#REF!=$G$1,#REF!,NA()),NA())","v":{"$error":"#REF!"}},{"$f":"IF(#REF!=$E$1,IF(#REF!=$G$1,IF(#REF!=\"\",NA(),#REF!),NA()),NA())","v":{"$error":"#REF!"}},{"$f":"IF(#REF!=$E$1,IF(#REF!=$G$1,IF(#REF!=\"\",NA(),#REF!),NA()),NA())","v":{"$error":"#REF!"}},{"$error":"#REF!"},{"$error":"#REF!"}]
[null,null,null,{"$f":"IF(#REF!=$E$1,IF(#REF!=$G$1,#REF!,NA()),NA())","v":{"$error":"#REF!"}},{"$f":"IF(#REF!=$E$1,IF(#REF!=$G$1,#REF!,NA()),NA())","v":{"$error":"#REF!"}},{"$f":"IF(#REF!=$E$1,IF(#REF!=$G$1,IF(#REF!=\"\",NA(),#REF!),NA()),NA())","v":{"$error":"#REF!"}},{"$f":"IF(#REF!=$E$1,IF(#REF!=$G$1,IF(#REF!=\"\",NA(),#REF!),NA()),NA())","v":{"$error":"#REF!"}},{"$error":"#REF!"},{"$error":"#REF!"}]
[null,null,null,{"$f":"IF(#REF!=$E$1,IF(#REF!=$G$1,#REF!,NA()),NA())","v":{"$error":"#REF!"}},{"$f":"IF(#REF!=$E$1,IF(#REF!=$G$1,#REF!,NA()),NA())","v":{"$error":"#REF!"}},{"$f":"IF(#REF!=$E$1,IF(#REF!=$G$1,IF(#REF!=\"\",NA(),#REF!),NA()),NA())","v":{"$error":"#REF!"}},{"$f":"IF(#REF!=$E$1,IF(#REF!=$G$1,IF(#REF!=\"\",NA(),#REF!),NA()),NA())","v":{"$error":"#REF!"}},{"$error":"#REF!"},{"$error":"#REF!"}]
[null,null,null,{"$f":"IF(#REF!=$E$1,IF(#REF!=$G$1,#REF!,NA()),NA())","v":{"$error":"#REF!"}},{"$f":"IF(#REF!=$E$1,IF(#REF!=$G$1,#REF!,NA()),NA())","v":{"$error":"#REF!"}},{"$f":"IF(#REF!=$E$1,IF(#REF!=$G$1,IF(#REF!=\"\",NA(),#REF!),NA()),NA())","v":{"$error":"#REF!"}},{"$f":"IF(#REF!=$E$1,IF(#REF!=$G$1,IF(#REF!=\"\",NA(),#REF!),NA()),NA())","v":{"$error":"#REF!"}},{"$error":"#REF!"},{"$error":"#REF!"}]
[null,null,null,{"$f":"IF(#REF!=$E$1,IF(#REF!=$G$1,#REF!,NA()),NA())","v":{"$error":"#REF!"}},{"$f":"IF(#REF!=$E$1,IF(#REF!=$G$1,#REF!,NA()),NA())","v":{"$error":"#REF!"}},{"$f":"IF(#REF!=$E$1,IF(#REF!=$G$1,IF(#REF!=\"\",NA(),#REF!),NA()),NA())","v":{"$error":"#REF!"}},{"$f":"IF(#REF!=$E$1,IF(#REF!=$G$1,IF(#REF!=\"\",NA(),#REF!),NA()),NA())","v":{"$error":"#REF!"}},{"$error":"#REF!"},{"$error":"#REF!"}]
[null,null,null,{"$f":"IF(#REF!=$E$1,IF(#REF!=$G$1,#REF!,NA()),NA())","v":{"$error":"#REF!"}},{"$f":"IF(#REF!=$E$1,IF(#REF!=$G$1,#REF!,NA()),NA())","v":{"$error":"#REF!"}},{"$f":"IF(#REF!=$E$1,IF(#REF!=$G$1,IF(#REF!=\"\",NA(),#REF!),NA()),NA())","v":{"$error":"#REF!"}},{"$f":"IF(#REF!=$E$1,IF(#REF!=$G$1,IF(#REF!=\"\",NA(),#REF!),NA()),NA())","v":{"$error":"#REF!"}},{"$error":"#REF!"},{"$error":"#REF!"}]
[null,null,null,{"$f":"IF(#REF!=$E$1,IF(#REF!=$G$1,#REF!,NA()),NA())","v":{"$error":"#REF!"}},{"$f":"IF(#REF!=$E$1,IF(#REF!=$G$1,#REF!,NA()),NA())","v":{"$error":"#REF!"}},{"$f":"IF(#REF!=$E$1,IF(#REF!=$G$1,IF(#REF!=\"\",NA(),#REF!),NA()),NA())","v":{"$error":"#REF!"}},{"$f":"IF(#REF!=$E$1,IF(#REF!=$G$1,IF(#REF!=\"\",NA(),#REF!),NA()),NA())","v":{"$error":"#REF!"}},{"$error":"#REF!"},{"$error":"#REF!"}]
[null,null,null,{"$f":"IF(#REF!=$E$1,IF(#REF!=$G$1,#REF!,NA()),NA())","v":{"$error":"#REF!"}},{"$f":"IF(#REF!=$E$1,IF(#REF!=$G$1,#REF!,NA()),NA())","v":{"$error":"#REF!"}},{"$f":"IF(#REF!=$E$1,IF(#REF!=$G$1,IF(#REF!=\"\",NA(),#REF!),NA()),NA())","v":{"$error":"#REF!"}},{"$f":"IF(#REF!=$E$1,IF(#REF!=$G$1,IF(#REF!=\"\",NA(),#REF!),NA()),NA())","v":{"$error":"#REF!"}},{"$error":"#REF!"},{"$error":"#REF!"}]
[null,null,null,{"$f":"IF(#REF!=$E$1,IF(#REF!=$G$1,#REF!,NA()),NA())","v":{"$error":"#REF!"}},{"$f":"IF(#REF!=$E$1,IF(#REF!=$G$1,#REF!,NA()),NA())","v":{"$error":"#REF!"}},{"$f":"IF(#REF!=$E$1,IF(#REF!=$G$1,IF(#REF!=\"\",NA(),#REF!),NA()),NA())","v":{"$error":"#REF!"}},{"$f":"IF(#REF!=$E$1,IF(#REF!=$G$1,IF(#REF!=\"\",NA(),#REF!),NA()),NA())","v":{"$error":"#REF!"}},{"$error":"#REF!"},{"$error":"#REF!"}]
[null,null,null,{"$f":"IF(#REF!=$E$1,IF(#REF!=$G$1,#REF!,NA()),NA())","v":{"$error":"#REF!"}},{"$f":"IF(#REF!=$E$1,IF(#REF!=$G$1,#REF!,NA()),NA())","v":{"$error":"#REF!"}},{"$f":"IF(#REF!=$E$1,IF(#REF!=$G$1,IF(#REF!=\"\",NA(),#REF!),NA()),NA())","v":{"$error":"#REF!"}},{"$f":"IF(#REF!=$E$1,IF(#REF!=$G$1,IF(#REF!=\"\",NA(),#REF!),NA()),NA())","v":{"$error":"#REF!"}},{"$error":"#REF!"},{"$error":"#REF!"}]
[null,null,null,{"$f":"IF(#REF!=$E$1,IF(#REF!=$G$1,#REF!,NA()),NA())","v":{"$error":"#REF!"}},{"$f":"IF(#REF!=$E$1,IF(#REF!=$G$1,#REF!,NA()),NA())","v":{"$error":"#REF!"}},{"$f":"IF(#REF!=$E$1,IF(#REF!=$G$1,IF(#REF!=\"\",NA(),#REF!),NA()),NA())","v":{"$error":"#REF!"}},{"$f":"IF(#REF!=$E$1,IF(#REF!=$G$1,IF(#REF!=\"\",NA(),#REF!),NA()),NA())","v":{"$error":"#REF!"}},{"$error":"#REF!"},{"$error":"#REF!"}]
[null,null,null,{"$f":"IF(#REF!=$E$1,IF(#REF!=$G$1,#REF!,NA()),NA())","v":{"$error":"#REF!"}},{"$f":"IF(#REF!=$E$1,IF(#REF!=$G$1,#REF!,NA()),NA())","v":{"$error":"#REF!"}},{"$f":"IF(#REF!=$E$1,IF(#REF!=$G$1,IF(#REF!=\"\",NA(),#REF!),NA()),NA())","v":{"$error":"#REF!"}},{"$f":"IF(#REF!=$E$1,IF(#REF!=$G$1,IF(#REF!=\"\",NA(),#REF!),NA()),NA())","v":{"$error":"#REF!"}},{"$error":"#REF!"},{"$error":"#REF!"}]
[null,null,null,{"$f":"IF(#REF!=$E$1,IF(#REF!=$G$1,#REF!,NA()),NA())","v":{"$error":"#REF!"}},{"$f":"IF(#REF!=$E$1,IF(#REF!=$G$1,#REF!,NA()),NA())","v":{"$error":"#REF!"}},{"$f":"IF(#REF!=$E$1,IF(#REF!=$G$1,IF(#REF!=\"\",NA(),#REF!),NA()),NA())","v":{"$error":"#REF!"}},{"$f":"IF(#REF!=$E$1,IF(#REF!=$G$1,IF(#REF!=\"\",NA(),#REF!),NA()),NA())","v":{"$error":"#REF!"}},{"$error":"#REF!"},{"$error":"#REF!"}]
[null,null,null,{"$f":"IF(#REF!=$E$1,IF(#REF!=$G$1,#REF!,NA()),NA())","v":{"$error":"#REF!"}},{"$f":"IF(#REF!=$E$1,IF(#REF!=$G$1,#REF!,NA()),NA())","v":{"$error":"#REF!"}},{"$f":"IF(#REF!=$E$1,IF(#REF!=$G$1,IF(#REF!=\"\",NA(),#REF!),NA()),NA())","v":{"$error":"#REF!"}},{"$f":"IF(#REF!=$E$1,IF(#REF!=$G$1,IF(#REF!=\"\",NA(),#REF!),NA()),NA())","v":{"$error":"#REF!"}},{"$error":"#REF!"},{"$error":"#REF!"}]
[null,null,null,{"$f":"IF(#REF!=$E$1,IF(#REF!=$G$1,#REF!,NA()),NA())","v":{"$error":"#REF!"}},{"$f":"IF(#REF!=$E$1,IF(#REF!=$G$1,#REF!,NA()),NA())","v":{"$error":"#REF!"}},{"$f":"IF(#REF!=$E$1,IF(#REF!=$G$1,IF(#REF!=\"\",NA(),#REF!),NA()),NA())","v":{"$error":"#REF!"}},{"$f":"IF(#REF!=$E$1,IF(#REF!=$G$1,IF(#REF!=\"\",NA(),#REF!),NA()),NA())","v":{"$error":"#REF!"}},{"$error":"#REF!"},{"$error":"#REF!"}]
[null,null,null,{"$f":"IF(#REF!=$E$1,IF(#REF!=$G$1,#REF!,NA()),NA())","v":{"$error":"#REF!"}},{"$f":"IF(#REF!=$E$1,IF(#REF!=$G$1,#REF!,NA()),NA())","v":{"$error":"#REF!"}},{"$f":"IF(#REF!=$E$1,IF(#REF!=$G$1,IF(#REF!=\"\",NA(),#REF!),NA()),NA())","v":{"$error":"#REF!"}},{"$f":"IF(#REF!=$E$1,IF(#REF!=$G$1,IF(#REF!=\"\",NA(),#REF!),NA()),NA())","v":{"$error":"#REF!"}},{"$error":"#REF!"},{"$error":"#REF!"}]
[null,null,null,{"$f":"IF(#REF!=$E$1,IF(#REF!=$G$1,#REF!,NA()),NA())","v":{"$error":"#REF!"}},{"$f":"IF(#REF!=$E$1,IF(#REF!=$G$1,#REF!,NA()),NA())","v":{"$error":"#REF!"}},{"$f":"IF(#REF!=$E$1,IF(#REF!=$G$1,IF(#REF!=\"\",NA(),#REF!),NA()),NA())","v":{"$error":"#REF!"}},{"$f":"IF(#REF!=$E$1,IF(#REF!=$G$1,IF(#REF!=\"\",NA(),#REF!),NA()),NA())","v":{"$error":"#REF!"}},{"$error":"#REF!"},{"$error":"#REF!"}]
[null,null,null,{"$f":"IF(#REF!=$E$1,IF(#REF!=$G$1,#REF!,NA()),NA())","v":{"$error":"#REF!"}},{"$f":"IF(#REF!=$E$1,IF(#REF!=$G$1,#REF!,NA()),NA())","v":{"$error":"#REF!"}},{"$f":"IF(#REF!=$E$1,IF(#REF!=$G$1,IF(#REF!=\"\",NA(),#REF!),NA()),NA())","v":{"$error":"#REF!"}},{"$f":"IF(#REF!=$E$1,IF(#REF!=$G$1,IF(#REF!=\"\",NA(),#REF!),NA()),NA())","v":{"$error":"#REF!"}},{"$error":"#REF!"},{"$error":"#REF!"}]
[null,null,null,{"$f":"IF(#REF!=$E$1,IF(#REF!=$G$1,#REF!,NA()),NA())","v":{"$error":"#REF!"}},{"$f":"IF(#REF!=$E$1,IF(#REF!=$G$1,#REF!,NA()),NA())","v":{"$error":"#REF!"}},{"$f":"IF(#REF!=$E$1,IF(#REF!=$G$1,IF(#REF!=\"\",NA(),#REF!),NA()),NA())","v":{"$error":"#REF!"}},{"$f":"IF(#REF!=$E$1,IF(#REF!=$G$1,IF(#REF!=\"\",NA(),#REF!),NA()),NA())","v":{"$error":"#REF!"}},{"$error":"#REF!"},{"$error":"#REF!"}]
[null,null,null,{"$f":"IF(#REF!=$E$1,IF(#REF!=$G$1,#REF!,NA()),NA())","v":{"$error":"#REF!"}},{"$f":"IF(#REF!=$E$1,IF(#REF!=$G$1,#REF!,NA()),NA())","v":{"$error":"#REF!"}},{"$f":"IF(#REF!=$E$1,IF(#REF!=$G$1,IF(#REF!=\"\",NA(),#REF!),NA()),NA())","v":{"$error":"#REF!"}},{"$f":"IF(#REF!=$E$1,IF(#REF!=$G$1,IF(#REF!=\"\",NA(),#REF!),NA()),NA())","v":{"$error":"#REF!"}},{"$error":"#REF!"},{"$error":"#REF!"}]
[null,null,null,{"$f":"IF(#REF!=$E$1,IF(#REF!=$G$1,#REF!,NA()),NA())","v":{"$error":"#REF!"}},{"$f":"IF(#REF!=$E$1,IF(#REF!=$G$1,#REF!,NA()),NA())","v":{"$error":"#REF!"}},{"$f":"IF(#REF!=$E$1,IF(#REF!=$G$1,IF(#REF!=\"\",NA(),#REF!),NA()),NA())","v":{"$error":"#REF!"}},{"$f":"IF(#REF!=$E$1,IF(#REF!=$G$1,IF(#REF!=\"\",NA(),#REF!),NA()),NA())","v":{"$error":"#REF!"}},{"$error":"#REF!"},{"$error":"#REF!"}]
[null,null,null,{"$f":"IF(#REF!=$E$1,IF(#REF!=$G$1,#REF!,NA()),NA())","v":{"$error":"#REF!"}},{"$f":"IF(#REF!=$E$1,IF(#REF!=$G$1,#REF!,NA()),NA())","v":{"$error":"#REF!"}},{"$f":"IF(#REF!=$E$1,IF(#REF!=$G$1,IF(#REF!=\"\",NA(),#REF!),NA()),NA())","v":{"$error":"#REF!"}},{"$f":"IF(#REF!=$E$1,IF(#REF!=$G$1,IF(#REF!=\"\",NA(),#REF!),NA()),NA())","v":{"$error":"#REF!"}},{"$error":"#REF!"},{"$error":"#REF!"}]
[null,null,null,{"$f":"IF(#REF!=$E$1,IF(#REF!=$G$1,#REF!,NA()),NA())","v":{"$error":"#REF!"}},{"$f":"IF(#REF!=$E$1,IF(#REF!=$G$1,#REF!,NA()),NA())","v":{"$error":"#REF!"}},{"$f":"IF(#REF!=$E$1,IF(#REF!=$G$1,IF(#REF!=\"\",NA(),#REF!),NA()),NA())","v":{"$error":"#REF!"}},{"$f":"IF(#REF!=$E$1,IF(#REF!=$G$1,IF(#REF!=\"\",NA(),#REF!),NA()),NA())","v":{"$error":"#REF!"}},{"$error":"#REF!"},{"$error":"#REF!"}]
[null,null,null,{"$f":"IF(#REF!=$E$1,IF(#REF!=$G$1,#REF!,NA()),NA())","v":{"$error":"#REF!"}},{"$f":"IF(#REF!=$E$1,IF(#REF!=$G$1,#REF!,NA()),NA())","v":{"$error":"#REF!"}},{"$f":"IF(#REF!=$E$1,IF(#REF!=$G$1,IF(#REF!=\"\",NA(),#REF!),NA()),NA())","v":{"$error":"#REF!"}},{"$f":"IF(#REF!=$E$1,IF(#REF!=$G$1,IF(#REF!=\"\",NA(),#REF!),NA()),NA())","v":{"$error":"#REF!"}},{"$error":"#REF!"},{"$error":"#REF!"}]
[null,null,null,{"$f":"IF(#REF!=$E$1,IF(#REF!=$G$1,#REF!,NA()),NA())","v":{"$error":"#REF!"}},{"$f":"IF(#REF!=$E$1,IF(#REF!=$G$1,#REF!,NA()),NA())","v":{"$error":"#REF!"}},{"$f":"IF(#REF!=$E$1,IF(#REF!=$G$1,IF(#REF!=\"\",NA(),#REF!),NA()),NA())","v":{"$error":"#REF!"}},{"$f":"IF(#REF!=$E$1,IF(#REF!=$G$1,IF(#REF!=\"\",NA(),#REF!),NA()),NA())","v":{"$error":"#REF!"}},{"$error":"#REF!"},{"$error":"#REF!"}]
[null,null,null,{"$f":"IF(#REF!=$E$1,IF(#REF!=$G$1,#REF!,NA()),NA())","v":{"$error":"#REF!"}},{"$f":"IF(#REF!=$E$1,IF(#REF!=$G$1,#REF!,NA()),NA())","v":{"$error":"#REF!"}},{"$f":"IF(#REF!=$E$1,IF(#REF!=$G$1,IF(#REF!=\"\",NA(),#REF!),NA()),NA())","v":{"$error":"#REF!"}},{"$f":"IF(#REF!=$E$1,IF(#REF!=$G$1,IF(#REF!=\"\",NA(),#REF!),NA()),NA())","v":{"$error":"#REF!"}},{"$error":"#REF!"},{"$error":"#REF!"}]
[null,null,null,{"$f":"IF(#REF!=$E$1,IF(#REF!=$G$1,#REF!,NA()),NA())","v":{"$error":"#REF!"}},{"$f":"IF(#REF!=$E$1,IF(#REF!=$G$1,#REF!,NA()),NA())","v":{"$error":"#REF!"}},{"$f":"IF(#REF!=$E$1,IF(#REF!=$G$1,IF(#REF!=\"\",NA(),#REF!),NA()),NA())","v":{"$error":"#REF!"}},{"$f":"IF(#REF!=$E$1,IF(#REF!=$G$1,IF(#REF!=\"\",NA(),#REF!),NA()),NA())","v":{"$error":"#REF!"}},{"$error":"#REF!"},{"$error":"#REF!"}]
[null,null,null,{"$f":"IF(#REF!=$E$1,IF(#REF!=$G$1,#REF!,NA()),NA())","v":{"$error":"#REF!"}},{"$f":"IF(#REF!=$E$1,IF(#REF!=$G$1,#REF!,NA()),NA())","v":{"$error":"#REF!"}},{"$f":"IF(#REF!=$E$1,IF(#REF!=$G$1,IF(#REF!=\"\",NA(),#REF!),NA()),NA())","v":{"$error":"#REF!"}},{"$f":"IF(#REF!=$E$1,IF(#REF!=$G$1,IF(#REF!=\"\",NA(),#REF!),NA()),NA())","v":{"$error":"#REF!"}},{"$error":"#REF!"},{"$error":"#REF!"}]
[null,null,null,{"$f":"IF(#REF!=$E$1,IF(#REF!=$G$1,#REF!,NA()),NA())","v":{"$error":"#REF!"}},{"$f":"IF(#REF!=$E$1,IF(#REF!=$G$1,#REF!,NA()),NA())","v":{"$error":"#REF!"}},{"$f":"IF(#REF!=$E$1,IF(#REF!=$G$1,IF(#REF!=\"\",NA(),#REF!),NA()),NA())","v":{"$error":"#REF!"}},{"$f":"IF(#REF!=$E$1,IF(#REF!=$G$1,IF(#REF!=\"\",NA(),#REF!),NA()),NA())","v":{"$error":"#REF!"}},{"$error":"#REF!"},{"$error":"#REF!"}]
[null,null,null,{"$f":"IF(#REF!=$E$1,IF(#REF!=$G$1,#REF!,NA()),NA())","v":{"$error":"#REF!"}},{"$f":"IF(#REF!=$E$1,IF(#REF!=$G$1,#REF!,NA()),NA())","v":{"$error":"#REF!"}},{"$f":"IF(#REF!=$E$1,IF(#REF!=$G$1,IF(#REF!=\"\",NA(),#REF!),NA()),NA())","v":{"$error":"#REF!"}},{"$f":"IF(#REF!=$E$1,IF(#REF!=$G$1,IF(#REF!=\"\",NA(),#REF!),NA()),NA())","v":{"$error":"#REF!"}},{"$error":"#REF!"},{"$error":"#REF!"}]
[null,null,null,{"$f":"IF(#REF!=$E$1,IF(#REF!=$G$1,#REF!,NA()),NA())","v":{"$error":"#REF!"}},{"$f":"IF(#REF!=$E$1,IF(#REF!=$G$1,#REF!,NA()),NA())","v":{"$error":"#REF!"}},{"$f":"IF(#REF!=$E$1,IF(#REF!=$G$1,IF(#REF!=\"\",NA(),#REF!),NA()),NA())","v":{"$error":"#REF!"}},{"$f":"IF(#REF!=$E$1,IF(#REF!=$G$1,IF(#REF!=\"\",NA(),#REF!),NA()),NA())","v":{"$error":"#REF!"}},{"$error":"#REF!"},{"$error":"#REF!"}]
[null,null,null,{"$f":"IF(#REF!=$E$1,IF(#REF!=$G$1,#REF!,NA()),NA())","v":{"$error":"#REF!"}},{"$f":"IF(#REF!=$E$1,IF(#REF!=$G$1,#REF!,NA()),NA())","v":{"$error":"#REF!"}},{"$f":"IF(#REF!=$E$1,IF(#REF!=$G$1,IF(#REF!=\"\",NA(),#REF!),NA()),NA())","v":{"$error":"#REF!"}},{"$f":"IF(#REF!=$E$1,IF(#REF!=$G$1,IF(#REF!=\"\",NA(),#REF!),NA()),NA())","v":{"$error":"#REF!"}},{"$error":"#REF!"},{"$error":"#REF!"}]
[null,null,null,{"$f":"IF(#REF!=$E$1,IF(#REF!=$G$1,#REF!,NA()),NA())","v":{"$error":"#REF!"}},{"$f":"IF(#REF!=$E$1,IF(#REF!=$G$1,#REF!,NA()),NA())","v":{"$error":"#REF!"}},{"$f":"IF(#REF!=$E$1,IF(#REF!=$G$1,IF(#REF!=\"\",NA(),#REF!),NA()),NA())","v":{"$error":"#REF!"}},{"$f":"IF(#REF!=$E$1,IF(#REF!=$G$1,IF(#REF!=\"\",NA(),#REF!),NA()),NA())","v":{"$error":"#REF!"}},{"$f":"IF(AND(ISNUMBER(G900),F900=\"-\"),0,F900)","v":{"$error":"#REF!"}},{"$f":"IF(AND(ISNUMBER(F900),G900=\"-\"),0,G900)","v":{"$error":"#REF!"}}]
[null,null,null,{"$f":"IF(#REF!=$E$1,IF(#REF!=$G$1,#REF!,NA()),NA())","v":{"$error":"#REF!"}},{"$f":"IF(#REF!=$E$1,IF(#REF!=$G$1,#REF!,NA()),NA())","v":{"$error":"#REF!"}},{"$f":"IF(#REF!=$E$1,IF(#REF!=$G$1,IF(#REF!=\"\",NA(),#REF!),NA()),NA())","v":{"$error":"#REF!"}},{"$f":"IF(#REF!=$E$1,IF(#REF!=$G$1,IF(#REF!=\"\",NA(),#REF!),NA()),NA())","v":{"$error":"#REF!"}},{"$error":"#REF!"},{"$error":"#REF!"}]
[null,null,null,{"$f":"IF(#REF!=$E$1,IF(#REF!=$G$1,#REF!,NA()),NA())","v":{"$error":"#REF!"}},{"$f":"IF(#REF!=$E$1,IF(#REF!=$G$1,#REF!,NA()),NA())","v":{"$error":"#REF!"}},{"$f":"IF(#REF!=$E$1,IF(#REF!=$G$1,IF(#REF!=\"\",NA(),#REF!),NA()),NA())","v":{"$error":"#REF!"}},{"$f":"IF(#REF!=$E$1,IF(#REF!=$G$1,IF(#REF!=\"\",NA(),#REF!),NA()),NA())","v":{"$error":"#REF!"}},{"$error":"#REF!"},{"$error":"#REF!"}]
[null,null,null,{"$f":"IF(#REF!=$E$1,IF(#REF!=$G$1,#REF!,NA()),NA())","v":{"$error":"#REF!"}},{"$f":"IF(#REF!=$E$1,IF(#REF!=$G$1,#REF!,NA()),NA())","v":{"$error":"#REF!"}},{"$f":"IF(#REF!=$E$1,IF(#REF!=$G$1,IF(#REF!=\"\",NA(),#REF!),NA()),NA())","v":{"$error":"#REF!"}},{"$f":"IF(#REF!=$E$1,IF(#REF!=$G$1,IF(#REF!=\"\",NA(),#REF!),NA()),NA())","v":{"$error":"#REF!"}},{"$error":"#REF!"},{"$error":"#REF!"}]
[null,null,null,{"$f":"IF(#REF!=$E$1,IF(#REF!=$G$1,#REF!,NA()),NA())","v":{"$error":"#REF!"}},{"$f":"IF(#REF!=$E$1,IF(#REF!=$G$1,#REF!,NA()),NA())","v":{"$error":"#REF!"}},{"$f":"IF(#REF!=$E$1,IF(#REF!=$G$1,IF(#REF!=\"\",NA(),#REF!),NA()),NA())","v":{"$error":"#REF!"}},{"$f":"IF(#REF!=$E$1,IF(#REF!=$G$1,IF(#REF!=\"\",NA(),#REF!),NA()),NA())","v":{"$error":"#REF!"}},{"$error":"#REF!"},{"$error":"#REF!"}]
[null,null,null,{"$f":"IF(#REF!=$E$1,IF(#REF!=$G$1,#REF!,NA()),NA())","v":{"$error":"#REF!"}},{"$f":"IF(#REF!=$E$1,IF(#REF!=$G$1,#REF!,NA()),NA())","v":{"$error":"#REF!"}},{"$f":"IF(#REF!=$E$1,IF(#REF!=$G$1,IF(#REF!=\"\",NA(),#REF!),NA()),NA())","v":{"$error":"#REF!"}},{"$f":"IF(#REF!=$E$1,IF(#REF!=$G$1,IF(#REF!=\"\",NA(),#REF!),NA()),NA())","v":{"$error":"#REF!"}},{"$error":"#REF!"},{"$error":"#REF!"}]
[null,null,null,{"$f":"IF(#REF!=$E$1,IF(#REF!=$G$1,#REF!,NA()),NA())","v":{"$error":"#REF!"}},{"$f":"IF(#REF!=$E$1,IF(#REF!=$G$1,#REF!,NA()),NA())","v":{"$error":"#REF!"}},{"$f":"IF(#REF!=$E$1,IF(#REF!=$G$1,IF(#REF!=\"\",NA(),#REF!),NA()),NA())","v":{"$error":"#REF!"}},{"$f":"IF(#REF!=$E$1,IF(#REF!=$G$1,IF(#REF!=\"\",NA(),#REF!),NA()),NA())","v":{"$error":"#REF!"}},{"$error":"#REF!"},{"$error":"#REF!"}]
[null,null,null,{"$f":"IF(#REF!=$E$1,IF(#REF!=$G$1,#REF!,NA()),NA())","v":{"$error":"#REF!"}},{"$f":"IF(#REF!=$E$1,IF(#REF!=$G$1,#REF!,NA()),NA())","v":{"$error":"#REF!"}},{"$f":"IF(#REF!=$E$1,IF(#REF!=$G$1,IF(#REF!=\"\",NA(),#REF!),NA()),NA())","v":{"$error":"#REF!"}},{"$f":"IF(#REF!=$E$1,IF(#REF!=$G$1,IF(#REF!=\"\",NA(),#REF!),NA()),NA())","v":{"$error":"#REF!"}},{"$error":"#REF!"},{"$error":"#REF!"}]
[null,null,null,{"$f":"IF(#REF!=$E$1,IF(#REF!=$G$1,#REF!,NA()),NA())","v":{"$error":"#REF!"}},{"$f":"IF(#REF!=$E$1,IF(#REF!=$G$1,#REF!,NA()),NA())","v":{"$error":"#REF!"}},{"$f":"IF(#REF!=$E$1,IF(#REF!=$G$1,IF(#REF!=\"\",NA(),#REF!),NA()),NA())","v":{"$error":"#REF!"}},{"$f":"IF(#REF!=$E$1,IF(#REF!=$G$1,IF(#REF!=\"\",NA(),#REF!),NA()),NA())","v":{"$error":"#REF!"}},{"$error":"#REF!"},{"$error":"#REF!"}]
[null,null,null,{"$f":"IF(#REF!=$E$1,IF(#REF!=$G$1,#REF!,NA()),NA())","v":{"$error":"#REF!"}},{"$f":"IF(#REF!=$E$1,IF(#REF!=$G$1,#REF!,NA()),NA())","v":{"$error":"#REF!"}},{"$f":"IF(#REF!=$E$1,IF(#REF!=$G$1,IF(#REF!=\"\",NA(),#REF!),NA()),NA())","v":{"$error":"#REF!"}},{"$f":"IF(#REF!=$E$1,IF(#REF!=$G$1,IF(#REF!=\"\",NA(),#REF!),NA()),NA())","v":{"$error":"#REF!"}},{"$error":"#REF!"},{"$error":"#REF!"}]
[null,null,null,{"$f":"IF(#REF!=$E$1,IF(#REF!=$G$1,#REF!,NA()),NA())","v":{"$error":"#REF!"}},{"$f":"IF(#REF!=$E$1,IF(#REF!=$G$1,#REF!,NA()),NA())","v":{"$error":"#REF!"}},{"$f":"IF(#REF!=$E$1,IF(#REF!=$G$1,IF(#REF!=\"\",NA(),#REF!),NA()),NA())","v":{"$error":"#REF!"}},{"$f":"IF(#REF!=$E$1,IF(#REF!=$G$1,IF(#REF!=\"\",NA(),#REF!),NA()),NA())","v":{"$error":"#REF!"}},{"$error":"#REF!"},{"$error":"#REF!"}]
[null,null,null,{"$f":"IF(#REF!=$E$1,IF(#REF!=$G$1,#REF!,NA()),NA())","v":{"$error":"#REF!"}},{"$f":"IF(#REF!=$E$1,IF(#REF!=$G$1,#REF!,NA()),NA())","v":{"$error":"#REF!"}},{"$f":"IF(#REF!=$E$1,IF(#REF!=$G$1,IF(#REF!=\"\",NA(),#REF!),NA()),NA())","v":{"$error":"#REF!"}},{"$f":"IF(#REF!=$E$1,IF(#REF!=$G$1,IF(#REF!=\"\",NA(),#REF!),NA()),NA())","v":{"$error":"#REF!"}},{"$error":"#REF!"},{"$error":"#REF!"}]
[null,null,null,{"$f":"IF(#REF!=$E$1,IF(#REF!=$G$1,#REF!,NA()),NA())","v":{"$error":"#REF!"}},{"$f":"IF(#REF!=$E$1,IF(#REF!=$G$1,#REF!,NA()),NA())","v":{"$error":"#REF!"}},{"$f":"IF(#REF!=$E$1,IF(#REF!=$G$1,IF(#REF!=\"\",NA(),#REF!),NA()),NA())","v":{"$error":"#REF!"}},{"$f":"IF(#REF!=$E$1,IF(#REF!=$G$1,IF(#REF!=\"\",NA(),#REF!),NA()),NA())","v":{"$error":"#REF!"}},{"$error":"#REF!"},{"$error":"#REF!"}]
[null,null,null,{"$f":"IF(#REF!=$E$1,IF(#REF!=$G$1,#REF!,NA()),NA())","v":{"$error":"#REF!"}},{"$f":"IF(#REF!=$E$1,IF(#REF!=$G$1,#REF!,NA()),NA())","v":{"$error":"#REF!"}},{"$f":"IF(#REF!=$E$1,IF(#REF!=$G$1,IF(#REF!=\"\",NA(),#REF!),NA()),NA())","v":{"$error":"#REF!"}},{"$f":"IF(#REF!=$E$1,IF(#REF!=$G$1,IF(#REF!=\"\",NA(),#REF!),NA()),NA())","v":{"$error":"#REF!"}},{"$error":"#REF!"},{"$error":"#REF!"}]
[null,null,null,{"$f":"IF(#REF!=$E$1,IF(#REF!=$G$1,#REF!,NA()),NA())","v":{"$error":"#REF!"}},{"$f":"IF(#REF!=$E$1,IF(#REF!=$G$1,#REF!,NA()),NA())","v":{"$error":"#REF!"}},{"$f":"IF(#REF!=$E$1,IF(#REF!=$G$1,IF(#REF!=\"\",NA(),#REF!),NA()),NA())","v":{"$error":"#REF!"}},{"$f":"IF(#REF!=$E$1,IF(#REF!=$G$1,IF(#REF!=\"\",NA(),#REF!),NA()),NA())","v":{"$error":"#REF!"}},{"$error":"#REF!"},{"$error":"#REF!"}]
[null,null,null,{"$f":"IF(#REF!=$E$1,IF(#REF!=$G$1,#REF!,NA()),NA())","v":{"$error":"#REF!"}},{"$f":"IF(#REF!=$E$1,IF(#REF!=$G$1,#REF!,NA()),NA())","v":{"$error":"#REF!"}},{"$f":"IF(#REF!=$E$1,IF(#REF!=$G$1,IF(#REF!=\"\",NA(),#REF!),NA()),NA())","v":{"$error":"#REF!"}},{"$f":"IF(#REF!=$E$1,IF(#REF!=$G$1,IF(#REF!=\"\",NA(),#REF!),NA()),NA())","v":{"$error":"#REF!"}},{"$error":"#REF!"},{"$error":"#REF!"}]
[null,null,null,{"$f":"IF(#REF!=$E$1,IF(#REF!=$G$1,#REF!,NA()),NA())","v":{"$error":"#REF!"}},{"$f":"IF(#REF!=$E$1,IF(#REF!=$G$1,#REF!,NA()),NA())","v":{"$error":"#REF!"}},{"$f":"IF(#REF!=$E$1,IF(#REF!=$G$1,IF(#REF!=\"\",NA(),#REF!),NA()),NA())","v":{"$error":"#REF!"}},{"$f":"IF(#REF!=$E$1,IF(#REF!=$G$1,IF(#REF!=\"\",NA(),#REF!),NA()),NA())","v":{"$error":"#REF!"}},{"$error":"#REF!"},{"$error":"#REF!"}]
[null,null,null,{"$f":"IF(#REF!=$E$1,IF(#REF!=$G$1,#REF!,NA()),NA())","v":{"$error":"#REF!"}},{"$f":"IF(#REF!=$E$1,IF(#REF!=$G$1,#REF!,NA()),NA())","v":{"$error":"#REF!"}},{"$f":"IF(#REF!=$E$1,IF(#REF!=$G$1,IF(#REF!=\"\",NA(),#REF!),NA()),NA())","v":{"$error":"#REF!"}},{"$f":"IF(#REF!=$E$1,IF(#REF!=$G$1,IF(#REF!=\"\",NA(),#REF!),NA()),NA())","v":{"$error":"#REF!"}},{"$error":"#REF!"},{"$error":"#REF!"}]
[null,null,null,{"$f":"IF(#REF!=$E$1,IF(#REF!=$G$1,#REF!,NA()),NA())","v":{"$error":"#REF!"}},{"$f":"IF(#REF!=$E$1,IF(#REF!=$G$1,#REF!,NA()),NA())","v":{"$error":"#REF!"}},{"$f":"IF(#REF!=$E$1,IF(#REF!=$G$1,IF(#REF!=\"\",NA(),#REF!),NA()),NA())","v":{"$error":"#REF!"}},{"$f":"IF(#REF!=$E$1,IF(#REF!=$G$1,IF(#REF!=\"\",NA(),#REF!),NA()),NA())","v":{"$error":"#REF!"}},{"$error":"#REF!"},{"$error":"#REF!"}]
[null,null,null,{"$f":"IF(#REF!=$E$1,IF(#REF!=$G$1,#REF!,NA()),NA())","v":{"$error":"#REF!"}},{"$f":"IF(#REF!=$E$1,IF(#REF!=$G$1,#REF!,NA()),NA())","v":{"$error":"#REF!"}},{"$f":"IF(#REF!=$E$1,IF(#REF!=$G$1,IF(#REF!=\"\",NA(),#REF!),NA()),NA())","v":{"$error":"#REF!"}},{"$f":"IF(#REF!=$E$1,IF(#REF!=$G$1,IF(#REF!=\"\",NA(),#REF!),NA()),NA())","v":{"$error":"#REF!"}},{"$error":"#REF!"},{"$error":"#REF!"}]
[null,null,null,{"$f":"IF(#REF!=$E$1,IF(#REF!=$G$1,#REF!,NA()),NA())","v":{"$error":"#REF!"}},{"$f":"IF(#REF!=$E$1,IF(#REF!=$G$1,#REF!,NA()),NA())","v":{"$error":"#REF!"}},{"$f":"IF(#REF!=$E$1,IF(#REF!=$G$1,IF(#REF!=\"\",NA(),#REF!),NA()),NA())","v":{"$error":"#REF!"}},{"$f":"IF(#REF!=$E$1,IF(#REF!=$G$1,IF(#REF!=\"\",NA(),#REF!),NA()),NA())","v":{"$error":"#REF!"}},{"$error":"#REF!"},{"$error":"#REF!"}]
[null,null,null,{"$f":"IF(#REF!=$E$1,IF(#REF!=$G$1,#REF!,NA()),NA())","v":{"$error":"#REF!"}},{"$f":"IF(#REF!=$E$1,IF(#REF!=$G$1,#REF!,NA()),NA())","v":{"$error":"#REF!"}},{"$f":"IF(#REF!=$E$1,IF(#REF!=$G$1,IF(#REF!=\"\",NA(),#REF!),NA()),NA())","v":{"$error":"#REF!"}},{"$f":"IF(#REF!=$E$1,IF(#REF!=$G$1,IF(#REF!=\"\",NA(),#REF!),NA()),NA())","v":{"$error":"#REF!"}},{"$error":"#REF!"},{"$error":"#REF!"}]
[null,null,null,{"$f":"IF(#REF!=$E$1,IF(#REF!=$G$1,#REF!,NA()),NA())","v":{"$error":"#REF!"}},{"$f":"IF(#REF!=$E$1,IF(#REF!=$G$1,#REF!,NA()),NA())","v":{"$error":"#REF!"}},{"$f":"IF(#REF!=$E$1,IF(#REF!=$G$1,IF(#REF!=\"\",NA(),#REF!),NA()),NA())","v":{"$error":"#REF!"}},{"$f":"IF(#REF!=$E$1,IF(#REF!=$G$1,IF(#REF!=\"\",NA(),#REF!),NA()),NA())","v":{"$error":"#REF!"}},{"$error":"#REF!"},{"$error":"#REF!"}]
[null,null,null,{"$f":"IF(#REF!=$E$1,IF(#REF!=$G$1,#REF!,NA()),NA())","v":{"$error":"#REF!"}},{"$f":"IF(#REF!=$E$1,IF(#REF!=$G$1,#REF!,NA()),NA())","v":{"$error":"#REF!"}},{"$f":"IF(#REF!=$E$1,IF(#REF!=$G$1,IF(#REF!=\"\",NA(),#REF!),NA()),NA())","v":{"$error":"#REF!"}},{"$f":"IF(#REF!=$E$1,IF(#REF!=$G$1,IF(#REF!=\"\",NA(),#REF!),NA()),NA())","v":{"$error":"#REF!"}},{"$error":"#REF!"},{"$error":"#REF!"}]
[null,null,null,{"$f":"IF(#REF!=$E$1,IF(#REF!=$G$1,#REF!,NA()),NA())","v":{"$error":"#REF!"}},{"$f":"IF(#REF!=$E$1,IF(#REF!=$G$1,#REF!,NA()),NA())","v":{"$error":"#REF!"}},{"$f":"IF(#REF!=$E$1,IF(#REF!=$G$1,IF(#REF!=\"\",NA(),#REF!),NA()),NA())","v":{"$error":"#REF!"}},{"$f":"IF(#REF!=$E$1,IF(#REF!=$G$1,IF(#REF!=\"\",NA(),#REF!),NA()),NA())","v":{"$error":"#REF!"}},{"$error":"#REF!"},{"$error":"#REF!"}]
[null,null,null,{"$f":"IF(#REF!=$E$1,IF(#REF!=$G$1,#REF!,NA()),NA())","v":{"$error":"#REF!"}},{"$f":"IF(#REF!=$E$1,IF(#REF!=$G$1,#REF!,NA()),NA())","v":{"$error":"#REF!"}},{"$f":"IF(#REF!=$E$1,IF(#REF!=$G$1,IF(#REF!=\"\",NA(),#REF!),NA()),NA())","v":{"$error":"#REF!"}},{"$f":"IF(#REF!=$E$1,IF(#REF!=$G$1,IF(#REF!=\"\",NA(),#REF!),NA()),NA())","v":{"$error":"#REF!"}},{"$error":"#REF!"},{"$error":"#REF!"}]
[null,null,null,{"$f":"IF(#REF!=$E$1,IF(#REF!=$G$1,#REF!,NA()),NA())","v":{"$error":"#REF!"}},{"$f":"IF(#REF!=$E$1,IF(#REF!=$G$1,#REF!,NA()),NA())","v":{"$error":"#REF!"}},{"$f":"IF(#REF!=$E$1,IF(#REF!=$G$1,IF(#REF!=\"\",NA(),#REF!),NA()),NA())","v":{"$error":"#REF!"}},{"$f":"IF(#REF!=$E$1,IF(#REF!=$G$1,IF(#REF!=\"\",NA(),#REF!),NA()),NA())","v":{"$error":"#REF!"}},{"$error":"#REF!"},{"$error":"#REF!"}]
[null,null,null,{"$f":"IF(#REF!=$E$1,IF(#REF!=$G$1,#REF!,NA()),NA())","v":{"$error":"#REF!"}},{"$f":"IF(#REF!=$E$1,IF(#REF!=$G$1,#REF!,NA()),NA())","v":{"$error":"#REF!"}},{"$f":"IF(#REF!=$E$1,IF(#REF!=$G$1,IF(#REF!=\"\",NA(),#REF!),NA()),NA())","v":{"$error":"#REF!"}},{"$f":"IF(#REF!=$E$1,IF(#REF!=$G$1,IF(#REF!=\"\",NA(),#REF!),NA()),NA())","v":{"$error":"#REF!"}},{"$error":"#REF!"},{"$error":"#REF!"}]
[null,null,null,{"$f":"IF(#REF!=$E$1,IF(#REF!=$G$1,#REF!,NA()),NA())","v":{"$error":"#REF!"}},{"$f":"IF(#REF!=$E$1,IF(#REF!=$G$1,#REF!,NA()),NA())","v":{"$error":"#REF!"}},{"$f":"IF(#REF!=$E$1,IF(#REF!=$G$1,IF(#REF!=\"\",NA(),#REF!),NA()),NA())","v":{"$error":"#REF!"}},{"$f":"IF(#REF!=$E$1,IF(#REF!=$G$1,IF(#REF!=\"\",NA(),#REF!),NA()),NA())","v":{"$error":"#REF!"}},{"$error":"#REF!"},{"$error":"#REF!"}]
[null,null,null,{"$f":"IF(#REF!=$E$1,IF(#REF!=$G$1,#REF!,NA()),NA())","v":{"$error":"#REF!"}},{"$f":"IF(#REF!=$E$1,IF(#REF!=$G$1,#REF!,NA()),NA())","v":{"$error":"#REF!"}},{"$f":"IF(#REF!=$E$1,IF(#REF!=$G$1,IF(#REF!=\"\",NA(),#REF!),NA()),NA())","v":{"$error":"#REF!"}},{"$f":"IF(#REF!=$E$1,IF(#REF!=$G$1,IF(#REF!=\"\",NA(),#REF!),NA()),NA())","v":{"$error":"#REF!"}},{"$error":"#REF!"},{"$error":"#REF!"}]
[null,null,null,{"$f":"IF(#REF!=$E$1,IF(#REF!=$G$1,#REF!,NA()),NA())","v":{"$error":"#REF!"}},{"$f":"IF(#REF!=$E$1,IF(#REF!=$G$1,#REF!,NA()),NA())","v":{"$error":"#REF!"}},{"$f":"IF(#REF!=$E$1,IF(#REF!=$G$1,IF(#REF!=\"\",NA(),#REF!),NA()),NA())","v":{"$error":"#REF!"}},{"$f":"IF(#REF!=$E$1,IF(#REF!=$G$1,IF(#REF!=\"\",NA(),#REF!),NA()),NA())","v":{"$error":"#REF!"}},{"$error":"#REF!"},{"$error":"#REF!"}]
[null,null,null,{"$f":"IF(#REF!=$E$1,IF(#REF!=$G$1,#REF!,NA()),NA())","v":{"$error":"#REF!"}},{"$f":"IF(#REF!=$E$1,IF(#REF!=$G$1,#REF!,NA()),NA())","v":{"$error":"#REF!"}},{"$f":"IF(#REF!=$E$1,IF(#REF!=$G$1,IF(#REF!=\"\",NA(),#REF!),NA()),NA())","v":{"$error":"#REF!"}},{"$f":"IF(#REF!=$E$1,IF(#REF!=$G$1,IF(#REF!=\"\",NA(),#REF!),NA()),NA())","v":{"$error":"#REF!"}},{"$error":"#REF!"},{"$error":"#REF!"}]
[null,null,null,{"$f":"IF(#REF!=$E$1,IF(#REF!=$G$1,#REF!,NA()),NA())","v":{"$error":"#REF!"}},{"$f":"IF(#REF!=$E$1,IF(#REF!=$G$1,#REF!,NA()),NA())","v":{"$error":"#REF!"}},{"$f":"IF(#REF!=$E$1,IF(#REF!=$G$1,IF(#REF!=\"\",NA(),#REF!),NA()),NA())","v":{"$error":"#REF!"}},{"$f":"IF(#REF!=$E$1,IF(#REF!=$G$1,IF(#REF!=\"\",NA(),#REF!),NA()),NA())","v":{"$error":"#REF!"}},{"$error":"#REF!"},{"$error":"#REF!"}]
[null,null,null,{"$f":"IF(#REF!=$E$1,IF(#REF!=$G$1,#REF!,NA()),NA())","v":{"$error":"#REF!"}},{"$f":"IF(#REF!=$E$1,IF(#REF!=$G$1,#REF!,NA()),NA())","v":{"$error":"#REF!"}},{"$f":"IF(#REF!=$E$1,IF(#REF!=$G$1,IF(#REF!=\"\",NA(),#REF!),NA()),NA())","v":{"$error":"#REF!"}},{"$f":"IF(#REF!=$E$1,IF(#REF!=$G$1,IF(#REF!=\"\",NA(),#REF!),NA()),NA())","v":{"$error":"#REF!"}},{"$error":"#REF!"},{"$error":"#REF!"}]
[null,null,null,{"$f":"IF(#REF!=$E$1,IF(#REF!=$G$1,#REF!,NA()),NA())","v":{"$error":"#REF!"}},{"$f":"IF(#REF!=$E$1,IF(#REF!=$G$1,#REF!,NA()),NA())","v":{"$error":"#REF!"}},{"$f":"IF(#REF!=$E$1,IF(#REF!=$G$1,IF(#REF!=\"\",NA(),#REF!),NA()),NA())","v":{"$error":"#REF!"}},{"$f":"IF(#REF!=$E$1,IF(#REF!=$G$1,IF(#REF!=\"\",NA(),#REF!),NA()),NA())","v":{"$error":"#REF!"}},{"$error":"#REF!"},{"$error":"#REF!"}]
[null,null,null,{"$f":"IF(#REF!=$E$1,IF(#REF!=$G$1,#REF!,NA()),NA())","v":{"$error":"#REF!"}},{"$f":"IF(#REF!=$E$1,IF(#REF!=$G$1,#REF!,NA()),NA())","v":{"$error":"#REF!"}},{"$f":"IF(#REF!=$E$1,IF(#REF!=$G$1,IF(#REF!=\"\",NA(),#REF!),NA()),NA())","v":{"$error":"#REF!"}},{"$f":"IF(#REF!=$E$1,IF(#REF!=$G$1,IF(#REF!=\"\",NA(),#REF!),NA()),NA())","v":{"$error":"#REF!"}},{"$error":"#REF!"},{"$error":"#REF!"}]
[null,null,null,{"$f":"IF(#REF!=$E$1,IF(#REF!=$G$1,#REF!,NA()),NA())","v":{"$error":"#REF!"}},{"$f":"IF(#REF!=$E$1,IF(#REF!=$G$1,#REF!,NA()),NA())","v":{"$error":"#REF!"}},{"$f":"IF(#REF!=$E$1,IF(#REF!=$G$1,IF(#REF!=\"\",NA(),#REF!),NA()),NA())","v":{"$error":"#REF!"}},{"$f":"IF(#REF!=$E$1,IF(#REF!=$G$1,IF(#REF!=\"\",NA(),#REF!),NA()),NA())","v":{"$error":"#REF!"}},{"$error":"#REF!"},{"$error":"#REF!"}]
[null,null,null,{"$f":"IF(#REF!=$E$1,IF(#REF!=$G$1,#REF!,NA()),NA())","v":{"$error":"#REF!"}},{"$f":"IF(#REF!=$E$1,IF(#REF!=$G$1,#REF!,NA()),NA())","v":{"$error":"#REF!"}},{"$f":"IF(#REF!=$E$1,IF(#REF!=$G$1,IF(#REF!=\"\",NA(),#REF!),NA()),NA())","v":{"$error":"#REF!"}},{"$f":"IF(#REF!=$E$1,IF(#REF!=$G$1,IF(#REF!=\"\",NA(),#REF!),NA()),NA())","v":{"$error":"#REF!"}},{"$error":"#REF!"},{"$error":"#REF!"}]
[null,null,null,{"$f":"IF(#REF!=$E$1,IF(#REF!=$G$1,#REF!,NA()),NA())","v":{"$error":"#REF!"}},{"$f":"IF(#REF!=$E$1,IF(#REF!=$G$1,#REF!,NA()),NA())","v":{"$error":"#REF!"}},{"$f":"IF(#REF!=$E$1,IF(#REF!=$G$1,IF(#REF!=\"\",NA(),#REF!),NA()),NA())","v":{"$error":"#REF!"}},{"$f":"IF(#REF!=$E$1,IF(#REF!=$G$1,IF(#REF!=\"\",NA(),#REF!),NA()),NA())","v":{"$error":"#REF!"}},{"$error":"#REF!"},{"$error":"#REF!"}]
[null,null,null,{"$f":"IF(#REF!=$E$1,IF(#REF!=$G$1,#REF!,NA()),NA())","v":{"$error":"#REF!"}},{"$f":"IF(#REF!=$E$1,IF(#REF!=$G$1,#REF!,NA()),NA())","v":{"$error":"#REF!"}},{"$f":"IF(#REF!=$E$1,IF(#REF!=$G$1,IF(#REF!=\"\",NA(),#REF!),NA()),NA())","v":{"$error":"#REF!"}},{"$f":"IF(#REF!=$E$1,IF(#REF!=$G$1,IF(#REF!=\"\",NA(),#REF!),NA()),NA())","v":{"$error":"#REF!"}},{"$error":"#REF!"},{"$error":"#REF!"}]
[null,null,null,{"$f":"IF(#REF!=$E$1,IF(#REF!=$G$1,#REF!,NA()),NA())","v":{"$error":"#REF!"}},{"$f":"IF(#REF!=$E$1,IF(#REF!=$G$1,#REF!,NA()),NA())","v":{"$error":"#REF!"}},{"$f":"IF(#REF!=$E$1,IF(#REF!=$G$1,IF(#REF!=\"\",NA(),#REF!),NA()),NA())","v":{"$error":"#REF!"}},{"$f":"IF(#REF!=$E$1,IF(#REF!=$G$1,IF(#REF!=\"\",NA(),#REF!),NA()),NA())","v":{"$error":"#REF!"}},{"$error":"#REF!"},{"$error":"#REF!"}]
[null,null,null,{"$f":"IF(#REF!=$E$1,IF(#REF!=$G$1,#REF!,NA()),NA())","v":{"$error":"#REF!"}},{"$f":"IF(#REF!=$E$1,IF(#REF!=$G$1,#REF!,NA()),NA())","v":{"$error":"#REF!"}},{"$f":"IF(#REF!=$E$1,IF(#REF!=$G$1,IF(#REF!=\"\",NA(),#REF!),NA()),NA())","v":{"$error":"#REF!"}},{"$f":"IF(#REF!=$E$1,IF(#REF!=$G$1,IF(#REF!=\"\",NA(),#REF!),NA()),NA())","v":{"$error":"#REF!"}},{"$error":"#REF!"},{"$error":"#REF!"}]
[null,null,null,{"$f":"IF(#REF!=$E$1,IF(#REF!=$G$1,#REF!,NA()),NA())","v":{"$error":"#REF!"}},{"$f":"IF(#REF!=$E$1,IF(#REF!=$G$1,#REF!,NA()),NA())","v":{"$error":"#REF!"}},{"$f":"IF(#REF!=$E$1,IF(#REF!=$G$1,IF(#REF!=\"\",NA(),#REF!),NA()),NA())","v":{"$error":"#REF!"}},{"$f":"IF(#REF!=$E$1,IF(#REF!=$G$1,IF(#REF!=\"\",NA(),#REF!),NA()),NA())","v":{"$error":"#REF!"}},{"$error":"#REF!"},{"$error":"#REF!"}]
[null,null,null,{"$f":"IF(#REF!=$E$1,IF(#REF!=$G$1,#REF!,NA()),NA())","v":{"$error":"#REF!"}},{"$f":"IF(#REF!=$E$1,IF(#REF!=$G$1,#REF!,NA()),NA())","v":{"$error":"#REF!"}},{"$f":"IF(#REF!=$E$1,IF(#REF!=$G$1,IF(#REF!=\"\",NA(),#REF!),NA()),NA())","v":{"$error":"#REF!"}},{"$f":"IF(#REF!=$E$1,IF(#REF!=$G$1,IF(#REF!=\"\",NA(),#REF!),NA()),NA())","v":{"$error":"#REF!"}},{"$error":"#REF!"},{"$error":"#REF!"}]
[null,null,null,{"$f":"IF(#REF!=$E$1,IF(#REF!=$G$1,#REF!,NA()),NA())","v":{"$error":"#REF!"}},{"$f":"IF(#REF!=$E$1,IF(#REF!=$G$1,#REF!,NA()),NA())","v":{"$error":"#REF!"}},{"$f":"IF(#REF!=$E$1,IF(#REF!=$G$1,IF(#REF!=\"\",NA(),#REF!),NA()),NA())","v":{"$error":"#REF!"}},{"$f":"IF(#REF!=$E$1,IF(#REF!=$G$1,IF(#REF!=\"\",NA(),#REF!),NA()),NA())","v":{"$error":"#REF!"}},{"$error":"#REF!"},{"$error":"#REF!"}]
[null,null,null,{"$f":"IF(#REF!=$E$1,IF(#REF!=$G$1,#REF!,NA()),NA())","v":{"$error":"#REF!"}},{"$f":"IF(#REF!=$E$1,IF(#REF!=$G$1,#REF!,NA()),NA())","v":{"$error":"#REF!"}},{"$f":"IF(#REF!=$E$1,IF(#REF!=$G$1,IF(#REF!=\"\",NA(),#REF!),NA()),NA())","v":{"$error":"#REF!"}},{"$f":"IF(#REF!=$E$1,IF(#REF!=$G$1,IF(#REF!=\"\",NA(),#REF!),NA()),NA())","v":{"$error":"#REF!"}},{"$error":"#REF!"},{"$error":"#REF!"}]
[null,null,null,{"$f":"IF(#REF!=$E$1,IF(#REF!=$G$1,#REF!,NA()),NA())","v":{"$error":"#REF!"}},{"$f":"IF(#REF!=$E$1,IF(#REF!=$G$1,#REF!,NA()),NA())","v":{"$error":"#REF!"}},{"$f":"IF(#REF!=$E$1,IF(#REF!=$G$1,IF(#REF!=\"\",NA(),#REF!),NA()),NA())","v":{"$error":"#REF!"}},{"$f":"IF(#REF!=$E$1,IF(#REF!=$G$1,IF(#REF!=\"\",NA(),#REF!),NA()),NA())","v":{"$error":"#REF!"}},{"$error":"#REF!"},{"$error":"#REF!"}]
[null,null,null,{"$f":"IF(#REF!=$E$1,IF(#REF!=$G$1,#REF!,NA()),NA())","v":{"$error":"#REF!"}},{"$f":"IF(#REF!=$E$1,IF(#REF!=$G$1,#REF!,NA()),NA())","v":{"$error":"#REF!"}},{"$f":"IF(#REF!=$E$1,IF(#REF!=$G$1,IF(#REF!=\"\",NA(),#REF!),NA()),NA())","v":{"$error":"#REF!"}},{"$f":"IF(#REF!=$E$1,IF(#REF!=$G$1,IF(#REF!=\"\",NA(),#REF!),NA()),NA())","v":{"$error":"#REF!"}},{"$error":"#REF!"},{"$error":"#REF!"}]
[null,null,null,{"$f":"IF(#REF!=$E$1,IF(#REF!=$G$1,#REF!,NA()),NA())","v":{"$error":"#REF!"}},{"$f":"IF(#REF!=$E$1,IF(#REF!=$G$1,#REF!,NA()),NA())","v":{"$error":"#REF!"}},{"$f":"IF(#REF!=$E$1,IF(#REF!=$G$1,IF(#REF!=\"\",NA(),#REF!),NA()),NA())","v":{"$error":"#REF!"}},{"$f":"IF(#REF!=$E$1,IF(#REF!=$G$1,IF(#REF!=\"\",NA(),#REF!),NA()),NA())","v":{"$error":"#REF!"}},{"$error":"#REF!"},{"$error":"#REF!"}]
[null,null,null,{"$f":"IF(#REF!=$E$1,IF(#REF!=$G$1,#REF!,NA()),NA())","v":{"$error":"#REF!"}},{"$f":"IF(#REF!=$E$1,IF(#REF!=$G$1,#REF!,NA()),NA())","v":{"$error":"#REF!"}},{"$f":"IF(#REF!=$E$1,IF(#REF!=$G$1,IF(#REF!=\"\",NA(),#REF!),NA()),NA())","v":{"$error":"#REF!"}},{"$f":"IF(#REF!=$E$1,IF(#REF!=$G$1,IF(#REF!=\"\",NA(),#REF!),NA()),NA())","v":{"$error":"#REF!"}},{"$error":"#REF!"},{"$error":"#REF!"}]
[null,null,null,{"$f":"IF(#REF!=$E$1,IF(#REF!=$G$1,#REF!,NA()),NA())","v":{"$error":"#REF!"}},{"$f":"IF(#REF!=$E$1,IF(#REF!=$G$1,#REF!,NA()),NA())","v":{"$error":"#REF!"}},{"$f":"IF(#REF!=$E$1,IF(#REF!=$G$1,IF(#REF!=\"\",NA(),#REF!),NA()),NA())","v":{"$error":"#REF!"}},{"$f":"IF(#REF!=$E$1,IF(#REF!=$G$1,IF(#REF!=\"\",NA(),#REF!),NA()),NA())","v":{"$error":"#REF!"}},{"$error":"#REF!"},{"$error":"#REF!"}]
[null,null,null,{"$f":"IF(#REF!=$E$1,IF(#REF!=$G$1,#REF!,NA()),NA())","v":{"$error":"#REF!"}},{"$f":"IF(#REF!=$E$1,IF(#REF!=$G$1,#REF!,NA()),NA())","v":{"$error":"#REF!"}},{"$f":"IF(#REF!=$E$1,IF(#REF!=$G$1,IF(#REF!=\"\",NA(),#REF!),NA()),NA())","v":{"$error":"#REF!"}},{"$f":"IF(#REF!=$E$1,IF(#REF!=$G$1,IF(#REF!=\"\",NA(),#REF!),NA()),NA())","v":{"$error":"#REF!"}},{"$error":"#REF!"},{"$error":"#REF!"}]
[null,null,null,{"$f":"IF(#REF!=$E$1,IF(#REF!=$G$1,#REF!,NA()),NA())","v":{"$error":"#REF!"}},{"$f":"IF(#REF!=$E$1,IF(#REF!=$G$1,#REF!,NA()),NA())","v":{"$error":"#REF!"}},{"$f":"IF(#REF!=$E$1,IF(#REF!=$G$1,IF(#REF!=\"\",NA(),#REF!),NA()),NA())","v":{"$error":"#REF!"}},{"$f":"IF(#REF!=$E$1,IF(#REF!=$G$1,IF(#REF!=\"\",NA(),#REF!),NA()),NA())","v":{"$error":"#REF!"}},{"$error":"#REF!"},{"$error":"#REF!"}]
[null,null,null,{"$f":"IF(#REF!=$E$1,IF(#REF!=$G$1,#REF!,NA()),NA())","v":{"$error":"#REF!"}},{"$f":"IF(#REF!=$E$1,IF(#REF!=$G$1,#REF!,NA()),NA())","v":{"$error":"#REF!"}},{"$f":"IF(#REF!=$E$1,IF(#REF!=$G$1,IF(#REF!=\"\",NA(),#REF!),NA()),NA())","v":{"$error":"#REF!"}},{"$f":"IF(#REF!=$E$1,IF(#REF!=$G$1,IF(#REF!=\"\",NA(),#REF!),NA()),NA())","v":{"$error":"#REF!"}},{"$error":"#REF!"},{"$error":"#REF!"}]
[null,null,null,{"$f":"IF(#REF!=$E$1,IF(#REF!=$G$1,#REF!,NA()),NA())","v":{"$error":"#REF!"}},{"$f":"IF(#REF!=$E$1,IF(#REF!=$G$1,#REF!,NA()),NA())","v":{"$error":"#REF!"}},{"$f":"IF(#REF!=$E$1,IF(#REF!=$G$1,IF(#REF!=\"\",NA(),#REF!),NA()),NA())","v":{"$error":"#REF!"}},{"$f":"IF(#REF!=$E$1,IF(#REF!=$G$1,IF(#REF!=\"\",NA(),#REF!),NA()),NA())","v":{"$error":"#REF!"}},{"$error":"#REF!"},{"$error":"#REF!"}]
[null,null,null,{"$f":"IF(#REF!=$E$1,IF(#REF!=$G$1,#REF!,NA()),NA())","v":{"$error":"#REF!"}},{"$f":"IF(#REF!=$E$1,IF(#REF!=$G$1,#REF!,NA()),NA())","v":{"$error":"#REF!"}},{"$f":"IF(#REF!=$E$1,IF(#REF!=$G$1,IF(#REF!=\"\",NA(),#REF!),NA()),NA())","v":{"$error":"#REF!"}},{"$f":"IF(#REF!=$E$1,IF(#REF!=$G$1,IF(#REF!=\"\",NA(),#REF!),NA()),NA())","v":{"$error":"#REF!"}},{"$error":"#REF!"},{"$error":"#REF!"}]
[null,null,null,{"$f":"IF(#REF!=$E$1,IF(#REF!=$G$1,#REF!,NA()),NA())","v":{"$error":"#REF!"}},{"$f":"IF(#REF!=$E$1,IF(#REF!=$G$1,#REF!,NA()),NA())","v":{"$error":"#REF!"}},{"$f":"IF(#REF!=$E$1,IF(#REF!=$G$1,IF(#REF!=\"\",NA(),#REF!),NA()),NA())","v":{"$error":"#REF!"}},{"$f":"IF(#REF!=$E$1,IF(#REF!=$G$1,IF(#REF!=\"\",NA(),#REF!),NA()),NA())","v":{"$error":"#REF!"}},{"$error":"#REF!"},{"$error":"#REF!"}]
[null,null,null,{"$f":"IF(#REF!=$E$1,IF(#REF!=$G$1,#REF!,NA()),NA())","v":{"$error":"#REF!"}},{"$f":"IF(#REF!=$E$1,IF(#REF!=$G$1,#REF!,NA()),NA())","v":{"$error":"#REF!"}},{"$f":"IF(#REF!=$E$1,IF(#REF!=$G$1,IF(#REF!=\"\",NA(),#REF!),NA()),NA())","v":{"$error":"#REF!"}},{"$f":"IF(#REF!=$E$1,IF(#REF!=$G$1,IF(#REF!=\"\",NA(),#REF!),NA()),NA())","v":{"$error":"#REF!"}},{"$error":"#REF!"},{"$error":"#REF!"}]
[null,null,null,{"$f":"IF(#REF!=$E$1,IF(#REF!=$G$1,#REF!,NA()),NA())","v":{"$error":"#REF!"}},{"$f":"IF(#REF!=$E$1,IF(#REF!=$G$1,#REF!,NA()),NA())","v":{"$error":"#REF!"}},{"$f":"IF(#REF!=$E$1,IF(#REF!=$G$1,IF(#REF!=\"\",NA(),#REF!),NA()),NA())","v":{"$error":"#REF!"}},{"$f":"IF(#REF!=$E$1,IF(#REF!=$G$1,IF(#REF!=\"\",NA(),#REF!),NA()),NA())","v":{"$error":"#REF!"}},{"$error":"#REF!"},{"$error":"#REF!"}]
[null,null,null,{"$f":"IF(#REF!=$E$1,IF(#REF!=$G$1,#REF!,NA()),NA())","v":{"$error":"#REF!"}},{"$f":"IF(#REF!=$E$1,IF(#REF!=$G$1,#REF!,NA()),NA())","v":{"$error":"#REF!"}},{"$f":"IF(#REF!=$E$1,IF(#REF!=$G$1,IF(#REF!=\"\",NA(),#REF!),NA()),NA())","v":{"$error":"#REF!"}},{"$f":"IF(#REF!=$E$1,IF(#REF!=$G$1,IF(#REF!=\"\",NA(),#REF!),NA()),NA())","v":{"$error":"#REF!"}},{"$error":"#REF!"},{"$error":"#REF!"}]
[null,null,null,{"$f":"IF(#REF!=$E$1,IF(#REF!=$G$1,#REF!,NA()),NA())","v":{"$error":"#REF!"}},{"$f":"IF(#REF!=$E$1,IF(#REF!=$G$1,#REF!,NA()),NA())","v":{"$error":"#REF!"}},{"$f":"IF(#REF!=$E$1,IF(#REF!=$G$1,IF(#REF!=\"\",NA(),#REF!),NA()),NA())","v":{"$error":"#REF!"}},{"$f":"IF(#REF!=$E$1,IF(#REF!=$G$1,IF(#REF!=\"\",NA(),#REF!),NA()),NA())","v":{"$error":"#REF!"}},{"$error":"#REF!"},{"$error":"#REF!"}]
[null,null,null,{"$f":"IF(#REF!=$E$1,IF(#REF!=$G$1,#REF!,NA()),NA())","v":{"$error":"#REF!"}},{"$f":"IF(#REF!=$E$1,IF(#REF!=$G$1,#REF!,NA()),NA())","v":{"$error":"#REF!"}},{"$f":"IF(#REF!=$E$1,IF(#REF!=$G$1,IF(#REF!=\"\",NA(),#REF!),NA()),NA())","v":{"$error":"#REF!"}},{"$f":"IF(#REF!=$E$1,IF(#REF!=$G$1,IF(#REF!=\"\",NA(),#REF!),NA()),NA())","v":{"$error":"#REF!"}},{"$error":"#REF!"},{"$error":"#REF!"}]
[null,null,null,{"$f":"IF(#REF!=$E$1,IF(#REF!=$G$1,#REF!,NA()),NA())","v":{"$error":"#REF!"}},{"$f":"IF(#REF!=$E$1,IF(#REF!=$G$1,#REF!,NA()),NA())","v":{"$error":"#REF!"}},{"$f":"IF(#REF!=$E$1,IF(#REF!=$G$1,IF(#REF!=\"\",NA(),#REF!),NA()),NA())","v":{"$error":"#REF!"}},{"$f":"IF(#REF!=$E$1,IF(#REF!=$G$1,IF(#REF!=\"\",NA(),#REF!),NA()),NA())","v":{"$error":"#REF!"}},{"$error":"#REF!"},{"$error":"#REF!"}]
[null,null,null,{"$f":"IF(#REF!=$E$1,IF(#REF!=$G$1,#REF!,NA()),NA())","v":{"$error":"#REF!"}},{"$f":"IF(#REF!=$E$1,IF(#REF!=$G$1,#REF!,NA()),NA())","v":{"$error":"#REF!"}},{"$f":"IF(#REF!=$E$1,IF(#REF!=$G$1,IF(#REF!=\"\",NA(),#REF!),NA()),NA())","v":{"$error":"#REF!"}},{"$f":"IF(#REF!=$E$1,IF(#REF!=$G$1,IF(#REF!=\"\",NA(),#REF!),NA()),NA())","v":{"$error":"#REF!"}},{"$error":"#REF!"},{"$error":"#REF!"}]
[null,null,null,{"$f":"IF(#REF!=$E$1,IF(#REF!=$G$1,#REF!,NA()),NA())","v":{"$error":"#REF!"}},{"$f":"IF(#REF!=$E$1,IF(#REF!=$G$1,#REF!,NA()),NA())","v":{"$error":"#REF!"}},{"$f":"IF(#REF!=$E$1,IF(#REF!=$G$1,IF(#REF!=\"\",NA(),#REF!),NA()),NA())","v":{"$error":"#REF!"}},{"$f":"IF(#REF!=$E$1,IF(#REF!=$G$1,IF(#REF!=\"\",NA(),#REF!),NA()),NA())","v":{"$error":"#REF!"}},{"$f":"IF(AND(ISNUMBER(G964),F964=\"-\"),0,F964)","v":{"$error":"#REF!"}},{"$f":"IF(AND(ISNUMBER(F964),G964=\"-\"),0,G964)","v":{"$error":"#REF!"}}]
[null,null,null,{"$f":"IF(#REF!=$E$1,IF(#REF!=$G$1,#REF!,NA()),NA())","v":{"$error":"#REF!"}},{"$f":"IF(#REF!=$E$1,IF(#REF!=$G$1,#REF!,NA()),NA())","v":{"$error":"#REF!"}},{"$f":"IF(#REF!=$E$1,IF(#REF!=$G$1,IF(#REF!=\"\",NA(),#REF!),NA()),NA())","v":{"$error":"#REF!"}},{"$f":"IF(#REF!=$E$1,IF(#REF!=$G$1,IF(#REF!=\"\",NA(),#REF!),NA()),NA())","v":{"$error":"#REF!"}},{"$error":"#REF!"},{"$error":"#REF!"}]
[null,null,null,{"$f":"IF(#REF!=$E$1,IF(#REF!=$G$1,#REF!,NA()),NA())","v":{"$error":"#REF!"}},{"$f":"IF(#REF!=$E$1,IF(#REF!=$G$1,#REF!,NA()),NA())","v":{"$error":"#REF!"}},{"$f":"IF(#REF!=$E$1,IF(#REF!=$G$1,IF(#REF!=\"\",NA(),#REF!),NA()),NA())","v":{"$error":"#REF!"}},{"$f":"IF(#REF!=$E$1,IF(#REF!=$G$1,IF(#REF!=\"\",NA(),#REF!),NA()),NA())","v":{"$error":"#REF!"}},{"$error":"#REF!"},{"$error":"#REF!"}]
[null,null,null,{"$f":"IF(#REF!=$E$1,IF(#REF!=$G$1,#REF!,NA()),NA())","v":{"$error":"#REF!"}},{"$f":"IF(#REF!=$E$1,IF(#REF!=$G$1,#REF!,NA()),NA())","v":{"$error":"#REF!"}},{"$f":"IF(#REF!=$E$1,IF(#REF!=$G$1,IF(#REF!=\"\",NA(),#REF!),NA()),NA())","v":{"$error":"#REF!"}},{"$f":"IF(#REF!=$E$1,IF(#REF!=$G$1,IF(#REF!=\"\",NA(),#REF!),NA()),NA())","v":{"$error":"#REF!"}},{"$error":"#REF!"},{"$error":"#REF!"}]
[null,null,null,{"$f":"IF(#REF!=$E$1,IF(#REF!=$G$1,#REF!,NA()),NA())","v":{"$error":"#REF!"}},{"$f":"IF(#REF!=$E$1,IF(#REF!=$G$1,#REF!,NA()),NA())","v":{"$error":"#REF!"}},{"$f":"IF(#REF!=$E$1,IF(#REF!=$G$1,IF(#REF!=\"\",NA(),#REF!),NA()),NA())","v":{"$error":"#REF!"}},{"$f":"IF(#REF!=$E$1,IF(#REF!=$G$1,IF(#REF!=\"\",NA(),#REF!),NA()),NA())","v":{"$error":"#REF!"}},{"$error":"#REF!"},{"$error":"#REF!"}]
[null,null,null,{"$f":"IF(#REF!=$E$1,IF(#REF!=$G$1,#REF!,NA()),NA())","v":{"$error":"#REF!"}},{"$f":"IF(#REF!=$E$1,IF(#REF!=$G$1,#REF!,NA()),NA())","v":{"$error":"#REF!"}},{"$f":"IF(#REF!=$E$1,IF(#REF!=$G$1,IF(#REF!=\"\",NA(),#REF!),NA()),NA())","v":{"$error":"#REF!"}},{"$f":"IF(#REF!=$E$1,IF(#REF!=$G$1,IF(#REF!=\"\",NA(),#REF!),NA()),NA())","v":{"$error":"#REF!"}},{"$error":"#REF!"},{"$error":"#REF!"}]
[null,null,null,{"$f":"IF(#REF!=$E$1,IF(#REF!=$G$1,#REF!,NA()),NA())","v":{"$error":"#REF!"}},{"$f":"IF(#REF!=$E$1,IF(#REF!=$G$1,#REF!,NA()),NA())","v":{"$error":"#REF!"}},{"$f":"IF(#REF!=$E$1,IF(#REF!=$G$1,IF(#REF!=\"\",NA(),#REF!),NA()),NA())","v":{"$error":"#REF!"}},{"$f":"IF(#REF!=$E$1,IF(#REF!=$G$1,IF(#REF!=\"\",NA(),#REF!),NA()),NA())","v":{"$error":"#REF!"}},{"$error":"#REF!"},{"$error":"#REF!"}]
[null,null,null,{"$f":"IF(#REF!=$E$1,IF(#REF!=$G$1,#REF!,NA()),NA())","v":{"$error":"#REF!"}},{"$f":"IF(#REF!=$E$1,IF(#REF!=$G$1,#REF!,NA()),NA())","v":{"$error":"#REF!"}},{"$f":"IF(#REF!=$E$1,IF(#REF!=$G$1,IF(#REF!=\"\",NA(),#REF!),NA()),NA())","v":{"$error":"#REF!"}},{"$f":"IF(#REF!=$E$1,IF(#REF!=$G$1,IF(#REF!=\"\",NA(),#REF!),NA()),NA())","v":{"$error":"#REF!"}},{"$error":"#REF!"},{"$error":"#REF!"}]
[null,null,null,{"$f":"IF(#REF!=$E$1,IF(#REF!=$G$1,#REF!,NA()),NA())","v":{"$error":"#REF!"}},{"$f":"IF(#REF!=$E$1,IF(#REF!=$G$1,#REF!,NA()),NA())","v":{"$error":"#REF!"}},{"$f":"IF(#REF!=$E$1,IF(#REF!=$G$1,IF(#REF!=\"\",NA(),#REF!),NA()),NA())","v":{"$error":"#REF!"}},{"$f":"IF(#REF!=$E$1,IF(#REF!=$G$1,IF(#REF!=\"\",NA(),#REF!),NA()),NA())","v":{"$error":"#REF!"}},{"$error":"#REF!"},{"$error":"#REF!"}]
[null,null,null,{"$f":"IF(#REF!=$E$1,IF(#REF!=$G$1,#REF!,NA()),NA())","v":{"$error":"#REF!"}},{"$f":"IF(#REF!=$E$1,IF(#REF!=$G$1,#REF!,NA()),NA())","v":{"$error":"#REF!"}},{"$f":"IF(#REF!=$E$1,IF(#REF!=$G$1,IF(#REF!=\"\",NA(),#REF!),NA()),NA())","v":{"$error":"#REF!"}},{"$f":"IF(#REF!=$E$1,IF(#REF!=$G$1,IF(#REF!=\"\",NA(),#REF!),NA()),NA())","v":{"$error":"#REF!"}},{"$error":"#REF!"},{"$error":"#REF!"}]
[null,null,null,{"$f":"IF(#REF!=$E$1,IF(#REF!=$G$1,#REF!,NA()),NA())","v":{"$error":"#REF!"}},{"$f":"IF(#REF!=$E$1,IF(#REF!=$G$1,#REF!,NA()),NA())","v":{"$error":"#REF!"}},{"$f":"IF(#REF!=$E$1,IF(#REF!=$G$1,IF(#REF!=\"\",NA(),#REF!),NA()),NA())","v":{"$error":"#REF!"}},{"$f":"IF(#REF!=$E$1,IF(#REF!=$G$1,IF(#REF!=\"\",NA(),#REF!),NA()),NA())","v":{"$error":"#REF!"}},{"$error":"#REF!"},{"$error":"#REF!"}]
[null,null,null,{"$f":"IF(#REF!=$E$1,IF(#REF!=$G$1,#REF!,NA()),NA())","v":{"$error":"#REF!"}},{"$f":"IF(#REF!=$E$1,IF(#REF!=$G$1,#REF!,NA()),NA())","v":{"$error":"#REF!"}},{"$f":"IF(#REF!=$E$1,IF(#REF!=$G$1,IF(#REF!=\"\",NA(),#REF!),NA()),NA())","v":{"$error":"#REF!"}},{"$f":"IF(#REF!=$E$1,IF(#REF!=$G$1,IF(#REF!=\"\",NA(),#REF!),NA()),NA())","v":{"$error":"#REF!"}},{"$error":"#REF!"},{"$error":"#REF!"}]
[null,null,null,{"$f":"IF(#REF!=$E$1,IF(#REF!=$G$1,#REF!,NA()),NA())","v":{"$error":"#REF!"}},{"$f":"IF(#REF!=$E$1,IF(#REF!=$G$1,#REF!,NA()),NA())","v":{"$error":"#REF!"}},{"$f":"IF(#REF!=$E$1,IF(#REF!=$G$1,IF(#REF!=\"\",NA(),#REF!),NA()),NA())","v":{"$error":"#REF!"}},{"$f":"IF(#REF!=$E$1,IF(#REF!=$G$1,IF(#REF!=\"\",NA(),#REF!),NA()),NA())","v":{"$error":"#REF!"}},{"$error":"#REF!"},{"$error":"#REF!"}]
[null,null,null,{"$f":"IF(#REF!=$E$1,IF(#REF!=$G$1,#REF!,NA()),NA())","v":{"$error":"#REF!"}},{"$f":"IF(#REF!=$E$1,IF(#REF!=$G$1,#REF!,NA()),NA())","v":{"$error":"#REF!"}},{"$f":"IF(#REF!=$E$1,IF(#REF!=$G$1,IF(#REF!=\"\",NA(),#REF!),NA()),NA())","v":{"$error":"#REF!"}},{"$f":"IF(#REF!=$E$1,IF(#REF!=$G$1,IF(#REF!=\"\",NA(),#REF!),NA()),NA())","v":{"$error":"#REF!"}},{"$error":"#REF!"},{"$error":"#REF!"}]
[null,null,null,{"$f":"IF(#REF!=$E$1,IF(#REF!=$G$1,#REF!,NA()),NA())","v":{"$error":"#REF!"}},{"$f":"IF(#REF!=$E$1,IF(#REF!=$G$1,#REF!,NA()),NA())","v":{"$error":"#REF!"}},{"$f":"IF(#REF!=$E$1,IF(#REF!=$G$1,IF(#REF!=\"\",NA(),#REF!),NA()),NA())","v":{"$error":"#REF!"}},{"$f":"IF(#REF!=$E$1,IF(#REF!=$G$1,IF(#REF!=\"\",NA(),#REF!),NA()),NA())","v":{"$error":"#REF!"}},{"$error":"#REF!"},{"$error":"#REF!"}]
[null,null,null,{"$f":"IF(#REF!=$E$1,IF(#REF!=$G$1,#REF!,NA()),NA())","v":{"$error":"#REF!"}},{"$f":"IF(#REF!=$E$1,IF(#REF!=$G$1,#REF!,NA()),NA())","v":{"$error":"#REF!"}},{"$f":"IF(#REF!=$E$1,IF(#REF!=$G$1,IF(#REF!=\"\",NA(),#REF!),NA()),NA())","v":{"$error":"#REF!"}},{"$f":"IF(#REF!=$E$1,IF(#REF!=$G$1,IF(#REF!=\"\",NA(),#REF!),NA()),NA())","v":{"$error":"#REF!"}},{"$error":"#REF!"},{"$error":"#REF!"}]
[null,null,null,{"$f":"IF(#REF!=$E$1,IF(#REF!=$G$1,#REF!,NA()),NA())","v":{"$error":"#REF!"}},{"$f":"IF(#REF!=$E$1,IF(#REF!=$G$1,#REF!,NA()),NA())","v":{"$error":"#REF!"}},{"$f":"IF(#REF!=$E$1,IF(#REF!=$G$1,IF(#REF!=\"\",NA(),#REF!),NA()),NA())","v":{"$error":"#REF!"}},{"$f":"IF(#REF!=$E$1,IF(#REF!=$G$1,IF(#REF!=\"\",NA(),#REF!),NA()),NA())","v":{"$error":"#REF!"}},{"$error":"#REF!"},{"$error":"#REF!"}]
[null,null,null,{"$f":"IF(#REF!=$E$1,IF(#REF!=$G$1,#REF!,NA()),NA())","v":{"$error":"#REF!"}},{"$f":"IF(#REF!=$E$1,IF(#REF!=$G$1,#REF!,NA()),NA())","v":{"$error":"#REF!"}},{"$f":"IF(#REF!=$E$1,IF(#REF!=$G$1,IF(#REF!=\"\",NA(),#REF!),NA()),NA())","v":{"$error":"#REF!"}},{"$f":"IF(#REF!=$E$1,IF(#REF!=$G$1,IF(#REF!=\"\",NA(),#REF!),NA()),NA())","v":{"$error":"#REF!"}},{"$error":"#REF!"},{"$error":"#REF!"}]
[null,null,null,{"$f":"IF(#REF!=$E$1,IF(#REF!=$G$1,#REF!,NA()),NA())","v":{"$error":"#REF!"}},{"$f":"IF(#REF!=$E$1,IF(#REF!=$G$1,#REF!,NA()),NA())","v":{"$error":"#REF!"}},{"$f":"IF(#REF!=$E$1,IF(#REF!=$G$1,IF(#REF!=\"\",NA(),#REF!),NA()),NA())","v":{"$error":"#REF!"}},{"$f":"IF(#REF!=$E$1,IF(#REF!=$G$1,IF(#REF!=\"\",NA(),#REF!),NA()),NA())","v":{"$error":"#REF!"}},{"$error":"#REF!"},{"$error":"#REF!"}]
[null,null,null,{"$f":"IF(#REF!=$E$1,IF(#REF!=$G$1,#REF!,NA()),NA())","v":{"$error":"#REF!"}},{"$f":"IF(#REF!=$E$1,IF(#REF!=$G$1,#REF!,NA()),NA())","v":{"$error":"#REF!"}},{"$f":"IF(#REF!=$E$1,IF(#REF!=$G$1,IF(#REF!=\"\",NA(),#REF!),NA()),NA())","v":{"$error":"#REF!"}},{"$f":"IF(#REF!=$E$1,IF(#REF!=$G$1,IF(#REF!=\"\",NA(),#REF!),NA()),NA())","v":{"$error":"#REF!"}},{"$error":"#REF!"},{"$error":"#REF!"}]
[null,null,null,{"$f":"IF(#REF!=$E$1,IF(#REF!=$G$1,#REF!,NA()),NA())","v":{"$error":"#REF!"}},{"$f":"IF(#REF!=$E$1,IF(#REF!=$G$1,#REF!,NA()),NA())","v":{"$error":"#REF!"}},{"$f":"IF(#REF!=$E$1,IF(#REF!=$G$1,IF(#REF!=\"\",NA(),#REF!),NA()),NA())","v":{"$error":"#REF!"}},{"$f":"IF(#REF!=$E$1,IF(#REF!=$G$1,IF(#REF!=\"\",NA(),#REF!),NA()),NA())","v":{"$error":"#REF!"}},{"$error":"#REF!"},{"$error":"#REF!"}]
[null,null,null,{"$f":"IF(#REF!=$E$1,IF(#REF!=$G$1,#REF!,NA()),NA())","v":{"$error":"#REF!"}},{"$f":"IF(#REF!=$E$1,IF(#REF!=$G$1,#REF!,NA()),NA())","v":{"$error":"#REF!"}},{"$f":"IF(#REF!=$E$1,IF(#REF!=$G$1,IF(#REF!=\"\",NA(),#REF!),NA()),NA())","v":{"$error":"#REF!"}},{"$f":"IF(#REF!=$E$1,IF(#REF!=$G$1,IF(#REF!=\"\",NA(),#REF!),NA()),NA())","v":{"$error":"#REF!"}},{"$error":"#REF!"},{"$error":"#REF!"}]
[null,null,null,{"$f":"IF(#REF!=$E$1,IF(#REF!=$G$1,#REF!,NA()),NA())","v":{"$error":"#REF!"}},{"$f":"IF(#REF!=$E$1,IF(#REF!=$G$1,#REF!,NA()),NA())","v":{"$error":"#REF!"}},{"$f":"IF(#REF!=$E$1,IF(#REF!=$G$1,IF(#REF!=\"\",NA(),#REF!),NA()),NA())","v":{"$error":"#REF!"}},{"$f":"IF(#REF!=$E$1,IF(#REF!=$G$1,IF(#REF!=\"\",NA(),#REF!),NA()),NA())","v":{"$error":"#REF!"}},{"$error":"#REF!"},{"$error":"#REF!"}]
[null,null,null,{"$f":"IF(#REF!=$E$1,IF(#REF!=$G$1,#REF!,NA()),NA())","v":{"$error":"#REF!"}},{"$f":"IF(#REF!=$E$1,IF(#REF!=$G$1,#REF!,NA()),NA())","v":{"$error":"#REF!"}},{"$f":"IF(#REF!=$E$1,IF(#REF!=$G$1,IF(#REF!=\"\",NA(),#REF!),NA()),NA())","v":{"$error":"#REF!"}},{"$f":"IF(#REF!=$E$1,IF(#REF!=$G$1,IF(#REF!=\"\",NA(),#REF!),NA()),NA())","v":{"$error":"#REF!"}},{"$error":"#REF!"},{"$error":"#REF!"}]
[null,null,null,{"$f":"IF(#REF!=$E$1,IF(#REF!=$G$1,#REF!,NA()),NA())","v":{"$error":"#REF!"}},{"$f":"IF(#REF!=$E$1,IF(#REF!=$G$1,#REF!,NA()),NA())","v":{"$error":"#REF!"}},{"$f":"IF(#REF!=$E$1,IF(#REF!=$G$1,IF(#REF!=\"\",NA(),#REF!),NA()),NA())","v":{"$error":"#REF!"}},{"$f":"IF(#REF!=$E$1,IF(#REF!=$G$1,IF(#REF!=\"\",NA(),#REF!),NA()),NA())","v":{"$error":"#REF!"}},{"$error":"#REF!"},{"$error":"#REF!"}]
[null,null,null,{"$f":"IF(#REF!=$E$1,IF(#REF!=$G$1,#REF!,NA()),NA())","v":{"$error":"#REF!"}},{"$f":"IF(#REF!=$E$1,IF(#REF!=$G$1,#REF!,NA()),NA())","v":{"$error":"#REF!"}},{"$f":"IF(#REF!=$E$1,IF(#REF!=$G$1,IF(#REF!=\"\",NA(),#REF!),NA()),NA())","v":{"$error":"#REF!"}},{"$f":"IF(#REF!=$E$1,IF(#REF!=$G$1,IF(#REF!=\"\",NA(),#REF!),NA()),NA())","v":{"$error":"#REF!"}},{"$error":"#REF!"},{"$error":"#REF!"}]
[null,null,null,{"$f":"IF(#REF!=$E$1,IF(#REF!=$G$1,#REF!,NA()),NA())","v":{"$error":"#REF!"}},{"$f":"IF(#REF!=$E$1,IF(#REF!=$G$1,#REF!,NA()),NA())","v":{"$error":"#REF!"}},{"$f":"IF(#REF!=$E$1,IF(#REF!=$G$1,IF(#REF!=\"\",NA(),#REF!),NA()),NA())","v":{"$error":"#REF!"}},{"$f":"IF(#REF!=$E$1,IF(#REF!=$G$1,IF(#REF!=\"\",NA(),#REF!),NA()),NA())","v":{"$error":"#REF!"}},{"$error":"#REF!"},{"$error":"#REF!"}]
[null,null,null,{"$f":"IF(#REF!=$E$1,IF(#REF!=$G$1,#REF!,NA()),NA())","v":{"$error":"#REF!"}},{"$f":"IF(#REF!=$E$1,IF(#REF!=$G$1,#REF!,NA()),NA())","v":{"$error":"#REF!"}},{"$f":"IF(#REF!=$E$1,IF(#REF!=$G$1,IF(#REF!=\"\",NA(),#REF!),NA()),NA())","v":{"$error":"#REF!"}},{"$f":"IF(#REF!=$E$1,IF(#REF!=$G$1,IF(#REF!=\"\",NA(),#REF!),NA()),NA())","v":{"$error":"#REF!"}},{"$error":"#REF!"},{"$error":"#REF!"}]
[null,null,null,{"$f":"IF(#REF!=$E$1,IF(#REF!=$G$1,#REF!,NA()),NA())","v":{"$error":"#REF!"}},{"$f":"IF(#REF!=$E$1,IF(#REF!=$G$1,#REF!,NA()),NA())","v":{"$error":"#REF!"}},{"$f":"IF(#REF!=$E$1,IF(#REF!=$G$1,IF(#REF!=\"\",NA(),#REF!),NA()),NA())","v":{"$error":"#REF!"}},{"$f":"IF(#REF!=$E$1,IF(#REF!=$G$1,IF(#REF!=\"\",NA(),#REF!),NA()),NA())","v":{"$error":"#REF!"}},{"$error":"#REF!"},{"$error":"#REF!"}]
[null,null,null,{"$f":"IF(#REF!=$E$1,IF(#REF!=$G$1,#REF!,NA()),NA())","v":{"$error":"#REF!"}},{"$f":"IF(#REF!=$E$1,IF(#REF!=$G$1,#REF!,NA()),NA())","v":{"$error":"#REF!"}},{"$f":"IF(#REF!=$E$1,IF(#REF!=$G$1,IF(#REF!=\"\",NA(),#REF!),NA()),NA())","v":{"$error":"#REF!"}},{"$f":"IF(#REF!=$E$1,IF(#REF!=$G$1,IF(#REF!=\"\",NA(),#REF!),NA()),NA())","v":{"$error":"#REF!"}},{"$error":"#REF!"},{"$error":"#REF!"}]
[null,null,null,{"$f":"IF(#REF!=$E$1,IF(#REF!=$G$1,#REF!,NA()),NA())","v":{"$error":"#REF!"}},{"$f":"IF(#REF!=$E$1,IF(#REF!=$G$1,#REF!,NA()),NA())","v":{"$error":"#REF!"}},{"$f":"IF(#REF!=$E$1,IF(#REF!=$G$1,IF(#REF!=\"\",NA(),#REF!),NA()),NA())","v":{"$error":"#REF!"}},{"$f":"IF(#REF!=$E$1,IF(#REF!=$G$1,IF(#REF!=\"\",NA(),#REF!),NA()),NA())","v":{"$error":"#REF!"}},{"$error":"#REF!"},{"$error":"#REF!"}]
[null,null,null,{"$f":"IF(#REF!=$E$1,IF(#REF!=$G$1,#REF!,NA()),NA())","v":{"$error":"#REF!"}},{"$f":"IF(#REF!=$E$1,IF(#REF!=$G$1,#REF!,NA()),NA())","v":{"$error":"#REF!"}},{"$f":"IF(#REF!=$E$1,IF(#REF!=$G$1,IF(#REF!=\"\",NA(),#REF!),NA()),NA())","v":{"$error":"#REF!"}},{"$f":"IF(#REF!=$E$1,IF(#REF!=$G$1,IF(#REF!=\"\",NA(),#REF!),NA()),NA())","v":{"$error":"#REF!"}},{"$error":"#REF!"},{"$error":"#REF!"}]
[null,null,null,{"$f":"IF(#REF!=$E$1,IF(#REF!=$G$1,#REF!,NA()),NA())","v":{"$error":"#REF!"}},{"$f":"IF(#REF!=$E$1,IF(#REF!=$G$1,#REF!,NA()),NA())","v":{"$error":"#REF!"}},{"$f":"IF(#REF!=$E$1,IF(#REF!=$G$1,IF(#REF!=\"\",NA(),#REF!),NA()),NA())","v":{"$error":"#REF!"}},{"$f":"IF(#REF!=$E$1,IF(#REF!=$G$1,IF(#REF!=\"\",NA(),#REF!),NA()),NA())","v":{"$error":"#REF!"}},{"$error":"#REF!"},{"$error":"#REF!"}]
[null,null,null,{"$f":"IF(#REF!=$E$1,IF(#REF!=$G$1,#REF!,NA()),NA())","v":{"$error":"#REF!"}},{"$f":"IF(#REF!=$E$1,IF(#REF!=$G$1,#REF!,NA()),NA())","v":{"$error":"#REF!"}},{"$f":"IF(#REF!=$E$1,IF(#REF!=$G$1,IF(#REF!=\"\",NA(),#REF!),NA()),NA())","v":{"$error":"#REF!"}},{"$f":"IF(#REF!=$E$1,IF(#REF!=$G$1,IF(#REF!=\"\",NA(),#REF!),NA()),NA())","v":{"$error":"#REF!"}},{"$error":"#REF!"},{"$error":"#REF!"}]
[null,null,null,{"$f":"IF(#REF!=$E$1,IF(#REF!=$G$1,#REF!,NA()),NA())","v":{"$error":"#REF!"}},{"$f":"IF(#REF!=$E$1,IF(#REF!=$G$1,#REF!,NA()),NA())","v":{"$error":"#REF!"}},{"$f":"IF(#REF!=$E$1,IF(#REF!=$G$1,IF(#REF!=\"\",NA(),#REF!),NA()),NA())","v":{"$error":"#REF!"}},{"$f":"IF(#REF!=$E$1,IF(#REF!=$G$1,IF(#REF!=\"\",NA(),#REF!),NA()),NA())","v":{"$error":"#REF!"}},{"$error":"#REF!"},{"$error":"#REF!"}]
[null,null,null,{"$f":"IF(#REF!=$E$1,IF(#REF!=$G$1,#REF!,NA()),NA())","v":{"$error":"#REF!"}},{"$f":"IF(#REF!=$E$1,IF(#REF!=$G$1,#REF!,NA()),NA())","v":{"$error":"#REF!"}},{"$f":"IF(#REF!=$E$1,IF(#REF!=$G$1,IF(#REF!=\"\",NA(),#REF!),NA()),NA())","v":{"$error":"#REF!"}},{"$f":"IF(#REF!=$E$1,IF(#REF!=$G$1,IF(#REF!=\"\",NA(),#REF!),NA()),NA())","v":{"$error":"#REF!"}},{"$error":"#REF!"},{"$error":"#REF!"}]
[null,null,null,{"$f":"IF(#REF!=$E$1,IF(#REF!=$G$1,#REF!,NA()),NA())","v":{"$error":"#REF!"}},{"$f":"IF(#REF!=$E$1,IF(#REF!=$G$1,#REF!,NA()),NA())","v":{"$error":"#REF!"}},{"$f":"IF(#REF!=$E$1,IF(#REF!=$G$1,IF(#REF!=\"\",NA(),#REF!),NA()),NA())","v":{"$error":"#REF!"}},{"$f":"IF(#REF!=$E$1,IF(#REF!=$G$1,IF(#REF!=\"\",NA(),#REF!),NA()),NA())","v":{"$error":"#REF!"}},{"$error":"#REF!"},{"$error":"#REF!"}]
[null,null,null,{"$f":"IF(#REF!=$E$1,IF(#REF!=$G$1,#REF!,NA()),NA())","v":{"$error":"#REF!"}},{"$f":"IF(#REF!=$E$1,IF(#REF!=$G$1,#REF!,NA()),NA())","v":{"$error":"#REF!"}},{"$f":"IF(#REF!=$E$1,IF(#REF!=$G$1,IF(#REF!=\"\",NA(),#REF!),NA()),NA())","v":{"$error":"#REF!"}},{"$f":"IF(#REF!=$E$1,IF(#REF!=$G$1,IF(#REF!=\"\",NA(),#REF!),NA()),NA())","v":{"$error":"#REF!"}},{"$error":"#REF!"},{"$error":"#REF!"}]
[null,null,null,{"$f":"IF(#REF!=$E$1,IF(#REF!=$G$1,#REF!,NA()),NA())","v":{"$error":"#REF!"}},{"$f":"IF(#REF!=$E$1,IF(#REF!=$G$1,#REF!,NA()),NA())","v":{"$error":"#REF!"}},{"$f":"IF(#REF!=$E$1,IF(#REF!=$G$1,IF(#REF!=\"\",NA(),#REF!),NA()),NA())","v":{"$error":"#REF!"}},{"$f":"IF(#REF!=$E$1,IF(#REF!=$G$1,IF(#REF!=\"\",NA(),#REF!),NA()),NA())","v":{"$error":"#REF!"}},{"$error":"#REF!"},{"$error":"#REF!"}]

{"sheet":"散布図データ(無)2","index":4,"n_rows":1002,"n_cols":9,"rows_kept":1002,"cut":false,"hidden":true,"merged":[]}
["1801","福井・坂井",null,null,{"$f":"INDEX($A:$A,MATCH(F1,$B:$B,0))","v":{"$error":"#REF!"}},{"$f":"#REF!","v":{"$error":"#REF!"}},"無","【散布図データ参照列】","【散布図データ参照列】"]
["1802","奥越",null,"病床外来管理番号","紹介受診重点外来医療機関への意向の有無","紹介率","逆紹介率","紹介率","逆紹介率"]
["1803","丹南",null,{"$f":"IF(#REF!=$E$1,IF(#REF!=$G$1,#REF!,NA()),NA())","v":{"$error":"#REF!"}},{"$f":"IF(#REF!=$E$1,IF(#REF!=$G$1,#REF!,NA()),NA())","v":{"$error":"#REF!"}},{"$f":"IF(#REF!=$E$1,IF(#REF!=$G$1,IF(#REF!=\"\",NA(),#REF!),NA()),NA())","v":{"$error":"#REF!"}},{"$f":"IF(#REF!=$E$1,IF(#REF!=$G$1,IF(#REF!=\"\",NA(),#REF!),NA()),NA())","v":{"$error":"#REF!"}},{"$f":"IF(AND(ISNUMBER(G3),F3=\"-\"),0,F3)","v":{"$error":"#REF!"}},{"$f":"IF(AND(ISNUMBER(F3),G3=\"-\"),0,G3)","v":{"$error":"#REF!"}}]
["1804","嶺南",null,{"$f":"IF(#REF!=$E$1,IF(#REF!=$G$1,#REF!,NA()),NA())","v":{"$error":"#REF!"}},{"$f":"IF(#REF!=$E$1,IF(#REF!=$G$1,#REF!,NA()),NA())","v":{"$error":"#REF!"}},{"$f":"IF(#REF!=$E$1,IF(#REF!=$G$1,IF(#REF!=\"\",NA(),#REF!),NA()),NA())","v":{"$error":"#REF!"}},{"$f":"IF(#REF!=$E$1,IF(#REF!=$G$1,IF(#REF!=\"\",NA(),#REF!),NA()),NA())","v":{"$error":"#REF!"}},{"$f":"IF(AND(ISNUMBER(G4),F4=\"-\"),0,F4)","v":{"$error":"#REF!"}},{"$f":"IF(AND(ISNUMBER(F4),G4=\"-\"),0,G4)","v":{"$error":"#REF!"}}]
[null,null,null,{"$f":"IF(#REF!=$E$1,IF(#REF!=$G$1,#REF!,NA()),NA())","v":{"$error":"#REF!"}},{"$f":"IF(#REF!=$E$1,IF(#REF!=$G$1,#REF!,NA()),NA())","v":{"$error":"#REF!"}},{"$f":"IF(#REF!=$E$1,IF(#REF!=$G$1,IF(#REF!=\"\",NA(),#REF!),NA()),NA())","v":{"$error":"#REF!"}},{"$f":"IF(#REF!=$E$1,IF(#REF!=$G$1,IF(#REF!=\"\",NA(),#REF!),NA()),NA())","v":{"$error":"#REF!"}},{"$error":"#REF!"},{"$error":"#REF!"}]
[null,null,null,{"$f":"IF(#REF!=$E$1,IF(#REF!=$G$1,#REF!,NA()),NA())","v":{"$error":"#REF!"}},{"$f":"IF(#REF!=$E$1,IF(#REF!=$G$1,#REF!,NA()),NA())","v":{"$error":"#REF!"}},{"$f":"IF(#REF!=$E$1,IF(#REF!=$G$1,IF(#REF!=\"\",NA(),#REF!),NA()),NA())","v":{"$error":"#REF!"}},{"$f":"IF(#REF!=$E$1,IF(#REF!=$G$1,IF(#REF!=\"\",NA(),#REF!),NA()),NA())","v":{"$error":"#REF!"}},{"$error":"#REF!"},{"$error":"#REF!"}]
[null,null,null,{"$f":"IF(#REF!=$E$1,IF(#REF!=$G$1,#REF!,NA()),NA())","v":{"$error":"#REF!"}},{"$f":"IF(#REF!=$E$1,IF(#REF!=$G$1,#REF!,NA()),NA())","v":{"$error":"#REF!"}},{"$f":"IF(#REF!=$E$1,IF(#REF!=$G$1,IF(#REF!=\"\",NA(),#REF!),NA()),NA())","v":{"$error":"#REF!"}},{"$f":"IF(#REF!=$E$1,IF(#REF!=$G$1,IF(#REF!=\"\",NA(),#REF!),NA()),NA())","v":{"$error":"#REF!"}},{"$error":"#REF!"},{"$error":"#REF!"}]
[null,null,null,{"$f":"IF(#REF!=$E$1,IF(#REF!=$G$1,#REF!,NA()),NA())","v":{"$error":"#REF!"}},{"$f":"IF(#REF!=$E$1,IF(#REF!=$G$1,#REF!,NA()),NA())","v":{"$error":"#REF!"}},{"$f":"IF(#REF!=$E$1,IF(#REF!=$G$1,IF(#REF!=\"\",NA(),#REF!),NA()),NA())","v":{"$error":"#REF!"}},{"$f":"IF(#REF!=$E$1,IF(#REF!=$G$1,IF(#REF!=\"\",NA(),#REF!),NA()),NA())","v":{"$error":"#REF!"}},{"$error":"#REF!"},{"$error":"#REF!"}]
[null,null,null,{"$f":"IF(#REF!=$E$1,IF(#REF!=$G$1,#REF!,NA()),NA())","v":{"$error":"#REF!"}},{"$f":"IF(#REF!=$E$1,IF(#REF!=$G$1,#REF!,NA()),NA())","v":{"$error":"#REF!"}},{"$f":"IF(#REF!=$E$1,IF(#REF!=$G$1,IF(#REF!=\"\",NA(),#REF!),NA()),NA())","v":{"$error":"#REF!"}},{"$f":"IF(#REF!=$E$1,IF(#REF!=$G$1,IF(#REF!=\"\",NA(),#REF!),NA()),NA())","v":{"$error":"#REF!"}},{"$error":"#REF!"},{"$error":"#REF!"}]
[null,null,null,{"$f":"IF(#REF!=$E$1,IF(#REF!=$G$1,#REF!,NA()),NA())","v":{"$error":"#REF!"}},{"$f":"IF(#REF!=$E$1,IF(#REF!=$G$1,#REF!,NA()),NA())","v":{"$error":"#REF!"}},{"$f":"IF(#REF!=$E$1,IF(#REF!=$G$1,IF(#REF!=\"\",NA(),#REF!),NA()),NA())","v":{"$error":"#REF!"}},{"$f":"IF(#REF!=$E$1,IF(#REF!=$G$1,IF(#REF!=\"\",NA(),#REF!),NA()),NA())","v":{"$error":"#REF!"}},{"$error":"#REF!"},{"$error":"#REF!"}]
[null,null,null,{"$f":"IF(#REF!=$E$1,IF(#REF!=$G$1,#REF!,NA()),NA())","v":{"$error":"#REF!"}},{"$f":"IF(#REF!=$E$1,IF(#REF!=$G$1,#REF!,NA()),NA())","v":{"$error":"#REF!"}},{"$f":"IF(#REF!=$E$1,IF(#REF!=$G$1,IF(#REF!=\"\",NA(),#REF!),NA()),NA())","v":{"$error":"#REF!"}},{"$f":"IF(#REF!=$E$1,IF(#REF!=$G$1,IF(#REF!=\"\",NA(),#REF!),NA()),NA())","v":{"$error":"#REF!"}},{"$error":"#REF!"},{"$error":"#REF!"}]
[null,null,null,{"$f":"IF(#REF!=$E$1,IF(#REF!=$G$1,#REF!,NA()),NA())","v":{"$error":"#REF!"}},{"$f":"IF(#REF!=$E$1,IF(#REF!=$G$1,#REF!,NA()),NA())","v":{"$error":"#REF!"}},{"$f":"IF(#REF!=$E$1,IF(#REF!=$G$1,IF(#REF!=\"\",NA(),#REF!),NA()),NA())","v":{"$error":"#REF!"}},{"$f":"IF(#REF!=$E$1,IF(#REF!=$G$1,IF(#REF!=\"\",NA(),#REF!),NA()),NA())","v":{"$error":"#REF!"}},{"$error":"#REF!"},{"$error":"#REF!"}]
[null,null,null,{"$f":"IF(#REF!=$E$1,IF(#REF!=$G$1,#REF!,NA()),NA())","v":{"$error":"#REF!"}},{"$f":"IF(#REF!=$E$1,IF(#REF!=$G$1,#REF!,NA()),NA())","v":{"$error":"#REF!"}},{"$f":"IF(#REF!=$E$1,IF(#REF!=$G$1,IF(#REF!=\"\",NA(),#REF!),NA()),NA())","v":{"$error":"#REF!"}},{"$f":"IF(#REF!=$E$1,IF(#REF!=$G$1,IF(#REF!=\"\",NA(),#REF!),NA()),NA())","v":{"$error":"#REF!"}},{"$error":"#REF!"},{"$error":"#REF!"}]
[null,null,null,{"$f":"IF(#REF!=$E$1,IF(#REF!=$G$1,#REF!,NA()),NA())","v":{"$error":"#REF!"}},{"$f":"IF(#REF!=$E$1,IF(#REF!=$G$1,#REF!,NA()),NA())","v":{"$error":"#REF!"}},{"$f":"IF(#REF!=$E$1,IF(#REF!=$G$1,IF(#REF!=\"\",NA(),#REF!),NA()),NA())","v":{"$error":"#REF!"}},{"$f":"IF(#REF!=$E$1,IF(#REF!=$G$1,IF(#REF!=\"\",NA(),#REF!),NA()),NA())","v":{"$error":"#REF!"}},{"$error":"#REF!"},{"$error":"#REF!"}]
[null,null,null,{"$f":"IF(#REF!=$E$1,IF(#REF!=$G$1,#REF!,NA()),NA())","v":{"$error":"#REF!"}},{"$f":"IF(#REF!=$E$1,IF(#REF!=$G$1,#REF!,NA()),NA())","v":{"$error":"#REF!"}},{"$f":"IF(#REF!=$E$1,IF(#REF!=$G$1,IF(#REF!=\"\",NA(),#REF!),NA()),NA())","v":{"$error":"#REF!"}},{"$f":"IF(#REF!=$E$1,IF(#REF!=$G$1,IF(#REF!=\"\",NA(),#REF!),NA()),NA())","v":{"$error":"#REF!"}},{"$error":"#REF!"},{"$error":"#REF!"}]
[null,null,null,{"$f":"IF(#REF!=$E$1,IF(#REF!=$G$1,#REF!,NA()),NA())","v":{"$error":"#REF!"}},{"$f":"IF(#REF!=$E$1,IF(#REF!=$G$1,#REF!,NA()),NA())","v":{"$error":"#REF!"}},{"$f":"IF(#REF!=$E$1,IF(#REF!=$G$1,IF(#REF!=\"\",NA(),#REF!),NA()),NA())","v":{"$error":"#REF!"}},{"$f":"IF(#REF!=$E$1,IF(#REF!=$G$1,IF(#REF!=\"\",NA(),#REF!),NA()),NA())","v":{"$error":"#REF!"}},{"$error":"#REF!"},{"$error":"#REF!"}]
[null,null,null,{"$f":"IF(#REF!=$E$1,IF(#REF!=$G$1,#REF!,NA()),NA())","v":{"$error":"#REF!"}},{"$f":"IF(#REF!=$E$1,IF(#REF!=$G$1,#REF!,NA()),NA())","v":{"$error":"#REF!"}},{"$f":"IF(#REF!=$E$1,IF(#REF!=$G$1,IF(#REF!=\"\",NA(),#REF!),NA()),NA())","v":{"$error":"#REF!"}},{"$f":"IF(#REF!=$E$1,IF(#REF!=$G$1,IF(#REF!=\"\",NA(),#REF!),NA()),NA())","v":{"$error":"#REF!"}},{"$error":"#REF!"},{"$error":"#REF!"}]
[null,null,null,{"$f":"IF(#REF!=$E$1,IF(#REF!=$G$1,#REF!,NA()),NA())","v":{"$error":"#REF!"}},{"$f":"IF(#REF!=$E$1,IF(#REF!=$G$1,#REF!,NA()),NA())","v":{"$error":"#REF!"}},{"$f":"IF(#REF!=$E$1,IF(#REF!=$G$1,IF(#REF!=\"\",NA(),#REF!),NA()),NA())","v":{"$error":"#REF!"}},{"$f":"IF(#REF!=$E$1,IF(#REF!=$G$1,IF(#REF!=\"\",NA(),#REF!),NA()),NA())","v":{"$error":"#REF!"}},{"$error":"#REF!"},{"$error":"#REF!"}]
[null,null,null,{"$f":"IF(#REF!=$E$1,IF(#REF!=$G$1,#REF!,NA()),NA())","v":{"$error":"#REF!"}},{"$f":"IF(#REF!=$E$1,IF(#REF!=$G$1,#REF!,NA()),NA())","v":{"$error":"#REF!"}},{"$f":"IF(#REF!=$E$1,IF(#REF!=$G$1,IF(#REF!=\"\",NA(),#REF!),NA()),NA())","v":{"$error":"#REF!"}},{"$f":"IF(#REF!=$E$1,IF(#REF!=$G$1,IF(#REF!=\"\",NA(),#REF!),NA()),NA())","v":{"$error":"#REF!"}},{"$error":"#REF!"},{"$error":"#REF!"}]
[null,null,null,{"$f":"IF(#REF!=$E$1,IF(#REF!=$G$1,#REF!,NA()),NA())","v":{"$error":"#REF!"}},{"$f":"IF(#REF!=$E$1,IF(#REF!=$G$1,#REF!,NA()),NA())","v":{"$error":"#REF!"}},{"$f":"IF(#REF!=$E$1,IF(#REF!=$G$1,IF(#REF!=\"\",NA(),#REF!),NA()),NA())","v":{"$error":"#REF!"}},{"$f":"IF(#REF!=$E$1,IF(#REF!=$G$1,IF(#REF!=\"\",NA(),#REF!),NA()),NA())","v":{"$error":"#REF!"}},{"$error":"#REF!"},{"$error":"#REF!"}]
[null,null,null,{"$f":"IF(#REF!=$E$1,IF(#REF!=$G$1,#REF!,NA()),NA())","v":{"$error":"#REF!"}},{"$f":"IF(#REF!=$E$1,IF(#REF!=$G$1,#REF!,NA()),NA())","v":{"$error":"#REF!"}},{"$f":"IF(#REF!=$E$1,IF(#REF!=$G$1,IF(#REF!=\"\",NA(),#REF!),NA()),NA())","v":{"$error":"#REF!"}},{"$f":"IF(#REF!=$E$1,IF(#REF!=$G$1,IF(#REF!=\"\",NA(),#REF!),NA()),NA())","v":{"$error":"#REF!"}},{"$error":"#REF!"},{"$error":"#REF!"}]
[null,null,null,{"$f":"IF(#REF!=$E$1,IF(#REF!=$G$1,#REF!,NA()),NA())","v":{"$error":"#REF!"}},{"$f":"IF(#REF!=$E$1,IF(#REF!=$G$1,#REF!,NA()),NA())","v":{"$error":"#REF!"}},{"$f":"IF(#REF!=$E$1,IF(#REF!=$G$1,IF(#REF!=\"\",NA(),#REF!),NA()),NA())","v":{"$error":"#REF!"}},{"$f":"IF(#REF!=$E$1,IF(#REF!=$G$1,IF(#REF!=\"\",NA(),#REF!),NA()),NA())","v":{"$error":"#REF!"}},{"$error":"#REF!"},{"$error":"#REF!"}]
[null,null,null,{"$f":"IF(#REF!=$E$1,IF(#REF!=$G$1,#REF!,NA()),NA())","v":{"$error":"#REF!"}},{"$f":"IF(#REF!=$E$1,IF(#REF!=$G$1,#REF!,NA()),NA())","v":{"$error":"#REF!"}},{"$f":"IF(#REF!=$E$1,IF(#REF!=$G$1,IF(#REF!=\"\",NA(),#REF!),NA()),NA())","v":{"$error":"#REF!"}},{"$f":"IF(#REF!=$E$1,IF(#REF!=$G$1,IF(#REF!=\"\",NA(),#REF!),NA()),NA())","v":{"$error":"#REF!"}},{"$error":"#REF!"},{"$error":"#REF!"}]
[null,null,null,{"$f":"IF(#REF!=$E$1,IF(#REF!=$G$1,#REF!,NA()),NA())","v":{"$error":"#REF!"}},{"$f":"IF(#REF!=$E$1,IF(#REF!=$G$1,#REF!,NA()),NA())","v":{"$error":"#REF!"}},{"$f":"IF(#REF!=$E$1,IF(#REF!=$G$1,IF(#REF!=\"\",NA(),#REF!),NA()),NA())","v":{"$error":"#REF!"}},{"$f":"IF(#REF!=$E$1,IF(#REF!=$G$1,IF(#REF!=\"\",NA(),#REF!),NA()),NA())","v":{"$error":"#REF!"}},{"$error":"#REF!"},{"$error":"#REF!"}]
[null,null,null,{"$f":"IF(#REF!=$E$1,IF(#REF!=$G$1,#REF!,NA()),NA())","v":{"$error":"#REF!"}},{"$f":"IF(#REF!=$E$1,IF(#REF!=$G$1,#REF!,NA()),NA())","v":{"$error":"#REF!"}},{"$f":"IF(#REF!=$E$1,IF(#REF!=$G$1,IF(#REF!=\"\",NA(),#REF!),NA()),NA())","v":{"$error":"#REF!"}},{"$f":"IF(#REF!=$E$1,IF(#REF!=$G$1,IF(#REF!=\"\",NA(),#REF!),NA()),NA())","v":{"$error":"#REF!"}},{"$error":"#REF!"},{"$error":"#REF!"}]
[null,null,null,{"$f":"IF(#REF!=$E$1,IF(#REF!=$G$1,#REF!,NA()),NA())","v":{"$error":"#REF!"}},{"$f":"IF(#REF!=$E$1,IF(#REF!=$G$1,#REF!,NA()),NA())","v":{"$error":"#REF!"}},{"$f":"IF(#REF!=$E$1,IF(#REF!=$G$1,IF(#REF!=\"\",NA(),#REF!),NA()),NA())","v":{"$error":"#REF!"}},{"$f":"IF(#REF!=$E$1,IF(#REF!=$G$1,IF(#REF!=\"\",NA(),#REF!),NA()),NA())","v":{"$error":"#REF!"}},{"$error":"#REF!"},{"$error":"#REF!"}]
[null,null,null,{"$f":"IF(#REF!=$E$1,IF(#REF!=$G$1,#REF!,NA()),NA())","v":{"$error":"#REF!"}},{"$f":"IF(#REF!=$E$1,IF(#REF!=$G$1,#REF!,NA()),NA())","v":{"$error":"#REF!"}},{"$f":"IF(#REF!=$E$1,IF(#REF!=$G$1,IF(#REF!=\"\",NA(),#REF!),NA()),NA())","v":{"$error":"#REF!"}},{"$f":"IF(#REF!=$E$1,IF(#REF!=$G$1,IF(#REF!=\"\",NA(),#REF!),NA()),NA())","v":{"$error":"#REF!"}},{"$error":"#REF!"},{"$error":"#REF!"}]
[null,null,null,{"$f":"IF(#REF!=$E$1,IF(#REF!=$G$1,#REF!,NA()),NA())","v":{"$error":"#REF!"}},{"$f":"IF(#REF!=$E$1,IF(#REF!=$G$1,#REF!,NA()),NA())","v":{"$error":"#REF!"}},{"$f":"IF(#REF!=$E$1,IF(#REF!=$G$1,IF(#REF!=\"\",NA(),#REF!),NA()),NA())","v":{"$error":"#REF!"}},{"$f":"IF(#REF!=$E$1,IF(#REF!=$G$1,IF(#REF!=\"\",NA(),#REF!),NA()),NA())","v":{"$error":"#REF!"}},{"$error":"#REF!"},{"$error":"#REF!"}]
[null,null,null,{"$f":"IF(#REF!=$E$1,IF(#REF!=$G$1,#REF!,NA()),NA())","v":{"$error":"#REF!"}},{"$f":"IF(#REF!=$E$1,IF(#REF!=$G$1,#REF!,NA()),NA())","v":{"$error":"#REF!"}},{"$f":"IF(#REF!=$E$1,IF(#REF!=$G$1,IF(#REF!=\"\",NA(),#REF!),NA()),NA())","v":{"$error":"#REF!"}},{"$f":"IF(#REF!=$E$1,IF(#REF!=$G$1,IF(#REF!=\"\",NA(),#REF!),NA()),NA())","v":{"$error":"#REF!"}},{"$error":"#REF!"},{"$error":"#REF!"}]
[null,null,null,{"$f":"IF(#REF!=$E$1,IF(#REF!=$G$1,#REF!,NA()),NA())","v":{"$error":"#REF!"}},{"$f":"IF(#REF!=$E$1,IF(#REF!=$G$1,#REF!,NA()),NA())","v":{"$error":"#REF!"}},{"$f":"IF(#REF!=$E$1,IF(#REF!=$G$1,IF(#REF!=\"\",NA(),#REF!),NA()),NA())","v":{"$error":"#REF!"}},{"$f":"IF(#REF!=$E$1,IF(#REF!=$G$1,IF(#REF!=\"\",NA(),#REF!),NA()),NA())","v":{"$error":"#REF!"}},{"$error":"#REF!"},{"$error":"#REF!"}]
[null,null,null,{"$f":"IF(#REF!=$E$1,IF(#REF!=$G$1,#REF!,NA()),NA())","v":{"$error":"#REF!"}},{"$f":"IF(#REF!=$E$1,IF(#REF!=$G$1,#REF!,NA()),NA())","v":{"$error":"#REF!"}},{"$f":"IF(#REF!=$E$1,IF(#REF!=$G$1,IF(#REF!=\"\",NA(),#REF!),NA()),NA())","v":{"$error":"#REF!"}},{"$f":"IF(#REF!=$E$1,IF(#REF!=$G$1,IF(#REF!=\"\",NA(),#REF!),NA()),NA())","v":{"$error":"#REF!"}},{"$error":"#REF!"},{"$error":"#REF!"}]
[null,null,null,{"$f":"IF(#REF!=$E$1,IF(#REF!=$G$1,#REF!,NA()),NA())","v":{"$error":"#REF!"}},{"$f":"IF(#REF!=$E$1,IF(#REF!=$G$1,#REF!,NA()),NA())","v":{"$error":"#REF!"}},{"$f":"IF(#REF!=$E$1,IF(#REF!=$G$1,IF(#REF!=\"\",NA(),#REF!),NA()),NA())","v":{"$error":"#REF!"}},{"$f":"IF(#REF!=$E$1,IF(#REF!=$G$1,IF(#REF!=\"\",NA(),#REF!),NA()),NA())","v":{"$error":"#REF!"}},{"$error":"#REF!"},{"$error":"#REF!"}]
[null,null,null,{"$f":"IF(#REF!=$E$1,IF(#REF!=$G$1,#REF!,NA()),NA())","v":{"$error":"#REF!"}},{"$f":"IF(#REF!=$E$1,IF(#REF!=$G$1,#REF!,NA()),NA())","v":{"$error":"#REF!"}},{"$f":"IF(#REF!=$E$1,IF(#REF!=$G$1,IF(#REF!=\"\",NA(),#REF!),NA()),NA())","v":{"$error":"#REF!"}},{"$f":"IF(#REF!=$E$1,IF(#REF!=$G$1,IF(#REF!=\"\",NA(),#REF!),NA()),NA())","v":{"$error":"#REF!"}},{"$error":"#REF!"},{"$error":"#REF!"}]
[null,null,null,{"$f":"IF(#REF!=$E$1,IF(#REF!=$G$1,#REF!,NA()),NA())","v":{"$error":"#REF!"}},{"$f":"IF(#REF!=$E$1,IF(#REF!=$G$1,#REF!,NA()),NA())","v":{"$error":"#REF!"}},{"$f":"IF(#REF!=$E$1,IF(#REF!=$G$1,IF(#REF!=\"\",NA(),#REF!),NA()),NA())","v":{"$error":"#REF!"}},{"$f":"IF(#REF!=$E$1,IF(#REF!=$G$1,IF(#REF!=\"\",NA(),#REF!),NA()),NA())","v":{"$error":"#REF!"}},{"$error":"#REF!"},{"$error":"#REF!"}]
[null,null,null,{"$f":"IF(#REF!=$E$1,IF(#REF!=$G$1,#REF!,NA()),NA())","v":{"$error":"#REF!"}},{"$f":"IF(#REF!=$E$1,IF(#REF!=$G$1,#REF!,NA()),NA())","v":{"$error":"#REF!"}},{"$f":"IF(#REF!=$E$1,IF(#REF!=$G$1,IF(#REF!=\"\",NA(),#REF!),NA()),NA())","v":{"$error":"#REF!"}},{"$f":"IF(#REF!=$E$1,IF(#REF!=$G$1,IF(#REF!=\"\",NA(),#REF!),NA()),NA())","v":{"$error":"#REF!"}},{"$error":"#REF!"},{"$error":"#REF!"}]
[null,null,null,{"$f":"IF(#REF!=$E$1,IF(#REF!=$G$1,#REF!,NA()),NA())","v":{"$error":"#REF!"}},{"$f":"IF(#REF!=$E$1,IF(#REF!=$G$1,#REF!,NA()),NA())","v":{"$error":"#REF!"}},{"$f":"IF(#REF!=$E$1,IF(#REF!=$G$1,IF(#REF!=\"\",NA(),#REF!),NA()),NA())","v":{"$error":"#REF!"}},{"$f":"IF(#REF!=$E$1,IF(#REF!=$G$1,IF(#REF!=\"\",NA(),#REF!),NA()),NA())","v":{"$error":"#REF!"}},{"$error":"#REF!"},{"$error":"#REF!"}]
[null,null,null,{"$f":"IF(#REF!=$E$1,IF(#REF!=$G$1,#REF!,NA()),NA())","v":{"$error":"#REF!"}},{"$f":"IF(#REF!=$E$1,IF(#REF!=$G$1,#REF!,NA()),NA())","v":{"$error":"#REF!"}},{"$f":"IF(#REF!=$E$1,IF(#REF!=$G$1,IF(#REF!=\"\",NA(),#REF!),NA()),NA())","v":{"$error":"#REF!"}},{"$f":"IF(#REF!=$E$1,IF(#REF!=$G$1,IF(#REF!=\"\",NA(),#REF!),NA()),NA())","v":{"$error":"#REF!"}},{"$error":"#REF!"},{"$error":"#REF!"}]
[null,null,null,{"$f":"IF(#REF!=$E$1,IF(#REF!=$G$1,#REF!,NA()),NA())","v":{"$error":"#REF!"}},{"$f":"IF(#REF!=$E$1,IF(#REF!=$G$1,#REF!,NA()),NA())","v":{"$error":"#REF!"}},{"$f":"IF(#REF!=$E$1,IF(#REF!=$G$1,IF(#REF!=\"\",NA(),#REF!),NA()),NA())","v":{"$error":"#REF!"}},{"$f":"IF(#REF!=$E$1,IF(#REF!=$G$1,IF(#REF!=\"\",NA(),#REF!),NA()),NA())","v":{"$error":"#REF!"}},{"$error":"#REF!"},{"$error":"#REF!"}]
[null,null,null,{"$f":"IF(#REF!=$E$1,IF(#REF!=$G$1,#REF!,NA()),NA())","v":{"$error":"#REF!"}},{"$f":"IF(#REF!=$E$1,IF(#REF!=$G$1,#REF!,NA()),NA())","v":{"$error":"#REF!"}},{"$f":"IF(#REF!=$E$1,IF(#REF!=$G$1,IF(#REF!=\"\",NA(),#REF!),NA()),NA())","v":{"$error":"#REF!"}},{"$f":"IF(#REF!=$E$1,IF(#REF!=$G$1,IF(#REF!=\"\",NA(),#REF!),NA()),NA())","v":{"$error":"#REF!"}},{"$error":"#REF!"},{"$error":"#REF!"}]
[null,null,null,{"$f":"IF(#REF!=$E$1,IF(#REF!=$G$1,#REF!,NA()),NA())","v":{"$error":"#REF!"}},{"$f":"IF(#REF!=$E$1,IF(#REF!=$G$1,#REF!,NA()),NA())","v":{"$error":"#REF!"}},{"$f":"IF(#REF!=$E$1,IF(#REF!=$G$1,IF(#REF!=\"\",NA(),#REF!),NA()),NA())","v":{"$error":"#REF!"}},{"$f":"IF(#REF!=$E$1,IF(#REF!=$G$1,IF(#REF!=\"\",NA(),#REF!),NA()),NA())","v":{"$error":"#REF!"}},{"$error":"#REF!"},{"$error":"#REF!"}]
[null,null,null,{"$f":"IF(#REF!=$E$1,IF(#REF!=$G$1,#REF!,NA()),NA())","v":{"$error":"#REF!"}},{"$f":"IF(#REF!=$E$1,IF(#REF!=$G$1,#REF!,NA()),NA())","v":{"$error":"#REF!"}},{"$f":"IF(#REF!=$E$1,IF(#REF!=$G$1,IF(#REF!=\"\",NA(),#REF!),NA()),NA())","v":{"$error":"#REF!"}},{"$f":"IF(#REF!=$E$1,IF(#REF!=$G$1,IF(#REF!=\"\",NA(),#REF!),NA()),NA())","v":{"$error":"#REF!"}},{"$error":"#REF!"},{"$error":"#REF!"}]
[null,null,null,{"$f":"IF(#REF!=$E$1,IF(#REF!=$G$1,#REF!,NA()),NA())","v":{"$error":"#REF!"}},{"$f":"IF(#REF!=$E$1,IF(#REF!=$G$1,#REF!,NA()),NA())","v":{"$error":"#REF!"}},{"$f":"IF(#REF!=$E$1,IF(#REF!=$G$1,IF(#REF!=\"\",NA(),#REF!),NA()),NA())","v":{"$error":"#REF!"}},{"$f":"IF(#REF!=$E$1,IF(#REF!=$G$1,IF(#REF!=\"\",NA(),#REF!),NA()),NA())","v":{"$error":"#REF!"}},{"$error":"#REF!"},{"$error":"#REF!"}]
[null,null,null,{"$f":"IF(#REF!=$E$1,IF(#REF!=$G$1,#REF!,NA()),NA())","v":{"$error":"#REF!"}},{"$f":"IF(#REF!=$E$1,IF(#REF!=$G$1,#REF!,NA()),NA())","v":{"$error":"#REF!"}},{"$f":"IF(#REF!=$E$1,IF(#REF!=$G$1,IF(#REF!=\"\",NA(),#REF!),NA()),NA())","v":{"$error":"#REF!"}},{"$f":"IF(#REF!=$E$1,IF(#REF!=$G$1,IF(#REF!=\"\",NA(),#REF!),NA()),NA())","v":{"$error":"#REF!"}},{"$error":"#REF!"},{"$error":"#REF!"}]
[null,null,null,{"$f":"IF(#REF!=$E$1,IF(#REF!=$G$1,#REF!,NA()),NA())","v":{"$error":"#REF!"}},{"$f":"IF(#REF!=$E$1,IF(#REF!=$G$1,#REF!,NA()),NA())","v":{"$error":"#REF!"}},{"$f":"IF(#REF!=$E$1,IF(#REF!=$G$1,IF(#REF!=\"\",NA(),#REF!),NA()),NA())","v":{"$error":"#REF!"}},{"$f":"IF(#REF!=$E$1,IF(#REF!=$G$1,IF(#REF!=\"\",NA(),#REF!),NA()),NA())","v":{"$error":"#REF!"}},{"$error":"#REF!"},{"$error":"#REF!"}]
[null,null,null,{"$f":"IF(#REF!=$E$1,IF(#REF!=$G$1,#REF!,NA()),NA())","v":{"$error":"#REF!"}},{"$f":"IF(#REF!=$E$1,IF(#REF!=$G$1,#REF!,NA()),NA())","v":{"$error":"#REF!"}},{"$f":"IF(#REF!=$E$1,IF(#REF!=$G$1,IF(#REF!=\"\",NA(),#REF!),NA()),NA())","v":{"$error":"#REF!"}},{"$f":"IF(#REF!=$E$1,IF(#REF!=$G$1,IF(#REF!=\"\",NA(),#REF!),NA()),NA())","v":{"$error":"#REF!"}},{"$error":"#REF!"},{"$error":"#REF!"}]
[null,null,null,{"$f":"IF(#REF!=$E$1,IF(#REF!=$G$1,#REF!,NA()),NA())","v":{"$error":"#REF!"}},{"$f":"IF(#REF!=$E$1,IF(#REF!=$G$1,#REF!,NA()),NA())","v":{"$error":"#REF!"}},{"$f":"IF(#REF!=$E$1,IF(#REF!=$G$1,IF(#REF!=\"\",NA(),#REF!),NA()),NA())","v":{"$error":"#REF!"}},{"$f":"IF(#REF!=$E$1,IF(#REF!=$G$1,IF(#REF!=\"\",NA(),#REF!),NA()),NA())","v":{"$error":"#REF!"}},{"$error":"#REF!"},{"$error":"#REF!"}]
[null,null,null,{"$f":"IF(#REF!=$E$1,IF(#REF!=$G$1,#REF!,NA()),NA())","v":{"$error":"#REF!"}},{"$f":"IF(#REF!=$E$1,IF(#REF!=$G$1,#REF!,NA()),NA())","v":{"$error":"#REF!"}},{"$f":"IF(#REF!=$E$1,IF(#REF!=$G$1,IF(#REF!=\"\",NA(),#REF!),NA()),NA())","v":{"$error":"#REF!"}},{"$f":"IF(#REF!=$E$1,IF(#REF!=$G$1,IF(#REF!=\"\",NA(),#REF!),NA()),NA())","v":{"$error":"#REF!"}},{"$error":"#REF!"},{"$error":"#REF!"}]
[null,null,null,{"$f":"IF(#REF!=$E$1,IF(#REF!=$G$1,#REF!,NA()),NA())","v":{"$error":"#REF!"}},{"$f":"IF(#REF!=$E$1,IF(#REF!=$G$1,#REF!,NA()),NA())","v":{"$error":"#REF!"}},{"$f":"IF(#REF!=$E$1,IF(#REF!=$G$1,IF(#REF!=\"\",NA(),#REF!),NA()),NA())","v":{"$error":"#REF!"}},{"$f":"IF(#REF!=$E$1,IF(#REF!=$G$1,IF(#REF!=\"\",NA(),#REF!),NA()),NA())","v":{"$error":"#REF!"}},{"$error":"#REF!"},{"$error":"#REF!"}]
[null,null,null,{"$f":"IF(#REF!=$E$1,IF(#REF!=$G$1,#REF!,NA()),NA())","v":{"$error":"#REF!"}},{"$f":"IF(#REF!=$E$1,IF(#REF!=$G$1,#REF!,NA()),NA())","v":{"$error":"#REF!"}},{"$f":"IF(#REF!=$E$1,IF(#REF!=$G$1,IF(#REF!=\"\",NA(),#REF!),NA()),NA())","v":{"$error":"#REF!"}},{"$f":"IF(#REF!=$E$1,IF(#REF!=$G$1,IF(#REF!=\"\",NA(),#REF!),NA()),NA())","v":{"$error":"#REF!"}},{"$error":"#REF!"},{"$error":"#REF!"}]
[null,null,null,{"$f":"IF(#REF!=$E$1,IF(#REF!=$G$1,#REF!,NA()),NA())","v":{"$error":"#REF!"}},{"$f":"IF(#REF!=$E$1,IF(#REF!=$G$1,#REF!,NA()),NA())","v":{"$error":"#REF!"}},{"$f":"IF(#REF!=$E$1,IF(#REF!=$G$1,IF(#REF!=\"\",NA(),#REF!),NA()),NA())","v":{"$error":"#REF!"}},{"$f":"IF(#REF!=$E$1,IF(#REF!=$G$1,IF(#REF!=\"\",NA(),#REF!),NA()),NA())","v":{"$error":"#REF!"}},{"$error":"#REF!"},{"$error":"#REF!"}]
[null,null,null,{"$f":"IF(#REF!=$E$1,IF(#REF!=$G$1,#REF!,NA()),NA())","v":{"$error":"#REF!"}},{"$f":"IF(#REF!=$E$1,IF(#REF!=$G$1,#REF!,NA()),NA())","v":{"$error":"#REF!"}},{"$f":"IF(#REF!=$E$1,IF(#REF!=$G$1,IF(#REF!=\"\",NA(),#REF!),NA()),NA())","v":{"$error":"#REF!"}},{"$f":"IF(#REF!=$E$1,IF(#REF!=$G$1,IF(#REF!=\"\",NA(),#REF!),NA()),NA())","v":{"$error":"#REF!"}},{"$error":"#REF!"},{"$error":"#REF!"}]
[null,null,null,{"$f":"IF(#REF!=$E$1,IF(#REF!=$G$1,#REF!,NA()),NA())","v":{"$error":"#REF!"}},{"$f":"IF(#REF!=$E$1,IF(#REF!=$G$1,#REF!,NA()),NA())","v":{"$error":"#REF!"}},{"$f":"IF(#REF!=$E$1,IF(#REF!=$G$1,IF(#REF!=\"\",NA(),#REF!),NA()),NA())","v":{"$error":"#REF!"}},{"$f":"IF(#REF!=$E$1,IF(#REF!=$G$1,IF(#REF!=\"\",NA(),#REF!),NA()),NA())","v":{"$error":"#REF!"}},{"$error":"#REF!"},{"$error":"#REF!"}]
[null,null,null,{"$f":"IF(#REF!=$E$1,IF(#REF!=$G$1,#REF!,NA()),NA())","v":{"$error":"#REF!"}},{"$f":"IF(#REF!=$E$1,IF(#REF!=$G$1,#REF!,NA()),NA())","v":{"$error":"#REF!"}},{"$f":"IF(#REF!=$E$1,IF(#REF!=$G$1,IF(#REF!=\"\",NA(),#REF!),NA()),NA())","v":{"$error":"#REF!"}},{"$f":"IF(#REF!=$E$1,IF(#REF!=$G$1,IF(#REF!=\"\",NA(),#REF!),NA()),NA())","v":{"$error":"#REF!"}},{"$error":"#REF!"},{"$error":"#REF!"}]
[null,null,null,{"$f":"IF(#REF!=$E$1,IF(#REF!=$G$1,#REF!,NA()),NA())","v":{"$error":"#REF!"}},{"$f":"IF(#REF!=$E$1,IF(#REF!=$G$1,#REF!,NA()),NA())","v":{"$error":"#REF!"}},{"$f":"IF(#REF!=$E$1,IF(#REF!=$G$1,IF(#REF!=\"\",NA(),#REF!),NA()),NA())","v":{"$error":"#REF!"}},{"$f":"IF(#REF!=$E$1,IF(#REF!=$G$1,IF(#REF!=\"\",NA(),#REF!),NA()),NA())","v":{"$error":"#REF!"}},{"$error":"#REF!"},{"$error":"#REF!"}]
[null,null,null,{"$f":"IF(#REF!=$E$1,IF(#REF!=$G$1,#REF!,NA()),NA())","v":{"$error":"#REF!"}},{"$f":"IF(#REF!=$E$1,IF(#REF!=$G$1,#REF!,NA()),NA())","v":{"$error":"#REF!"}},{"$f":"IF(#REF!=$E$1,IF(#REF!=$G$1,IF(#REF!=\"\",NA(),#REF!),NA()),NA())","v":{"$error":"#REF!"}},{"$f":"IF(#REF!=$E$1,IF(#REF!=$G$1,IF(#REF!=\"\",NA(),#REF!),NA()),NA())","v":{"$error":"#REF!"}},{"$error":"#REF!"},{"$error":"#REF!"}]
[null,null,null,{"$f":"IF(#REF!=$E$1,IF(#REF!=$G$1,#REF!,NA()),NA())","v":{"$error":"#REF!"}},{"$f":"IF(#REF!=$E$1,IF(#REF!=$G$1,#REF!,NA()),NA())","v":{"$error":"#REF!"}},{"$f":"IF(#REF!=$E$1,IF(#REF!=$G$1,IF(#REF!=\"\",NA(),#REF!),NA()),NA())","v":{"$error":"#REF!"}},{"$f":"IF(#REF!=$E$1,IF(#REF!=$G$1,IF(#REF!=\"\",NA(),#REF!),NA()),NA())","v":{"$error":"#REF!"}},{"$error":"#REF!"},{"$error":"#REF!"}]
[null,null,null,{"$f":"IF(#REF!=$E$1,IF(#REF!=$G$1,#REF!,NA()),NA())","v":{"$error":"#REF!"}},{"$f":"IF(#REF!=$E$1,IF(#REF!=$G$1,#REF!,NA()),NA())","v":{"$error":"#REF!"}},{"$f":"IF(#REF!=$E$1,IF(#REF!=$G$1,IF(#REF!=\"\",NA(),#REF!),NA()),NA())","v":{"$error":"#REF!"}},{"$f":"IF(#REF!=$E$1,IF(#REF!=$G$1,IF(#REF!=\"\",NA(),#REF!),NA()),NA())","v":{"$error":"#REF!"}},{"$error":"#REF!"},{"$error":"#REF!"}]
[null,null,null,{"$f":"IF(#REF!=$E$1,IF(#REF!=$G$1,#REF!,NA()),NA())","v":{"$error":"#REF!"}},{"$f":"IF(#REF!=$E$1,IF(#REF!=$G$1,#REF!,NA()),NA())","v":{"$error":"#REF!"}},{"$f":"IF(#REF!=$E$1,IF(#REF!=$G$1,IF(#REF!=\"\",NA(),#REF!),NA()),NA())","v":{"$error":"#REF!"}},{"$f":"IF(#REF!=$E$1,IF(#REF!=$G$1,IF(#REF!=\"\",NA(),#REF!),NA()),NA())","v":{"$error":"#REF!"}},{"$error":"#REF!"},{"$error":"#REF!"}]
[null,null,null,{"$f":"IF(#REF!=$E$1,IF(#REF!=$G$1,#REF!,NA()),NA())","v":{"$error":"#REF!"}},{"$f":"IF(#REF!=$E$1,IF(#REF!=$G$1,#REF!,NA()),NA())","v":{"$error":"#REF!"}},{"$f":"IF(#REF!=$E$1,IF(#REF!=$G$1,IF(#REF!=\"\",NA(),#REF!),NA()),NA())","v":{"$error":"#REF!"}},{"$f":"IF(#REF!=$E$1,IF(#REF!=$G$1,IF(#REF!=\"\",NA(),#REF!),NA()),NA())","v":{"$error":"#REF!"}},{"$error":"#REF!"},{"$error":"#REF!"}]
[null,null,null,{"$f":"IF(#REF!=$E$1,IF(#REF!=$G$1,#REF!,NA()),NA())","v":{"$error":"#REF!"}},{"$f":"IF(#REF!=$E$1,IF(#REF!=$G$1,#REF!,NA()),NA())","v":{"$error":"#REF!"}},{"$f":"IF(#REF!=$E$1,IF(#REF!=$G$1,IF(#REF!=\"\",NA(),#REF!),NA()),NA())","v":{"$error":"#REF!"}},{"$f":"IF(#REF!=$E$1,IF(#REF!=$G$1,IF(#REF!=\"\",NA(),#REF!),NA()),NA())","v":{"$error":"#REF!"}},{"$error":"#REF!"},{"$error":"#REF!"}]
[null,null,null,{"$f":"IF(#REF!=$E$1,IF(#REF!=$G$1,#REF!,NA()),NA())","v":{"$error":"#REF!"}},{"$f":"IF(#REF!=$E$1,IF(#REF!=$G$1,#REF!,NA()),NA())","v":{"$error":"#REF!"}},{"$f":"IF(#REF!=$E$1,IF(#REF!=$G$1,IF(#REF!=\"\",NA(),#REF!),NA()),NA())","v":{"$error":"#REF!"}},{"$f":"IF(#REF!=$E$1,IF(#REF!=$G$1,IF(#REF!=\"\",NA(),#REF!),NA()),NA())","v":{"$error":"#REF!"}},{"$error":"#REF!"},{"$error":"#REF!"}]
[null,null,null,{"$f":"IF(#REF!=$E$1,IF(#REF!=$G$1,#REF!,NA()),NA())","v":{"$error":"#REF!"}},{"$f":"IF(#REF!=$E$1,IF(#REF!=$G$1,#REF!,NA()),NA())","v":{"$error":"#REF!"}},{"$f":"IF(#REF!=$E$1,IF(#REF!=$G$1,IF(#REF!=\"\",NA(),#REF!),NA()),NA())","v":{"$error":"#REF!"}},{"$f":"IF(#REF!=$E$1,IF(#REF!=$G$1,IF(#REF!=\"\",NA(),#REF!),NA()),NA())","v":{"$error":"#REF!"}},{"$error":"#REF!"},{"$error":"#REF!"}]
[null,null,null,{"$f":"IF(#REF!=$E$1,IF(#REF!=$G$1,#REF!,NA()),NA())","v":{"$error":"#REF!"}},{"$f":"IF(#REF!=$E$1,IF(#REF!=$G$1,#REF!,NA()),NA())","v":{"$error":"#REF!"}},{"$f":"IF(#REF!=$E$1,IF(#REF!=$G$1,IF(#REF!=\"\",NA(),#REF!),NA()),NA())","v":{"$error":"#REF!"}},{"$f":"IF(#REF!=$E$1,IF(#REF!=$G$1,IF(#REF!=\"\",NA(),#REF!),NA()),NA())","v":{"$error":"#REF!"}},{"$error":"#REF!"},{"$error":"#REF!"}]
[null,null,null,{"$f":"IF(#REF!=$E$1,IF(#REF!=$G$1,#REF!,NA()),NA())","v":{"$error":"#REF!"}},{"$f":"IF(#REF!=$E$1,IF(#REF!=$G$1,#REF!,NA()),NA())","v":{"$error":"#REF!"}},{"$f":"IF(#REF!=$E$1,IF(#REF!=$G$1,IF(#REF!=\"\",NA(),#REF!),NA()),NA())","v":{"$error":"#REF!"}},{"$f":"IF(#REF!=$E$1,IF(#REF!=$G$1,IF(#REF!=\"\",NA(),#REF!),NA()),NA())","v":{"$error":"#REF!"}},{"$error":"#REF!"},{"$error":"#REF!"}]
[null,null,null,{"$f":"IF(#REF!=$E$1,IF(#REF!=$G$1,#REF!,NA()),NA())","v":{"$error":"#REF!"}},{"$f":"IF(#REF!=$E$1,IF(#REF!=$G$1,#REF!,NA()),NA())","v":{"$error":"#REF!"}},{"$f":"IF(#REF!=$E$1,IF(#REF!=$G$1,IF(#REF!=\"\",NA(),#REF!),NA()),NA())","v":{"$error":"#REF!"}},{"$f":"IF(#REF!=$E$1,IF(#REF!=$G$1,IF(#REF!=\"\",NA(),#REF!),NA()),NA())","v":{"$error":"#REF!"}},{"$error":"#REF!"},{"$error":"#REF!"}]
[null,null,null,{"$f":"IF(#REF!=$E$1,IF(#REF!=$G$1,#REF!,NA()),NA())","v":{"$error":"#REF!"}},{"$f":"IF(#REF!=$E$1,IF(#REF!=$G$1,#REF!,NA()),NA())","v":{"$error":"#REF!"}},{"$f":"IF(#REF!=$E$1,IF(#REF!=$G$1,IF(#REF!=\"\",NA(),#REF!),NA()),NA())","v":{"$error":"#REF!"}},{"$f":"IF(#REF!=$E$1,IF(#REF!=$G$1,IF(#REF!=\"\",NA(),#REF!),NA()),NA())","v":{"$error":"#REF!"}},{"$error":"#REF!"},{"$error":"#REF!"}]
[null,null,null,{"$f":"IF(#REF!=$E$1,IF(#REF!=$G$1,#REF!,NA()),NA())","v":{"$error":"#REF!"}},{"$f":"IF(#REF!=$E$1,IF(#REF!=$G$1,#REF!,NA()),NA())","v":{"$error":"#REF!"}},{"$f":"IF(#REF!=$E$1,IF(#REF!=$G$1,IF(#REF!=\"\",NA(),#REF!),NA()),NA())","v":{"$error":"#REF!"}},{"$f":"IF(#REF!=$E$1,IF(#REF!=$G$1,IF(#REF!=\"\",NA(),#REF!),NA()),NA())","v":{"$error":"#REF!"}},{"$error":"#REF!"},{"$error":"#REF!"}]
[null,null,null,{"$f":"IF(#REF!=$E$1,IF(#REF!=$G$1,#REF!,NA()),NA())","v":{"$error":"#REF!"}},{"$f":"IF(#REF!=$E$1,IF(#REF!=$G$1,#REF!,NA()),NA())","v":{"$error":"#REF!"}},{"$f":"IF(#REF!=$E$1,IF(#REF!=$G$1,IF(#REF!=\"\",NA(),#REF!),NA()),NA())","v":{"$error":"#REF!"}},{"$f":"IF(#REF!=$E$1,IF(#REF!=$G$1,IF(#REF!=\"\",NA(),#REF!),NA()),NA())","v":{"$error":"#REF!"}},{"$f":"IF(AND(ISNUMBER(G68),F68=\"-\"),0,F68)","v":{"$error":"#REF!"}},{"$f":"IF(AND(ISNUMBER(F68),G68=\"-\"),0,G68)","v":{"$error":"#REF!"}}]
[null,null,null,{"$f":"IF(#REF!=$E$1,IF(#REF!=$G$1,#REF!,NA()),NA())","v":{"$error":"#REF!"}},{"$f":"IF(#REF!=$E$1,IF(#REF!=$G$1,#REF!,NA()),NA())","v":{"$error":"#REF!"}},{"$f":"IF(#REF!=$E$1,IF(#REF!=$G$1,IF(#REF!=\"\",NA(),#REF!),NA()),NA())","v":{"$error":"#REF!"}},{"$f":"IF(#REF!=$E$1,IF(#REF!=$G$1,IF(#REF!=\"\",NA(),#REF!),NA()),NA())","v":{"$error":"#REF!"}},{"$error":"#REF!"},{"$error":"#REF!"}]
[null,null,null,{"$f":"IF(#REF!=$E$1,IF(#REF!=$G$1,#REF!,NA()),NA())","v":{"$error":"#REF!"}},{"$f":"IF(#REF!=$E$1,IF(#REF!=$G$1,#REF!,NA()),NA())","v":{"$error":"#REF!"}},{"$f":"IF(#REF!=$E$1,IF(#REF!=$G$1,IF(#REF!=\"\",NA(),#REF!),NA()),NA())","v":{"$error":"#REF!"}},{"$f":"IF(#REF!=$E$1,IF(#REF!=$G$1,IF(#REF!=\"\",NA(),#REF!),NA()),NA())","v":{"$error":"#REF!"}},{"$error":"#REF!"},{"$error":"#REF!"}]
[null,null,null,{"$f":"IF(#REF!=$E$1,IF(#REF!=$G$1,#REF!,NA()),NA())","v":{"$error":"#REF!"}},{"$f":"IF(#REF!=$E$1,IF(#REF!=$G$1,#REF!,NA()),NA())","v":{"$error":"#REF!"}},{"$f":"IF(#REF!=$E$1,IF(#REF!=$G$1,IF(#REF!=\"\",NA(),#REF!),NA()),NA())","v":{"$error":"#REF!"}},{"$f":"IF(#REF!=$E$1,IF(#REF!=$G$1,IF(#REF!=\"\",NA(),#REF!),NA()),NA())","v":{"$error":"#REF!"}},{"$error":"#REF!"},{"$error":"#REF!"}]
[null,null,null,{"$f":"IF(#REF!=$E$1,IF(#REF!=$G$1,#REF!,NA()),NA())","v":{"$error":"#REF!"}},{"$f":"IF(#REF!=$E$1,IF(#REF!=$G$1,#REF!,NA()),NA())","v":{"$error":"#REF!"}},{"$f":"IF(#REF!=$E$1,IF(#REF!=$G$1,IF(#REF!=\"\",NA(),#REF!),NA()),NA())","v":{"$error":"#REF!"}},{"$f":"IF(#REF!=$E$1,IF(#REF!=$G$1,IF(#REF!=\"\",NA(),#REF!),NA()),NA())","v":{"$error":"#REF!"}},{"$error":"#REF!"},{"$error":"#REF!"}]
[null,null,null,{"$f":"IF(#REF!=$E$1,IF(#REF!=$G$1,#REF!,NA()),NA())","v":{"$error":"#REF!"}},{"$f":"IF(#REF!=$E$1,IF(#REF!=$G$1,#REF!,NA()),NA())","v":{"$error":"#REF!"}},{"$f":"IF(#REF!=$E$1,IF(#REF!=$G$1,IF(#REF!=\"\",NA(),#REF!),NA()),NA())","v":{"$error":"#REF!"}},{"$f":"IF(#REF!=$E$1,IF(#REF!=$G$1,IF(#REF!=\"\",NA(),#REF!),NA()),NA())","v":{"$error":"#REF!"}},{"$error":"#REF!"},{"$error":"#REF!"}]
[null,null,null,{"$f":"IF(#REF!=$E$1,IF(#REF!=$G$1,#REF!,NA()),NA())","v":{"$error":"#REF!"}},{"$f":"IF(#REF!=$E$1,IF(#REF!=$G$1,#REF!,NA()),NA())","v":{"$error":"#REF!"}},{"$f":"IF(#REF!=$E$1,IF(#REF!=$G$1,IF(#REF!=\"\",NA(),#REF!),NA()),NA())","v":{"$error":"#REF!"}},{"$f":"IF(#REF!=$E$1,IF(#REF!=$G$1,IF(#REF!=\"\",NA(),#REF!),NA()),NA())","v":{"$error":"#REF!"}},{"$error":"#REF!"},{"$error":"#REF!"}]
[null,null,null,{"$f":"IF(#REF!=$E$1,IF(#REF!=$G$1,#REF!,NA()),NA())","v":{"$error":"#REF!"}},{"$f":"IF(#REF!=$E$1,IF(#REF!=$G$1,#REF!,NA()),NA())","v":{"$error":"#REF!"}},{"$f":"IF(#REF!=$E$1,IF(#REF!=$G$1,IF(#REF!=\"\",NA(),#REF!),NA()),NA())","v":{"$error":"#REF!"}},{"$f":"IF(#REF!=$E$1,IF(#REF!=$G$1,IF(#REF!=\"\",NA(),#REF!),NA()),NA())","v":{"$error":"#REF!"}},{"$error":"#REF!"},{"$error":"#REF!"}]
[null,null,null,{"$f":"IF(#REF!=$E$1,IF(#REF!=$G$1,#REF!,NA()),NA())","v":{"$error":"#REF!"}},{"$f":"IF(#REF!=$E$1,IF(#REF!=$G$1,#REF!,NA()),NA())","v":{"$error":"#REF!"}},{"$f":"IF(#REF!=$E$1,IF(#REF!=$G$1,IF(#REF!=\"\",NA(),#REF!),NA()),NA())","v":{"$error":"#REF!"}},{"$f":"IF(#REF!=$E$1,IF(#REF!=$G$1,IF(#REF!=\"\",NA(),#REF!),NA()),NA())","v":{"$error":"#REF!"}},{"$error":"#REF!"},{"$error":"#REF!"}]
[null,null,null,{"$f":"IF(#REF!=$E$1,IF(#REF!=$G$1,#REF!,NA()),NA())","v":{"$error":"#REF!"}},{"$f":"IF(#REF!=$E$1,IF(#REF!=$G$1,#REF!,NA()),NA())","v":{"$error":"#REF!"}},{"$f":"IF(#REF!=$E$1,IF(#REF!=$G$1,IF(#REF!=\"\",NA(),#REF!),NA()),NA())","v":{"$error":"#REF!"}},{"$f":"IF(#REF!=$E$1,IF(#REF!=$G$1,IF(#REF!=\"\",NA(),#REF!),NA()),NA())","v":{"$error":"#REF!"}},{"$error":"#REF!"},{"$error":"#REF!"}]
[null,null,null,{"$f":"IF(#REF!=$E$1,IF(#REF!=$G$1,#REF!,NA()),NA())","v":{"$error":"#REF!"}},{"$f":"IF(#REF!=$E$1,IF(#REF!=$G$1,#REF!,NA()),NA())","v":{"$error":"#REF!"}},{"$f":"IF(#REF!=$E$1,IF(#REF!=$G$1,IF(#REF!=\"\",NA(),#REF!),NA()),NA())","v":{"$error":"#REF!"}},{"$f":"IF(#REF!=$E$1,IF(#REF!=$G$1,IF(#REF!=\"\",NA(),#REF!),NA()),NA())","v":{"$error":"#REF!"}},{"$error":"#REF!"},{"$error":"#REF!"}]
[null,null,null,{"$f":"IF(#REF!=$E$1,IF(#REF!=$G$1,#REF!,NA()),NA())","v":{"$error":"#REF!"}},{"$f":"IF(#REF!=$E$1,IF(#REF!=$G$1,#REF!,NA()),NA())","v":{"$error":"#REF!"}},{"$f":"IF(#REF!=$E$1,IF(#REF!=$G$1,IF(#REF!=\"\",NA(),#REF!),NA()),NA())","v":{"$error":"#REF!"}},{"$f":"IF(#REF!=$E$1,IF(#REF!=$G$1,IF(#REF!=\"\",NA(),#REF!),NA()),NA())","v":{"$error":"#REF!"}},{"$error":"#REF!"},{"$error":"#REF!"}]
[null,null,null,{"$f":"IF(#REF!=$E$1,IF(#REF!=$G$1,#REF!,NA()),NA())","v":{"$error":"#REF!"}},{"$f":"IF(#REF!=$E$1,IF(#REF!=$G$1,#REF!,NA()),NA())","v":{"$error":"#REF!"}},{"$f":"IF(#REF!=$E$1,IF(#REF!=$G$1,IF(#REF!=\"\",NA(),#REF!),NA()),NA())","v":{"$error":"#REF!"}},{"$f":"IF(#REF!=$E$1,IF(#REF!=$G$1,IF(#REF!=\"\",NA(),#REF!),NA()),NA())","v":{"$error":"#REF!"}},{"$error":"#REF!"},{"$error":"#REF!"}]
[null,null,null,{"$f":"IF(#REF!=$E$1,IF(#REF!=$G$1,#REF!,NA()),NA())","v":{"$error":"#REF!"}},{"$f":"IF(#REF!=$E$1,IF(#REF!=$G$1,#REF!,NA()),NA())","v":{"$error":"#REF!"}},{"$f":"IF(#REF!=$E$1,IF(#REF!=$G$1,IF(#REF!=\"\",NA(),#REF!),NA()),NA())","v":{"$error":"#REF!"}},{"$f":"IF(#REF!=$E$1,IF(#REF!=$G$1,IF(#REF!=\"\",NA(),#REF!),NA()),NA())","v":{"$error":"#REF!"}},{"$error":"#REF!"},{"$error":"#REF!"}]
[null,null,null,{"$f":"IF(#REF!=$E$1,IF(#REF!=$G$1,#REF!,NA()),NA())","v":{"$error":"#REF!"}},{"$f":"IF(#REF!=$E$1,IF(#REF!=$G$1,#REF!,NA()),NA())","v":{"$error":"#REF!"}},{"$f":"IF(#REF!=$E$1,IF(#REF!=$G$1,IF(#REF!=\"\",NA(),#REF!),NA()),NA())","v":{"$error":"#REF!"}},{"$f":"IF(#REF!=$E$1,IF(#REF!=$G$1,IF(#REF!=\"\",NA(),#REF!),NA()),NA())","v":{"$error":"#REF!"}},{"$error":"#REF!"},{"$error":"#REF!"}]
[null,null,null,{"$f":"IF(#REF!=$E$1,IF(#REF!=$G$1,#REF!,NA()),NA())","v":{"$error":"#REF!"}},{"$f":"IF(#REF!=$E$1,IF(#REF!=$G$1,#REF!,NA()),NA())","v":{"$error":"#REF!"}},{"$f":"IF(#REF!=$E$1,IF(#REF!=$G$1,IF(#REF!=\"\",NA(),#REF!),NA()),NA())","v":{"$error":"#REF!"}},{"$f":"IF(#REF!=$E$1,IF(#REF!=$G$1,IF(#REF!=\"\",NA(),#REF!),NA()),NA())","v":{"$error":"#REF!"}},{"$error":"#REF!"},{"$error":"#REF!"}]
[null,null,null,{"$f":"IF(#REF!=$E$1,IF(#REF!=$G$1,#REF!,NA()),NA())","v":{"$error":"#REF!"}},{"$f":"IF(#REF!=$E$1,IF(#REF!=$G$1,#REF!,NA()),NA())","v":{"$error":"#REF!"}},{"$f":"IF(#REF!=$E$1,IF(#REF!=$G$1,IF(#REF!=\"\",NA(),#REF!),NA()),NA())","v":{"$error":"#REF!"}},{"$f":"IF(#REF!=$E$1,IF(#REF!=$G$1,IF(#REF!=\"\",NA(),#REF!),NA()),NA())","v":{"$error":"#REF!"}},{"$error":"#REF!"},{"$error":"#REF!"}]
[null,null,null,{"$f":"IF(#REF!=$E$1,IF(#REF!=$G$1,#REF!,NA()),NA())","v":{"$error":"#REF!"}},{"$f":"IF(#REF!=$E$1,IF(#REF!=$G$1,#REF!,NA()),NA())","v":{"$error":"#REF!"}},{"$f":"IF(#REF!=$E$1,IF(#REF!=$G$1,IF(#REF!=\"\",NA(),#REF!),NA()),NA())","v":{"$error":"#REF!"}},{"$f":"IF(#REF!=$E$1,IF(#REF!=$G$1,IF(#REF!=\"\",NA(),#REF!),NA()),NA())","v":{"$error":"#REF!"}},{"$error":"#REF!"},{"$error":"#REF!"}]
[null,null,null,{"$f":"IF(#REF!=$E$1,IF(#REF!=$G$1,#REF!,NA()),NA())","v":{"$error":"#REF!"}},{"$f":"IF(#REF!=$E$1,IF(#REF!=$G$1,#REF!,NA()),NA())","v":{"$error":"#REF!"}},{"$f":"IF(#REF!=$E$1,IF(#REF!=$G$1,IF(#REF!=\"\",NA(),#REF!),NA()),NA())","v":{"$error":"#REF!"}},{"$f":"IF(#REF!=$E$1,IF(#REF!=$G$1,IF(#REF!=\"\",NA(),#REF!),NA()),NA())","v":{"$error":"#REF!"}},{"$error":"#REF!"},{"$error":"#REF!"}]
[null,null,null,{"$f":"IF(#REF!=$E$1,IF(#REF!=$G$1,#REF!,NA()),NA())","v":{"$error":"#REF!"}},{"$f":"IF(#REF!=$E$1,IF(#REF!=$G$1,#REF!,NA()),NA())","v":{"$error":"#REF!"}},{"$f":"IF(#REF!=$E$1,IF(#REF!=$G$1,IF(#REF!=\"\",NA(),#REF!),NA()),NA())","v":{"$error":"#REF!"}},{"$f":"IF(#REF!=$E$1,IF(#REF!=$G$1,IF(#REF!=\"\",NA(),#REF!),NA()),NA())","v":{"$error":"#REF!"}},{"$error":"#REF!"},{"$error":"#REF!"}]
[null,null,null,{"$f":"IF(#REF!=$E$1,IF(#REF!=$G$1,#REF!,NA()),NA())","v":{"$error":"#REF!"}},{"$f":"IF(#REF!=$E$1,IF(#REF!=$G$1,#REF!,NA()),NA())","v":{"$error":"#REF!"}},{"$f":"IF(#REF!=$E$1,IF(#REF!=$G$1,IF(#REF!=\"\",NA(),#REF!),NA()),NA())","v":{"$error":"#REF!"}},{"$f":"IF(#REF!=$E$1,IF(#REF!=$G$1,IF(#REF!=\"\",NA(),#REF!),NA()),NA())","v":{"$error":"#REF!"}},{"$error":"#REF!"},{"$error":"#REF!"}]
[null,null,null,{"$f":"IF(#REF!=$E$1,IF(#REF!=$G$1,#REF!,NA()),NA())","v":{"$error":"#REF!"}},{"$f":"IF(#REF!=$E$1,IF(#REF!=$G$1,#REF!,NA()),NA())","v":{"$error":"#REF!"}},{"$f":"IF(#REF!=$E$1,IF(#REF!=$G$1,IF(#REF!=\"\",NA(),#REF!),NA()),NA())","v":{"$error":"#REF!"}},{"$f":"IF(#REF!=$E$1,IF(#REF!=$G$1,IF(#REF!=\"\",NA(),#REF!),NA()),NA())","v":{"$error":"#REF!"}},{"$error":"#REF!"},{"$error":"#REF!"}]
[null,null,null,{"$f":"IF(#REF!=$E$1,IF(#REF!=$G$1,#REF!,NA()),NA())","v":{"$error":"#REF!"}},{"$f":"IF(#REF!=$E$1,IF(#REF!=$G$1,#REF!,NA()),NA())","v":{"$error":"#REF!"}},{"$f":"IF(#REF!=$E$1,IF(#REF!=$G$1,IF(#REF!=\"\",NA(),#REF!),NA()),NA())","v":{"$error":"#REF!"}},{"$f":"IF(#REF!=$E$1,IF(#REF!=$G$1,IF(#REF!=\"\",NA(),#REF!),NA()),NA())","v":{"$error":"#REF!"}},{"$error":"#REF!"},{"$error":"#REF!"}]
[null,null,null,{"$f":"IF(#REF!=$E$1,IF(#REF!=$G$1,#REF!,NA()),NA())","v":{"$error":"#REF!"}},{"$f":"IF(#REF!=$E$1,IF(#REF!=$G$1,#REF!,NA()),NA())","v":{"$error":"#REF!"}},{"$f":"IF(#REF!=$E$1,IF(#REF!=$G$1,IF(#REF!=\"\",NA(),#REF!),NA()),NA())","v":{"$error":"#REF!"}},{"$f":"IF(#REF!=$E$1,IF(#REF!=$G$1,IF(#REF!=\"\",NA(),#REF!),NA()),NA())","v":{"$error":"#REF!"}},{"$error":"#REF!"},{"$error":"#REF!"}]
[null,null,null,{"$f":"IF(#REF!=$E$1,IF(#REF!=$G$1,#REF!,NA()),NA())","v":{"$error":"#REF!"}},{"$f":"IF(#REF!=$E$1,IF(#REF!=$G$1,#REF!,NA()),NA())","v":{"$error":"#REF!"}},{"$f":"IF(#REF!=$E$1,IF(#REF!=$G$1,IF(#REF!=\"\",NA(),#REF!),NA()),NA())","v":{"$error":"#REF!"}},{"$f":"IF(#REF!=$E$1,IF(#REF!=$G$1,IF(#REF!=\"\",NA(),#REF!),NA()),NA())","v":{"$error":"#REF!"}},{"$error":"#REF!"},{"$error":"#REF!"}]
[null,null,null,{"$f":"IF(#REF!=$E$1,IF(#REF!=$G$1,#REF!,NA()),NA())","v":{"$error":"#REF!"}},{"$f":"IF(#REF!=$E$1,IF(#REF!=$G$1,#REF!,NA()),NA())","v":{"$error":"#REF!"}},{"$f":"IF(#REF!=$E$1,IF(#REF!=$G$1,IF(#REF!=\"\",NA(),#REF!),NA()),NA())","v":{"$error":"#REF!"}},{"$f":"IF(#REF!=$E$1,IF(#REF!=$G$1,IF(#REF!=\"\",NA(),#REF!),NA()),NA())","v":{"$error":"#REF!"}},{"$error":"#REF!"},{"$error":"#REF!"}]
[null,null,null,{"$f":"IF(#REF!=$E$1,IF(#REF!=$G$1,#REF!,NA()),NA())","v":{"$error":"#REF!"}},{"$f":"IF(#REF!=$E$1,IF(#REF!=$G$1,#REF!,NA()),NA())","v":{"$error":"#REF!"}},{"$f":"IF(#REF!=$E$1,IF(#REF!=$G$1,IF(#REF!=\"\",NA(),#REF!),NA()),NA())","v":{"$error":"#REF!"}},{"$f":"IF(#REF!=$E$1,IF(#REF!=$G$1,IF(#REF!=\"\",NA(),#REF!),NA()),NA())","v":{"$error":"#REF!"}},{"$error":"#REF!"},{"$error":"#REF!"}]
[null,null,null,{"$f":"IF(#REF!=$E$1,IF(#REF!=$G$1,#REF!,NA()),NA())","v":{"$error":"#REF!"}},{"$f":"IF(#REF!=$E$1,IF(#REF!=$G$1,#REF!,NA()),NA())","v":{"$error":"#REF!"}},{"$f":"IF(#REF!=$E$1,IF(#REF!=$G$1,IF(#REF!=\"\",NA(),#REF!),NA()),NA())","v":{"$error":"#REF!"}},{"$f":"IF(#REF!=$E$1,IF(#REF!=$G$1,IF(#REF!=\"\",NA(),#REF!),NA()),NA())","v":{"$error":"#REF!"}},{"$error":"#REF!"},{"$error":"#REF!"}]
[null,null,null,{"$f":"IF(#REF!=$E$1,IF(#REF!=$G$1,#REF!,NA()),NA())","v":{"$error":"#REF!"}},{"$f":"IF(#REF!=$E$1,IF(#REF!=$G$1,#REF!,NA()),NA())","v":{"$error":"#REF!"}},{"$f":"IF(#REF!=$E$1,IF(#REF!=$G$1,IF(#REF!=\"\",NA(),#REF!),NA()),NA())","v":{"$error":"#REF!"}},{"$f":"IF(#REF!=$E$1,IF(#REF!=$G$1,IF(#REF!=\"\",NA(),#REF!),NA()),NA())","v":{"$error":"#REF!"}},{"$error":"#REF!"},{"$error":"#REF!"}]
[null,null,null,{"$f":"IF(#REF!=$E$1,IF(#REF!=$G$1,#REF!,NA()),NA())","v":{"$error":"#REF!"}},{"$f":"IF(#REF!=$E$1,IF(#REF!=$G$1,#REF!,NA()),NA())","v":{"$error":"#REF!"}},{"$f":"IF(#REF!=$E$1,IF(#REF!=$G$1,IF(#REF!=\"\",NA(),#REF!),NA()),NA())","v":{"$error":"#REF!"}},{"$f":"IF(#REF!=$E$1,IF(#REF!=$G$1,IF(#REF!=\"\",NA(),#REF!),NA()),NA())","v":{"$error":"#REF!"}},{"$error":"#REF!"},{"$error":"#REF!"}]
[null,null,null,{"$f":"IF(#REF!=$E$1,IF(#REF!=$G$1,#REF!,NA()),NA())","v":{"$error":"#REF!"}},{"$f":"IF(#REF!=$E$1,IF(#REF!=$G$1,#REF!,NA()),NA())","v":{"$error":"#REF!"}},{"$f":"IF(#REF!=$E$1,IF(#REF!=$G$1,IF(#REF!=\"\",NA(),#REF!),NA()),NA())","v":{"$error":"#REF!"}},{"$f":"IF(#REF!=$E$1,IF(#REF!=$G$1,IF(#REF!=\"\",NA(),#REF!),NA()),NA())","v":{"$error":"#REF!"}},{"$error":"#REF!"},{"$error":"#REF!"}]
[null,null,null,{"$f":"IF(#REF!=$E$1,IF(#REF!=$G$1,#REF!,NA()),NA())","v":{"$error":"#REF!"}},{"$f":"IF(#REF!=$E$1,IF(#REF!=$G$1,#REF!,NA()),NA())","v":{"$error":"#REF!"}},{"$f":"IF(#REF!=$E$1,IF(#REF!=$G$1,IF(#REF!=\"\",NA(),#REF!),NA()),NA())","v":{"$error":"#REF!"}},{"$f":"IF(#REF!=$E$1,IF(#REF!=$G$1,IF(#REF!=\"\",NA(),#REF!),NA()),NA())","v":{"$error":"#REF!"}},{"$error":"#REF!"},{"$error":"#REF!"}]
[null,null,null,{"$f":"IF(#REF!=$E$1,IF(#REF!=$G$1,#REF!,NA()),NA())","v":{"$error":"#REF!"}},{"$f":"IF(#REF!=$E$1,IF(#REF!=$G$1,#REF!,NA()),NA())","v":{"$error":"#REF!"}},{"$f":"IF(#REF!=$E$1,IF(#REF!=$G$1,IF(#REF!=\"\",NA(),#REF!),NA()),NA())","v":{"$error":"#REF!"}},{"$f":"IF(#REF!=$E$1,IF(#REF!=$G$1,IF(#REF!=\"\",NA(),#REF!),NA()),NA())","v":{"$error":"#REF!"}},{"$error":"#REF!"},{"$error":"#REF!"}]
[null,null,null,{"$f":"IF(#REF!=$E$1,IF(#REF!=$G$1,#REF!,NA()),NA())","v":{"$error":"#REF!"}},{"$f":"IF(#REF!=$E$1,IF(#REF!=$G$1,#REF!,NA()),NA())","v":{"$error":"#REF!"}},{"$f":"IF(#REF!=$E$1,IF(#REF!=$G$1,IF(#REF!=\"\",NA(),#REF!),NA()),NA())","v":{"$error":"#REF!"}},{"$f":"IF(#REF!=$E$1,IF(#REF!=$G$1,IF(#REF!=\"\",NA(),#REF!),NA()),NA())","v":{"$error":"#REF!"}},{"$error":"#REF!"},{"$error":"#REF!"}]
[null,null,null,{"$f":"IF(#REF!=$E$1,IF(#REF!=$G$1,#REF!,NA()),NA())","v":{"$error":"#REF!"}},{"$f":"IF(#REF!=$E$1,IF(#REF!=$G$1,#REF!,NA()),NA())","v":{"$error":"#REF!"}},{"$f":"IF(#REF!=$E$1,IF(#REF!=$G$1,IF(#REF!=\"\",NA(),#REF!),NA()),NA())","v":{"$error":"#REF!"}},{"$f":"IF(#REF!=$E$1,IF(#REF!=$G$1,IF(#REF!=\"\",NA(),#REF!),NA()),NA())","v":{"$error":"#REF!"}},{"$error":"#REF!"},{"$error":"#REF!"}]
[null,null,null,{"$f":"IF(#REF!=$E$1,IF(#REF!=$G$1,#REF!,NA()),NA())","v":{"$error":"#REF!"}},{"$f":"IF(#REF!=$E$1,IF(#REF!=$G$1,#REF!,NA()),NA())","v":{"$error":"#REF!"}},{"$f":"IF(#REF!=$E$1,IF(#REF!=$G$1,IF(#REF!=\"\",NA(),#REF!),NA()),NA())","v":{"$error":"#REF!"}},{"$f":"IF(#REF!=$E$1,IF(#REF!=$G$1,IF(#REF!=\"\",NA(),#REF!),NA()),NA())","v":{"$error":"#REF!"}},{"$error":"#REF!"},{"$error":"#REF!"}]
[null,null,null,{"$f":"IF(#REF!=$E$1,IF(#REF!=$G$1,#REF!,NA()),NA())","v":{"$error":"#REF!"}},{"$f":"IF(#REF!=$E$1,IF(#REF!=$G$1,#REF!,NA()),NA())","v":{"$error":"#REF!"}},{"$f":"IF(#REF!=$E$1,IF(#REF!=$G$1,IF(#REF!=\"\",NA(),#REF!),NA()),NA())","v":{"$error":"#REF!"}},{"$f":"IF(#REF!=$E$1,IF(#REF!=$G$1,IF(#REF!=\"\",NA(),#REF!),NA()),NA())","v":{"$error":"#REF!"}},{"$error":"#REF!"},{"$error":"#REF!"}]
[null,null,null,{"$f":"IF(#REF!=$E$1,IF(#REF!=$G$1,#REF!,NA()),NA())","v":{"$error":"#REF!"}},{"$f":"IF(#REF!=$E$1,IF(#REF!=$G$1,#REF!,NA()),NA())","v":{"$error":"#REF!"}},{"$f":"IF(#REF!=$E$1,IF(#REF!=$G$1,IF(#REF!=\"\",NA(),#REF!),NA()),NA())","v":{"$error":"#REF!"}},{"$f":"IF(#REF!=$E$1,IF(#REF!=$G$1,IF(#REF!=\"\",NA(),#REF!),NA()),NA())","v":{"$error":"#REF!"}},{"$error":"#REF!"},{"$error":"#REF!"}]
[null,null,null,{"$f":"IF(#REF!=$E$1,IF(#REF!=$G$1,#REF!,NA()),NA())","v":{"$error":"#REF!"}},{"$f":"IF(#REF!=$E$1,IF(#REF!=$G$1,#REF!,NA()),NA())","v":{"$error":"#REF!"}},{"$f":"IF(#REF!=$E$1,IF(#REF!=$G$1,IF(#REF!=\"\",NA(),#REF!),NA()),NA())","v":{"$error":"#REF!"}},{"$f":"IF(#REF!=$E$1,IF(#REF!=$G$1,IF(#REF!=\"\",NA(),#REF!),NA()),NA())","v":{"$error":"#REF!"}},{"$error":"#REF!"},{"$error":"#REF!"}]
[null,null,null,{"$f":"IF(#REF!=$E$1,IF(#REF!=$G$1,#REF!,NA()),NA())","v":{"$error":"#REF!"}},{"$f":"IF(#REF!=$E$1,IF(#REF!=$G$1,#REF!,NA()),NA())","v":{"$error":"#REF!"}},{"$f":"IF(#REF!=$E$1,IF(#REF!=$G$1,IF(#REF!=\"\",NA(),#REF!),NA()),NA())","v":{"$error":"#REF!"}},{"$f":"IF(#REF!=$E$1,IF(#REF!=$G$1,IF(#REF!=\"\",NA(),#REF!),NA()),NA())","v":{"$error":"#REF!"}},{"$error":"#REF!"},{"$error":"#REF!"}]
[null,null,null,{"$f":"IF(#REF!=$E$1,IF(#REF!=$G$1,#REF!,NA()),NA())","v":{"$error":"#REF!"}},{"$f":"IF(#REF!=$E$1,IF(#REF!=$G$1,#REF!,NA()),NA())","v":{"$error":"#REF!"}},{"$f":"IF(#REF!=$E$1,IF(#REF!=$G$1,IF(#REF!=\"\",NA(),#REF!),NA()),NA())","v":{"$error":"#REF!"}},{"$f":"IF(#REF!=$E$1,IF(#REF!=$G$1,IF(#REF!=\"\",NA(),#REF!),NA()),NA())","v":{"$error":"#REF!"}},{"$error":"#REF!"},{"$error":"#REF!"}]
[null,null,null,{"$f":"IF(#REF!=$E$1,IF(#REF!=$G$1,#REF!,NA()),NA())","v":{"$error":"#REF!"}},{"$f":"IF(#REF!=$E$1,IF(#REF!=$G$1,#REF!,NA()),NA())","v":{"$error":"#REF!"}},{"$f":"IF(#REF!=$E$1,IF(#REF!=$G$1,IF(#REF!=\"\",NA(),#REF!),NA()),NA())","v":{"$error":"#REF!"}},{"$f":"IF(#REF!=$E$1,IF(#REF!=$G$1,IF(#REF!=\"\",NA(),#REF!),NA()),NA())","v":{"$error":"#REF!"}},{"$error":"#REF!"},{"$error":"#REF!"}]
[null,null,null,{"$f":"IF(#REF!=$E$1,IF(#REF!=$G$1,#REF!,NA()),NA())","v":{"$error":"#REF!"}},{"$f":"IF(#REF!=$E$1,IF(#REF!=$G$1,#REF!,NA()),NA())","v":{"$error":"#REF!"}},{"$f":"IF(#REF!=$E$1,IF(#REF!=$G$1,IF(#REF!=\"\",NA(),#REF!),NA()),NA())","v":{"$error":"#REF!"}},{"$f":"IF(#REF!=$E$1,IF(#REF!=$G$1,IF(#REF!=\"\",NA(),#REF!),NA()),NA())","v":{"$error":"#REF!"}},{"$error":"#REF!"},{"$error":"#REF!"}]
[null,null,null,{"$f":"IF(#REF!=$E$1,IF(#REF!=$G$1,#REF!,NA()),NA())","v":{"$error":"#REF!"}},{"$f":"IF(#REF!=$E$1,IF(#REF!=$G$1,#REF!,NA()),NA())","v":{"$error":"#REF!"}},{"$f":"IF(#REF!=$E$1,IF(#REF!=$G$1,IF(#REF!=\"\",NA(),#REF!),NA()),NA())","v":{"$error":"#REF!"}},{"$f":"IF(#REF!=$E$1,IF(#REF!=$G$1,IF(#REF!=\"\",NA(),#REF!),NA()),NA())","v":{"$error":"#REF!"}},{"$error":"#REF!"},{"$error":"#REF!"}]
[null,null,null,{"$f":"IF(#REF!=$E$1,IF(#REF!=$G$1,#REF!,NA()),NA())","v":{"$error":"#REF!"}},{"$f":"IF(#REF!=$E$1,IF(#REF!=$G$1,#REF!,NA()),NA())","v":{"$error":"#REF!"}},{"$f":"IF(#REF!=$E$1,IF(#REF!=$G$1,IF(#REF!=\"\",NA(),#REF!),NA()),NA())","v":{"$error":"#REF!"}},{"$f":"IF(#REF!=$E$1,IF(#REF!=$G$1,IF(#REF!=\"\",NA(),#REF!),NA()),NA())","v":{"$error":"#REF!"}},{"$error":"#REF!"},{"$error":"#REF!"}]
[null,null,null,{"$f":"IF(#REF!=$E$1,IF(#REF!=$G$1,#REF!,NA()),NA())","v":{"$error":"#REF!"}},{"$f":"IF(#REF!=$E$1,IF(#REF!=$G$1,#REF!,NA()),NA())","v":{"$error":"#REF!"}},{"$f":"IF(#REF!=$E$1,IF(#REF!=$G$1,IF(#REF!=\"\",NA(),#REF!),NA()),NA())","v":{"$error":"#REF!"}},{"$f":"IF(#REF!=$E$1,IF(#REF!=$G$1,IF(#REF!=\"\",NA(),#REF!),NA()),NA())","v":{"$error":"#REF!"}},{"$error":"#REF!"},{"$error":"#REF!"}]
[null,null,null,{"$f":"IF(#REF!=$E$1,IF(#REF!=$G$1,#REF!,NA()),NA())","v":{"$error":"#REF!"}},{"$f":"IF(#REF!=$E$1,IF(#REF!=$G$1,#REF!,NA()),NA())","v":{"$error":"#REF!"}},{"$f":"IF(#REF!=$E$1,IF(#REF!=$G$1,IF(#REF!=\"\",NA(),#REF!),NA()),NA())","v":{"$error":"#REF!"}},{"$f":"IF(#REF!=$E$1,IF(#REF!=$G$1,IF(#REF!=\"\",NA(),#REF!),NA()),NA())","v":{"$error":"#REF!"}},{"$error":"#REF!"},{"$error":"#REF!"}]
[null,null,null,{"$f":"IF(#REF!=$E$1,IF(#REF!=$G$1,#REF!,NA()),NA())","v":{"$error":"#REF!"}},{"$f":"IF(#REF!=$E$1,IF(#REF!=$G$1,#REF!,NA()),NA())","v":{"$error":"#REF!"}},{"$f":"IF(#REF!=$E$1,IF(#REF!=$G$1,IF(#REF!=\"\",NA(),#REF!),NA()),NA())","v":{"$error":"#REF!"}},{"$f":"IF(#REF!=$E$1,IF(#REF!=$G$1,IF(#REF!=\"\",NA(),#REF!),NA()),NA())","v":{"$error":"#REF!"}},{"$error":"#REF!"},{"$error":"#REF!"}]
[null,null,null,{"$f":"IF(#REF!=$E$1,IF(#REF!=$G$1,#REF!,NA()),NA())","v":{"$error":"#REF!"}},{"$f":"IF(#REF!=$E$1,IF(#REF!=$G$1,#REF!,NA()),NA())","v":{"$error":"#REF!"}},{"$f":"IF(#REF!=$E$1,IF(#REF!=$G$1,IF(#REF!=\"\",NA(),#REF!),NA()),NA())","v":{"$error":"#REF!"}},{"$f":"IF(#REF!=$E$1,IF(#REF!=$G$1,IF(#REF!=\"\",NA(),#REF!),NA()),NA())","v":{"$error":"#REF!"}},{"$error":"#REF!"},{"$error":"#REF!"}]
[null,null,null,{"$f":"IF(#REF!=$E$1,IF(#REF!=$G$1,#REF!,NA()),NA())","v":{"$error":"#REF!"}},{"$f":"IF(#REF!=$E$1,IF(#REF!=$G$1,#REF!,NA()),NA())","v":{"$error":"#REF!"}},{"$f":"IF(#REF!=$E$1,IF(#REF!=$G$1,IF(#REF!=\"\",NA(),#REF!),NA()),NA())","v":{"$error":"#REF!"}},{"$f":"IF(#REF!=$E$1,IF(#REF!=$G$1,IF(#REF!=\"\",NA(),#REF!),NA()),NA())","v":{"$error":"#REF!"}},{"$error":"#REF!"},{"$error":"#REF!"}]
[null,null,null,{"$f":"IF(#REF!=$E$1,IF(#REF!=$G$1,#REF!,NA()),NA())","v":{"$error":"#REF!"}},{"$f":"IF(#REF!=$E$1,IF(#REF!=$G$1,#REF!,NA()),NA())","v":{"$error":"#REF!"}},{"$f":"IF(#REF!=$E$1,IF(#REF!=$G$1,IF(#REF!=\"\",NA(),#REF!),NA()),NA())","v":{"$error":"#REF!"}},{"$f":"IF(#REF!=$E$1,IF(#REF!=$G$1,IF(#REF!=\"\",NA(),#REF!),NA()),NA())","v":{"$error":"#REF!"}},{"$error":"#REF!"},{"$error":"#REF!"}]
[null,null,null,{"$f":"IF(#REF!=$E$1,IF(#REF!=$G$1,#REF!,NA()),NA())","v":{"$error":"#REF!"}},{"$f":"IF(#REF!=$E$1,IF(#REF!=$G$1,#REF!,NA()),NA())","v":{"$error":"#REF!"}},{"$f":"IF(#REF!=$E$1,IF(#REF!=$G$1,IF(#REF!=\"\",NA(),#REF!),NA()),NA())","v":{"$error":"#REF!"}},{"$f":"IF(#REF!=$E$1,IF(#REF!=$G$1,IF(#REF!=\"\",NA(),#REF!),NA()),NA())","v":{"$error":"#REF!"}},{"$error":"#REF!"},{"$error":"#REF!"}]
[null,null,null,{"$f":"IF(#REF!=$E$1,IF(#REF!=$G$1,#REF!,NA()),NA())","v":{"$error":"#REF!"}},{"$f":"IF(#REF!=$E$1,IF(#REF!=$G$1,#REF!,NA()),NA())","v":{"$error":"#REF!"}},{"$f":"IF(#REF!=$E$1,IF(#REF!=$G$1,IF(#REF!=\"\",NA(),#REF!),NA()),NA())","v":{"$error":"#REF!"}},{"$f":"IF(#REF!=$E$1,IF(#REF!=$G$1,IF(#REF!=\"\",NA(),#REF!),NA()),NA())","v":{"$error":"#REF!"}},{"$error":"#REF!"},{"$error":"#REF!"}]
[null,null,null,{"$f":"IF(#REF!=$E$1,IF(#REF!=$G$1,#REF!,NA()),NA())","v":{"$error":"#REF!"}},{"$f":"IF(#REF!=$E$1,IF(#REF!=$G$1,#REF!,NA()),NA())","v":{"$error":"#REF!"}},{"$f":"IF(#REF!=$E$1,IF(#REF!=$G$1,IF(#REF!=\"\",NA(),#REF!),NA()),NA())","v":{"$error":"#REF!"}},{"$f":"IF(#REF!=$E$1,IF(#REF!=$G$1,IF(#REF!=\"\",NA(),#REF!),NA()),NA())","v":{"$error":"#REF!"}},{"$error":"#REF!"},{"$error":"#REF!"}]
[null,null,null,{"$f":"IF(#REF!=$E$1,IF(#REF!=$G$1,#REF!,NA()),NA())","v":{"$error":"#REF!"}},{"$f":"IF(#REF!=$E$1,IF(#REF!=$G$1,#REF!,NA()),NA())","v":{"$error":"#REF!"}},{"$f":"IF(#REF!=$E$1,IF(#REF!=$G$1,IF(#REF!=\"\",NA(),#REF!),NA()),NA())","v":{"$error":"#REF!"}},{"$f":"IF(#REF!=$E$1,IF(#REF!=$G$1,IF(#REF!=\"\",NA(),#REF!),NA()),NA())","v":{"$error":"#REF!"}},{"$error":"#REF!"},{"$error":"#REF!"}]
[null,null,null,{"$f":"IF(#REF!=$E$1,IF(#REF!=$G$1,#REF!,NA()),NA())","v":{"$error":"#REF!"}},{"$f":"IF(#REF!=$E$1,IF(#REF!=$G$1,#REF!,NA()),NA())","v":{"$error":"#REF!"}},{"$f":"IF(#REF!=$E$1,IF(#REF!=$G$1,IF(#REF!=\"\",NA(),#REF!),NA()),NA())","v":{"$error":"#REF!"}},{"$f":"IF(#REF!=$E$1,IF(#REF!=$G$1,IF(#REF!=\"\",NA(),#REF!),NA()),NA())","v":{"$error":"#REF!"}},{"$error":"#REF!"},{"$error":"#REF!"}]
[null,null,null,{"$f":"IF(#REF!=$E$1,IF(#REF!=$G$1,#REF!,NA()),NA())","v":{"$error":"#REF!"}},{"$f":"IF(#REF!=$E$1,IF(#REF!=$G$1,#REF!,NA()),NA())","v":{"$error":"#REF!"}},{"$f":"IF(#REF!=$E$1,IF(#REF!=$G$1,IF(#REF!=\"\",NA(),#REF!),NA()),NA())","v":{"$error":"#REF!"}},{"$f":"IF(#REF!=$E$1,IF(#REF!=$G$1,IF(#REF!=\"\",NA(),#REF!),NA()),NA())","v":{"$error":"#REF!"}},{"$error":"#REF!"},{"$error":"#REF!"}]
[null,null,null,{"$f":"IF(#REF!=$E$1,IF(#REF!=$G$1,#REF!,NA()),NA())","v":{"$error":"#REF!"}},{"$f":"IF(#REF!=$E$1,IF(#REF!=$G$1,#REF!,NA()),NA())","v":{"$error":"#REF!"}},{"$f":"IF(#REF!=$E$1,IF(#REF!=$G$1,IF(#REF!=\"\",NA(),#REF!),NA()),NA())","v":{"$error":"#REF!"}},{"$f":"IF(#REF!=$E$1,IF(#REF!=$G$1,IF(#REF!=\"\",NA(),#REF!),NA()),NA())","v":{"$error":"#REF!"}},{"$error":"#REF!"},{"$error":"#REF!"}]
[null,null,null,{"$f":"IF(#REF!=$E$1,IF(#REF!=$G$1,#REF!,NA()),NA())","v":{"$error":"#REF!"}},{"$f":"IF(#REF!=$E$1,IF(#REF!=$G$1,#REF!,NA()),NA())","v":{"$error":"#REF!"}},{"$f":"IF(#REF!=$E$1,IF(#REF!=$G$1,IF(#REF!=\"\",NA(),#REF!),NA()),NA())","v":{"$error":"#REF!"}},{"$f":"IF(#REF!=$E$1,IF(#REF!=$G$1,IF(#REF!=\"\",NA(),#REF!),NA()),NA())","v":{"$error":"#REF!"}},{"$error":"#REF!"},{"$error":"#REF!"}]
[null,null,null,{"$f":"IF(#REF!=$E$1,IF(#REF!=$G$1,#REF!,NA()),NA())","v":{"$error":"#REF!"}},{"$f":"IF(#REF!=$E$1,IF(#REF!=$G$1,#REF!,NA()),NA())","v":{"$error":"#REF!"}},{"$f":"IF(#REF!=$E$1,IF(#REF!=$G$1,IF(#REF!=\"\",NA(),#REF!),NA()),NA())","v":{"$error":"#REF!"}},{"$f":"IF(#REF!=$E$1,IF(#REF!=$G$1,IF(#REF!=\"\",NA(),#REF!),NA()),NA())","v":{"$error":"#REF!"}},{"$error":"#REF!"},{"$error":"#REF!"}]
[null,null,null,{"$f":"IF(#REF!=$E$1,IF(#REF!=$G$1,#REF!,NA()),NA())","v":{"$error":"#REF!"}},{"$f":"IF(#REF!=$E$1,IF(#REF!=$G$1,#REF!,NA()),NA())","v":{"$error":"#REF!"}},{"$f":"IF(#REF!=$E$1,IF(#REF!=$G$1,IF(#REF!=\"\",NA(),#REF!),NA()),NA())","v":{"$error":"#REF!"}},{"$f":"IF(#REF!=$E$1,IF(#REF!=$G$1,IF(#REF!=\"\",NA(),#REF!),NA()),NA())","v":{"$error":"#REF!"}},{"$error":"#REF!"},{"$error":"#REF!"}]
[null,null,null,{"$f":"IF(#REF!=$E$1,IF(#REF!=$G$1,#REF!,NA()),NA())","v":{"$error":"#REF!"}},{"$f":"IF(#REF!=$E$1,IF(#REF!=$G$1,#REF!,NA()),NA())","v":{"$error":"#REF!"}},{"$f":"IF(#REF!=$E$1,IF(#REF!=$G$1,IF(#REF!=\"\",NA(),#REF!),NA()),NA())","v":{"$error":"#REF!"}},{"$f":"IF(#REF!=$E$1,IF(#REF!=$G$1,IF(#REF!=\"\",NA(),#REF!),NA()),NA())","v":{"$error":"#REF!"}},{"$error":"#REF!"},{"$error":"#REF!"}]
[null,null,null,{"$f":"IF(#REF!=$E$1,IF(#REF!=$G$1,#REF!,NA()),NA())","v":{"$error":"#REF!"}},{"$f":"IF(#REF!=$E$1,IF(#REF!=$G$1,#REF!,NA()),NA())","v":{"$error":"#REF!"}},{"$f":"IF(#REF!=$E$1,IF(#REF!=$G$1,IF(#REF!=\"\",NA(),#REF!),NA()),NA())","v":{"$error":"#REF!"}},{"$f":"IF(#REF!=$E$1,IF(#REF!=$G$1,IF(#REF!=\"\",NA(),#REF!),NA()),NA())","v":{"$error":"#REF!"}},{"$error":"#REF!"},{"$error":"#REF!"}]
[null,null,null,{"$f":"IF(#REF!=$E$1,IF(#REF!=$G$1,#REF!,NA()),NA())","v":{"$error":"#REF!"}},{"$f":"IF(#REF!=$E$1,IF(#REF!=$G$1,#REF!,NA()),NA())","v":{"$error":"#REF!"}},{"$f":"IF(#REF!=$E$1,IF(#REF!=$G$1,IF(#REF!=\"\",NA(),#REF!),NA()),NA())","v":{"$error":"#REF!"}},{"$f":"IF(#REF!=$E$1,IF(#REF!=$G$1,IF(#REF!=\"\",NA(),#REF!),NA()),NA())","v":{"$error":"#REF!"}},{"$error":"#REF!"},{"$error":"#REF!"}]
[null,null,null,{"$f":"IF(#REF!=$E$1,IF(#REF!=$G$1,#REF!,NA()),NA())","v":{"$error":"#REF!"}},{"$f":"IF(#REF!=$E$1,IF(#REF!=$G$1,#REF!,NA()),NA())","v":{"$error":"#REF!"}},{"$f":"IF(#REF!=$E$1,IF(#REF!=$G$1,IF(#REF!=\"\",NA(),#REF!),NA()),NA())","v":{"$error":"#REF!"}},{"$f":"IF(#REF!=$E$1,IF(#REF!=$G$1,IF(#REF!=\"\",NA(),#REF!),NA()),NA())","v":{"$error":"#REF!"}},{"$f":"IF(AND(ISNUMBER(G132),F132=\"-\"),0,F132)","v":{"$error":"#REF!"}},{"$f":"IF(AND(ISNUMBER(F132),G132=\"-\"),0,G132)","v":{"$error":"#REF!"}}]
[null,null,null,{"$f":"IF(#REF!=$E$1,IF(#REF!=$G$1,#REF!,NA()),NA())","v":{"$error":"#REF!"}},{"$f":"IF(#REF!=$E$1,IF(#REF!=$G$1,#REF!,NA()),NA())","v":{"$error":"#REF!"}},{"$f":"IF(#REF!=$E$1,IF(#REF!=$G$1,IF(#REF!=\"\",NA(),#REF!),NA()),NA())","v":{"$error":"#REF!"}},{"$f":"IF(#REF!=$E$1,IF(#REF!=$G$1,IF(#REF!=\"\",NA(),#REF!),NA()),NA())","v":{"$error":"#REF!"}},{"$error":"#REF!"},{"$error":"#REF!"}]
[null,null,null,{"$f":"IF(#REF!=$E$1,IF(#REF!=$G$1,#REF!,NA()),NA())","v":{"$error":"#REF!"}},{"$f":"IF(#REF!=$E$1,IF(#REF!=$G$1,#REF!,NA()),NA())","v":{"$error":"#REF!"}},{"$f":"IF(#REF!=$E$1,IF(#REF!=$G$1,IF(#REF!=\"\",NA(),#REF!),NA()),NA())","v":{"$error":"#REF!"}},{"$f":"IF(#REF!=$E$1,IF(#REF!=$G$1,IF(#REF!=\"\",NA(),#REF!),NA()),NA())","v":{"$error":"#REF!"}},{"$error":"#REF!"},{"$error":"#REF!"}]
[null,null,null,{"$f":"IF(#REF!=$E$1,IF(#REF!=$G$1,#REF!,NA()),NA())","v":{"$error":"#REF!"}},{"$f":"IF(#REF!=$E$1,IF(#REF!=$G$1,#REF!,NA()),NA())","v":{"$error":"#REF!"}},{"$f":"IF(#REF!=$E$1,IF(#REF!=$G$1,IF(#REF!=\"\",NA(),#REF!),NA()),NA())","v":{"$error":"#REF!"}},{"$f":"IF(#REF!=$E$1,IF(#REF!=$G$1,IF(#REF!=\"\",NA(),#REF!),NA()),NA())","v":{"$error":"#REF!"}},{"$error":"#REF!"},{"$error":"#REF!"}]
[null,null,null,{"$f":"IF(#REF!=$E$1,IF(#REF!=$G$1,#REF!,NA()),NA())","v":{"$error":"#REF!"}},{"$f":"IF(#REF!=$E$1,IF(#REF!=$G$1,#REF!,NA()),NA())","v":{"$error":"#REF!"}},{"$f":"IF(#REF!=$E$1,IF(#REF!=$G$1,IF(#REF!=\"\",NA(),#REF!),NA()),NA())","v":{"$error":"#REF!"}},{"$f":"IF(#REF!=$E$1,IF(#REF!=$G$1,IF(#REF!=\"\",NA(),#REF!),NA()),NA())","v":{"$error":"#REF!"}},{"$error":"#REF!"},{"$error":"#REF!"}]
[null,null,null,{"$f":"IF(#REF!=$E$1,IF(#REF!=$G$1,#REF!,NA()),NA())","v":{"$error":"#REF!"}},{"$f":"IF(#REF!=$E$1,IF(#REF!=$G$1,#REF!,NA()),NA())","v":{"$error":"#REF!"}},{"$f":"IF(#REF!=$E$1,IF(#REF!=$G$1,IF(#REF!=\"\",NA(),#REF!),NA()),NA())","v":{"$error":"#REF!"}},{"$f":"IF(#REF!=$E$1,IF(#REF!=$G$1,IF(#REF!=\"\",NA(),#REF!),NA()),NA())","v":{"$error":"#REF!"}},{"$error":"#REF!"},{"$error":"#REF!"}]
[null,null,null,{"$f":"IF(#REF!=$E$1,IF(#REF!=$G$1,#REF!,NA()),NA())","v":{"$error":"#REF!"}},{"$f":"IF(#REF!=$E$1,IF(#REF!=$G$1,#REF!,NA()),NA())","v":{"$error":"#REF!"}},{"$f":"IF(#REF!=$E$1,IF(#REF!=$G$1,IF(#REF!=\"\",NA(),#REF!),NA()),NA())","v":{"$error":"#REF!"}},{"$f":"IF(#REF!=$E$1,IF(#REF!=$G$1,IF(#REF!=\"\",NA(),#REF!),NA()),NA())","v":{"$error":"#REF!"}},{"$error":"#REF!"},{"$error":"#REF!"}]
[null,null,null,{"$f":"IF(#REF!=$E$1,IF(#REF!=$G$1,#REF!,NA()),NA())","v":{"$error":"#REF!"}},{"$f":"IF(#REF!=$E$1,IF(#REF!=$G$1,#REF!,NA()),NA())","v":{"$error":"#REF!"}},{"$f":"IF(#REF!=$E$1,IF(#REF!=$G$1,IF(#REF!=\"\",NA(),#REF!),NA()),NA())","v":{"$error":"#REF!"}},{"$f":"IF(#REF!=$E$1,IF(#REF!=$G$1,IF(#REF!=\"\",NA(),#REF!),NA()),NA())","v":{"$error":"#REF!"}},{"$error":"#REF!"},{"$error":"#REF!"}]
[null,null,null,{"$f":"IF(#REF!=$E$1,IF(#REF!=$G$1,#REF!,NA()),NA())","v":{"$error":"#REF!"}},{"$f":"IF(#REF!=$E$1,IF(#REF!=$G$1,#REF!,NA()),NA())","v":{"$error":"#REF!"}},{"$f":"IF(#REF!=$E$1,IF(#REF!=$G$1,IF(#REF!=\"\",NA(),#REF!),NA()),NA())","v":{"$error":"#REF!"}},{"$f":"IF(#REF!=$E$1,IF(#REF!=$G$1,IF(#REF!=\"\",NA(),#REF!),NA()),NA())","v":{"$error":"#REF!"}},{"$error":"#REF!"},{"$error":"#REF!"}]
[null,null,null,{"$f":"IF(#REF!=$E$1,IF(#REF!=$G$1,#REF!,NA()),NA())","v":{"$error":"#REF!"}},{"$f":"IF(#REF!=$E$1,IF(#REF!=$G$1,#REF!,NA()),NA())","v":{"$error":"#REF!"}},{"$f":"IF(#REF!=$E$1,IF(#REF!=$G$1,IF(#REF!=\"\",NA(),#REF!),NA()),NA())","v":{"$error":"#REF!"}},{"$f":"IF(#REF!=$E$1,IF(#REF!=$G$1,IF(#REF!=\"\",NA(),#REF!),NA()),NA())","v":{"$error":"#REF!"}},{"$error":"#REF!"},{"$error":"#REF!"}]
[null,null,null,{"$f":"IF(#REF!=$E$1,IF(#REF!=$G$1,#REF!,NA()),NA())","v":{"$error":"#REF!"}},{"$f":"IF(#REF!=$E$1,IF(#REF!=$G$1,#REF!,NA()),NA())","v":{"$error":"#REF!"}},{"$f":"IF(#REF!=$E$1,IF(#REF!=$G$1,IF(#REF!=\"\",NA(),#REF!),NA()),NA())","v":{"$error":"#REF!"}},{"$f":"IF(#REF!=$E$1,IF(#REF!=$G$1,IF(#REF!=\"\",NA(),#REF!),NA()),NA())","v":{"$error":"#REF!"}},{"$error":"#REF!"},{"$error":"#REF!"}]
[null,null,null,{"$f":"IF(#REF!=$E$1,IF(#REF!=$G$1,#REF!,NA()),NA())","v":{"$error":"#REF!"}},{"$f":"IF(#REF!=$E$1,IF(#REF!=$G$1,#REF!,NA()),NA())","v":{"$error":"#REF!"}},{"$f":"IF(#REF!=$E$1,IF(#REF!=$G$1,IF(#REF!=\"\",NA(),#REF!),NA()),NA())","v":{"$error":"#REF!"}},{"$f":"IF(#REF!=$E$1,IF(#REF!=$G$1,IF(#REF!=\"\",NA(),#REF!),NA()),NA())","v":{"$error":"#REF!"}},{"$error":"#REF!"},{"$error":"#REF!"}]
[null,null,null,{"$f":"IF(#REF!=$E$1,IF(#REF!=$G$1,#REF!,NA()),NA())","v":{"$error":"#REF!"}},{"$f":"IF(#REF!=$E$1,IF(#REF!=$G$1,#REF!,NA()),NA())","v":{"$error":"#REF!"}},{"$f":"IF(#REF!=$E$1,IF(#REF!=$G$1,IF(#REF!=\"\",NA(),#REF!),NA()),NA())","v":{"$error":"#REF!"}},{"$f":"IF(#REF!=$E$1,IF(#REF!=$G$1,IF(#REF!=\"\",NA(),#REF!),NA()),NA())","v":{"$error":"#REF!"}},{"$error":"#REF!"},{"$error":"#REF!"}]
[null,null,null,{"$f":"IF(#REF!=$E$1,IF(#REF!=$G$1,#REF!,NA()),NA())","v":{"$error":"#REF!"}},{"$f":"IF(#REF!=$E$1,IF(#REF!=$G$1,#REF!,NA()),NA())","v":{"$error":"#REF!"}},{"$f":"IF(#REF!=$E$1,IF(#REF!=$G$1,IF(#REF!=\"\",NA(),#REF!),NA()),NA())","v":{"$error":"#REF!"}},{"$f":"IF(#REF!=$E$1,IF(#REF!=$G$1,IF(#REF!=\"\",NA(),#REF!),NA()),NA())","v":{"$error":"#REF!"}},{"$error":"#REF!"},{"$error":"#REF!"}]
[null,null,null,{"$f":"IF(#REF!=$E$1,IF(#REF!=$G$1,#REF!,NA()),NA())","v":{"$error":"#REF!"}},{"$f":"IF(#REF!=$E$1,IF(#REF!=$G$1,#REF!,NA()),NA())","v":{"$error":"#REF!"}},{"$f":"IF(#REF!=$E$1,IF(#REF!=$G$1,IF(#REF!=\"\",NA(),#REF!),NA()),NA())","v":{"$error":"#REF!"}},{"$f":"IF(#REF!=$E$1,IF(#REF!=$G$1,IF(#REF!=\"\",NA(),#REF!),NA()),NA())","v":{"$error":"#REF!"}},{"$error":"#REF!"},{"$error":"#REF!"}]
[null,null,null,{"$f":"IF(#REF!=$E$1,IF(#REF!=$G$1,#REF!,NA()),NA())","v":{"$error":"#REF!"}},{"$f":"IF(#REF!=$E$1,IF(#REF!=$G$1,#REF!,NA()),NA())","v":{"$error":"#REF!"}},{"$f":"IF(#REF!=$E$1,IF(#REF!=$G$1,IF(#REF!=\"\",NA(),#REF!),NA()),NA())","v":{"$error":"#REF!"}},{"$f":"IF(#REF!=$E$1,IF(#REF!=$G$1,IF(#REF!=\"\",NA(),#REF!),NA()),NA())","v":{"$error":"#REF!"}},{"$error":"#REF!"},{"$error":"#REF!"}]
[null,null,null,{"$f":"IF(#REF!=$E$1,IF(#REF!=$G$1,#REF!,NA()),NA())","v":{"$error":"#REF!"}},{"$f":"IF(#REF!=$E$1,IF(#REF!=$G$1,#REF!,NA()),NA())","v":{"$error":"#REF!"}},{"$f":"IF(#REF!=$E$1,IF(#REF!=$G$1,IF(#REF!=\"\",NA(),#REF!),NA()),NA())","v":{"$error":"#REF!"}},{"$f":"IF(#REF!=$E$1,IF(#REF!=$G$1,IF(#REF!=\"\",NA(),#REF!),NA()),NA())","v":{"$error":"#REF!"}},{"$error":"#REF!"},{"$error":"#REF!"}]
[null,null,null,{"$f":"IF(#REF!=$E$1,IF(#REF!=$G$1,#REF!,NA()),NA())","v":{"$error":"#REF!"}},{"$f":"IF(#REF!=$E$1,IF(#REF!=$G$1,#REF!,NA()),NA())","v":{"$error":"#REF!"}},{"$f":"IF(#REF!=$E$1,IF(#REF!=$G$1,IF(#REF!=\"\",NA(),#REF!),NA()),NA())","v":{"$error":"#REF!"}},{"$f":"IF(#REF!=$E$1,IF(#REF!=$G$1,IF(#REF!=\"\",NA(),#REF!),NA()),NA())","v":{"$error":"#REF!"}},{"$error":"#REF!"},{"$error":"#REF!"}]
[null,null,null,{"$f":"IF(#REF!=$E$1,IF(#REF!=$G$1,#REF!,NA()),NA())","v":{"$error":"#REF!"}},{"$f":"IF(#REF!=$E$1,IF(#REF!=$G$1,#REF!,NA()),NA())","v":{"$error":"#REF!"}},{"$f":"IF(#REF!=$E$1,IF(#REF!=$G$1,IF(#REF!=\"\",NA(),#REF!),NA()),NA())","v":{"$error":"#REF!"}},{"$f":"IF(#REF!=$E$1,IF(#REF!=$G$1,IF(#REF!=\"\",NA(),#REF!),NA()),NA())","v":{"$error":"#REF!"}},{"$error":"#REF!"},{"$error":"#REF!"}]
[null,null,null,{"$f":"IF(#REF!=$E$1,IF(#REF!=$G$1,#REF!,NA()),NA())","v":{"$error":"#REF!"}},{"$f":"IF(#REF!=$E$1,IF(#REF!=$G$1,#REF!,NA()),NA())","v":{"$error":"#REF!"}},{"$f":"IF(#REF!=$E$1,IF(#REF!=$G$1,IF(#REF!=\"\",NA(),#REF!),NA()),NA())","v":{"$error":"#REF!"}},{"$f":"IF(#REF!=$E$1,IF(#REF!=$G$1,IF(#REF!=\"\",NA(),#REF!),NA()),NA())","v":{"$error":"#REF!"}},{"$error":"#REF!"},{"$error":"#REF!"}]
[null,null,null,{"$f":"IF(#REF!=$E$1,IF(#REF!=$G$1,#REF!,NA()),NA())","v":{"$error":"#REF!"}},{"$f":"IF(#REF!=$E$1,IF(#REF!=$G$1,#REF!,NA()),NA())","v":{"$error":"#REF!"}},{"$f":"IF(#REF!=$E$1,IF(#REF!=$G$1,IF(#REF!=\"\",NA(),#REF!),NA()),NA())","v":{"$error":"#REF!"}},{"$f":"IF(#REF!=$E$1,IF(#REF!=$G$1,IF(#REF!=\"\",NA(),#REF!),NA()),NA())","v":{"$error":"#REF!"}},{"$error":"#REF!"},{"$error":"#REF!"}]
[null,null,null,{"$f":"IF(#REF!=$E$1,IF(#REF!=$G$1,#REF!,NA()),NA())","v":{"$error":"#REF!"}},{"$f":"IF(#REF!=$E$1,IF(#REF!=$G$1,#REF!,NA()),NA())","v":{"$error":"#REF!"}},{"$f":"IF(#REF!=$E$1,IF(#REF!=$G$1,IF(#REF!=\"\",NA(),#REF!),NA()),NA())","v":{"$error":"#REF!"}},{"$f":"IF(#REF!=$E$1,IF(#REF!=$G$1,IF(#REF!=\"\",NA(),#REF!),NA()),NA())","v":{"$error":"#REF!"}},{"$error":"#REF!"},{"$error":"#REF!"}]
[null,null,null,{"$f":"IF(#REF!=$E$1,IF(#REF!=$G$1,#REF!,NA()),NA())","v":{"$error":"#REF!"}},{"$f":"IF(#REF!=$E$1,IF(#REF!=$G$1,#REF!,NA()),NA())","v":{"$error":"#REF!"}},{"$f":"IF(#REF!=$E$1,IF(#REF!=$G$1,IF(#REF!=\"\",NA(),#REF!),NA()),NA())","v":{"$error":"#REF!"}},{"$f":"IF(#REF!=$E$1,IF(#REF!=$G$1,IF(#REF!=\"\",NA(),#REF!),NA()),NA())","v":{"$error":"#REF!"}},{"$error":"#REF!"},{"$error":"#REF!"}]
[null,null,null,{"$f":"IF(#REF!=$E$1,IF(#REF!=$G$1,#REF!,NA()),NA())","v":{"$error":"#REF!"}},{"$f":"IF(#REF!=$E$1,IF(#REF!=$G$1,#REF!,NA()),NA())","v":{"$error":"#REF!"}},{"$f":"IF(#REF!=$E$1,IF(#REF!=$G$1,IF(#REF!=\"\",NA(),#REF!),NA()),NA())","v":{"$error":"#REF!"}},{"$f":"IF(#REF!=$E$1,IF(#REF!=$G$1,IF(#REF!=\"\",NA(),#REF!),NA()),NA())","v":{"$error":"#REF!"}},{"$error":"#REF!"},{"$error":"#REF!"}]
[null,null,null,{"$f":"IF(#REF!=$E$1,IF(#REF!=$G$1,#REF!,NA()),NA())","v":{"$error":"#REF!"}},{"$f":"IF(#REF!=$E$1,IF(#REF!=$G$1,#REF!,NA()),NA())","v":{"$error":"#REF!"}},{"$f":"IF(#REF!=$E$1,IF(#REF!=$G$1,IF(#REF!=\"\",NA(),#REF!),NA()),NA())","v":{"$error":"#REF!"}},{"$f":"IF(#REF!=$E$1,IF(#REF!=$G$1,IF(#REF!=\"\",NA(),#REF!),NA()),NA())","v":{"$error":"#REF!"}},{"$error":"#REF!"},{"$error":"#REF!"}]
[null,null,null,{"$f":"IF(#REF!=$E$1,IF(#REF!=$G$1,#REF!,NA()),NA())","v":{"$error":"#REF!"}},{"$f":"IF(#REF!=$E$1,IF(#REF!=$G$1,#REF!,NA()),NA())","v":{"$error":"#REF!"}},{"$f":"IF(#REF!=$E$1,IF(#REF!=$G$1,IF(#REF!=\"\",NA(),#REF!),NA()),NA())","v":{"$error":"#REF!"}},{"$f":"IF(#REF!=$E$1,IF(#REF!=$G$1,IF(#REF!=\"\",NA(),#REF!),NA()),NA())","v":{"$error":"#REF!"}},{"$error":"#REF!"},{"$error":"#REF!"}]
[null,null,null,{"$f":"IF(#REF!=$E$1,IF(#REF!=$G$1,#REF!,NA()),NA())","v":{"$error":"#REF!"}},{"$f":"IF(#REF!=$E$1,IF(#REF!=$G$1,#REF!,NA()),NA())","v":{"$error":"#REF!"}},{"$f":"IF(#REF!=$E$1,IF(#REF!=$G$1,IF(#REF!=\"\",NA(),#REF!),NA()),NA())","v":{"$error":"#REF!"}},{"$f":"IF(#REF!=$E$1,IF(#REF!=$G$1,IF(#REF!=\"\",NA(),#REF!),NA()),NA())","v":{"$error":"#REF!"}},{"$error":"#REF!"},{"$error":"#REF!"}]
[null,null,null,{"$f":"IF(#REF!=$E$1,IF(#REF!=$G$1,#REF!,NA()),NA())","v":{"$error":"#REF!"}},{"$f":"IF(#REF!=$E$1,IF(#REF!=$G$1,#REF!,NA()),NA())","v":{"$error":"#REF!"}},{"$f":"IF(#REF!=$E$1,IF(#REF!=$G$1,IF(#REF!=\"\",NA(),#REF!),NA()),NA())","v":{"$error":"#REF!"}},{"$f":"IF(#REF!=$E$1,IF(#REF!=$G$1,IF(#REF!=\"\",NA(),#REF!),NA()),NA())","v":{"$error":"#REF!"}},{"$error":"#REF!"},{"$error":"#REF!"}]
[null,null,null,{"$f":"IF(#REF!=$E$1,IF(#REF!=$G$1,#REF!,NA()),NA())","v":{"$error":"#REF!"}},{"$f":"IF(#REF!=$E$1,IF(#REF!=$G$1,#REF!,NA()),NA())","v":{"$error":"#REF!"}},{"$f":"IF(#REF!=$E$1,IF(#REF!=$G$1,IF(#REF!=\"\",NA(),#REF!),NA()),NA())","v":{"$error":"#REF!"}},{"$f":"IF(#REF!=$E$1,IF(#REF!=$G$1,IF(#REF!=\"\",NA(),#REF!),NA()),NA())","v":{"$error":"#REF!"}},{"$error":"#REF!"},{"$error":"#REF!"}]
[null,null,null,{"$f":"IF(#REF!=$E$1,IF(#REF!=$G$1,#REF!,NA()),NA())","v":{"$error":"#REF!"}},{"$f":"IF(#REF!=$E$1,IF(#REF!=$G$1,#REF!,NA()),NA())","v":{"$error":"#REF!"}},{"$f":"IF(#REF!=$E$1,IF(#REF!=$G$1,IF(#REF!=\"\",NA(),#REF!),NA()),NA())","v":{"$error":"#REF!"}},{"$f":"IF(#REF!=$E$1,IF(#REF!=$G$1,IF(#REF!=\"\",NA(),#REF!),NA()),NA())","v":{"$error":"#REF!"}},{"$error":"#REF!"},{"$error":"#REF!"}]
[null,null,null,{"$f":"IF(#REF!=$E$1,IF(#REF!=$G$1,#REF!,NA()),NA())","v":{"$error":"#REF!"}},{"$f":"IF(#REF!=$E$1,IF(#REF!=$G$1,#REF!,NA()),NA())","v":{"$error":"#REF!"}},{"$f":"IF(#REF!=$E$1,IF(#REF!=$G$1,IF(#REF!=\"\",NA(),#REF!),NA()),NA())","v":{"$error":"#REF!"}},{"$f":"IF(#REF!=$E$1,IF(#REF!=$G$1,IF(#REF!=\"\",NA(),#REF!),NA()),NA())","v":{"$error":"#REF!"}},{"$error":"#REF!"},{"$error":"#REF!"}]
[null,null,null,{"$f":"IF(#REF!=$E$1,IF(#REF!=$G$1,#REF!,NA()),NA())","v":{"$error":"#REF!"}},{"$f":"IF(#REF!=$E$1,IF(#REF!=$G$1,#REF!,NA()),NA())","v":{"$error":"#REF!"}},{"$f":"IF(#REF!=$E$1,IF(#REF!=$G$1,IF(#REF!=\"\",NA(),#REF!),NA()),NA())","v":{"$error":"#REF!"}},{"$f":"IF(#REF!=$E$1,IF(#REF!=$G$1,IF(#REF!=\"\",NA(),#REF!),NA()),NA())","v":{"$error":"#REF!"}},{"$error":"#REF!"},{"$error":"#REF!"}]
[null,null,null,{"$f":"IF(#REF!=$E$1,IF(#REF!=$G$1,#REF!,NA()),NA())","v":{"$error":"#REF!"}},{"$f":"IF(#REF!=$E$1,IF(#REF!=$G$1,#REF!,NA()),NA())","v":{"$error":"#REF!"}},{"$f":"IF(#REF!=$E$1,IF(#REF!=$G$1,IF(#REF!=\"\",NA(),#REF!),NA()),NA())","v":{"$error":"#REF!"}},{"$f":"IF(#REF!=$E$1,IF(#REF!=$G$1,IF(#REF!=\"\",NA(),#REF!),NA()),NA())","v":{"$error":"#REF!"}},{"$error":"#REF!"},{"$error":"#REF!"}]
[null,null,null,{"$f":"IF(#REF!=$E$1,IF(#REF!=$G$1,#REF!,NA()),NA())","v":{"$error":"#REF!"}},{"$f":"IF(#REF!=$E$1,IF(#REF!=$G$1,#REF!,NA()),NA())","v":{"$error":"#REF!"}},{"$f":"IF(#REF!=$E$1,IF(#REF!=$G$1,IF(#REF!=\"\",NA(),#REF!),NA()),NA())","v":{"$error":"#REF!"}},{"$f":"IF(#REF!=$E$1,IF(#REF!=$G$1,IF(#REF!=\"\",NA(),#REF!),NA()),NA())","v":{"$error":"#REF!"}},{"$error":"#REF!"},{"$error":"#REF!"}]
[null,null,null,{"$f":"IF(#REF!=$E$1,IF(#REF!=$G$1,#REF!,NA()),NA())","v":{"$error":"#REF!"}},{"$f":"IF(#REF!=$E$1,IF(#REF!=$G$1,#REF!,NA()),NA())","v":{"$error":"#REF!"}},{"$f":"IF(#REF!=$E$1,IF(#REF!=$G$1,IF(#REF!=\"\",NA(),#REF!),NA()),NA())","v":{"$error":"#REF!"}},{"$f":"IF(#REF!=$E$1,IF(#REF!=$G$1,IF(#REF!=\"\",NA(),#REF!),NA()),NA())","v":{"$error":"#REF!"}},{"$error":"#REF!"},{"$error":"#REF!"}]
[null,null,null,{"$f":"IF(#REF!=$E$1,IF(#REF!=$G$1,#REF!,NA()),NA())","v":{"$error":"#REF!"}},{"$f":"IF(#REF!=$E$1,IF(#REF!=$G$1,#REF!,NA()),NA())","v":{"$error":"#REF!"}},{"$f":"IF(#REF!=$E$1,IF(#REF!=$G$1,IF(#REF!=\"\",NA(),#REF!),NA()),NA())","v":{"$error":"#REF!"}},{"$f":"IF(#REF!=$E$1,IF(#REF!=$G$1,IF(#REF!=\"\",NA(),#REF!),NA()),NA())","v":{"$error":"#REF!"}},{"$error":"#REF!"},{"$error":"#REF!"}]
[null,null,null,{"$f":"IF(#REF!=$E$1,IF(#REF!=$G$1,#REF!,NA()),NA())","v":{"$error":"#REF!"}},{"$f":"IF(#REF!=$E$1,IF(#REF!=$G$1,#REF!,NA()),NA())","v":{"$error":"#REF!"}},{"$f":"IF(#REF!=$E$1,IF(#REF!=$G$1,IF(#REF!=\"\",NA(),#REF!),NA()),NA())","v":{"$error":"#REF!"}},{"$f":"IF(#REF!=$E$1,IF(#REF!=$G$1,IF(#REF!=\"\",NA(),#REF!),NA()),NA())","v":{"$error":"#REF!"}},{"$error":"#REF!"},{"$error":"#REF!"}]
[null,null,null,{"$f":"IF(#REF!=$E$1,IF(#REF!=$G$1,#REF!,NA()),NA())","v":{"$error":"#REF!"}},{"$f":"IF(#REF!=$E$1,IF(#REF!=$G$1,#REF!,NA()),NA())","v":{"$error":"#REF!"}},{"$f":"IF(#REF!=$E$1,IF(#REF!=$G$1,IF(#REF!=\"\",NA(),#REF!),NA()),NA())","v":{"$error":"#REF!"}},{"$f":"IF(#REF!=$E$1,IF(#REF!=$G$1,IF(#REF!=\"\",NA(),#REF!),NA()),NA())","v":{"$error":"#REF!"}},{"$error":"#REF!"},{"$error":"#REF!"}]
[null,null,null,{"$f":"IF(#REF!=$E$1,IF(#REF!=$G$1,#REF!,NA()),NA())","v":{"$error":"#REF!"}},{"$f":"IF(#REF!=$E$1,IF(#REF!=$G$1,#REF!,NA()),NA())","v":{"$error":"#REF!"}},{"$f":"IF(#REF!=$E$1,IF(#REF!=$G$1,IF(#REF!=\"\",NA(),#REF!),NA()),NA())","v":{"$error":"#REF!"}},{"$f":"IF(#REF!=$E$1,IF(#REF!=$G$1,IF(#REF!=\"\",NA(),#REF!),NA()),NA())","v":{"$error":"#REF!"}},{"$error":"#REF!"},{"$error":"#REF!"}]
[null,null,null,{"$f":"IF(#REF!=$E$1,IF(#REF!=$G$1,#REF!,NA()),NA())","v":{"$error":"#REF!"}},{"$f":"IF(#REF!=$E$1,IF(#REF!=$G$1,#REF!,NA()),NA())","v":{"$error":"#REF!"}},{"$f":"IF(#REF!=$E$1,IF(#REF!=$G$1,IF(#REF!=\"\",NA(),#REF!),NA()),NA())","v":{"$error":"#REF!"}},{"$f":"IF(#REF!=$E$1,IF(#REF!=$G$1,IF(#REF!=\"\",NA(),#REF!),NA()),NA())","v":{"$error":"#REF!"}},{"$error":"#REF!"},{"$error":"#REF!"}]
[null,null,null,{"$f":"IF(#REF!=$E$1,IF(#REF!=$G$1,#REF!,NA()),NA())","v":{"$error":"#REF!"}},{"$f":"IF(#REF!=$E$1,IF(#REF!=$G$1,#REF!,NA()),NA())","v":{"$error":"#REF!"}},{"$f":"IF(#REF!=$E$1,IF(#REF!=$G$1,IF(#REF!=\"\",NA(),#REF!),NA()),NA())","v":{"$error":"#REF!"}},{"$f":"IF(#REF!=$E$1,IF(#REF!=$G$1,IF(#REF!=\"\",NA(),#REF!),NA()),NA())","v":{"$error":"#REF!"}},{"$error":"#REF!"},{"$error":"#REF!"}]
[null,null,null,{"$f":"IF(#REF!=$E$1,IF(#REF!=$G$1,#REF!,NA()),NA())","v":{"$error":"#REF!"}},{"$f":"IF(#REF!=$E$1,IF(#REF!=$G$1,#REF!,NA()),NA())","v":{"$error":"#REF!"}},{"$f":"IF(#REF!=$E$1,IF(#REF!=$G$1,IF(#REF!=\"\",NA(),#REF!),NA()),NA())","v":{"$error":"#REF!"}},{"$f":"IF(#REF!=$E$1,IF(#REF!=$G$1,IF(#REF!=\"\",NA(),#REF!),NA()),NA())","v":{"$error":"#REF!"}},{"$error":"#REF!"},{"$error":"#REF!"}]
[null,null,null,{"$f":"IF(#REF!=$E$1,IF(#REF!=$G$1,#REF!,NA()),NA())","v":{"$error":"#REF!"}},{"$f":"IF(#REF!=$E$1,IF(#REF!=$G$1,#REF!,NA()),NA())","v":{"$error":"#REF!"}},{"$f":"IF(#REF!=$E$1,IF(#REF!=$G$1,IF(#REF!=\"\",NA(),#REF!),NA()),NA())","v":{"$error":"#REF!"}},{"$f":"IF(#REF!=$E$1,IF(#REF!=$G$1,IF(#REF!=\"\",NA(),#REF!),NA()),NA())","v":{"$error":"#REF!"}},{"$error":"#REF!"},{"$error":"#REF!"}]
[null,null,null,{"$f":"IF(#REF!=$E$1,IF(#REF!=$G$1,#REF!,NA()),NA())","v":{"$error":"#REF!"}},{"$f":"IF(#REF!=$E$1,IF(#REF!=$G$1,#REF!,NA()),NA())","v":{"$error":"#REF!"}},{"$f":"IF(#REF!=$E$1,IF(#REF!=$G$1,IF(#REF!=\"\",NA(),#REF!),NA()),NA())","v":{"$error":"#REF!"}},{"$f":"IF(#REF!=$E$1,IF(#REF!=$G$1,IF(#REF!=\"\",NA(),#REF!),NA()),NA())","v":{"$error":"#REF!"}},{"$error":"#REF!"},{"$error":"#REF!"}]
[null,null,null,{"$f":"IF(#REF!=$E$1,IF(#REF!=$G$1,#REF!,NA()),NA())","v":{"$error":"#REF!"}},{"$f":"IF(#REF!=$E$1,IF(#REF!=$G$1,#REF!,NA()),NA())","v":{"$error":"#REF!"}},{"$f":"IF(#REF!=$E$1,IF(#REF!=$G$1,IF(#REF!=\"\",NA(),#REF!),NA()),NA())","v":{"$error":"#REF!"}},{"$f":"IF(#REF!=$E$1,IF(#REF!=$G$1,IF(#REF!=\"\",NA(),#REF!),NA()),NA())","v":{"$error":"#REF!"}},{"$error":"#REF!"},{"$error":"#REF!"}]
[null,null,null,{"$f":"IF(#REF!=$E$1,IF(#REF!=$G$1,#REF!,NA()),NA())","v":{"$error":"#REF!"}},{"$f":"IF(#REF!=$E$1,IF(#REF!=$G$1,#REF!,NA()),NA())","v":{"$error":"#REF!"}},{"$f":"IF(#REF!=$E$1,IF(#REF!=$G$1,IF(#REF!=\"\",NA(),#REF!),NA()),NA())","v":{"$error":"#REF!"}},{"$f":"IF(#REF!=$E$1,IF(#REF!=$G$1,IF(#REF!=\"\",NA(),#REF!),NA()),NA())","v":{"$error":"#REF!"}},{"$error":"#REF!"},{"$error":"#REF!"}]
[null,null,null,{"$f":"IF(#REF!=$E$1,IF(#REF!=$G$1,#REF!,NA()),NA())","v":{"$error":"#REF!"}},{"$f":"IF(#REF!=$E$1,IF(#REF!=$G$1,#REF!,NA()),NA())","v":{"$error":"#REF!"}},{"$f":"IF(#REF!=$E$1,IF(#REF!=$G$1,IF(#REF!=\"\",NA(),#REF!),NA()),NA())","v":{"$error":"#REF!"}},{"$f":"IF(#REF!=$E$1,IF(#REF!=$G$1,IF(#REF!=\"\",NA(),#REF!),NA()),NA())","v":{"$error":"#REF!"}},{"$error":"#REF!"},{"$error":"#REF!"}]
[null,null,null,{"$f":"IF(#REF!=$E$1,IF(#REF!=$G$1,#REF!,NA()),NA())","v":{"$error":"#REF!"}},{"$f":"IF(#REF!=$E$1,IF(#REF!=$G$1,#REF!,NA()),NA())","v":{"$error":"#REF!"}},{"$f":"IF(#REF!=$E$1,IF(#REF!=$G$1,IF(#REF!=\"\",NA(),#REF!),NA()),NA())","v":{"$error":"#REF!"}},{"$f":"IF(#REF!=$E$1,IF(#REF!=$G$1,IF(#REF!=\"\",NA(),#REF!),NA()),NA())","v":{"$error":"#REF!"}},{"$error":"#REF!"},{"$error":"#REF!"}]
[null,null,null,{"$f":"IF(#REF!=$E$1,IF(#REF!=$G$1,#REF!,NA()),NA())","v":{"$error":"#REF!"}},{"$f":"IF(#REF!=$E$1,IF(#REF!=$G$1,#REF!,NA()),NA())","v":{"$error":"#REF!"}},{"$f":"IF(#REF!=$E$1,IF(#REF!=$G$1,IF(#REF!=\"\",NA(),#REF!),NA()),NA())","v":{"$error":"#REF!"}},{"$f":"IF(#REF!=$E$1,IF(#REF!=$G$1,IF(#REF!=\"\",NA(),#REF!),NA()),NA())","v":{"$error":"#REF!"}},{"$error":"#REF!"},{"$error":"#REF!"}]
[null,null,null,{"$f":"IF(#REF!=$E$1,IF(#REF!=$G$1,#REF!,NA()),NA())","v":{"$error":"#REF!"}},{"$f":"IF(#REF!=$E$1,IF(#REF!=$G$1,#REF!,NA()),NA())","v":{"$error":"#REF!"}},{"$f":"IF(#REF!=$E$1,IF(#REF!=$G$1,IF(#REF!=\"\",NA(),#REF!),NA()),NA())","v":{"$error":"#REF!"}},{"$f":"IF(#REF!=$E$1,IF(#REF!=$G$1,IF(#REF!=\"\",NA(),#REF!),NA()),NA())","v":{"$error":"#REF!"}},{"$error":"#REF!"},{"$error":"#REF!"}]
[null,null,null,{"$f":"IF(#REF!=$E$1,IF(#REF!=$G$1,#REF!,NA()),NA())","v":{"$error":"#REF!"}},{"$f":"IF(#REF!=$E$1,IF(#REF!=$G$1,#REF!,NA()),NA())","v":{"$error":"#REF!"}},{"$f":"IF(#REF!=$E$1,IF(#REF!=$G$1,IF(#REF!=\"\",NA(),#REF!),NA()),NA())","v":{"$error":"#REF!"}},{"$f":"IF(#REF!=$E$1,IF(#REF!=$G$1,IF(#REF!=\"\",NA(),#REF!),NA()),NA())","v":{"$error":"#REF!"}},{"$error":"#REF!"},{"$error":"#REF!"}]
[null,null,null,{"$f":"IF(#REF!=$E$1,IF(#REF!=$G$1,#REF!,NA()),NA())","v":{"$error":"#REF!"}},{"$f":"IF(#REF!=$E$1,IF(#REF!=$G$1,#REF!,NA()),NA())","v":{"$error":"#REF!"}},{"$f":"IF(#REF!=$E$1,IF(#REF!=$G$1,IF(#REF!=\"\",NA(),#REF!),NA()),NA())","v":{"$error":"#REF!"}},{"$f":"IF(#REF!=$E$1,IF(#REF!=$G$1,IF(#REF!=\"\",NA(),#REF!),NA()),NA())","v":{"$error":"#REF!"}},{"$error":"#REF!"},{"$error":"#REF!"}]
[null,null,null,{"$f":"IF(#REF!=$E$1,IF(#REF!=$G$1,#REF!,NA()),NA())","v":{"$error":"#REF!"}},{"$f":"IF(#REF!=$E$1,IF(#REF!=$G$1,#REF!,NA()),NA())","v":{"$error":"#REF!"}},{"$f":"IF(#REF!=$E$1,IF(#REF!=$G$1,IF(#REF!=\"\",NA(),#REF!),NA()),NA())","v":{"$error":"#REF!"}},{"$f":"IF(#REF!=$E$1,IF(#REF!=$G$1,IF(#REF!=\"\",NA(),#REF!),NA()),NA())","v":{"$error":"#REF!"}},{"$error":"#REF!"},{"$error":"#REF!"}]
[null,null,null,{"$f":"IF(#REF!=$E$1,IF(#REF!=$G$1,#REF!,NA()),NA())","v":{"$error":"#REF!"}},{"$f":"IF(#REF!=$E$1,IF(#REF!=$G$1,#REF!,NA()),NA())","v":{"$error":"#REF!"}},{"$f":"IF(#REF!=$E$1,IF(#REF!=$G$1,IF(#REF!=\"\",NA(),#REF!),NA()),NA())","v":{"$error":"#REF!"}},{"$f":"IF(#REF!=$E$1,IF(#REF!=$G$1,IF(#REF!=\"\",NA(),#REF!),NA()),NA())","v":{"$error":"#REF!"}},{"$error":"#REF!"},{"$error":"#REF!"}]
[null,null,null,{"$f":"IF(#REF!=$E$1,IF(#REF!=$G$1,#REF!,NA()),NA())","v":{"$error":"#REF!"}},{"$f":"IF(#REF!=$E$1,IF(#REF!=$G$1,#REF!,NA()),NA())","v":{"$error":"#REF!"}},{"$f":"IF(#REF!=$E$1,IF(#REF!=$G$1,IF(#REF!=\"\",NA(),#REF!),NA()),NA())","v":{"$error":"#REF!"}},{"$f":"IF(#REF!=$E$1,IF(#REF!=$G$1,IF(#REF!=\"\",NA(),#REF!),NA()),NA())","v":{"$error":"#REF!"}},{"$error":"#REF!"},{"$error":"#REF!"}]
[null,null,null,{"$f":"IF(#REF!=$E$1,IF(#REF!=$G$1,#REF!,NA()),NA())","v":{"$error":"#REF!"}},{"$f":"IF(#REF!=$E$1,IF(#REF!=$G$1,#REF!,NA()),NA())","v":{"$error":"#REF!"}},{"$f":"IF(#REF!=$E$1,IF(#REF!=$G$1,IF(#REF!=\"\",NA(),#REF!),NA()),NA())","v":{"$error":"#REF!"}},{"$f":"IF(#REF!=$E$1,IF(#REF!=$G$1,IF(#REF!=\"\",NA(),#REF!),NA()),NA())","v":{"$error":"#REF!"}},{"$error":"#REF!"},{"$error":"#REF!"}]
[null,null,null,{"$f":"IF(#REF!=$E$1,IF(#REF!=$G$1,#REF!,NA()),NA())","v":{"$error":"#REF!"}},{"$f":"IF(#REF!=$E$1,IF(#REF!=$G$1,#REF!,NA()),NA())","v":{"$error":"#REF!"}},{"$f":"IF(#REF!=$E$1,IF(#REF!=$G$1,IF(#REF!=\"\",NA(),#REF!),NA()),NA())","v":{"$error":"#REF!"}},{"$f":"IF(#REF!=$E$1,IF(#REF!=$G$1,IF(#REF!=\"\",NA(),#REF!),NA()),NA())","v":{"$error":"#REF!"}},{"$error":"#REF!"},{"$error":"#REF!"}]
[null,null,null,{"$f":"IF(#REF!=$E$1,IF(#REF!=$G$1,#REF!,NA()),NA())","v":{"$error":"#REF!"}},{"$f":"IF(#REF!=$E$1,IF(#REF!=$G$1,#REF!,NA()),NA())","v":{"$error":"#REF!"}},{"$f":"IF(#REF!=$E$1,IF(#REF!=$G$1,IF(#REF!=\"\",NA(),#REF!),NA()),NA())","v":{"$error":"#REF!"}},{"$f":"IF(#REF!=$E$1,IF(#REF!=$G$1,IF(#REF!=\"\",NA(),#REF!),NA()),NA())","v":{"$error":"#REF!"}},{"$error":"#REF!"},{"$error":"#REF!"}]
[null,null,null,{"$f":"IF(#REF!=$E$1,IF(#REF!=$G$1,#REF!,NA()),NA())","v":{"$error":"#REF!"}},{"$f":"IF(#REF!=$E$1,IF(#REF!=$G$1,#REF!,NA()),NA())","v":{"$error":"#REF!"}},{"$f":"IF(#REF!=$E$1,IF(#REF!=$G$1,IF(#REF!=\"\",NA(),#REF!),NA()),NA())","v":{"$error":"#REF!"}},{"$f":"IF(#REF!=$E$1,IF(#REF!=$G$1,IF(#REF!=\"\",NA(),#REF!),NA()),NA())","v":{"$error":"#REF!"}},{"$error":"#REF!"},{"$error":"#REF!"}]
[null,null,null,{"$f":"IF(#REF!=$E$1,IF(#REF!=$G$1,#REF!,NA()),NA())","v":{"$error":"#REF!"}},{"$f":"IF(#REF!=$E$1,IF(#REF!=$G$1,#REF!,NA()),NA())","v":{"$error":"#REF!"}},{"$f":"IF(#REF!=$E$1,IF(#REF!=$G$1,IF(#REF!=\"\",NA(),#REF!),NA()),NA())","v":{"$error":"#REF!"}},{"$f":"IF(#REF!=$E$1,IF(#REF!=$G$1,IF(#REF!=\"\",NA(),#REF!),NA()),NA())","v":{"$error":"#REF!"}},{"$error":"#REF!"},{"$error":"#REF!"}]
[null,null,null,{"$f":"IF(#REF!=$E$1,IF(#REF!=$G$1,#REF!,NA()),NA())","v":{"$error":"#REF!"}},{"$f":"IF(#REF!=$E$1,IF(#REF!=$G$1,#REF!,NA()),NA())","v":{"$error":"#REF!"}},{"$f":"IF(#REF!=$E$1,IF(#REF!=$G$1,IF(#REF!=\"\",NA(),#REF!),NA()),NA())","v":{"$error":"#REF!"}},{"$f":"IF(#REF!=$E$1,IF(#REF!=$G$1,IF(#REF!=\"\",NA(),#REF!),NA()),NA())","v":{"$error":"#REF!"}},{"$error":"#REF!"},{"$error":"#REF!"}]
[null,null,null,{"$f":"IF(#REF!=$E$1,IF(#REF!=$G$1,#REF!,NA()),NA())","v":{"$error":"#REF!"}},{"$f":"IF(#REF!=$E$1,IF(#REF!=$G$1,#REF!,NA()),NA())","v":{"$error":"#REF!"}},{"$f":"IF(#REF!=$E$1,IF(#REF!=$G$1,IF(#REF!=\"\",NA(),#REF!),NA()),NA())","v":{"$error":"#REF!"}},{"$f":"IF(#REF!=$E$1,IF(#REF!=$G$1,IF(#REF!=\"\",NA(),#REF!),NA()),NA())","v":{"$error":"#REF!"}},{"$error":"#REF!"},{"$error":"#REF!"}]
[null,null,null,{"$f":"IF(#REF!=$E$1,IF(#REF!=$G$1,#REF!,NA()),NA())","v":{"$error":"#REF!"}},{"$f":"IF(#REF!=$E$1,IF(#REF!=$G$1,#REF!,NA()),NA())","v":{"$error":"#REF!"}},{"$f":"IF(#REF!=$E$1,IF(#REF!=$G$1,IF(#REF!=\"\",NA(),#REF!),NA()),NA())","v":{"$error":"#REF!"}},{"$f":"IF(#REF!=$E$1,IF(#REF!=$G$1,IF(#REF!=\"\",NA(),#REF!),NA()),NA())","v":{"$error":"#REF!"}},{"$error":"#REF!"},{"$error":"#REF!"}]
[null,null,null,{"$f":"IF(#REF!=$E$1,IF(#REF!=$G$1,#REF!,NA()),NA())","v":{"$error":"#REF!"}},{"$f":"IF(#REF!=$E$1,IF(#REF!=$G$1,#REF!,NA()),NA())","v":{"$error":"#REF!"}},{"$f":"IF(#REF!=$E$1,IF(#REF!=$G$1,IF(#REF!=\"\",NA(),#REF!),NA()),NA())","v":{"$error":"#REF!"}},{"$f":"IF(#REF!=$E$1,IF(#REF!=$G$1,IF(#REF!=\"\",NA(),#REF!),NA()),NA())","v":{"$error":"#REF!"}},{"$error":"#REF!"},{"$error":"#REF!"}]
[null,null,null,{"$f":"IF(#REF!=$E$1,IF(#REF!=$G$1,#REF!,NA()),NA())","v":{"$error":"#REF!"}},{"$f":"IF(#REF!=$E$1,IF(#REF!=$G$1,#REF!,NA()),NA())","v":{"$error":"#REF!"}},{"$f":"IF(#REF!=$E$1,IF(#REF!=$G$1,IF(#REF!=\"\",NA(),#REF!),NA()),NA())","v":{"$error":"#REF!"}},{"$f":"IF(#REF!=$E$1,IF(#REF!=$G$1,IF(#REF!=\"\",NA(),#REF!),NA()),NA())","v":{"$error":"#REF!"}},{"$f":"IF(AND(ISNUMBER(G196),F196=\"-\"),0,F196)","v":{"$error":"#REF!"}},{"$f":"IF(AND(ISNUMBER(F196),G196=\"-\"),0,G196)","v":{"$error":"#REF!"}}]
[null,null,null,{"$f":"IF(#REF!=$E$1,IF(#REF!=$G$1,#REF!,NA()),NA())","v":{"$error":"#REF!"}},{"$f":"IF(#REF!=$E$1,IF(#REF!=$G$1,#REF!,NA()),NA())","v":{"$error":"#REF!"}},{"$f":"IF(#REF!=$E$1,IF(#REF!=$G$1,IF(#REF!=\"\",NA(),#REF!),NA()),NA())","v":{"$error":"#REF!"}},{"$f":"IF(#REF!=$E$1,IF(#REF!=$G$1,IF(#REF!=\"\",NA(),#REF!),NA()),NA())","v":{"$error":"#REF!"}},{"$error":"#REF!"},{"$error":"#REF!"}]
[null,null,null,{"$f":"IF(#REF!=$E$1,IF(#REF!=$G$1,#REF!,NA()),NA())","v":{"$error":"#REF!"}},{"$f":"IF(#REF!=$E$1,IF(#REF!=$G$1,#REF!,NA()),NA())","v":{"$error":"#REF!"}},{"$f":"IF(#REF!=$E$1,IF(#REF!=$G$1,IF(#REF!=\"\",NA(),#REF!),NA()),NA())","v":{"$error":"#REF!"}},{"$f":"IF(#REF!=$E$1,IF(#REF!=$G$1,IF(#REF!=\"\",NA(),#REF!),NA()),NA())","v":{"$error":"#REF!"}},{"$error":"#REF!"},{"$error":"#REF!"}]
[null,null,null,{"$f":"IF(#REF!=$E$1,IF(#REF!=$G$1,#REF!,NA()),NA())","v":{"$error":"#REF!"}},{"$f":"IF(#REF!=$E$1,IF(#REF!=$G$1,#REF!,NA()),NA())","v":{"$error":"#REF!"}},{"$f":"IF(#REF!=$E$1,IF(#REF!=$G$1,IF(#REF!=\"\",NA(),#REF!),NA()),NA())","v":{"$error":"#REF!"}},{"$f":"IF(#REF!=$E$1,IF(#REF!=$G$1,IF(#REF!=\"\",NA(),#REF!),NA()),NA())","v":{"$error":"#REF!"}},{"$error":"#REF!"},{"$error":"#REF!"}]
[null,null,null,{"$f":"IF(#REF!=$E$1,IF(#REF!=$G$1,#REF!,NA()),NA())","v":{"$error":"#REF!"}},{"$f":"IF(#REF!=$E$1,IF(#REF!=$G$1,#REF!,NA()),NA())","v":{"$error":"#REF!"}},{"$f":"IF(#REF!=$E$1,IF(#REF!=$G$1,IF(#REF!=\"\",NA(),#REF!),NA()),NA())","v":{"$error":"#REF!"}},{"$f":"IF(#REF!=$E$1,IF(#REF!=$G$1,IF(#REF!=\"\",NA(),#REF!),NA()),NA())","v":{"$error":"#REF!"}},{"$error":"#REF!"},{"$error":"#REF!"}]
[null,null,null,{"$f":"IF(#REF!=$E$1,IF(#REF!=$G$1,#REF!,NA()),NA())","v":{"$error":"#REF!"}},{"$f":"IF(#REF!=$E$1,IF(#REF!=$G$1,#REF!,NA()),NA())","v":{"$error":"#REF!"}},{"$f":"IF(#REF!=$E$1,IF(#REF!=$G$1,IF(#REF!=\"\",NA(),#REF!),NA()),NA())","v":{"$error":"#REF!"}},{"$f":"IF(#REF!=$E$1,IF(#REF!=$G$1,IF(#REF!=\"\",NA(),#REF!),NA()),NA())","v":{"$error":"#REF!"}},{"$error":"#REF!"},{"$error":"#REF!"}]
[null,null,null,{"$f":"IF(#REF!=$E$1,IF(#REF!=$G$1,#REF!,NA()),NA())","v":{"$error":"#REF!"}},{"$f":"IF(#REF!=$E$1,IF(#REF!=$G$1,#REF!,NA()),NA())","v":{"$error":"#REF!"}},{"$f":"IF(#REF!=$E$1,IF(#REF!=$G$1,IF(#REF!=\"\",NA(),#REF!),NA()),NA())","v":{"$error":"#REF!"}},{"$f":"IF(#REF!=$E$1,IF(#REF!=$G$1,IF(#REF!=\"\",NA(),#REF!),NA()),NA())","v":{"$error":"#REF!"}},{"$error":"#REF!"},{"$error":"#REF!"}]
[null,null,null,{"$f":"IF(#REF!=$E$1,IF(#REF!=$G$1,#REF!,NA()),NA())","v":{"$error":"#REF!"}},{"$f":"IF(#REF!=$E$1,IF(#REF!=$G$1,#REF!,NA()),NA())","v":{"$error":"#REF!"}},{"$f":"IF(#REF!=$E$1,IF(#REF!=$G$1,IF(#REF!=\"\",NA(),#REF!),NA()),NA())","v":{"$error":"#REF!"}},{"$f":"IF(#REF!=$E$1,IF(#REF!=$G$1,IF(#REF!=\"\",NA(),#REF!),NA()),NA())","v":{"$error":"#REF!"}},{"$error":"#REF!"},{"$error":"#REF!"}]
[null,null,null,{"$f":"IF(#REF!=$E$1,IF(#REF!=$G$1,#REF!,NA()),NA())","v":{"$error":"#REF!"}},{"$f":"IF(#REF!=$E$1,IF(#REF!=$G$1,#REF!,NA()),NA())","v":{"$error":"#REF!"}},{"$f":"IF(#REF!=$E$1,IF(#REF!=$G$1,IF(#REF!=\"\",NA(),#REF!),NA()),NA())","v":{"$error":"#REF!"}},{"$f":"IF(#REF!=$E$1,IF(#REF!=$G$1,IF(#REF!=\"\",NA(),#REF!),NA()),NA())","v":{"$error":"#REF!"}},{"$error":"#REF!"},{"$error":"#REF!"}]
[null,null,null,{"$f":"IF(#REF!=$E$1,IF(#REF!=$G$1,#REF!,NA()),NA())","v":{"$error":"#REF!"}},{"$f":"IF(#REF!=$E$1,IF(#REF!=$G$1,#REF!,NA()),NA())","v":{"$error":"#REF!"}},{"$f":"IF(#REF!=$E$1,IF(#REF!=$G$1,IF(#REF!=\"\",NA(),#REF!),NA()),NA())","v":{"$error":"#REF!"}},{"$f":"IF(#REF!=$E$1,IF(#REF!=$G$1,IF(#REF!=\"\",NA(),#REF!),NA()),NA())","v":{"$error":"#REF!"}},{"$error":"#REF!"},{"$error":"#REF!"}]
[null,null,null,{"$f":"IF(#REF!=$E$1,IF(#REF!=$G$1,#REF!,NA()),NA())","v":{"$error":"#REF!"}},{"$f":"IF(#REF!=$E$1,IF(#REF!=$G$1,#REF!,NA()),NA())","v":{"$error":"#REF!"}},{"$f":"IF(#REF!=$E$1,IF(#REF!=$G$1,IF(#REF!=\"\",NA(),#REF!),NA()),NA())","v":{"$error":"#REF!"}},{"$f":"IF(#REF!=$E$1,IF(#REF!=$G$1,IF(#REF!=\"\",NA(),#REF!),NA()),NA())","v":{"$error":"#REF!"}},{"$error":"#REF!"},{"$error":"#REF!"}]
[null,null,null,{"$f":"IF(#REF!=$E$1,IF(#REF!=$G$1,#REF!,NA()),NA())","v":{"$error":"#REF!"}},{"$f":"IF(#REF!=$E$1,IF(#REF!=$G$1,#REF!,NA()),NA())","v":{"$error":"#REF!"}},{"$f":"IF(#REF!=$E$1,IF(#REF!=$G$1,IF(#REF!=\"\",NA(),#REF!),NA()),NA())","v":{"$error":"#REF!"}},{"$f":"IF(#REF!=$E$1,IF(#REF!=$G$1,IF(#REF!=\"\",NA(),#REF!),NA()),NA())","v":{"$error":"#REF!"}},{"$error":"#REF!"},{"$error":"#REF!"}]
[null,null,null,{"$f":"IF(#REF!=$E$1,IF(#REF!=$G$1,#REF!,NA()),NA())","v":{"$error":"#REF!"}},{"$f":"IF(#REF!=$E$1,IF(#REF!=$G$1,#REF!,NA()),NA())","v":{"$error":"#REF!"}},{"$f":"IF(#REF!=$E$1,IF(#REF!=$G$1,IF(#REF!=\"\",NA(),#REF!),NA()),NA())","v":{"$error":"#REF!"}},{"$f":"IF(#REF!=$E$1,IF(#REF!=$G$1,IF(#REF!=\"\",NA(),#REF!),NA()),NA())","v":{"$error":"#REF!"}},{"$error":"#REF!"},{"$error":"#REF!"}]
[null,null,null,{"$f":"IF(#REF!=$E$1,IF(#REF!=$G$1,#REF!,NA()),NA())","v":{"$error":"#REF!"}},{"$f":"IF(#REF!=$E$1,IF(#REF!=$G$1,#REF!,NA()),NA())","v":{"$error":"#REF!"}},{"$f":"IF(#REF!=$E$1,IF(#REF!=$G$1,IF(#REF!=\"\",NA(),#REF!),NA()),NA())","v":{"$error":"#REF!"}},{"$f":"IF(#REF!=$E$1,IF(#REF!=$G$1,IF(#REF!=\"\",NA(),#REF!),NA()),NA())","v":{"$error":"#REF!"}},{"$error":"#REF!"},{"$error":"#REF!"}]
[null,null,null,{"$f":"IF(#REF!=$E$1,IF(#REF!=$G$1,#REF!,NA()),NA())","v":{"$error":"#REF!"}},{"$f":"IF(#REF!=$E$1,IF(#REF!=$G$1,#REF!,NA()),NA())","v":{"$error":"#REF!"}},{"$f":"IF(#REF!=$E$1,IF(#REF!=$G$1,IF(#REF!=\"\",NA(),#REF!),NA()),NA())","v":{"$error":"#REF!"}},{"$f":"IF(#REF!=$E$1,IF(#REF!=$G$1,IF(#REF!=\"\",NA(),#REF!),NA()),NA())","v":{"$error":"#REF!"}},{"$error":"#REF!"},{"$error":"#REF!"}]
[null,null,null,{"$f":"IF(#REF!=$E$1,IF(#REF!=$G$1,#REF!,NA()),NA())","v":{"$error":"#REF!"}},{"$f":"IF(#REF!=$E$1,IF(#REF!=$G$1,#REF!,NA()),NA())","v":{"$error":"#REF!"}},{"$f":"IF(#REF!=$E$1,IF(#REF!=$G$1,IF(#REF!=\"\",NA(),#REF!),NA()),NA())","v":{"$error":"#REF!"}},{"$f":"IF(#REF!=$E$1,IF(#REF!=$G$1,IF(#REF!=\"\",NA(),#REF!),NA()),NA())","v":{"$error":"#REF!"}},{"$error":"#REF!"},{"$error":"#REF!"}]
[null,null,null,{"$f":"IF(#REF!=$E$1,IF(#REF!=$G$1,#REF!,NA()),NA())","v":{"$error":"#REF!"}},{"$f":"IF(#REF!=$E$1,IF(#REF!=$G$1,#REF!,NA()),NA())","v":{"$error":"#REF!"}},{"$f":"IF(#REF!=$E$1,IF(#REF!=$G$1,IF(#REF!=\"\",NA(),#REF!),NA()),NA())","v":{"$error":"#REF!"}},{"$f":"IF(#REF!=$E$1,IF(#REF!=$G$1,IF(#REF!=\"\",NA(),#REF!),NA()),NA())","v":{"$error":"#REF!"}},{"$error":"#REF!"},{"$error":"#REF!"}]
[null,null,null,{"$f":"IF(#REF!=$E$1,IF(#REF!=$G$1,#REF!,NA()),NA())","v":{"$error":"#REF!"}},{"$f":"IF(#REF!=$E$1,IF(#REF!=$G$1,#REF!,NA()),NA())","v":{"$error":"#REF!"}},{"$f":"IF(#REF!=$E$1,IF(#REF!=$G$1,IF(#REF!=\"\",NA(),#REF!),NA()),NA())","v":{"$error":"#REF!"}},{"$f":"IF(#REF!=$E$1,IF(#REF!=$G$1,IF(#REF!=\"\",NA(),#REF!),NA()),NA())","v":{"$error":"#REF!"}},{"$error":"#REF!"},{"$error":"#REF!"}]
[null,null,null,{"$f":"IF(#REF!=$E$1,IF(#REF!=$G$1,#REF!,NA()),NA())","v":{"$error":"#REF!"}},{"$f":"IF(#REF!=$E$1,IF(#REF!=$G$1,#REF!,NA()),NA())","v":{"$error":"#REF!"}},{"$f":"IF(#REF!=$E$1,IF(#REF!=$G$1,IF(#REF!=\"\",NA(),#REF!),NA()),NA())","v":{"$error":"#REF!"}},{"$f":"IF(#REF!=$E$1,IF(#REF!=$G$1,IF(#REF!=\"\",NA(),#REF!),NA()),NA())","v":{"$error":"#REF!"}},{"$error":"#REF!"},{"$error":"#REF!"}]
[null,null,null,{"$f":"IF(#REF!=$E$1,IF(#REF!=$G$1,#REF!,NA()),NA())","v":{"$error":"#REF!"}},{"$f":"IF(#REF!=$E$1,IF(#REF!=$G$1,#REF!,NA()),NA())","v":{"$error":"#REF!"}},{"$f":"IF(#REF!=$E$1,IF(#REF!=$G$1,IF(#REF!=\"\",NA(),#REF!),NA()),NA())","v":{"$error":"#REF!"}},{"$f":"IF(#REF!=$E$1,IF(#REF!=$G$1,IF(#REF!=\"\",NA(),#REF!),NA()),NA())","v":{"$error":"#REF!"}},{"$error":"#REF!"},{"$error":"#REF!"}]
[null,null,null,{"$f":"IF(#REF!=$E$1,IF(#REF!=$G$1,#REF!,NA()),NA())","v":{"$error":"#REF!"}},{"$f":"IF(#REF!=$E$1,IF(#REF!=$G$1,#REF!,NA()),NA())","v":{"$error":"#REF!"}},{"$f":"IF(#REF!=$E$1,IF(#REF!=$G$1,IF(#REF!=\"\",NA(),#REF!),NA()),NA())","v":{"$error":"#REF!"}},{"$f":"IF(#REF!=$E$1,IF(#REF!=$G$1,IF(#REF!=\"\",NA(),#REF!),NA()),NA())","v":{"$error":"#REF!"}},{"$error":"#REF!"},{"$error":"#REF!"}]
[null,null,null,{"$f":"IF(#REF!=$E$1,IF(#REF!=$G$1,#REF!,NA()),NA())","v":{"$error":"#REF!"}},{"$f":"IF(#REF!=$E$1,IF(#REF!=$G$1,#REF!,NA()),NA())","v":{"$error":"#REF!"}},{"$f":"IF(#REF!=$E$1,IF(#REF!=$G$1,IF(#REF!=\"\",NA(),#REF!),NA()),NA())","v":{"$error":"#REF!"}},{"$f":"IF(#REF!=$E$1,IF(#REF!=$G$1,IF(#REF!=\"\",NA(),#REF!),NA()),NA())","v":{"$error":"#REF!"}},{"$error":"#REF!"},{"$error":"#REF!"}]
[null,null,null,{"$f":"IF(#REF!=$E$1,IF(#REF!=$G$1,#REF!,NA()),NA())","v":{"$error":"#REF!"}},{"$f":"IF(#REF!=$E$1,IF(#REF!=$G$1,#REF!,NA()),NA())","v":{"$error":"#REF!"}},{"$f":"IF(#REF!=$E$1,IF(#REF!=$G$1,IF(#REF!=\"\",NA(),#REF!),NA()),NA())","v":{"$error":"#REF!"}},{"$f":"IF(#REF!=$E$1,IF(#REF!=$G$1,IF(#REF!=\"\",NA(),#REF!),NA()),NA())","v":{"$error":"#REF!"}},{"$error":"#REF!"},{"$error":"#REF!"}]
[null,null,null,{"$f":"IF(#REF!=$E$1,IF(#REF!=$G$1,#REF!,NA()),NA())","v":{"$error":"#REF!"}},{"$f":"IF(#REF!=$E$1,IF(#REF!=$G$1,#REF!,NA()),NA())","v":{"$error":"#REF!"}},{"$f":"IF(#REF!=$E$1,IF(#REF!=$G$1,IF(#REF!=\"\",NA(),#REF!),NA()),NA())","v":{"$error":"#REF!"}},{"$f":"IF(#REF!=$E$1,IF(#REF!=$G$1,IF(#REF!=\"\",NA(),#REF!),NA()),NA())","v":{"$error":"#REF!"}},{"$error":"#REF!"},{"$error":"#REF!"}]
[null,null,null,{"$f":"IF(#REF!=$E$1,IF(#REF!=$G$1,#REF!,NA()),NA())","v":{"$error":"#REF!"}},{"$f":"IF(#REF!=$E$1,IF(#REF!=$G$1,#REF!,NA()),NA())","v":{"$error":"#REF!"}},{"$f":"IF(#REF!=$E$1,IF(#REF!=$G$1,IF(#REF!=\"\",NA(),#REF!),NA()),NA())","v":{"$error":"#REF!"}},{"$f":"IF(#REF!=$E$1,IF(#REF!=$G$1,IF(#REF!=\"\",NA(),#REF!),NA()),NA())","v":{"$error":"#REF!"}},{"$error":"#REF!"},{"$error":"#REF!"}]
[null,null,null,{"$f":"IF(#REF!=$E$1,IF(#REF!=$G$1,#REF!,NA()),NA())","v":{"$error":"#REF!"}},{"$f":"IF(#REF!=$E$1,IF(#REF!=$G$1,#REF!,NA()),NA())","v":{"$error":"#REF!"}},{"$f":"IF(#REF!=$E$1,IF(#REF!=$G$1,IF(#REF!=\"\",NA(),#REF!),NA()),NA())","v":{"$error":"#REF!"}},{"$f":"IF(#REF!=$E$1,IF(#REF!=$G$1,IF(#REF!=\"\",NA(),#REF!),NA()),NA())","v":{"$error":"#REF!"}},{"$error":"#REF!"},{"$error":"#REF!"}]
[null,null,null,{"$f":"IF(#REF!=$E$1,IF(#REF!=$G$1,#REF!,NA()),NA())","v":{"$error":"#REF!"}},{"$f":"IF(#REF!=$E$1,IF(#REF!=$G$1,#REF!,NA()),NA())","v":{"$error":"#REF!"}},{"$f":"IF(#REF!=$E$1,IF(#REF!=$G$1,IF(#REF!=\"\",NA(),#REF!),NA()),NA())","v":{"$error":"#REF!"}},{"$f":"IF(#REF!=$E$1,IF(#REF!=$G$1,IF(#REF!=\"\",NA(),#REF!),NA()),NA())","v":{"$error":"#REF!"}},{"$error":"#REF!"},{"$error":"#REF!"}]
[null,null,null,{"$f":"IF(#REF!=$E$1,IF(#REF!=$G$1,#REF!,NA()),NA())","v":{"$error":"#REF!"}},{"$f":"IF(#REF!=$E$1,IF(#REF!=$G$1,#REF!,NA()),NA())","v":{"$error":"#REF!"}},{"$f":"IF(#REF!=$E$1,IF(#REF!=$G$1,IF(#REF!=\"\",NA(),#REF!),NA()),NA())","v":{"$error":"#REF!"}},{"$f":"IF(#REF!=$E$1,IF(#REF!=$G$1,IF(#REF!=\"\",NA(),#REF!),NA()),NA())","v":{"$error":"#REF!"}},{"$error":"#REF!"},{"$error":"#REF!"}]
[null,null,null,{"$f":"IF(#REF!=$E$1,IF(#REF!=$G$1,#REF!,NA()),NA())","v":{"$error":"#REF!"}},{"$f":"IF(#REF!=$E$1,IF(#REF!=$G$1,#REF!,NA()),NA())","v":{"$error":"#REF!"}},{"$f":"IF(#REF!=$E$1,IF(#REF!=$G$1,IF(#REF!=\"\",NA(),#REF!),NA()),NA())","v":{"$error":"#REF!"}},{"$f":"IF(#REF!=$E$1,IF(#REF!=$G$1,IF(#REF!=\"\",NA(),#REF!),NA()),NA())","v":{"$error":"#REF!"}},{"$error":"#REF!"},{"$error":"#REF!"}]
[null,null,null,{"$f":"IF(#REF!=$E$1,IF(#REF!=$G$1,#REF!,NA()),NA())","v":{"$error":"#REF!"}},{"$f":"IF(#REF!=$E$1,IF(#REF!=$G$1,#REF!,NA()),NA())","v":{"$error":"#REF!"}},{"$f":"IF(#REF!=$E$1,IF(#REF!=$G$1,IF(#REF!=\"\",NA(),#REF!),NA()),NA())","v":{"$error":"#REF!"}},{"$f":"IF(#REF!=$E$1,IF(#REF!=$G$1,IF(#REF!=\"\",NA(),#REF!),NA()),NA())","v":{"$error":"#REF!"}},{"$error":"#REF!"},{"$error":"#REF!"}]
[null,null,null,{"$f":"IF(#REF!=$E$1,IF(#REF!=$G$1,#REF!,NA()),NA())","v":{"$error":"#REF!"}},{"$f":"IF(#REF!=$E$1,IF(#REF!=$G$1,#REF!,NA()),NA())","v":{"$error":"#REF!"}},{"$f":"IF(#REF!=$E$1,IF(#REF!=$G$1,IF(#REF!=\"\",NA(),#REF!),NA()),NA())","v":{"$error":"#REF!"}},{"$f":"IF(#REF!=$E$1,IF(#REF!=$G$1,IF(#REF!=\"\",NA(),#REF!),NA()),NA())","v":{"$error":"#REF!"}},{"$error":"#REF!"},{"$error":"#REF!"}]
[null,null,null,{"$f":"IF(#REF!=$E$1,IF(#REF!=$G$1,#REF!,NA()),NA())","v":{"$error":"#REF!"}},{"$f":"IF(#REF!=$E$1,IF(#REF!=$G$1,#REF!,NA()),NA())","v":{"$error":"#REF!"}},{"$f":"IF(#REF!=$E$1,IF(#REF!=$G$1,IF(#REF!=\"\",NA(),#REF!),NA()),NA())","v":{"$error":"#REF!"}},{"$f":"IF(#REF!=$E$1,IF(#REF!=$G$1,IF(#REF!=\"\",NA(),#REF!),NA()),NA())","v":{"$error":"#REF!"}},{"$error":"#REF!"},{"$error":"#REF!"}]
[null,null,null,{"$f":"IF(#REF!=$E$1,IF(#REF!=$G$1,#REF!,NA()),NA())","v":{"$error":"#REF!"}},{"$f":"IF(#REF!=$E$1,IF(#REF!=$G$1,#REF!,NA()),NA())","v":{"$error":"#REF!"}},{"$f":"IF(#REF!=$E$1,IF(#REF!=$G$1,IF(#REF!=\"\",NA(),#REF!),NA()),NA())","v":{"$error":"#REF!"}},{"$f":"IF(#REF!=$E$1,IF(#REF!=$G$1,IF(#REF!=\"\",NA(),#REF!),NA()),NA())","v":{"$error":"#REF!"}},{"$error":"#REF!"},{"$error":"#REF!"}]
[null,null,null,{"$f":"IF(#REF!=$E$1,IF(#REF!=$G$1,#REF!,NA()),NA())","v":{"$error":"#REF!"}},{"$f":"IF(#REF!=$E$1,IF(#REF!=$G$1,#REF!,NA()),NA())","v":{"$error":"#REF!"}},{"$f":"IF(#REF!=$E$1,IF(#REF!=$G$1,IF(#REF!=\"\",NA(),#REF!),NA()),NA())","v":{"$error":"#REF!"}},{"$f":"IF(#REF!=$E$1,IF(#REF!=$G$1,IF(#REF!=\"\",NA(),#REF!),NA()),NA())","v":{"$error":"#REF!"}},{"$error":"#REF!"},{"$error":"#REF!"}]
[null,null,null,{"$f":"IF(#REF!=$E$1,IF(#REF!=$G$1,#REF!,NA()),NA())","v":{"$error":"#REF!"}},{"$f":"IF(#REF!=$E$1,IF(#REF!=$G$1,#REF!,NA()),NA())","v":{"$error":"#REF!"}},{"$f":"IF(#REF!=$E$1,IF(#REF!=$G$1,IF(#REF!=\"\",NA(),#REF!),NA()),NA())","v":{"$error":"#REF!"}},{"$f":"IF(#REF!=$E$1,IF(#REF!=$G$1,IF(#REF!=\"\",NA(),#REF!),NA()),NA())","v":{"$error":"#REF!"}},{"$error":"#REF!"},{"$error":"#REF!"}]
[null,null,null,{"$f":"IF(#REF!=$E$1,IF(#REF!=$G$1,#REF!,NA()),NA())","v":{"$error":"#REF!"}},{"$f":"IF(#REF!=$E$1,IF(#REF!=$G$1,#REF!,NA()),NA())","v":{"$error":"#REF!"}},{"$f":"IF(#REF!=$E$1,IF(#REF!=$G$1,IF(#REF!=\"\",NA(),#REF!),NA()),NA())","v":{"$error":"#REF!"}},{"$f":"IF(#REF!=$E$1,IF(#REF!=$G$1,IF(#REF!=\"\",NA(),#REF!),NA()),NA())","v":{"$error":"#REF!"}},{"$error":"#REF!"},{"$error":"#REF!"}]
[null,null,null,{"$f":"IF(#REF!=$E$1,IF(#REF!=$G$1,#REF!,NA()),NA())","v":{"$error":"#REF!"}},{"$f":"IF(#REF!=$E$1,IF(#REF!=$G$1,#REF!,NA()),NA())","v":{"$error":"#REF!"}},{"$f":"IF(#REF!=$E$1,IF(#REF!=$G$1,IF(#REF!=\"\",NA(),#REF!),NA()),NA())","v":{"$error":"#REF!"}},{"$f":"IF(#REF!=$E$1,IF(#REF!=$G$1,IF(#REF!=\"\",NA(),#REF!),NA()),NA())","v":{"$error":"#REF!"}},{"$error":"#REF!"},{"$error":"#REF!"}]
[null,null,null,{"$f":"IF(#REF!=$E$1,IF(#REF!=$G$1,#REF!,NA()),NA())","v":{"$error":"#REF!"}},{"$f":"IF(#REF!=$E$1,IF(#REF!=$G$1,#REF!,NA()),NA())","v":{"$error":"#REF!"}},{"$f":"IF(#REF!=$E$1,IF(#REF!=$G$1,IF(#REF!=\"\",NA(),#REF!),NA()),NA())","v":{"$error":"#REF!"}},{"$f":"IF(#REF!=$E$1,IF(#REF!=$G$1,IF(#REF!=\"\",NA(),#REF!),NA()),NA())","v":{"$error":"#REF!"}},{"$error":"#REF!"},{"$error":"#REF!"}]
[null,null,null,{"$f":"IF(#REF!=$E$1,IF(#REF!=$G$1,#REF!,NA()),NA())","v":{"$error":"#REF!"}},{"$f":"IF(#REF!=$E$1,IF(#REF!=$G$1,#REF!,NA()),NA())","v":{"$error":"#REF!"}},{"$f":"IF(#REF!=$E$1,IF(#REF!=$G$1,IF(#REF!=\"\",NA(),#REF!),NA()),NA())","v":{"$error":"#REF!"}},{"$f":"IF(#REF!=$E$1,IF(#REF!=$G$1,IF(#REF!=\"\",NA(),#REF!),NA()),NA())","v":{"$error":"#REF!"}},{"$error":"#REF!"},{"$error":"#REF!"}]
[null,null,null,{"$f":"IF(#REF!=$E$1,IF(#REF!=$G$1,#REF!,NA()),NA())","v":{"$error":"#REF!"}},{"$f":"IF(#REF!=$E$1,IF(#REF!=$G$1,#REF!,NA()),NA())","v":{"$error":"#REF!"}},{"$f":"IF(#REF!=$E$1,IF(#REF!=$G$1,IF(#REF!=\"\",NA(),#REF!),NA()),NA())","v":{"$error":"#REF!"}},{"$f":"IF(#REF!=$E$1,IF(#REF!=$G$1,IF(#REF!=\"\",NA(),#REF!),NA()),NA())","v":{"$error":"#REF!"}},{"$error":"#REF!"},{"$error":"#REF!"}]
[null,null,null,{"$f":"IF(#REF!=$E$1,IF(#REF!=$G$1,#REF!,NA()),NA())","v":{"$error":"#REF!"}},{"$f":"IF(#REF!=$E$1,IF(#REF!=$G$1,#REF!,NA()),NA())","v":{"$error":"#REF!"}},{"$f":"IF(#REF!=$E$1,IF(#REF!=$G$1,IF(#REF!=\"\",NA(),#REF!),NA()),NA())","v":{"$error":"#REF!"}},{"$f":"IF(#REF!=$E$1,IF(#REF!=$G$1,IF(#REF!=\"\",NA(),#REF!),NA()),NA())","v":{"$error":"#REF!"}},{"$error":"#REF!"},{"$error":"#REF!"}]
[null,null,null,{"$f":"IF(#REF!=$E$1,IF(#REF!=$G$1,#REF!,NA()),NA())","v":{"$error":"#REF!"}},{"$f":"IF(#REF!=$E$1,IF(#REF!=$G$1,#REF!,NA()),NA())","v":{"$error":"#REF!"}},{"$f":"IF(#REF!=$E$1,IF(#REF!=$G$1,IF(#REF!=\"\",NA(),#REF!),NA()),NA())","v":{"$error":"#REF!"}},{"$f":"IF(#REF!=$E$1,IF(#REF!=$G$1,IF(#REF!=\"\",NA(),#REF!),NA()),NA())","v":{"$error":"#REF!"}},{"$error":"#REF!"},{"$error":"#REF!"}]
[null,null,null,{"$f":"IF(#REF!=$E$1,IF(#REF!=$G$1,#REF!,NA()),NA())","v":{"$error":"#REF!"}},{"$f":"IF(#REF!=$E$1,IF(#REF!=$G$1,#REF!,NA()),NA())","v":{"$error":"#REF!"}},{"$f":"IF(#REF!=$E$1,IF(#REF!=$G$1,IF(#REF!=\"\",NA(),#REF!),NA()),NA())","v":{"$error":"#REF!"}},{"$f":"IF(#REF!=$E$1,IF(#REF!=$G$1,IF(#REF!=\"\",NA(),#REF!),NA()),NA())","v":{"$error":"#REF!"}},{"$error":"#REF!"},{"$error":"#REF!"}]
[null,null,null,{"$f":"IF(#REF!=$E$1,IF(#REF!=$G$1,#REF!,NA()),NA())","v":{"$error":"#REF!"}},{"$f":"IF(#REF!=$E$1,IF(#REF!=$G$1,#REF!,NA()),NA())","v":{"$error":"#REF!"}},{"$f":"IF(#REF!=$E$1,IF(#REF!=$G$1,IF(#REF!=\"\",NA(),#REF!),NA()),NA())","v":{"$error":"#REF!"}},{"$f":"IF(#REF!=$E$1,IF(#REF!=$G$1,IF(#REF!=\"\",NA(),#REF!),NA()),NA())","v":{"$error":"#REF!"}},{"$error":"#REF!"},{"$error":"#REF!"}]
[null,null,null,{"$f":"IF(#REF!=$E$1,IF(#REF!=$G$1,#REF!,NA()),NA())","v":{"$error":"#REF!"}},{"$f":"IF(#REF!=$E$1,IF(#REF!=$G$1,#REF!,NA()),NA())","v":{"$error":"#REF!"}},{"$f":"IF(#REF!=$E$1,IF(#REF!=$G$1,IF(#REF!=\"\",NA(),#REF!),NA()),NA())","v":{"$error":"#REF!"}},{"$f":"IF(#REF!=$E$1,IF(#REF!=$G$1,IF(#REF!=\"\",NA(),#REF!),NA()),NA())","v":{"$error":"#REF!"}},{"$error":"#REF!"},{"$error":"#REF!"}]
[null,null,null,{"$f":"IF(#REF!=$E$1,IF(#REF!=$G$1,#REF!,NA()),NA())","v":{"$error":"#REF!"}},{"$f":"IF(#REF!=$E$1,IF(#REF!=$G$1,#REF!,NA()),NA())","v":{"$error":"#REF!"}},{"$f":"IF(#REF!=$E$1,IF(#REF!=$G$1,IF(#REF!=\"\",NA(),#REF!),NA()),NA())","v":{"$error":"#REF!"}},{"$f":"IF(#REF!=$E$1,IF(#REF!=$G$1,IF(#REF!=\"\",NA(),#REF!),NA()),NA())","v":{"$error":"#REF!"}},{"$error":"#REF!"},{"$error":"#REF!"}]
[null,null,null,{"$f":"IF(#REF!=$E$1,IF(#REF!=$G$1,#REF!,NA()),NA())","v":{"$error":"#REF!"}},{"$f":"IF(#REF!=$E$1,IF(#REF!=$G$1,#REF!,NA()),NA())","v":{"$error":"#REF!"}},{"$f":"IF(#REF!=$E$1,IF(#REF!=$G$1,IF(#REF!=\"\",NA(),#REF!),NA()),NA())","v":{"$error":"#REF!"}},{"$f":"IF(#REF!=$E$1,IF(#REF!=$G$1,IF(#REF!=\"\",NA(),#REF!),NA()),NA())","v":{"$error":"#REF!"}},{"$error":"#REF!"},{"$error":"#REF!"}]
[null,null,null,{"$f":"IF(#REF!=$E$1,IF(#REF!=$G$1,#REF!,NA()),NA())","v":{"$error":"#REF!"}},{"$f":"IF(#REF!=$E$1,IF(#REF!=$G$1,#REF!,NA()),NA())","v":{"$error":"#REF!"}},{"$f":"IF(#REF!=$E$1,IF(#REF!=$G$1,IF(#REF!=\"\",NA(),#REF!),NA()),NA())","v":{"$error":"#REF!"}},{"$f":"IF(#REF!=$E$1,IF(#REF!=$G$1,IF(#REF!=\"\",NA(),#REF!),NA()),NA())","v":{"$error":"#REF!"}},{"$error":"#REF!"},{"$error":"#REF!"}]
[null,null,null,{"$f":"IF(#REF!=$E$1,IF(#REF!=$G$1,#REF!,NA()),NA())","v":{"$error":"#REF!"}},{"$f":"IF(#REF!=$E$1,IF(#REF!=$G$1,#REF!,NA()),NA())","v":{"$error":"#REF!"}},{"$f":"IF(#REF!=$E$1,IF(#REF!=$G$1,IF(#REF!=\"\",NA(),#REF!),NA()),NA())","v":{"$error":"#REF!"}},{"$f":"IF(#REF!=$E$1,IF(#REF!=$G$1,IF(#REF!=\"\",NA(),#REF!),NA()),NA())","v":{"$error":"#REF!"}},{"$error":"#REF!"},{"$error":"#REF!"}]
[null,null,null,{"$f":"IF(#REF!=$E$1,IF(#REF!=$G$1,#REF!,NA()),NA())","v":{"$error":"#REF!"}},{"$f":"IF(#REF!=$E$1,IF(#REF!=$G$1,#REF!,NA()),NA())","v":{"$error":"#REF!"}},{"$f":"IF(#REF!=$E$1,IF(#REF!=$G$1,IF(#REF!=\"\",NA(),#REF!),NA()),NA())","v":{"$error":"#REF!"}},{"$f":"IF(#REF!=$E$1,IF(#REF!=$G$1,IF(#REF!=\"\",NA(),#REF!),NA()),NA())","v":{"$error":"#REF!"}},{"$error":"#REF!"},{"$error":"#REF!"}]
[null,null,null,{"$f":"IF(#REF!=$E$1,IF(#REF!=$G$1,#REF!,NA()),NA())","v":{"$error":"#REF!"}},{"$f":"IF(#REF!=$E$1,IF(#REF!=$G$1,#REF!,NA()),NA())","v":{"$error":"#REF!"}},{"$f":"IF(#REF!=$E$1,IF(#REF!=$G$1,IF(#REF!=\"\",NA(),#REF!),NA()),NA())","v":{"$error":"#REF!"}},{"$f":"IF(#REF!=$E$1,IF(#REF!=$G$1,IF(#REF!=\"\",NA(),#REF!),NA()),NA())","v":{"$error":"#REF!"}},{"$error":"#REF!"},{"$error":"#REF!"}]
[null,null,null,{"$f":"IF(#REF!=$E$1,IF(#REF!=$G$1,#REF!,NA()),NA())","v":{"$error":"#REF!"}},{"$f":"IF(#REF!=$E$1,IF(#REF!=$G$1,#REF!,NA()),NA())","v":{"$error":"#REF!"}},{"$f":"IF(#REF!=$E$1,IF(#REF!=$G$1,IF(#REF!=\"\",NA(),#REF!),NA()),NA())","v":{"$error":"#REF!"}},{"$f":"IF(#REF!=$E$1,IF(#REF!=$G$1,IF(#REF!=\"\",NA(),#REF!),NA()),NA())","v":{"$error":"#REF!"}},{"$error":"#REF!"},{"$error":"#REF!"}]
[null,null,null,{"$f":"IF(#REF!=$E$1,IF(#REF!=$G$1,#REF!,NA()),NA())","v":{"$error":"#REF!"}},{"$f":"IF(#REF!=$E$1,IF(#REF!=$G$1,#REF!,NA()),NA())","v":{"$error":"#REF!"}},{"$f":"IF(#REF!=$E$1,IF(#REF!=$G$1,IF(#REF!=\"\",NA(),#REF!),NA()),NA())","v":{"$error":"#REF!"}},{"$f":"IF(#REF!=$E$1,IF(#REF!=$G$1,IF(#REF!=\"\",NA(),#REF!),NA()),NA())","v":{"$error":"#REF!"}},{"$error":"#REF!"},{"$error":"#REF!"}]
[null,null,null,{"$f":"IF(#REF!=$E$1,IF(#REF!=$G$1,#REF!,NA()),NA())","v":{"$error":"#REF!"}},{"$f":"IF(#REF!=$E$1,IF(#REF!=$G$1,#REF!,NA()),NA())","v":{"$error":"#REF!"}},{"$f":"IF(#REF!=$E$1,IF(#REF!=$G$1,IF(#REF!=\"\",NA(),#REF!),NA()),NA())","v":{"$error":"#REF!"}},{"$f":"IF(#REF!=$E$1,IF(#REF!=$G$1,IF(#REF!=\"\",NA(),#REF!),NA()),NA())","v":{"$error":"#REF!"}},{"$error":"#REF!"},{"$error":"#REF!"}]
[null,null,null,{"$f":"IF(#REF!=$E$1,IF(#REF!=$G$1,#REF!,NA()),NA())","v":{"$error":"#REF!"}},{"$f":"IF(#REF!=$E$1,IF(#REF!=$G$1,#REF!,NA()),NA())","v":{"$error":"#REF!"}},{"$f":"IF(#REF!=$E$1,IF(#REF!=$G$1,IF(#REF!=\"\",NA(),#REF!),NA()),NA())","v":{"$error":"#REF!"}},{"$f":"IF(#REF!=$E$1,IF(#REF!=$G$1,IF(#REF!=\"\",NA(),#REF!),NA()),NA())","v":{"$error":"#REF!"}},{"$error":"#REF!"},{"$error":"#REF!"}]
[null,null,null,{"$f":"IF(#REF!=$E$1,IF(#REF!=$G$1,#REF!,NA()),NA())","v":{"$error":"#REF!"}},{"$f":"IF(#REF!=$E$1,IF(#REF!=$G$1,#REF!,NA()),NA())","v":{"$error":"#REF!"}},{"$f":"IF(#REF!=$E$1,IF(#REF!=$G$1,IF(#REF!=\"\",NA(),#REF!),NA()),NA())","v":{"$error":"#REF!"}},{"$f":"IF(#REF!=$E$1,IF(#REF!=$G$1,IF(#REF!=\"\",NA(),#REF!),NA()),NA())","v":{"$error":"#REF!"}},{"$error":"#REF!"},{"$error":"#REF!"}]
[null,null,null,{"$f":"IF(#REF!=$E$1,IF(#REF!=$G$1,#REF!,NA()),NA())","v":{"$error":"#REF!"}},{"$f":"IF(#REF!=$E$1,IF(#REF!=$G$1,#REF!,NA()),NA())","v":{"$error":"#REF!"}},{"$f":"IF(#REF!=$E$1,IF(#REF!=$G$1,IF(#REF!=\"\",NA(),#REF!),NA()),NA())","v":{"$error":"#REF!"}},{"$f":"IF(#REF!=$E$1,IF(#REF!=$G$1,IF(#REF!=\"\",NA(),#REF!),NA()),NA())","v":{"$error":"#REF!"}},{"$error":"#REF!"},{"$error":"#REF!"}]
[null,null,null,{"$f":"IF(#REF!=$E$1,IF(#REF!=$G$1,#REF!,NA()),NA())","v":{"$error":"#REF!"}},{"$f":"IF(#REF!=$E$1,IF(#REF!=$G$1,#REF!,NA()),NA())","v":{"$error":"#REF!"}},{"$f":"IF(#REF!=$E$1,IF(#REF!=$G$1,IF(#REF!=\"\",NA(),#REF!),NA()),NA())","v":{"$error":"#REF!"}},{"$f":"IF(#REF!=$E$1,IF(#REF!=$G$1,IF(#REF!=\"\",NA(),#REF!),NA()),NA())","v":{"$error":"#REF!"}},{"$error":"#REF!"},{"$error":"#REF!"}]
[null,null,null,{"$f":"IF(#REF!=$E$1,IF(#REF!=$G$1,#REF!,NA()),NA())","v":{"$error":"#REF!"}},{"$f":"IF(#REF!=$E$1,IF(#REF!=$G$1,#REF!,NA()),NA())","v":{"$error":"#REF!"}},{"$f":"IF(#REF!=$E$1,IF(#REF!=$G$1,IF(#REF!=\"\",NA(),#REF!),NA()),NA())","v":{"$error":"#REF!"}},{"$f":"IF(#REF!=$E$1,IF(#REF!=$G$1,IF(#REF!=\"\",NA(),#REF!),NA()),NA())","v":{"$error":"#REF!"}},{"$error":"#REF!"},{"$error":"#REF!"}]
[null,null,null,{"$f":"IF(#REF!=$E$1,IF(#REF!=$G$1,#REF!,NA()),NA())","v":{"$error":"#REF!"}},{"$f":"IF(#REF!=$E$1,IF(#REF!=$G$1,#REF!,NA()),NA())","v":{"$error":"#REF!"}},{"$f":"IF(#REF!=$E$1,IF(#REF!=$G$1,IF(#REF!=\"\",NA(),#REF!),NA()),NA())","v":{"$error":"#REF!"}},{"$f":"IF(#REF!=$E$1,IF(#REF!=$G$1,IF(#REF!=\"\",NA(),#REF!),NA()),NA())","v":{"$error":"#REF!"}},{"$error":"#REF!"},{"$error":"#REF!"}]
[null,null,null,{"$f":"IF(#REF!=$E$1,IF(#REF!=$G$1,#REF!,NA()),NA())","v":{"$error":"#REF!"}},{"$f":"IF(#REF!=$E$1,IF(#REF!=$G$1,#REF!,NA()),NA())","v":{"$error":"#REF!"}},{"$f":"IF(#REF!=$E$1,IF(#REF!=$G$1,IF(#REF!=\"\",NA(),#REF!),NA()),NA())","v":{"$error":"#REF!"}},{"$f":"IF(#REF!=$E$1,IF(#REF!=$G$1,IF(#REF!=\"\",NA(),#REF!),NA()),NA())","v":{"$error":"#REF!"}},{"$error":"#REF!"},{"$error":"#REF!"}]
[null,null,null,{"$f":"IF(#REF!=$E$1,IF(#REF!=$G$1,#REF!,NA()),NA())","v":{"$error":"#REF!"}},{"$f":"IF(#REF!=$E$1,IF(#REF!=$G$1,#REF!,NA()),NA())","v":{"$error":"#REF!"}},{"$f":"IF(#REF!=$E$1,IF(#REF!=$G$1,IF(#REF!=\"\",NA(),#REF!),NA()),NA())","v":{"$error":"#REF!"}},{"$f":"IF(#REF!=$E$1,IF(#REF!=$G$1,IF(#REF!=\"\",NA(),#REF!),NA()),NA())","v":{"$error":"#REF!"}},{"$error":"#REF!"},{"$error":"#REF!"}]
[null,null,null,{"$f":"IF(#REF!=$E$1,IF(#REF!=$G$1,#REF!,NA()),NA())","v":{"$error":"#REF!"}},{"$f":"IF(#REF!=$E$1,IF(#REF!=$G$1,#REF!,NA()),NA())","v":{"$error":"#REF!"}},{"$f":"IF(#REF!=$E$1,IF(#REF!=$G$1,IF(#REF!=\"\",NA(),#REF!),NA()),NA())","v":{"$error":"#REF!"}},{"$f":"IF(#REF!=$E$1,IF(#REF!=$G$1,IF(#REF!=\"\",NA(),#REF!),NA()),NA())","v":{"$error":"#REF!"}},{"$error":"#REF!"},{"$error":"#REF!"}]
[null,null,null,{"$f":"IF(#REF!=$E$1,IF(#REF!=$G$1,#REF!,NA()),NA())","v":{"$error":"#REF!"}},{"$f":"IF(#REF!=$E$1,IF(#REF!=$G$1,#REF!,NA()),NA())","v":{"$error":"#REF!"}},{"$f":"IF(#REF!=$E$1,IF(#REF!=$G$1,IF(#REF!=\"\",NA(),#REF!),NA()),NA())","v":{"$error":"#REF!"}},{"$f":"IF(#REF!=$E$1,IF(#REF!=$G$1,IF(#REF!=\"\",NA(),#REF!),NA()),NA())","v":{"$error":"#REF!"}},{"$error":"#REF!"},{"$error":"#REF!"}]
[null,null,null,{"$f":"IF(#REF!=$E$1,IF(#REF!=$G$1,#REF!,NA()),NA())","v":{"$error":"#REF!"}},{"$f":"IF(#REF!=$E$1,IF(#REF!=$G$1,#REF!,NA()),NA())","v":{"$error":"#REF!"}},{"$f":"IF(#REF!=$E$1,IF(#REF!=$G$1,IF(#REF!=\"\",NA(),#REF!),NA()),NA())","v":{"$error":"#REF!"}},{"$f":"IF(#REF!=$E$1,IF(#REF!=$G$1,IF(#REF!=\"\",NA(),#REF!),NA()),NA())","v":{"$error":"#REF!"}},{"$f":"IF(AND(ISNUMBER(G260),F260=\"-\"),0,F260)","v":{"$error":"#REF!"}},{"$f":"IF(AND(ISNUMBER(F260),G260=\"-\"),0,G260)","v":{"$error":"#REF!"}}]
[null,null,null,{"$f":"IF(#REF!=$E$1,IF(#REF!=$G$1,#REF!,NA()),NA())","v":{"$error":"#REF!"}},{"$f":"IF(#REF!=$E$1,IF(#REF!=$G$1,#REF!,NA()),NA())","v":{"$error":"#REF!"}},{"$f":"IF(#REF!=$E$1,IF(#REF!=$G$1,IF(#REF!=\"\",NA(),#REF!),NA()),NA())","v":{"$error":"#REF!"}},{"$f":"IF(#REF!=$E$1,IF(#REF!=$G$1,IF(#REF!=\"\",NA(),#REF!),NA()),NA())","v":{"$error":"#REF!"}},{"$error":"#REF!"},{"$error":"#REF!"}]
[null,null,null,{"$f":"IF(#REF!=$E$1,IF(#REF!=$G$1,#REF!,NA()),NA())","v":{"$error":"#REF!"}},{"$f":"IF(#REF!=$E$1,IF(#REF!=$G$1,#REF!,NA()),NA())","v":{"$error":"#REF!"}},{"$f":"IF(#REF!=$E$1,IF(#REF!=$G$1,IF(#REF!=\"\",NA(),#REF!),NA()),NA())","v":{"$error":"#REF!"}},{"$f":"IF(#REF!=$E$1,IF(#REF!=$G$1,IF(#REF!=\"\",NA(),#REF!),NA()),NA())","v":{"$error":"#REF!"}},{"$error":"#REF!"},{"$error":"#REF!"}]
[null,null,null,{"$f":"IF(#REF!=$E$1,IF(#REF!=$G$1,#REF!,NA()),NA())","v":{"$error":"#REF!"}},{"$f":"IF(#REF!=$E$1,IF(#REF!=$G$1,#REF!,NA()),NA())","v":{"$error":"#REF!"}},{"$f":"IF(#REF!=$E$1,IF(#REF!=$G$1,IF(#REF!=\"\",NA(),#REF!),NA()),NA())","v":{"$error":"#REF!"}},{"$f":"IF(#REF!=$E$1,IF(#REF!=$G$1,IF(#REF!=\"\",NA(),#REF!),NA()),NA())","v":{"$error":"#REF!"}},{"$error":"#REF!"},{"$error":"#REF!"}]
[null,null,null,{"$f":"IF(#REF!=$E$1,IF(#REF!=$G$1,#REF!,NA()),NA())","v":{"$error":"#REF!"}},{"$f":"IF(#REF!=$E$1,IF(#REF!=$G$1,#REF!,NA()),NA())","v":{"$error":"#REF!"}},{"$f":"IF(#REF!=$E$1,IF(#REF!=$G$1,IF(#REF!=\"\",NA(),#REF!),NA()),NA())","v":{"$error":"#REF!"}},{"$f":"IF(#REF!=$E$1,IF(#REF!=$G$1,IF(#REF!=\"\",NA(),#REF!),NA()),NA())","v":{"$error":"#REF!"}},{"$error":"#REF!"},{"$error":"#REF!"}]
[null,null,null,{"$f":"IF(#REF!=$E$1,IF(#REF!=$G$1,#REF!,NA()),NA())","v":{"$error":"#REF!"}},{"$f":"IF(#REF!=$E$1,IF(#REF!=$G$1,#REF!,NA()),NA())","v":{"$error":"#REF!"}},{"$f":"IF(#REF!=$E$1,IF(#REF!=$G$1,IF(#REF!=\"\",NA(),#REF!),NA()),NA())","v":{"$error":"#REF!"}},{"$f":"IF(#REF!=$E$1,IF(#REF!=$G$1,IF(#REF!=\"\",NA(),#REF!),NA()),NA())","v":{"$error":"#REF!"}},{"$error":"#REF!"},{"$error":"#REF!"}]
[null,null,null,{"$f":"IF(#REF!=$E$1,IF(#REF!=$G$1,#REF!,NA()),NA())","v":{"$error":"#REF!"}},{"$f":"IF(#REF!=$E$1,IF(#REF!=$G$1,#REF!,NA()),NA())","v":{"$error":"#REF!"}},{"$f":"IF(#REF!=$E$1,IF(#REF!=$G$1,IF(#REF!=\"\",NA(),#REF!),NA()),NA())","v":{"$error":"#REF!"}},{"$f":"IF(#REF!=$E$1,IF(#REF!=$G$1,IF(#REF!=\"\",NA(),#REF!),NA()),NA())","v":{"$error":"#REF!"}},{"$error":"#REF!"},{"$error":"#REF!"}]
[null,null,null,{"$f":"IF(#REF!=$E$1,IF(#REF!=$G$1,#REF!,NA()),NA())","v":{"$error":"#REF!"}},{"$f":"IF(#REF!=$E$1,IF(#REF!=$G$1,#REF!,NA()),NA())","v":{"$error":"#REF!"}},{"$f":"IF(#REF!=$E$1,IF(#REF!=$G$1,IF(#REF!=\"\",NA(),#REF!),NA()),NA())","v":{"$error":"#REF!"}},{"$f":"IF(#REF!=$E$1,IF(#REF!=$G$1,IF(#REF!=\"\",NA(),#REF!),NA()),NA())","v":{"$error":"#REF!"}},{"$error":"#REF!"},{"$error":"#REF!"}]
[null,null,null,{"$f":"IF(#REF!=$E$1,IF(#REF!=$G$1,#REF!,NA()),NA())","v":{"$error":"#REF!"}},{"$f":"IF(#REF!=$E$1,IF(#REF!=$G$1,#REF!,NA()),NA())","v":{"$error":"#REF!"}},{"$f":"IF(#REF!=$E$1,IF(#REF!=$G$1,IF(#REF!=\"\",NA(),#REF!),NA()),NA())","v":{"$error":"#REF!"}},{"$f":"IF(#REF!=$E$1,IF(#REF!=$G$1,IF(#REF!=\"\",NA(),#REF!),NA()),NA())","v":{"$error":"#REF!"}},{"$error":"#REF!"},{"$error":"#REF!"}]
[null,null,null,{"$f":"IF(#REF!=$E$1,IF(#REF!=$G$1,#REF!,NA()),NA())","v":{"$error":"#REF!"}},{"$f":"IF(#REF!=$E$1,IF(#REF!=$G$1,#REF!,NA()),NA())","v":{"$error":"#REF!"}},{"$f":"IF(#REF!=$E$1,IF(#REF!=$G$1,IF(#REF!=\"\",NA(),#REF!),NA()),NA())","v":{"$error":"#REF!"}},{"$f":"IF(#REF!=$E$1,IF(#REF!=$G$1,IF(#REF!=\"\",NA(),#REF!),NA()),NA())","v":{"$error":"#REF!"}},{"$error":"#REF!"},{"$error":"#REF!"}]
[null,null,null,{"$f":"IF(#REF!=$E$1,IF(#REF!=$G$1,#REF!,NA()),NA())","v":{"$error":"#REF!"}},{"$f":"IF(#REF!=$E$1,IF(#REF!=$G$1,#REF!,NA()),NA())","v":{"$error":"#REF!"}},{"$f":"IF(#REF!=$E$1,IF(#REF!=$G$1,IF(#REF!=\"\",NA(),#REF!),NA()),NA())","v":{"$error":"#REF!"}},{"$f":"IF(#REF!=$E$1,IF(#REF!=$G$1,IF(#REF!=\"\",NA(),#REF!),NA()),NA())","v":{"$error":"#REF!"}},{"$error":"#REF!"},{"$error":"#REF!"}]
[null,null,null,{"$f":"IF(#REF!=$E$1,IF(#REF!=$G$1,#REF!,NA()),NA())","v":{"$error":"#REF!"}},{"$f":"IF(#REF!=$E$1,IF(#REF!=$G$1,#REF!,NA()),NA())","v":{"$error":"#REF!"}},{"$f":"IF(#REF!=$E$1,IF(#REF!=$G$1,IF(#REF!=\"\",NA(),#REF!),NA()),NA())","v":{"$error":"#REF!"}},{"$f":"IF(#REF!=$E$1,IF(#REF!=$G$1,IF(#REF!=\"\",NA(),#REF!),NA()),NA())","v":{"$error":"#REF!"}},{"$error":"#REF!"},{"$error":"#REF!"}]
[null,null,null,{"$f":"IF(#REF!=$E$1,IF(#REF!=$G$1,#REF!,NA()),NA())","v":{"$error":"#REF!"}},{"$f":"IF(#REF!=$E$1,IF(#REF!=$G$1,#REF!,NA()),NA())","v":{"$error":"#REF!"}},{"$f":"IF(#REF!=$E$1,IF(#REF!=$G$1,IF(#REF!=\"\",NA(),#REF!),NA()),NA())","v":{"$error":"#REF!"}},{"$f":"IF(#REF!=$E$1,IF(#REF!=$G$1,IF(#REF!=\"\",NA(),#REF!),NA()),NA())","v":{"$error":"#REF!"}},{"$error":"#REF!"},{"$error":"#REF!"}]
[null,null,null,{"$f":"IF(#REF!=$E$1,IF(#REF!=$G$1,#REF!,NA()),NA())","v":{"$error":"#REF!"}},{"$f":"IF(#REF!=$E$1,IF(#REF!=$G$1,#REF!,NA()),NA())","v":{"$error":"#REF!"}},{"$f":"IF(#REF!=$E$1,IF(#REF!=$G$1,IF(#REF!=\"\",NA(),#REF!),NA()),NA())","v":{"$error":"#REF!"}},{"$f":"IF(#REF!=$E$1,IF(#REF!=$G$1,IF(#REF!=\"\",NA(),#REF!),NA()),NA())","v":{"$error":"#REF!"}},{"$error":"#REF!"},{"$error":"#REF!"}]
[null,null,null,{"$f":"IF(#REF!=$E$1,IF(#REF!=$G$1,#REF!,NA()),NA())","v":{"$error":"#REF!"}},{"$f":"IF(#REF!=$E$1,IF(#REF!=$G$1,#REF!,NA()),NA())","v":{"$error":"#REF!"}},{"$f":"IF(#REF!=$E$1,IF(#REF!=$G$1,IF(#REF!=\"\",NA(),#REF!),NA()),NA())","v":{"$error":"#REF!"}},{"$f":"IF(#REF!=$E$1,IF(#REF!=$G$1,IF(#REF!=\"\",NA(),#REF!),NA()),NA())","v":{"$error":"#REF!"}},{"$error":"#REF!"},{"$error":"#REF!"}]
[null,null,null,{"$f":"IF(#REF!=$E$1,IF(#REF!=$G$1,#REF!,NA()),NA())","v":{"$error":"#REF!"}},{"$f":"IF(#REF!=$E$1,IF(#REF!=$G$1,#REF!,NA()),NA())","v":{"$error":"#REF!"}},{"$f":"IF(#REF!=$E$1,IF(#REF!=$G$1,IF(#REF!=\"\",NA(),#REF!),NA()),NA())","v":{"$error":"#REF!"}},{"$f":"IF(#REF!=$E$1,IF(#REF!=$G$1,IF(#REF!=\"\",NA(),#REF!),NA()),NA())","v":{"$error":"#REF!"}},{"$error":"#REF!"},{"$error":"#REF!"}]
[null,null,null,{"$f":"IF(#REF!=$E$1,IF(#REF!=$G$1,#REF!,NA()),NA())","v":{"$error":"#REF!"}},{"$f":"IF(#REF!=$E$1,IF(#REF!=$G$1,#REF!,NA()),NA())","v":{"$error":"#REF!"}},{"$f":"IF(#REF!=$E$1,IF(#REF!=$G$1,IF(#REF!=\"\",NA(),#REF!),NA()),NA())","v":{"$error":"#REF!"}},{"$f":"IF(#REF!=$E$1,IF(#REF!=$G$1,IF(#REF!=\"\",NA(),#REF!),NA()),NA())","v":{"$error":"#REF!"}},{"$error":"#REF!"},{"$error":"#REF!"}]
[null,null,null,{"$f":"IF(#REF!=$E$1,IF(#REF!=$G$1,#REF!,NA()),NA())","v":{"$error":"#REF!"}},{"$f":"IF(#REF!=$E$1,IF(#REF!=$G$1,#REF!,NA()),NA())","v":{"$error":"#REF!"}},{"$f":"IF(#REF!=$E$1,IF(#REF!=$G$1,IF(#REF!=\"\",NA(),#REF!),NA()),NA())","v":{"$error":"#REF!"}},{"$f":"IF(#REF!=$E$1,IF(#REF!=$G$1,IF(#REF!=\"\",NA(),#REF!),NA()),NA())","v":{"$error":"#REF!"}},{"$error":"#REF!"},{"$error":"#REF!"}]
[null,null,null,{"$f":"IF(#REF!=$E$1,IF(#REF!=$G$1,#REF!,NA()),NA())","v":{"$error":"#REF!"}},{"$f":"IF(#REF!=$E$1,IF(#REF!=$G$1,#REF!,NA()),NA())","v":{"$error":"#REF!"}},{"$f":"IF(#REF!=$E$1,IF(#REF!=$G$1,IF(#REF!=\"\",NA(),#REF!),NA()),NA())","v":{"$error":"#REF!"}},{"$f":"IF(#REF!=$E$1,IF(#REF!=$G$1,IF(#REF!=\"\",NA(),#REF!),NA()),NA())","v":{"$error":"#REF!"}},{"$error":"#REF!"},{"$error":"#REF!"}]
[null,null,null,{"$f":"IF(#REF!=$E$1,IF(#REF!=$G$1,#REF!,NA()),NA())","v":{"$error":"#REF!"}},{"$f":"IF(#REF!=$E$1,IF(#REF!=$G$1,#REF!,NA()),NA())","v":{"$error":"#REF!"}},{"$f":"IF(#REF!=$E$1,IF(#REF!=$G$1,IF(#REF!=\"\",NA(),#REF!),NA()),NA())","v":{"$error":"#REF!"}},{"$f":"IF(#REF!=$E$1,IF(#REF!=$G$1,IF(#REF!=\"\",NA(),#REF!),NA()),NA())","v":{"$error":"#REF!"}},{"$error":"#REF!"},{"$error":"#REF!"}]
[null,null,null,{"$f":"IF(#REF!=$E$1,IF(#REF!=$G$1,#REF!,NA()),NA())","v":{"$error":"#REF!"}},{"$f":"IF(#REF!=$E$1,IF(#REF!=$G$1,#REF!,NA()),NA())","v":{"$error":"#REF!"}},{"$f":"IF(#REF!=$E$1,IF(#REF!=$G$1,IF(#REF!=\"\",NA(),#REF!),NA()),NA())","v":{"$error":"#REF!"}},{"$f":"IF(#REF!=$E$1,IF(#REF!=$G$1,IF(#REF!=\"\",NA(),#REF!),NA()),NA())","v":{"$error":"#REF!"}},{"$error":"#REF!"},{"$error":"#REF!"}]
[null,null,null,{"$f":"IF(#REF!=$E$1,IF(#REF!=$G$1,#REF!,NA()),NA())","v":{"$error":"#REF!"}},{"$f":"IF(#REF!=$E$1,IF(#REF!=$G$1,#REF!,NA()),NA())","v":{"$error":"#REF!"}},{"$f":"IF(#REF!=$E$1,IF(#REF!=$G$1,IF(#REF!=\"\",NA(),#REF!),NA()),NA())","v":{"$error":"#REF!"}},{"$f":"IF(#REF!=$E$1,IF(#REF!=$G$1,IF(#REF!=\"\",NA(),#REF!),NA()),NA())","v":{"$error":"#REF!"}},{"$error":"#REF!"},{"$error":"#REF!"}]
[null,null,null,{"$f":"IF(#REF!=$E$1,IF(#REF!=$G$1,#REF!,NA()),NA())","v":{"$error":"#REF!"}},{"$f":"IF(#REF!=$E$1,IF(#REF!=$G$1,#REF!,NA()),NA())","v":{"$error":"#REF!"}},{"$f":"IF(#REF!=$E$1,IF(#REF!=$G$1,IF(#REF!=\"\",NA(),#REF!),NA()),NA())","v":{"$error":"#REF!"}},{"$f":"IF(#REF!=$E$1,IF(#REF!=$G$1,IF(#REF!=\"\",NA(),#REF!),NA()),NA())","v":{"$error":"#REF!"}},{"$error":"#REF!"},{"$error":"#REF!"}]
[null,null,null,{"$f":"IF(#REF!=$E$1,IF(#REF!=$G$1,#REF!,NA()),NA())","v":{"$error":"#REF!"}},{"$f":"IF(#REF!=$E$1,IF(#REF!=$G$1,#REF!,NA()),NA())","v":{"$error":"#REF!"}},{"$f":"IF(#REF!=$E$1,IF(#REF!=$G$1,IF(#REF!=\"\",NA(),#REF!),NA()),NA())","v":{"$error":"#REF!"}},{"$f":"IF(#REF!=$E$1,IF(#REF!=$G$1,IF(#REF!=\"\",NA(),#REF!),NA()),NA())","v":{"$error":"#REF!"}},{"$error":"#REF!"},{"$error":"#REF!"}]
[null,null,null,{"$f":"IF(#REF!=$E$1,IF(#REF!=$G$1,#REF!,NA()),NA())","v":{"$error":"#REF!"}},{"$f":"IF(#REF!=$E$1,IF(#REF!=$G$1,#REF!,NA()),NA())","v":{"$error":"#REF!"}},{"$f":"IF(#REF!=$E$1,IF(#REF!=$G$1,IF(#REF!=\"\",NA(),#REF!),NA()),NA())","v":{"$error":"#REF!"}},{"$f":"IF(#REF!=$E$1,IF(#REF!=$G$1,IF(#REF!=\"\",NA(),#REF!),NA()),NA())","v":{"$error":"#REF!"}},{"$error":"#REF!"},{"$error":"#REF!"}]
[null,null,null,{"$f":"IF(#REF!=$E$1,IF(#REF!=$G$1,#REF!,NA()),NA())","v":{"$error":"#REF!"}},{"$f":"IF(#REF!=$E$1,IF(#REF!=$G$1,#REF!,NA()),NA())","v":{"$error":"#REF!"}},{"$f":"IF(#REF!=$E$1,IF(#REF!=$G$1,IF(#REF!=\"\",NA(),#REF!),NA()),NA())","v":{"$error":"#REF!"}},{"$f":"IF(#REF!=$E$1,IF(#REF!=$G$1,IF(#REF!=\"\",NA(),#REF!),NA()),NA())","v":{"$error":"#REF!"}},{"$error":"#REF!"},{"$error":"#REF!"}]
[null,null,null,{"$f":"IF(#REF!=$E$1,IF(#REF!=$G$1,#REF!,NA()),NA())","v":{"$error":"#REF!"}},{"$f":"IF(#REF!=$E$1,IF(#REF!=$G$1,#REF!,NA()),NA())","v":{"$error":"#REF!"}},{"$f":"IF(#REF!=$E$1,IF(#REF!=$G$1,IF(#REF!=\"\",NA(),#REF!),NA()),NA())","v":{"$error":"#REF!"}},{"$f":"IF(#REF!=$E$1,IF(#REF!=$G$1,IF(#REF!=\"\",NA(),#REF!),NA()),NA())","v":{"$error":"#REF!"}},{"$error":"#REF!"},{"$error":"#REF!"}]
[null,null,null,{"$f":"IF(#REF!=$E$1,IF(#REF!=$G$1,#REF!,NA()),NA())","v":{"$error":"#REF!"}},{"$f":"IF(#REF!=$E$1,IF(#REF!=$G$1,#REF!,NA()),NA())","v":{"$error":"#REF!"}},{"$f":"IF(#REF!=$E$1,IF(#REF!=$G$1,IF(#REF!=\"\",NA(),#REF!),NA()),NA())","v":{"$error":"#REF!"}},{"$f":"IF(#REF!=$E$1,IF(#REF!=$G$1,IF(#REF!=\"\",NA(),#REF!),NA()),NA())","v":{"$error":"#REF!"}},{"$error":"#REF!"},{"$error":"#REF!"}]
[null,null,null,{"$f":"IF(#REF!=$E$1,IF(#REF!=$G$1,#REF!,NA()),NA())","v":{"$error":"#REF!"}},{"$f":"IF(#REF!=$E$1,IF(#REF!=$G$1,#REF!,NA()),NA())","v":{"$error":"#REF!"}},{"$f":"IF(#REF!=$E$1,IF(#REF!=$G$1,IF(#REF!=\"\",NA(),#REF!),NA()),NA())","v":{"$error":"#REF!"}},{"$f":"IF(#REF!=$E$1,IF(#REF!=$G$1,IF(#REF!=\"\",NA(),#REF!),NA()),NA())","v":{"$error":"#REF!"}},{"$error":"#REF!"},{"$error":"#REF!"}]
[null,null,null,{"$f":"IF(#REF!=$E$1,IF(#REF!=$G$1,#REF!,NA()),NA())","v":{"$error":"#REF!"}},{"$f":"IF(#REF!=$E$1,IF(#REF!=$G$1,#REF!,NA()),NA())","v":{"$error":"#REF!"}},{"$f":"IF(#REF!=$E$1,IF(#REF!=$G$1,IF(#REF!=\"\",NA(),#REF!),NA()),NA())","v":{"$error":"#REF!"}},{"$f":"IF(#REF!=$E$1,IF(#REF!=$G$1,IF(#REF!=\"\",NA(),#REF!),NA()),NA())","v":{"$error":"#REF!"}},{"$error":"#REF!"},{"$error":"#REF!"}]
[null,null,null,{"$f":"IF(#REF!=$E$1,IF(#REF!=$G$1,#REF!,NA()),NA())","v":{"$error":"#REF!"}},{"$f":"IF(#REF!=$E$1,IF(#REF!=$G$1,#REF!,NA()),NA())","v":{"$error":"#REF!"}},{"$f":"IF(#REF!=$E$1,IF(#REF!=$G$1,IF(#REF!=\"\",NA(),#REF!),NA()),NA())","v":{"$error":"#REF!"}},{"$f":"IF(#REF!=$E$1,IF(#REF!=$G$1,IF(#REF!=\"\",NA(),#REF!),NA()),NA())","v":{"$error":"#REF!"}},{"$error":"#REF!"},{"$error":"#REF!"}]
[null,null,null,{"$f":"IF(#REF!=$E$1,IF(#REF!=$G$1,#REF!,NA()),NA())","v":{"$error":"#REF!"}},{"$f":"IF(#REF!=$E$1,IF(#REF!=$G$1,#REF!,NA()),NA())","v":{"$error":"#REF!"}},{"$f":"IF(#REF!=$E$1,IF(#REF!=$G$1,IF(#REF!=\"\",NA(),#REF!),NA()),NA())","v":{"$error":"#REF!"}},{"$f":"IF(#REF!=$E$1,IF(#REF!=$G$1,IF(#REF!=\"\",NA(),#REF!),NA()),NA())","v":{"$error":"#REF!"}},{"$error":"#REF!"},{"$error":"#REF!"}]
[null,null,null,{"$f":"IF(#REF!=$E$1,IF(#REF!=$G$1,#REF!,NA()),NA())","v":{"$error":"#REF!"}},{"$f":"IF(#REF!=$E$1,IF(#REF!=$G$1,#REF!,NA()),NA())","v":{"$error":"#REF!"}},{"$f":"IF(#REF!=$E$1,IF(#REF!=$G$1,IF(#REF!=\"\",NA(),#REF!),NA()),NA())","v":{"$error":"#REF!"}},{"$f":"IF(#REF!=$E$1,IF(#REF!=$G$1,IF(#REF!=\"\",NA(),#REF!),NA()),NA())","v":{"$error":"#REF!"}},{"$error":"#REF!"},{"$error":"#REF!"}]
[null,null,null,{"$f":"IF(#REF!=$E$1,IF(#REF!=$G$1,#REF!,NA()),NA())","v":{"$error":"#REF!"}},{"$f":"IF(#REF!=$E$1,IF(#REF!=$G$1,#REF!,NA()),NA())","v":{"$error":"#REF!"}},{"$f":"IF(#REF!=$E$1,IF(#REF!=$G$1,IF(#REF!=\"\",NA(),#REF!),NA()),NA())","v":{"$error":"#REF!"}},{"$f":"IF(#REF!=$E$1,IF(#REF!=$G$1,IF(#REF!=\"\",NA(),#REF!),NA()),NA())","v":{"$error":"#REF!"}},{"$error":"#REF!"},{"$error":"#REF!"}]
[null,null,null,{"$f":"IF(#REF!=$E$1,IF(#REF!=$G$1,#REF!,NA()),NA())","v":{"$error":"#REF!"}},{"$f":"IF(#REF!=$E$1,IF(#REF!=$G$1,#REF!,NA()),NA())","v":{"$error":"#REF!"}},{"$f":"IF(#REF!=$E$1,IF(#REF!=$G$1,IF(#REF!=\"\",NA(),#REF!),NA()),NA())","v":{"$error":"#REF!"}},{"$f":"IF(#REF!=$E$1,IF(#REF!=$G$1,IF(#REF!=\"\",NA(),#REF!),NA()),NA())","v":{"$error":"#REF!"}},{"$error":"#REF!"},{"$error":"#REF!"}]
[null,null,null,{"$f":"IF(#REF!=$E$1,IF(#REF!=$G$1,#REF!,NA()),NA())","v":{"$error":"#REF!"}},{"$f":"IF(#REF!=$E$1,IF(#REF!=$G$1,#REF!,NA()),NA())","v":{"$error":"#REF!"}},{"$f":"IF(#REF!=$E$1,IF(#REF!=$G$1,IF(#REF!=\"\",NA(),#REF!),NA()),NA())","v":{"$error":"#REF!"}},{"$f":"IF(#REF!=$E$1,IF(#REF!=$G$1,IF(#REF!=\"\",NA(),#REF!),NA()),NA())","v":{"$error":"#REF!"}},{"$error":"#REF!"},{"$error":"#REF!"}]
[null,null,null,{"$f":"IF(#REF!=$E$1,IF(#REF!=$G$1,#REF!,NA()),NA())","v":{"$error":"#REF!"}},{"$f":"IF(#REF!=$E$1,IF(#REF!=$G$1,#REF!,NA()),NA())","v":{"$error":"#REF!"}},{"$f":"IF(#REF!=$E$1,IF(#REF!=$G$1,IF(#REF!=\"\",NA(),#REF!),NA()),NA())","v":{"$error":"#REF!"}},{"$f":"IF(#REF!=$E$1,IF(#REF!=$G$1,IF(#REF!=\"\",NA(),#REF!),NA()),NA())","v":{"$error":"#REF!"}},{"$error":"#REF!"},{"$error":"#REF!"}]
[null,null,null,{"$f":"IF(#REF!=$E$1,IF(#REF!=$G$1,#REF!,NA()),NA())","v":{"$error":"#REF!"}},{"$f":"IF(#REF!=$E$1,IF(#REF!=$G$1,#REF!,NA()),NA())","v":{"$error":"#REF!"}},{"$f":"IF(#REF!=$E$1,IF(#REF!=$G$1,IF(#REF!=\"\",NA(),#REF!),NA()),NA())","v":{"$error":"#REF!"}},{"$f":"IF(#REF!=$E$1,IF(#REF!=$G$1,IF(#REF!=\"\",NA(),#REF!),NA()),NA())","v":{"$error":"#REF!"}},{"$error":"#REF!"},{"$error":"#REF!"}]
[null,null,null,{"$f":"IF(#REF!=$E$1,IF(#REF!=$G$1,#REF!,NA()),NA())","v":{"$error":"#REF!"}},{"$f":"IF(#REF!=$E$1,IF(#REF!=$G$1,#REF!,NA()),NA())","v":{"$error":"#REF!"}},{"$f":"IF(#REF!=$E$1,IF(#REF!=$G$1,IF(#REF!=\"\",NA(),#REF!),NA()),NA())","v":{"$error":"#REF!"}},{"$f":"IF(#REF!=$E$1,IF(#REF!=$G$1,IF(#REF!=\"\",NA(),#REF!),NA()),NA())","v":{"$error":"#REF!"}},{"$error":"#REF!"},{"$error":"#REF!"}]
[null,null,null,{"$f":"IF(#REF!=$E$1,IF(#REF!=$G$1,#REF!,NA()),NA())","v":{"$error":"#REF!"}},{"$f":"IF(#REF!=$E$1,IF(#REF!=$G$1,#REF!,NA()),NA())","v":{"$error":"#REF!"}},{"$f":"IF(#REF!=$E$1,IF(#REF!=$G$1,IF(#REF!=\"\",NA(),#REF!),NA()),NA())","v":{"$error":"#REF!"}},{"$f":"IF(#REF!=$E$1,IF(#REF!=$G$1,IF(#REF!=\"\",NA(),#REF!),NA()),NA())","v":{"$error":"#REF!"}},{"$error":"#REF!"},{"$error":"#REF!"}]
[null,null,null,{"$f":"IF(#REF!=$E$1,IF(#REF!=$G$1,#REF!,NA()),NA())","v":{"$error":"#REF!"}},{"$f":"IF(#REF!=$E$1,IF(#REF!=$G$1,#REF!,NA()),NA())","v":{"$error":"#REF!"}},{"$f":"IF(#REF!=$E$1,IF(#REF!=$G$1,IF(#REF!=\"\",NA(),#REF!),NA()),NA())","v":{"$error":"#REF!"}},{"$f":"IF(#REF!=$E$1,IF(#REF!=$G$1,IF(#REF!=\"\",NA(),#REF!),NA()),NA())","v":{"$error":"#REF!"}},{"$error":"#REF!"},{"$error":"#REF!"}]
[null,null,null,{"$f":"IF(#REF!=$E$1,IF(#REF!=$G$1,#REF!,NA()),NA())","v":{"$error":"#REF!"}},{"$f":"IF(#REF!=$E$1,IF(#REF!=$G$1,#REF!,NA()),NA())","v":{"$error":"#REF!"}},{"$f":"IF(#REF!=$E$1,IF(#REF!=$G$1,IF(#REF!=\"\",NA(),#REF!),NA()),NA())","v":{"$error":"#REF!"}},{"$f":"IF(#REF!=$E$1,IF(#REF!=$G$1,IF(#REF!=\"\",NA(),#REF!),NA()),NA())","v":{"$error":"#REF!"}},{"$error":"#REF!"},{"$error":"#REF!"}]
[null,null,null,{"$f":"IF(#REF!=$E$1,IF(#REF!=$G$1,#REF!,NA()),NA())","v":{"$error":"#REF!"}},{"$f":"IF(#REF!=$E$1,IF(#REF!=$G$1,#REF!,NA()),NA())","v":{"$error":"#REF!"}},{"$f":"IF(#REF!=$E$1,IF(#REF!=$G$1,IF(#REF!=\"\",NA(),#REF!),NA()),NA())","v":{"$error":"#REF!"}},{"$f":"IF(#REF!=$E$1,IF(#REF!=$G$1,IF(#REF!=\"\",NA(),#REF!),NA()),NA())","v":{"$error":"#REF!"}},{"$error":"#REF!"},{"$error":"#REF!"}]
[null,null,null,{"$f":"IF(#REF!=$E$1,IF(#REF!=$G$1,#REF!,NA()),NA())","v":{"$error":"#REF!"}},{"$f":"IF(#REF!=$E$1,IF(#REF!=$G$1,#REF!,NA()),NA())","v":{"$error":"#REF!"}},{"$f":"IF(#REF!=$E$1,IF(#REF!=$G$1,IF(#REF!=\"\",NA(),#REF!),NA()),NA())","v":{"$error":"#REF!"}},{"$f":"IF(#REF!=$E$1,IF(#REF!=$G$1,IF(#REF!=\"\",NA(),#REF!),NA()),NA())","v":{"$error":"#REF!"}},{"$error":"#REF!"},{"$error":"#REF!"}]
[null,null,null,{"$f":"IF(#REF!=$E$1,IF(#REF!=$G$1,#REF!,NA()),NA())","v":{"$error":"#REF!"}},{"$f":"IF(#REF!=$E$1,IF(#REF!=$G$1,#REF!,NA()),NA())","v":{"$error":"#REF!"}},{"$f":"IF(#REF!=$E$1,IF(#REF!=$G$1,IF(#REF!=\"\",NA(),#REF!),NA()),NA())","v":{"$error":"#REF!"}},{"$f":"IF(#REF!=$E$1,IF(#REF!=$G$1,IF(#REF!=\"\",NA(),#REF!),NA()),NA())","v":{"$error":"#REF!"}},{"$error":"#REF!"},{"$error":"#REF!"}]
[null,null,null,{"$f":"IF(#REF!=$E$1,IF(#REF!=$G$1,#REF!,NA()),NA())","v":{"$error":"#REF!"}},{"$f":"IF(#REF!=$E$1,IF(#REF!=$G$1,#REF!,NA()),NA())","v":{"$error":"#REF!"}},{"$f":"IF(#REF!=$E$1,IF(#REF!=$G$1,IF(#REF!=\"\",NA(),#REF!),NA()),NA())","v":{"$error":"#REF!"}},{"$f":"IF(#REF!=$E$1,IF(#REF!=$G$1,IF(#REF!=\"\",NA(),#REF!),NA()),NA())","v":{"$error":"#REF!"}},{"$error":"#REF!"},{"$error":"#REF!"}]
[null,null,null,{"$f":"IF(#REF!=$E$1,IF(#REF!=$G$1,#REF!,NA()),NA())","v":{"$error":"#REF!"}},{"$f":"IF(#REF!=$E$1,IF(#REF!=$G$1,#REF!,NA()),NA())","v":{"$error":"#REF!"}},{"$f":"IF(#REF!=$E$1,IF(#REF!=$G$1,IF(#REF!=\"\",NA(),#REF!),NA()),NA())","v":{"$error":"#REF!"}},{"$f":"IF(#REF!=$E$1,IF(#REF!=$G$1,IF(#REF!=\"\",NA(),#REF!),NA()),NA())","v":{"$error":"#REF!"}},{"$error":"#REF!"},{"$error":"#REF!"}]
[null,null,null,{"$f":"IF(#REF!=$E$1,IF(#REF!=$G$1,#REF!,NA()),NA())","v":{"$error":"#REF!"}},{"$f":"IF(#REF!=$E$1,IF(#REF!=$G$1,#REF!,NA()),NA())","v":{"$error":"#REF!"}},{"$f":"IF(#REF!=$E$1,IF(#REF!=$G$1,IF(#REF!=\"\",NA(),#REF!),NA()),NA())","v":{"$error":"#REF!"}},{"$f":"IF(#REF!=$E$1,IF(#REF!=$G$1,IF(#REF!=\"\",NA(),#REF!),NA()),NA())","v":{"$error":"#REF!"}},{"$error":"#REF!"},{"$error":"#REF!"}]
[null,null,null,{"$f":"IF(#REF!=$E$1,IF(#REF!=$G$1,#REF!,NA()),NA())","v":{"$error":"#REF!"}},{"$f":"IF(#REF!=$E$1,IF(#REF!=$G$1,#REF!,NA()),NA())","v":{"$error":"#REF!"}},{"$f":"IF(#REF!=$E$1,IF(#REF!=$G$1,IF(#REF!=\"\",NA(),#REF!),NA()),NA())","v":{"$error":"#REF!"}},{"$f":"IF(#REF!=$E$1,IF(#REF!=$G$1,IF(#REF!=\"\",NA(),#REF!),NA()),NA())","v":{"$error":"#REF!"}},{"$error":"#REF!"},{"$error":"#REF!"}]
[null,null,null,{"$f":"IF(#REF!=$E$1,IF(#REF!=$G$1,#REF!,NA()),NA())","v":{"$error":"#REF!"}},{"$f":"IF(#REF!=$E$1,IF(#REF!=$G$1,#REF!,NA()),NA())","v":{"$error":"#REF!"}},{"$f":"IF(#REF!=$E$1,IF(#REF!=$G$1,IF(#REF!=\"\",NA(),#REF!),NA()),NA())","v":{"$error":"#REF!"}},{"$f":"IF(#REF!=$E$1,IF(#REF!=$G$1,IF(#REF!=\"\",NA(),#REF!),NA()),NA())","v":{"$error":"#REF!"}},{"$error":"#REF!"},{"$error":"#REF!"}]
[null,null,null,{"$f":"IF(#REF!=$E$1,IF(#REF!=$G$1,#REF!,NA()),NA())","v":{"$error":"#REF!"}},{"$f":"IF(#REF!=$E$1,IF(#REF!=$G$1,#REF!,NA()),NA())","v":{"$error":"#REF!"}},{"$f":"IF(#REF!=$E$1,IF(#REF!=$G$1,IF(#REF!=\"\",NA(),#REF!),NA()),NA())","v":{"$error":"#REF!"}},{"$f":"IF(#REF!=$E$1,IF(#REF!=$G$1,IF(#REF!=\"\",NA(),#REF!),NA()),NA())","v":{"$error":"#REF!"}},{"$error":"#REF!"},{"$error":"#REF!"}]
[null,null,null,{"$f":"IF(#REF!=$E$1,IF(#REF!=$G$1,#REF!,NA()),NA())","v":{"$error":"#REF!"}},{"$f":"IF(#REF!=$E$1,IF(#REF!=$G$1,#REF!,NA()),NA())","v":{"$error":"#REF!"}},{"$f":"IF(#REF!=$E$1,IF(#REF!=$G$1,IF(#REF!=\"\",NA(),#REF!),NA()),NA())","v":{"$error":"#REF!"}},{"$f":"IF(#REF!=$E$1,IF(#REF!=$G$1,IF(#REF!=\"\",NA(),#REF!),NA()),NA())","v":{"$error":"#REF!"}},{"$error":"#REF!"},{"$error":"#REF!"}]
[null,null,null,{"$f":"IF(#REF!=$E$1,IF(#REF!=$G$1,#REF!,NA()),NA())","v":{"$error":"#REF!"}},{"$f":"IF(#REF!=$E$1,IF(#REF!=$G$1,#REF!,NA()),NA())","v":{"$error":"#REF!"}},{"$f":"IF(#REF!=$E$1,IF(#REF!=$G$1,IF(#REF!=\"\",NA(),#REF!),NA()),NA())","v":{"$error":"#REF!"}},{"$f":"IF(#REF!=$E$1,IF(#REF!=$G$1,IF(#REF!=\"\",NA(),#REF!),NA()),NA())","v":{"$error":"#REF!"}},{"$error":"#REF!"},{"$error":"#REF!"}]
[null,null,null,{"$f":"IF(#REF!=$E$1,IF(#REF!=$G$1,#REF!,NA()),NA())","v":{"$error":"#REF!"}},{"$f":"IF(#REF!=$E$1,IF(#REF!=$G$1,#REF!,NA()),NA())","v":{"$error":"#REF!"}},{"$f":"IF(#REF!=$E$1,IF(#REF!=$G$1,IF(#REF!=\"\",NA(),#REF!),NA()),NA())","v":{"$error":"#REF!"}},{"$f":"IF(#REF!=$E$1,IF(#REF!=$G$1,IF(#REF!=\"\",NA(),#REF!),NA()),NA())","v":{"$error":"#REF!"}},{"$error":"#REF!"},{"$error":"#REF!"}]
[null,null,null,{"$f":"IF(#REF!=$E$1,IF(#REF!=$G$1,#REF!,NA()),NA())","v":{"$error":"#REF!"}},{"$f":"IF(#REF!=$E$1,IF(#REF!=$G$1,#REF!,NA()),NA())","v":{"$error":"#REF!"}},{"$f":"IF(#REF!=$E$1,IF(#REF!=$G$1,IF(#REF!=\"\",NA(),#REF!),NA()),NA())","v":{"$error":"#REF!"}},{"$f":"IF(#REF!=$E$1,IF(#REF!=$G$1,IF(#REF!=\"\",NA(),#REF!),NA()),NA())","v":{"$error":"#REF!"}},{"$error":"#REF!"},{"$error":"#REF!"}]
[null,null,null,{"$f":"IF(#REF!=$E$1,IF(#REF!=$G$1,#REF!,NA()),NA())","v":{"$error":"#REF!"}},{"$f":"IF(#REF!=$E$1,IF(#REF!=$G$1,#REF!,NA()),NA())","v":{"$error":"#REF!"}},{"$f":"IF(#REF!=$E$1,IF(#REF!=$G$1,IF(#REF!=\"\",NA(),#REF!),NA()),NA())","v":{"$error":"#REF!"}},{"$f":"IF(#REF!=$E$1,IF(#REF!=$G$1,IF(#REF!=\"\",NA(),#REF!),NA()),NA())","v":{"$error":"#REF!"}},{"$error":"#REF!"},{"$error":"#REF!"}]
[null,null,null,{"$f":"IF(#REF!=$E$1,IF(#REF!=$G$1,#REF!,NA()),NA())","v":{"$error":"#REF!"}},{"$f":"IF(#REF!=$E$1,IF(#REF!=$G$1,#REF!,NA()),NA())","v":{"$error":"#REF!"}},{"$f":"IF(#REF!=$E$1,IF(#REF!=$G$1,IF(#REF!=\"\",NA(),#REF!),NA()),NA())","v":{"$error":"#REF!"}},{"$f":"IF(#REF!=$E$1,IF(#REF!=$G$1,IF(#REF!=\"\",NA(),#REF!),NA()),NA())","v":{"$error":"#REF!"}},{"$error":"#REF!"},{"$error":"#REF!"}]
[null,null,null,{"$f":"IF(#REF!=$E$1,IF(#REF!=$G$1,#REF!,NA()),NA())","v":{"$error":"#REF!"}},{"$f":"IF(#REF!=$E$1,IF(#REF!=$G$1,#REF!,NA()),NA())","v":{"$error":"#REF!"}},{"$f":"IF(#REF!=$E$1,IF(#REF!=$G$1,IF(#REF!=\"\",NA(),#REF!),NA()),NA())","v":{"$error":"#REF!"}},{"$f":"IF(#REF!=$E$1,IF(#REF!=$G$1,IF(#REF!=\"\",NA(),#REF!),NA()),NA())","v":{"$error":"#REF!"}},{"$error":"#REF!"},{"$error":"#REF!"}]
[null,null,null,{"$f":"IF(#REF!=$E$1,IF(#REF!=$G$1,#REF!,NA()),NA())","v":{"$error":"#REF!"}},{"$f":"IF(#REF!=$E$1,IF(#REF!=$G$1,#REF!,NA()),NA())","v":{"$error":"#REF!"}},{"$f":"IF(#REF!=$E$1,IF(#REF!=$G$1,IF(#REF!=\"\",NA(),#REF!),NA()),NA())","v":{"$error":"#REF!"}},{"$f":"IF(#REF!=$E$1,IF(#REF!=$G$1,IF(#REF!=\"\",NA(),#REF!),NA()),NA())","v":{"$error":"#REF!"}},{"$error":"#REF!"},{"$error":"#REF!"}]
[null,null,null,{"$f":"IF(#REF!=$E$1,IF(#REF!=$G$1,#REF!,NA()),NA())","v":{"$error":"#REF!"}},{"$f":"IF(#REF!=$E$1,IF(#REF!=$G$1,#REF!,NA()),NA())","v":{"$error":"#REF!"}},{"$f":"IF(#REF!=$E$1,IF(#REF!=$G$1,IF(#REF!=\"\",NA(),#REF!),NA()),NA())","v":{"$error":"#REF!"}},{"$f":"IF(#REF!=$E$1,IF(#REF!=$G$1,IF(#REF!=\"\",NA(),#REF!),NA()),NA())","v":{"$error":"#REF!"}},{"$error":"#REF!"},{"$error":"#REF!"}]
[null,null,null,{"$f":"IF(#REF!=$E$1,IF(#REF!=$G$1,#REF!,NA()),NA())","v":{"$error":"#REF!"}},{"$f":"IF(#REF!=$E$1,IF(#REF!=$G$1,#REF!,NA()),NA())","v":{"$error":"#REF!"}},{"$f":"IF(#REF!=$E$1,IF(#REF!=$G$1,IF(#REF!=\"\",NA(),#REF!),NA()),NA())","v":{"$error":"#REF!"}},{"$f":"IF(#REF!=$E$1,IF(#REF!=$G$1,IF(#REF!=\"\",NA(),#REF!),NA()),NA())","v":{"$error":"#REF!"}},{"$error":"#REF!"},{"$error":"#REF!"}]
[null,null,null,{"$f":"IF(#REF!=$E$1,IF(#REF!=$G$1,#REF!,NA()),NA())","v":{"$error":"#REF!"}},{"$f":"IF(#REF!=$E$1,IF(#REF!=$G$1,#REF!,NA()),NA())","v":{"$error":"#REF!"}},{"$f":"IF(#REF!=$E$1,IF(#REF!=$G$1,IF(#REF!=\"\",NA(),#REF!),NA()),NA())","v":{"$error":"#REF!"}},{"$f":"IF(#REF!=$E$1,IF(#REF!=$G$1,IF(#REF!=\"\",NA(),#REF!),NA()),NA())","v":{"$error":"#REF!"}},{"$error":"#REF!"},{"$error":"#REF!"}]
[null,null,null,{"$f":"IF(#REF!=$E$1,IF(#REF!=$G$1,#REF!,NA()),NA())","v":{"$error":"#REF!"}},{"$f":"IF(#REF!=$E$1,IF(#REF!=$G$1,#REF!,NA()),NA())","v":{"$error":"#REF!"}},{"$f":"IF(#REF!=$E$1,IF(#REF!=$G$1,IF(#REF!=\"\",NA(),#REF!),NA()),NA())","v":{"$error":"#REF!"}},{"$f":"IF(#REF!=$E$1,IF(#REF!=$G$1,IF(#REF!=\"\",NA(),#REF!),NA()),NA())","v":{"$error":"#REF!"}},{"$error":"#REF!"},{"$error":"#REF!"}]
[null,null,null,{"$f":"IF(#REF!=$E$1,IF(#REF!=$G$1,#REF!,NA()),NA())","v":{"$error":"#REF!"}},{"$f":"IF(#REF!=$E$1,IF(#REF!=$G$1,#REF!,NA()),NA())","v":{"$error":"#REF!"}},{"$f":"IF(#REF!=$E$1,IF(#REF!=$G$1,IF(#REF!=\"\",NA(),#REF!),NA()),NA())","v":{"$error":"#REF!"}},{"$f":"IF(#REF!=$E$1,IF(#REF!=$G$1,IF(#REF!=\"\",NA(),#REF!),NA()),NA())","v":{"$error":"#REF!"}},{"$error":"#REF!"},{"$error":"#REF!"}]
[null,null,null,{"$f":"IF(#REF!=$E$1,IF(#REF!=$G$1,#REF!,NA()),NA())","v":{"$error":"#REF!"}},{"$f":"IF(#REF!=$E$1,IF(#REF!=$G$1,#REF!,NA()),NA())","v":{"$error":"#REF!"}},{"$f":"IF(#REF!=$E$1,IF(#REF!=$G$1,IF(#REF!=\"\",NA(),#REF!),NA()),NA())","v":{"$error":"#REF!"}},{"$f":"IF(#REF!=$E$1,IF(#REF!=$G$1,IF(#REF!=\"\",NA(),#REF!),NA()),NA())","v":{"$error":"#REF!"}},{"$f":"IF(AND(ISNUMBER(G324),F324=\"-\"),0,F324)","v":{"$error":"#REF!"}},{"$f":"IF(AND(ISNUMBER(F324),G324=\"-\"),0,G324)","v":{"$error":"#REF!"}}]
[null,null,null,{"$f":"IF(#REF!=$E$1,IF(#REF!=$G$1,#REF!,NA()),NA())","v":{"$error":"#REF!"}},{"$f":"IF(#REF!=$E$1,IF(#REF!=$G$1,#REF!,NA()),NA())","v":{"$error":"#REF!"}},{"$f":"IF(#REF!=$E$1,IF(#REF!=$G$1,IF(#REF!=\"\",NA(),#REF!),NA()),NA())","v":{"$error":"#REF!"}},{"$f":"IF(#REF!=$E$1,IF(#REF!=$G$1,IF(#REF!=\"\",NA(),#REF!),NA()),NA())","v":{"$error":"#REF!"}},{"$error":"#REF!"},{"$error":"#REF!"}]
[null,null,null,{"$f":"IF(#REF!=$E$1,IF(#REF!=$G$1,#REF!,NA()),NA())","v":{"$error":"#REF!"}},{"$f":"IF(#REF!=$E$1,IF(#REF!=$G$1,#REF!,NA()),NA())","v":{"$error":"#REF!"}},{"$f":"IF(#REF!=$E$1,IF(#REF!=$G$1,IF(#REF!=\"\",NA(),#REF!),NA()),NA())","v":{"$error":"#REF!"}},{"$f":"IF(#REF!=$E$1,IF(#REF!=$G$1,IF(#REF!=\"\",NA(),#REF!),NA()),NA())","v":{"$error":"#REF!"}},{"$error":"#REF!"},{"$error":"#REF!"}]
[null,null,null,{"$f":"IF(#REF!=$E$1,IF(#REF!=$G$1,#REF!,NA()),NA())","v":{"$error":"#REF!"}},{"$f":"IF(#REF!=$E$1,IF(#REF!=$G$1,#REF!,NA()),NA())","v":{"$error":"#REF!"}},{"$f":"IF(#REF!=$E$1,IF(#REF!=$G$1,IF(#REF!=\"\",NA(),#REF!),NA()),NA())","v":{"$error":"#REF!"}},{"$f":"IF(#REF!=$E$1,IF(#REF!=$G$1,IF(#REF!=\"\",NA(),#REF!),NA()),NA())","v":{"$error":"#REF!"}},{"$error":"#REF!"},{"$error":"#REF!"}]
[null,null,null,{"$f":"IF(#REF!=$E$1,IF(#REF!=$G$1,#REF!,NA()),NA())","v":{"$error":"#REF!"}},{"$f":"IF(#REF!=$E$1,IF(#REF!=$G$1,#REF!,NA()),NA())","v":{"$error":"#REF!"}},{"$f":"IF(#REF!=$E$1,IF(#REF!=$G$1,IF(#REF!=\"\",NA(),#REF!),NA()),NA())","v":{"$error":"#REF!"}},{"$f":"IF(#REF!=$E$1,IF(#REF!=$G$1,IF(#REF!=\"\",NA(),#REF!),NA()),NA())","v":{"$error":"#REF!"}},{"$error":"#REF!"},{"$error":"#REF!"}]
[null,null,null,{"$f":"IF(#REF!=$E$1,IF(#REF!=$G$1,#REF!,NA()),NA())","v":{"$error":"#REF!"}},{"$f":"IF(#REF!=$E$1,IF(#REF!=$G$1,#REF!,NA()),NA())","v":{"$error":"#REF!"}},{"$f":"IF(#REF!=$E$1,IF(#REF!=$G$1,IF(#REF!=\"\",NA(),#REF!),NA()),NA())","v":{"$error":"#REF!"}},{"$f":"IF(#REF!=$E$1,IF(#REF!=$G$1,IF(#REF!=\"\",NA(),#REF!),NA()),NA())","v":{"$error":"#REF!"}},{"$error":"#REF!"},{"$error":"#REF!"}]
[null,null,null,{"$f":"IF(#REF!=$E$1,IF(#REF!=$G$1,#REF!,NA()),NA())","v":{"$error":"#REF!"}},{"$f":"IF(#REF!=$E$1,IF(#REF!=$G$1,#REF!,NA()),NA())","v":{"$error":"#REF!"}},{"$f":"IF(#REF!=$E$1,IF(#REF!=$G$1,IF(#REF!=\"\",NA(),#REF!),NA()),NA())","v":{"$error":"#REF!"}},{"$f":"IF(#REF!=$E$1,IF(#REF!=$G$1,IF(#REF!=\"\",NA(),#REF!),NA()),NA())","v":{"$error":"#REF!"}},{"$error":"#REF!"},{"$error":"#REF!"}]
[null,null,null,{"$f":"IF(#REF!=$E$1,IF(#REF!=$G$1,#REF!,NA()),NA())","v":{"$error":"#REF!"}},{"$f":"IF(#REF!=$E$1,IF(#REF!=$G$1,#REF!,NA()),NA())","v":{"$error":"#REF!"}},{"$f":"IF(#REF!=$E$1,IF(#REF!=$G$1,IF(#REF!=\"\",NA(),#REF!),NA()),NA())","v":{"$error":"#REF!"}},{"$f":"IF(#REF!=$E$1,IF(#REF!=$G$1,IF(#REF!=\"\",NA(),#REF!),NA()),NA())","v":{"$error":"#REF!"}},{"$error":"#REF!"},{"$error":"#REF!"}]
[null,null,null,{"$f":"IF(#REF!=$E$1,IF(#REF!=$G$1,#REF!,NA()),NA())","v":{"$error":"#REF!"}},{"$f":"IF(#REF!=$E$1,IF(#REF!=$G$1,#REF!,NA()),NA())","v":{"$error":"#REF!"}},{"$f":"IF(#REF!=$E$1,IF(#REF!=$G$1,IF(#REF!=\"\",NA(),#REF!),NA()),NA())","v":{"$error":"#REF!"}},{"$f":"IF(#REF!=$E$1,IF(#REF!=$G$1,IF(#REF!=\"\",NA(),#REF!),NA()),NA())","v":{"$error":"#REF!"}},{"$error":"#REF!"},{"$error":"#REF!"}]
[null,null,null,{"$f":"IF(#REF!=$E$1,IF(#REF!=$G$1,#REF!,NA()),NA())","v":{"$error":"#REF!"}},{"$f":"IF(#REF!=$E$1,IF(#REF!=$G$1,#REF!,NA()),NA())","v":{"$error":"#REF!"}},{"$f":"IF(#REF!=$E$1,IF(#REF!=$G$1,IF(#REF!=\"\",NA(),#REF!),NA()),NA())","v":{"$error":"#REF!"}},{"$f":"IF(#REF!=$E$1,IF(#REF!=$G$1,IF(#REF!=\"\",NA(),#REF!),NA()),NA())","v":{"$error":"#REF!"}},{"$error":"#REF!"},{"$error":"#REF!"}]
[null,null,null,{"$f":"IF(#REF!=$E$1,IF(#REF!=$G$1,#REF!,NA()),NA())","v":{"$error":"#REF!"}},{"$f":"IF(#REF!=$E$1,IF(#REF!=$G$1,#REF!,NA()),NA())","v":{"$error":"#REF!"}},{"$f":"IF(#REF!=$E$1,IF(#REF!=$G$1,IF(#REF!=\"\",NA(),#REF!),NA()),NA())","v":{"$error":"#REF!"}},{"$f":"IF(#REF!=$E$1,IF(#REF!=$G$1,IF(#REF!=\"\",NA(),#REF!),NA()),NA())","v":{"$error":"#REF!"}},{"$error":"#REF!"},{"$error":"#REF!"}]
[null,null,null,{"$f":"IF(#REF!=$E$1,IF(#REF!=$G$1,#REF!,NA()),NA())","v":{"$error":"#REF!"}},{"$f":"IF(#REF!=$E$1,IF(#REF!=$G$1,#REF!,NA()),NA())","v":{"$error":"#REF!"}},{"$f":"IF(#REF!=$E$1,IF(#REF!=$G$1,IF(#REF!=\"\",NA(),#REF!),NA()),NA())","v":{"$error":"#REF!"}},{"$f":"IF(#REF!=$E$1,IF(#REF!=$G$1,IF(#REF!=\"\",NA(),#REF!),NA()),NA())","v":{"$error":"#REF!"}},{"$error":"#REF!"},{"$error":"#REF!"}]
[null,null,null,{"$f":"IF(#REF!=$E$1,IF(#REF!=$G$1,#REF!,NA()),NA())","v":{"$error":"#REF!"}},{"$f":"IF(#REF!=$E$1,IF(#REF!=$G$1,#REF!,NA()),NA())","v":{"$error":"#REF!"}},{"$f":"IF(#REF!=$E$1,IF(#REF!=$G$1,IF(#REF!=\"\",NA(),#REF!),NA()),NA())","v":{"$error":"#REF!"}},{"$f":"IF(#REF!=$E$1,IF(#REF!=$G$1,IF(#REF!=\"\",NA(),#REF!),NA()),NA())","v":{"$error":"#REF!"}},{"$error":"#REF!"},{"$error":"#REF!"}]
[null,null,null,{"$f":"IF(#REF!=$E$1,IF(#REF!=$G$1,#REF!,NA()),NA())","v":{"$error":"#REF!"}},{"$f":"IF(#REF!=$E$1,IF(#REF!=$G$1,#REF!,NA()),NA())","v":{"$error":"#REF!"}},{"$f":"IF(#REF!=$E$1,IF(#REF!=$G$1,IF(#REF!=\"\",NA(),#REF!),NA()),NA())","v":{"$error":"#REF!"}},{"$f":"IF(#REF!=$E$1,IF(#REF!=$G$1,IF(#REF!=\"\",NA(),#REF!),NA()),NA())","v":{"$error":"#REF!"}},{"$error":"#REF!"},{"$error":"#REF!"}]
[null,null,null,{"$f":"IF(#REF!=$E$1,IF(#REF!=$G$1,#REF!,NA()),NA())","v":{"$error":"#REF!"}},{"$f":"IF(#REF!=$E$1,IF(#REF!=$G$1,#REF!,NA()),NA())","v":{"$error":"#REF!"}},{"$f":"IF(#REF!=$E$1,IF(#REF!=$G$1,IF(#REF!=\"\",NA(),#REF!),NA()),NA())","v":{"$error":"#REF!"}},{"$f":"IF(#REF!=$E$1,IF(#REF!=$G$1,IF(#REF!=\"\",NA(),#REF!),NA()),NA())","v":{"$error":"#REF!"}},{"$error":"#REF!"},{"$error":"#REF!"}]
[null,null,null,{"$f":"IF(#REF!=$E$1,IF(#REF!=$G$1,#REF!,NA()),NA())","v":{"$error":"#REF!"}},{"$f":"IF(#REF!=$E$1,IF(#REF!=$G$1,#REF!,NA()),NA())","v":{"$error":"#REF!"}},{"$f":"IF(#REF!=$E$1,IF(#REF!=$G$1,IF(#REF!=\"\",NA(),#REF!),NA()),NA())","v":{"$error":"#REF!"}},{"$f":"IF(#REF!=$E$1,IF(#REF!=$G$1,IF(#REF!=\"\",NA(),#REF!),NA()),NA())","v":{"$error":"#REF!"}},{"$error":"#REF!"},{"$error":"#REF!"}]
[null,null,null,{"$f":"IF(#REF!=$E$1,IF(#REF!=$G$1,#REF!,NA()),NA())","v":{"$error":"#REF!"}},{"$f":"IF(#REF!=$E$1,IF(#REF!=$G$1,#REF!,NA()),NA())","v":{"$error":"#REF!"}},{"$f":"IF(#REF!=$E$1,IF(#REF!=$G$1,IF(#REF!=\"\",NA(),#REF!),NA()),NA())","v":{"$error":"#REF!"}},{"$f":"IF(#REF!=$E$1,IF(#REF!=$G$1,IF(#REF!=\"\",NA(),#REF!),NA()),NA())","v":{"$error":"#REF!"}},{"$error":"#REF!"},{"$error":"#REF!"}]
[null,null,null,{"$f":"IF(#REF!=$E$1,IF(#REF!=$G$1,#REF!,NA()),NA())","v":{"$error":"#REF!"}},{"$f":"IF(#REF!=$E$1,IF(#REF!=$G$1,#REF!,NA()),NA())","v":{"$error":"#REF!"}},{"$f":"IF(#REF!=$E$1,IF(#REF!=$G$1,IF(#REF!=\"\",NA(),#REF!),NA()),NA())","v":{"$error":"#REF!"}},{"$f":"IF(#REF!=$E$1,IF(#REF!=$G$1,IF(#REF!=\"\",NA(),#REF!),NA()),NA())","v":{"$error":"#REF!"}},{"$error":"#REF!"},{"$error":"#REF!"}]
[null,null,null,{"$f":"IF(#REF!=$E$1,IF(#REF!=$G$1,#REF!,NA()),NA())","v":{"$error":"#REF!"}},{"$f":"IF(#REF!=$E$1,IF(#REF!=$G$1,#REF!,NA()),NA())","v":{"$error":"#REF!"}},{"$f":"IF(#REF!=$E$1,IF(#REF!=$G$1,IF(#REF!=\"\",NA(),#REF!),NA()),NA())","v":{"$error":"#REF!"}},{"$f":"IF(#REF!=$E$1,IF(#REF!=$G$1,IF(#REF!=\"\",NA(),#REF!),NA()),NA())","v":{"$error":"#REF!"}},{"$error":"#REF!"},{"$error":"#REF!"}]
[null,null,null,{"$f":"IF(#REF!=$E$1,IF(#REF!=$G$1,#REF!,NA()),NA())","v":{"$error":"#REF!"}},{"$f":"IF(#REF!=$E$1,IF(#REF!=$G$1,#REF!,NA()),NA())","v":{"$error":"#REF!"}},{"$f":"IF(#REF!=$E$1,IF(#REF!=$G$1,IF(#REF!=\"\",NA(),#REF!),NA()),NA())","v":{"$error":"#REF!"}},{"$f":"IF(#REF!=$E$1,IF(#REF!=$G$1,IF(#REF!=\"\",NA(),#REF!),NA()),NA())","v":{"$error":"#REF!"}},{"$error":"#REF!"},{"$error":"#REF!"}]
[null,null,null,{"$f":"IF(#REF!=$E$1,IF(#REF!=$G$1,#REF!,NA()),NA())","v":{"$error":"#REF!"}},{"$f":"IF(#REF!=$E$1,IF(#REF!=$G$1,#REF!,NA()),NA())","v":{"$error":"#REF!"}},{"$f":"IF(#REF!=$E$1,IF(#REF!=$G$1,IF(#REF!=\"\",NA(),#REF!),NA()),NA())","v":{"$error":"#REF!"}},{"$f":"IF(#REF!=$E$1,IF(#REF!=$G$1,IF(#REF!=\"\",NA(),#REF!),NA()),NA())","v":{"$error":"#REF!"}},{"$error":"#REF!"},{"$error":"#REF!"}]
[null,null,null,{"$f":"IF(#REF!=$E$1,IF(#REF!=$G$1,#REF!,NA()),NA())","v":{"$error":"#REF!"}},{"$f":"IF(#REF!=$E$1,IF(#REF!=$G$1,#REF!,NA()),NA())","v":{"$error":"#REF!"}},{"$f":"IF(#REF!=$E$1,IF(#REF!=$G$1,IF(#REF!=\"\",NA(),#REF!),NA()),NA())","v":{"$error":"#REF!"}},{"$f":"IF(#REF!=$E$1,IF(#REF!=$G$1,IF(#REF!=\"\",NA(),#REF!),NA()),NA())","v":{"$error":"#REF!"}},{"$error":"#REF!"},{"$error":"#REF!"}]
[null,null,null,{"$f":"IF(#REF!=$E$1,IF(#REF!=$G$1,#REF!,NA()),NA())","v":{"$error":"#REF!"}},{"$f":"IF(#REF!=$E$1,IF(#REF!=$G$1,#REF!,NA()),NA())","v":{"$error":"#REF!"}},{"$f":"IF(#REF!=$E$1,IF(#REF!=$G$1,IF(#REF!=\"\",NA(),#REF!),NA()),NA())","v":{"$error":"#REF!"}},{"$f":"IF(#REF!=$E$1,IF(#REF!=$G$1,IF(#REF!=\"\",NA(),#REF!),NA()),NA())","v":{"$error":"#REF!"}},{"$error":"#REF!"},{"$error":"#REF!"}]
[null,null,null,{"$f":"IF(#REF!=$E$1,IF(#REF!=$G$1,#REF!,NA()),NA())","v":{"$error":"#REF!"}},{"$f":"IF(#REF!=$E$1,IF(#REF!=$G$1,#REF!,NA()),NA())","v":{"$error":"#REF!"}},{"$f":"IF(#REF!=$E$1,IF(#REF!=$G$1,IF(#REF!=\"\",NA(),#REF!),NA()),NA())","v":{"$error":"#REF!"}},{"$f":"IF(#REF!=$E$1,IF(#REF!=$G$1,IF(#REF!=\"\",NA(),#REF!),NA()),NA())","v":{"$error":"#REF!"}},{"$error":"#REF!"},{"$error":"#REF!"}]
[null,null,null,{"$f":"IF(#REF!=$E$1,IF(#REF!=$G$1,#REF!,NA()),NA())","v":{"$error":"#REF!"}},{"$f":"IF(#REF!=$E$1,IF(#REF!=$G$1,#REF!,NA()),NA())","v":{"$error":"#REF!"}},{"$f":"IF(#REF!=$E$1,IF(#REF!=$G$1,IF(#REF!=\"\",NA(),#REF!),NA()),NA())","v":{"$error":"#REF!"}},{"$f":"IF(#REF!=$E$1,IF(#REF!=$G$1,IF(#REF!=\"\",NA(),#REF!),NA()),NA())","v":{"$error":"#REF!"}},{"$error":"#REF!"},{"$error":"#REF!"}]
[null,null,null,{"$f":"IF(#REF!=$E$1,IF(#REF!=$G$1,#REF!,NA()),NA())","v":{"$error":"#REF!"}},{"$f":"IF(#REF!=$E$1,IF(#REF!=$G$1,#REF!,NA()),NA())","v":{"$error":"#REF!"}},{"$f":"IF(#REF!=$E$1,IF(#REF!=$G$1,IF(#REF!=\"\",NA(),#REF!),NA()),NA())","v":{"$error":"#REF!"}},{"$f":"IF(#REF!=$E$1,IF(#REF!=$G$1,IF(#REF!=\"\",NA(),#REF!),NA()),NA())","v":{"$error":"#REF!"}},{"$error":"#REF!"},{"$error":"#REF!"}]
[null,null,null,{"$f":"IF(#REF!=$E$1,IF(#REF!=$G$1,#REF!,NA()),NA())","v":{"$error":"#REF!"}},{"$f":"IF(#REF!=$E$1,IF(#REF!=$G$1,#REF!,NA()),NA())","v":{"$error":"#REF!"}},{"$f":"IF(#REF!=$E$1,IF(#REF!=$G$1,IF(#REF!=\"\",NA(),#REF!),NA()),NA())","v":{"$error":"#REF!"}},{"$f":"IF(#REF!=$E$1,IF(#REF!=$G$1,IF(#REF!=\"\",NA(),#REF!),NA()),NA())","v":{"$error":"#REF!"}},{"$error":"#REF!"},{"$error":"#REF!"}]
[null,null,null,{"$f":"IF(#REF!=$E$1,IF(#REF!=$G$1,#REF!,NA()),NA())","v":{"$error":"#REF!"}},{"$f":"IF(#REF!=$E$1,IF(#REF!=$G$1,#REF!,NA()),NA())","v":{"$error":"#REF!"}},{"$f":"IF(#REF!=$E$1,IF(#REF!=$G$1,IF(#REF!=\"\",NA(),#REF!),NA()),NA())","v":{"$error":"#REF!"}},{"$f":"IF(#REF!=$E$1,IF(#REF!=$G$1,IF(#REF!=\"\",NA(),#REF!),NA()),NA())","v":{"$error":"#REF!"}},{"$error":"#REF!"},{"$error":"#REF!"}]
[null,null,null,{"$f":"IF(#REF!=$E$1,IF(#REF!=$G$1,#REF!,NA()),NA())","v":{"$error":"#REF!"}},{"$f":"IF(#REF!=$E$1,IF(#REF!=$G$1,#REF!,NA()),NA())","v":{"$error":"#REF!"}},{"$f":"IF(#REF!=$E$1,IF(#REF!=$G$1,IF(#REF!=\"\",NA(),#REF!),NA()),NA())","v":{"$error":"#REF!"}},{"$f":"IF(#REF!=$E$1,IF(#REF!=$G$1,IF(#REF!=\"\",NA(),#REF!),NA()),NA())","v":{"$error":"#REF!"}},{"$error":"#REF!"},{"$error":"#REF!"}]
[null,null,null,{"$f":"IF(#REF!=$E$1,IF(#REF!=$G$1,#REF!,NA()),NA())","v":{"$error":"#REF!"}},{"$f":"IF(#REF!=$E$1,IF(#REF!=$G$1,#REF!,NA()),NA())","v":{"$error":"#REF!"}},{"$f":"IF(#REF!=$E$1,IF(#REF!=$G$1,IF(#REF!=\"\",NA(),#REF!),NA()),NA())","v":{"$error":"#REF!"}},{"$f":"IF(#REF!=$E$1,IF(#REF!=$G$1,IF(#REF!=\"\",NA(),#REF!),NA()),NA())","v":{"$error":"#REF!"}},{"$error":"#REF!"},{"$error":"#REF!"}]
[null,null,null,{"$f":"IF(#REF!=$E$1,IF(#REF!=$G$1,#REF!,NA()),NA())","v":{"$error":"#REF!"}},{"$f":"IF(#REF!=$E$1,IF(#REF!=$G$1,#REF!,NA()),NA())","v":{"$error":"#REF!"}},{"$f":"IF(#REF!=$E$1,IF(#REF!=$G$1,IF(#REF!=\"\",NA(),#REF!),NA()),NA())","v":{"$error":"#REF!"}},{"$f":"IF(#REF!=$E$1,IF(#REF!=$G$1,IF(#REF!=\"\",NA(),#REF!),NA()),NA())","v":{"$error":"#REF!"}},{"$error":"#REF!"},{"$error":"#REF!"}]
[null,null,null,{"$f":"IF(#REF!=$E$1,IF(#REF!=$G$1,#REF!,NA()),NA())","v":{"$error":"#REF!"}},{"$f":"IF(#REF!=$E$1,IF(#REF!=$G$1,#REF!,NA()),NA())","v":{"$error":"#REF!"}},{"$f":"IF(#REF!=$E$1,IF(#REF!=$G$1,IF(#REF!=\"\",NA(),#REF!),NA()),NA())","v":{"$error":"#REF!"}},{"$f":"IF(#REF!=$E$1,IF(#REF!=$G$1,IF(#REF!=\"\",NA(),#REF!),NA()),NA())","v":{"$error":"#REF!"}},{"$error":"#REF!"},{"$error":"#REF!"}]
[null,null,null,{"$f":"IF(#REF!=$E$1,IF(#REF!=$G$1,#REF!,NA()),NA())","v":{"$error":"#REF!"}},{"$f":"IF(#REF!=$E$1,IF(#REF!=$G$1,#REF!,NA()),NA())","v":{"$error":"#REF!"}},{"$f":"IF(#REF!=$E$1,IF(#REF!=$G$1,IF(#REF!=\"\",NA(),#REF!),NA()),NA())","v":{"$error":"#REF!"}},{"$f":"IF(#REF!=$E$1,IF(#REF!=$G$1,IF(#REF!=\"\",NA(),#REF!),NA()),NA())","v":{"$error":"#REF!"}},{"$error":"#REF!"},{"$error":"#REF!"}]
[null,null,null,{"$f":"IF(#REF!=$E$1,IF(#REF!=$G$1,#REF!,NA()),NA())","v":{"$error":"#REF!"}},{"$f":"IF(#REF!=$E$1,IF(#REF!=$G$1,#REF!,NA()),NA())","v":{"$error":"#REF!"}},{"$f":"IF(#REF!=$E$1,IF(#REF!=$G$1,IF(#REF!=\"\",NA(),#REF!),NA()),NA())","v":{"$error":"#REF!"}},{"$f":"IF(#REF!=$E$1,IF(#REF!=$G$1,IF(#REF!=\"\",NA(),#REF!),NA()),NA())","v":{"$error":"#REF!"}},{"$error":"#REF!"},{"$error":"#REF!"}]
[null,null,null,{"$f":"IF(#REF!=$E$1,IF(#REF!=$G$1,#REF!,NA()),NA())","v":{"$error":"#REF!"}},{"$f":"IF(#REF!=$E$1,IF(#REF!=$G$1,#REF!,NA()),NA())","v":{"$error":"#REF!"}},{"$f":"IF(#REF!=$E$1,IF(#REF!=$G$1,IF(#REF!=\"\",NA(),#REF!),NA()),NA())","v":{"$error":"#REF!"}},{"$f":"IF(#REF!=$E$1,IF(#REF!=$G$1,IF(#REF!=\"\",NA(),#REF!),NA()),NA())","v":{"$error":"#REF!"}},{"$error":"#REF!"},{"$error":"#REF!"}]
[null,null,null,{"$f":"IF(#REF!=$E$1,IF(#REF!=$G$1,#REF!,NA()),NA())","v":{"$error":"#REF!"}},{"$f":"IF(#REF!=$E$1,IF(#REF!=$G$1,#REF!,NA()),NA())","v":{"$error":"#REF!"}},{"$f":"IF(#REF!=$E$1,IF(#REF!=$G$1,IF(#REF!=\"\",NA(),#REF!),NA()),NA())","v":{"$error":"#REF!"}},{"$f":"IF(#REF!=$E$1,IF(#REF!=$G$1,IF(#REF!=\"\",NA(),#REF!),NA()),NA())","v":{"$error":"#REF!"}},{"$error":"#REF!"},{"$error":"#REF!"}]
[null,null,null,{"$f":"IF(#REF!=$E$1,IF(#REF!=$G$1,#REF!,NA()),NA())","v":{"$error":"#REF!"}},{"$f":"IF(#REF!=$E$1,IF(#REF!=$G$1,#REF!,NA()),NA())","v":{"$error":"#REF!"}},{"$f":"IF(#REF!=$E$1,IF(#REF!=$G$1,IF(#REF!=\"\",NA(),#REF!),NA()),NA())","v":{"$error":"#REF!"}},{"$f":"IF(#REF!=$E$1,IF(#REF!=$G$1,IF(#REF!=\"\",NA(),#REF!),NA()),NA())","v":{"$error":"#REF!"}},{"$error":"#REF!"},{"$error":"#REF!"}]
[null,null,null,{"$f":"IF(#REF!=$E$1,IF(#REF!=$G$1,#REF!,NA()),NA())","v":{"$error":"#REF!"}},{"$f":"IF(#REF!=$E$1,IF(#REF!=$G$1,#REF!,NA()),NA())","v":{"$error":"#REF!"}},{"$f":"IF(#REF!=$E$1,IF(#REF!=$G$1,IF(#REF!=\"\",NA(),#REF!),NA()),NA())","v":{"$error":"#REF!"}},{"$f":"IF(#REF!=$E$1,IF(#REF!=$G$1,IF(#REF!=\"\",NA(),#REF!),NA()),NA())","v":{"$error":"#REF!"}},{"$error":"#REF!"},{"$error":"#REF!"}]
[null,null,null,{"$f":"IF(#REF!=$E$1,IF(#REF!=$G$1,#REF!,NA()),NA())","v":{"$error":"#REF!"}},{"$f":"IF(#REF!=$E$1,IF(#REF!=$G$1,#REF!,NA()),NA())","v":{"$error":"#REF!"}},{"$f":"IF(#REF!=$E$1,IF(#REF!=$G$1,IF(#REF!=\"\",NA(),#REF!),NA()),NA())","v":{"$error":"#REF!"}},{"$f":"IF(#REF!=$E$1,IF(#REF!=$G$1,IF(#REF!=\"\",NA(),#REF!),NA()),NA())","v":{"$error":"#REF!"}},{"$error":"#REF!"},{"$error":"#REF!"}]
[null,null,null,{"$f":"IF(#REF!=$E$1,IF(#REF!=$G$1,#REF!,NA()),NA())","v":{"$error":"#REF!"}},{"$f":"IF(#REF!=$E$1,IF(#REF!=$G$1,#REF!,NA()),NA())","v":{"$error":"#REF!"}},{"$f":"IF(#REF!=$E$1,IF(#REF!=$G$1,IF(#REF!=\"\",NA(),#REF!),NA()),NA())","v":{"$error":"#REF!"}},{"$f":"IF(#REF!=$E$1,IF(#REF!=$G$1,IF(#REF!=\"\",NA(),#REF!),NA()),NA())","v":{"$error":"#REF!"}},{"$error":"#REF!"},{"$error":"#REF!"}]
[null,null,null,{"$f":"IF(#REF!=$E$1,IF(#REF!=$G$1,#REF!,NA()),NA())","v":{"$error":"#REF!"}},{"$f":"IF(#REF!=$E$1,IF(#REF!=$G$1,#REF!,NA()),NA())","v":{"$error":"#REF!"}},{"$f":"IF(#REF!=$E$1,IF(#REF!=$G$1,IF(#REF!=\"\",NA(),#REF!),NA()),NA())","v":{"$error":"#REF!"}},{"$f":"IF(#REF!=$E$1,IF(#REF!=$G$1,IF(#REF!=\"\",NA(),#REF!),NA()),NA())","v":{"$error":"#REF!"}},{"$error":"#REF!"},{"$error":"#REF!"}]
[null,null,null,{"$f":"IF(#REF!=$E$1,IF(#REF!=$G$1,#REF!,NA()),NA())","v":{"$error":"#REF!"}},{"$f":"IF(#REF!=$E$1,IF(#REF!=$G$1,#REF!,NA()),NA())","v":{"$error":"#REF!"}},{"$f":"IF(#REF!=$E$1,IF(#REF!=$G$1,IF(#REF!=\"\",NA(),#REF!),NA()),NA())","v":{"$error":"#REF!"}},{"$f":"IF(#REF!=$E$1,IF(#REF!=$G$1,IF(#REF!=\"\",NA(),#REF!),NA()),NA())","v":{"$error":"#REF!"}},{"$error":"#REF!"},{"$error":"#REF!"}]
[null,null,null,{"$f":"IF(#REF!=$E$1,IF(#REF!=$G$1,#REF!,NA()),NA())","v":{"$error":"#REF!"}},{"$f":"IF(#REF!=$E$1,IF(#REF!=$G$1,#REF!,NA()),NA())","v":{"$error":"#REF!"}},{"$f":"IF(#REF!=$E$1,IF(#REF!=$G$1,IF(#REF!=\"\",NA(),#REF!),NA()),NA())","v":{"$error":"#REF!"}},{"$f":"IF(#REF!=$E$1,IF(#REF!=$G$1,IF(#REF!=\"\",NA(),#REF!),NA()),NA())","v":{"$error":"#REF!"}},{"$error":"#REF!"},{"$error":"#REF!"}]
[null,null,null,{"$f":"IF(#REF!=$E$1,IF(#REF!=$G$1,#REF!,NA()),NA())","v":{"$error":"#REF!"}},{"$f":"IF(#REF!=$E$1,IF(#REF!=$G$1,#REF!,NA()),NA())","v":{"$error":"#REF!"}},{"$f":"IF(#REF!=$E$1,IF(#REF!=$G$1,IF(#REF!=\"\",NA(),#REF!),NA()),NA())","v":{"$error":"#REF!"}},{"$f":"IF(#REF!=$E$1,IF(#REF!=$G$1,IF(#REF!=\"\",NA(),#REF!),NA()),NA())","v":{"$error":"#REF!"}},{"$error":"#REF!"},{"$error":"#REF!"}]
[null,null,null,{"$f":"IF(#REF!=$E$1,IF(#REF!=$G$1,#REF!,NA()),NA())","v":{"$error":"#REF!"}},{"$f":"IF(#REF!=$E$1,IF(#REF!=$G$1,#REF!,NA()),NA())","v":{"$error":"#REF!"}},{"$f":"IF(#REF!=$E$1,IF(#REF!=$G$1,IF(#REF!=\"\",NA(),#REF!),NA()),NA())","v":{"$error":"#REF!"}},{"$f":"IF(#REF!=$E$1,IF(#REF!=$G$1,IF(#REF!=\"\",NA(),#REF!),NA()),NA())","v":{"$error":"#REF!"}},{"$error":"#REF!"},{"$error":"#REF!"}]
[null,null,null,{"$f":"IF(#REF!=$E$1,IF(#REF!=$G$1,#REF!,NA()),NA())","v":{"$error":"#REF!"}},{"$f":"IF(#REF!=$E$1,IF(#REF!=$G$1,#REF!,NA()),NA())","v":{"$error":"#REF!"}},{"$f":"IF(#REF!=$E$1,IF(#REF!=$G$1,IF(#REF!=\"\",NA(),#REF!),NA()),NA())","v":{"$error":"#REF!"}},{"$f":"IF(#REF!=$E$1,IF(#REF!=$G$1,IF(#REF!=\"\",NA(),#REF!),NA()),NA())","v":{"$error":"#REF!"}},{"$error":"#REF!"},{"$error":"#REF!"}]
[null,null,null,{"$f":"IF(#REF!=$E$1,IF(#REF!=$G$1,#REF!,NA()),NA())","v":{"$error":"#REF!"}},{"$f":"IF(#REF!=$E$1,IF(#REF!=$G$1,#REF!,NA()),NA())","v":{"$error":"#REF!"}},{"$f":"IF(#REF!=$E$1,IF(#REF!=$G$1,IF(#REF!=\"\",NA(),#REF!),NA()),NA())","v":{"$error":"#REF!"}},{"$f":"IF(#REF!=$E$1,IF(#REF!=$G$1,IF(#REF!=\"\",NA(),#REF!),NA()),NA())","v":{"$error":"#REF!"}},{"$error":"#REF!"},{"$error":"#REF!"}]
[null,null,null,{"$f":"IF(#REF!=$E$1,IF(#REF!=$G$1,#REF!,NA()),NA())","v":{"$error":"#REF!"}},{"$f":"IF(#REF!=$E$1,IF(#REF!=$G$1,#REF!,NA()),NA())","v":{"$error":"#REF!"}},{"$f":"IF(#REF!=$E$1,IF(#REF!=$G$1,IF(#REF!=\"\",NA(),#REF!),NA()),NA())","v":{"$error":"#REF!"}},{"$f":"IF(#REF!=$E$1,IF(#REF!=$G$1,IF(#REF!=\"\",NA(),#REF!),NA()),NA())","v":{"$error":"#REF!"}},{"$error":"#REF!"},{"$error":"#REF!"}]
[null,null,null,{"$f":"IF(#REF!=$E$1,IF(#REF!=$G$1,#REF!,NA()),NA())","v":{"$error":"#REF!"}},{"$f":"IF(#REF!=$E$1,IF(#REF!=$G$1,#REF!,NA()),NA())","v":{"$error":"#REF!"}},{"$f":"IF(#REF!=$E$1,IF(#REF!=$G$1,IF(#REF!=\"\",NA(),#REF!),NA()),NA())","v":{"$error":"#REF!"}},{"$f":"IF(#REF!=$E$1,IF(#REF!=$G$1,IF(#REF!=\"\",NA(),#REF!),NA()),NA())","v":{"$error":"#REF!"}},{"$error":"#REF!"},{"$error":"#REF!"}]
[null,null,null,{"$f":"IF(#REF!=$E$1,IF(#REF!=$G$1,#REF!,NA()),NA())","v":{"$error":"#REF!"}},{"$f":"IF(#REF!=$E$1,IF(#REF!=$G$1,#REF!,NA()),NA())","v":{"$error":"#REF!"}},{"$f":"IF(#REF!=$E$1,IF(#REF!=$G$1,IF(#REF!=\"\",NA(),#REF!),NA()),NA())","v":{"$error":"#REF!"}},{"$f":"IF(#REF!=$E$1,IF(#REF!=$G$1,IF(#REF!=\"\",NA(),#REF!),NA()),NA())","v":{"$error":"#REF!"}},{"$error":"#REF!"},{"$error":"#REF!"}]
[null,null,null,{"$f":"IF(#REF!=$E$1,IF(#REF!=$G$1,#REF!,NA()),NA())","v":{"$error":"#REF!"}},{"$f":"IF(#REF!=$E$1,IF(#REF!=$G$1,#REF!,NA()),NA())","v":{"$error":"#REF!"}},{"$f":"IF(#REF!=$E$1,IF(#REF!=$G$1,IF(#REF!=\"\",NA(),#REF!),NA()),NA())","v":{"$error":"#REF!"}},{"$f":"IF(#REF!=$E$1,IF(#REF!=$G$1,IF(#REF!=\"\",NA(),#REF!),NA()),NA())","v":{"$error":"#REF!"}},{"$error":"#REF!"},{"$error":"#REF!"}]
[null,null,null,{"$f":"IF(#REF!=$E$1,IF(#REF!=$G$1,#REF!,NA()),NA())","v":{"$error":"#REF!"}},{"$f":"IF(#REF!=$E$1,IF(#REF!=$G$1,#REF!,NA()),NA())","v":{"$error":"#REF!"}},{"$f":"IF(#REF!=$E$1,IF(#REF!=$G$1,IF(#REF!=\"\",NA(),#REF!),NA()),NA())","v":{"$error":"#REF!"}},{"$f":"IF(#REF!=$E$1,IF(#REF!=$G$1,IF(#REF!=\"\",NA(),#REF!),NA()),NA())","v":{"$error":"#REF!"}},{"$error":"#REF!"},{"$error":"#REF!"}]
[null,null,null,{"$f":"IF(#REF!=$E$1,IF(#REF!=$G$1,#REF!,NA()),NA())","v":{"$error":"#REF!"}},{"$f":"IF(#REF!=$E$1,IF(#REF!=$G$1,#REF!,NA()),NA())","v":{"$error":"#REF!"}},{"$f":"IF(#REF!=$E$1,IF(#REF!=$G$1,IF(#REF!=\"\",NA(),#REF!),NA()),NA())","v":{"$error":"#REF!"}},{"$f":"IF(#REF!=$E$1,IF(#REF!=$G$1,IF(#REF!=\"\",NA(),#REF!),NA()),NA())","v":{"$error":"#REF!"}},{"$error":"#REF!"},{"$error":"#REF!"}]
[null,null,null,{"$f":"IF(#REF!=$E$1,IF(#REF!=$G$1,#REF!,NA()),NA())","v":{"$error":"#REF!"}},{"$f":"IF(#REF!=$E$1,IF(#REF!=$G$1,#REF!,NA()),NA())","v":{"$error":"#REF!"}},{"$f":"IF(#REF!=$E$1,IF(#REF!=$G$1,IF(#REF!=\"\",NA(),#REF!),NA()),NA())","v":{"$error":"#REF!"}},{"$f":"IF(#REF!=$E$1,IF(#REF!=$G$1,IF(#REF!=\"\",NA(),#REF!),NA()),NA())","v":{"$error":"#REF!"}},{"$error":"#REF!"},{"$error":"#REF!"}]
[null,null,null,{"$f":"IF(#REF!=$E$1,IF(#REF!=$G$1,#REF!,NA()),NA())","v":{"$error":"#REF!"}},{"$f":"IF(#REF!=$E$1,IF(#REF!=$G$1,#REF!,NA()),NA())","v":{"$error":"#REF!"}},{"$f":"IF(#REF!=$E$1,IF(#REF!=$G$1,IF(#REF!=\"\",NA(),#REF!),NA()),NA())","v":{"$error":"#REF!"}},{"$f":"IF(#REF!=$E$1,IF(#REF!=$G$1,IF(#REF!=\"\",NA(),#REF!),NA()),NA())","v":{"$error":"#REF!"}},{"$error":"#REF!"},{"$error":"#REF!"}]
[null,null,null,{"$f":"IF(#REF!=$E$1,IF(#REF!=$G$1,#REF!,NA()),NA())","v":{"$error":"#REF!"}},{"$f":"IF(#REF!=$E$1,IF(#REF!=$G$1,#REF!,NA()),NA())","v":{"$error":"#REF!"}},{"$f":"IF(#REF!=$E$1,IF(#REF!=$G$1,IF(#REF!=\"\",NA(),#REF!),NA()),NA())","v":{"$error":"#REF!"}},{"$f":"IF(#REF!=$E$1,IF(#REF!=$G$1,IF(#REF!=\"\",NA(),#REF!),NA()),NA())","v":{"$error":"#REF!"}},{"$error":"#REF!"},{"$error":"#REF!"}]
[null,null,null,{"$f":"IF(#REF!=$E$1,IF(#REF!=$G$1,#REF!,NA()),NA())","v":{"$error":"#REF!"}},{"$f":"IF(#REF!=$E$1,IF(#REF!=$G$1,#REF!,NA()),NA())","v":{"$error":"#REF!"}},{"$f":"IF(#REF!=$E$1,IF(#REF!=$G$1,IF(#REF!=\"\",NA(),#REF!),NA()),NA())","v":{"$error":"#REF!"}},{"$f":"IF(#REF!=$E$1,IF(#REF!=$G$1,IF(#REF!=\"\",NA(),#REF!),NA()),NA())","v":{"$error":"#REF!"}},{"$error":"#REF!"},{"$error":"#REF!"}]
[null,null,null,{"$f":"IF(#REF!=$E$1,IF(#REF!=$G$1,#REF!,NA()),NA())","v":{"$error":"#REF!"}},{"$f":"IF(#REF!=$E$1,IF(#REF!=$G$1,#REF!,NA()),NA())","v":{"$error":"#REF!"}},{"$f":"IF(#REF!=$E$1,IF(#REF!=$G$1,IF(#REF!=\"\",NA(),#REF!),NA()),NA())","v":{"$error":"#REF!"}},{"$f":"IF(#REF!=$E$1,IF(#REF!=$G$1,IF(#REF!=\"\",NA(),#REF!),NA()),NA())","v":{"$error":"#REF!"}},{"$error":"#REF!"},{"$error":"#REF!"}]
[null,null,null,{"$f":"IF(#REF!=$E$1,IF(#REF!=$G$1,#REF!,NA()),NA())","v":{"$error":"#REF!"}},{"$f":"IF(#REF!=$E$1,IF(#REF!=$G$1,#REF!,NA()),NA())","v":{"$error":"#REF!"}},{"$f":"IF(#REF!=$E$1,IF(#REF!=$G$1,IF(#REF!=\"\",NA(),#REF!),NA()),NA())","v":{"$error":"#REF!"}},{"$f":"IF(#REF!=$E$1,IF(#REF!=$G$1,IF(#REF!=\"\",NA(),#REF!),NA()),NA())","v":{"$error":"#REF!"}},{"$error":"#REF!"},{"$error":"#REF!"}]
[null,null,null,{"$f":"IF(#REF!=$E$1,IF(#REF!=$G$1,#REF!,NA()),NA())","v":{"$error":"#REF!"}},{"$f":"IF(#REF!=$E$1,IF(#REF!=$G$1,#REF!,NA()),NA())","v":{"$error":"#REF!"}},{"$f":"IF(#REF!=$E$1,IF(#REF!=$G$1,IF(#REF!=\"\",NA(),#REF!),NA()),NA())","v":{"$error":"#REF!"}},{"$f":"IF(#REF!=$E$1,IF(#REF!=$G$1,IF(#REF!=\"\",NA(),#REF!),NA()),NA())","v":{"$error":"#REF!"}},{"$error":"#REF!"},{"$error":"#REF!"}]
[null,null,null,{"$f":"IF(#REF!=$E$1,IF(#REF!=$G$1,#REF!,NA()),NA())","v":{"$error":"#REF!"}},{"$f":"IF(#REF!=$E$1,IF(#REF!=$G$1,#REF!,NA()),NA())","v":{"$error":"#REF!"}},{"$f":"IF(#REF!=$E$1,IF(#REF!=$G$1,IF(#REF!=\"\",NA(),#REF!),NA()),NA())","v":{"$error":"#REF!"}},{"$f":"IF(#REF!=$E$1,IF(#REF!=$G$1,IF(#REF!=\"\",NA(),#REF!),NA()),NA())","v":{"$error":"#REF!"}},{"$error":"#REF!"},{"$error":"#REF!"}]
[null,null,null,{"$f":"IF(#REF!=$E$1,IF(#REF!=$G$1,#REF!,NA()),NA())","v":{"$error":"#REF!"}},{"$f":"IF(#REF!=$E$1,IF(#REF!=$G$1,#REF!,NA()),NA())","v":{"$error":"#REF!"}},{"$f":"IF(#REF!=$E$1,IF(#REF!=$G$1,IF(#REF!=\"\",NA(),#REF!),NA()),NA())","v":{"$error":"#REF!"}},{"$f":"IF(#REF!=$E$1,IF(#REF!=$G$1,IF(#REF!=\"\",NA(),#REF!),NA()),NA())","v":{"$error":"#REF!"}},{"$error":"#REF!"},{"$error":"#REF!"}]
[null,null,null,{"$f":"IF(#REF!=$E$1,IF(#REF!=$G$1,#REF!,NA()),NA())","v":{"$error":"#REF!"}},{"$f":"IF(#REF!=$E$1,IF(#REF!=$G$1,#REF!,NA()),NA())","v":{"$error":"#REF!"}},{"$f":"IF(#REF!=$E$1,IF(#REF!=$G$1,IF(#REF!=\"\",NA(),#REF!),NA()),NA())","v":{"$error":"#REF!"}},{"$f":"IF(#REF!=$E$1,IF(#REF!=$G$1,IF(#REF!=\"\",NA(),#REF!),NA()),NA())","v":{"$error":"#REF!"}},{"$error":"#REF!"},{"$error":"#REF!"}]
[null,null,null,{"$f":"IF(#REF!=$E$1,IF(#REF!=$G$1,#REF!,NA()),NA())","v":{"$error":"#REF!"}},{"$f":"IF(#REF!=$E$1,IF(#REF!=$G$1,#REF!,NA()),NA())","v":{"$error":"#REF!"}},{"$f":"IF(#REF!=$E$1,IF(#REF!=$G$1,IF(#REF!=\"\",NA(),#REF!),NA()),NA())","v":{"$error":"#REF!"}},{"$f":"IF(#REF!=$E$1,IF(#REF!=$G$1,IF(#REF!=\"\",NA(),#REF!),NA()),NA())","v":{"$error":"#REF!"}},{"$error":"#REF!"},{"$error":"#REF!"}]
[null,null,null,{"$f":"IF(#REF!=$E$1,IF(#REF!=$G$1,#REF!,NA()),NA())","v":{"$error":"#REF!"}},{"$f":"IF(#REF!=$E$1,IF(#REF!=$G$1,#REF!,NA()),NA())","v":{"$error":"#REF!"}},{"$f":"IF(#REF!=$E$1,IF(#REF!=$G$1,IF(#REF!=\"\",NA(),#REF!),NA()),NA())","v":{"$error":"#REF!"}},{"$f":"IF(#REF!=$E$1,IF(#REF!=$G$1,IF(#REF!=\"\",NA(),#REF!),NA()),NA())","v":{"$error":"#REF!"}},{"$f":"IF(AND(ISNUMBER(G388),F388=\"-\"),0,F388)","v":{"$error":"#REF!"}},{"$f":"IF(AND(ISNUMBER(F388),G388=\"-\"),0,G388)","v":{"$error":"#REF!"}}]
[null,null,null,{"$f":"IF(#REF!=$E$1,IF(#REF!=$G$1,#REF!,NA()),NA())","v":{"$error":"#REF!"}},{"$f":"IF(#REF!=$E$1,IF(#REF!=$G$1,#REF!,NA()),NA())","v":{"$error":"#REF!"}},{"$f":"IF(#REF!=$E$1,IF(#REF!=$G$1,IF(#REF!=\"\",NA(),#REF!),NA()),NA())","v":{"$error":"#REF!"}},{"$f":"IF(#REF!=$E$1,IF(#REF!=$G$1,IF(#REF!=\"\",NA(),#REF!),NA()),NA())","v":{"$error":"#REF!"}},{"$error":"#REF!"},{"$error":"#REF!"}]
[null,null,null,{"$f":"IF(#REF!=$E$1,IF(#REF!=$G$1,#REF!,NA()),NA())","v":{"$error":"#REF!"}},{"$f":"IF(#REF!=$E$1,IF(#REF!=$G$1,#REF!,NA()),NA())","v":{"$error":"#REF!"}},{"$f":"IF(#REF!=$E$1,IF(#REF!=$G$1,IF(#REF!=\"\",NA(),#REF!),NA()),NA())","v":{"$error":"#REF!"}},{"$f":"IF(#REF!=$E$1,IF(#REF!=$G$1,IF(#REF!=\"\",NA(),#REF!),NA()),NA())","v":{"$error":"#REF!"}},{"$error":"#REF!"},{"$error":"#REF!"}]
[null,null,null,{"$f":"IF(#REF!=$E$1,IF(#REF!=$G$1,#REF!,NA()),NA())","v":{"$error":"#REF!"}},{"$f":"IF(#REF!=$E$1,IF(#REF!=$G$1,#REF!,NA()),NA())","v":{"$error":"#REF!"}},{"$f":"IF(#REF!=$E$1,IF(#REF!=$G$1,IF(#REF!=\"\",NA(),#REF!),NA()),NA())","v":{"$error":"#REF!"}},{"$f":"IF(#REF!=$E$1,IF(#REF!=$G$1,IF(#REF!=\"\",NA(),#REF!),NA()),NA())","v":{"$error":"#REF!"}},{"$error":"#REF!"},{"$error":"#REF!"}]
[null,null,null,{"$f":"IF(#REF!=$E$1,IF(#REF!=$G$1,#REF!,NA()),NA())","v":{"$error":"#REF!"}},{"$f":"IF(#REF!=$E$1,IF(#REF!=$G$1,#REF!,NA()),NA())","v":{"$error":"#REF!"}},{"$f":"IF(#REF!=$E$1,IF(#REF!=$G$1,IF(#REF!=\"\",NA(),#REF!),NA()),NA())","v":{"$error":"#REF!"}},{"$f":"IF(#REF!=$E$1,IF(#REF!=$G$1,IF(#REF!=\"\",NA(),#REF!),NA()),NA())","v":{"$error":"#REF!"}},{"$error":"#REF!"},{"$error":"#REF!"}]
[null,null,null,{"$f":"IF(#REF!=$E$1,IF(#REF!=$G$1,#REF!,NA()),NA())","v":{"$error":"#REF!"}},{"$f":"IF(#REF!=$E$1,IF(#REF!=$G$1,#REF!,NA()),NA())","v":{"$error":"#REF!"}},{"$f":"IF(#REF!=$E$1,IF(#REF!=$G$1,IF(#REF!=\"\",NA(),#REF!),NA()),NA())","v":{"$error":"#REF!"}},{"$f":"IF(#REF!=$E$1,IF(#REF!=$G$1,IF(#REF!=\"\",NA(),#REF!),NA()),NA())","v":{"$error":"#REF!"}},{"$error":"#REF!"},{"$error":"#REF!"}]
[null,null,null,{"$f":"IF(#REF!=$E$1,IF(#REF!=$G$1,#REF!,NA()),NA())","v":{"$error":"#REF!"}},{"$f":"IF(#REF!=$E$1,IF(#REF!=$G$1,#REF!,NA()),NA())","v":{"$error":"#REF!"}},{"$f":"IF(#REF!=$E$1,IF(#REF!=$G$1,IF(#REF!=\"\",NA(),#REF!),NA()),NA())","v":{"$error":"#REF!"}},{"$f":"IF(#REF!=$E$1,IF(#REF!=$G$1,IF(#REF!=\"\",NA(),#REF!),NA()),NA())","v":{"$error":"#REF!"}},{"$error":"#REF!"},{"$error":"#REF!"}]
[null,null,null,{"$f":"IF(#REF!=$E$1,IF(#REF!=$G$1,#REF!,NA()),NA())","v":{"$error":"#REF!"}},{"$f":"IF(#REF!=$E$1,IF(#REF!=$G$1,#REF!,NA()),NA())","v":{"$error":"#REF!"}},{"$f":"IF(#REF!=$E$1,IF(#REF!=$G$1,IF(#REF!=\"\",NA(),#REF!),NA()),NA())","v":{"$error":"#REF!"}},{"$f":"IF(#REF!=$E$1,IF(#REF!=$G$1,IF(#REF!=\"\",NA(),#REF!),NA()),NA())","v":{"$error":"#REF!"}},{"$error":"#REF!"},{"$error":"#REF!"}]
[null,null,null,{"$f":"IF(#REF!=$E$1,IF(#REF!=$G$1,#REF!,NA()),NA())","v":{"$error":"#REF!"}},{"$f":"IF(#REF!=$E$1,IF(#REF!=$G$1,#REF!,NA()),NA())","v":{"$error":"#REF!"}},{"$f":"IF(#REF!=$E$1,IF(#REF!=$G$1,IF(#REF!=\"\",NA(),#REF!),NA()),NA())","v":{"$error":"#REF!"}},{"$f":"IF(#REF!=$E$1,IF(#REF!=$G$1,IF(#REF!=\"\",NA(),#REF!),NA()),NA())","v":{"$error":"#REF!"}},{"$error":"#REF!"},{"$error":"#REF!"}]
[null,null,null,{"$f":"IF(#REF!=$E$1,IF(#REF!=$G$1,#REF!,NA()),NA())","v":{"$error":"#REF!"}},{"$f":"IF(#REF!=$E$1,IF(#REF!=$G$1,#REF!,NA()),NA())","v":{"$error":"#REF!"}},{"$f":"IF(#REF!=$E$1,IF(#REF!=$G$1,IF(#REF!=\"\",NA(),#REF!),NA()),NA())","v":{"$error":"#REF!"}},{"$f":"IF(#REF!=$E$1,IF(#REF!=$G$1,IF(#REF!=\"\",NA(),#REF!),NA()),NA())","v":{"$error":"#REF!"}},{"$error":"#REF!"},{"$error":"#REF!"}]
[null,null,null,{"$f":"IF(#REF!=$E$1,IF(#REF!=$G$1,#REF!,NA()),NA())","v":{"$error":"#REF!"}},{"$f":"IF(#REF!=$E$1,IF(#REF!=$G$1,#REF!,NA()),NA())","v":{"$error":"#REF!"}},{"$f":"IF(#REF!=$E$1,IF(#REF!=$G$1,IF(#REF!=\"\",NA(),#REF!),NA()),NA())","v":{"$error":"#REF!"}},{"$f":"IF(#REF!=$E$1,IF(#REF!=$G$1,IF(#REF!=\"\",NA(),#REF!),NA()),NA())","v":{"$error":"#REF!"}},{"$error":"#REF!"},{"$error":"#REF!"}]
[null,null,null,{"$f":"IF(#REF!=$E$1,IF(#REF!=$G$1,#REF!,NA()),NA())","v":{"$error":"#REF!"}},{"$f":"IF(#REF!=$E$1,IF(#REF!=$G$1,#REF!,NA()),NA())","v":{"$error":"#REF!"}},{"$f":"IF(#REF!=$E$1,IF(#REF!=$G$1,IF(#REF!=\"\",NA(),#REF!),NA()),NA())","v":{"$error":"#REF!"}},{"$f":"IF(#REF!=$E$1,IF(#REF!=$G$1,IF(#REF!=\"\",NA(),#REF!),NA()),NA())","v":{"$error":"#REF!"}},{"$error":"#REF!"},{"$error":"#REF!"}]
[null,null,null,{"$f":"IF(#REF!=$E$1,IF(#REF!=$G$1,#REF!,NA()),NA())","v":{"$error":"#REF!"}},{"$f":"IF(#REF!=$E$1,IF(#REF!=$G$1,#REF!,NA()),NA())","v":{"$error":"#REF!"}},{"$f":"IF(#REF!=$E$1,IF(#REF!=$G$1,IF(#REF!=\"\",NA(),#REF!),NA()),NA())","v":{"$error":"#REF!"}},{"$f":"IF(#REF!=$E$1,IF(#REF!=$G$1,IF(#REF!=\"\",NA(),#REF!),NA()),NA())","v":{"$error":"#REF!"}},{"$error":"#REF!"},{"$error":"#REF!"}]
[null,null,null,{"$f":"IF(#REF!=$E$1,IF(#REF!=$G$1,#REF!,NA()),NA())","v":{"$error":"#REF!"}},{"$f":"IF(#REF!=$E$1,IF(#REF!=$G$1,#REF!,NA()),NA())","v":{"$error":"#REF!"}},{"$f":"IF(#REF!=$E$1,IF(#REF!=$G$1,IF(#REF!=\"\",NA(),#REF!),NA()),NA())","v":{"$error":"#REF!"}},{"$f":"IF(#REF!=$E$1,IF(#REF!=$G$1,IF(#REF!=\"\",NA(),#REF!),NA()),NA())","v":{"$error":"#REF!"}},{"$error":"#REF!"},{"$error":"#REF!"}]
[null,null,null,{"$f":"IF(#REF!=$E$1,IF(#REF!=$G$1,#REF!,NA()),NA())","v":{"$error":"#REF!"}},{"$f":"IF(#REF!=$E$1,IF(#REF!=$G$1,#REF!,NA()),NA())","v":{"$error":"#REF!"}},{"$f":"IF(#REF!=$E$1,IF(#REF!=$G$1,IF(#REF!=\"\",NA(),#REF!),NA()),NA())","v":{"$error":"#REF!"}},{"$f":"IF(#REF!=$E$1,IF(#REF!=$G$1,IF(#REF!=\"\",NA(),#REF!),NA()),NA())","v":{"$error":"#REF!"}},{"$error":"#REF!"},{"$error":"#REF!"}]
[null,null,null,{"$f":"IF(#REF!=$E$1,IF(#REF!=$G$1,#REF!,NA()),NA())","v":{"$error":"#REF!"}},{"$f":"IF(#REF!=$E$1,IF(#REF!=$G$1,#REF!,NA()),NA())","v":{"$error":"#REF!"}},{"$f":"IF(#REF!=$E$1,IF(#REF!=$G$1,IF(#REF!=\"\",NA(),#REF!),NA()),NA())","v":{"$error":"#REF!"}},{"$f":"IF(#REF!=$E$1,IF(#REF!=$G$1,IF(#REF!=\"\",NA(),#REF!),NA()),NA())","v":{"$error":"#REF!"}},{"$error":"#REF!"},{"$error":"#REF!"}]
[null,null,null,{"$f":"IF(#REF!=$E$1,IF(#REF!=$G$1,#REF!,NA()),NA())","v":{"$error":"#REF!"}},{"$f":"IF(#REF!=$E$1,IF(#REF!=$G$1,#REF!,NA()),NA())","v":{"$error":"#REF!"}},{"$f":"IF(#REF!=$E$1,IF(#REF!=$G$1,IF(#REF!=\"\",NA(),#REF!),NA()),NA())","v":{"$error":"#REF!"}},{"$f":"IF(#REF!=$E$1,IF(#REF!=$G$1,IF(#REF!=\"\",NA(),#REF!),NA()),NA())","v":{"$error":"#REF!"}},{"$error":"#REF!"},{"$error":"#REF!"}]
[null,null,null,{"$f":"IF(#REF!=$E$1,IF(#REF!=$G$1,#REF!,NA()),NA())","v":{"$error":"#REF!"}},{"$f":"IF(#REF!=$E$1,IF(#REF!=$G$1,#REF!,NA()),NA())","v":{"$error":"#REF!"}},{"$f":"IF(#REF!=$E$1,IF(#REF!=$G$1,IF(#REF!=\"\",NA(),#REF!),NA()),NA())","v":{"$error":"#REF!"}},{"$f":"IF(#REF!=$E$1,IF(#REF!=$G$1,IF(#REF!=\"\",NA(),#REF!),NA()),NA())","v":{"$error":"#REF!"}},{"$error":"#REF!"},{"$error":"#REF!"}]
[null,null,null,{"$f":"IF(#REF!=$E$1,IF(#REF!=$G$1,#REF!,NA()),NA())","v":{"$error":"#REF!"}},{"$f":"IF(#REF!=$E$1,IF(#REF!=$G$1,#REF!,NA()),NA())","v":{"$error":"#REF!"}},{"$f":"IF(#REF!=$E$1,IF(#REF!=$G$1,IF(#REF!=\"\",NA(),#REF!),NA()),NA())","v":{"$error":"#REF!"}},{"$f":"IF(#REF!=$E$1,IF(#REF!=$G$1,IF(#REF!=\"\",NA(),#REF!),NA()),NA())","v":{"$error":"#REF!"}},{"$error":"#REF!"},{"$error":"#REF!"}]
[null,null,null,{"$f":"IF(#REF!=$E$1,IF(#REF!=$G$1,#REF!,NA()),NA())","v":{"$error":"#REF!"}},{"$f":"IF(#REF!=$E$1,IF(#REF!=$G$1,#REF!,NA()),NA())","v":{"$error":"#REF!"}},{"$f":"IF(#REF!=$E$1,IF(#REF!=$G$1,IF(#REF!=\"\",NA(),#REF!),NA()),NA())","v":{"$error":"#REF!"}},{"$f":"IF(#REF!=$E$1,IF(#REF!=$G$1,IF(#REF!=\"\",NA(),#REF!),NA()),NA())","v":{"$error":"#REF!"}},{"$error":"#REF!"},{"$error":"#REF!"}]
[null,null,null,{"$f":"IF(#REF!=$E$1,IF(#REF!=$G$1,#REF!,NA()),NA())","v":{"$error":"#REF!"}},{"$f":"IF(#REF!=$E$1,IF(#REF!=$G$1,#REF!,NA()),NA())","v":{"$error":"#REF!"}},{"$f":"IF(#REF!=$E$1,IF(#REF!=$G$1,IF(#REF!=\"\",NA(),#REF!),NA()),NA())","v":{"$error":"#REF!"}},{"$f":"IF(#REF!=$E$1,IF(#REF!=$G$1,IF(#REF!=\"\",NA(),#REF!),NA()),NA())","v":{"$error":"#REF!"}},{"$error":"#REF!"},{"$error":"#REF!"}]
[null,null,null,{"$f":"IF(#REF!=$E$1,IF(#REF!=$G$1,#REF!,NA()),NA())","v":{"$error":"#REF!"}},{"$f":"IF(#REF!=$E$1,IF(#REF!=$G$1,#REF!,NA()),NA())","v":{"$error":"#REF!"}},{"$f":"IF(#REF!=$E$1,IF(#REF!=$G$1,IF(#REF!=\"\",NA(),#REF!),NA()),NA())","v":{"$error":"#REF!"}},{"$f":"IF(#REF!=$E$1,IF(#REF!=$G$1,IF(#REF!=\"\",NA(),#REF!),NA()),NA())","v":{"$error":"#REF!"}},{"$error":"#REF!"},{"$error":"#REF!"}]
[null,null,null,{"$f":"IF(#REF!=$E$1,IF(#REF!=$G$1,#REF!,NA()),NA())","v":{"$error":"#REF!"}},{"$f":"IF(#REF!=$E$1,IF(#REF!=$G$1,#REF!,NA()),NA())","v":{"$error":"#REF!"}},{"$f":"IF(#REF!=$E$1,IF(#REF!=$G$1,IF(#REF!=\"\",NA(),#REF!),NA()),NA())","v":{"$error":"#REF!"}},{"$f":"IF(#REF!=$E$1,IF(#REF!=$G$1,IF(#REF!=\"\",NA(),#REF!),NA()),NA())","v":{"$error":"#REF!"}},{"$error":"#REF!"},{"$error":"#REF!"}]
[null,null,null,{"$f":"IF(#REF!=$E$1,IF(#REF!=$G$1,#REF!,NA()),NA())","v":{"$error":"#REF!"}},{"$f":"IF(#REF!=$E$1,IF(#REF!=$G$1,#REF!,NA()),NA())","v":{"$error":"#REF!"}},{"$f":"IF(#REF!=$E$1,IF(#REF!=$G$1,IF(#REF!=\"\",NA(),#REF!),NA()),NA())","v":{"$error":"#REF!"}},{"$f":"IF(#REF!=$E$1,IF(#REF!=$G$1,IF(#REF!=\"\",NA(),#REF!),NA()),NA())","v":{"$error":"#REF!"}},{"$error":"#REF!"},{"$error":"#REF!"}]
[null,null,null,{"$f":"IF(#REF!=$E$1,IF(#REF!=$G$1,#REF!,NA()),NA())","v":{"$error":"#REF!"}},{"$f":"IF(#REF!=$E$1,IF(#REF!=$G$1,#REF!,NA()),NA())","v":{"$error":"#REF!"}},{"$f":"IF(#REF!=$E$1,IF(#REF!=$G$1,IF(#REF!=\"\",NA(),#REF!),NA()),NA())","v":{"$error":"#REF!"}},{"$f":"IF(#REF!=$E$1,IF(#REF!=$G$1,IF(#REF!=\"\",NA(),#REF!),NA()),NA())","v":{"$error":"#REF!"}},{"$error":"#REF!"},{"$error":"#REF!"}]
[null,null,null,{"$f":"IF(#REF!=$E$1,IF(#REF!=$G$1,#REF!,NA()),NA())","v":{"$error":"#REF!"}},{"$f":"IF(#REF!=$E$1,IF(#REF!=$G$1,#REF!,NA()),NA())","v":{"$error":"#REF!"}},{"$f":"IF(#REF!=$E$1,IF(#REF!=$G$1,IF(#REF!=\"\",NA(),#REF!),NA()),NA())","v":{"$error":"#REF!"}},{"$f":"IF(#REF!=$E$1,IF(#REF!=$G$1,IF(#REF!=\"\",NA(),#REF!),NA()),NA())","v":{"$error":"#REF!"}},{"$error":"#REF!"},{"$error":"#REF!"}]
[null,null,null,{"$f":"IF(#REF!=$E$1,IF(#REF!=$G$1,#REF!,NA()),NA())","v":{"$error":"#REF!"}},{"$f":"IF(#REF!=$E$1,IF(#REF!=$G$1,#REF!,NA()),NA())","v":{"$error":"#REF!"}},{"$f":"IF(#REF!=$E$1,IF(#REF!=$G$1,IF(#REF!=\"\",NA(),#REF!),NA()),NA())","v":{"$error":"#REF!"}},{"$f":"IF(#REF!=$E$1,IF(#REF!=$G$1,IF(#REF!=\"\",NA(),#REF!),NA()),NA())","v":{"$error":"#REF!"}},{"$error":"#REF!"},{"$error":"#REF!"}]
[null,null,null,{"$f":"IF(#REF!=$E$1,IF(#REF!=$G$1,#REF!,NA()),NA())","v":{"$error":"#REF!"}},{"$f":"IF(#REF!=$E$1,IF(#REF!=$G$1,#REF!,NA()),NA())","v":{"$error":"#REF!"}},{"$f":"IF(#REF!=$E$1,IF(#REF!=$G$1,IF(#REF!=\"\",NA(),#REF!),NA()),NA())","v":{"$error":"#REF!"}},{"$f":"IF(#REF!=$E$1,IF(#REF!=$G$1,IF(#REF!=\"\",NA(),#REF!),NA()),NA())","v":{"$error":"#REF!"}},{"$error":"#REF!"},{"$error":"#REF!"}]
[null,null,null,{"$f":"IF(#REF!=$E$1,IF(#REF!=$G$1,#REF!,NA()),NA())","v":{"$error":"#REF!"}},{"$f":"IF(#REF!=$E$1,IF(#REF!=$G$1,#REF!,NA()),NA())","v":{"$error":"#REF!"}},{"$f":"IF(#REF!=$E$1,IF(#REF!=$G$1,IF(#REF!=\"\",NA(),#REF!),NA()),NA())","v":{"$error":"#REF!"}},{"$f":"IF(#REF!=$E$1,IF(#REF!=$G$1,IF(#REF!=\"\",NA(),#REF!),NA()),NA())","v":{"$error":"#REF!"}},{"$error":"#REF!"},{"$error":"#REF!"}]
[null,null,null,{"$f":"IF(#REF!=$E$1,IF(#REF!=$G$1,#REF!,NA()),NA())","v":{"$error":"#REF!"}},{"$f":"IF(#REF!=$E$1,IF(#REF!=$G$1,#REF!,NA()),NA())","v":{"$error":"#REF!"}},{"$f":"IF(#REF!=$E$1,IF(#REF!=$G$1,IF(#REF!=\"\",NA(),#REF!),NA()),NA())","v":{"$error":"#REF!"}},{"$f":"IF(#REF!=$E$1,IF(#REF!=$G$1,IF(#REF!=\"\",NA(),#REF!),NA()),NA())","v":{"$error":"#REF!"}},{"$error":"#REF!"},{"$error":"#REF!"}]
[null,null,null,{"$f":"IF(#REF!=$E$1,IF(#REF!=$G$1,#REF!,NA()),NA())","v":{"$error":"#REF!"}},{"$f":"IF(#REF!=$E$1,IF(#REF!=$G$1,#REF!,NA()),NA())","v":{"$error":"#REF!"}},{"$f":"IF(#REF!=$E$1,IF(#REF!=$G$1,IF(#REF!=\"\",NA(),#REF!),NA()),NA())","v":{"$error":"#REF!"}},{"$f":"IF(#REF!=$E$1,IF(#REF!=$G$1,IF(#REF!=\"\",NA(),#REF!),NA()),NA())","v":{"$error":"#REF!"}},{"$error":"#REF!"},{"$error":"#REF!"}]
[null,null,null,{"$f":"IF(#REF!=$E$1,IF(#REF!=$G$1,#REF!,NA()),NA())","v":{"$error":"#REF!"}},{"$f":"IF(#REF!=$E$1,IF(#REF!=$G$1,#REF!,NA()),NA())","v":{"$error":"#REF!"}},{"$f":"IF(#REF!=$E$1,IF(#REF!=$G$1,IF(#REF!=\"\",NA(),#REF!),NA()),NA())","v":{"$error":"#REF!"}},{"$f":"IF(#REF!=$E$1,IF(#REF!=$G$1,IF(#REF!=\"\",NA(),#REF!),NA()),NA())","v":{"$error":"#REF!"}},{"$error":"#REF!"},{"$error":"#REF!"}]
[null,null,null,{"$f":"IF(#REF!=$E$1,IF(#REF!=$G$1,#REF!,NA()),NA())","v":{"$error":"#REF!"}},{"$f":"IF(#REF!=$E$1,IF(#REF!=$G$1,#REF!,NA()),NA())","v":{"$error":"#REF!"}},{"$f":"IF(#REF!=$E$1,IF(#REF!=$G$1,IF(#REF!=\"\",NA(),#REF!),NA()),NA())","v":{"$error":"#REF!"}},{"$f":"IF(#REF!=$E$1,IF(#REF!=$G$1,IF(#REF!=\"\",NA(),#REF!),NA()),NA())","v":{"$error":"#REF!"}},{"$error":"#REF!"},{"$error":"#REF!"}]
[null,null,null,{"$f":"IF(#REF!=$E$1,IF(#REF!=$G$1,#REF!,NA()),NA())","v":{"$error":"#REF!"}},{"$f":"IF(#REF!=$E$1,IF(#REF!=$G$1,#REF!,NA()),NA())","v":{"$error":"#REF!"}},{"$f":"IF(#REF!=$E$1,IF(#REF!=$G$1,IF(#REF!=\"\",NA(),#REF!),NA()),NA())","v":{"$error":"#REF!"}},{"$f":"IF(#REF!=$E$1,IF(#REF!=$G$1,IF(#REF!=\"\",NA(),#REF!),NA()),NA())","v":{"$error":"#REF!"}},{"$error":"#REF!"},{"$error":"#REF!"}]
[null,null,null,{"$f":"IF(#REF!=$E$1,IF(#REF!=$G$1,#REF!,NA()),NA())","v":{"$error":"#REF!"}},{"$f":"IF(#REF!=$E$1,IF(#REF!=$G$1,#REF!,NA()),NA())","v":{"$error":"#REF!"}},{"$f":"IF(#REF!=$E$1,IF(#REF!=$G$1,IF(#REF!=\"\",NA(),#REF!),NA()),NA())","v":{"$error":"#REF!"}},{"$f":"IF(#REF!=$E$1,IF(#REF!=$G$1,IF(#REF!=\"\",NA(),#REF!),NA()),NA())","v":{"$error":"#REF!"}},{"$error":"#REF!"},{"$error":"#REF!"}]
[null,null,null,{"$f":"IF(#REF!=$E$1,IF(#REF!=$G$1,#REF!,NA()),NA())","v":{"$error":"#REF!"}},{"$f":"IF(#REF!=$E$1,IF(#REF!=$G$1,#REF!,NA()),NA())","v":{"$error":"#REF!"}},{"$f":"IF(#REF!=$E$1,IF(#REF!=$G$1,IF(#REF!=\"\",NA(),#REF!),NA()),NA())","v":{"$error":"#REF!"}},{"$f":"IF(#REF!=$E$1,IF(#REF!=$G$1,IF(#REF!=\"\",NA(),#REF!),NA()),NA())","v":{"$error":"#REF!"}},{"$error":"#REF!"},{"$error":"#REF!"}]
[null,null,null,{"$f":"IF(#REF!=$E$1,IF(#REF!=$G$1,#REF!,NA()),NA())","v":{"$error":"#REF!"}},{"$f":"IF(#REF!=$E$1,IF(#REF!=$G$1,#REF!,NA()),NA())","v":{"$error":"#REF!"}},{"$f":"IF(#REF!=$E$1,IF(#REF!=$G$1,IF(#REF!=\"\",NA(),#REF!),NA()),NA())","v":{"$error":"#REF!"}},{"$f":"IF(#REF!=$E$1,IF(#REF!=$G$1,IF(#REF!=\"\",NA(),#REF!),NA()),NA())","v":{"$error":"#REF!"}},{"$error":"#REF!"},{"$error":"#REF!"}]
[null,null,null,{"$f":"IF(#REF!=$E$1,IF(#REF!=$G$1,#REF!,NA()),NA())","v":{"$error":"#REF!"}},{"$f":"IF(#REF!=$E$1,IF(#REF!=$G$1,#REF!,NA()),NA())","v":{"$error":"#REF!"}},{"$f":"IF(#REF!=$E$1,IF(#REF!=$G$1,IF(#REF!=\"\",NA(),#REF!),NA()),NA())","v":{"$error":"#REF!"}},{"$f":"IF(#REF!=$E$1,IF(#REF!=$G$1,IF(#REF!=\"\",NA(),#REF!),NA()),NA())","v":{"$error":"#REF!"}},{"$error":"#REF!"},{"$error":"#REF!"}]
[null,null,null,{"$f":"IF(#REF!=$E$1,IF(#REF!=$G$1,#REF!,NA()),NA())","v":{"$error":"#REF!"}},{"$f":"IF(#REF!=$E$1,IF(#REF!=$G$1,#REF!,NA()),NA())","v":{"$error":"#REF!"}},{"$f":"IF(#REF!=$E$1,IF(#REF!=$G$1,IF(#REF!=\"\",NA(),#REF!),NA()),NA())","v":{"$error":"#REF!"}},{"$f":"IF(#REF!=$E$1,IF(#REF!=$G$1,IF(#REF!=\"\",NA(),#REF!),NA()),NA())","v":{"$error":"#REF!"}},{"$error":"#REF!"},{"$error":"#REF!"}]
[null,null,null,{"$f":"IF(#REF!=$E$1,IF(#REF!=$G$1,#REF!,NA()),NA())","v":{"$error":"#REF!"}},{"$f":"IF(#REF!=$E$1,IF(#REF!=$G$1,#REF!,NA()),NA())","v":{"$error":"#REF!"}},{"$f":"IF(#REF!=$E$1,IF(#REF!=$G$1,IF(#REF!=\"\",NA(),#REF!),NA()),NA())","v":{"$error":"#REF!"}},{"$f":"IF(#REF!=$E$1,IF(#REF!=$G$1,IF(#REF!=\"\",NA(),#REF!),NA()),NA())","v":{"$error":"#REF!"}},{"$error":"#REF!"},{"$error":"#REF!"}]
[null,null,null,{"$f":"IF(#REF!=$E$1,IF(#REF!=$G$1,#REF!,NA()),NA())","v":{"$error":"#REF!"}},{"$f":"IF(#REF!=$E$1,IF(#REF!=$G$1,#REF!,NA()),NA())","v":{"$error":"#REF!"}},{"$f":"IF(#REF!=$E$1,IF(#REF!=$G$1,IF(#REF!=\"\",NA(),#REF!),NA()),NA())","v":{"$error":"#REF!"}},{"$f":"IF(#REF!=$E$1,IF(#REF!=$G$1,IF(#REF!=\"\",NA(),#REF!),NA()),NA())","v":{"$error":"#REF!"}},{"$error":"#REF!"},{"$error":"#REF!"}]
[null,null,null,{"$f":"IF(#REF!=$E$1,IF(#REF!=$G$1,#REF!,NA()),NA())","v":{"$error":"#REF!"}},{"$f":"IF(#REF!=$E$1,IF(#REF!=$G$1,#REF!,NA()),NA())","v":{"$error":"#REF!"}},{"$f":"IF(#REF!=$E$1,IF(#REF!=$G$1,IF(#REF!=\"\",NA(),#REF!),NA()),NA())","v":{"$error":"#REF!"}},{"$f":"IF(#REF!=$E$1,IF(#REF!=$G$1,IF(#REF!=\"\",NA(),#REF!),NA()),NA())","v":{"$error":"#REF!"}},{"$error":"#REF!"},{"$error":"#REF!"}]
[null,null,null,{"$f":"IF(#REF!=$E$1,IF(#REF!=$G$1,#REF!,NA()),NA())","v":{"$error":"#REF!"}},{"$f":"IF(#REF!=$E$1,IF(#REF!=$G$1,#REF!,NA()),NA())","v":{"$error":"#REF!"}},{"$f":"IF(#REF!=$E$1,IF(#REF!=$G$1,IF(#REF!=\"\",NA(),#REF!),NA()),NA())","v":{"$error":"#REF!"}},{"$f":"IF(#REF!=$E$1,IF(#REF!=$G$1,IF(#REF!=\"\",NA(),#REF!),NA()),NA())","v":{"$error":"#REF!"}},{"$error":"#REF!"},{"$error":"#REF!"}]
[null,null,null,{"$f":"IF(#REF!=$E$1,IF(#REF!=$G$1,#REF!,NA()),NA())","v":{"$error":"#REF!"}},{"$f":"IF(#REF!=$E$1,IF(#REF!=$G$1,#REF!,NA()),NA())","v":{"$error":"#REF!"}},{"$f":"IF(#REF!=$E$1,IF(#REF!=$G$1,IF(#REF!=\"\",NA(),#REF!),NA()),NA())","v":{"$error":"#REF!"}},{"$f":"IF(#REF!=$E$1,IF(#REF!=$G$1,IF(#REF!=\"\",NA(),#REF!),NA()),NA())","v":{"$error":"#REF!"}},{"$error":"#REF!"},{"$error":"#REF!"}]
[null,null,null,{"$f":"IF(#REF!=$E$1,IF(#REF!=$G$1,#REF!,NA()),NA())","v":{"$error":"#REF!"}},{"$f":"IF(#REF!=$E$1,IF(#REF!=$G$1,#REF!,NA()),NA())","v":{"$error":"#REF!"}},{"$f":"IF(#REF!=$E$1,IF(#REF!=$G$1,IF(#REF!=\"\",NA(),#REF!),NA()),NA())","v":{"$error":"#REF!"}},{"$f":"IF(#REF!=$E$1,IF(#REF!=$G$1,IF(#REF!=\"\",NA(),#REF!),NA()),NA())","v":{"$error":"#REF!"}},{"$error":"#REF!"},{"$error":"#REF!"}]
[null,null,null,{"$f":"IF(#REF!=$E$1,IF(#REF!=$G$1,#REF!,NA()),NA())","v":{"$error":"#REF!"}},{"$f":"IF(#REF!=$E$1,IF(#REF!=$G$1,#REF!,NA()),NA())","v":{"$error":"#REF!"}},{"$f":"IF(#REF!=$E$1,IF(#REF!=$G$1,IF(#REF!=\"\",NA(),#REF!),NA()),NA())","v":{"$error":"#REF!"}},{"$f":"IF(#REF!=$E$1,IF(#REF!=$G$1,IF(#REF!=\"\",NA(),#REF!),NA()),NA())","v":{"$error":"#REF!"}},{"$error":"#REF!"},{"$error":"#REF!"}]
[null,null,null,{"$f":"IF(#REF!=$E$1,IF(#REF!=$G$1,#REF!,NA()),NA())","v":{"$error":"#REF!"}},{"$f":"IF(#REF!=$E$1,IF(#REF!=$G$1,#REF!,NA()),NA())","v":{"$error":"#REF!"}},{"$f":"IF(#REF!=$E$1,IF(#REF!=$G$1,IF(#REF!=\"\",NA(),#REF!),NA()),NA())","v":{"$error":"#REF!"}},{"$f":"IF(#REF!=$E$1,IF(#REF!=$G$1,IF(#REF!=\"\",NA(),#REF!),NA()),NA())","v":{"$error":"#REF!"}},{"$error":"#REF!"},{"$error":"#REF!"}]
[null,null,null,{"$f":"IF(#REF!=$E$1,IF(#REF!=$G$1,#REF!,NA()),NA())","v":{"$error":"#REF!"}},{"$f":"IF(#REF!=$E$1,IF(#REF!=$G$1,#REF!,NA()),NA())","v":{"$error":"#REF!"}},{"$f":"IF(#REF!=$E$1,IF(#REF!=$G$1,IF(#REF!=\"\",NA(),#REF!),NA()),NA())","v":{"$error":"#REF!"}},{"$f":"IF(#REF!=$E$1,IF(#REF!=$G$1,IF(#REF!=\"\",NA(),#REF!),NA()),NA())","v":{"$error":"#REF!"}},{"$error":"#REF!"},{"$error":"#REF!"}]
[null,null,null,{"$f":"IF(#REF!=$E$1,IF(#REF!=$G$1,#REF!,NA()),NA())","v":{"$error":"#REF!"}},{"$f":"IF(#REF!=$E$1,IF(#REF!=$G$1,#REF!,NA()),NA())","v":{"$error":"#REF!"}},{"$f":"IF(#REF!=$E$1,IF(#REF!=$G$1,IF(#REF!=\"\",NA(),#REF!),NA()),NA())","v":{"$error":"#REF!"}},{"$f":"IF(#REF!=$E$1,IF(#REF!=$G$1,IF(#REF!=\"\",NA(),#REF!),NA()),NA())","v":{"$error":"#REF!"}},{"$error":"#REF!"},{"$error":"#REF!"}]
[null,null,null,{"$f":"IF(#REF!=$E$1,IF(#REF!=$G$1,#REF!,NA()),NA())","v":{"$error":"#REF!"}},{"$f":"IF(#REF!=$E$1,IF(#REF!=$G$1,#REF!,NA()),NA())","v":{"$error":"#REF!"}},{"$f":"IF(#REF!=$E$1,IF(#REF!=$G$1,IF(#REF!=\"\",NA(),#REF!),NA()),NA())","v":{"$error":"#REF!"}},{"$f":"IF(#REF!=$E$1,IF(#REF!=$G$1,IF(#REF!=\"\",NA(),#REF!),NA()),NA())","v":{"$error":"#REF!"}},{"$error":"#REF!"},{"$error":"#REF!"}]
[null,null,null,{"$f":"IF(#REF!=$E$1,IF(#REF!=$G$1,#REF!,NA()),NA())","v":{"$error":"#REF!"}},{"$f":"IF(#REF!=$E$1,IF(#REF!=$G$1,#REF!,NA()),NA())","v":{"$error":"#REF!"}},{"$f":"IF(#REF!=$E$1,IF(#REF!=$G$1,IF(#REF!=\"\",NA(),#REF!),NA()),NA())","v":{"$error":"#REF!"}},{"$f":"IF(#REF!=$E$1,IF(#REF!=$G$1,IF(#REF!=\"\",NA(),#REF!),NA()),NA())","v":{"$error":"#REF!"}},{"$error":"#REF!"},{"$error":"#REF!"}]
[null,null,null,{"$f":"IF(#REF!=$E$1,IF(#REF!=$G$1,#REF!,NA()),NA())","v":{"$error":"#REF!"}},{"$f":"IF(#REF!=$E$1,IF(#REF!=$G$1,#REF!,NA()),NA())","v":{"$error":"#REF!"}},{"$f":"IF(#REF!=$E$1,IF(#REF!=$G$1,IF(#REF!=\"\",NA(),#REF!),NA()),NA())","v":{"$error":"#REF!"}},{"$f":"IF(#REF!=$E$1,IF(#REF!=$G$1,IF(#REF!=\"\",NA(),#REF!),NA()),NA())","v":{"$error":"#REF!"}},{"$error":"#REF!"},{"$error":"#REF!"}]
[null,null,null,{"$f":"IF(#REF!=$E$1,IF(#REF!=$G$1,#REF!,NA()),NA())","v":{"$error":"#REF!"}},{"$f":"IF(#REF!=$E$1,IF(#REF!=$G$1,#REF!,NA()),NA())","v":{"$error":"#REF!"}},{"$f":"IF(#REF!=$E$1,IF(#REF!=$G$1,IF(#REF!=\"\",NA(),#REF!),NA()),NA())","v":{"$error":"#REF!"}},{"$f":"IF(#REF!=$E$1,IF(#REF!=$G$1,IF(#REF!=\"\",NA(),#REF!),NA()),NA())","v":{"$error":"#REF!"}},{"$error":"#REF!"},{"$error":"#REF!"}]
[null,null,null,{"$f":"IF(#REF!=$E$1,IF(#REF!=$G$1,#REF!,NA()),NA())","v":{"$error":"#REF!"}},{"$f":"IF(#REF!=$E$1,IF(#REF!=$G$1,#REF!,NA()),NA())","v":{"$error":"#REF!"}},{"$f":"IF(#REF!=$E$1,IF(#REF!=$G$1,IF(#REF!=\"\",NA(),#REF!),NA()),NA())","v":{"$error":"#REF!"}},{"$f":"IF(#REF!=$E$1,IF(#REF!=$G$1,IF(#REF!=\"\",NA(),#REF!),NA()),NA())","v":{"$error":"#REF!"}},{"$error":"#REF!"},{"$error":"#REF!"}]
[null,null,null,{"$f":"IF(#REF!=$E$1,IF(#REF!=$G$1,#REF!,NA()),NA())","v":{"$error":"#REF!"}},{"$f":"IF(#REF!=$E$1,IF(#REF!=$G$1,#REF!,NA()),NA())","v":{"$error":"#REF!"}},{"$f":"IF(#REF!=$E$1,IF(#REF!=$G$1,IF(#REF!=\"\",NA(),#REF!),NA()),NA())","v":{"$error":"#REF!"}},{"$f":"IF(#REF!=$E$1,IF(#REF!=$G$1,IF(#REF!=\"\",NA(),#REF!),NA()),NA())","v":{"$error":"#REF!"}},{"$error":"#REF!"},{"$error":"#REF!"}]
[null,null,null,{"$f":"IF(#REF!=$E$1,IF(#REF!=$G$1,#REF!,NA()),NA())","v":{"$error":"#REF!"}},{"$f":"IF(#REF!=$E$1,IF(#REF!=$G$1,#REF!,NA()),NA())","v":{"$error":"#REF!"}},{"$f":"IF(#REF!=$E$1,IF(#REF!=$G$1,IF(#REF!=\"\",NA(),#REF!),NA()),NA())","v":{"$error":"#REF!"}},{"$f":"IF(#REF!=$E$1,IF(#REF!=$G$1,IF(#REF!=\"\",NA(),#REF!),NA()),NA())","v":{"$error":"#REF!"}},{"$error":"#REF!"},{"$error":"#REF!"}]
[null,null,null,{"$f":"IF(#REF!=$E$1,IF(#REF!=$G$1,#REF!,NA()),NA())","v":{"$error":"#REF!"}},{"$f":"IF(#REF!=$E$1,IF(#REF!=$G$1,#REF!,NA()),NA())","v":{"$error":"#REF!"}},{"$f":"IF(#REF!=$E$1,IF(#REF!=$G$1,IF(#REF!=\"\",NA(),#REF!),NA()),NA())","v":{"$error":"#REF!"}},{"$f":"IF(#REF!=$E$1,IF(#REF!=$G$1,IF(#REF!=\"\",NA(),#REF!),NA()),NA())","v":{"$error":"#REF!"}},{"$error":"#REF!"},{"$error":"#REF!"}]
[null,null,null,{"$f":"IF(#REF!=$E$1,IF(#REF!=$G$1,#REF!,NA()),NA())","v":{"$error":"#REF!"}},{"$f":"IF(#REF!=$E$1,IF(#REF!=$G$1,#REF!,NA()),NA())","v":{"$error":"#REF!"}},{"$f":"IF(#REF!=$E$1,IF(#REF!=$G$1,IF(#REF!=\"\",NA(),#REF!),NA()),NA())","v":{"$error":"#REF!"}},{"$f":"IF(#REF!=$E$1,IF(#REF!=$G$1,IF(#REF!=\"\",NA(),#REF!),NA()),NA())","v":{"$error":"#REF!"}},{"$error":"#REF!"},{"$error":"#REF!"}]
[null,null,null,{"$f":"IF(#REF!=$E$1,IF(#REF!=$G$1,#REF!,NA()),NA())","v":{"$error":"#REF!"}},{"$f":"IF(#REF!=$E$1,IF(#REF!=$G$1,#REF!,NA()),NA())","v":{"$error":"#REF!"}},{"$f":"IF(#REF!=$E$1,IF(#REF!=$G$1,IF(#REF!=\"\",NA(),#REF!),NA()),NA())","v":{"$error":"#REF!"}},{"$f":"IF(#REF!=$E$1,IF(#REF!=$G$1,IF(#REF!=\"\",NA(),#REF!),NA()),NA())","v":{"$error":"#REF!"}},{"$error":"#REF!"},{"$error":"#REF!"}]
[null,null,null,{"$f":"IF(#REF!=$E$1,IF(#REF!=$G$1,#REF!,NA()),NA())","v":{"$error":"#REF!"}},{"$f":"IF(#REF!=$E$1,IF(#REF!=$G$1,#REF!,NA()),NA())","v":{"$error":"#REF!"}},{"$f":"IF(#REF!=$E$1,IF(#REF!=$G$1,IF(#REF!=\"\",NA(),#REF!),NA()),NA())","v":{"$error":"#REF!"}},{"$f":"IF(#REF!=$E$1,IF(#REF!=$G$1,IF(#REF!=\"\",NA(),#REF!),NA()),NA())","v":{"$error":"#REF!"}},{"$error":"#REF!"},{"$error":"#REF!"}]
[null,null,null,{"$f":"IF(#REF!=$E$1,IF(#REF!=$G$1,#REF!,NA()),NA())","v":{"$error":"#REF!"}},{"$f":"IF(#REF!=$E$1,IF(#REF!=$G$1,#REF!,NA()),NA())","v":{"$error":"#REF!"}},{"$f":"IF(#REF!=$E$1,IF(#REF!=$G$1,IF(#REF!=\"\",NA(),#REF!),NA()),NA())","v":{"$error":"#REF!"}},{"$f":"IF(#REF!=$E$1,IF(#REF!=$G$1,IF(#REF!=\"\",NA(),#REF!),NA()),NA())","v":{"$error":"#REF!"}},{"$error":"#REF!"},{"$error":"#REF!"}]
[null,null,null,{"$f":"IF(#REF!=$E$1,IF(#REF!=$G$1,#REF!,NA()),NA())","v":{"$error":"#REF!"}},{"$f":"IF(#REF!=$E$1,IF(#REF!=$G$1,#REF!,NA()),NA())","v":{"$error":"#REF!"}},{"$f":"IF(#REF!=$E$1,IF(#REF!=$G$1,IF(#REF!=\"\",NA(),#REF!),NA()),NA())","v":{"$error":"#REF!"}},{"$f":"IF(#REF!=$E$1,IF(#REF!=$G$1,IF(#REF!=\"\",NA(),#REF!),NA()),NA())","v":{"$error":"#REF!"}},{"$error":"#REF!"},{"$error":"#REF!"}]
[null,null,null,{"$f":"IF(#REF!=$E$1,IF(#REF!=$G$1,#REF!,NA()),NA())","v":{"$error":"#REF!"}},{"$f":"IF(#REF!=$E$1,IF(#REF!=$G$1,#REF!,NA()),NA())","v":{"$error":"#REF!"}},{"$f":"IF(#REF!=$E$1,IF(#REF!=$G$1,IF(#REF!=\"\",NA(),#REF!),NA()),NA())","v":{"$error":"#REF!"}},{"$f":"IF(#REF!=$E$1,IF(#REF!=$G$1,IF(#REF!=\"\",NA(),#REF!),NA()),NA())","v":{"$error":"#REF!"}},{"$error":"#REF!"},{"$error":"#REF!"}]
[null,null,null,{"$f":"IF(#REF!=$E$1,IF(#REF!=$G$1,#REF!,NA()),NA())","v":{"$error":"#REF!"}},{"$f":"IF(#REF!=$E$1,IF(#REF!=$G$1,#REF!,NA()),NA())","v":{"$error":"#REF!"}},{"$f":"IF(#REF!=$E$1,IF(#REF!=$G$1,IF(#REF!=\"\",NA(),#REF!),NA()),NA())","v":{"$error":"#REF!"}},{"$f":"IF(#REF!=$E$1,IF(#REF!=$G$1,IF(#REF!=\"\",NA(),#REF!),NA()),NA())","v":{"$error":"#REF!"}},{"$error":"#REF!"},{"$error":"#REF!"}]
[null,null,null,{"$f":"IF(#REF!=$E$1,IF(#REF!=$G$1,#REF!,NA()),NA())","v":{"$error":"#REF!"}},{"$f":"IF(#REF!=$E$1,IF(#REF!=$G$1,#REF!,NA()),NA())","v":{"$error":"#REF!"}},{"$f":"IF(#REF!=$E$1,IF(#REF!=$G$1,IF(#REF!=\"\",NA(),#REF!),NA()),NA())","v":{"$error":"#REF!"}},{"$f":"IF(#REF!=$E$1,IF(#REF!=$G$1,IF(#REF!=\"\",NA(),#REF!),NA()),NA())","v":{"$error":"#REF!"}},{"$f":"IF(AND(ISNUMBER(G452),F452=\"-\"),0,F452)","v":{"$error":"#REF!"}},{"$f":"IF(AND(ISNUMBER(F452),G452=\"-\"),0,G452)","v":{"$error":"#REF!"}}]
[null,null,null,{"$f":"IF(#REF!=$E$1,IF(#REF!=$G$1,#REF!,NA()),NA())","v":{"$error":"#REF!"}},{"$f":"IF(#REF!=$E$1,IF(#REF!=$G$1,#REF!,NA()),NA())","v":{"$error":"#REF!"}},{"$f":"IF(#REF!=$E$1,IF(#REF!=$G$1,IF(#REF!=\"\",NA(),#REF!),NA()),NA())","v":{"$error":"#REF!"}},{"$f":"IF(#REF!=$E$1,IF(#REF!=$G$1,IF(#REF!=\"\",NA(),#REF!),NA()),NA())","v":{"$error":"#REF!"}},{"$error":"#REF!"},{"$error":"#REF!"}]
[null,null,null,{"$f":"IF(#REF!=$E$1,IF(#REF!=$G$1,#REF!,NA()),NA())","v":{"$error":"#REF!"}},{"$f":"IF(#REF!=$E$1,IF(#REF!=$G$1,#REF!,NA()),NA())","v":{"$error":"#REF!"}},{"$f":"IF(#REF!=$E$1,IF(#REF!=$G$1,IF(#REF!=\"\",NA(),#REF!),NA()),NA())","v":{"$error":"#REF!"}},{"$f":"IF(#REF!=$E$1,IF(#REF!=$G$1,IF(#REF!=\"\",NA(),#REF!),NA()),NA())","v":{"$error":"#REF!"}},{"$error":"#REF!"},{"$error":"#REF!"}]
[null,null,null,{"$f":"IF(#REF!=$E$1,IF(#REF!=$G$1,#REF!,NA()),NA())","v":{"$error":"#REF!"}},{"$f":"IF(#REF!=$E$1,IF(#REF!=$G$1,#REF!,NA()),NA())","v":{"$error":"#REF!"}},{"$f":"IF(#REF!=$E$1,IF(#REF!=$G$1,IF(#REF!=\"\",NA(),#REF!),NA()),NA())","v":{"$error":"#REF!"}},{"$f":"IF(#REF!=$E$1,IF(#REF!=$G$1,IF(#REF!=\"\",NA(),#REF!),NA()),NA())","v":{"$error":"#REF!"}},{"$error":"#REF!"},{"$error":"#REF!"}]
[null,null,null,{"$f":"IF(#REF!=$E$1,IF(#REF!=$G$1,#REF!,NA()),NA())","v":{"$error":"#REF!"}},{"$f":"IF(#REF!=$E$1,IF(#REF!=$G$1,#REF!,NA()),NA())","v":{"$error":"#REF!"}},{"$f":"IF(#REF!=$E$1,IF(#REF!=$G$1,IF(#REF!=\"\",NA(),#REF!),NA()),NA())","v":{"$error":"#REF!"}},{"$f":"IF(#REF!=$E$1,IF(#REF!=$G$1,IF(#REF!=\"\",NA(),#REF!),NA()),NA())","v":{"$error":"#REF!"}},{"$error":"#REF!"},{"$error":"#REF!"}]
[null,null,null,{"$f":"IF(#REF!=$E$1,IF(#REF!=$G$1,#REF!,NA()),NA())","v":{"$error":"#REF!"}},{"$f":"IF(#REF!=$E$1,IF(#REF!=$G$1,#REF!,NA()),NA())","v":{"$error":"#REF!"}},{"$f":"IF(#REF!=$E$1,IF(#REF!=$G$1,IF(#REF!=\"\",NA(),#REF!),NA()),NA())","v":{"$error":"#REF!"}},{"$f":"IF(#REF!=$E$1,IF(#REF!=$G$1,IF(#REF!=\"\",NA(),#REF!),NA()),NA())","v":{"$error":"#REF!"}},{"$error":"#REF!"},{"$error":"#REF!"}]
[null,null,null,{"$f":"IF(#REF!=$E$1,IF(#REF!=$G$1,#REF!,NA()),NA())","v":{"$error":"#REF!"}},{"$f":"IF(#REF!=$E$1,IF(#REF!=$G$1,#REF!,NA()),NA())","v":{"$error":"#REF!"}},{"$f":"IF(#REF!=$E$1,IF(#REF!=$G$1,IF(#REF!=\"\",NA(),#REF!),NA()),NA())","v":{"$error":"#REF!"}},{"$f":"IF(#REF!=$E$1,IF(#REF!=$G$1,IF(#REF!=\"\",NA(),#REF!),NA()),NA())","v":{"$error":"#REF!"}},{"$error":"#REF!"},{"$error":"#REF!"}]
[null,null,null,{"$f":"IF(#REF!=$E$1,IF(#REF!=$G$1,#REF!,NA()),NA())","v":{"$error":"#REF!"}},{"$f":"IF(#REF!=$E$1,IF(#REF!=$G$1,#REF!,NA()),NA())","v":{"$error":"#REF!"}},{"$f":"IF(#REF!=$E$1,IF(#REF!=$G$1,IF(#REF!=\"\",NA(),#REF!),NA()),NA())","v":{"$error":"#REF!"}},{"$f":"IF(#REF!=$E$1,IF(#REF!=$G$1,IF(#REF!=\"\",NA(),#REF!),NA()),NA())","v":{"$error":"#REF!"}},{"$error":"#REF!"},{"$error":"#REF!"}]
[null,null,null,{"$f":"IF(#REF!=$E$1,IF(#REF!=$G$1,#REF!,NA()),NA())","v":{"$error":"#REF!"}},{"$f":"IF(#REF!=$E$1,IF(#REF!=$G$1,#REF!,NA()),NA())","v":{"$error":"#REF!"}},{"$f":"IF(#REF!=$E$1,IF(#REF!=$G$1,IF(#REF!=\"\",NA(),#REF!),NA()),NA())","v":{"$error":"#REF!"}},{"$f":"IF(#REF!=$E$1,IF(#REF!=$G$1,IF(#REF!=\"\",NA(),#REF!),NA()),NA())","v":{"$error":"#REF!"}},{"$error":"#REF!"},{"$error":"#REF!"}]
[null,null,null,{"$f":"IF(#REF!=$E$1,IF(#REF!=$G$1,#REF!,NA()),NA())","v":{"$error":"#REF!"}},{"$f":"IF(#REF!=$E$1,IF(#REF!=$G$1,#REF!,NA()),NA())","v":{"$error":"#REF!"}},{"$f":"IF(#REF!=$E$1,IF(#REF!=$G$1,IF(#REF!=\"\",NA(),#REF!),NA()),NA())","v":{"$error":"#REF!"}},{"$f":"IF(#REF!=$E$1,IF(#REF!=$G$1,IF(#REF!=\"\",NA(),#REF!),NA()),NA())","v":{"$error":"#REF!"}},{"$error":"#REF!"},{"$error":"#REF!"}]
[null,null,null,{"$f":"IF(#REF!=$E$1,IF(#REF!=$G$1,#REF!,NA()),NA())","v":{"$error":"#REF!"}},{"$f":"IF(#REF!=$E$1,IF(#REF!=$G$1,#REF!,NA()),NA())","v":{"$error":"#REF!"}},{"$f":"IF(#REF!=$E$1,IF(#REF!=$G$1,IF(#REF!=\"\",NA(),#REF!),NA()),NA())","v":{"$error":"#REF!"}},{"$f":"IF(#REF!=$E$1,IF(#REF!=$G$1,IF(#REF!=\"\",NA(),#REF!),NA()),NA())","v":{"$error":"#REF!"}},{"$error":"#REF!"},{"$error":"#REF!"}]
[null,null,null,{"$f":"IF(#REF!=$E$1,IF(#REF!=$G$1,#REF!,NA()),NA())","v":{"$error":"#REF!"}},{"$f":"IF(#REF!=$E$1,IF(#REF!=$G$1,#REF!,NA()),NA())","v":{"$error":"#REF!"}},{"$f":"IF(#REF!=$E$1,IF(#REF!=$G$1,IF(#REF!=\"\",NA(),#REF!),NA()),NA())","v":{"$error":"#REF!"}},{"$f":"IF(#REF!=$E$1,IF(#REF!=$G$1,IF(#REF!=\"\",NA(),#REF!),NA()),NA())","v":{"$error":"#REF!"}},{"$error":"#REF!"},{"$error":"#REF!"}]
[null,null,null,{"$f":"IF(#REF!=$E$1,IF(#REF!=$G$1,#REF!,NA()),NA())","v":{"$error":"#REF!"}},{"$f":"IF(#REF!=$E$1,IF(#REF!=$G$1,#REF!,NA()),NA())","v":{"$error":"#REF!"}},{"$f":"IF(#REF!=$E$1,IF(#REF!=$G$1,IF(#REF!=\"\",NA(),#REF!),NA()),NA())","v":{"$error":"#REF!"}},{"$f":"IF(#REF!=$E$1,IF(#REF!=$G$1,IF(#REF!=\"\",NA(),#REF!),NA()),NA())","v":{"$error":"#REF!"}},{"$error":"#REF!"},{"$error":"#REF!"}]
[null,null,null,{"$f":"IF(#REF!=$E$1,IF(#REF!=$G$1,#REF!,NA()),NA())","v":{"$error":"#REF!"}},{"$f":"IF(#REF!=$E$1,IF(#REF!=$G$1,#REF!,NA()),NA())","v":{"$error":"#REF!"}},{"$f":"IF(#REF!=$E$1,IF(#REF!=$G$1,IF(#REF!=\"\",NA(),#REF!),NA()),NA())","v":{"$error":"#REF!"}},{"$f":"IF(#REF!=$E$1,IF(#REF!=$G$1,IF(#REF!=\"\",NA(),#REF!),NA()),NA())","v":{"$error":"#REF!"}},{"$error":"#REF!"},{"$error":"#REF!"}]
[null,null,null,{"$f":"IF(#REF!=$E$1,IF(#REF!=$G$1,#REF!,NA()),NA())","v":{"$error":"#REF!"}},{"$f":"IF(#REF!=$E$1,IF(#REF!=$G$1,#REF!,NA()),NA())","v":{"$error":"#REF!"}},{"$f":"IF(#REF!=$E$1,IF(#REF!=$G$1,IF(#REF!=\"\",NA(),#REF!),NA()),NA())","v":{"$error":"#REF!"}},{"$f":"IF(#REF!=$E$1,IF(#REF!=$G$1,IF(#REF!=\"\",NA(),#REF!),NA()),NA())","v":{"$error":"#REF!"}},{"$error":"#REF!"},{"$error":"#REF!"}]
[null,null,null,{"$f":"IF(#REF!=$E$1,IF(#REF!=$G$1,#REF!,NA()),NA())","v":{"$error":"#REF!"}},{"$f":"IF(#REF!=$E$1,IF(#REF!=$G$1,#REF!,NA()),NA())","v":{"$error":"#REF!"}},{"$f":"IF(#REF!=$E$1,IF(#REF!=$G$1,IF(#REF!=\"\",NA(),#REF!),NA()),NA())","v":{"$error":"#REF!"}},{"$f":"IF(#REF!=$E$1,IF(#REF!=$G$1,IF(#REF!=\"\",NA(),#REF!),NA()),NA())","v":{"$error":"#REF!"}},{"$error":"#REF!"},{"$error":"#REF!"}]
[null,null,null,{"$f":"IF(#REF!=$E$1,IF(#REF!=$G$1,#REF!,NA()),NA())","v":{"$error":"#REF!"}},{"$f":"IF(#REF!=$E$1,IF(#REF!=$G$1,#REF!,NA()),NA())","v":{"$error":"#REF!"}},{"$f":"IF(#REF!=$E$1,IF(#REF!=$G$1,IF(#REF!=\"\",NA(),#REF!),NA()),NA())","v":{"$error":"#REF!"}},{"$f":"IF(#REF!=$E$1,IF(#REF!=$G$1,IF(#REF!=\"\",NA(),#REF!),NA()),NA())","v":{"$error":"#REF!"}},{"$error":"#REF!"},{"$error":"#REF!"}]
[null,null,null,{"$f":"IF(#REF!=$E$1,IF(#REF!=$G$1,#REF!,NA()),NA())","v":{"$error":"#REF!"}},{"$f":"IF(#REF!=$E$1,IF(#REF!=$G$1,#REF!,NA()),NA())","v":{"$error":"#REF!"}},{"$f":"IF(#REF!=$E$1,IF(#REF!=$G$1,IF(#REF!=\"\",NA(),#REF!),NA()),NA())","v":{"$error":"#REF!"}},{"$f":"IF(#REF!=$E$1,IF(#REF!=$G$1,IF(#REF!=\"\",NA(),#REF!),NA()),NA())","v":{"$error":"#REF!"}},{"$error":"#REF!"},{"$error":"#REF!"}]
[null,null,null,{"$f":"IF(#REF!=$E$1,IF(#REF!=$G$1,#REF!,NA()),NA())","v":{"$error":"#REF!"}},{"$f":"IF(#REF!=$E$1,IF(#REF!=$G$1,#REF!,NA()),NA())","v":{"$error":"#REF!"}},{"$f":"IF(#REF!=$E$1,IF(#REF!=$G$1,IF(#REF!=\"\",NA(),#REF!),NA()),NA())","v":{"$error":"#REF!"}},{"$f":"IF(#REF!=$E$1,IF(#REF!=$G$1,IF(#REF!=\"\",NA(),#REF!),NA()),NA())","v":{"$error":"#REF!"}},{"$error":"#REF!"},{"$error":"#REF!"}]
[null,null,null,{"$f":"IF(#REF!=$E$1,IF(#REF!=$G$1,#REF!,NA()),NA())","v":{"$error":"#REF!"}},{"$f":"IF(#REF!=$E$1,IF(#REF!=$G$1,#REF!,NA()),NA())","v":{"$error":"#REF!"}},{"$f":"IF(#REF!=$E$1,IF(#REF!=$G$1,IF(#REF!=\"\",NA(),#REF!),NA()),NA())","v":{"$error":"#REF!"}},{"$f":"IF(#REF!=$E$1,IF(#REF!=$G$1,IF(#REF!=\"\",NA(),#REF!),NA()),NA())","v":{"$error":"#REF!"}},{"$error":"#REF!"},{"$error":"#REF!"}]
[null,null,null,{"$f":"IF(#REF!=$E$1,IF(#REF!=$G$1,#REF!,NA()),NA())","v":{"$error":"#REF!"}},{"$f":"IF(#REF!=$E$1,IF(#REF!=$G$1,#REF!,NA()),NA())","v":{"$error":"#REF!"}},{"$f":"IF(#REF!=$E$1,IF(#REF!=$G$1,IF(#REF!=\"\",NA(),#REF!),NA()),NA())","v":{"$error":"#REF!"}},{"$f":"IF(#REF!=$E$1,IF(#REF!=$G$1,IF(#REF!=\"\",NA(),#REF!),NA()),NA())","v":{"$error":"#REF!"}},{"$error":"#REF!"},{"$error":"#REF!"}]
[null,null,null,{"$f":"IF(#REF!=$E$1,IF(#REF!=$G$1,#REF!,NA()),NA())","v":{"$error":"#REF!"}},{"$f":"IF(#REF!=$E$1,IF(#REF!=$G$1,#REF!,NA()),NA())","v":{"$error":"#REF!"}},{"$f":"IF(#REF!=$E$1,IF(#REF!=$G$1,IF(#REF!=\"\",NA(),#REF!),NA()),NA())","v":{"$error":"#REF!"}},{"$f":"IF(#REF!=$E$1,IF(#REF!=$G$1,IF(#REF!=\"\",NA(),#REF!),NA()),NA())","v":{"$error":"#REF!"}},{"$error":"#REF!"},{"$error":"#REF!"}]
[null,null,null,{"$f":"IF(#REF!=$E$1,IF(#REF!=$G$1,#REF!,NA()),NA())","v":{"$error":"#REF!"}},{"$f":"IF(#REF!=$E$1,IF(#REF!=$G$1,#REF!,NA()),NA())","v":{"$error":"#REF!"}},{"$f":"IF(#REF!=$E$1,IF(#REF!=$G$1,IF(#REF!=\"\",NA(),#REF!),NA()),NA())","v":{"$error":"#REF!"}},{"$f":"IF(#REF!=$E$1,IF(#REF!=$G$1,IF(#REF!=\"\",NA(),#REF!),NA()),NA())","v":{"$error":"#REF!"}},{"$error":"#REF!"},{"$error":"#REF!"}]
[null,null,null,{"$f":"IF(#REF!=$E$1,IF(#REF!=$G$1,#REF!,NA()),NA())","v":{"$error":"#REF!"}},{"$f":"IF(#REF!=$E$1,IF(#REF!=$G$1,#REF!,NA()),NA())","v":{"$error":"#REF!"}},{"$f":"IF(#REF!=$E$1,IF(#REF!=$G$1,IF(#REF!=\"\",NA(),#REF!),NA()),NA())","v":{"$error":"#REF!"}},{"$f":"IF(#REF!=$E$1,IF(#REF!=$G$1,IF(#REF!=\"\",NA(),#REF!),NA()),NA())","v":{"$error":"#REF!"}},{"$error":"#REF!"},{"$error":"#REF!"}]
[null,null,null,{"$f":"IF(#REF!=$E$1,IF(#REF!=$G$1,#REF!,NA()),NA())","v":{"$error":"#REF!"}},{"$f":"IF(#REF!=$E$1,IF(#REF!=$G$1,#REF!,NA()),NA())","v":{"$error":"#REF!"}},{"$f":"IF(#REF!=$E$1,IF(#REF!=$G$1,IF(#REF!=\"\",NA(),#REF!),NA()),NA())","v":{"$error":"#REF!"}},{"$f":"IF(#REF!=$E$1,IF(#REF!=$G$1,IF(#REF!=\"\",NA(),#REF!),NA()),NA())","v":{"$error":"#REF!"}},{"$error":"#REF!"},{"$error":"#REF!"}]
[null,null,null,{"$f":"IF(#REF!=$E$1,IF(#REF!=$G$1,#REF!,NA()),NA())","v":{"$error":"#REF!"}},{"$f":"IF(#REF!=$E$1,IF(#REF!=$G$1,#REF!,NA()),NA())","v":{"$error":"#REF!"}},{"$f":"IF(#REF!=$E$1,IF(#REF!=$G$1,IF(#REF!=\"\",NA(),#REF!),NA()),NA())","v":{"$error":"#REF!"}},{"$f":"IF(#REF!=$E$1,IF(#REF!=$G$1,IF(#REF!=\"\",NA(),#REF!),NA()),NA())","v":{"$error":"#REF!"}},{"$error":"#REF!"},{"$error":"#REF!"}]
[null,null,null,{"$f":"IF(#REF!=$E$1,IF(#REF!=$G$1,#REF!,NA()),NA())","v":{"$error":"#REF!"}},{"$f":"IF(#REF!=$E$1,IF(#REF!=$G$1,#REF!,NA()),NA())","v":{"$error":"#REF!"}},{"$f":"IF(#REF!=$E$1,IF(#REF!=$G$1,IF(#REF!=\"\",NA(),#REF!),NA()),NA())","v":{"$error":"#REF!"}},{"$f":"IF(#REF!=$E$1,IF(#REF!=$G$1,IF(#REF!=\"\",NA(),#REF!),NA()),NA())","v":{"$error":"#REF!"}},{"$error":"#REF!"},{"$error":"#REF!"}]
[null,null,null,{"$f":"IF(#REF!=$E$1,IF(#REF!=$G$1,#REF!,NA()),NA())","v":{"$error":"#REF!"}},{"$f":"IF(#REF!=$E$1,IF(#REF!=$G$1,#REF!,NA()),NA())","v":{"$error":"#REF!"}},{"$f":"IF(#REF!=$E$1,IF(#REF!=$G$1,IF(#REF!=\"\",NA(),#REF!),NA()),NA())","v":{"$error":"#REF!"}},{"$f":"IF(#REF!=$E$1,IF(#REF!=$G$1,IF(#REF!=\"\",NA(),#REF!),NA()),NA())","v":{"$error":"#REF!"}},{"$error":"#REF!"},{"$error":"#REF!"}]
[null,null,null,{"$f":"IF(#REF!=$E$1,IF(#REF!=$G$1,#REF!,NA()),NA())","v":{"$error":"#REF!"}},{"$f":"IF(#REF!=$E$1,IF(#REF!=$G$1,#REF!,NA()),NA())","v":{"$error":"#REF!"}},{"$f":"IF(#REF!=$E$1,IF(#REF!=$G$1,IF(#REF!=\"\",NA(),#REF!),NA()),NA())","v":{"$error":"#REF!"}},{"$f":"IF(#REF!=$E$1,IF(#REF!=$G$1,IF(#REF!=\"\",NA(),#REF!),NA()),NA())","v":{"$error":"#REF!"}},{"$error":"#REF!"},{"$error":"#REF!"}]
[null,null,null,{"$f":"IF(#REF!=$E$1,IF(#REF!=$G$1,#REF!,NA()),NA())","v":{"$error":"#REF!"}},{"$f":"IF(#REF!=$E$1,IF(#REF!=$G$1,#REF!,NA()),NA())","v":{"$error":"#REF!"}},{"$f":"IF(#REF!=$E$1,IF(#REF!=$G$1,IF(#REF!=\"\",NA(),#REF!),NA()),NA())","v":{"$error":"#REF!"}},{"$f":"IF(#REF!=$E$1,IF(#REF!=$G$1,IF(#REF!=\"\",NA(),#REF!),NA()),NA())","v":{"$error":"#REF!"}},{"$error":"#REF!"},{"$error":"#REF!"}]
[null,null,null,{"$f":"IF(#REF!=$E$1,IF(#REF!=$G$1,#REF!,NA()),NA())","v":{"$error":"#REF!"}},{"$f":"IF(#REF!=$E$1,IF(#REF!=$G$1,#REF!,NA()),NA())","v":{"$error":"#REF!"}},{"$f":"IF(#REF!=$E$1,IF(#REF!=$G$1,IF(#REF!=\"\",NA(),#REF!),NA()),NA())","v":{"$error":"#REF!"}},{"$f":"IF(#REF!=$E$1,IF(#REF!=$G$1,IF(#REF!=\"\",NA(),#REF!),NA()),NA())","v":{"$error":"#REF!"}},{"$error":"#REF!"},{"$error":"#REF!"}]
[null,null,null,{"$f":"IF(#REF!=$E$1,IF(#REF!=$G$1,#REF!,NA()),NA())","v":{"$error":"#REF!"}},{"$f":"IF(#REF!=$E$1,IF(#REF!=$G$1,#REF!,NA()),NA())","v":{"$error":"#REF!"}},{"$f":"IF(#REF!=$E$1,IF(#REF!=$G$1,IF(#REF!=\"\",NA(),#REF!),NA()),NA())","v":{"$error":"#REF!"}},{"$f":"IF(#REF!=$E$1,IF(#REF!=$G$1,IF(#REF!=\"\",NA(),#REF!),NA()),NA())","v":{"$error":"#REF!"}},{"$error":"#REF!"},{"$error":"#REF!"}]
[null,null,null,{"$f":"IF(#REF!=$E$1,IF(#REF!=$G$1,#REF!,NA()),NA())","v":{"$error":"#REF!"}},{"$f":"IF(#REF!=$E$1,IF(#REF!=$G$1,#REF!,NA()),NA())","v":{"$error":"#REF!"}},{"$f":"IF(#REF!=$E$1,IF(#REF!=$G$1,IF(#REF!=\"\",NA(),#REF!),NA()),NA())","v":{"$error":"#REF!"}},{"$f":"IF(#REF!=$E$1,IF(#REF!=$G$1,IF(#REF!=\"\",NA(),#REF!),NA()),NA())","v":{"$error":"#REF!"}},{"$error":"#REF!"},{"$error":"#REF!"}]
[null,null,null,{"$f":"IF(#REF!=$E$1,IF(#REF!=$G$1,#REF!,NA()),NA())","v":{"$error":"#REF!"}},{"$f":"IF(#REF!=$E$1,IF(#REF!=$G$1,#REF!,NA()),NA())","v":{"$error":"#REF!"}},{"$f":"IF(#REF!=$E$1,IF(#REF!=$G$1,IF(#REF!=\"\",NA(),#REF!),NA()),NA())","v":{"$error":"#REF!"}},{"$f":"IF(#REF!=$E$1,IF(#REF!=$G$1,IF(#REF!=\"\",NA(),#REF!),NA()),NA())","v":{"$error":"#REF!"}},{"$error":"#REF!"},{"$error":"#REF!"}]
[null,null,null,{"$f":"IF(#REF!=$E$1,IF(#REF!=$G$1,#REF!,NA()),NA())","v":{"$error":"#REF!"}},{"$f":"IF(#REF!=$E$1,IF(#REF!=$G$1,#REF!,NA()),NA())","v":{"$error":"#REF!"}},{"$f":"IF(#REF!=$E$1,IF(#REF!=$G$1,IF(#REF!=\"\",NA(),#REF!),NA()),NA())","v":{"$error":"#REF!"}},{"$f":"IF(#REF!=$E$1,IF(#REF!=$G$1,IF(#REF!=\"\",NA(),#REF!),NA()),NA())","v":{"$error":"#REF!"}},{"$error":"#REF!"},{"$error":"#REF!"}]
[null,null,null,{"$f":"IF(#REF!=$E$1,IF(#REF!=$G$1,#REF!,NA()),NA())","v":{"$error":"#REF!"}},{"$f":"IF(#REF!=$E$1,IF(#REF!=$G$1,#REF!,NA()),NA())","v":{"$error":"#REF!"}},{"$f":"IF(#REF!=$E$1,IF(#REF!=$G$1,IF(#REF!=\"\",NA(),#REF!),NA()),NA())","v":{"$error":"#REF!"}},{"$f":"IF(#REF!=$E$1,IF(#REF!=$G$1,IF(#REF!=\"\",NA(),#REF!),NA()),NA())","v":{"$error":"#REF!"}},{"$error":"#REF!"},{"$error":"#REF!"}]
[null,null,null,{"$f":"IF(#REF!=$E$1,IF(#REF!=$G$1,#REF!,NA()),NA())","v":{"$error":"#REF!"}},{"$f":"IF(#REF!=$E$1,IF(#REF!=$G$1,#REF!,NA()),NA())","v":{"$error":"#REF!"}},{"$f":"IF(#REF!=$E$1,IF(#REF!=$G$1,IF(#REF!=\"\",NA(),#REF!),NA()),NA())","v":{"$error":"#REF!"}},{"$f":"IF(#REF!=$E$1,IF(#REF!=$G$1,IF(#REF!=\"\",NA(),#REF!),NA()),NA())","v":{"$error":"#REF!"}},{"$error":"#REF!"},{"$error":"#REF!"}]
[null,null,null,{"$f":"IF(#REF!=$E$1,IF(#REF!=$G$1,#REF!,NA()),NA())","v":{"$error":"#REF!"}},{"$f":"IF(#REF!=$E$1,IF(#REF!=$G$1,#REF!,NA()),NA())","v":{"$error":"#REF!"}},{"$f":"IF(#REF!=$E$1,IF(#REF!=$G$1,IF(#REF!=\"\",NA(),#REF!),NA()),NA())","v":{"$error":"#REF!"}},{"$f":"IF(#REF!=$E$1,IF(#REF!=$G$1,IF(#REF!=\"\",NA(),#REF!),NA()),NA())","v":{"$error":"#REF!"}},{"$error":"#REF!"},{"$error":"#REF!"}]
[null,null,null,{"$f":"IF(#REF!=$E$1,IF(#REF!=$G$1,#REF!,NA()),NA())","v":{"$error":"#REF!"}},{"$f":"IF(#REF!=$E$1,IF(#REF!=$G$1,#REF!,NA()),NA())","v":{"$error":"#REF!"}},{"$f":"IF(#REF!=$E$1,IF(#REF!=$G$1,IF(#REF!=\"\",NA(),#REF!),NA()),NA())","v":{"$error":"#REF!"}},{"$f":"IF(#REF!=$E$1,IF(#REF!=$G$1,IF(#REF!=\"\",NA(),#REF!),NA()),NA())","v":{"$error":"#REF!"}},{"$error":"#REF!"},{"$error":"#REF!"}]
[null,null,null,{"$f":"IF(#REF!=$E$1,IF(#REF!=$G$1,#REF!,NA()),NA())","v":{"$error":"#REF!"}},{"$f":"IF(#REF!=$E$1,IF(#REF!=$G$1,#REF!,NA()),NA())","v":{"$error":"#REF!"}},{"$f":"IF(#REF!=$E$1,IF(#REF!=$G$1,IF(#REF!=\"\",NA(),#REF!),NA()),NA())","v":{"$error":"#REF!"}},{"$f":"IF(#REF!=$E$1,IF(#REF!=$G$1,IF(#REF!=\"\",NA(),#REF!),NA()),NA())","v":{"$error":"#REF!"}},{"$error":"#REF!"},{"$error":"#REF!"}]
[null,null,null,{"$f":"IF(#REF!=$E$1,IF(#REF!=$G$1,#REF!,NA()),NA())","v":{"$error":"#REF!"}},{"$f":"IF(#REF!=$E$1,IF(#REF!=$G$1,#REF!,NA()),NA())","v":{"$error":"#REF!"}},{"$f":"IF(#REF!=$E$1,IF(#REF!=$G$1,IF(#REF!=\"\",NA(),#REF!),NA()),NA())","v":{"$error":"#REF!"}},{"$f":"IF(#REF!=$E$1,IF(#REF!=$G$1,IF(#REF!=\"\",NA(),#REF!),NA()),NA())","v":{"$error":"#REF!"}},{"$error":"#REF!"},{"$error":"#REF!"}]
[null,null,null,{"$f":"IF(#REF!=$E$1,IF(#REF!=$G$1,#REF!,NA()),NA())","v":{"$error":"#REF!"}},{"$f":"IF(#REF!=$E$1,IF(#REF!=$G$1,#REF!,NA()),NA())","v":{"$error":"#REF!"}},{"$f":"IF(#REF!=$E$1,IF(#REF!=$G$1,IF(#REF!=\"\",NA(),#REF!),NA()),NA())","v":{"$error":"#REF!"}},{"$f":"IF(#REF!=$E$1,IF(#REF!=$G$1,IF(#REF!=\"\",NA(),#REF!),NA()),NA())","v":{"$error":"#REF!"}},{"$error":"#REF!"},{"$error":"#REF!"}]
[null,null,null,{"$f":"IF(#REF!=$E$1,IF(#REF!=$G$1,#REF!,NA()),NA())","v":{"$error":"#REF!"}},{"$f":"IF(#REF!=$E$1,IF(#REF!=$G$1,#REF!,NA()),NA())","v":{"$error":"#REF!"}},{"$f":"IF(#REF!=$E$1,IF(#REF!=$G$1,IF(#REF!=\"\",NA(),#REF!),NA()),NA())","v":{"$error":"#REF!"}},{"$f":"IF(#REF!=$E$1,IF(#REF!=$G$1,IF(#REF!=\"\",NA(),#REF!),NA()),NA())","v":{"$error":"#REF!"}},{"$error":"#REF!"},{"$error":"#REF!"}]
[null,null,null,{"$f":"IF(#REF!=$E$1,IF(#REF!=$G$1,#REF!,NA()),NA())","v":{"$error":"#REF!"}},{"$f":"IF(#REF!=$E$1,IF(#REF!=$G$1,#REF!,NA()),NA())","v":{"$error":"#REF!"}},{"$f":"IF(#REF!=$E$1,IF(#REF!=$G$1,IF(#REF!=\"\",NA(),#REF!),NA()),NA())","v":{"$error":"#REF!"}},{"$f":"IF(#REF!=$E$1,IF(#REF!=$G$1,IF(#REF!=\"\",NA(),#REF!),NA()),NA())","v":{"$error":"#REF!"}},{"$error":"#REF!"},{"$error":"#REF!"}]
[null,null,null,{"$f":"IF(#REF!=$E$1,IF(#REF!=$G$1,#REF!,NA()),NA())","v":{"$error":"#REF!"}},{"$f":"IF(#REF!=$E$1,IF(#REF!=$G$1,#REF!,NA()),NA())","v":{"$error":"#REF!"}},{"$f":"IF(#REF!=$E$1,IF(#REF!=$G$1,IF(#REF!=\"\",NA(),#REF!),NA()),NA())","v":{"$error":"#REF!"}},{"$f":"IF(#REF!=$E$1,IF(#REF!=$G$1,IF(#REF!=\"\",NA(),#REF!),NA()),NA())","v":{"$error":"#REF!"}},{"$error":"#REF!"},{"$error":"#REF!"}]
[null,null,null,{"$f":"IF(#REF!=$E$1,IF(#REF!=$G$1,#REF!,NA()),NA())","v":{"$error":"#REF!"}},{"$f":"IF(#REF!=$E$1,IF(#REF!=$G$1,#REF!,NA()),NA())","v":{"$error":"#REF!"}},{"$f":"IF(#REF!=$E$1,IF(#REF!=$G$1,IF(#REF!=\"\",NA(),#REF!),NA()),NA())","v":{"$error":"#REF!"}},{"$f":"IF(#REF!=$E$1,IF(#REF!=$G$1,IF(#REF!=\"\",NA(),#REF!),NA()),NA())","v":{"$error":"#REF!"}},{"$error":"#REF!"},{"$error":"#REF!"}]
[null,null,null,{"$f":"IF(#REF!=$E$1,IF(#REF!=$G$1,#REF!,NA()),NA())","v":{"$error":"#REF!"}},{"$f":"IF(#REF!=$E$1,IF(#REF!=$G$1,#REF!,NA()),NA())","v":{"$error":"#REF!"}},{"$f":"IF(#REF!=$E$1,IF(#REF!=$G$1,IF(#REF!=\"\",NA(),#REF!),NA()),NA())","v":{"$error":"#REF!"}},{"$f":"IF(#REF!=$E$1,IF(#REF!=$G$1,IF(#REF!=\"\",NA(),#REF!),NA()),NA())","v":{"$error":"#REF!"}},{"$error":"#REF!"},{"$error":"#REF!"}]
[null,null,null,{"$f":"IF(#REF!=$E$1,IF(#REF!=$G$1,#REF!,NA()),NA())","v":{"$error":"#REF!"}},{"$f":"IF(#REF!=$E$1,IF(#REF!=$G$1,#REF!,NA()),NA())","v":{"$error":"#REF!"}},{"$f":"IF(#REF!=$E$1,IF(#REF!=$G$1,IF(#REF!=\"\",NA(),#REF!),NA()),NA())","v":{"$error":"#REF!"}},{"$f":"IF(#REF!=$E$1,IF(#REF!=$G$1,IF(#REF!=\"\",NA(),#REF!),NA()),NA())","v":{"$error":"#REF!"}},{"$error":"#REF!"},{"$error":"#REF!"}]
[null,null,null,{"$f":"IF(#REF!=$E$1,IF(#REF!=$G$1,#REF!,NA()),NA())","v":{"$error":"#REF!"}},{"$f":"IF(#REF!=$E$1,IF(#REF!=$G$1,#REF!,NA()),NA())","v":{"$error":"#REF!"}},{"$f":"IF(#REF!=$E$1,IF(#REF!=$G$1,IF(#REF!=\"\",NA(),#REF!),NA()),NA())","v":{"$error":"#REF!"}},{"$f":"IF(#REF!=$E$1,IF(#REF!=$G$1,IF(#REF!=\"\",NA(),#REF!),NA()),NA())","v":{"$error":"#REF!"}},{"$error":"#REF!"},{"$error":"#REF!"}]
[null,null,null,{"$f":"IF(#REF!=$E$1,IF(#REF!=$G$1,#REF!,NA()),NA())","v":{"$error":"#REF!"}},{"$f":"IF(#REF!=$E$1,IF(#REF!=$G$1,#REF!,NA()),NA())","v":{"$error":"#REF!"}},{"$f":"IF(#REF!=$E$1,IF(#REF!=$G$1,IF(#REF!=\"\",NA(),#REF!),NA()),NA())","v":{"$error":"#REF!"}},{"$f":"IF(#REF!=$E$1,IF(#REF!=$G$1,IF(#REF!=\"\",NA(),#REF!),NA()),NA())","v":{"$error":"#REF!"}},{"$error":"#REF!"},{"$error":"#REF!"}]
[null,null,null,{"$f":"IF(#REF!=$E$1,IF(#REF!=$G$1,#REF!,NA()),NA())","v":{"$error":"#REF!"}},{"$f":"IF(#REF!=$E$1,IF(#REF!=$G$1,#REF!,NA()),NA())","v":{"$error":"#REF!"}},{"$f":"IF(#REF!=$E$1,IF(#REF!=$G$1,IF(#REF!=\"\",NA(),#REF!),NA()),NA())","v":{"$error":"#REF!"}},{"$f":"IF(#REF!=$E$1,IF(#REF!=$G$1,IF(#REF!=\"\",NA(),#REF!),NA()),NA())","v":{"$error":"#REF!"}},{"$error":"#REF!"},{"$error":"#REF!"}]
[null,null,null,{"$f":"IF(#REF!=$E$1,IF(#REF!=$G$1,#REF!,NA()),NA())","v":{"$error":"#REF!"}},{"$f":"IF(#REF!=$E$1,IF(#REF!=$G$1,#REF!,NA()),NA())","v":{"$error":"#REF!"}},{"$f":"IF(#REF!=$E$1,IF(#REF!=$G$1,IF(#REF!=\"\",NA(),#REF!),NA()),NA())","v":{"$error":"#REF!"}},{"$f":"IF(#REF!=$E$1,IF(#REF!=$G$1,IF(#REF!=\"\",NA(),#REF!),NA()),NA())","v":{"$error":"#REF!"}},{"$error":"#REF!"},{"$error":"#REF!"}]
[null,null,null,{"$f":"IF(#REF!=$E$1,IF(#REF!=$G$1,#REF!,NA()),NA())","v":{"$error":"#REF!"}},{"$f":"IF(#REF!=$E$1,IF(#REF!=$G$1,#REF!,NA()),NA())","v":{"$error":"#REF!"}},{"$f":"IF(#REF!=$E$1,IF(#REF!=$G$1,IF(#REF!=\"\",NA(),#REF!),NA()),NA())","v":{"$error":"#REF!"}},{"$f":"IF(#REF!=$E$1,IF(#REF!=$G$1,IF(#REF!=\"\",NA(),#REF!),NA()),NA())","v":{"$error":"#REF!"}},{"$error":"#REF!"},{"$error":"#REF!"}]
[null,null,null,{"$f":"IF(#REF!=$E$1,IF(#REF!=$G$1,#REF!,NA()),NA())","v":{"$error":"#REF!"}},{"$f":"IF(#REF!=$E$1,IF(#REF!=$G$1,#REF!,NA()),NA())","v":{"$error":"#REF!"}},{"$f":"IF(#REF!=$E$1,IF(#REF!=$G$1,IF(#REF!=\"\",NA(),#REF!),NA()),NA())","v":{"$error":"#REF!"}},{"$f":"IF(#REF!=$E$1,IF(#REF!=$G$1,IF(#REF!=\"\",NA(),#REF!),NA()),NA())","v":{"$error":"#REF!"}},{"$error":"#REF!"},{"$error":"#REF!"}]
[null,null,null,{"$f":"IF(#REF!=$E$1,IF(#REF!=$G$1,#REF!,NA()),NA())","v":{"$error":"#REF!"}},{"$f":"IF(#REF!=$E$1,IF(#REF!=$G$1,#REF!,NA()),NA())","v":{"$error":"#REF!"}},{"$f":"IF(#REF!=$E$1,IF(#REF!=$G$1,IF(#REF!=\"\",NA(),#REF!),NA()),NA())","v":{"$error":"#REF!"}},{"$f":"IF(#REF!=$E$1,IF(#REF!=$G$1,IF(#REF!=\"\",NA(),#REF!),NA()),NA())","v":{"$error":"#REF!"}},{"$error":"#REF!"},{"$error":"#REF!"}]
[null,null,null,{"$f":"IF(#REF!=$E$1,IF(#REF!=$G$1,#REF!,NA()),NA())","v":{"$error":"#REF!"}},{"$f":"IF(#REF!=$E$1,IF(#REF!=$G$1,#REF!,NA()),NA())","v":{"$error":"#REF!"}},{"$f":"IF(#REF!=$E$1,IF(#REF!=$G$1,IF(#REF!=\"\",NA(),#REF!),NA()),NA())","v":{"$error":"#REF!"}},{"$f":"IF(#REF!=$E$1,IF(#REF!=$G$1,IF(#REF!=\"\",NA(),#REF!),NA()),NA())","v":{"$error":"#REF!"}},{"$error":"#REF!"},{"$error":"#REF!"}]
[null,null,null,{"$f":"IF(#REF!=$E$1,IF(#REF!=$G$1,#REF!,NA()),NA())","v":{"$error":"#REF!"}},{"$f":"IF(#REF!=$E$1,IF(#REF!=$G$1,#REF!,NA()),NA())","v":{"$error":"#REF!"}},{"$f":"IF(#REF!=$E$1,IF(#REF!=$G$1,IF(#REF!=\"\",NA(),#REF!),NA()),NA())","v":{"$error":"#REF!"}},{"$f":"IF(#REF!=$E$1,IF(#REF!=$G$1,IF(#REF!=\"\",NA(),#REF!),NA()),NA())","v":{"$error":"#REF!"}},{"$error":"#REF!"},{"$error":"#REF!"}]
[null,null,null,{"$f":"IF(#REF!=$E$1,IF(#REF!=$G$1,#REF!,NA()),NA())","v":{"$error":"#REF!"}},{"$f":"IF(#REF!=$E$1,IF(#REF!=$G$1,#REF!,NA()),NA())","v":{"$error":"#REF!"}},{"$f":"IF(#REF!=$E$1,IF(#REF!=$G$1,IF(#REF!=\"\",NA(),#REF!),NA()),NA())","v":{"$error":"#REF!"}},{"$f":"IF(#REF!=$E$1,IF(#REF!=$G$1,IF(#REF!=\"\",NA(),#REF!),NA()),NA())","v":{"$error":"#REF!"}},{"$error":"#REF!"},{"$error":"#REF!"}]
[null,null,null,{"$f":"IF(#REF!=$E$1,IF(#REF!=$G$1,#REF!,NA()),NA())","v":{"$error":"#REF!"}},{"$f":"IF(#REF!=$E$1,IF(#REF!=$G$1,#REF!,NA()),NA())","v":{"$error":"#REF!"}},{"$f":"IF(#REF!=$E$1,IF(#REF!=$G$1,IF(#REF!=\"\",NA(),#REF!),NA()),NA())","v":{"$error":"#REF!"}},{"$f":"IF(#REF!=$E$1,IF(#REF!=$G$1,IF(#REF!=\"\",NA(),#REF!),NA()),NA())","v":{"$error":"#REF!"}},{"$error":"#REF!"},{"$error":"#REF!"}]
[null,null,null,{"$f":"IF(#REF!=$E$1,IF(#REF!=$G$1,#REF!,NA()),NA())","v":{"$error":"#REF!"}},{"$f":"IF(#REF!=$E$1,IF(#REF!=$G$1,#REF!,NA()),NA())","v":{"$error":"#REF!"}},{"$f":"IF(#REF!=$E$1,IF(#REF!=$G$1,IF(#REF!=\"\",NA(),#REF!),NA()),NA())","v":{"$error":"#REF!"}},{"$f":"IF(#REF!=$E$1,IF(#REF!=$G$1,IF(#REF!=\"\",NA(),#REF!),NA()),NA())","v":{"$error":"#REF!"}},{"$error":"#REF!"},{"$error":"#REF!"}]
[null,null,null,{"$f":"IF(#REF!=$E$1,IF(#REF!=$G$1,#REF!,NA()),NA())","v":{"$error":"#REF!"}},{"$f":"IF(#REF!=$E$1,IF(#REF!=$G$1,#REF!,NA()),NA())","v":{"$error":"#REF!"}},{"$f":"IF(#REF!=$E$1,IF(#REF!=$G$1,IF(#REF!=\"\",NA(),#REF!),NA()),NA())","v":{"$error":"#REF!"}},{"$f":"IF(#REF!=$E$1,IF(#REF!=$G$1,IF(#REF!=\"\",NA(),#REF!),NA()),NA())","v":{"$error":"#REF!"}},{"$error":"#REF!"},{"$error":"#REF!"}]
[null,null,null,{"$f":"IF(#REF!=$E$1,IF(#REF!=$G$1,#REF!,NA()),NA())","v":{"$error":"#REF!"}},{"$f":"IF(#REF!=$E$1,IF(#REF!=$G$1,#REF!,NA()),NA())","v":{"$error":"#REF!"}},{"$f":"IF(#REF!=$E$1,IF(#REF!=$G$1,IF(#REF!=\"\",NA(),#REF!),NA()),NA())","v":{"$error":"#REF!"}},{"$f":"IF(#REF!=$E$1,IF(#REF!=$G$1,IF(#REF!=\"\",NA(),#REF!),NA()),NA())","v":{"$error":"#REF!"}},{"$error":"#REF!"},{"$error":"#REF!"}]
[null,null,null,{"$f":"IF(#REF!=$E$1,IF(#REF!=$G$1,#REF!,NA()),NA())","v":{"$error":"#REF!"}},{"$f":"IF(#REF!=$E$1,IF(#REF!=$G$1,#REF!,NA()),NA())","v":{"$error":"#REF!"}},{"$f":"IF(#REF!=$E$1,IF(#REF!=$G$1,IF(#REF!=\"\",NA(),#REF!),NA()),NA())","v":{"$error":"#REF!"}},{"$f":"IF(#REF!=$E$1,IF(#REF!=$G$1,IF(#REF!=\"\",NA(),#REF!),NA()),NA())","v":{"$error":"#REF!"}},{"$error":"#REF!"},{"$error":"#REF!"}]
[null,null,null,{"$f":"IF(#REF!=$E$1,IF(#REF!=$G$1,#REF!,NA()),NA())","v":{"$error":"#REF!"}},{"$f":"IF(#REF!=$E$1,IF(#REF!=$G$1,#REF!,NA()),NA())","v":{"$error":"#REF!"}},{"$f":"IF(#REF!=$E$1,IF(#REF!=$G$1,IF(#REF!=\"\",NA(),#REF!),NA()),NA())","v":{"$error":"#REF!"}},{"$f":"IF(#REF!=$E$1,IF(#REF!=$G$1,IF(#REF!=\"\",NA(),#REF!),NA()),NA())","v":{"$error":"#REF!"}},{"$error":"#REF!"},{"$error":"#REF!"}]
[null,null,null,{"$f":"IF(#REF!=$E$1,IF(#REF!=$G$1,#REF!,NA()),NA())","v":{"$error":"#REF!"}},{"$f":"IF(#REF!=$E$1,IF(#REF!=$G$1,#REF!,NA()),NA())","v":{"$error":"#REF!"}},{"$f":"IF(#REF!=$E$1,IF(#REF!=$G$1,IF(#REF!=\"\",NA(),#REF!),NA()),NA())","v":{"$error":"#REF!"}},{"$f":"IF(#REF!=$E$1,IF(#REF!=$G$1,IF(#REF!=\"\",NA(),#REF!),NA()),NA())","v":{"$error":"#REF!"}},{"$f":"IF(AND(ISNUMBER(G516),F516=\"-\"),0,F516)","v":{"$error":"#REF!"}},{"$f":"IF(AND(ISNUMBER(F516),G516=\"-\"),0,G516)","v":{"$error":"#REF!"}}]
[null,null,null,{"$f":"IF(#REF!=$E$1,IF(#REF!=$G$1,#REF!,NA()),NA())","v":{"$error":"#REF!"}},{"$f":"IF(#REF!=$E$1,IF(#REF!=$G$1,#REF!,NA()),NA())","v":{"$error":"#REF!"}},{"$f":"IF(#REF!=$E$1,IF(#REF!=$G$1,IF(#REF!=\"\",NA(),#REF!),NA()),NA())","v":{"$error":"#REF!"}},{"$f":"IF(#REF!=$E$1,IF(#REF!=$G$1,IF(#REF!=\"\",NA(),#REF!),NA()),NA())","v":{"$error":"#REF!"}},{"$error":"#REF!"},{"$error":"#REF!"}]
[null,null,null,{"$f":"IF(#REF!=$E$1,IF(#REF!=$G$1,#REF!,NA()),NA())","v":{"$error":"#REF!"}},{"$f":"IF(#REF!=$E$1,IF(#REF!=$G$1,#REF!,NA()),NA())","v":{"$error":"#REF!"}},{"$f":"IF(#REF!=$E$1,IF(#REF!=$G$1,IF(#REF!=\"\",NA(),#REF!),NA()),NA())","v":{"$error":"#REF!"}},{"$f":"IF(#REF!=$E$1,IF(#REF!=$G$1,IF(#REF!=\"\",NA(),#REF!),NA()),NA())","v":{"$error":"#REF!"}},{"$error":"#REF!"},{"$error":"#REF!"}]
[null,null,null,{"$f":"IF(#REF!=$E$1,IF(#REF!=$G$1,#REF!,NA()),NA())","v":{"$error":"#REF!"}},{"$f":"IF(#REF!=$E$1,IF(#REF!=$G$1,#REF!,NA()),NA())","v":{"$error":"#REF!"}},{"$f":"IF(#REF!=$E$1,IF(#REF!=$G$1,IF(#REF!=\"\",NA(),#REF!),NA()),NA())","v":{"$error":"#REF!"}},{"$f":"IF(#REF!=$E$1,IF(#REF!=$G$1,IF(#REF!=\"\",NA(),#REF!),NA()),NA())","v":{"$error":"#REF!"}},{"$error":"#REF!"},{"$error":"#REF!"}]
[null,null,null,{"$f":"IF(#REF!=$E$1,IF(#REF!=$G$1,#REF!,NA()),NA())","v":{"$error":"#REF!"}},{"$f":"IF(#REF!=$E$1,IF(#REF!=$G$1,#REF!,NA()),NA())","v":{"$error":"#REF!"}},{"$f":"IF(#REF!=$E$1,IF(#REF!=$G$1,IF(#REF!=\"\",NA(),#REF!),NA()),NA())","v":{"$error":"#REF!"}},{"$f":"IF(#REF!=$E$1,IF(#REF!=$G$1,IF(#REF!=\"\",NA(),#REF!),NA()),NA())","v":{"$error":"#REF!"}},{"$error":"#REF!"},{"$error":"#REF!"}]
[null,null,null,{"$f":"IF(#REF!=$E$1,IF(#REF!=$G$1,#REF!,NA()),NA())","v":{"$error":"#REF!"}},{"$f":"IF(#REF!=$E$1,IF(#REF!=$G$1,#REF!,NA()),NA())","v":{"$error":"#REF!"}},{"$f":"IF(#REF!=$E$1,IF(#REF!=$G$1,IF(#REF!=\"\",NA(),#REF!),NA()),NA())","v":{"$error":"#REF!"}},{"$f":"IF(#REF!=$E$1,IF(#REF!=$G$1,IF(#REF!=\"\",NA(),#REF!),NA()),NA())","v":{"$error":"#REF!"}},{"$error":"#REF!"},{"$error":"#REF!"}]
[null,null,null,{"$f":"IF(#REF!=$E$1,IF(#REF!=$G$1,#REF!,NA()),NA())","v":{"$error":"#REF!"}},{"$f":"IF(#REF!=$E$1,IF(#REF!=$G$1,#REF!,NA()),NA())","v":{"$error":"#REF!"}},{"$f":"IF(#REF!=$E$1,IF(#REF!=$G$1,IF(#REF!=\"\",NA(),#REF!),NA()),NA())","v":{"$error":"#REF!"}},{"$f":"IF(#REF!=$E$1,IF(#REF!=$G$1,IF(#REF!=\"\",NA(),#REF!),NA()),NA())","v":{"$error":"#REF!"}},{"$error":"#REF!"},{"$error":"#REF!"}]
[null,null,null,{"$f":"IF(#REF!=$E$1,IF(#REF!=$G$1,#REF!,NA()),NA())","v":{"$error":"#REF!"}},{"$f":"IF(#REF!=$E$1,IF(#REF!=$G$1,#REF!,NA()),NA())","v":{"$error":"#REF!"}},{"$f":"IF(#REF!=$E$1,IF(#REF!=$G$1,IF(#REF!=\"\",NA(),#REF!),NA()),NA())","v":{"$error":"#REF!"}},{"$f":"IF(#REF!=$E$1,IF(#REF!=$G$1,IF(#REF!=\"\",NA(),#REF!),NA()),NA())","v":{"$error":"#REF!"}},{"$error":"#REF!"},{"$error":"#REF!"}]
[null,null,null,{"$f":"IF(#REF!=$E$1,IF(#REF!=$G$1,#REF!,NA()),NA())","v":{"$error":"#REF!"}},{"$f":"IF(#REF!=$E$1,IF(#REF!=$G$1,#REF!,NA()),NA())","v":{"$error":"#REF!"}},{"$f":"IF(#REF!=$E$1,IF(#REF!=$G$1,IF(#REF!=\"\",NA(),#REF!),NA()),NA())","v":{"$error":"#REF!"}},{"$f":"IF(#REF!=$E$1,IF(#REF!=$G$1,IF(#REF!=\"\",NA(),#REF!),NA()),NA())","v":{"$error":"#REF!"}},{"$error":"#REF!"},{"$error":"#REF!"}]
[null,null,null,{"$f":"IF(#REF!=$E$1,IF(#REF!=$G$1,#REF!,NA()),NA())","v":{"$error":"#REF!"}},{"$f":"IF(#REF!=$E$1,IF(#REF!=$G$1,#REF!,NA()),NA())","v":{"$error":"#REF!"}},{"$f":"IF(#REF!=$E$1,IF(#REF!=$G$1,IF(#REF!=\"\",NA(),#REF!),NA()),NA())","v":{"$error":"#REF!"}},{"$f":"IF(#REF!=$E$1,IF(#REF!=$G$1,IF(#REF!=\"\",NA(),#REF!),NA()),NA())","v":{"$error":"#REF!"}},{"$error":"#REF!"},{"$error":"#REF!"}]
[null,null,null,{"$f":"IF(#REF!=$E$1,IF(#REF!=$G$1,#REF!,NA()),NA())","v":{"$error":"#REF!"}},{"$f":"IF(#REF!=$E$1,IF(#REF!=$G$1,#REF!,NA()),NA())","v":{"$error":"#REF!"}},{"$f":"IF(#REF!=$E$1,IF(#REF!=$G$1,IF(#REF!=\"\",NA(),#REF!),NA()),NA())","v":{"$error":"#REF!"}},{"$f":"IF(#REF!=$E$1,IF(#REF!=$G$1,IF(#REF!=\"\",NA(),#REF!),NA()),NA())","v":{"$error":"#REF!"}},{"$error":"#REF!"},{"$error":"#REF!"}]
[null,null,null,{"$f":"IF(#REF!=$E$1,IF(#REF!=$G$1,#REF!,NA()),NA())","v":{"$error":"#REF!"}},{"$f":"IF(#REF!=$E$1,IF(#REF!=$G$1,#REF!,NA()),NA())","v":{"$error":"#REF!"}},{"$f":"IF(#REF!=$E$1,IF(#REF!=$G$1,IF(#REF!=\"\",NA(),#REF!),NA()),NA())","v":{"$error":"#REF!"}},{"$f":"IF(#REF!=$E$1,IF(#REF!=$G$1,IF(#REF!=\"\",NA(),#REF!),NA()),NA())","v":{"$error":"#REF!"}},{"$error":"#REF!"},{"$error":"#REF!"}]
[null,null,null,{"$f":"IF(#REF!=$E$1,IF(#REF!=$G$1,#REF!,NA()),NA())","v":{"$error":"#REF!"}},{"$f":"IF(#REF!=$E$1,IF(#REF!=$G$1,#REF!,NA()),NA())","v":{"$error":"#REF!"}},{"$f":"IF(#REF!=$E$1,IF(#REF!=$G$1,IF(#REF!=\"\",NA(),#REF!),NA()),NA())","v":{"$error":"#REF!"}},{"$f":"IF(#REF!=$E$1,IF(#REF!=$G$1,IF(#REF!=\"\",NA(),#REF!),NA()),NA())","v":{"$error":"#REF!"}},{"$error":"#REF!"},{"$error":"#REF!"}]
[null,null,null,{"$f":"IF(#REF!=$E$1,IF(#REF!=$G$1,#REF!,NA()),NA())","v":{"$error":"#REF!"}},{"$f":"IF(#REF!=$E$1,IF(#REF!=$G$1,#REF!,NA()),NA())","v":{"$error":"#REF!"}},{"$f":"IF(#REF!=$E$1,IF(#REF!=$G$1,IF(#REF!=\"\",NA(),#REF!),NA()),NA())","v":{"$error":"#REF!"}},{"$f":"IF(#REF!=$E$1,IF(#REF!=$G$1,IF(#REF!=\"\",NA(),#REF!),NA()),NA())","v":{"$error":"#REF!"}},{"$error":"#REF!"},{"$error":"#REF!"}]
[null,null,null,{"$f":"IF(#REF!=$E$1,IF(#REF!=$G$1,#REF!,NA()),NA())","v":{"$error":"#REF!"}},{"$f":"IF(#REF!=$E$1,IF(#REF!=$G$1,#REF!,NA()),NA())","v":{"$error":"#REF!"}},{"$f":"IF(#REF!=$E$1,IF(#REF!=$G$1,IF(#REF!=\"\",NA(),#REF!),NA()),NA())","v":{"$error":"#REF!"}},{"$f":"IF(#REF!=$E$1,IF(#REF!=$G$1,IF(#REF!=\"\",NA(),#REF!),NA()),NA())","v":{"$error":"#REF!"}},{"$error":"#REF!"},{"$error":"#REF!"}]
[null,null,null,{"$f":"IF(#REF!=$E$1,IF(#REF!=$G$1,#REF!,NA()),NA())","v":{"$error":"#REF!"}},{"$f":"IF(#REF!=$E$1,IF(#REF!=$G$1,#REF!,NA()),NA())","v":{"$error":"#REF!"}},{"$f":"IF(#REF!=$E$1,IF(#REF!=$G$1,IF(#REF!=\"\",NA(),#REF!),NA()),NA())","v":{"$error":"#REF!"}},{"$f":"IF(#REF!=$E$1,IF(#REF!=$G$1,IF(#REF!=\"\",NA(),#REF!),NA()),NA())","v":{"$error":"#REF!"}},{"$error":"#REF!"},{"$error":"#REF!"}]
[null,null,null,{"$f":"IF(#REF!=$E$1,IF(#REF!=$G$1,#REF!,NA()),NA())","v":{"$error":"#REF!"}},{"$f":"IF(#REF!=$E$1,IF(#REF!=$G$1,#REF!,NA()),NA())","v":{"$error":"#REF!"}},{"$f":"IF(#REF!=$E$1,IF(#REF!=$G$1,IF(#REF!=\"\",NA(),#REF!),NA()),NA())","v":{"$error":"#REF!"}},{"$f":"IF(#REF!=$E$1,IF(#REF!=$G$1,IF(#REF!=\"\",NA(),#REF!),NA()),NA())","v":{"$error":"#REF!"}},{"$error":"#REF!"},{"$error":"#REF!"}]
[null,null,null,{"$f":"IF(#REF!=$E$1,IF(#REF!=$G$1,#REF!,NA()),NA())","v":{"$error":"#REF!"}},{"$f":"IF(#REF!=$E$1,IF(#REF!=$G$1,#REF!,NA()),NA())","v":{"$error":"#REF!"}},{"$f":"IF(#REF!=$E$1,IF(#REF!=$G$1,IF(#REF!=\"\",NA(),#REF!),NA()),NA())","v":{"$error":"#REF!"}},{"$f":"IF(#REF!=$E$1,IF(#REF!=$G$1,IF(#REF!=\"\",NA(),#REF!),NA()),NA())","v":{"$error":"#REF!"}},{"$error":"#REF!"},{"$error":"#REF!"}]
[null,null,null,{"$f":"IF(#REF!=$E$1,IF(#REF!=$G$1,#REF!,NA()),NA())","v":{"$error":"#REF!"}},{"$f":"IF(#REF!=$E$1,IF(#REF!=$G$1,#REF!,NA()),NA())","v":{"$error":"#REF!"}},{"$f":"IF(#REF!=$E$1,IF(#REF!=$G$1,IF(#REF!=\"\",NA(),#REF!),NA()),NA())","v":{"$error":"#REF!"}},{"$f":"IF(#REF!=$E$1,IF(#REF!=$G$1,IF(#REF!=\"\",NA(),#REF!),NA()),NA())","v":{"$error":"#REF!"}},{"$error":"#REF!"},{"$error":"#REF!"}]
[null,null,null,{"$f":"IF(#REF!=$E$1,IF(#REF!=$G$1,#REF!,NA()),NA())","v":{"$error":"#REF!"}},{"$f":"IF(#REF!=$E$1,IF(#REF!=$G$1,#REF!,NA()),NA())","v":{"$error":"#REF!"}},{"$f":"IF(#REF!=$E$1,IF(#REF!=$G$1,IF(#REF!=\"\",NA(),#REF!),NA()),NA())","v":{"$error":"#REF!"}},{"$f":"IF(#REF!=$E$1,IF(#REF!=$G$1,IF(#REF!=\"\",NA(),#REF!),NA()),NA())","v":{"$error":"#REF!"}},{"$error":"#REF!"},{"$error":"#REF!"}]
[null,null,null,{"$f":"IF(#REF!=$E$1,IF(#REF!=$G$1,#REF!,NA()),NA())","v":{"$error":"#REF!"}},{"$f":"IF(#REF!=$E$1,IF(#REF!=$G$1,#REF!,NA()),NA())","v":{"$error":"#REF!"}},{"$f":"IF(#REF!=$E$1,IF(#REF!=$G$1,IF(#REF!=\"\",NA(),#REF!),NA()),NA())","v":{"$error":"#REF!"}},{"$f":"IF(#REF!=$E$1,IF(#REF!=$G$1,IF(#REF!=\"\",NA(),#REF!),NA()),NA())","v":{"$error":"#REF!"}},{"$error":"#REF!"},{"$error":"#REF!"}]
[null,null,null,{"$f":"IF(#REF!=$E$1,IF(#REF!=$G$1,#REF!,NA()),NA())","v":{"$error":"#REF!"}},{"$f":"IF(#REF!=$E$1,IF(#REF!=$G$1,#REF!,NA()),NA())","v":{"$error":"#REF!"}},{"$f":"IF(#REF!=$E$1,IF(#REF!=$G$1,IF(#REF!=\"\",NA(),#REF!),NA()),NA())","v":{"$error":"#REF!"}},{"$f":"IF(#REF!=$E$1,IF(#REF!=$G$1,IF(#REF!=\"\",NA(),#REF!),NA()),NA())","v":{"$error":"#REF!"}},{"$error":"#REF!"},{"$error":"#REF!"}]
[null,null,null,{"$f":"IF(#REF!=$E$1,IF(#REF!=$G$1,#REF!,NA()),NA())","v":{"$error":"#REF!"}},{"$f":"IF(#REF!=$E$1,IF(#REF!=$G$1,#REF!,NA()),NA())","v":{"$error":"#REF!"}},{"$f":"IF(#REF!=$E$1,IF(#REF!=$G$1,IF(#REF!=\"\",NA(),#REF!),NA()),NA())","v":{"$error":"#REF!"}},{"$f":"IF(#REF!=$E$1,IF(#REF!=$G$1,IF(#REF!=\"\",NA(),#REF!),NA()),NA())","v":{"$error":"#REF!"}},{"$error":"#REF!"},{"$error":"#REF!"}]
[null,null,null,{"$f":"IF(#REF!=$E$1,IF(#REF!=$G$1,#REF!,NA()),NA())","v":{"$error":"#REF!"}},{"$f":"IF(#REF!=$E$1,IF(#REF!=$G$1,#REF!,NA()),NA())","v":{"$error":"#REF!"}},{"$f":"IF(#REF!=$E$1,IF(#REF!=$G$1,IF(#REF!=\"\",NA(),#REF!),NA()),NA())","v":{"$error":"#REF!"}},{"$f":"IF(#REF!=$E$1,IF(#REF!=$G$1,IF(#REF!=\"\",NA(),#REF!),NA()),NA())","v":{"$error":"#REF!"}},{"$error":"#REF!"},{"$error":"#REF!"}]
[null,null,null,{"$f":"IF(#REF!=$E$1,IF(#REF!=$G$1,#REF!,NA()),NA())","v":{"$error":"#REF!"}},{"$f":"IF(#REF!=$E$1,IF(#REF!=$G$1,#REF!,NA()),NA())","v":{"$error":"#REF!"}},{"$f":"IF(#REF!=$E$1,IF(#REF!=$G$1,IF(#REF!=\"\",NA(),#REF!),NA()),NA())","v":{"$error":"#REF!"}},{"$f":"IF(#REF!=$E$1,IF(#REF!=$G$1,IF(#REF!=\"\",NA(),#REF!),NA()),NA())","v":{"$error":"#REF!"}},{"$error":"#REF!"},{"$error":"#REF!"}]
[null,null,null,{"$f":"IF(#REF!=$E$1,IF(#REF!=$G$1,#REF!,NA()),NA())","v":{"$error":"#REF!"}},{"$f":"IF(#REF!=$E$1,IF(#REF!=$G$1,#REF!,NA()),NA())","v":{"$error":"#REF!"}},{"$f":"IF(#REF!=$E$1,IF(#REF!=$G$1,IF(#REF!=\"\",NA(),#REF!),NA()),NA())","v":{"$error":"#REF!"}},{"$f":"IF(#REF!=$E$1,IF(#REF!=$G$1,IF(#REF!=\"\",NA(),#REF!),NA()),NA())","v":{"$error":"#REF!"}},{"$error":"#REF!"},{"$error":"#REF!"}]
[null,null,null,{"$f":"IF(#REF!=$E$1,IF(#REF!=$G$1,#REF!,NA()),NA())","v":{"$error":"#REF!"}},{"$f":"IF(#REF!=$E$1,IF(#REF!=$G$1,#REF!,NA()),NA())","v":{"$error":"#REF!"}},{"$f":"IF(#REF!=$E$1,IF(#REF!=$G$1,IF(#REF!=\"\",NA(),#REF!),NA()),NA())","v":{"$error":"#REF!"}},{"$f":"IF(#REF!=$E$1,IF(#REF!=$G$1,IF(#REF!=\"\",NA(),#REF!),NA()),NA())","v":{"$error":"#REF!"}},{"$error":"#REF!"},{"$error":"#REF!"}]
[null,null,null,{"$f":"IF(#REF!=$E$1,IF(#REF!=$G$1,#REF!,NA()),NA())","v":{"$error":"#REF!"}},{"$f":"IF(#REF!=$E$1,IF(#REF!=$G$1,#REF!,NA()),NA())","v":{"$error":"#REF!"}},{"$f":"IF(#REF!=$E$1,IF(#REF!=$G$1,IF(#REF!=\"\",NA(),#REF!),NA()),NA())","v":{"$error":"#REF!"}},{"$f":"IF(#REF!=$E$1,IF(#REF!=$G$1,IF(#REF!=\"\",NA(),#REF!),NA()),NA())","v":{"$error":"#REF!"}},{"$error":"#REF!"},{"$error":"#REF!"}]
[null,null,null,{"$f":"IF(#REF!=$E$1,IF(#REF!=$G$1,#REF!,NA()),NA())","v":{"$error":"#REF!"}},{"$f":"IF(#REF!=$E$1,IF(#REF!=$G$1,#REF!,NA()),NA())","v":{"$error":"#REF!"}},{"$f":"IF(#REF!=$E$1,IF(#REF!=$G$1,IF(#REF!=\"\",NA(),#REF!),NA()),NA())","v":{"$error":"#REF!"}},{"$f":"IF(#REF!=$E$1,IF(#REF!=$G$1,IF(#REF!=\"\",NA(),#REF!),NA()),NA())","v":{"$error":"#REF!"}},{"$error":"#REF!"},{"$error":"#REF!"}]
[null,null,null,{"$f":"IF(#REF!=$E$1,IF(#REF!=$G$1,#REF!,NA()),NA())","v":{"$error":"#REF!"}},{"$f":"IF(#REF!=$E$1,IF(#REF!=$G$1,#REF!,NA()),NA())","v":{"$error":"#REF!"}},{"$f":"IF(#REF!=$E$1,IF(#REF!=$G$1,IF(#REF!=\"\",NA(),#REF!),NA()),NA())","v":{"$error":"#REF!"}},{"$f":"IF(#REF!=$E$1,IF(#REF!=$G$1,IF(#REF!=\"\",NA(),#REF!),NA()),NA())","v":{"$error":"#REF!"}},{"$error":"#REF!"},{"$error":"#REF!"}]
[null,null,null,{"$f":"IF(#REF!=$E$1,IF(#REF!=$G$1,#REF!,NA()),NA())","v":{"$error":"#REF!"}},{"$f":"IF(#REF!=$E$1,IF(#REF!=$G$1,#REF!,NA()),NA())","v":{"$error":"#REF!"}},{"$f":"IF(#REF!=$E$1,IF(#REF!=$G$1,IF(#REF!=\"\",NA(),#REF!),NA()),NA())","v":{"$error":"#REF!"}},{"$f":"IF(#REF!=$E$1,IF(#REF!=$G$1,IF(#REF!=\"\",NA(),#REF!),NA()),NA())","v":{"$error":"#REF!"}},{"$error":"#REF!"},{"$error":"#REF!"}]
[null,null,null,{"$f":"IF(#REF!=$E$1,IF(#REF!=$G$1,#REF!,NA()),NA())","v":{"$error":"#REF!"}},{"$f":"IF(#REF!=$E$1,IF(#REF!=$G$1,#REF!,NA()),NA())","v":{"$error":"#REF!"}},{"$f":"IF(#REF!=$E$1,IF(#REF!=$G$1,IF(#REF!=\"\",NA(),#REF!),NA()),NA())","v":{"$error":"#REF!"}},{"$f":"IF(#REF!=$E$1,IF(#REF!=$G$1,IF(#REF!=\"\",NA(),#REF!),NA()),NA())","v":{"$error":"#REF!"}},{"$error":"#REF!"},{"$error":"#REF!"}]
[null,null,null,{"$f":"IF(#REF!=$E$1,IF(#REF!=$G$1,#REF!,NA()),NA())","v":{"$error":"#REF!"}},{"$f":"IF(#REF!=$E$1,IF(#REF!=$G$1,#REF!,NA()),NA())","v":{"$error":"#REF!"}},{"$f":"IF(#REF!=$E$1,IF(#REF!=$G$1,IF(#REF!=\"\",NA(),#REF!),NA()),NA())","v":{"$error":"#REF!"}},{"$f":"IF(#REF!=$E$1,IF(#REF!=$G$1,IF(#REF!=\"\",NA(),#REF!),NA()),NA())","v":{"$error":"#REF!"}},{"$error":"#REF!"},{"$error":"#REF!"}]
[null,null,null,{"$f":"IF(#REF!=$E$1,IF(#REF!=$G$1,#REF!,NA()),NA())","v":{"$error":"#REF!"}},{"$f":"IF(#REF!=$E$1,IF(#REF!=$G$1,#REF!,NA()),NA())","v":{"$error":"#REF!"}},{"$f":"IF(#REF!=$E$1,IF(#REF!=$G$1,IF(#REF!=\"\",NA(),#REF!),NA()),NA())","v":{"$error":"#REF!"}},{"$f":"IF(#REF!=$E$1,IF(#REF!=$G$1,IF(#REF!=\"\",NA(),#REF!),NA()),NA())","v":{"$error":"#REF!"}},{"$error":"#REF!"},{"$error":"#REF!"}]
[null,null,null,{"$f":"IF(#REF!=$E$1,IF(#REF!=$G$1,#REF!,NA()),NA())","v":{"$error":"#REF!"}},{"$f":"IF(#REF!=$E$1,IF(#REF!=$G$1,#REF!,NA()),NA())","v":{"$error":"#REF!"}},{"$f":"IF(#REF!=$E$1,IF(#REF!=$G$1,IF(#REF!=\"\",NA(),#REF!),NA()),NA())","v":{"$error":"#REF!"}},{"$f":"IF(#REF!=$E$1,IF(#REF!=$G$1,IF(#REF!=\"\",NA(),#REF!),NA()),NA())","v":{"$error":"#REF!"}},{"$error":"#REF!"},{"$error":"#REF!"}]
[null,null,null,{"$f":"IF(#REF!=$E$1,IF(#REF!=$G$1,#REF!,NA()),NA())","v":{"$error":"#REF!"}},{"$f":"IF(#REF!=$E$1,IF(#REF!=$G$1,#REF!,NA()),NA())","v":{"$error":"#REF!"}},{"$f":"IF(#REF!=$E$1,IF(#REF!=$G$1,IF(#REF!=\"\",NA(),#REF!),NA()),NA())","v":{"$error":"#REF!"}},{"$f":"IF(#REF!=$E$1,IF(#REF!=$G$1,IF(#REF!=\"\",NA(),#REF!),NA()),NA())","v":{"$error":"#REF!"}},{"$error":"#REF!"},{"$error":"#REF!"}]
[null,null,null,{"$f":"IF(#REF!=$E$1,IF(#REF!=$G$1,#REF!,NA()),NA())","v":{"$error":"#REF!"}},{"$f":"IF(#REF!=$E$1,IF(#REF!=$G$1,#REF!,NA()),NA())","v":{"$error":"#REF!"}},{"$f":"IF(#REF!=$E$1,IF(#REF!=$G$1,IF(#REF!=\"\",NA(),#REF!),NA()),NA())","v":{"$error":"#REF!"}},{"$f":"IF(#REF!=$E$1,IF(#REF!=$G$1,IF(#REF!=\"\",NA(),#REF!),NA()),NA())","v":{"$error":"#REF!"}},{"$error":"#REF!"},{"$error":"#REF!"}]
[null,null,null,{"$f":"IF(#REF!=$E$1,IF(#REF!=$G$1,#REF!,NA()),NA())","v":{"$error":"#REF!"}},{"$f":"IF(#REF!=$E$1,IF(#REF!=$G$1,#REF!,NA()),NA())","v":{"$error":"#REF!"}},{"$f":"IF(#REF!=$E$1,IF(#REF!=$G$1,IF(#REF!=\"\",NA(),#REF!),NA()),NA())","v":{"$error":"#REF!"}},{"$f":"IF(#REF!=$E$1,IF(#REF!=$G$1,IF(#REF!=\"\",NA(),#REF!),NA()),NA())","v":{"$error":"#REF!"}},{"$error":"#REF!"},{"$error":"#REF!"}]
[null,null,null,{"$f":"IF(#REF!=$E$1,IF(#REF!=$G$1,#REF!,NA()),NA())","v":{"$error":"#REF!"}},{"$f":"IF(#REF!=$E$1,IF(#REF!=$G$1,#REF!,NA()),NA())","v":{"$error":"#REF!"}},{"$f":"IF(#REF!=$E$1,IF(#REF!=$G$1,IF(#REF!=\"\",NA(),#REF!),NA()),NA())","v":{"$error":"#REF!"}},{"$f":"IF(#REF!=$E$1,IF(#REF!=$G$1,IF(#REF!=\"\",NA(),#REF!),NA()),NA())","v":{"$error":"#REF!"}},{"$error":"#REF!"},{"$error":"#REF!"}]
[null,null,null,{"$f":"IF(#REF!=$E$1,IF(#REF!=$G$1,#REF!,NA()),NA())","v":{"$error":"#REF!"}},{"$f":"IF(#REF!=$E$1,IF(#REF!=$G$1,#REF!,NA()),NA())","v":{"$error":"#REF!"}},{"$f":"IF(#REF!=$E$1,IF(#REF!=$G$1,IF(#REF!=\"\",NA(),#REF!),NA()),NA())","v":{"$error":"#REF!"}},{"$f":"IF(#REF!=$E$1,IF(#REF!=$G$1,IF(#REF!=\"\",NA(),#REF!),NA()),NA())","v":{"$error":"#REF!"}},{"$error":"#REF!"},{"$error":"#REF!"}]
[null,null,null,{"$f":"IF(#REF!=$E$1,IF(#REF!=$G$1,#REF!,NA()),NA())","v":{"$error":"#REF!"}},{"$f":"IF(#REF!=$E$1,IF(#REF!=$G$1,#REF!,NA()),NA())","v":{"$error":"#REF!"}},{"$f":"IF(#REF!=$E$1,IF(#REF!=$G$1,IF(#REF!=\"\",NA(),#REF!),NA()),NA())","v":{"$error":"#REF!"}},{"$f":"IF(#REF!=$E$1,IF(#REF!=$G$1,IF(#REF!=\"\",NA(),#REF!),NA()),NA())","v":{"$error":"#REF!"}},{"$error":"#REF!"},{"$error":"#REF!"}]
[null,null,null,{"$f":"IF(#REF!=$E$1,IF(#REF!=$G$1,#REF!,NA()),NA())","v":{"$error":"#REF!"}},{"$f":"IF(#REF!=$E$1,IF(#REF!=$G$1,#REF!,NA()),NA())","v":{"$error":"#REF!"}},{"$f":"IF(#REF!=$E$1,IF(#REF!=$G$1,IF(#REF!=\"\",NA(),#REF!),NA()),NA())","v":{"$error":"#REF!"}},{"$f":"IF(#REF!=$E$1,IF(#REF!=$G$1,IF(#REF!=\"\",NA(),#REF!),NA()),NA())","v":{"$error":"#REF!"}},{"$error":"#REF!"},{"$error":"#REF!"}]
[null,null,null,{"$f":"IF(#REF!=$E$1,IF(#REF!=$G$1,#REF!,NA()),NA())","v":{"$error":"#REF!"}},{"$f":"IF(#REF!=$E$1,IF(#REF!=$G$1,#REF!,NA()),NA())","v":{"$error":"#REF!"}},{"$f":"IF(#REF!=$E$1,IF(#REF!=$G$1,IF(#REF!=\"\",NA(),#REF!),NA()),NA())","v":{"$error":"#REF!"}},{"$f":"IF(#REF!=$E$1,IF(#REF!=$G$1,IF(#REF!=\"\",NA(),#REF!),NA()),NA())","v":{"$error":"#REF!"}},{"$error":"#REF!"},{"$error":"#REF!"}]
[null,null,null,{"$f":"IF(#REF!=$E$1,IF(#REF!=$G$1,#REF!,NA()),NA())","v":{"$error":"#REF!"}},{"$f":"IF(#REF!=$E$1,IF(#REF!=$G$1,#REF!,NA()),NA())","v":{"$error":"#REF!"}},{"$f":"IF(#REF!=$E$1,IF(#REF!=$G$1,IF(#REF!=\"\",NA(),#REF!),NA()),NA())","v":{"$error":"#REF!"}},{"$f":"IF(#REF!=$E$1,IF(#REF!=$G$1,IF(#REF!=\"\",NA(),#REF!),NA()),NA())","v":{"$error":"#REF!"}},{"$error":"#REF!"},{"$error":"#REF!"}]
[null,null,null,{"$f":"IF(#REF!=$E$1,IF(#REF!=$G$1,#REF!,NA()),NA())","v":{"$error":"#REF!"}},{"$f":"IF(#REF!=$E$1,IF(#REF!=$G$1,#REF!,NA()),NA())","v":{"$error":"#REF!"}},{"$f":"IF(#REF!=$E$1,IF(#REF!=$G$1,IF(#REF!=\"\",NA(),#REF!),NA()),NA())","v":{"$error":"#REF!"}},{"$f":"IF(#REF!=$E$1,IF(#REF!=$G$1,IF(#REF!=\"\",NA(),#REF!),NA()),NA())","v":{"$error":"#REF!"}},{"$error":"#REF!"},{"$error":"#REF!"}]
[null,null,null,{"$f":"IF(#REF!=$E$1,IF(#REF!=$G$1,#REF!,NA()),NA())","v":{"$error":"#REF!"}},{"$f":"IF(#REF!=$E$1,IF(#REF!=$G$1,#REF!,NA()),NA())","v":{"$error":"#REF!"}},{"$f":"IF(#REF!=$E$1,IF(#REF!=$G$1,IF(#REF!=\"\",NA(),#REF!),NA()),NA())","v":{"$error":"#REF!"}},{"$f":"IF(#REF!=$E$1,IF(#REF!=$G$1,IF(#REF!=\"\",NA(),#REF!),NA()),NA())","v":{"$error":"#REF!"}},{"$error":"#REF!"},{"$error":"#REF!"}]
[null,null,null,{"$f":"IF(#REF!=$E$1,IF(#REF!=$G$1,#REF!,NA()),NA())","v":{"$error":"#REF!"}},{"$f":"IF(#REF!=$E$1,IF(#REF!=$G$1,#REF!,NA()),NA())","v":{"$error":"#REF!"}},{"$f":"IF(#REF!=$E$1,IF(#REF!=$G$1,IF(#REF!=\"\",NA(),#REF!),NA()),NA())","v":{"$error":"#REF!"}},{"$f":"IF(#REF!=$E$1,IF(#REF!=$G$1,IF(#REF!=\"\",NA(),#REF!),NA()),NA())","v":{"$error":"#REF!"}},{"$error":"#REF!"},{"$error":"#REF!"}]
[null,null,null,{"$f":"IF(#REF!=$E$1,IF(#REF!=$G$1,#REF!,NA()),NA())","v":{"$error":"#REF!"}},{"$f":"IF(#REF!=$E$1,IF(#REF!=$G$1,#REF!,NA()),NA())","v":{"$error":"#REF!"}},{"$f":"IF(#REF!=$E$1,IF(#REF!=$G$1,IF(#REF!=\"\",NA(),#REF!),NA()),NA())","v":{"$error":"#REF!"}},{"$f":"IF(#REF!=$E$1,IF(#REF!=$G$1,IF(#REF!=\"\",NA(),#REF!),NA()),NA())","v":{"$error":"#REF!"}},{"$error":"#REF!"},{"$error":"#REF!"}]
[null,null,null,{"$f":"IF(#REF!=$E$1,IF(#REF!=$G$1,#REF!,NA()),NA())","v":{"$error":"#REF!"}},{"$f":"IF(#REF!=$E$1,IF(#REF!=$G$1,#REF!,NA()),NA())","v":{"$error":"#REF!"}},{"$f":"IF(#REF!=$E$1,IF(#REF!=$G$1,IF(#REF!=\"\",NA(),#REF!),NA()),NA())","v":{"$error":"#REF!"}},{"$f":"IF(#REF!=$E$1,IF(#REF!=$G$1,IF(#REF!=\"\",NA(),#REF!),NA()),NA())","v":{"$error":"#REF!"}},{"$error":"#REF!"},{"$error":"#REF!"}]
[null,null,null,{"$f":"IF(#REF!=$E$1,IF(#REF!=$G$1,#REF!,NA()),NA())","v":{"$error":"#REF!"}},{"$f":"IF(#REF!=$E$1,IF(#REF!=$G$1,#REF!,NA()),NA())","v":{"$error":"#REF!"}},{"$f":"IF(#REF!=$E$1,IF(#REF!=$G$1,IF(#REF!=\"\",NA(),#REF!),NA()),NA())","v":{"$error":"#REF!"}},{"$f":"IF(#REF!=$E$1,IF(#REF!=$G$1,IF(#REF!=\"\",NA(),#REF!),NA()),NA())","v":{"$error":"#REF!"}},{"$error":"#REF!"},{"$error":"#REF!"}]
[null,null,null,{"$f":"IF(#REF!=$E$1,IF(#REF!=$G$1,#REF!,NA()),NA())","v":{"$error":"#REF!"}},{"$f":"IF(#REF!=$E$1,IF(#REF!=$G$1,#REF!,NA()),NA())","v":{"$error":"#REF!"}},{"$f":"IF(#REF!=$E$1,IF(#REF!=$G$1,IF(#REF!=\"\",NA(),#REF!),NA()),NA())","v":{"$error":"#REF!"}},{"$f":"IF(#REF!=$E$1,IF(#REF!=$G$1,IF(#REF!=\"\",NA(),#REF!),NA()),NA())","v":{"$error":"#REF!"}},{"$error":"#REF!"},{"$error":"#REF!"}]
[null,null,null,{"$f":"IF(#REF!=$E$1,IF(#REF!=$G$1,#REF!,NA()),NA())","v":{"$error":"#REF!"}},{"$f":"IF(#REF!=$E$1,IF(#REF!=$G$1,#REF!,NA()),NA())","v":{"$error":"#REF!"}},{"$f":"IF(#REF!=$E$1,IF(#REF!=$G$1,IF(#REF!=\"\",NA(),#REF!),NA()),NA())","v":{"$error":"#REF!"}},{"$f":"IF(#REF!=$E$1,IF(#REF!=$G$1,IF(#REF!=\"\",NA(),#REF!),NA()),NA())","v":{"$error":"#REF!"}},{"$error":"#REF!"},{"$error":"#REF!"}]
[null,null,null,{"$f":"IF(#REF!=$E$1,IF(#REF!=$G$1,#REF!,NA()),NA())","v":{"$error":"#REF!"}},{"$f":"IF(#REF!=$E$1,IF(#REF!=$G$1,#REF!,NA()),NA())","v":{"$error":"#REF!"}},{"$f":"IF(#REF!=$E$1,IF(#REF!=$G$1,IF(#REF!=\"\",NA(),#REF!),NA()),NA())","v":{"$error":"#REF!"}},{"$f":"IF(#REF!=$E$1,IF(#REF!=$G$1,IF(#REF!=\"\",NA(),#REF!),NA()),NA())","v":{"$error":"#REF!"}},{"$error":"#REF!"},{"$error":"#REF!"}]
[null,null,null,{"$f":"IF(#REF!=$E$1,IF(#REF!=$G$1,#REF!,NA()),NA())","v":{"$error":"#REF!"}},{"$f":"IF(#REF!=$E$1,IF(#REF!=$G$1,#REF!,NA()),NA())","v":{"$error":"#REF!"}},{"$f":"IF(#REF!=$E$1,IF(#REF!=$G$1,IF(#REF!=\"\",NA(),#REF!),NA()),NA())","v":{"$error":"#REF!"}},{"$f":"IF(#REF!=$E$1,IF(#REF!=$G$1,IF(#REF!=\"\",NA(),#REF!),NA()),NA())","v":{"$error":"#REF!"}},{"$error":"#REF!"},{"$error":"#REF!"}]
[null,null,null,{"$f":"IF(#REF!=$E$1,IF(#REF!=$G$1,#REF!,NA()),NA())","v":{"$error":"#REF!"}},{"$f":"IF(#REF!=$E$1,IF(#REF!=$G$1,#REF!,NA()),NA())","v":{"$error":"#REF!"}},{"$f":"IF(#REF!=$E$1,IF(#REF!=$G$1,IF(#REF!=\"\",NA(),#REF!),NA()),NA())","v":{"$error":"#REF!"}},{"$f":"IF(#REF!=$E$1,IF(#REF!=$G$1,IF(#REF!=\"\",NA(),#REF!),NA()),NA())","v":{"$error":"#REF!"}},{"$error":"#REF!"},{"$error":"#REF!"}]
[null,null,null,{"$f":"IF(#REF!=$E$1,IF(#REF!=$G$1,#REF!,NA()),NA())","v":{"$error":"#REF!"}},{"$f":"IF(#REF!=$E$1,IF(#REF!=$G$1,#REF!,NA()),NA())","v":{"$error":"#REF!"}},{"$f":"IF(#REF!=$E$1,IF(#REF!=$G$1,IF(#REF!=\"\",NA(),#REF!),NA()),NA())","v":{"$error":"#REF!"}},{"$f":"IF(#REF!=$E$1,IF(#REF!=$G$1,IF(#REF!=\"\",NA(),#REF!),NA()),NA())","v":{"$error":"#REF!"}},{"$error":"#REF!"},{"$error":"#REF!"}]
[null,null,null,{"$f":"IF(#REF!=$E$1,IF(#REF!=$G$1,#REF!,NA()),NA())","v":{"$error":"#REF!"}},{"$f":"IF(#REF!=$E$1,IF(#REF!=$G$1,#REF!,NA()),NA())","v":{"$error":"#REF!"}},{"$f":"IF(#REF!=$E$1,IF(#REF!=$G$1,IF(#REF!=\"\",NA(),#REF!),NA()),NA())","v":{"$error":"#REF!"}},{"$f":"IF(#REF!=$E$1,IF(#REF!=$G$1,IF(#REF!=\"\",NA(),#REF!),NA()),NA())","v":{"$error":"#REF!"}},{"$error":"#REF!"},{"$error":"#REF!"}]
[null,null,null,{"$f":"IF(#REF!=$E$1,IF(#REF!=$G$1,#REF!,NA()),NA())","v":{"$error":"#REF!"}},{"$f":"IF(#REF!=$E$1,IF(#REF!=$G$1,#REF!,NA()),NA())","v":{"$error":"#REF!"}},{"$f":"IF(#REF!=$E$1,IF(#REF!=$G$1,IF(#REF!=\"\",NA(),#REF!),NA()),NA())","v":{"$error":"#REF!"}},{"$f":"IF(#REF!=$E$1,IF(#REF!=$G$1,IF(#REF!=\"\",NA(),#REF!),NA()),NA())","v":{"$error":"#REF!"}},{"$error":"#REF!"},{"$error":"#REF!"}]
[null,null,null,{"$f":"IF(#REF!=$E$1,IF(#REF!=$G$1,#REF!,NA()),NA())","v":{"$error":"#REF!"}},{"$f":"IF(#REF!=$E$1,IF(#REF!=$G$1,#REF!,NA()),NA())","v":{"$error":"#REF!"}},{"$f":"IF(#REF!=$E$1,IF(#REF!=$G$1,IF(#REF!=\"\",NA(),#REF!),NA()),NA())","v":{"$error":"#REF!"}},{"$f":"IF(#REF!=$E$1,IF(#REF!=$G$1,IF(#REF!=\"\",NA(),#REF!),NA()),NA())","v":{"$error":"#REF!"}},{"$error":"#REF!"},{"$error":"#REF!"}]
[null,null,null,{"$f":"IF(#REF!=$E$1,IF(#REF!=$G$1,#REF!,NA()),NA())","v":{"$error":"#REF!"}},{"$f":"IF(#REF!=$E$1,IF(#REF!=$G$1,#REF!,NA()),NA())","v":{"$error":"#REF!"}},{"$f":"IF(#REF!=$E$1,IF(#REF!=$G$1,IF(#REF!=\"\",NA(),#REF!),NA()),NA())","v":{"$error":"#REF!"}},{"$f":"IF(#REF!=$E$1,IF(#REF!=$G$1,IF(#REF!=\"\",NA(),#REF!),NA()),NA())","v":{"$error":"#REF!"}},{"$error":"#REF!"},{"$error":"#REF!"}]
[null,null,null,{"$f":"IF(#REF!=$E$1,IF(#REF!=$G$1,#REF!,NA()),NA())","v":{"$error":"#REF!"}},{"$f":"IF(#REF!=$E$1,IF(#REF!=$G$1,#REF!,NA()),NA())","v":{"$error":"#REF!"}},{"$f":"IF(#REF!=$E$1,IF(#REF!=$G$1,IF(#REF!=\"\",NA(),#REF!),NA()),NA())","v":{"$error":"#REF!"}},{"$f":"IF(#REF!=$E$1,IF(#REF!=$G$1,IF(#REF!=\"\",NA(),#REF!),NA()),NA())","v":{"$error":"#REF!"}},{"$error":"#REF!"},{"$error":"#REF!"}]
[null,null,null,{"$f":"IF(#REF!=$E$1,IF(#REF!=$G$1,#REF!,NA()),NA())","v":{"$error":"#REF!"}},{"$f":"IF(#REF!=$E$1,IF(#REF!=$G$1,#REF!,NA()),NA())","v":{"$error":"#REF!"}},{"$f":"IF(#REF!=$E$1,IF(#REF!=$G$1,IF(#REF!=\"\",NA(),#REF!),NA()),NA())","v":{"$error":"#REF!"}},{"$f":"IF(#REF!=$E$1,IF(#REF!=$G$1,IF(#REF!=\"\",NA(),#REF!),NA()),NA())","v":{"$error":"#REF!"}},{"$error":"#REF!"},{"$error":"#REF!"}]
[null,null,null,{"$f":"IF(#REF!=$E$1,IF(#REF!=$G$1,#REF!,NA()),NA())","v":{"$error":"#REF!"}},{"$f":"IF(#REF!=$E$1,IF(#REF!=$G$1,#REF!,NA()),NA())","v":{"$error":"#REF!"}},{"$f":"IF(#REF!=$E$1,IF(#REF!=$G$1,IF(#REF!=\"\",NA(),#REF!),NA()),NA())","v":{"$error":"#REF!"}},{"$f":"IF(#REF!=$E$1,IF(#REF!=$G$1,IF(#REF!=\"\",NA(),#REF!),NA()),NA())","v":{"$error":"#REF!"}},{"$error":"#REF!"},{"$error":"#REF!"}]
[null,null,null,{"$f":"IF(#REF!=$E$1,IF(#REF!=$G$1,#REF!,NA()),NA())","v":{"$error":"#REF!"}},{"$f":"IF(#REF!=$E$1,IF(#REF!=$G$1,#REF!,NA()),NA())","v":{"$error":"#REF!"}},{"$f":"IF(#REF!=$E$1,IF(#REF!=$G$1,IF(#REF!=\"\",NA(),#REF!),NA()),NA())","v":{"$error":"#REF!"}},{"$f":"IF(#REF!=$E$1,IF(#REF!=$G$1,IF(#REF!=\"\",NA(),#REF!),NA()),NA())","v":{"$error":"#REF!"}},{"$error":"#REF!"},{"$error":"#REF!"}]
[null,null,null,{"$f":"IF(#REF!=$E$1,IF(#REF!=$G$1,#REF!,NA()),NA())","v":{"$error":"#REF!"}},{"$f":"IF(#REF!=$E$1,IF(#REF!=$G$1,#REF!,NA()),NA())","v":{"$error":"#REF!"}},{"$f":"IF(#REF!=$E$1,IF(#REF!=$G$1,IF(#REF!=\"\",NA(),#REF!),NA()),NA())","v":{"$error":"#REF!"}},{"$f":"IF(#REF!=$E$1,IF(#REF!=$G$1,IF(#REF!=\"\",NA(),#REF!),NA()),NA())","v":{"$error":"#REF!"}},{"$f":"IF(AND(ISNUMBER(G580),F580=\"-\"),0,F580)","v":{"$error":"#REF!"}},{"$f":"IF(AND(ISNUMBER(F580),G580=\"-\"),0,G580)","v":{"$error":"#REF!"}}]
[null,null,null,{"$f":"IF(#REF!=$E$1,IF(#REF!=$G$1,#REF!,NA()),NA())","v":{"$error":"#REF!"}},{"$f":"IF(#REF!=$E$1,IF(#REF!=$G$1,#REF!,NA()),NA())","v":{"$error":"#REF!"}},{"$f":"IF(#REF!=$E$1,IF(#REF!=$G$1,IF(#REF!=\"\",NA(),#REF!),NA()),NA())","v":{"$error":"#REF!"}},{"$f":"IF(#REF!=$E$1,IF(#REF!=$G$1,IF(#REF!=\"\",NA(),#REF!),NA()),NA())","v":{"$error":"#REF!"}},{"$error":"#REF!"},{"$error":"#REF!"}]
[null,null,null,{"$f":"IF(#REF!=$E$1,IF(#REF!=$G$1,#REF!,NA()),NA())","v":{"$error":"#REF!"}},{"$f":"IF(#REF!=$E$1,IF(#REF!=$G$1,#REF!,NA()),NA())","v":{"$error":"#REF!"}},{"$f":"IF(#REF!=$E$1,IF(#REF!=$G$1,IF(#REF!=\"\",NA(),#REF!),NA()),NA())","v":{"$error":"#REF!"}},{"$f":"IF(#REF!=$E$1,IF(#REF!=$G$1,IF(#REF!=\"\",NA(),#REF!),NA()),NA())","v":{"$error":"#REF!"}},{"$error":"#REF!"},{"$error":"#REF!"}]
[null,null,null,{"$f":"IF(#REF!=$E$1,IF(#REF!=$G$1,#REF!,NA()),NA())","v":{"$error":"#REF!"}},{"$f":"IF(#REF!=$E$1,IF(#REF!=$G$1,#REF!,NA()),NA())","v":{"$error":"#REF!"}},{"$f":"IF(#REF!=$E$1,IF(#REF!=$G$1,IF(#REF!=\"\",NA(),#REF!),NA()),NA())","v":{"$error":"#REF!"}},{"$f":"IF(#REF!=$E$1,IF(#REF!=$G$1,IF(#REF!=\"\",NA(),#REF!),NA()),NA())","v":{"$error":"#REF!"}},{"$error":"#REF!"},{"$error":"#REF!"}]
[null,null,null,{"$f":"IF(#REF!=$E$1,IF(#REF!=$G$1,#REF!,NA()),NA())","v":{"$error":"#REF!"}},{"$f":"IF(#REF!=$E$1,IF(#REF!=$G$1,#REF!,NA()),NA())","v":{"$error":"#REF!"}},{"$f":"IF(#REF!=$E$1,IF(#REF!=$G$1,IF(#REF!=\"\",NA(),#REF!),NA()),NA())","v":{"$error":"#REF!"}},{"$f":"IF(#REF!=$E$1,IF(#REF!=$G$1,IF(#REF!=\"\",NA(),#REF!),NA()),NA())","v":{"$error":"#REF!"}},{"$error":"#REF!"},{"$error":"#REF!"}]
[null,null,null,{"$f":"IF(#REF!=$E$1,IF(#REF!=$G$1,#REF!,NA()),NA())","v":{"$error":"#REF!"}},{"$f":"IF(#REF!=$E$1,IF(#REF!=$G$1,#REF!,NA()),NA())","v":{"$error":"#REF!"}},{"$f":"IF(#REF!=$E$1,IF(#REF!=$G$1,IF(#REF!=\"\",NA(),#REF!),NA()),NA())","v":{"$error":"#REF!"}},{"$f":"IF(#REF!=$E$1,IF(#REF!=$G$1,IF(#REF!=\"\",NA(),#REF!),NA()),NA())","v":{"$error":"#REF!"}},{"$error":"#REF!"},{"$error":"#REF!"}]
[null,null,null,{"$f":"IF(#REF!=$E$1,IF(#REF!=$G$1,#REF!,NA()),NA())","v":{"$error":"#REF!"}},{"$f":"IF(#REF!=$E$1,IF(#REF!=$G$1,#REF!,NA()),NA())","v":{"$error":"#REF!"}},{"$f":"IF(#REF!=$E$1,IF(#REF!=$G$1,IF(#REF!=\"\",NA(),#REF!),NA()),NA())","v":{"$error":"#REF!"}},{"$f":"IF(#REF!=$E$1,IF(#REF!=$G$1,IF(#REF!=\"\",NA(),#REF!),NA()),NA())","v":{"$error":"#REF!"}},{"$error":"#REF!"},{"$error":"#REF!"}]
[null,null,null,{"$f":"IF(#REF!=$E$1,IF(#REF!=$G$1,#REF!,NA()),NA())","v":{"$error":"#REF!"}},{"$f":"IF(#REF!=$E$1,IF(#REF!=$G$1,#REF!,NA()),NA())","v":{"$error":"#REF!"}},{"$f":"IF(#REF!=$E$1,IF(#REF!=$G$1,IF(#REF!=\"\",NA(),#REF!),NA()),NA())","v":{"$error":"#REF!"}},{"$f":"IF(#REF!=$E$1,IF(#REF!=$G$1,IF(#REF!=\"\",NA(),#REF!),NA()),NA())","v":{"$error":"#REF!"}},{"$error":"#REF!"},{"$error":"#REF!"}]
[null,null,null,{"$f":"IF(#REF!=$E$1,IF(#REF!=$G$1,#REF!,NA()),NA())","v":{"$error":"#REF!"}},{"$f":"IF(#REF!=$E$1,IF(#REF!=$G$1,#REF!,NA()),NA())","v":{"$error":"#REF!"}},{"$f":"IF(#REF!=$E$1,IF(#REF!=$G$1,IF(#REF!=\"\",NA(),#REF!),NA()),NA())","v":{"$error":"#REF!"}},{"$f":"IF(#REF!=$E$1,IF(#REF!=$G$1,IF(#REF!=\"\",NA(),#REF!),NA()),NA())","v":{"$error":"#REF!"}},{"$error":"#REF!"},{"$error":"#REF!"}]
[null,null,null,{"$f":"IF(#REF!=$E$1,IF(#REF!=$G$1,#REF!,NA()),NA())","v":{"$error":"#REF!"}},{"$f":"IF(#REF!=$E$1,IF(#REF!=$G$1,#REF!,NA()),NA())","v":{"$error":"#REF!"}},{"$f":"IF(#REF!=$E$1,IF(#REF!=$G$1,IF(#REF!=\"\",NA(),#REF!),NA()),NA())","v":{"$error":"#REF!"}},{"$f":"IF(#REF!=$E$1,IF(#REF!=$G$1,IF(#REF!=\"\",NA(),#REF!),NA()),NA())","v":{"$error":"#REF!"}},{"$error":"#REF!"},{"$error":"#REF!"}]
[null,null,null,{"$f":"IF(#REF!=$E$1,IF(#REF!=$G$1,#REF!,NA()),NA())","v":{"$error":"#REF!"}},{"$f":"IF(#REF!=$E$1,IF(#REF!=$G$1,#REF!,NA()),NA())","v":{"$error":"#REF!"}},{"$f":"IF(#REF!=$E$1,IF(#REF!=$G$1,IF(#REF!=\"\",NA(),#REF!),NA()),NA())","v":{"$error":"#REF!"}},{"$f":"IF(#REF!=$E$1,IF(#REF!=$G$1,IF(#REF!=\"\",NA(),#REF!),NA()),NA())","v":{"$error":"#REF!"}},{"$error":"#REF!"},{"$error":"#REF!"}]
[null,null,null,{"$f":"IF(#REF!=$E$1,IF(#REF!=$G$1,#REF!,NA()),NA())","v":{"$error":"#REF!"}},{"$f":"IF(#REF!=$E$1,IF(#REF!=$G$1,#REF!,NA()),NA())","v":{"$error":"#REF!"}},{"$f":"IF(#REF!=$E$1,IF(#REF!=$G$1,IF(#REF!=\"\",NA(),#REF!),NA()),NA())","v":{"$error":"#REF!"}},{"$f":"IF(#REF!=$E$1,IF(#REF!=$G$1,IF(#REF!=\"\",NA(),#REF!),NA()),NA())","v":{"$error":"#REF!"}},{"$error":"#REF!"},{"$error":"#REF!"}]
[null,null,null,{"$f":"IF(#REF!=$E$1,IF(#REF!=$G$1,#REF!,NA()),NA())","v":{"$error":"#REF!"}},{"$f":"IF(#REF!=$E$1,IF(#REF!=$G$1,#REF!,NA()),NA())","v":{"$error":"#REF!"}},{"$f":"IF(#REF!=$E$1,IF(#REF!=$G$1,IF(#REF!=\"\",NA(),#REF!),NA()),NA())","v":{"$error":"#REF!"}},{"$f":"IF(#REF!=$E$1,IF(#REF!=$G$1,IF(#REF!=\"\",NA(),#REF!),NA()),NA())","v":{"$error":"#REF!"}},{"$error":"#REF!"},{"$error":"#REF!"}]
[null,null,null,{"$f":"IF(#REF!=$E$1,IF(#REF!=$G$1,#REF!,NA()),NA())","v":{"$error":"#REF!"}},{"$f":"IF(#REF!=$E$1,IF(#REF!=$G$1,#REF!,NA()),NA())","v":{"$error":"#REF!"}},{"$f":"IF(#REF!=$E$1,IF(#REF!=$G$1,IF(#REF!=\"\",NA(),#REF!),NA()),NA())","v":{"$error":"#REF!"}},{"$f":"IF(#REF!=$E$1,IF(#REF!=$G$1,IF(#REF!=\"\",NA(),#REF!),NA()),NA())","v":{"$error":"#REF!"}},{"$error":"#REF!"},{"$error":"#REF!"}]
[null,null,null,{"$f":"IF(#REF!=$E$1,IF(#REF!=$G$1,#REF!,NA()),NA())","v":{"$error":"#REF!"}},{"$f":"IF(#REF!=$E$1,IF(#REF!=$G$1,#REF!,NA()),NA())","v":{"$error":"#REF!"}},{"$f":"IF(#REF!=$E$1,IF(#REF!=$G$1,IF(#REF!=\"\",NA(),#REF!),NA()),NA())","v":{"$error":"#REF!"}},{"$f":"IF(#REF!=$E$1,IF(#REF!=$G$1,IF(#REF!=\"\",NA(),#REF!),NA()),NA())","v":{"$error":"#REF!"}},{"$error":"#REF!"},{"$error":"#REF!"}]
[null,null,null,{"$f":"IF(#REF!=$E$1,IF(#REF!=$G$1,#REF!,NA()),NA())","v":{"$error":"#REF!"}},{"$f":"IF(#REF!=$E$1,IF(#REF!=$G$1,#REF!,NA()),NA())","v":{"$error":"#REF!"}},{"$f":"IF(#REF!=$E$1,IF(#REF!=$G$1,IF(#REF!=\"\",NA(),#REF!),NA()),NA())","v":{"$error":"#REF!"}},{"$f":"IF(#REF!=$E$1,IF(#REF!=$G$1,IF(#REF!=\"\",NA(),#REF!),NA()),NA())","v":{"$error":"#REF!"}},{"$error":"#REF!"},{"$error":"#REF!"}]
[null,null,null,{"$f":"IF(#REF!=$E$1,IF(#REF!=$G$1,#REF!,NA()),NA())","v":{"$error":"#REF!"}},{"$f":"IF(#REF!=$E$1,IF(#REF!=$G$1,#REF!,NA()),NA())","v":{"$error":"#REF!"}},{"$f":"IF(#REF!=$E$1,IF(#REF!=$G$1,IF(#REF!=\"\",NA(),#REF!),NA()),NA())","v":{"$error":"#REF!"}},{"$f":"IF(#REF!=$E$1,IF(#REF!=$G$1,IF(#REF!=\"\",NA(),#REF!),NA()),NA())","v":{"$error":"#REF!"}},{"$error":"#REF!"},{"$error":"#REF!"}]
[null,null,null,{"$f":"IF(#REF!=$E$1,IF(#REF!=$G$1,#REF!,NA()),NA())","v":{"$error":"#REF!"}},{"$f":"IF(#REF!=$E$1,IF(#REF!=$G$1,#REF!,NA()),NA())","v":{"$error":"#REF!"}},{"$f":"IF(#REF!=$E$1,IF(#REF!=$G$1,IF(#REF!=\"\",NA(),#REF!),NA()),NA())","v":{"$error":"#REF!"}},{"$f":"IF(#REF!=$E$1,IF(#REF!=$G$1,IF(#REF!=\"\",NA(),#REF!),NA()),NA())","v":{"$error":"#REF!"}},{"$error":"#REF!"},{"$error":"#REF!"}]
[null,null,null,{"$f":"IF(#REF!=$E$1,IF(#REF!=$G$1,#REF!,NA()),NA())","v":{"$error":"#REF!"}},{"$f":"IF(#REF!=$E$1,IF(#REF!=$G$1,#REF!,NA()),NA())","v":{"$error":"#REF!"}},{"$f":"IF(#REF!=$E$1,IF(#REF!=$G$1,IF(#REF!=\"\",NA(),#REF!),NA()),NA())","v":{"$error":"#REF!"}},{"$f":"IF(#REF!=$E$1,IF(#REF!=$G$1,IF(#REF!=\"\",NA(),#REF!),NA()),NA())","v":{"$error":"#REF!"}},{"$error":"#REF!"},{"$error":"#REF!"}]
[null,null,null,{"$f":"IF(#REF!=$E$1,IF(#REF!=$G$1,#REF!,NA()),NA())","v":{"$error":"#REF!"}},{"$f":"IF(#REF!=$E$1,IF(#REF!=$G$1,#REF!,NA()),NA())","v":{"$error":"#REF!"}},{"$f":"IF(#REF!=$E$1,IF(#REF!=$G$1,IF(#REF!=\"\",NA(),#REF!),NA()),NA())","v":{"$error":"#REF!"}},{"$f":"IF(#REF!=$E$1,IF(#REF!=$G$1,IF(#REF!=\"\",NA(),#REF!),NA()),NA())","v":{"$error":"#REF!"}},{"$error":"#REF!"},{"$error":"#REF!"}]
[null,null,null,{"$f":"IF(#REF!=$E$1,IF(#REF!=$G$1,#REF!,NA()),NA())","v":{"$error":"#REF!"}},{"$f":"IF(#REF!=$E$1,IF(#REF!=$G$1,#REF!,NA()),NA())","v":{"$error":"#REF!"}},{"$f":"IF(#REF!=$E$1,IF(#REF!=$G$1,IF(#REF!=\"\",NA(),#REF!),NA()),NA())","v":{"$error":"#REF!"}},{"$f":"IF(#REF!=$E$1,IF(#REF!=$G$1,IF(#REF!=\"\",NA(),#REF!),NA()),NA())","v":{"$error":"#REF!"}},{"$error":"#REF!"},{"$error":"#REF!"}]
[null,null,null,{"$f":"IF(#REF!=$E$1,IF(#REF!=$G$1,#REF!,NA()),NA())","v":{"$error":"#REF!"}},{"$f":"IF(#REF!=$E$1,IF(#REF!=$G$1,#REF!,NA()),NA())","v":{"$error":"#REF!"}},{"$f":"IF(#REF!=$E$1,IF(#REF!=$G$1,IF(#REF!=\"\",NA(),#REF!),NA()),NA())","v":{"$error":"#REF!"}},{"$f":"IF(#REF!=$E$1,IF(#REF!=$G$1,IF(#REF!=\"\",NA(),#REF!),NA()),NA())","v":{"$error":"#REF!"}},{"$error":"#REF!"},{"$error":"#REF!"}]
[null,null,null,{"$f":"IF(#REF!=$E$1,IF(#REF!=$G$1,#REF!,NA()),NA())","v":{"$error":"#REF!"}},{"$f":"IF(#REF!=$E$1,IF(#REF!=$G$1,#REF!,NA()),NA())","v":{"$error":"#REF!"}},{"$f":"IF(#REF!=$E$1,IF(#REF!=$G$1,IF(#REF!=\"\",NA(),#REF!),NA()),NA())","v":{"$error":"#REF!"}},{"$f":"IF(#REF!=$E$1,IF(#REF!=$G$1,IF(#REF!=\"\",NA(),#REF!),NA()),NA())","v":{"$error":"#REF!"}},{"$error":"#REF!"},{"$error":"#REF!"}]
[null,null,null,{"$f":"IF(#REF!=$E$1,IF(#REF!=$G$1,#REF!,NA()),NA())","v":{"$error":"#REF!"}},{"$f":"IF(#REF!=$E$1,IF(#REF!=$G$1,#REF!,NA()),NA())","v":{"$error":"#REF!"}},{"$f":"IF(#REF!=$E$1,IF(#REF!=$G$1,IF(#REF!=\"\",NA(),#REF!),NA()),NA())","v":{"$error":"#REF!"}},{"$f":"IF(#REF!=$E$1,IF(#REF!=$G$1,IF(#REF!=\"\",NA(),#REF!),NA()),NA())","v":{"$error":"#REF!"}},{"$error":"#REF!"},{"$error":"#REF!"}]
[null,null,null,{"$f":"IF(#REF!=$E$1,IF(#REF!=$G$1,#REF!,NA()),NA())","v":{"$error":"#REF!"}},{"$f":"IF(#REF!=$E$1,IF(#REF!=$G$1,#REF!,NA()),NA())","v":{"$error":"#REF!"}},{"$f":"IF(#REF!=$E$1,IF(#REF!=$G$1,IF(#REF!=\"\",NA(),#REF!),NA()),NA())","v":{"$error":"#REF!"}},{"$f":"IF(#REF!=$E$1,IF(#REF!=$G$1,IF(#REF!=\"\",NA(),#REF!),NA()),NA())","v":{"$error":"#REF!"}},{"$error":"#REF!"},{"$error":"#REF!"}]
[null,null,null,{"$f":"IF(#REF!=$E$1,IF(#REF!=$G$1,#REF!,NA()),NA())","v":{"$error":"#REF!"}},{"$f":"IF(#REF!=$E$1,IF(#REF!=$G$1,#REF!,NA()),NA())","v":{"$error":"#REF!"}},{"$f":"IF(#REF!=$E$1,IF(#REF!=$G$1,IF(#REF!=\"\",NA(),#REF!),NA()),NA())","v":{"$error":"#REF!"}},{"$f":"IF(#REF!=$E$1,IF(#REF!=$G$1,IF(#REF!=\"\",NA(),#REF!),NA()),NA())","v":{"$error":"#REF!"}},{"$error":"#REF!"},{"$error":"#REF!"}]
[null,null,null,{"$f":"IF(#REF!=$E$1,IF(#REF!=$G$1,#REF!,NA()),NA())","v":{"$error":"#REF!"}},{"$f":"IF(#REF!=$E$1,IF(#REF!=$G$1,#REF!,NA()),NA())","v":{"$error":"#REF!"}},{"$f":"IF(#REF!=$E$1,IF(#REF!=$G$1,IF(#REF!=\"\",NA(),#REF!),NA()),NA())","v":{"$error":"#REF!"}},{"$f":"IF(#REF!=$E$1,IF(#REF!=$G$1,IF(#REF!=\"\",NA(),#REF!),NA()),NA())","v":{"$error":"#REF!"}},{"$error":"#REF!"},{"$error":"#REF!"}]
[null,null,null,{"$f":"IF(#REF!=$E$1,IF(#REF!=$G$1,#REF!,NA()),NA())","v":{"$error":"#REF!"}},{"$f":"IF(#REF!=$E$1,IF(#REF!=$G$1,#REF!,NA()),NA())","v":{"$error":"#REF!"}},{"$f":"IF(#REF!=$E$1,IF(#REF!=$G$1,IF(#REF!=\"\",NA(),#REF!),NA()),NA())","v":{"$error":"#REF!"}},{"$f":"IF(#REF!=$E$1,IF(#REF!=$G$1,IF(#REF!=\"\",NA(),#REF!),NA()),NA())","v":{"$error":"#REF!"}},{"$error":"#REF!"},{"$error":"#REF!"}]
[null,null,null,{"$f":"IF(#REF!=$E$1,IF(#REF!=$G$1,#REF!,NA()),NA())","v":{"$error":"#REF!"}},{"$f":"IF(#REF!=$E$1,IF(#REF!=$G$1,#REF!,NA()),NA())","v":{"$error":"#REF!"}},{"$f":"IF(#REF!=$E$1,IF(#REF!=$G$1,IF(#REF!=\"\",NA(),#REF!),NA()),NA())","v":{"$error":"#REF!"}},{"$f":"IF(#REF!=$E$1,IF(#REF!=$G$1,IF(#REF!=\"\",NA(),#REF!),NA()),NA())","v":{"$error":"#REF!"}},{"$error":"#REF!"},{"$error":"#REF!"}]
[null,null,null,{"$f":"IF(#REF!=$E$1,IF(#REF!=$G$1,#REF!,NA()),NA())","v":{"$error":"#REF!"}},{"$f":"IF(#REF!=$E$1,IF(#REF!=$G$1,#REF!,NA()),NA())","v":{"$error":"#REF!"}},{"$f":"IF(#REF!=$E$1,IF(#REF!=$G$1,IF(#REF!=\"\",NA(),#REF!),NA()),NA())","v":{"$error":"#REF!"}},{"$f":"IF(#REF!=$E$1,IF(#REF!=$G$1,IF(#REF!=\"\",NA(),#REF!),NA()),NA())","v":{"$error":"#REF!"}},{"$error":"#REF!"},{"$error":"#REF!"}]
[null,null,null,{"$f":"IF(#REF!=$E$1,IF(#REF!=$G$1,#REF!,NA()),NA())","v":{"$error":"#REF!"}},{"$f":"IF(#REF!=$E$1,IF(#REF!=$G$1,#REF!,NA()),NA())","v":{"$error":"#REF!"}},{"$f":"IF(#REF!=$E$1,IF(#REF!=$G$1,IF(#REF!=\"\",NA(),#REF!),NA()),NA())","v":{"$error":"#REF!"}},{"$f":"IF(#REF!=$E$1,IF(#REF!=$G$1,IF(#REF!=\"\",NA(),#REF!),NA()),NA())","v":{"$error":"#REF!"}},{"$error":"#REF!"},{"$error":"#REF!"}]
[null,null,null,{"$f":"IF(#REF!=$E$1,IF(#REF!=$G$1,#REF!,NA()),NA())","v":{"$error":"#REF!"}},{"$f":"IF(#REF!=$E$1,IF(#REF!=$G$1,#REF!,NA()),NA())","v":{"$error":"#REF!"}},{"$f":"IF(#REF!=$E$1,IF(#REF!=$G$1,IF(#REF!=\"\",NA(),#REF!),NA()),NA())","v":{"$error":"#REF!"}},{"$f":"IF(#REF!=$E$1,IF(#REF!=$G$1,IF(#REF!=\"\",NA(),#REF!),NA()),NA())","v":{"$error":"#REF!"}},{"$error":"#REF!"},{"$error":"#REF!"}]
[null,null,null,{"$f":"IF(#REF!=$E$1,IF(#REF!=$G$1,#REF!,NA()),NA())","v":{"$error":"#REF!"}},{"$f":"IF(#REF!=$E$1,IF(#REF!=$G$1,#REF!,NA()),NA())","v":{"$error":"#REF!"}},{"$f":"IF(#REF!=$E$1,IF(#REF!=$G$1,IF(#REF!=\"\",NA(),#REF!),NA()),NA())","v":{"$error":"#REF!"}},{"$f":"IF(#REF!=$E$1,IF(#REF!=$G$1,IF(#REF!=\"\",NA(),#REF!),NA()),NA())","v":{"$error":"#REF!"}},{"$error":"#REF!"},{"$error":"#REF!"}]
[null,null,null,{"$f":"IF(#REF!=$E$1,IF(#REF!=$G$1,#REF!,NA()),NA())","v":{"$error":"#REF!"}},{"$f":"IF(#REF!=$E$1,IF(#REF!=$G$1,#REF!,NA()),NA())","v":{"$error":"#REF!"}},{"$f":"IF(#REF!=$E$1,IF(#REF!=$G$1,IF(#REF!=\"\",NA(),#REF!),NA()),NA())","v":{"$error":"#REF!"}},{"$f":"IF(#REF!=$E$1,IF(#REF!=$G$1,IF(#REF!=\"\",NA(),#REF!),NA()),NA())","v":{"$error":"#REF!"}},{"$error":"#REF!"},{"$error":"#REF!"}]
[null,null,null,{"$f":"IF(#REF!=$E$1,IF(#REF!=$G$1,#REF!,NA()),NA())","v":{"$error":"#REF!"}},{"$f":"IF(#REF!=$E$1,IF(#REF!=$G$1,#REF!,NA()),NA())","v":{"$error":"#REF!"}},{"$f":"IF(#REF!=$E$1,IF(#REF!=$G$1,IF(#REF!=\"\",NA(),#REF!),NA()),NA())","v":{"$error":"#REF!"}},{"$f":"IF(#REF!=$E$1,IF(#REF!=$G$1,IF(#REF!=\"\",NA(),#REF!),NA()),NA())","v":{"$error":"#REF!"}},{"$error":"#REF!"},{"$error":"#REF!"}]
[null,null,null,{"$f":"IF(#REF!=$E$1,IF(#REF!=$G$1,#REF!,NA()),NA())","v":{"$error":"#REF!"}},{"$f":"IF(#REF!=$E$1,IF(#REF!=$G$1,#REF!,NA()),NA())","v":{"$error":"#REF!"}},{"$f":"IF(#REF!=$E$1,IF(#REF!=$G$1,IF(#REF!=\"\",NA(),#REF!),NA()),NA())","v":{"$error":"#REF!"}},{"$f":"IF(#REF!=$E$1,IF(#REF!=$G$1,IF(#REF!=\"\",NA(),#REF!),NA()),NA())","v":{"$error":"#REF!"}},{"$error":"#REF!"},{"$error":"#REF!"}]
[null,null,null,{"$f":"IF(#REF!=$E$1,IF(#REF!=$G$1,#REF!,NA()),NA())","v":{"$error":"#REF!"}},{"$f":"IF(#REF!=$E$1,IF(#REF!=$G$1,#REF!,NA()),NA())","v":{"$error":"#REF!"}},{"$f":"IF(#REF!=$E$1,IF(#REF!=$G$1,IF(#REF!=\"\",NA(),#REF!),NA()),NA())","v":{"$error":"#REF!"}},{"$f":"IF(#REF!=$E$1,IF(#REF!=$G$1,IF(#REF!=\"\",NA(),#REF!),NA()),NA())","v":{"$error":"#REF!"}},{"$error":"#REF!"},{"$error":"#REF!"}]
[null,null,null,{"$f":"IF(#REF!=$E$1,IF(#REF!=$G$1,#REF!,NA()),NA())","v":{"$error":"#REF!"}},{"$f":"IF(#REF!=$E$1,IF(#REF!=$G$1,#REF!,NA()),NA())","v":{"$error":"#REF!"}},{"$f":"IF(#REF!=$E$1,IF(#REF!=$G$1,IF(#REF!=\"\",NA(),#REF!),NA()),NA())","v":{"$error":"#REF!"}},{"$f":"IF(#REF!=$E$1,IF(#REF!=$G$1,IF(#REF!=\"\",NA(),#REF!),NA()),NA())","v":{"$error":"#REF!"}},{"$error":"#REF!"},{"$error":"#REF!"}]
[null,null,null,{"$f":"IF(#REF!=$E$1,IF(#REF!=$G$1,#REF!,NA()),NA())","v":{"$error":"#REF!"}},{"$f":"IF(#REF!=$E$1,IF(#REF!=$G$1,#REF!,NA()),NA())","v":{"$error":"#REF!"}},{"$f":"IF(#REF!=$E$1,IF(#REF!=$G$1,IF(#REF!=\"\",NA(),#REF!),NA()),NA())","v":{"$error":"#REF!"}},{"$f":"IF(#REF!=$E$1,IF(#REF!=$G$1,IF(#REF!=\"\",NA(),#REF!),NA()),NA())","v":{"$error":"#REF!"}},{"$error":"#REF!"},{"$error":"#REF!"}]
[null,null,null,{"$f":"IF(#REF!=$E$1,IF(#REF!=$G$1,#REF!,NA()),NA())","v":{"$error":"#REF!"}},{"$f":"IF(#REF!=$E$1,IF(#REF!=$G$1,#REF!,NA()),NA())","v":{"$error":"#REF!"}},{"$f":"IF(#REF!=$E$1,IF(#REF!=$G$1,IF(#REF!=\"\",NA(),#REF!),NA()),NA())","v":{"$error":"#REF!"}},{"$f":"IF(#REF!=$E$1,IF(#REF!=$G$1,IF(#REF!=\"\",NA(),#REF!),NA()),NA())","v":{"$error":"#REF!"}},{"$error":"#REF!"},{"$error":"#REF!"}]
[null,null,null,{"$f":"IF(#REF!=$E$1,IF(#REF!=$G$1,#REF!,NA()),NA())","v":{"$error":"#REF!"}},{"$f":"IF(#REF!=$E$1,IF(#REF!=$G$1,#REF!,NA()),NA())","v":{"$error":"#REF!"}},{"$f":"IF(#REF!=$E$1,IF(#REF!=$G$1,IF(#REF!=\"\",NA(),#REF!),NA()),NA())","v":{"$error":"#REF!"}},{"$f":"IF(#REF!=$E$1,IF(#REF!=$G$1,IF(#REF!=\"\",NA(),#REF!),NA()),NA())","v":{"$error":"#REF!"}},{"$error":"#REF!"},{"$error":"#REF!"}]
[null,null,null,{"$f":"IF(#REF!=$E$1,IF(#REF!=$G$1,#REF!,NA()),NA())","v":{"$error":"#REF!"}},{"$f":"IF(#REF!=$E$1,IF(#REF!=$G$1,#REF!,NA()),NA())","v":{"$error":"#REF!"}},{"$f":"IF(#REF!=$E$1,IF(#REF!=$G$1,IF(#REF!=\"\",NA(),#REF!),NA()),NA())","v":{"$error":"#REF!"}},{"$f":"IF(#REF!=$E$1,IF(#REF!=$G$1,IF(#REF!=\"\",NA(),#REF!),NA()),NA())","v":{"$error":"#REF!"}},{"$error":"#REF!"},{"$error":"#REF!"}]
[null,null,null,{"$f":"IF(#REF!=$E$1,IF(#REF!=$G$1,#REF!,NA()),NA())","v":{"$error":"#REF!"}},{"$f":"IF(#REF!=$E$1,IF(#REF!=$G$1,#REF!,NA()),NA())","v":{"$error":"#REF!"}},{"$f":"IF(#REF!=$E$1,IF(#REF!=$G$1,IF(#REF!=\"\",NA(),#REF!),NA()),NA())","v":{"$error":"#REF!"}},{"$f":"IF(#REF!=$E$1,IF(#REF!=$G$1,IF(#REF!=\"\",NA(),#REF!),NA()),NA())","v":{"$error":"#REF!"}},{"$error":"#REF!"},{"$error":"#REF!"}]
[null,null,null,{"$f":"IF(#REF!=$E$1,IF(#REF!=$G$1,#REF!,NA()),NA())","v":{"$error":"#REF!"}},{"$f":"IF(#REF!=$E$1,IF(#REF!=$G$1,#REF!,NA()),NA())","v":{"$error":"#REF!"}},{"$f":"IF(#REF!=$E$1,IF(#REF!=$G$1,IF(#REF!=\"\",NA(),#REF!),NA()),NA())","v":{"$error":"#REF!"}},{"$f":"IF(#REF!=$E$1,IF(#REF!=$G$1,IF(#REF!=\"\",NA(),#REF!),NA()),NA())","v":{"$error":"#REF!"}},{"$error":"#REF!"},{"$error":"#REF!"}]
[null,null,null,{"$f":"IF(#REF!=$E$1,IF(#REF!=$G$1,#REF!,NA()),NA())","v":{"$error":"#REF!"}},{"$f":"IF(#REF!=$E$1,IF(#REF!=$G$1,#REF!,NA()),NA())","v":{"$error":"#REF!"}},{"$f":"IF(#REF!=$E$1,IF(#REF!=$G$1,IF(#REF!=\"\",NA(),#REF!),NA()),NA())","v":{"$error":"#REF!"}},{"$f":"IF(#REF!=$E$1,IF(#REF!=$G$1,IF(#REF!=\"\",NA(),#REF!),NA()),NA())","v":{"$error":"#REF!"}},{"$error":"#REF!"},{"$error":"#REF!"}]
[null,null,null,{"$f":"IF(#REF!=$E$1,IF(#REF!=$G$1,#REF!,NA()),NA())","v":{"$error":"#REF!"}},{"$f":"IF(#REF!=$E$1,IF(#REF!=$G$1,#REF!,NA()),NA())","v":{"$error":"#REF!"}},{"$f":"IF(#REF!=$E$1,IF(#REF!=$G$1,IF(#REF!=\"\",NA(),#REF!),NA()),NA())","v":{"$error":"#REF!"}},{"$f":"IF(#REF!=$E$1,IF(#REF!=$G$1,IF(#REF!=\"\",NA(),#REF!),NA()),NA())","v":{"$error":"#REF!"}},{"$error":"#REF!"},{"$error":"#REF!"}]
[null,null,null,{"$f":"IF(#REF!=$E$1,IF(#REF!=$G$1,#REF!,NA()),NA())","v":{"$error":"#REF!"}},{"$f":"IF(#REF!=$E$1,IF(#REF!=$G$1,#REF!,NA()),NA())","v":{"$error":"#REF!"}},{"$f":"IF(#REF!=$E$1,IF(#REF!=$G$1,IF(#REF!=\"\",NA(),#REF!),NA()),NA())","v":{"$error":"#REF!"}},{"$f":"IF(#REF!=$E$1,IF(#REF!=$G$1,IF(#REF!=\"\",NA(),#REF!),NA()),NA())","v":{"$error":"#REF!"}},{"$error":"#REF!"},{"$error":"#REF!"}]
[null,null,null,{"$f":"IF(#REF!=$E$1,IF(#REF!=$G$1,#REF!,NA()),NA())","v":{"$error":"#REF!"}},{"$f":"IF(#REF!=$E$1,IF(#REF!=$G$1,#REF!,NA()),NA())","v":{"$error":"#REF!"}},{"$f":"IF(#REF!=$E$1,IF(#REF!=$G$1,IF(#REF!=\"\",NA(),#REF!),NA()),NA())","v":{"$error":"#REF!"}},{"$f":"IF(#REF!=$E$1,IF(#REF!=$G$1,IF(#REF!=\"\",NA(),#REF!),NA()),NA())","v":{"$error":"#REF!"}},{"$error":"#REF!"},{"$error":"#REF!"}]
[null,null,null,{"$f":"IF(#REF!=$E$1,IF(#REF!=$G$1,#REF!,NA()),NA())","v":{"$error":"#REF!"}},{"$f":"IF(#REF!=$E$1,IF(#REF!=$G$1,#REF!,NA()),NA())","v":{"$error":"#REF!"}},{"$f":"IF(#REF!=$E$1,IF(#REF!=$G$1,IF(#REF!=\"\",NA(),#REF!),NA()),NA())","v":{"$error":"#REF!"}},{"$f":"IF(#REF!=$E$1,IF(#REF!=$G$1,IF(#REF!=\"\",NA(),#REF!),NA()),NA())","v":{"$error":"#REF!"}},{"$error":"#REF!"},{"$error":"#REF!"}]
[null,null,null,{"$f":"IF(#REF!=$E$1,IF(#REF!=$G$1,#REF!,NA()),NA())","v":{"$error":"#REF!"}},{"$f":"IF(#REF!=$E$1,IF(#REF!=$G$1,#REF!,NA()),NA())","v":{"$error":"#REF!"}},{"$f":"IF(#REF!=$E$1,IF(#REF!=$G$1,IF(#REF!=\"\",NA(),#REF!),NA()),NA())","v":{"$error":"#REF!"}},{"$f":"IF(#REF!=$E$1,IF(#REF!=$G$1,IF(#REF!=\"\",NA(),#REF!),NA()),NA())","v":{"$error":"#REF!"}},{"$error":"#REF!"},{"$error":"#REF!"}]
[null,null,null,{"$f":"IF(#REF!=$E$1,IF(#REF!=$G$1,#REF!,NA()),NA())","v":{"$error":"#REF!"}},{"$f":"IF(#REF!=$E$1,IF(#REF!=$G$1,#REF!,NA()),NA())","v":{"$error":"#REF!"}},{"$f":"IF(#REF!=$E$1,IF(#REF!=$G$1,IF(#REF!=\"\",NA(),#REF!),NA()),NA())","v":{"$error":"#REF!"}},{"$f":"IF(#REF!=$E$1,IF(#REF!=$G$1,IF(#REF!=\"\",NA(),#REF!),NA()),NA())","v":{"$error":"#REF!"}},{"$error":"#REF!"},{"$error":"#REF!"}]
[null,null,null,{"$f":"IF(#REF!=$E$1,IF(#REF!=$G$1,#REF!,NA()),NA())","v":{"$error":"#REF!"}},{"$f":"IF(#REF!=$E$1,IF(#REF!=$G$1,#REF!,NA()),NA())","v":{"$error":"#REF!"}},{"$f":"IF(#REF!=$E$1,IF(#REF!=$G$1,IF(#REF!=\"\",NA(),#REF!),NA()),NA())","v":{"$error":"#REF!"}},{"$f":"IF(#REF!=$E$1,IF(#REF!=$G$1,IF(#REF!=\"\",NA(),#REF!),NA()),NA())","v":{"$error":"#REF!"}},{"$error":"#REF!"},{"$error":"#REF!"}]
[null,null,null,{"$f":"IF(#REF!=$E$1,IF(#REF!=$G$1,#REF!,NA()),NA())","v":{"$error":"#REF!"}},{"$f":"IF(#REF!=$E$1,IF(#REF!=$G$1,#REF!,NA()),NA())","v":{"$error":"#REF!"}},{"$f":"IF(#REF!=$E$1,IF(#REF!=$G$1,IF(#REF!=\"\",NA(),#REF!),NA()),NA())","v":{"$error":"#REF!"}},{"$f":"IF(#REF!=$E$1,IF(#REF!=$G$1,IF(#REF!=\"\",NA(),#REF!),NA()),NA())","v":{"$error":"#REF!"}},{"$error":"#REF!"},{"$error":"#REF!"}]
[null,null,null,{"$f":"IF(#REF!=$E$1,IF(#REF!=$G$1,#REF!,NA()),NA())","v":{"$error":"#REF!"}},{"$f":"IF(#REF!=$E$1,IF(#REF!=$G$1,#REF!,NA()),NA())","v":{"$error":"#REF!"}},{"$f":"IF(#REF!=$E$1,IF(#REF!=$G$1,IF(#REF!=\"\",NA(),#REF!),NA()),NA())","v":{"$error":"#REF!"}},{"$f":"IF(#REF!=$E$1,IF(#REF!=$G$1,IF(#REF!=\"\",NA(),#REF!),NA()),NA())","v":{"$error":"#REF!"}},{"$error":"#REF!"},{"$error":"#REF!"}]
[null,null,null,{"$f":"IF(#REF!=$E$1,IF(#REF!=$G$1,#REF!,NA()),NA())","v":{"$error":"#REF!"}},{"$f":"IF(#REF!=$E$1,IF(#REF!=$G$1,#REF!,NA()),NA())","v":{"$error":"#REF!"}},{"$f":"IF(#REF!=$E$1,IF(#REF!=$G$1,IF(#REF!=\"\",NA(),#REF!),NA()),NA())","v":{"$error":"#REF!"}},{"$f":"IF(#REF!=$E$1,IF(#REF!=$G$1,IF(#REF!=\"\",NA(),#REF!),NA()),NA())","v":{"$error":"#REF!"}},{"$error":"#REF!"},{"$error":"#REF!"}]
[null,null,null,{"$f":"IF(#REF!=$E$1,IF(#REF!=$G$1,#REF!,NA()),NA())","v":{"$error":"#REF!"}},{"$f":"IF(#REF!=$E$1,IF(#REF!=$G$1,#REF!,NA()),NA())","v":{"$error":"#REF!"}},{"$f":"IF(#REF!=$E$1,IF(#REF!=$G$1,IF(#REF!=\"\",NA(),#REF!),NA()),NA())","v":{"$error":"#REF!"}},{"$f":"IF(#REF!=$E$1,IF(#REF!=$G$1,IF(#REF!=\"\",NA(),#REF!),NA()),NA())","v":{"$error":"#REF!"}},{"$error":"#REF!"},{"$error":"#REF!"}]
[null,null,null,{"$f":"IF(#REF!=$E$1,IF(#REF!=$G$1,#REF!,NA()),NA())","v":{"$error":"#REF!"}},{"$f":"IF(#REF!=$E$1,IF(#REF!=$G$1,#REF!,NA()),NA())","v":{"$error":"#REF!"}},{"$f":"IF(#REF!=$E$1,IF(#REF!=$G$1,IF(#REF!=\"\",NA(),#REF!),NA()),NA())","v":{"$error":"#REF!"}},{"$f":"IF(#REF!=$E$1,IF(#REF!=$G$1,IF(#REF!=\"\",NA(),#REF!),NA()),NA())","v":{"$error":"#REF!"}},{"$error":"#REF!"},{"$error":"#REF!"}]
[null,null,null,{"$f":"IF(#REF!=$E$1,IF(#REF!=$G$1,#REF!,NA()),NA())","v":{"$error":"#REF!"}},{"$f":"IF(#REF!=$E$1,IF(#REF!=$G$1,#REF!,NA()),NA())","v":{"$error":"#REF!"}},{"$f":"IF(#REF!=$E$1,IF(#REF!=$G$1,IF(#REF!=\"\",NA(),#REF!),NA()),NA())","v":{"$error":"#REF!"}},{"$f":"IF(#REF!=$E$1,IF(#REF!=$G$1,IF(#REF!=\"\",NA(),#REF!),NA()),NA())","v":{"$error":"#REF!"}},{"$error":"#REF!"},{"$error":"#REF!"}]
[null,null,null,{"$f":"IF(#REF!=$E$1,IF(#REF!=$G$1,#REF!,NA()),NA())","v":{"$error":"#REF!"}},{"$f":"IF(#REF!=$E$1,IF(#REF!=$G$1,#REF!,NA()),NA())","v":{"$error":"#REF!"}},{"$f":"IF(#REF!=$E$1,IF(#REF!=$G$1,IF(#REF!=\"\",NA(),#REF!),NA()),NA())","v":{"$error":"#REF!"}},{"$f":"IF(#REF!=$E$1,IF(#REF!=$G$1,IF(#REF!=\"\",NA(),#REF!),NA()),NA())","v":{"$error":"#REF!"}},{"$error":"#REF!"},{"$error":"#REF!"}]
[null,null,null,{"$f":"IF(#REF!=$E$1,IF(#REF!=$G$1,#REF!,NA()),NA())","v":{"$error":"#REF!"}},{"$f":"IF(#REF!=$E$1,IF(#REF!=$G$1,#REF!,NA()),NA())","v":{"$error":"#REF!"}},{"$f":"IF(#REF!=$E$1,IF(#REF!=$G$1,IF(#REF!=\"\",NA(),#REF!),NA()),NA())","v":{"$error":"#REF!"}},{"$f":"IF(#REF!=$E$1,IF(#REF!=$G$1,IF(#REF!=\"\",NA(),#REF!),NA()),NA())","v":{"$error":"#REF!"}},{"$error":"#REF!"},{"$error":"#REF!"}]
[null,null,null,{"$f":"IF(#REF!=$E$1,IF(#REF!=$G$1,#REF!,NA()),NA())","v":{"$error":"#REF!"}},{"$f":"IF(#REF!=$E$1,IF(#REF!=$G$1,#REF!,NA()),NA())","v":{"$error":"#REF!"}},{"$f":"IF(#REF!=$E$1,IF(#REF!=$G$1,IF(#REF!=\"\",NA(),#REF!),NA()),NA())","v":{"$error":"#REF!"}},{"$f":"IF(#REF!=$E$1,IF(#REF!=$G$1,IF(#REF!=\"\",NA(),#REF!),NA()),NA())","v":{"$error":"#REF!"}},{"$error":"#REF!"},{"$error":"#REF!"}]
[null,null,null,{"$f":"IF(#REF!=$E$1,IF(#REF!=$G$1,#REF!,NA()),NA())","v":{"$error":"#REF!"}},{"$f":"IF(#REF!=$E$1,IF(#REF!=$G$1,#REF!,NA()),NA())","v":{"$error":"#REF!"}},{"$f":"IF(#REF!=$E$1,IF(#REF!=$G$1,IF(#REF!=\"\",NA(),#REF!),NA()),NA())","v":{"$error":"#REF!"}},{"$f":"IF(#REF!=$E$1,IF(#REF!=$G$1,IF(#REF!=\"\",NA(),#REF!),NA()),NA())","v":{"$error":"#REF!"}},{"$error":"#REF!"},{"$error":"#REF!"}]
[null,null,null,{"$f":"IF(#REF!=$E$1,IF(#REF!=$G$1,#REF!,NA()),NA())","v":{"$error":"#REF!"}},{"$f":"IF(#REF!=$E$1,IF(#REF!=$G$1,#REF!,NA()),NA())","v":{"$error":"#REF!"}},{"$f":"IF(#REF!=$E$1,IF(#REF!=$G$1,IF(#REF!=\"\",NA(),#REF!),NA()),NA())","v":{"$error":"#REF!"}},{"$f":"IF(#REF!=$E$1,IF(#REF!=$G$1,IF(#REF!=\"\",NA(),#REF!),NA()),NA())","v":{"$error":"#REF!"}},{"$error":"#REF!"},{"$error":"#REF!"}]
[null,null,null,{"$f":"IF(#REF!=$E$1,IF(#REF!=$G$1,#REF!,NA()),NA())","v":{"$error":"#REF!"}},{"$f":"IF(#REF!=$E$1,IF(#REF!=$G$1,#REF!,NA()),NA())","v":{"$error":"#REF!"}},{"$f":"IF(#REF!=$E$1,IF(#REF!=$G$1,IF(#REF!=\"\",NA(),#REF!),NA()),NA())","v":{"$error":"#REF!"}},{"$f":"IF(#REF!=$E$1,IF(#REF!=$G$1,IF(#REF!=\"\",NA(),#REF!),NA()),NA())","v":{"$error":"#REF!"}},{"$error":"#REF!"},{"$error":"#REF!"}]
[null,null,null,{"$f":"IF(#REF!=$E$1,IF(#REF!=$G$1,#REF!,NA()),NA())","v":{"$error":"#REF!"}},{"$f":"IF(#REF!=$E$1,IF(#REF!=$G$1,#REF!,NA()),NA())","v":{"$error":"#REF!"}},{"$f":"IF(#REF!=$E$1,IF(#REF!=$G$1,IF(#REF!=\"\",NA(),#REF!),NA()),NA())","v":{"$error":"#REF!"}},{"$f":"IF(#REF!=$E$1,IF(#REF!=$G$1,IF(#REF!=\"\",NA(),#REF!),NA()),NA())","v":{"$error":"#REF!"}},{"$f":"IF(AND(ISNUMBER(G644),F644=\"-\"),0,F644)","v":{"$error":"#REF!"}},{"$f":"IF(AND(ISNUMBER(F644),G644=\"-\"),0,G644)","v":{"$error":"#REF!"}}]
[null,null,null,{"$f":"IF(#REF!=$E$1,IF(#REF!=$G$1,#REF!,NA()),NA())","v":{"$error":"#REF!"}},{"$f":"IF(#REF!=$E$1,IF(#REF!=$G$1,#REF!,NA()),NA())","v":{"$error":"#REF!"}},{"$f":"IF(#REF!=$E$1,IF(#REF!=$G$1,IF(#REF!=\"\",NA(),#REF!),NA()),NA())","v":{"$error":"#REF!"}},{"$f":"IF(#REF!=$E$1,IF(#REF!=$G$1,IF(#REF!=\"\",NA(),#REF!),NA()),NA())","v":{"$error":"#REF!"}},{"$error":"#REF!"},{"$error":"#REF!"}]
[null,null,null,{"$f":"IF(#REF!=$E$1,IF(#REF!=$G$1,#REF!,NA()),NA())","v":{"$error":"#REF!"}},{"$f":"IF(#REF!=$E$1,IF(#REF!=$G$1,#REF!,NA()),NA())","v":{"$error":"#REF!"}},{"$f":"IF(#REF!=$E$1,IF(#REF!=$G$1,IF(#REF!=\"\",NA(),#REF!),NA()),NA())","v":{"$error":"#REF!"}},{"$f":"IF(#REF!=$E$1,IF(#REF!=$G$1,IF(#REF!=\"\",NA(),#REF!),NA()),NA())","v":{"$error":"#REF!"}},{"$error":"#REF!"},{"$error":"#REF!"}]
[null,null,null,{"$f":"IF(#REF!=$E$1,IF(#REF!=$G$1,#REF!,NA()),NA())","v":{"$error":"#REF!"}},{"$f":"IF(#REF!=$E$1,IF(#REF!=$G$1,#REF!,NA()),NA())","v":{"$error":"#REF!"}},{"$f":"IF(#REF!=$E$1,IF(#REF!=$G$1,IF(#REF!=\"\",NA(),#REF!),NA()),NA())","v":{"$error":"#REF!"}},{"$f":"IF(#REF!=$E$1,IF(#REF!=$G$1,IF(#REF!=\"\",NA(),#REF!),NA()),NA())","v":{"$error":"#REF!"}},{"$error":"#REF!"},{"$error":"#REF!"}]
[null,null,null,{"$f":"IF(#REF!=$E$1,IF(#REF!=$G$1,#REF!,NA()),NA())","v":{"$error":"#REF!"}},{"$f":"IF(#REF!=$E$1,IF(#REF!=$G$1,#REF!,NA()),NA())","v":{"$error":"#REF!"}},{"$f":"IF(#REF!=$E$1,IF(#REF!=$G$1,IF(#REF!=\"\",NA(),#REF!),NA()),NA())","v":{"$error":"#REF!"}},{"$f":"IF(#REF!=$E$1,IF(#REF!=$G$1,IF(#REF!=\"\",NA(),#REF!),NA()),NA())","v":{"$error":"#REF!"}},{"$error":"#REF!"},{"$error":"#REF!"}]
[null,null,null,{"$f":"IF(#REF!=$E$1,IF(#REF!=$G$1,#REF!,NA()),NA())","v":{"$error":"#REF!"}},{"$f":"IF(#REF!=$E$1,IF(#REF!=$G$1,#REF!,NA()),NA())","v":{"$error":"#REF!"}},{"$f":"IF(#REF!=$E$1,IF(#REF!=$G$1,IF(#REF!=\"\",NA(),#REF!),NA()),NA())","v":{"$error":"#REF!"}},{"$f":"IF(#REF!=$E$1,IF(#REF!=$G$1,IF(#REF!=\"\",NA(),#REF!),NA()),NA())","v":{"$error":"#REF!"}},{"$error":"#REF!"},{"$error":"#REF!"}]
[null,null,null,{"$f":"IF(#REF!=$E$1,IF(#REF!=$G$1,#REF!,NA()),NA())","v":{"$error":"#REF!"}},{"$f":"IF(#REF!=$E$1,IF(#REF!=$G$1,#REF!,NA()),NA())","v":{"$error":"#REF!"}},{"$f":"IF(#REF!=$E$1,IF(#REF!=$G$1,IF(#REF!=\"\",NA(),#REF!),NA()),NA())","v":{"$error":"#REF!"}},{"$f":"IF(#REF!=$E$1,IF(#REF!=$G$1,IF(#REF!=\"\",NA(),#REF!),NA()),NA())","v":{"$error":"#REF!"}},{"$error":"#REF!"},{"$error":"#REF!"}]
[null,null,null,{"$f":"IF(#REF!=$E$1,IF(#REF!=$G$1,#REF!,NA()),NA())","v":{"$error":"#REF!"}},{"$f":"IF(#REF!=$E$1,IF(#REF!=$G$1,#REF!,NA()),NA())","v":{"$error":"#REF!"}},{"$f":"IF(#REF!=$E$1,IF(#REF!=$G$1,IF(#REF!=\"\",NA(),#REF!),NA()),NA())","v":{"$error":"#REF!"}},{"$f":"IF(#REF!=$E$1,IF(#REF!=$G$1,IF(#REF!=\"\",NA(),#REF!),NA()),NA())","v":{"$error":"#REF!"}},{"$error":"#REF!"},{"$error":"#REF!"}]
[null,null,null,{"$f":"IF(#REF!=$E$1,IF(#REF!=$G$1,#REF!,NA()),NA())","v":{"$error":"#REF!"}},{"$f":"IF(#REF!=$E$1,IF(#REF!=$G$1,#REF!,NA()),NA())","v":{"$error":"#REF!"}},{"$f":"IF(#REF!=$E$1,IF(#REF!=$G$1,IF(#REF!=\"\",NA(),#REF!),NA()),NA())","v":{"$error":"#REF!"}},{"$f":"IF(#REF!=$E$1,IF(#REF!=$G$1,IF(#REF!=\"\",NA(),#REF!),NA()),NA())","v":{"$error":"#REF!"}},{"$error":"#REF!"},{"$error":"#REF!"}]
[null,null,null,{"$f":"IF(#REF!=$E$1,IF(#REF!=$G$1,#REF!,NA()),NA())","v":{"$error":"#REF!"}},{"$f":"IF(#REF!=$E$1,IF(#REF!=$G$1,#REF!,NA()),NA())","v":{"$error":"#REF!"}},{"$f":"IF(#REF!=$E$1,IF(#REF!=$G$1,IF(#REF!=\"\",NA(),#REF!),NA()),NA())","v":{"$error":"#REF!"}},{"$f":"IF(#REF!=$E$1,IF(#REF!=$G$1,IF(#REF!=\"\",NA(),#REF!),NA()),NA())","v":{"$error":"#REF!"}},{"$error":"#REF!"},{"$error":"#REF!"}]
[null,null,null,{"$f":"IF(#REF!=$E$1,IF(#REF!=$G$1,#REF!,NA()),NA())","v":{"$error":"#REF!"}},{"$f":"IF(#REF!=$E$1,IF(#REF!=$G$1,#REF!,NA()),NA())","v":{"$error":"#REF!"}},{"$f":"IF(#REF!=$E$1,IF(#REF!=$G$1,IF(#REF!=\"\",NA(),#REF!),NA()),NA())","v":{"$error":"#REF!"}},{"$f":"IF(#REF!=$E$1,IF(#REF!=$G$1,IF(#REF!=\"\",NA(),#REF!),NA()),NA())","v":{"$error":"#REF!"}},{"$error":"#REF!"},{"$error":"#REF!"}]
[null,null,null,{"$f":"IF(#REF!=$E$1,IF(#REF!=$G$1,#REF!,NA()),NA())","v":{"$error":"#REF!"}},{"$f":"IF(#REF!=$E$1,IF(#REF!=$G$1,#REF!,NA()),NA())","v":{"$error":"#REF!"}},{"$f":"IF(#REF!=$E$1,IF(#REF!=$G$1,IF(#REF!=\"\",NA(),#REF!),NA()),NA())","v":{"$error":"#REF!"}},{"$f":"IF(#REF!=$E$1,IF(#REF!=$G$1,IF(#REF!=\"\",NA(),#REF!),NA()),NA())","v":{"$error":"#REF!"}},{"$error":"#REF!"},{"$error":"#REF!"}]
[null,null,null,{"$f":"IF(#REF!=$E$1,IF(#REF!=$G$1,#REF!,NA()),NA())","v":{"$error":"#REF!"}},{"$f":"IF(#REF!=$E$1,IF(#REF!=$G$1,#REF!,NA()),NA())","v":{"$error":"#REF!"}},{"$f":"IF(#REF!=$E$1,IF(#REF!=$G$1,IF(#REF!=\"\",NA(),#REF!),NA()),NA())","v":{"$error":"#REF!"}},{"$f":"IF(#REF!=$E$1,IF(#REF!=$G$1,IF(#REF!=\"\",NA(),#REF!),NA()),NA())","v":{"$error":"#REF!"}},{"$error":"#REF!"},{"$error":"#REF!"}]
[null,null,null,{"$f":"IF(#REF!=$E$1,IF(#REF!=$G$1,#REF!,NA()),NA())","v":{"$error":"#REF!"}},{"$f":"IF(#REF!=$E$1,IF(#REF!=$G$1,#REF!,NA()),NA())","v":{"$error":"#REF!"}},{"$f":"IF(#REF!=$E$1,IF(#REF!=$G$1,IF(#REF!=\"\",NA(),#REF!),NA()),NA())","v":{"$error":"#REF!"}},{"$f":"IF(#REF!=$E$1,IF(#REF!=$G$1,IF(#REF!=\"\",NA(),#REF!),NA()),NA())","v":{"$error":"#REF!"}},{"$error":"#REF!"},{"$error":"#REF!"}]
[null,null,null,{"$f":"IF(#REF!=$E$1,IF(#REF!=$G$1,#REF!,NA()),NA())","v":{"$error":"#REF!"}},{"$f":"IF(#REF!=$E$1,IF(#REF!=$G$1,#REF!,NA()),NA())","v":{"$error":"#REF!"}},{"$f":"IF(#REF!=$E$1,IF(#REF!=$G$1,IF(#REF!=\"\",NA(),#REF!),NA()),NA())","v":{"$error":"#REF!"}},{"$f":"IF(#REF!=$E$1,IF(#REF!=$G$1,IF(#REF!=\"\",NA(),#REF!),NA()),NA())","v":{"$error":"#REF!"}},{"$error":"#REF!"},{"$error":"#REF!"}]
[null,null,null,{"$f":"IF(#REF!=$E$1,IF(#REF!=$G$1,#REF!,NA()),NA())","v":{"$error":"#REF!"}},{"$f":"IF(#REF!=$E$1,IF(#REF!=$G$1,#REF!,NA()),NA())","v":{"$error":"#REF!"}},{"$f":"IF(#REF!=$E$1,IF(#REF!=$G$1,IF(#REF!=\"\",NA(),#REF!),NA()),NA())","v":{"$error":"#REF!"}},{"$f":"IF(#REF!=$E$1,IF(#REF!=$G$1,IF(#REF!=\"\",NA(),#REF!),NA()),NA())","v":{"$error":"#REF!"}},{"$error":"#REF!"},{"$error":"#REF!"}]
[null,null,null,{"$f":"IF(#REF!=$E$1,IF(#REF!=$G$1,#REF!,NA()),NA())","v":{"$error":"#REF!"}},{"$f":"IF(#REF!=$E$1,IF(#REF!=$G$1,#REF!,NA()),NA())","v":{"$error":"#REF!"}},{"$f":"IF(#REF!=$E$1,IF(#REF!=$G$1,IF(#REF!=\"\",NA(),#REF!),NA()),NA())","v":{"$error":"#REF!"}},{"$f":"IF(#REF!=$E$1,IF(#REF!=$G$1,IF(#REF!=\"\",NA(),#REF!),NA()),NA())","v":{"$error":"#REF!"}},{"$error":"#REF!"},{"$error":"#REF!"}]
[null,null,null,{"$f":"IF(#REF!=$E$1,IF(#REF!=$G$1,#REF!,NA()),NA())","v":{"$error":"#REF!"}},{"$f":"IF(#REF!=$E$1,IF(#REF!=$G$1,#REF!,NA()),NA())","v":{"$error":"#REF!"}},{"$f":"IF(#REF!=$E$1,IF(#REF!=$G$1,IF(#REF!=\"\",NA(),#REF!),NA()),NA())","v":{"$error":"#REF!"}},{"$f":"IF(#REF!=$E$1,IF(#REF!=$G$1,IF(#REF!=\"\",NA(),#REF!),NA()),NA())","v":{"$error":"#REF!"}},{"$error":"#REF!"},{"$error":"#REF!"}]
[null,null,null,{"$f":"IF(#REF!=$E$1,IF(#REF!=$G$1,#REF!,NA()),NA())","v":{"$error":"#REF!"}},{"$f":"IF(#REF!=$E$1,IF(#REF!=$G$1,#REF!,NA()),NA())","v":{"$error":"#REF!"}},{"$f":"IF(#REF!=$E$1,IF(#REF!=$G$1,IF(#REF!=\"\",NA(),#REF!),NA()),NA())","v":{"$error":"#REF!"}},{"$f":"IF(#REF!=$E$1,IF(#REF!=$G$1,IF(#REF!=\"\",NA(),#REF!),NA()),NA())","v":{"$error":"#REF!"}},{"$error":"#REF!"},{"$error":"#REF!"}]
[null,null,null,{"$f":"IF(#REF!=$E$1,IF(#REF!=$G$1,#REF!,NA()),NA())","v":{"$error":"#REF!"}},{"$f":"IF(#REF!=$E$1,IF(#REF!=$G$1,#REF!,NA()),NA())","v":{"$error":"#REF!"}},{"$f":"IF(#REF!=$E$1,IF(#REF!=$G$1,IF(#REF!=\"\",NA(),#REF!),NA()),NA())","v":{"$error":"#REF!"}},{"$f":"IF(#REF!=$E$1,IF(#REF!=$G$1,IF(#REF!=\"\",NA(),#REF!),NA()),NA())","v":{"$error":"#REF!"}},{"$error":"#REF!"},{"$error":"#REF!"}]
[null,null,null,{"$f":"IF(#REF!=$E$1,IF(#REF!=$G$1,#REF!,NA()),NA())","v":{"$error":"#REF!"}},{"$f":"IF(#REF!=$E$1,IF(#REF!=$G$1,#REF!,NA()),NA())","v":{"$error":"#REF!"}},{"$f":"IF(#REF!=$E$1,IF(#REF!=$G$1,IF(#REF!=\"\",NA(),#REF!),NA()),NA())","v":{"$error":"#REF!"}},{"$f":"IF(#REF!=$E$1,IF(#REF!=$G$1,IF(#REF!=\"\",NA(),#REF!),NA()),NA())","v":{"$error":"#REF!"}},{"$error":"#REF!"},{"$error":"#REF!"}]
[null,null,null,{"$f":"IF(#REF!=$E$1,IF(#REF!=$G$1,#REF!,NA()),NA())","v":{"$error":"#REF!"}},{"$f":"IF(#REF!=$E$1,IF(#REF!=$G$1,#REF!,NA()),NA())","v":{"$error":"#REF!"}},{"$f":"IF(#REF!=$E$1,IF(#REF!=$G$1,IF(#REF!=\"\",NA(),#REF!),NA()),NA())","v":{"$error":"#REF!"}},{"$f":"IF(#REF!=$E$1,IF(#REF!=$G$1,IF(#REF!=\"\",NA(),#REF!),NA()),NA())","v":{"$error":"#REF!"}},{"$error":"#REF!"},{"$error":"#REF!"}]
[null,null,null,{"$f":"IF(#REF!=$E$1,IF(#REF!=$G$1,#REF!,NA()),NA())","v":{"$error":"#REF!"}},{"$f":"IF(#REF!=$E$1,IF(#REF!=$G$1,#REF!,NA()),NA())","v":{"$error":"#REF!"}},{"$f":"IF(#REF!=$E$1,IF(#REF!=$G$1,IF(#REF!=\"\",NA(),#REF!),NA()),NA())","v":{"$error":"#REF!"}},{"$f":"IF(#REF!=$E$1,IF(#REF!=$G$1,IF(#REF!=\"\",NA(),#REF!),NA()),NA())","v":{"$error":"#REF!"}},{"$error":"#REF!"},{"$error":"#REF!"}]
[null,null,null,{"$f":"IF(#REF!=$E$1,IF(#REF!=$G$1,#REF!,NA()),NA())","v":{"$error":"#REF!"}},{"$f":"IF(#REF!=$E$1,IF(#REF!=$G$1,#REF!,NA()),NA())","v":{"$error":"#REF!"}},{"$f":"IF(#REF!=$E$1,IF(#REF!=$G$1,IF(#REF!=\"\",NA(),#REF!),NA()),NA())","v":{"$error":"#REF!"}},{"$f":"IF(#REF!=$E$1,IF(#REF!=$G$1,IF(#REF!=\"\",NA(),#REF!),NA()),NA())","v":{"$error":"#REF!"}},{"$error":"#REF!"},{"$error":"#REF!"}]
[null,null,null,{"$f":"IF(#REF!=$E$1,IF(#REF!=$G$1,#REF!,NA()),NA())","v":{"$error":"#REF!"}},{"$f":"IF(#REF!=$E$1,IF(#REF!=$G$1,#REF!,NA()),NA())","v":{"$error":"#REF!"}},{"$f":"IF(#REF!=$E$1,IF(#REF!=$G$1,IF(#REF!=\"\",NA(),#REF!),NA()),NA())","v":{"$error":"#REF!"}},{"$f":"IF(#REF!=$E$1,IF(#REF!=$G$1,IF(#REF!=\"\",NA(),#REF!),NA()),NA())","v":{"$error":"#REF!"}},{"$error":"#REF!"},{"$error":"#REF!"}]
[null,null,null,{"$f":"IF(#REF!=$E$1,IF(#REF!=$G$1,#REF!,NA()),NA())","v":{"$error":"#REF!"}},{"$f":"IF(#REF!=$E$1,IF(#REF!=$G$1,#REF!,NA()),NA())","v":{"$error":"#REF!"}},{"$f":"IF(#REF!=$E$1,IF(#REF!=$G$1,IF(#REF!=\"\",NA(),#REF!),NA()),NA())","v":{"$error":"#REF!"}},{"$f":"IF(#REF!=$E$1,IF(#REF!=$G$1,IF(#REF!=\"\",NA(),#REF!),NA()),NA())","v":{"$error":"#REF!"}},{"$error":"#REF!"},{"$error":"#REF!"}]
[null,null,null,{"$f":"IF(#REF!=$E$1,IF(#REF!=$G$1,#REF!,NA()),NA())","v":{"$error":"#REF!"}},{"$f":"IF(#REF!=$E$1,IF(#REF!=$G$1,#REF!,NA()),NA())","v":{"$error":"#REF!"}},{"$f":"IF(#REF!=$E$1,IF(#REF!=$G$1,IF(#REF!=\"\",NA(),#REF!),NA()),NA())","v":{"$error":"#REF!"}},{"$f":"IF(#REF!=$E$1,IF(#REF!=$G$1,IF(#REF!=\"\",NA(),#REF!),NA()),NA())","v":{"$error":"#REF!"}},{"$error":"#REF!"},{"$error":"#REF!"}]
[null,null,null,{"$f":"IF(#REF!=$E$1,IF(#REF!=$G$1,#REF!,NA()),NA())","v":{"$error":"#REF!"}},{"$f":"IF(#REF!=$E$1,IF(#REF!=$G$1,#REF!,NA()),NA())","v":{"$error":"#REF!"}},{"$f":"IF(#REF!=$E$1,IF(#REF!=$G$1,IF(#REF!=\"\",NA(),#REF!),NA()),NA())","v":{"$error":"#REF!"}},{"$f":"IF(#REF!=$E$1,IF(#REF!=$G$1,IF(#REF!=\"\",NA(),#REF!),NA()),NA())","v":{"$error":"#REF!"}},{"$error":"#REF!"},{"$error":"#REF!"}]
[null,null,null,{"$f":"IF(#REF!=$E$1,IF(#REF!=$G$1,#REF!,NA()),NA())","v":{"$error":"#REF!"}},{"$f":"IF(#REF!=$E$1,IF(#REF!=$G$1,#REF!,NA()),NA())","v":{"$error":"#REF!"}},{"$f":"IF(#REF!=$E$1,IF(#REF!=$G$1,IF(#REF!=\"\",NA(),#REF!),NA()),NA())","v":{"$error":"#REF!"}},{"$f":"IF(#REF!=$E$1,IF(#REF!=$G$1,IF(#REF!=\"\",NA(),#REF!),NA()),NA())","v":{"$error":"#REF!"}},{"$error":"#REF!"},{"$error":"#REF!"}]
[null,null,null,{"$f":"IF(#REF!=$E$1,IF(#REF!=$G$1,#REF!,NA()),NA())","v":{"$error":"#REF!"}},{"$f":"IF(#REF!=$E$1,IF(#REF!=$G$1,#REF!,NA()),NA())","v":{"$error":"#REF!"}},{"$f":"IF(#REF!=$E$1,IF(#REF!=$G$1,IF(#REF!=\"\",NA(),#REF!),NA()),NA())","v":{"$error":"#REF!"}},{"$f":"IF(#REF!=$E$1,IF(#REF!=$G$1,IF(#REF!=\"\",NA(),#REF!),NA()),NA())","v":{"$error":"#REF!"}},{"$error":"#REF!"},{"$error":"#REF!"}]
[null,null,null,{"$f":"IF(#REF!=$E$1,IF(#REF!=$G$1,#REF!,NA()),NA())","v":{"$error":"#REF!"}},{"$f":"IF(#REF!=$E$1,IF(#REF!=$G$1,#REF!,NA()),NA())","v":{"$error":"#REF!"}},{"$f":"IF(#REF!=$E$1,IF(#REF!=$G$1,IF(#REF!=\"\",NA(),#REF!),NA()),NA())","v":{"$error":"#REF!"}},{"$f":"IF(#REF!=$E$1,IF(#REF!=$G$1,IF(#REF!=\"\",NA(),#REF!),NA()),NA())","v":{"$error":"#REF!"}},{"$error":"#REF!"},{"$error":"#REF!"}]
[null,null,null,{"$f":"IF(#REF!=$E$1,IF(#REF!=$G$1,#REF!,NA()),NA())","v":{"$error":"#REF!"}},{"$f":"IF(#REF!=$E$1,IF(#REF!=$G$1,#REF!,NA()),NA())","v":{"$error":"#REF!"}},{"$f":"IF(#REF!=$E$1,IF(#REF!=$G$1,IF(#REF!=\"\",NA(),#REF!),NA()),NA())","v":{"$error":"#REF!"}},{"$f":"IF(#REF!=$E$1,IF(#REF!=$G$1,IF(#REF!=\"\",NA(),#REF!),NA()),NA())","v":{"$error":"#REF!"}},{"$error":"#REF!"},{"$error":"#REF!"}]
[null,null,null,{"$f":"IF(#REF!=$E$1,IF(#REF!=$G$1,#REF!,NA()),NA())","v":{"$error":"#REF!"}},{"$f":"IF(#REF!=$E$1,IF(#REF!=$G$1,#REF!,NA()),NA())","v":{"$error":"#REF!"}},{"$f":"IF(#REF!=$E$1,IF(#REF!=$G$1,IF(#REF!=\"\",NA(),#REF!),NA()),NA())","v":{"$error":"#REF!"}},{"$f":"IF(#REF!=$E$1,IF(#REF!=$G$1,IF(#REF!=\"\",NA(),#REF!),NA()),NA())","v":{"$error":"#REF!"}},{"$error":"#REF!"},{"$error":"#REF!"}]
[null,null,null,{"$f":"IF(#REF!=$E$1,IF(#REF!=$G$1,#REF!,NA()),NA())","v":{"$error":"#REF!"}},{"$f":"IF(#REF!=$E$1,IF(#REF!=$G$1,#REF!,NA()),NA())","v":{"$error":"#REF!"}},{"$f":"IF(#REF!=$E$1,IF(#REF!=$G$1,IF(#REF!=\"\",NA(),#REF!),NA()),NA())","v":{"$error":"#REF!"}},{"$f":"IF(#REF!=$E$1,IF(#REF!=$G$1,IF(#REF!=\"\",NA(),#REF!),NA()),NA())","v":{"$error":"#REF!"}},{"$error":"#REF!"},{"$error":"#REF!"}]
[null,null,null,{"$f":"IF(#REF!=$E$1,IF(#REF!=$G$1,#REF!,NA()),NA())","v":{"$error":"#REF!"}},{"$f":"IF(#REF!=$E$1,IF(#REF!=$G$1,#REF!,NA()),NA())","v":{"$error":"#REF!"}},{"$f":"IF(#REF!=$E$1,IF(#REF!=$G$1,IF(#REF!=\"\",NA(),#REF!),NA()),NA())","v":{"$error":"#REF!"}},{"$f":"IF(#REF!=$E$1,IF(#REF!=$G$1,IF(#REF!=\"\",NA(),#REF!),NA()),NA())","v":{"$error":"#REF!"}},{"$error":"#REF!"},{"$error":"#REF!"}]
[null,null,null,{"$f":"IF(#REF!=$E$1,IF(#REF!=$G$1,#REF!,NA()),NA())","v":{"$error":"#REF!"}},{"$f":"IF(#REF!=$E$1,IF(#REF!=$G$1,#REF!,NA()),NA())","v":{"$error":"#REF!"}},{"$f":"IF(#REF!=$E$1,IF(#REF!=$G$1,IF(#REF!=\"\",NA(),#REF!),NA()),NA())","v":{"$error":"#REF!"}},{"$f":"IF(#REF!=$E$1,IF(#REF!=$G$1,IF(#REF!=\"\",NA(),#REF!),NA()),NA())","v":{"$error":"#REF!"}},{"$error":"#REF!"},{"$error":"#REF!"}]
[null,null,null,{"$f":"IF(#REF!=$E$1,IF(#REF!=$G$1,#REF!,NA()),NA())","v":{"$error":"#REF!"}},{"$f":"IF(#REF!=$E$1,IF(#REF!=$G$1,#REF!,NA()),NA())","v":{"$error":"#REF!"}},{"$f":"IF(#REF!=$E$1,IF(#REF!=$G$1,IF(#REF!=\"\",NA(),#REF!),NA()),NA())","v":{"$error":"#REF!"}},{"$f":"IF(#REF!=$E$1,IF(#REF!=$G$1,IF(#REF!=\"\",NA(),#REF!),NA()),NA())","v":{"$error":"#REF!"}},{"$error":"#REF!"},{"$error":"#REF!"}]
[null,null,null,{"$f":"IF(#REF!=$E$1,IF(#REF!=$G$1,#REF!,NA()),NA())","v":{"$error":"#REF!"}},{"$f":"IF(#REF!=$E$1,IF(#REF!=$G$1,#REF!,NA()),NA())","v":{"$error":"#REF!"}},{"$f":"IF(#REF!=$E$1,IF(#REF!=$G$1,IF(#REF!=\"\",NA(),#REF!),NA()),NA())","v":{"$error":"#REF!"}},{"$f":"IF(#REF!=$E$1,IF(#REF!=$G$1,IF(#REF!=\"\",NA(),#REF!),NA()),NA())","v":{"$error":"#REF!"}},{"$error":"#REF!"},{"$error":"#REF!"}]
[null,null,null,{"$f":"IF(#REF!=$E$1,IF(#REF!=$G$1,#REF!,NA()),NA())","v":{"$error":"#REF!"}},{"$f":"IF(#REF!=$E$1,IF(#REF!=$G$1,#REF!,NA()),NA())","v":{"$error":"#REF!"}},{"$f":"IF(#REF!=$E$1,IF(#REF!=$G$1,IF(#REF!=\"\",NA(),#REF!),NA()),NA())","v":{"$error":"#REF!"}},{"$f":"IF(#REF!=$E$1,IF(#REF!=$G$1,IF(#REF!=\"\",NA(),#REF!),NA()),NA())","v":{"$error":"#REF!"}},{"$error":"#REF!"},{"$error":"#REF!"}]
[null,null,null,{"$f":"IF(#REF!=$E$1,IF(#REF!=$G$1,#REF!,NA()),NA())","v":{"$error":"#REF!"}},{"$f":"IF(#REF!=$E$1,IF(#REF!=$G$1,#REF!,NA()),NA())","v":{"$error":"#REF!"}},{"$f":"IF(#REF!=$E$1,IF(#REF!=$G$1,IF(#REF!=\"\",NA(),#REF!),NA()),NA())","v":{"$error":"#REF!"}},{"$f":"IF(#REF!=$E$1,IF(#REF!=$G$1,IF(#REF!=\"\",NA(),#REF!),NA()),NA())","v":{"$error":"#REF!"}},{"$error":"#REF!"},{"$error":"#REF!"}]
[null,null,null,{"$f":"IF(#REF!=$E$1,IF(#REF!=$G$1,#REF!,NA()),NA())","v":{"$error":"#REF!"}},{"$f":"IF(#REF!=$E$1,IF(#REF!=$G$1,#REF!,NA()),NA())","v":{"$error":"#REF!"}},{"$f":"IF(#REF!=$E$1,IF(#REF!=$G$1,IF(#REF!=\"\",NA(),#REF!),NA()),NA())","v":{"$error":"#REF!"}},{"$f":"IF(#REF!=$E$1,IF(#REF!=$G$1,IF(#REF!=\"\",NA(),#REF!),NA()),NA())","v":{"$error":"#REF!"}},{"$error":"#REF!"},{"$error":"#REF!"}]
[null,null,null,{"$f":"IF(#REF!=$E$1,IF(#REF!=$G$1,#REF!,NA()),NA())","v":{"$error":"#REF!"}},{"$f":"IF(#REF!=$E$1,IF(#REF!=$G$1,#REF!,NA()),NA())","v":{"$error":"#REF!"}},{"$f":"IF(#REF!=$E$1,IF(#REF!=$G$1,IF(#REF!=\"\",NA(),#REF!),NA()),NA())","v":{"$error":"#REF!"}},{"$f":"IF(#REF!=$E$1,IF(#REF!=$G$1,IF(#REF!=\"\",NA(),#REF!),NA()),NA())","v":{"$error":"#REF!"}},{"$error":"#REF!"},{"$error":"#REF!"}]
[null,null,null,{"$f":"IF(#REF!=$E$1,IF(#REF!=$G$1,#REF!,NA()),NA())","v":{"$error":"#REF!"}},{"$f":"IF(#REF!=$E$1,IF(#REF!=$G$1,#REF!,NA()),NA())","v":{"$error":"#REF!"}},{"$f":"IF(#REF!=$E$1,IF(#REF!=$G$1,IF(#REF!=\"\",NA(),#REF!),NA()),NA())","v":{"$error":"#REF!"}},{"$f":"IF(#REF!=$E$1,IF(#REF!=$G$1,IF(#REF!=\"\",NA(),#REF!),NA()),NA())","v":{"$error":"#REF!"}},{"$error":"#REF!"},{"$error":"#REF!"}]
[null,null,null,{"$f":"IF(#REF!=$E$1,IF(#REF!=$G$1,#REF!,NA()),NA())","v":{"$error":"#REF!"}},{"$f":"IF(#REF!=$E$1,IF(#REF!=$G$1,#REF!,NA()),NA())","v":{"$error":"#REF!"}},{"$f":"IF(#REF!=$E$1,IF(#REF!=$G$1,IF(#REF!=\"\",NA(),#REF!),NA()),NA())","v":{"$error":"#REF!"}},{"$f":"IF(#REF!=$E$1,IF(#REF!=$G$1,IF(#REF!=\"\",NA(),#REF!),NA()),NA())","v":{"$error":"#REF!"}},{"$error":"#REF!"},{"$error":"#REF!"}]
[null,null,null,{"$f":"IF(#REF!=$E$1,IF(#REF!=$G$1,#REF!,NA()),NA())","v":{"$error":"#REF!"}},{"$f":"IF(#REF!=$E$1,IF(#REF!=$G$1,#REF!,NA()),NA())","v":{"$error":"#REF!"}},{"$f":"IF(#REF!=$E$1,IF(#REF!=$G$1,IF(#REF!=\"\",NA(),#REF!),NA()),NA())","v":{"$error":"#REF!"}},{"$f":"IF(#REF!=$E$1,IF(#REF!=$G$1,IF(#REF!=\"\",NA(),#REF!),NA()),NA())","v":{"$error":"#REF!"}},{"$error":"#REF!"},{"$error":"#REF!"}]
[null,null,null,{"$f":"IF(#REF!=$E$1,IF(#REF!=$G$1,#REF!,NA()),NA())","v":{"$error":"#REF!"}},{"$f":"IF(#REF!=$E$1,IF(#REF!=$G$1,#REF!,NA()),NA())","v":{"$error":"#REF!"}},{"$f":"IF(#REF!=$E$1,IF(#REF!=$G$1,IF(#REF!=\"\",NA(),#REF!),NA()),NA())","v":{"$error":"#REF!"}},{"$f":"IF(#REF!=$E$1,IF(#REF!=$G$1,IF(#REF!=\"\",NA(),#REF!),NA()),NA())","v":{"$error":"#REF!"}},{"$error":"#REF!"},{"$error":"#REF!"}]
[null,null,null,{"$f":"IF(#REF!=$E$1,IF(#REF!=$G$1,#REF!,NA()),NA())","v":{"$error":"#REF!"}},{"$f":"IF(#REF!=$E$1,IF(#REF!=$G$1,#REF!,NA()),NA())","v":{"$error":"#REF!"}},{"$f":"IF(#REF!=$E$1,IF(#REF!=$G$1,IF(#REF!=\"\",NA(),#REF!),NA()),NA())","v":{"$error":"#REF!"}},{"$f":"IF(#REF!=$E$1,IF(#REF!=$G$1,IF(#REF!=\"\",NA(),#REF!),NA()),NA())","v":{"$error":"#REF!"}},{"$error":"#REF!"},{"$error":"#REF!"}]
[null,null,null,{"$f":"IF(#REF!=$E$1,IF(#REF!=$G$1,#REF!,NA()),NA())","v":{"$error":"#REF!"}},{"$f":"IF(#REF!=$E$1,IF(#REF!=$G$1,#REF!,NA()),NA())","v":{"$error":"#REF!"}},{"$f":"IF(#REF!=$E$1,IF(#REF!=$G$1,IF(#REF!=\"\",NA(),#REF!),NA()),NA())","v":{"$error":"#REF!"}},{"$f":"IF(#REF!=$E$1,IF(#REF!=$G$1,IF(#REF!=\"\",NA(),#REF!),NA()),NA())","v":{"$error":"#REF!"}},{"$error":"#REF!"},{"$error":"#REF!"}]
[null,null,null,{"$f":"IF(#REF!=$E$1,IF(#REF!=$G$1,#REF!,NA()),NA())","v":{"$error":"#REF!"}},{"$f":"IF(#REF!=$E$1,IF(#REF!=$G$1,#REF!,NA()),NA())","v":{"$error":"#REF!"}},{"$f":"IF(#REF!=$E$1,IF(#REF!=$G$1,IF(#REF!=\"\",NA(),#REF!),NA()),NA())","v":{"$error":"#REF!"}},{"$f":"IF(#REF!=$E$1,IF(#REF!=$G$1,IF(#REF!=\"\",NA(),#REF!),NA()),NA())","v":{"$error":"#REF!"}},{"$error":"#REF!"},{"$error":"#REF!"}]
[null,null,null,{"$f":"IF(#REF!=$E$1,IF(#REF!=$G$1,#REF!,NA()),NA())","v":{"$error":"#REF!"}},{"$f":"IF(#REF!=$E$1,IF(#REF!=$G$1,#REF!,NA()),NA())","v":{"$error":"#REF!"}},{"$f":"IF(#REF!=$E$1,IF(#REF!=$G$1,IF(#REF!=\"\",NA(),#REF!),NA()),NA())","v":{"$error":"#REF!"}},{"$f":"IF(#REF!=$E$1,IF(#REF!=$G$1,IF(#REF!=\"\",NA(),#REF!),NA()),NA())","v":{"$error":"#REF!"}},{"$error":"#REF!"},{"$error":"#REF!"}]
[null,null,null,{"$f":"IF(#REF!=$E$1,IF(#REF!=$G$1,#REF!,NA()),NA())","v":{"$error":"#REF!"}},{"$f":"IF(#REF!=$E$1,IF(#REF!=$G$1,#REF!,NA()),NA())","v":{"$error":"#REF!"}},{"$f":"IF(#REF!=$E$1,IF(#REF!=$G$1,IF(#REF!=\"\",NA(),#REF!),NA()),NA())","v":{"$error":"#REF!"}},{"$f":"IF(#REF!=$E$1,IF(#REF!=$G$1,IF(#REF!=\"\",NA(),#REF!),NA()),NA())","v":{"$error":"#REF!"}},{"$error":"#REF!"},{"$error":"#REF!"}]
[null,null,null,{"$f":"IF(#REF!=$E$1,IF(#REF!=$G$1,#REF!,NA()),NA())","v":{"$error":"#REF!"}},{"$f":"IF(#REF!=$E$1,IF(#REF!=$G$1,#REF!,NA()),NA())","v":{"$error":"#REF!"}},{"$f":"IF(#REF!=$E$1,IF(#REF!=$G$1,IF(#REF!=\"\",NA(),#REF!),NA()),NA())","v":{"$error":"#REF!"}},{"$f":"IF(#REF!=$E$1,IF(#REF!=$G$1,IF(#REF!=\"\",NA(),#REF!),NA()),NA())","v":{"$error":"#REF!"}},{"$error":"#REF!"},{"$error":"#REF!"}]
[null,null,null,{"$f":"IF(#REF!=$E$1,IF(#REF!=$G$1,#REF!,NA()),NA())","v":{"$error":"#REF!"}},{"$f":"IF(#REF!=$E$1,IF(#REF!=$G$1,#REF!,NA()),NA())","v":{"$error":"#REF!"}},{"$f":"IF(#REF!=$E$1,IF(#REF!=$G$1,IF(#REF!=\"\",NA(),#REF!),NA()),NA())","v":{"$error":"#REF!"}},{"$f":"IF(#REF!=$E$1,IF(#REF!=$G$1,IF(#REF!=\"\",NA(),#REF!),NA()),NA())","v":{"$error":"#REF!"}},{"$error":"#REF!"},{"$error":"#REF!"}]
[null,null,null,{"$f":"IF(#REF!=$E$1,IF(#REF!=$G$1,#REF!,NA()),NA())","v":{"$error":"#REF!"}},{"$f":"IF(#REF!=$E$1,IF(#REF!=$G$1,#REF!,NA()),NA())","v":{"$error":"#REF!"}},{"$f":"IF(#REF!=$E$1,IF(#REF!=$G$1,IF(#REF!=\"\",NA(),#REF!),NA()),NA())","v":{"$error":"#REF!"}},{"$f":"IF(#REF!=$E$1,IF(#REF!=$G$1,IF(#REF!=\"\",NA(),#REF!),NA()),NA())","v":{"$error":"#REF!"}},{"$error":"#REF!"},{"$error":"#REF!"}]
[null,null,null,{"$f":"IF(#REF!=$E$1,IF(#REF!=$G$1,#REF!,NA()),NA())","v":{"$error":"#REF!"}},{"$f":"IF(#REF!=$E$1,IF(#REF!=$G$1,#REF!,NA()),NA())","v":{"$error":"#REF!"}},{"$f":"IF(#REF!=$E$1,IF(#REF!=$G$1,IF(#REF!=\"\",NA(),#REF!),NA()),NA())","v":{"$error":"#REF!"}},{"$f":"IF(#REF!=$E$1,IF(#REF!=$G$1,IF(#REF!=\"\",NA(),#REF!),NA()),NA())","v":{"$error":"#REF!"}},{"$error":"#REF!"},{"$error":"#REF!"}]
[null,null,null,{"$f":"IF(#REF!=$E$1,IF(#REF!=$G$1,#REF!,NA()),NA())","v":{"$error":"#REF!"}},{"$f":"IF(#REF!=$E$1,IF(#REF!=$G$1,#REF!,NA()),NA())","v":{"$error":"#REF!"}},{"$f":"IF(#REF!=$E$1,IF(#REF!=$G$1,IF(#REF!=\"\",NA(),#REF!),NA()),NA())","v":{"$error":"#REF!"}},{"$f":"IF(#REF!=$E$1,IF(#REF!=$G$1,IF(#REF!=\"\",NA(),#REF!),NA()),NA())","v":{"$error":"#REF!"}},{"$error":"#REF!"},{"$error":"#REF!"}]
[null,null,null,{"$f":"IF(#REF!=$E$1,IF(#REF!=$G$1,#REF!,NA()),NA())","v":{"$error":"#REF!"}},{"$f":"IF(#REF!=$E$1,IF(#REF!=$G$1,#REF!,NA()),NA())","v":{"$error":"#REF!"}},{"$f":"IF(#REF!=$E$1,IF(#REF!=$G$1,IF(#REF!=\"\",NA(),#REF!),NA()),NA())","v":{"$error":"#REF!"}},{"$f":"IF(#REF!=$E$1,IF(#REF!=$G$1,IF(#REF!=\"\",NA(),#REF!),NA()),NA())","v":{"$error":"#REF!"}},{"$error":"#REF!"},{"$error":"#REF!"}]
[null,null,null,{"$f":"IF(#REF!=$E$1,IF(#REF!=$G$1,#REF!,NA()),NA())","v":{"$error":"#REF!"}},{"$f":"IF(#REF!=$E$1,IF(#REF!=$G$1,#REF!,NA()),NA())","v":{"$error":"#REF!"}},{"$f":"IF(#REF!=$E$1,IF(#REF!=$G$1,IF(#REF!=\"\",NA(),#REF!),NA()),NA())","v":{"$error":"#REF!"}},{"$f":"IF(#REF!=$E$1,IF(#REF!=$G$1,IF(#REF!=\"\",NA(),#REF!),NA()),NA())","v":{"$error":"#REF!"}},{"$error":"#REF!"},{"$error":"#REF!"}]
[null,null,null,{"$f":"IF(#REF!=$E$1,IF(#REF!=$G$1,#REF!,NA()),NA())","v":{"$error":"#REF!"}},{"$f":"IF(#REF!=$E$1,IF(#REF!=$G$1,#REF!,NA()),NA())","v":{"$error":"#REF!"}},{"$f":"IF(#REF!=$E$1,IF(#REF!=$G$1,IF(#REF!=\"\",NA(),#REF!),NA()),NA())","v":{"$error":"#REF!"}},{"$f":"IF(#REF!=$E$1,IF(#REF!=$G$1,IF(#REF!=\"\",NA(),#REF!),NA()),NA())","v":{"$error":"#REF!"}},{"$error":"#REF!"},{"$error":"#REF!"}]
[null,null,null,{"$f":"IF(#REF!=$E$1,IF(#REF!=$G$1,#REF!,NA()),NA())","v":{"$error":"#REF!"}},{"$f":"IF(#REF!=$E$1,IF(#REF!=$G$1,#REF!,NA()),NA())","v":{"$error":"#REF!"}},{"$f":"IF(#REF!=$E$1,IF(#REF!=$G$1,IF(#REF!=\"\",NA(),#REF!),NA()),NA())","v":{"$error":"#REF!"}},{"$f":"IF(#REF!=$E$1,IF(#REF!=$G$1,IF(#REF!=\"\",NA(),#REF!),NA()),NA())","v":{"$error":"#REF!"}},{"$error":"#REF!"},{"$error":"#REF!"}]
[null,null,null,{"$f":"IF(#REF!=$E$1,IF(#REF!=$G$1,#REF!,NA()),NA())","v":{"$error":"#REF!"}},{"$f":"IF(#REF!=$E$1,IF(#REF!=$G$1,#REF!,NA()),NA())","v":{"$error":"#REF!"}},{"$f":"IF(#REF!=$E$1,IF(#REF!=$G$1,IF(#REF!=\"\",NA(),#REF!),NA()),NA())","v":{"$error":"#REF!"}},{"$f":"IF(#REF!=$E$1,IF(#REF!=$G$1,IF(#REF!=\"\",NA(),#REF!),NA()),NA())","v":{"$error":"#REF!"}},{"$error":"#REF!"},{"$error":"#REF!"}]
[null,null,null,{"$f":"IF(#REF!=$E$1,IF(#REF!=$G$1,#REF!,NA()),NA())","v":{"$error":"#REF!"}},{"$f":"IF(#REF!=$E$1,IF(#REF!=$G$1,#REF!,NA()),NA())","v":{"$error":"#REF!"}},{"$f":"IF(#REF!=$E$1,IF(#REF!=$G$1,IF(#REF!=\"\",NA(),#REF!),NA()),NA())","v":{"$error":"#REF!"}},{"$f":"IF(#REF!=$E$1,IF(#REF!=$G$1,IF(#REF!=\"\",NA(),#REF!),NA()),NA())","v":{"$error":"#REF!"}},{"$error":"#REF!"},{"$error":"#REF!"}]
[null,null,null,{"$f":"IF(#REF!=$E$1,IF(#REF!=$G$1,#REF!,NA()),NA())","v":{"$error":"#REF!"}},{"$f":"IF(#REF!=$E$1,IF(#REF!=$G$1,#REF!,NA()),NA())","v":{"$error":"#REF!"}},{"$f":"IF(#REF!=$E$1,IF(#REF!=$G$1,IF(#REF!=\"\",NA(),#REF!),NA()),NA())","v":{"$error":"#REF!"}},{"$f":"IF(#REF!=$E$1,IF(#REF!=$G$1,IF(#REF!=\"\",NA(),#REF!),NA()),NA())","v":{"$error":"#REF!"}},{"$error":"#REF!"},{"$error":"#REF!"}]
[null,null,null,{"$f":"IF(#REF!=$E$1,IF(#REF!=$G$1,#REF!,NA()),NA())","v":{"$error":"#REF!"}},{"$f":"IF(#REF!=$E$1,IF(#REF!=$G$1,#REF!,NA()),NA())","v":{"$error":"#REF!"}},{"$f":"IF(#REF!=$E$1,IF(#REF!=$G$1,IF(#REF!=\"\",NA(),#REF!),NA()),NA())","v":{"$error":"#REF!"}},{"$f":"IF(#REF!=$E$1,IF(#REF!=$G$1,IF(#REF!=\"\",NA(),#REF!),NA()),NA())","v":{"$error":"#REF!"}},{"$error":"#REF!"},{"$error":"#REF!"}]
[null,null,null,{"$f":"IF(#REF!=$E$1,IF(#REF!=$G$1,#REF!,NA()),NA())","v":{"$error":"#REF!"}},{"$f":"IF(#REF!=$E$1,IF(#REF!=$G$1,#REF!,NA()),NA())","v":{"$error":"#REF!"}},{"$f":"IF(#REF!=$E$1,IF(#REF!=$G$1,IF(#REF!=\"\",NA(),#REF!),NA()),NA())","v":{"$error":"#REF!"}},{"$f":"IF(#REF!=$E$1,IF(#REF!=$G$1,IF(#REF!=\"\",NA(),#REF!),NA()),NA())","v":{"$error":"#REF!"}},{"$f":"IF(AND(ISNUMBER(G708),F708=\"-\"),0,F708)","v":{"$error":"#REF!"}},{"$f":"IF(AND(ISNUMBER(F708),G708=\"-\"),0,G708)","v":{"$error":"#REF!"}}]
[null,null,null,{"$f":"IF(#REF!=$E$1,IF(#REF!=$G$1,#REF!,NA()),NA())","v":{"$error":"#REF!"}},{"$f":"IF(#REF!=$E$1,IF(#REF!=$G$1,#REF!,NA()),NA())","v":{"$error":"#REF!"}},{"$f":"IF(#REF!=$E$1,IF(#REF!=$G$1,IF(#REF!=\"\",NA(),#REF!),NA()),NA())","v":{"$error":"#REF!"}},{"$f":"IF(#REF!=$E$1,IF(#REF!=$G$1,IF(#REF!=\"\",NA(),#REF!),NA()),NA())","v":{"$error":"#REF!"}},{"$error":"#REF!"},{"$error":"#REF!"}]
[null,null,null,{"$f":"IF(#REF!=$E$1,IF(#REF!=$G$1,#REF!,NA()),NA())","v":{"$error":"#REF!"}},{"$f":"IF(#REF!=$E$1,IF(#REF!=$G$1,#REF!,NA()),NA())","v":{"$error":"#REF!"}},{"$f":"IF(#REF!=$E$1,IF(#REF!=$G$1,IF(#REF!=\"\",NA(),#REF!),NA()),NA())","v":{"$error":"#REF!"}},{"$f":"IF(#REF!=$E$1,IF(#REF!=$G$1,IF(#REF!=\"\",NA(),#REF!),NA()),NA())","v":{"$error":"#REF!"}},{"$error":"#REF!"},{"$error":"#REF!"}]
[null,null,null,{"$f":"IF(#REF!=$E$1,IF(#REF!=$G$1,#REF!,NA()),NA())","v":{"$error":"#REF!"}},{"$f":"IF(#REF!=$E$1,IF(#REF!=$G$1,#REF!,NA()),NA())","v":{"$error":"#REF!"}},{"$f":"IF(#REF!=$E$1,IF(#REF!=$G$1,IF(#REF!=\"\",NA(),#REF!),NA()),NA())","v":{"$error":"#REF!"}},{"$f":"IF(#REF!=$E$1,IF(#REF!=$G$1,IF(#REF!=\"\",NA(),#REF!),NA()),NA())","v":{"$error":"#REF!"}},{"$error":"#REF!"},{"$error":"#REF!"}]
[null,null,null,{"$f":"IF(#REF!=$E$1,IF(#REF!=$G$1,#REF!,NA()),NA())","v":{"$error":"#REF!"}},{"$f":"IF(#REF!=$E$1,IF(#REF!=$G$1,#REF!,NA()),NA())","v":{"$error":"#REF!"}},{"$f":"IF(#REF!=$E$1,IF(#REF!=$G$1,IF(#REF!=\"\",NA(),#REF!),NA()),NA())","v":{"$error":"#REF!"}},{"$f":"IF(#REF!=$E$1,IF(#REF!=$G$1,IF(#REF!=\"\",NA(),#REF!),NA()),NA())","v":{"$error":"#REF!"}},{"$error":"#REF!"},{"$error":"#REF!"}]
[null,null,null,{"$f":"IF(#REF!=$E$1,IF(#REF!=$G$1,#REF!,NA()),NA())","v":{"$error":"#REF!"}},{"$f":"IF(#REF!=$E$1,IF(#REF!=$G$1,#REF!,NA()),NA())","v":{"$error":"#REF!"}},{"$f":"IF(#REF!=$E$1,IF(#REF!=$G$1,IF(#REF!=\"\",NA(),#REF!),NA()),NA())","v":{"$error":"#REF!"}},{"$f":"IF(#REF!=$E$1,IF(#REF!=$G$1,IF(#REF!=\"\",NA(),#REF!),NA()),NA())","v":{"$error":"#REF!"}},{"$error":"#REF!"},{"$error":"#REF!"}]
[null,null,null,{"$f":"IF(#REF!=$E$1,IF(#REF!=$G$1,#REF!,NA()),NA())","v":{"$error":"#REF!"}},{"$f":"IF(#REF!=$E$1,IF(#REF!=$G$1,#REF!,NA()),NA())","v":{"$error":"#REF!"}},{"$f":"IF(#REF!=$E$1,IF(#REF!=$G$1,IF(#REF!=\"\",NA(),#REF!),NA()),NA())","v":{"$error":"#REF!"}},{"$f":"IF(#REF!=$E$1,IF(#REF!=$G$1,IF(#REF!=\"\",NA(),#REF!),NA()),NA())","v":{"$error":"#REF!"}},{"$error":"#REF!"},{"$error":"#REF!"}]
[null,null,null,{"$f":"IF(#REF!=$E$1,IF(#REF!=$G$1,#REF!,NA()),NA())","v":{"$error":"#REF!"}},{"$f":"IF(#REF!=$E$1,IF(#REF!=$G$1,#REF!,NA()),NA())","v":{"$error":"#REF!"}},{"$f":"IF(#REF!=$E$1,IF(#REF!=$G$1,IF(#REF!=\"\",NA(),#REF!),NA()),NA())","v":{"$error":"#REF!"}},{"$f":"IF(#REF!=$E$1,IF(#REF!=$G$1,IF(#REF!=\"\",NA(),#REF!),NA()),NA())","v":{"$error":"#REF!"}},{"$error":"#REF!"},{"$error":"#REF!"}]
[null,null,null,{"$f":"IF(#REF!=$E$1,IF(#REF!=$G$1,#REF!,NA()),NA())","v":{"$error":"#REF!"}},{"$f":"IF(#REF!=$E$1,IF(#REF!=$G$1,#REF!,NA()),NA())","v":{"$error":"#REF!"}},{"$f":"IF(#REF!=$E$1,IF(#REF!=$G$1,IF(#REF!=\"\",NA(),#REF!),NA()),NA())","v":{"$error":"#REF!"}},{"$f":"IF(#REF!=$E$1,IF(#REF!=$G$1,IF(#REF!=\"\",NA(),#REF!),NA()),NA())","v":{"$error":"#REF!"}},{"$error":"#REF!"},{"$error":"#REF!"}]
[null,null,null,{"$f":"IF(#REF!=$E$1,IF(#REF!=$G$1,#REF!,NA()),NA())","v":{"$error":"#REF!"}},{"$f":"IF(#REF!=$E$1,IF(#REF!=$G$1,#REF!,NA()),NA())","v":{"$error":"#REF!"}},{"$f":"IF(#REF!=$E$1,IF(#REF!=$G$1,IF(#REF!=\"\",NA(),#REF!),NA()),NA())","v":{"$error":"#REF!"}},{"$f":"IF(#REF!=$E$1,IF(#REF!=$G$1,IF(#REF!=\"\",NA(),#REF!),NA()),NA())","v":{"$error":"#REF!"}},{"$error":"#REF!"},{"$error":"#REF!"}]
[null,null,null,{"$f":"IF(#REF!=$E$1,IF(#REF!=$G$1,#REF!,NA()),NA())","v":{"$error":"#REF!"}},{"$f":"IF(#REF!=$E$1,IF(#REF!=$G$1,#REF!,NA()),NA())","v":{"$error":"#REF!"}},{"$f":"IF(#REF!=$E$1,IF(#REF!=$G$1,IF(#REF!=\"\",NA(),#REF!),NA()),NA())","v":{"$error":"#REF!"}},{"$f":"IF(#REF!=$E$1,IF(#REF!=$G$1,IF(#REF!=\"\",NA(),#REF!),NA()),NA())","v":{"$error":"#REF!"}},{"$error":"#REF!"},{"$error":"#REF!"}]
[null,null,null,{"$f":"IF(#REF!=$E$1,IF(#REF!=$G$1,#REF!,NA()),NA())","v":{"$error":"#REF!"}},{"$f":"IF(#REF!=$E$1,IF(#REF!=$G$1,#REF!,NA()),NA())","v":{"$error":"#REF!"}},{"$f":"IF(#REF!=$E$1,IF(#REF!=$G$1,IF(#REF!=\"\",NA(),#REF!),NA()),NA())","v":{"$error":"#REF!"}},{"$f":"IF(#REF!=$E$1,IF(#REF!=$G$1,IF(#REF!=\"\",NA(),#REF!),NA()),NA())","v":{"$error":"#REF!"}},{"$error":"#REF!"},{"$error":"#REF!"}]
[null,null,null,{"$f":"IF(#REF!=$E$1,IF(#REF!=$G$1,#REF!,NA()),NA())","v":{"$error":"#REF!"}},{"$f":"IF(#REF!=$E$1,IF(#REF!=$G$1,#REF!,NA()),NA())","v":{"$error":"#REF!"}},{"$f":"IF(#REF!=$E$1,IF(#REF!=$G$1,IF(#REF!=\"\",NA(),#REF!),NA()),NA())","v":{"$error":"#REF!"}},{"$f":"IF(#REF!=$E$1,IF(#REF!=$G$1,IF(#REF!=\"\",NA(),#REF!),NA()),NA())","v":{"$error":"#REF!"}},{"$error":"#REF!"},{"$error":"#REF!"}]
[null,null,null,{"$f":"IF(#REF!=$E$1,IF(#REF!=$G$1,#REF!,NA()),NA())","v":{"$error":"#REF!"}},{"$f":"IF(#REF!=$E$1,IF(#REF!=$G$1,#REF!,NA()),NA())","v":{"$error":"#REF!"}},{"$f":"IF(#REF!=$E$1,IF(#REF!=$G$1,IF(#REF!=\"\",NA(),#REF!),NA()),NA())","v":{"$error":"#REF!"}},{"$f":"IF(#REF!=$E$1,IF(#REF!=$G$1,IF(#REF!=\"\",NA(),#REF!),NA()),NA())","v":{"$error":"#REF!"}},{"$error":"#REF!"},{"$error":"#REF!"}]
[null,null,null,{"$f":"IF(#REF!=$E$1,IF(#REF!=$G$1,#REF!,NA()),NA())","v":{"$error":"#REF!"}},{"$f":"IF(#REF!=$E$1,IF(#REF!=$G$1,#REF!,NA()),NA())","v":{"$error":"#REF!"}},{"$f":"IF(#REF!=$E$1,IF(#REF!=$G$1,IF(#REF!=\"\",NA(),#REF!),NA()),NA())","v":{"$error":"#REF!"}},{"$f":"IF(#REF!=$E$1,IF(#REF!=$G$1,IF(#REF!=\"\",NA(),#REF!),NA()),NA())","v":{"$error":"#REF!"}},{"$error":"#REF!"},{"$error":"#REF!"}]
[null,null,null,{"$f":"IF(#REF!=$E$1,IF(#REF!=$G$1,#REF!,NA()),NA())","v":{"$error":"#REF!"}},{"$f":"IF(#REF!=$E$1,IF(#REF!=$G$1,#REF!,NA()),NA())","v":{"$error":"#REF!"}},{"$f":"IF(#REF!=$E$1,IF(#REF!=$G$1,IF(#REF!=\"\",NA(),#REF!),NA()),NA())","v":{"$error":"#REF!"}},{"$f":"IF(#REF!=$E$1,IF(#REF!=$G$1,IF(#REF!=\"\",NA(),#REF!),NA()),NA())","v":{"$error":"#REF!"}},{"$error":"#REF!"},{"$error":"#REF!"}]
[null,null,null,{"$f":"IF(#REF!=$E$1,IF(#REF!=$G$1,#REF!,NA()),NA())","v":{"$error":"#REF!"}},{"$f":"IF(#REF!=$E$1,IF(#REF!=$G$1,#REF!,NA()),NA())","v":{"$error":"#REF!"}},{"$f":"IF(#REF!=$E$1,IF(#REF!=$G$1,IF(#REF!=\"\",NA(),#REF!),NA()),NA())","v":{"$error":"#REF!"}},{"$f":"IF(#REF!=$E$1,IF(#REF!=$G$1,IF(#REF!=\"\",NA(),#REF!),NA()),NA())","v":{"$error":"#REF!"}},{"$error":"#REF!"},{"$error":"#REF!"}]
[null,null,null,{"$f":"IF(#REF!=$E$1,IF(#REF!=$G$1,#REF!,NA()),NA())","v":{"$error":"#REF!"}},{"$f":"IF(#REF!=$E$1,IF(#REF!=$G$1,#REF!,NA()),NA())","v":{"$error":"#REF!"}},{"$f":"IF(#REF!=$E$1,IF(#REF!=$G$1,IF(#REF!=\"\",NA(),#REF!),NA()),NA())","v":{"$error":"#REF!"}},{"$f":"IF(#REF!=$E$1,IF(#REF!=$G$1,IF(#REF!=\"\",NA(),#REF!),NA()),NA())","v":{"$error":"#REF!"}},{"$error":"#REF!"},{"$error":"#REF!"}]
[null,null,null,{"$f":"IF(#REF!=$E$1,IF(#REF!=$G$1,#REF!,NA()),NA())","v":{"$error":"#REF!"}},{"$f":"IF(#REF!=$E$1,IF(#REF!=$G$1,#REF!,NA()),NA())","v":{"$error":"#REF!"}},{"$f":"IF(#REF!=$E$1,IF(#REF!=$G$1,IF(#REF!=\"\",NA(),#REF!),NA()),NA())","v":{"$error":"#REF!"}},{"$f":"IF(#REF!=$E$1,IF(#REF!=$G$1,IF(#REF!=\"\",NA(),#REF!),NA()),NA())","v":{"$error":"#REF!"}},{"$error":"#REF!"},{"$error":"#REF!"}]
[null,null,null,{"$f":"IF(#REF!=$E$1,IF(#REF!=$G$1,#REF!,NA()),NA())","v":{"$error":"#REF!"}},{"$f":"IF(#REF!=$E$1,IF(#REF!=$G$1,#REF!,NA()),NA())","v":{"$error":"#REF!"}},{"$f":"IF(#REF!=$E$1,IF(#REF!=$G$1,IF(#REF!=\"\",NA(),#REF!),NA()),NA())","v":{"$error":"#REF!"}},{"$f":"IF(#REF!=$E$1,IF(#REF!=$G$1,IF(#REF!=\"\",NA(),#REF!),NA()),NA())","v":{"$error":"#REF!"}},{"$error":"#REF!"},{"$error":"#REF!"}]
[null,null,null,{"$f":"IF(#REF!=$E$1,IF(#REF!=$G$1,#REF!,NA()),NA())","v":{"$error":"#REF!"}},{"$f":"IF(#REF!=$E$1,IF(#REF!=$G$1,#REF!,NA()),NA())","v":{"$error":"#REF!"}},{"$f":"IF(#REF!=$E$1,IF(#REF!=$G$1,IF(#REF!=\"\",NA(),#REF!),NA()),NA())","v":{"$error":"#REF!"}},{"$f":"IF(#REF!=$E$1,IF(#REF!=$G$1,IF(#REF!=\"\",NA(),#REF!),NA()),NA())","v":{"$error":"#REF!"}},{"$error":"#REF!"},{"$error":"#REF!"}]
[null,null,null,{"$f":"IF(#REF!=$E$1,IF(#REF!=$G$1,#REF!,NA()),NA())","v":{"$error":"#REF!"}},{"$f":"IF(#REF!=$E$1,IF(#REF!=$G$1,#REF!,NA()),NA())","v":{"$error":"#REF!"}},{"$f":"IF(#REF!=$E$1,IF(#REF!=$G$1,IF(#REF!=\"\",NA(),#REF!),NA()),NA())","v":{"$error":"#REF!"}},{"$f":"IF(#REF!=$E$1,IF(#REF!=$G$1,IF(#REF!=\"\",NA(),#REF!),NA()),NA())","v":{"$error":"#REF!"}},{"$error":"#REF!"},{"$error":"#REF!"}]
[null,null,null,{"$f":"IF(#REF!=$E$1,IF(#REF!=$G$1,#REF!,NA()),NA())","v":{"$error":"#REF!"}},{"$f":"IF(#REF!=$E$1,IF(#REF!=$G$1,#REF!,NA()),NA())","v":{"$error":"#REF!"}},{"$f":"IF(#REF!=$E$1,IF(#REF!=$G$1,IF(#REF!=\"\",NA(),#REF!),NA()),NA())","v":{"$error":"#REF!"}},{"$f":"IF(#REF!=$E$1,IF(#REF!=$G$1,IF(#REF!=\"\",NA(),#REF!),NA()),NA())","v":{"$error":"#REF!"}},{"$error":"#REF!"},{"$error":"#REF!"}]
[null,null,null,{"$f":"IF(#REF!=$E$1,IF(#REF!=$G$1,#REF!,NA()),NA())","v":{"$error":"#REF!"}},{"$f":"IF(#REF!=$E$1,IF(#REF!=$G$1,#REF!,NA()),NA())","v":{"$error":"#REF!"}},{"$f":"IF(#REF!=$E$1,IF(#REF!=$G$1,IF(#REF!=\"\",NA(),#REF!),NA()),NA())","v":{"$error":"#REF!"}},{"$f":"IF(#REF!=$E$1,IF(#REF!=$G$1,IF(#REF!=\"\",NA(),#REF!),NA()),NA())","v":{"$error":"#REF!"}},{"$error":"#REF!"},{"$error":"#REF!"}]
[null,null,null,{"$f":"IF(#REF!=$E$1,IF(#REF!=$G$1,#REF!,NA()),NA())","v":{"$error":"#REF!"}},{"$f":"IF(#REF!=$E$1,IF(#REF!=$G$1,#REF!,NA()),NA())","v":{"$error":"#REF!"}},{"$f":"IF(#REF!=$E$1,IF(#REF!=$G$1,IF(#REF!=\"\",NA(),#REF!),NA()),NA())","v":{"$error":"#REF!"}},{"$f":"IF(#REF!=$E$1,IF(#REF!=$G$1,IF(#REF!=\"\",NA(),#REF!),NA()),NA())","v":{"$error":"#REF!"}},{"$error":"#REF!"},{"$error":"#REF!"}]
[null,null,null,{"$f":"IF(#REF!=$E$1,IF(#REF!=$G$1,#REF!,NA()),NA())","v":{"$error":"#REF!"}},{"$f":"IF(#REF!=$E$1,IF(#REF!=$G$1,#REF!,NA()),NA())","v":{"$error":"#REF!"}},{"$f":"IF(#REF!=$E$1,IF(#REF!=$G$1,IF(#REF!=\"\",NA(),#REF!),NA()),NA())","v":{"$error":"#REF!"}},{"$f":"IF(#REF!=$E$1,IF(#REF!=$G$1,IF(#REF!=\"\",NA(),#REF!),NA()),NA())","v":{"$error":"#REF!"}},{"$error":"#REF!"},{"$error":"#REF!"}]
[null,null,null,{"$f":"IF(#REF!=$E$1,IF(#REF!=$G$1,#REF!,NA()),NA())","v":{"$error":"#REF!"}},{"$f":"IF(#REF!=$E$1,IF(#REF!=$G$1,#REF!,NA()),NA())","v":{"$error":"#REF!"}},{"$f":"IF(#REF!=$E$1,IF(#REF!=$G$1,IF(#REF!=\"\",NA(),#REF!),NA()),NA())","v":{"$error":"#REF!"}},{"$f":"IF(#REF!=$E$1,IF(#REF!=$G$1,IF(#REF!=\"\",NA(),#REF!),NA()),NA())","v":{"$error":"#REF!"}},{"$error":"#REF!"},{"$error":"#REF!"}]
[null,null,null,{"$f":"IF(#REF!=$E$1,IF(#REF!=$G$1,#REF!,NA()),NA())","v":{"$error":"#REF!"}},{"$f":"IF(#REF!=$E$1,IF(#REF!=$G$1,#REF!,NA()),NA())","v":{"$error":"#REF!"}},{"$f":"IF(#REF!=$E$1,IF(#REF!=$G$1,IF(#REF!=\"\",NA(),#REF!),NA()),NA())","v":{"$error":"#REF!"}},{"$f":"IF(#REF!=$E$1,IF(#REF!=$G$1,IF(#REF!=\"\",NA(),#REF!),NA()),NA())","v":{"$error":"#REF!"}},{"$error":"#REF!"},{"$error":"#REF!"}]
[null,null,null,{"$f":"IF(#REF!=$E$1,IF(#REF!=$G$1,#REF!,NA()),NA())","v":{"$error":"#REF!"}},{"$f":"IF(#REF!=$E$1,IF(#REF!=$G$1,#REF!,NA()),NA())","v":{"$error":"#REF!"}},{"$f":"IF(#REF!=$E$1,IF(#REF!=$G$1,IF(#REF!=\"\",NA(),#REF!),NA()),NA())","v":{"$error":"#REF!"}},{"$f":"IF(#REF!=$E$1,IF(#REF!=$G$1,IF(#REF!=\"\",NA(),#REF!),NA()),NA())","v":{"$error":"#REF!"}},{"$error":"#REF!"},{"$error":"#REF!"}]
[null,null,null,{"$f":"IF(#REF!=$E$1,IF(#REF!=$G$1,#REF!,NA()),NA())","v":{"$error":"#REF!"}},{"$f":"IF(#REF!=$E$1,IF(#REF!=$G$1,#REF!,NA()),NA())","v":{"$error":"#REF!"}},{"$f":"IF(#REF!=$E$1,IF(#REF!=$G$1,IF(#REF!=\"\",NA(),#REF!),NA()),NA())","v":{"$error":"#REF!"}},{"$f":"IF(#REF!=$E$1,IF(#REF!=$G$1,IF(#REF!=\"\",NA(),#REF!),NA()),NA())","v":{"$error":"#REF!"}},{"$error":"#REF!"},{"$error":"#REF!"}]
[null,null,null,{"$f":"IF(#REF!=$E$1,IF(#REF!=$G$1,#REF!,NA()),NA())","v":{"$error":"#REF!"}},{"$f":"IF(#REF!=$E$1,IF(#REF!=$G$1,#REF!,NA()),NA())","v":{"$error":"#REF!"}},{"$f":"IF(#REF!=$E$1,IF(#REF!=$G$1,IF(#REF!=\"\",NA(),#REF!),NA()),NA())","v":{"$error":"#REF!"}},{"$f":"IF(#REF!=$E$1,IF(#REF!=$G$1,IF(#REF!=\"\",NA(),#REF!),NA()),NA())","v":{"$error":"#REF!"}},{"$error":"#REF!"},{"$error":"#REF!"}]
[null,null,null,{"$f":"IF(#REF!=$E$1,IF(#REF!=$G$1,#REF!,NA()),NA())","v":{"$error":"#REF!"}},{"$f":"IF(#REF!=$E$1,IF(#REF!=$G$1,#REF!,NA()),NA())","v":{"$error":"#REF!"}},{"$f":"IF(#REF!=$E$1,IF(#REF!=$G$1,IF(#REF!=\"\",NA(),#REF!),NA()),NA())","v":{"$error":"#REF!"}},{"$f":"IF(#REF!=$E$1,IF(#REF!=$G$1,IF(#REF!=\"\",NA(),#REF!),NA()),NA())","v":{"$error":"#REF!"}},{"$error":"#REF!"},{"$error":"#REF!"}]
[null,null,null,{"$f":"IF(#REF!=$E$1,IF(#REF!=$G$1,#REF!,NA()),NA())","v":{"$error":"#REF!"}},{"$f":"IF(#REF!=$E$1,IF(#REF!=$G$1,#REF!,NA()),NA())","v":{"$error":"#REF!"}},{"$f":"IF(#REF!=$E$1,IF(#REF!=$G$1,IF(#REF!=\"\",NA(),#REF!),NA()),NA())","v":{"$error":"#REF!"}},{"$f":"IF(#REF!=$E$1,IF(#REF!=$G$1,IF(#REF!=\"\",NA(),#REF!),NA()),NA())","v":{"$error":"#REF!"}},{"$error":"#REF!"},{"$error":"#REF!"}]
[null,null,null,{"$f":"IF(#REF!=$E$1,IF(#REF!=$G$1,#REF!,NA()),NA())","v":{"$error":"#REF!"}},{"$f":"IF(#REF!=$E$1,IF(#REF!=$G$1,#REF!,NA()),NA())","v":{"$error":"#REF!"}},{"$f":"IF(#REF!=$E$1,IF(#REF!=$G$1,IF(#REF!=\"\",NA(),#REF!),NA()),NA())","v":{"$error":"#REF!"}},{"$f":"IF(#REF!=$E$1,IF(#REF!=$G$1,IF(#REF!=\"\",NA(),#REF!),NA()),NA())","v":{"$error":"#REF!"}},{"$error":"#REF!"},{"$error":"#REF!"}]
[null,null,null,{"$f":"IF(#REF!=$E$1,IF(#REF!=$G$1,#REF!,NA()),NA())","v":{"$error":"#REF!"}},{"$f":"IF(#REF!=$E$1,IF(#REF!=$G$1,#REF!,NA()),NA())","v":{"$error":"#REF!"}},{"$f":"IF(#REF!=$E$1,IF(#REF!=$G$1,IF(#REF!=\"\",NA(),#REF!),NA()),NA())","v":{"$error":"#REF!"}},{"$f":"IF(#REF!=$E$1,IF(#REF!=$G$1,IF(#REF!=\"\",NA(),#REF!),NA()),NA())","v":{"$error":"#REF!"}},{"$error":"#REF!"},{"$error":"#REF!"}]
[null,null,null,{"$f":"IF(#REF!=$E$1,IF(#REF!=$G$1,#REF!,NA()),NA())","v":{"$error":"#REF!"}},{"$f":"IF(#REF!=$E$1,IF(#REF!=$G$1,#REF!,NA()),NA())","v":{"$error":"#REF!"}},{"$f":"IF(#REF!=$E$1,IF(#REF!=$G$1,IF(#REF!=\"\",NA(),#REF!),NA()),NA())","v":{"$error":"#REF!"}},{"$f":"IF(#REF!=$E$1,IF(#REF!=$G$1,IF(#REF!=\"\",NA(),#REF!),NA()),NA())","v":{"$error":"#REF!"}},{"$error":"#REF!"},{"$error":"#REF!"}]
[null,null,null,{"$f":"IF(#REF!=$E$1,IF(#REF!=$G$1,#REF!,NA()),NA())","v":{"$error":"#REF!"}},{"$f":"IF(#REF!=$E$1,IF(#REF!=$G$1,#REF!,NA()),NA())","v":{"$error":"#REF!"}},{"$f":"IF(#REF!=$E$1,IF(#REF!=$G$1,IF(#REF!=\"\",NA(),#REF!),NA()),NA())","v":{"$error":"#REF!"}},{"$f":"IF(#REF!=$E$1,IF(#REF!=$G$1,IF(#REF!=\"\",NA(),#REF!),NA()),NA())","v":{"$error":"#REF!"}},{"$error":"#REF!"},{"$error":"#REF!"}]
[null,null,null,{"$f":"IF(#REF!=$E$1,IF(#REF!=$G$1,#REF!,NA()),NA())","v":{"$error":"#REF!"}},{"$f":"IF(#REF!=$E$1,IF(#REF!=$G$1,#REF!,NA()),NA())","v":{"$error":"#REF!"}},{"$f":"IF(#REF!=$E$1,IF(#REF!=$G$1,IF(#REF!=\"\",NA(),#REF!),NA()),NA())","v":{"$error":"#REF!"}},{"$f":"IF(#REF!=$E$1,IF(#REF!=$G$1,IF(#REF!=\"\",NA(),#REF!),NA()),NA())","v":{"$error":"#REF!"}},{"$error":"#REF!"},{"$error":"#REF!"}]
[null,null,null,{"$f":"IF(#REF!=$E$1,IF(#REF!=$G$1,#REF!,NA()),NA())","v":{"$error":"#REF!"}},{"$f":"IF(#REF!=$E$1,IF(#REF!=$G$1,#REF!,NA()),NA())","v":{"$error":"#REF!"}},{"$f":"IF(#REF!=$E$1,IF(#REF!=$G$1,IF(#REF!=\"\",NA(),#REF!),NA()),NA())","v":{"$error":"#REF!"}},{"$f":"IF(#REF!=$E$1,IF(#REF!=$G$1,IF(#REF!=\"\",NA(),#REF!),NA()),NA())","v":{"$error":"#REF!"}},{"$error":"#REF!"},{"$error":"#REF!"}]
[null,null,null,{"$f":"IF(#REF!=$E$1,IF(#REF!=$G$1,#REF!,NA()),NA())","v":{"$error":"#REF!"}},{"$f":"IF(#REF!=$E$1,IF(#REF!=$G$1,#REF!,NA()),NA())","v":{"$error":"#REF!"}},{"$f":"IF(#REF!=$E$1,IF(#REF!=$G$1,IF(#REF!=\"\",NA(),#REF!),NA()),NA())","v":{"$error":"#REF!"}},{"$f":"IF(#REF!=$E$1,IF(#REF!=$G$1,IF(#REF!=\"\",NA(),#REF!),NA()),NA())","v":{"$error":"#REF!"}},{"$error":"#REF!"},{"$error":"#REF!"}]
[null,null,null,{"$f":"IF(#REF!=$E$1,IF(#REF!=$G$1,#REF!,NA()),NA())","v":{"$error":"#REF!"}},{"$f":"IF(#REF!=$E$1,IF(#REF!=$G$1,#REF!,NA()),NA())","v":{"$error":"#REF!"}},{"$f":"IF(#REF!=$E$1,IF(#REF!=$G$1,IF(#REF!=\"\",NA(),#REF!),NA()),NA())","v":{"$error":"#REF!"}},{"$f":"IF(#REF!=$E$1,IF(#REF!=$G$1,IF(#REF!=\"\",NA(),#REF!),NA()),NA())","v":{"$error":"#REF!"}},{"$error":"#REF!"},{"$error":"#REF!"}]
[null,null,null,{"$f":"IF(#REF!=$E$1,IF(#REF!=$G$1,#REF!,NA()),NA())","v":{"$error":"#REF!"}},{"$f":"IF(#REF!=$E$1,IF(#REF!=$G$1,#REF!,NA()),NA())","v":{"$error":"#REF!"}},{"$f":"IF(#REF!=$E$1,IF(#REF!=$G$1,IF(#REF!=\"\",NA(),#REF!),NA()),NA())","v":{"$error":"#REF!"}},{"$f":"IF(#REF!=$E$1,IF(#REF!=$G$1,IF(#REF!=\"\",NA(),#REF!),NA()),NA())","v":{"$error":"#REF!"}},{"$error":"#REF!"},{"$error":"#REF!"}]
[null,null,null,{"$f":"IF(#REF!=$E$1,IF(#REF!=$G$1,#REF!,NA()),NA())","v":{"$error":"#REF!"}},{"$f":"IF(#REF!=$E$1,IF(#REF!=$G$1,#REF!,NA()),NA())","v":{"$error":"#REF!"}},{"$f":"IF(#REF!=$E$1,IF(#REF!=$G$1,IF(#REF!=\"\",NA(),#REF!),NA()),NA())","v":{"$error":"#REF!"}},{"$f":"IF(#REF!=$E$1,IF(#REF!=$G$1,IF(#REF!=\"\",NA(),#REF!),NA()),NA())","v":{"$error":"#REF!"}},{"$error":"#REF!"},{"$error":"#REF!"}]
[null,null,null,{"$f":"IF(#REF!=$E$1,IF(#REF!=$G$1,#REF!,NA()),NA())","v":{"$error":"#REF!"}},{"$f":"IF(#REF!=$E$1,IF(#REF!=$G$1,#REF!,NA()),NA())","v":{"$error":"#REF!"}},{"$f":"IF(#REF!=$E$1,IF(#REF!=$G$1,IF(#REF!=\"\",NA(),#REF!),NA()),NA())","v":{"$error":"#REF!"}},{"$f":"IF(#REF!=$E$1,IF(#REF!=$G$1,IF(#REF!=\"\",NA(),#REF!),NA()),NA())","v":{"$error":"#REF!"}},{"$error":"#REF!"},{"$error":"#REF!"}]
[null,null,null,{"$f":"IF(#REF!=$E$1,IF(#REF!=$G$1,#REF!,NA()),NA())","v":{"$error":"#REF!"}},{"$f":"IF(#REF!=$E$1,IF(#REF!=$G$1,#REF!,NA()),NA())","v":{"$error":"#REF!"}},{"$f":"IF(#REF!=$E$1,IF(#REF!=$G$1,IF(#REF!=\"\",NA(),#REF!),NA()),NA())","v":{"$error":"#REF!"}},{"$f":"IF(#REF!=$E$1,IF(#REF!=$G$1,IF(#REF!=\"\",NA(),#REF!),NA()),NA())","v":{"$error":"#REF!"}},{"$error":"#REF!"},{"$error":"#REF!"}]
[null,null,null,{"$f":"IF(#REF!=$E$1,IF(#REF!=$G$1,#REF!,NA()),NA())","v":{"$error":"#REF!"}},{"$f":"IF(#REF!=$E$1,IF(#REF!=$G$1,#REF!,NA()),NA())","v":{"$error":"#REF!"}},{"$f":"IF(#REF!=$E$1,IF(#REF!=$G$1,IF(#REF!=\"\",NA(),#REF!),NA()),NA())","v":{"$error":"#REF!"}},{"$f":"IF(#REF!=$E$1,IF(#REF!=$G$1,IF(#REF!=\"\",NA(),#REF!),NA()),NA())","v":{"$error":"#REF!"}},{"$error":"#REF!"},{"$error":"#REF!"}]
[null,null,null,{"$f":"IF(#REF!=$E$1,IF(#REF!=$G$1,#REF!,NA()),NA())","v":{"$error":"#REF!"}},{"$f":"IF(#REF!=$E$1,IF(#REF!=$G$1,#REF!,NA()),NA())","v":{"$error":"#REF!"}},{"$f":"IF(#REF!=$E$1,IF(#REF!=$G$1,IF(#REF!=\"\",NA(),#REF!),NA()),NA())","v":{"$error":"#REF!"}},{"$f":"IF(#REF!=$E$1,IF(#REF!=$G$1,IF(#REF!=\"\",NA(),#REF!),NA()),NA())","v":{"$error":"#REF!"}},{"$error":"#REF!"},{"$error":"#REF!"}]
[null,null,null,{"$f":"IF(#REF!=$E$1,IF(#REF!=$G$1,#REF!,NA()),NA())","v":{"$error":"#REF!"}},{"$f":"IF(#REF!=$E$1,IF(#REF!=$G$1,#REF!,NA()),NA())","v":{"$error":"#REF!"}},{"$f":"IF(#REF!=$E$1,IF(#REF!=$G$1,IF(#REF!=\"\",NA(),#REF!),NA()),NA())","v":{"$error":"#REF!"}},{"$f":"IF(#REF!=$E$1,IF(#REF!=$G$1,IF(#REF!=\"\",NA(),#REF!),NA()),NA())","v":{"$error":"#REF!"}},{"$error":"#REF!"},{"$error":"#REF!"}]
[null,null,null,{"$f":"IF(#REF!=$E$1,IF(#REF!=$G$1,#REF!,NA()),NA())","v":{"$error":"#REF!"}},{"$f":"IF(#REF!=$E$1,IF(#REF!=$G$1,#REF!,NA()),NA())","v":{"$error":"#REF!"}},{"$f":"IF(#REF!=$E$1,IF(#REF!=$G$1,IF(#REF!=\"\",NA(),#REF!),NA()),NA())","v":{"$error":"#REF!"}},{"$f":"IF(#REF!=$E$1,IF(#REF!=$G$1,IF(#REF!=\"\",NA(),#REF!),NA()),NA())","v":{"$error":"#REF!"}},{"$error":"#REF!"},{"$error":"#REF!"}]
[null,null,null,{"$f":"IF(#REF!=$E$1,IF(#REF!=$G$1,#REF!,NA()),NA())","v":{"$error":"#REF!"}},{"$f":"IF(#REF!=$E$1,IF(#REF!=$G$1,#REF!,NA()),NA())","v":{"$error":"#REF!"}},{"$f":"IF(#REF!=$E$1,IF(#REF!=$G$1,IF(#REF!=\"\",NA(),#REF!),NA()),NA())","v":{"$error":"#REF!"}},{"$f":"IF(#REF!=$E$1,IF(#REF!=$G$1,IF(#REF!=\"\",NA(),#REF!),NA()),NA())","v":{"$error":"#REF!"}},{"$error":"#REF!"},{"$error":"#REF!"}]
[null,null,null,{"$f":"IF(#REF!=$E$1,IF(#REF!=$G$1,#REF!,NA()),NA())","v":{"$error":"#REF!"}},{"$f":"IF(#REF!=$E$1,IF(#REF!=$G$1,#REF!,NA()),NA())","v":{"$error":"#REF!"}},{"$f":"IF(#REF!=$E$1,IF(#REF!=$G$1,IF(#REF!=\"\",NA(),#REF!),NA()),NA())","v":{"$error":"#REF!"}},{"$f":"IF(#REF!=$E$1,IF(#REF!=$G$1,IF(#REF!=\"\",NA(),#REF!),NA()),NA())","v":{"$error":"#REF!"}},{"$error":"#REF!"},{"$error":"#REF!"}]
[null,null,null,{"$f":"IF(#REF!=$E$1,IF(#REF!=$G$1,#REF!,NA()),NA())","v":{"$error":"#REF!"}},{"$f":"IF(#REF!=$E$1,IF(#REF!=$G$1,#REF!,NA()),NA())","v":{"$error":"#REF!"}},{"$f":"IF(#REF!=$E$1,IF(#REF!=$G$1,IF(#REF!=\"\",NA(),#REF!),NA()),NA())","v":{"$error":"#REF!"}},{"$f":"IF(#REF!=$E$1,IF(#REF!=$G$1,IF(#REF!=\"\",NA(),#REF!),NA()),NA())","v":{"$error":"#REF!"}},{"$error":"#REF!"},{"$error":"#REF!"}]
[null,null,null,{"$f":"IF(#REF!=$E$1,IF(#REF!=$G$1,#REF!,NA()),NA())","v":{"$error":"#REF!"}},{"$f":"IF(#REF!=$E$1,IF(#REF!=$G$1,#REF!,NA()),NA())","v":{"$error":"#REF!"}},{"$f":"IF(#REF!=$E$1,IF(#REF!=$G$1,IF(#REF!=\"\",NA(),#REF!),NA()),NA())","v":{"$error":"#REF!"}},{"$f":"IF(#REF!=$E$1,IF(#REF!=$G$1,IF(#REF!=\"\",NA(),#REF!),NA()),NA())","v":{"$error":"#REF!"}},{"$error":"#REF!"},{"$error":"#REF!"}]
[null,null,null,{"$f":"IF(#REF!=$E$1,IF(#REF!=$G$1,#REF!,NA()),NA())","v":{"$error":"#REF!"}},{"$f":"IF(#REF!=$E$1,IF(#REF!=$G$1,#REF!,NA()),NA())","v":{"$error":"#REF!"}},{"$f":"IF(#REF!=$E$1,IF(#REF!=$G$1,IF(#REF!=\"\",NA(),#REF!),NA()),NA())","v":{"$error":"#REF!"}},{"$f":"IF(#REF!=$E$1,IF(#REF!=$G$1,IF(#REF!=\"\",NA(),#REF!),NA()),NA())","v":{"$error":"#REF!"}},{"$error":"#REF!"},{"$error":"#REF!"}]
[null,null,null,{"$f":"IF(#REF!=$E$1,IF(#REF!=$G$1,#REF!,NA()),NA())","v":{"$error":"#REF!"}},{"$f":"IF(#REF!=$E$1,IF(#REF!=$G$1,#REF!,NA()),NA())","v":{"$error":"#REF!"}},{"$f":"IF(#REF!=$E$1,IF(#REF!=$G$1,IF(#REF!=\"\",NA(),#REF!),NA()),NA())","v":{"$error":"#REF!"}},{"$f":"IF(#REF!=$E$1,IF(#REF!=$G$1,IF(#REF!=\"\",NA(),#REF!),NA()),NA())","v":{"$error":"#REF!"}},{"$error":"#REF!"},{"$error":"#REF!"}]
[null,null,null,{"$f":"IF(#REF!=$E$1,IF(#REF!=$G$1,#REF!,NA()),NA())","v":{"$error":"#REF!"}},{"$f":"IF(#REF!=$E$1,IF(#REF!=$G$1,#REF!,NA()),NA())","v":{"$error":"#REF!"}},{"$f":"IF(#REF!=$E$1,IF(#REF!=$G$1,IF(#REF!=\"\",NA(),#REF!),NA()),NA())","v":{"$error":"#REF!"}},{"$f":"IF(#REF!=$E$1,IF(#REF!=$G$1,IF(#REF!=\"\",NA(),#REF!),NA()),NA())","v":{"$error":"#REF!"}},{"$error":"#REF!"},{"$error":"#REF!"}]
[null,null,null,{"$f":"IF(#REF!=$E$1,IF(#REF!=$G$1,#REF!,NA()),NA())","v":{"$error":"#REF!"}},{"$f":"IF(#REF!=$E$1,IF(#REF!=$G$1,#REF!,NA()),NA())","v":{"$error":"#REF!"}},{"$f":"IF(#REF!=$E$1,IF(#REF!=$G$1,IF(#REF!=\"\",NA(),#REF!),NA()),NA())","v":{"$error":"#REF!"}},{"$f":"IF(#REF!=$E$1,IF(#REF!=$G$1,IF(#REF!=\"\",NA(),#REF!),NA()),NA())","v":{"$error":"#REF!"}},{"$error":"#REF!"},{"$error":"#REF!"}]
[null,null,null,{"$f":"IF(#REF!=$E$1,IF(#REF!=$G$1,#REF!,NA()),NA())","v":{"$error":"#REF!"}},{"$f":"IF(#REF!=$E$1,IF(#REF!=$G$1,#REF!,NA()),NA())","v":{"$error":"#REF!"}},{"$f":"IF(#REF!=$E$1,IF(#REF!=$G$1,IF(#REF!=\"\",NA(),#REF!),NA()),NA())","v":{"$error":"#REF!"}},{"$f":"IF(#REF!=$E$1,IF(#REF!=$G$1,IF(#REF!=\"\",NA(),#REF!),NA()),NA())","v":{"$error":"#REF!"}},{"$error":"#REF!"},{"$error":"#REF!"}]
[null,null,null,{"$f":"IF(#REF!=$E$1,IF(#REF!=$G$1,#REF!,NA()),NA())","v":{"$error":"#REF!"}},{"$f":"IF(#REF!=$E$1,IF(#REF!=$G$1,#REF!,NA()),NA())","v":{"$error":"#REF!"}},{"$f":"IF(#REF!=$E$1,IF(#REF!=$G$1,IF(#REF!=\"\",NA(),#REF!),NA()),NA())","v":{"$error":"#REF!"}},{"$f":"IF(#REF!=$E$1,IF(#REF!=$G$1,IF(#REF!=\"\",NA(),#REF!),NA()),NA())","v":{"$error":"#REF!"}},{"$error":"#REF!"},{"$error":"#REF!"}]
[null,null,null,{"$f":"IF(#REF!=$E$1,IF(#REF!=$G$1,#REF!,NA()),NA())","v":{"$error":"#REF!"}},{"$f":"IF(#REF!=$E$1,IF(#REF!=$G$1,#REF!,NA()),NA())","v":{"$error":"#REF!"}},{"$f":"IF(#REF!=$E$1,IF(#REF!=$G$1,IF(#REF!=\"\",NA(),#REF!),NA()),NA())","v":{"$error":"#REF!"}},{"$f":"IF(#REF!=$E$1,IF(#REF!=$G$1,IF(#REF!=\"\",NA(),#REF!),NA()),NA())","v":{"$error":"#REF!"}},{"$error":"#REF!"},{"$error":"#REF!"}]
[null,null,null,{"$f":"IF(#REF!=$E$1,IF(#REF!=$G$1,#REF!,NA()),NA())","v":{"$error":"#REF!"}},{"$f":"IF(#REF!=$E$1,IF(#REF!=$G$1,#REF!,NA()),NA())","v":{"$error":"#REF!"}},{"$f":"IF(#REF!=$E$1,IF(#REF!=$G$1,IF(#REF!=\"\",NA(),#REF!),NA()),NA())","v":{"$error":"#REF!"}},{"$f":"IF(#REF!=$E$1,IF(#REF!=$G$1,IF(#REF!=\"\",NA(),#REF!),NA()),NA())","v":{"$error":"#REF!"}},{"$error":"#REF!"},{"$error":"#REF!"}]
[null,null,null,{"$f":"IF(#REF!=$E$1,IF(#REF!=$G$1,#REF!,NA()),NA())","v":{"$error":"#REF!"}},{"$f":"IF(#REF!=$E$1,IF(#REF!=$G$1,#REF!,NA()),NA())","v":{"$error":"#REF!"}},{"$f":"IF(#REF!=$E$1,IF(#REF!=$G$1,IF(#REF!=\"\",NA(),#REF!),NA()),NA())","v":{"$error":"#REF!"}},{"$f":"IF(#REF!=$E$1,IF(#REF!=$G$1,IF(#REF!=\"\",NA(),#REF!),NA()),NA())","v":{"$error":"#REF!"}},{"$error":"#REF!"},{"$error":"#REF!"}]
[null,null,null,{"$f":"IF(#REF!=$E$1,IF(#REF!=$G$1,#REF!,NA()),NA())","v":{"$error":"#REF!"}},{"$f":"IF(#REF!=$E$1,IF(#REF!=$G$1,#REF!,NA()),NA())","v":{"$error":"#REF!"}},{"$f":"IF(#REF!=$E$1,IF(#REF!=$G$1,IF(#REF!=\"\",NA(),#REF!),NA()),NA())","v":{"$error":"#REF!"}},{"$f":"IF(#REF!=$E$1,IF(#REF!=$G$1,IF(#REF!=\"\",NA(),#REF!),NA()),NA())","v":{"$error":"#REF!"}},{"$error":"#REF!"},{"$error":"#REF!"}]
[null,null,null,{"$f":"IF(#REF!=$E$1,IF(#REF!=$G$1,#REF!,NA()),NA())","v":{"$error":"#REF!"}},{"$f":"IF(#REF!=$E$1,IF(#REF!=$G$1,#REF!,NA()),NA())","v":{"$error":"#REF!"}},{"$f":"IF(#REF!=$E$1,IF(#REF!=$G$1,IF(#REF!=\"\",NA(),#REF!),NA()),NA())","v":{"$error":"#REF!"}},{"$f":"IF(#REF!=$E$1,IF(#REF!=$G$1,IF(#REF!=\"\",NA(),#REF!),NA()),NA())","v":{"$error":"#REF!"}},{"$error":"#REF!"},{"$error":"#REF!"}]
[null,null,null,{"$f":"IF(#REF!=$E$1,IF(#REF!=$G$1,#REF!,NA()),NA())","v":{"$error":"#REF!"}},{"$f":"IF(#REF!=$E$1,IF(#REF!=$G$1,#REF!,NA()),NA())","v":{"$error":"#REF!"}},{"$f":"IF(#REF!=$E$1,IF(#REF!=$G$1,IF(#REF!=\"\",NA(),#REF!),NA()),NA())","v":{"$error":"#REF!"}},{"$f":"IF(#REF!=$E$1,IF(#REF!=$G$1,IF(#REF!=\"\",NA(),#REF!),NA()),NA())","v":{"$error":"#REF!"}},{"$f":"IF(AND(ISNUMBER(G772),F772=\"-\"),0,F772)","v":{"$error":"#REF!"}},{"$f":"IF(AND(ISNUMBER(F772),G772=\"-\"),0,G772)","v":{"$error":"#REF!"}}]
[null,null,null,{"$f":"IF(#REF!=$E$1,IF(#REF!=$G$1,#REF!,NA()),NA())","v":{"$error":"#REF!"}},{"$f":"IF(#REF!=$E$1,IF(#REF!=$G$1,#REF!,NA()),NA())","v":{"$error":"#REF!"}},{"$f":"IF(#REF!=$E$1,IF(#REF!=$G$1,IF(#REF!=\"\",NA(),#REF!),NA()),NA())","v":{"$error":"#REF!"}},{"$f":"IF(#REF!=$E$1,IF(#REF!=$G$1,IF(#REF!=\"\",NA(),#REF!),NA()),NA())","v":{"$error":"#REF!"}},{"$error":"#REF!"},{"$error":"#REF!"}]
[null,null,null,{"$f":"IF(#REF!=$E$1,IF(#REF!=$G$1,#REF!,NA()),NA())","v":{"$error":"#REF!"}},{"$f":"IF(#REF!=$E$1,IF(#REF!=$G$1,#REF!,NA()),NA())","v":{"$error":"#REF!"}},{"$f":"IF(#REF!=$E$1,IF(#REF!=$G$1,IF(#REF!=\"\",NA(),#REF!),NA()),NA())","v":{"$error":"#REF!"}},{"$f":"IF(#REF!=$E$1,IF(#REF!=$G$1,IF(#REF!=\"\",NA(),#REF!),NA()),NA())","v":{"$error":"#REF!"}},{"$error":"#REF!"},{"$error":"#REF!"}]
[null,null,null,{"$f":"IF(#REF!=$E$1,IF(#REF!=$G$1,#REF!,NA()),NA())","v":{"$error":"#REF!"}},{"$f":"IF(#REF!=$E$1,IF(#REF!=$G$1,#REF!,NA()),NA())","v":{"$error":"#REF!"}},{"$f":"IF(#REF!=$E$1,IF(#REF!=$G$1,IF(#REF!=\"\",NA(),#REF!),NA()),NA())","v":{"$error":"#REF!"}},{"$f":"IF(#REF!=$E$1,IF(#REF!=$G$1,IF(#REF!=\"\",NA(),#REF!),NA()),NA())","v":{"$error":"#REF!"}},{"$error":"#REF!"},{"$error":"#REF!"}]
[null,null,null,{"$f":"IF(#REF!=$E$1,IF(#REF!=$G$1,#REF!,NA()),NA())","v":{"$error":"#REF!"}},{"$f":"IF(#REF!=$E$1,IF(#REF!=$G$1,#REF!,NA()),NA())","v":{"$error":"#REF!"}},{"$f":"IF(#REF!=$E$1,IF(#REF!=$G$1,IF(#REF!=\"\",NA(),#REF!),NA()),NA())","v":{"$error":"#REF!"}},{"$f":"IF(#REF!=$E$1,IF(#REF!=$G$1,IF(#REF!=\"\",NA(),#REF!),NA()),NA())","v":{"$error":"#REF!"}},{"$error":"#REF!"},{"$error":"#REF!"}]
[null,null,null,{"$f":"IF(#REF!=$E$1,IF(#REF!=$G$1,#REF!,NA()),NA())","v":{"$error":"#REF!"}},{"$f":"IF(#REF!=$E$1,IF(#REF!=$G$1,#REF!,NA()),NA())","v":{"$error":"#REF!"}},{"$f":"IF(#REF!=$E$1,IF(#REF!=$G$1,IF(#REF!=\"\",NA(),#REF!),NA()),NA())","v":{"$error":"#REF!"}},{"$f":"IF(#REF!=$E$1,IF(#REF!=$G$1,IF(#REF!=\"\",NA(),#REF!),NA()),NA())","v":{"$error":"#REF!"}},{"$error":"#REF!"},{"$error":"#REF!"}]
[null,null,null,{"$f":"IF(#REF!=$E$1,IF(#REF!=$G$1,#REF!,NA()),NA())","v":{"$error":"#REF!"}},{"$f":"IF(#REF!=$E$1,IF(#REF!=$G$1,#REF!,NA()),NA())","v":{"$error":"#REF!"}},{"$f":"IF(#REF!=$E$1,IF(#REF!=$G$1,IF(#REF!=\"\",NA(),#REF!),NA()),NA())","v":{"$error":"#REF!"}},{"$f":"IF(#REF!=$E$1,IF(#REF!=$G$1,IF(#REF!=\"\",NA(),#REF!),NA()),NA())","v":{"$error":"#REF!"}},{"$error":"#REF!"},{"$error":"#REF!"}]
[null,null,null,{"$f":"IF(#REF!=$E$1,IF(#REF!=$G$1,#REF!,NA()),NA())","v":{"$error":"#REF!"}},{"$f":"IF(#REF!=$E$1,IF(#REF!=$G$1,#REF!,NA()),NA())","v":{"$error":"#REF!"}},{"$f":"IF(#REF!=$E$1,IF(#REF!=$G$1,IF(#REF!=\"\",NA(),#REF!),NA()),NA())","v":{"$error":"#REF!"}},{"$f":"IF(#REF!=$E$1,IF(#REF!=$G$1,IF(#REF!=\"\",NA(),#REF!),NA()),NA())","v":{"$error":"#REF!"}},{"$error":"#REF!"},{"$error":"#REF!"}]
[null,null,null,{"$f":"IF(#REF!=$E$1,IF(#REF!=$G$1,#REF!,NA()),NA())","v":{"$error":"#REF!"}},{"$f":"IF(#REF!=$E$1,IF(#REF!=$G$1,#REF!,NA()),NA())","v":{"$error":"#REF!"}},{"$f":"IF(#REF!=$E$1,IF(#REF!=$G$1,IF(#REF!=\"\",NA(),#REF!),NA()),NA())","v":{"$error":"#REF!"}},{"$f":"IF(#REF!=$E$1,IF(#REF!=$G$1,IF(#REF!=\"\",NA(),#REF!),NA()),NA())","v":{"$error":"#REF!"}},{"$error":"#REF!"},{"$error":"#REF!"}]
[null,null,null,{"$f":"IF(#REF!=$E$1,IF(#REF!=$G$1,#REF!,NA()),NA())","v":{"$error":"#REF!"}},{"$f":"IF(#REF!=$E$1,IF(#REF!=$G$1,#REF!,NA()),NA())","v":{"$error":"#REF!"}},{"$f":"IF(#REF!=$E$1,IF(#REF!=$G$1,IF(#REF!=\"\",NA(),#REF!),NA()),NA())","v":{"$error":"#REF!"}},{"$f":"IF(#REF!=$E$1,IF(#REF!=$G$1,IF(#REF!=\"\",NA(),#REF!),NA()),NA())","v":{"$error":"#REF!"}},{"$error":"#REF!"},{"$error":"#REF!"}]
[null,null,null,{"$f":"IF(#REF!=$E$1,IF(#REF!=$G$1,#REF!,NA()),NA())","v":{"$error":"#REF!"}},{"$f":"IF(#REF!=$E$1,IF(#REF!=$G$1,#REF!,NA()),NA())","v":{"$error":"#REF!"}},{"$f":"IF(#REF!=$E$1,IF(#REF!=$G$1,IF(#REF!=\"\",NA(),#REF!),NA()),NA())","v":{"$error":"#REF!"}},{"$f":"IF(#REF!=$E$1,IF(#REF!=$G$1,IF(#REF!=\"\",NA(),#REF!),NA()),NA())","v":{"$error":"#REF!"}},{"$error":"#REF!"},{"$error":"#REF!"}]
[null,null,null,{"$f":"IF(#REF!=$E$1,IF(#REF!=$G$1,#REF!,NA()),NA())","v":{"$error":"#REF!"}},{"$f":"IF(#REF!=$E$1,IF(#REF!=$G$1,#REF!,NA()),NA())","v":{"$error":"#REF!"}},{"$f":"IF(#REF!=$E$1,IF(#REF!=$G$1,IF(#REF!=\"\",NA(),#REF!),NA()),NA())","v":{"$error":"#REF!"}},{"$f":"IF(#REF!=$E$1,IF(#REF!=$G$1,IF(#REF!=\"\",NA(),#REF!),NA()),NA())","v":{"$error":"#REF!"}},{"$error":"#REF!"},{"$error":"#REF!"}]
[null,null,null,{"$f":"IF(#REF!=$E$1,IF(#REF!=$G$1,#REF!,NA()),NA())","v":{"$error":"#REF!"}},{"$f":"IF(#REF!=$E$1,IF(#REF!=$G$1,#REF!,NA()),NA())","v":{"$error":"#REF!"}},{"$f":"IF(#REF!=$E$1,IF(#REF!=$G$1,IF(#REF!=\"\",NA(),#REF!),NA()),NA())","v":{"$error":"#REF!"}},{"$f":"IF(#REF!=$E$1,IF(#REF!=$G$1,IF(#REF!=\"\",NA(),#REF!),NA()),NA())","v":{"$error":"#REF!"}},{"$error":"#REF!"},{"$error":"#REF!"}]
[null,null,null,{"$f":"IF(#REF!=$E$1,IF(#REF!=$G$1,#REF!,NA()),NA())","v":{"$error":"#REF!"}},{"$f":"IF(#REF!=$E$1,IF(#REF!=$G$1,#REF!,NA()),NA())","v":{"$error":"#REF!"}},{"$f":"IF(#REF!=$E$1,IF(#REF!=$G$1,IF(#REF!=\"\",NA(),#REF!),NA()),NA())","v":{"$error":"#REF!"}},{"$f":"IF(#REF!=$E$1,IF(#REF!=$G$1,IF(#REF!=\"\",NA(),#REF!),NA()),NA())","v":{"$error":"#REF!"}},{"$error":"#REF!"},{"$error":"#REF!"}]
[null,null,null,{"$f":"IF(#REF!=$E$1,IF(#REF!=$G$1,#REF!,NA()),NA())","v":{"$error":"#REF!"}},{"$f":"IF(#REF!=$E$1,IF(#REF!=$G$1,#REF!,NA()),NA())","v":{"$error":"#REF!"}},{"$f":"IF(#REF!=$E$1,IF(#REF!=$G$1,IF(#REF!=\"\",NA(),#REF!),NA()),NA())","v":{"$error":"#REF!"}},{"$f":"IF(#REF!=$E$1,IF(#REF!=$G$1,IF(#REF!=\"\",NA(),#REF!),NA()),NA())","v":{"$error":"#REF!"}},{"$error":"#REF!"},{"$error":"#REF!"}]
[null,null,null,{"$f":"IF(#REF!=$E$1,IF(#REF!=$G$1,#REF!,NA()),NA())","v":{"$error":"#REF!"}},{"$f":"IF(#REF!=$E$1,IF(#REF!=$G$1,#REF!,NA()),NA())","v":{"$error":"#REF!"}},{"$f":"IF(#REF!=$E$1,IF(#REF!=$G$1,IF(#REF!=\"\",NA(),#REF!),NA()),NA())","v":{"$error":"#REF!"}},{"$f":"IF(#REF!=$E$1,IF(#REF!=$G$1,IF(#REF!=\"\",NA(),#REF!),NA()),NA())","v":{"$error":"#REF!"}},{"$error":"#REF!"},{"$error":"#REF!"}]
[null,null,null,{"$f":"IF(#REF!=$E$1,IF(#REF!=$G$1,#REF!,NA()),NA())","v":{"$error":"#REF!"}},{"$f":"IF(#REF!=$E$1,IF(#REF!=$G$1,#REF!,NA()),NA())","v":{"$error":"#REF!"}},{"$f":"IF(#REF!=$E$1,IF(#REF!=$G$1,IF(#REF!=\"\",NA(),#REF!),NA()),NA())","v":{"$error":"#REF!"}},{"$f":"IF(#REF!=$E$1,IF(#REF!=$G$1,IF(#REF!=\"\",NA(),#REF!),NA()),NA())","v":{"$error":"#REF!"}},{"$error":"#REF!"},{"$error":"#REF!"}]
[null,null,null,{"$f":"IF(#REF!=$E$1,IF(#REF!=$G$1,#REF!,NA()),NA())","v":{"$error":"#REF!"}},{"$f":"IF(#REF!=$E$1,IF(#REF!=$G$1,#REF!,NA()),NA())","v":{"$error":"#REF!"}},{"$f":"IF(#REF!=$E$1,IF(#REF!=$G$1,IF(#REF!=\"\",NA(),#REF!),NA()),NA())","v":{"$error":"#REF!"}},{"$f":"IF(#REF!=$E$1,IF(#REF!=$G$1,IF(#REF!=\"\",NA(),#REF!),NA()),NA())","v":{"$error":"#REF!"}},{"$error":"#REF!"},{"$error":"#REF!"}]
[null,null,null,{"$f":"IF(#REF!=$E$1,IF(#REF!=$G$1,#REF!,NA()),NA())","v":{"$error":"#REF!"}},{"$f":"IF(#REF!=$E$1,IF(#REF!=$G$1,#REF!,NA()),NA())","v":{"$error":"#REF!"}},{"$f":"IF(#REF!=$E$1,IF(#REF!=$G$1,IF(#REF!=\"\",NA(),#REF!),NA()),NA())","v":{"$error":"#REF!"}},{"$f":"IF(#REF!=$E$1,IF(#REF!=$G$1,IF(#REF!=\"\",NA(),#REF!),NA()),NA())","v":{"$error":"#REF!"}},{"$error":"#REF!"},{"$error":"#REF!"}]
[null,null,null,{"$f":"IF(#REF!=$E$1,IF(#REF!=$G$1,#REF!,NA()),NA())","v":{"$error":"#REF!"}},{"$f":"IF(#REF!=$E$1,IF(#REF!=$G$1,#REF!,NA()),NA())","v":{"$error":"#REF!"}},{"$f":"IF(#REF!=$E$1,IF(#REF!=$G$1,IF(#REF!=\"\",NA(),#REF!),NA()),NA())","v":{"$error":"#REF!"}},{"$f":"IF(#REF!=$E$1,IF(#REF!=$G$1,IF(#REF!=\"\",NA(),#REF!),NA()),NA())","v":{"$error":"#REF!"}},{"$error":"#REF!"},{"$error":"#REF!"}]
[null,null,null,{"$f":"IF(#REF!=$E$1,IF(#REF!=$G$1,#REF!,NA()),NA())","v":{"$error":"#REF!"}},{"$f":"IF(#REF!=$E$1,IF(#REF!=$G$1,#REF!,NA()),NA())","v":{"$error":"#REF!"}},{"$f":"IF(#REF!=$E$1,IF(#REF!=$G$1,IF(#REF!=\"\",NA(),#REF!),NA()),NA())","v":{"$error":"#REF!"}},{"$f":"IF(#REF!=$E$1,IF(#REF!=$G$1,IF(#REF!=\"\",NA(),#REF!),NA()),NA())","v":{"$error":"#REF!"}},{"$error":"#REF!"},{"$error":"#REF!"}]
[null,null,null,{"$f":"IF(#REF!=$E$1,IF(#REF!=$G$1,#REF!,NA()),NA())","v":{"$error":"#REF!"}},{"$f":"IF(#REF!=$E$1,IF(#REF!=$G$1,#REF!,NA()),NA())","v":{"$error":"#REF!"}},{"$f":"IF(#REF!=$E$1,IF(#REF!=$G$1,IF(#REF!=\"\",NA(),#REF!),NA()),NA())","v":{"$error":"#REF!"}},{"$f":"IF(#REF!=$E$1,IF(#REF!=$G$1,IF(#REF!=\"\",NA(),#REF!),NA()),NA())","v":{"$error":"#REF!"}},{"$error":"#REF!"},{"$error":"#REF!"}]
[null,null,null,{"$f":"IF(#REF!=$E$1,IF(#REF!=$G$1,#REF!,NA()),NA())","v":{"$error":"#REF!"}},{"$f":"IF(#REF!=$E$1,IF(#REF!=$G$1,#REF!,NA()),NA())","v":{"$error":"#REF!"}},{"$f":"IF(#REF!=$E$1,IF(#REF!=$G$1,IF(#REF!=\"\",NA(),#REF!),NA()),NA())","v":{"$error":"#REF!"}},{"$f":"IF(#REF!=$E$1,IF(#REF!=$G$1,IF(#REF!=\"\",NA(),#REF!),NA()),NA())","v":{"$error":"#REF!"}},{"$error":"#REF!"},{"$error":"#REF!"}]
[null,null,null,{"$f":"IF(#REF!=$E$1,IF(#REF!=$G$1,#REF!,NA()),NA())","v":{"$error":"#REF!"}},{"$f":"IF(#REF!=$E$1,IF(#REF!=$G$1,#REF!,NA()),NA())","v":{"$error":"#REF!"}},{"$f":"IF(#REF!=$E$1,IF(#REF!=$G$1,IF(#REF!=\"\",NA(),#REF!),NA()),NA())","v":{"$error":"#REF!"}},{"$f":"IF(#REF!=$E$1,IF(#REF!=$G$1,IF(#REF!=\"\",NA(),#REF!),NA()),NA())","v":{"$error":"#REF!"}},{"$error":"#REF!"},{"$error":"#REF!"}]
[null,null,null,{"$f":"IF(#REF!=$E$1,IF(#REF!=$G$1,#REF!,NA()),NA())","v":{"$error":"#REF!"}},{"$f":"IF(#REF!=$E$1,IF(#REF!=$G$1,#REF!,NA()),NA())","v":{"$error":"#REF!"}},{"$f":"IF(#REF!=$E$1,IF(#REF!=$G$1,IF(#REF!=\"\",NA(),#REF!),NA()),NA())","v":{"$error":"#REF!"}},{"$f":"IF(#REF!=$E$1,IF(#REF!=$G$1,IF(#REF!=\"\",NA(),#REF!),NA()),NA())","v":{"$error":"#REF!"}},{"$error":"#REF!"},{"$error":"#REF!"}]
[null,null,null,{"$f":"IF(#REF!=$E$1,IF(#REF!=$G$1,#REF!,NA()),NA())","v":{"$error":"#REF!"}},{"$f":"IF(#REF!=$E$1,IF(#REF!=$G$1,#REF!,NA()),NA())","v":{"$error":"#REF!"}},{"$f":"IF(#REF!=$E$1,IF(#REF!=$G$1,IF(#REF!=\"\",NA(),#REF!),NA()),NA())","v":{"$error":"#REF!"}},{"$f":"IF(#REF!=$E$1,IF(#REF!=$G$1,IF(#REF!=\"\",NA(),#REF!),NA()),NA())","v":{"$error":"#REF!"}},{"$error":"#REF!"},{"$error":"#REF!"}]
[null,null,null,{"$f":"IF(#REF!=$E$1,IF(#REF!=$G$1,#REF!,NA()),NA())","v":{"$error":"#REF!"}},{"$f":"IF(#REF!=$E$1,IF(#REF!=$G$1,#REF!,NA()),NA())","v":{"$error":"#REF!"}},{"$f":"IF(#REF!=$E$1,IF(#REF!=$G$1,IF(#REF!=\"\",NA(),#REF!),NA()),NA())","v":{"$error":"#REF!"}},{"$f":"IF(#REF!=$E$1,IF(#REF!=$G$1,IF(#REF!=\"\",NA(),#REF!),NA()),NA())","v":{"$error":"#REF!"}},{"$error":"#REF!"},{"$error":"#REF!"}]
[null,null,null,{"$f":"IF(#REF!=$E$1,IF(#REF!=$G$1,#REF!,NA()),NA())","v":{"$error":"#REF!"}},{"$f":"IF(#REF!=$E$1,IF(#REF!=$G$1,#REF!,NA()),NA())","v":{"$error":"#REF!"}},{"$f":"IF(#REF!=$E$1,IF(#REF!=$G$1,IF(#REF!=\"\",NA(),#REF!),NA()),NA())","v":{"$error":"#REF!"}},{"$f":"IF(#REF!=$E$1,IF(#REF!=$G$1,IF(#REF!=\"\",NA(),#REF!),NA()),NA())","v":{"$error":"#REF!"}},{"$error":"#REF!"},{"$error":"#REF!"}]
[null,null,null,{"$f":"IF(#REF!=$E$1,IF(#REF!=$G$1,#REF!,NA()),NA())","v":{"$error":"#REF!"}},{"$f":"IF(#REF!=$E$1,IF(#REF!=$G$1,#REF!,NA()),NA())","v":{"$error":"#REF!"}},{"$f":"IF(#REF!=$E$1,IF(#REF!=$G$1,IF(#REF!=\"\",NA(),#REF!),NA()),NA())","v":{"$error":"#REF!"}},{"$f":"IF(#REF!=$E$1,IF(#REF!=$G$1,IF(#REF!=\"\",NA(),#REF!),NA()),NA())","v":{"$error":"#REF!"}},{"$error":"#REF!"},{"$error":"#REF!"}]
[null,null,null,{"$f":"IF(#REF!=$E$1,IF(#REF!=$G$1,#REF!,NA()),NA())","v":{"$error":"#REF!"}},{"$f":"IF(#REF!=$E$1,IF(#REF!=$G$1,#REF!,NA()),NA())","v":{"$error":"#REF!"}},{"$f":"IF(#REF!=$E$1,IF(#REF!=$G$1,IF(#REF!=\"\",NA(),#REF!),NA()),NA())","v":{"$error":"#REF!"}},{"$f":"IF(#REF!=$E$1,IF(#REF!=$G$1,IF(#REF!=\"\",NA(),#REF!),NA()),NA())","v":{"$error":"#REF!"}},{"$error":"#REF!"},{"$error":"#REF!"}]
[null,null,null,{"$f":"IF(#REF!=$E$1,IF(#REF!=$G$1,#REF!,NA()),NA())","v":{"$error":"#REF!"}},{"$f":"IF(#REF!=$E$1,IF(#REF!=$G$1,#REF!,NA()),NA())","v":{"$error":"#REF!"}},{"$f":"IF(#REF!=$E$1,IF(#REF!=$G$1,IF(#REF!=\"\",NA(),#REF!),NA()),NA())","v":{"$error":"#REF!"}},{"$f":"IF(#REF!=$E$1,IF(#REF!=$G$1,IF(#REF!=\"\",NA(),#REF!),NA()),NA())","v":{"$error":"#REF!"}},{"$error":"#REF!"},{"$error":"#REF!"}]
[null,null,null,{"$f":"IF(#REF!=$E$1,IF(#REF!=$G$1,#REF!,NA()),NA())","v":{"$error":"#REF!"}},{"$f":"IF(#REF!=$E$1,IF(#REF!=$G$1,#REF!,NA()),NA())","v":{"$error":"#REF!"}},{"$f":"IF(#REF!=$E$1,IF(#REF!=$G$1,IF(#REF!=\"\",NA(),#REF!),NA()),NA())","v":{"$error":"#REF!"}},{"$f":"IF(#REF!=$E$1,IF(#REF!=$G$1,IF(#REF!=\"\",NA(),#REF!),NA()),NA())","v":{"$error":"#REF!"}},{"$error":"#REF!"},{"$error":"#REF!"}]
[null,null,null,{"$f":"IF(#REF!=$E$1,IF(#REF!=$G$1,#REF!,NA()),NA())","v":{"$error":"#REF!"}},{"$f":"IF(#REF!=$E$1,IF(#REF!=$G$1,#REF!,NA()),NA())","v":{"$error":"#REF!"}},{"$f":"IF(#REF!=$E$1,IF(#REF!=$G$1,IF(#REF!=\"\",NA(),#REF!),NA()),NA())","v":{"$error":"#REF!"}},{"$f":"IF(#REF!=$E$1,IF(#REF!=$G$1,IF(#REF!=\"\",NA(),#REF!),NA()),NA())","v":{"$error":"#REF!"}},{"$error":"#REF!"},{"$error":"#REF!"}]
[null,null,null,{"$f":"IF(#REF!=$E$1,IF(#REF!=$G$1,#REF!,NA()),NA())","v":{"$error":"#REF!"}},{"$f":"IF(#REF!=$E$1,IF(#REF!=$G$1,#REF!,NA()),NA())","v":{"$error":"#REF!"}},{"$f":"IF(#REF!=$E$1,IF(#REF!=$G$1,IF(#REF!=\"\",NA(),#REF!),NA()),NA())","v":{"$error":"#REF!"}},{"$f":"IF(#REF!=$E$1,IF(#REF!=$G$1,IF(#REF!=\"\",NA(),#REF!),NA()),NA())","v":{"$error":"#REF!"}},{"$error":"#REF!"},{"$error":"#REF!"}]
[null,null,null,{"$f":"IF(#REF!=$E$1,IF(#REF!=$G$1,#REF!,NA()),NA())","v":{"$error":"#REF!"}},{"$f":"IF(#REF!=$E$1,IF(#REF!=$G$1,#REF!,NA()),NA())","v":{"$error":"#REF!"}},{"$f":"IF(#REF!=$E$1,IF(#REF!=$G$1,IF(#REF!=\"\",NA(),#REF!),NA()),NA())","v":{"$error":"#REF!"}},{"$f":"IF(#REF!=$E$1,IF(#REF!=$G$1,IF(#REF!=\"\",NA(),#REF!),NA()),NA())","v":{"$error":"#REF!"}},{"$error":"#REF!"},{"$error":"#REF!"}]
[null,null,null,{"$f":"IF(#REF!=$E$1,IF(#REF!=$G$1,#REF!,NA()),NA())","v":{"$error":"#REF!"}},{"$f":"IF(#REF!=$E$1,IF(#REF!=$G$1,#REF!,NA()),NA())","v":{"$error":"#REF!"}},{"$f":"IF(#REF!=$E$1,IF(#REF!=$G$1,IF(#REF!=\"\",NA(),#REF!),NA()),NA())","v":{"$error":"#REF!"}},{"$f":"IF(#REF!=$E$1,IF(#REF!=$G$1,IF(#REF!=\"\",NA(),#REF!),NA()),NA())","v":{"$error":"#REF!"}},{"$error":"#REF!"},{"$error":"#REF!"}]
[null,null,null,{"$f":"IF(#REF!=$E$1,IF(#REF!=$G$1,#REF!,NA()),NA())","v":{"$error":"#REF!"}},{"$f":"IF(#REF!=$E$1,IF(#REF!=$G$1,#REF!,NA()),NA())","v":{"$error":"#REF!"}},{"$f":"IF(#REF!=$E$1,IF(#REF!=$G$1,IF(#REF!=\"\",NA(),#REF!),NA()),NA())","v":{"$error":"#REF!"}},{"$f":"IF(#REF!=$E$1,IF(#REF!=$G$1,IF(#REF!=\"\",NA(),#REF!),NA()),NA())","v":{"$error":"#REF!"}},{"$error":"#REF!"},{"$error":"#REF!"}]
[null,null,null,{"$f":"IF(#REF!=$E$1,IF(#REF!=$G$1,#REF!,NA()),NA())","v":{"$error":"#REF!"}},{"$f":"IF(#REF!=$E$1,IF(#REF!=$G$1,#REF!,NA()),NA())","v":{"$error":"#REF!"}},{"$f":"IF(#REF!=$E$1,IF(#REF!=$G$1,IF(#REF!=\"\",NA(),#REF!),NA()),NA())","v":{"$error":"#REF!"}},{"$f":"IF(#REF!=$E$1,IF(#REF!=$G$1,IF(#REF!=\"\",NA(),#REF!),NA()),NA())","v":{"$error":"#REF!"}},{"$error":"#REF!"},{"$error":"#REF!"}]
[null,null,null,{"$f":"IF(#REF!=$E$1,IF(#REF!=$G$1,#REF!,NA()),NA())","v":{"$error":"#REF!"}},{"$f":"IF(#REF!=$E$1,IF(#REF!=$G$1,#REF!,NA()),NA())","v":{"$error":"#REF!"}},{"$f":"IF(#REF!=$E$1,IF(#REF!=$G$1,IF(#REF!=\"\",NA(),#REF!),NA()),NA())","v":{"$error":"#REF!"}},{"$f":"IF(#REF!=$E$1,IF(#REF!=$G$1,IF(#REF!=\"\",NA(),#REF!),NA()),NA())","v":{"$error":"#REF!"}},{"$error":"#REF!"},{"$error":"#REF!"}]
[null,null,null,{"$f":"IF(#REF!=$E$1,IF(#REF!=$G$1,#REF!,NA()),NA())","v":{"$error":"#REF!"}},{"$f":"IF(#REF!=$E$1,IF(#REF!=$G$1,#REF!,NA()),NA())","v":{"$error":"#REF!"}},{"$f":"IF(#REF!=$E$1,IF(#REF!=$G$1,IF(#REF!=\"\",NA(),#REF!),NA()),NA())","v":{"$error":"#REF!"}},{"$f":"IF(#REF!=$E$1,IF(#REF!=$G$1,IF(#REF!=\"\",NA(),#REF!),NA()),NA())","v":{"$error":"#REF!"}},{"$error":"#REF!"},{"$error":"#REF!"}]
[null,null,null,{"$f":"IF(#REF!=$E$1,IF(#REF!=$G$1,#REF!,NA()),NA())","v":{"$error":"#REF!"}},{"$f":"IF(#REF!=$E$1,IF(#REF!=$G$1,#REF!,NA()),NA())","v":{"$error":"#REF!"}},{"$f":"IF(#REF!=$E$1,IF(#REF!=$G$1,IF(#REF!=\"\",NA(),#REF!),NA()),NA())","v":{"$error":"#REF!"}},{"$f":"IF(#REF!=$E$1,IF(#REF!=$G$1,IF(#REF!=\"\",NA(),#REF!),NA()),NA())","v":{"$error":"#REF!"}},{"$error":"#REF!"},{"$error":"#REF!"}]
[null,null,null,{"$f":"IF(#REF!=$E$1,IF(#REF!=$G$1,#REF!,NA()),NA())","v":{"$error":"#REF!"}},{"$f":"IF(#REF!=$E$1,IF(#REF!=$G$1,#REF!,NA()),NA())","v":{"$error":"#REF!"}},{"$f":"IF(#REF!=$E$1,IF(#REF!=$G$1,IF(#REF!=\"\",NA(),#REF!),NA()),NA())","v":{"$error":"#REF!"}},{"$f":"IF(#REF!=$E$1,IF(#REF!=$G$1,IF(#REF!=\"\",NA(),#REF!),NA()),NA())","v":{"$error":"#REF!"}},{"$error":"#REF!"},{"$error":"#REF!"}]
[null,null,null,{"$f":"IF(#REF!=$E$1,IF(#REF!=$G$1,#REF!,NA()),NA())","v":{"$error":"#REF!"}},{"$f":"IF(#REF!=$E$1,IF(#REF!=$G$1,#REF!,NA()),NA())","v":{"$error":"#REF!"}},{"$f":"IF(#REF!=$E$1,IF(#REF!=$G$1,IF(#REF!=\"\",NA(),#REF!),NA()),NA())","v":{"$error":"#REF!"}},{"$f":"IF(#REF!=$E$1,IF(#REF!=$G$1,IF(#REF!=\"\",NA(),#REF!),NA()),NA())","v":{"$error":"#REF!"}},{"$error":"#REF!"},{"$error":"#REF!"}]
[null,null,null,{"$f":"IF(#REF!=$E$1,IF(#REF!=$G$1,#REF!,NA()),NA())","v":{"$error":"#REF!"}},{"$f":"IF(#REF!=$E$1,IF(#REF!=$G$1,#REF!,NA()),NA())","v":{"$error":"#REF!"}},{"$f":"IF(#REF!=$E$1,IF(#REF!=$G$1,IF(#REF!=\"\",NA(),#REF!),NA()),NA())","v":{"$error":"#REF!"}},{"$f":"IF(#REF!=$E$1,IF(#REF!=$G$1,IF(#REF!=\"\",NA(),#REF!),NA()),NA())","v":{"$error":"#REF!"}},{"$error":"#REF!"},{"$error":"#REF!"}]
[null,null,null,{"$f":"IF(#REF!=$E$1,IF(#REF!=$G$1,#REF!,NA()),NA())","v":{"$error":"#REF!"}},{"$f":"IF(#REF!=$E$1,IF(#REF!=$G$1,#REF!,NA()),NA())","v":{"$error":"#REF!"}},{"$f":"IF(#REF!=$E$1,IF(#REF!=$G$1,IF(#REF!=\"\",NA(),#REF!),NA()),NA())","v":{"$error":"#REF!"}},{"$f":"IF(#REF!=$E$1,IF(#REF!=$G$1,IF(#REF!=\"\",NA(),#REF!),NA()),NA())","v":{"$error":"#REF!"}},{"$error":"#REF!"},{"$error":"#REF!"}]
[null,null,null,{"$f":"IF(#REF!=$E$1,IF(#REF!=$G$1,#REF!,NA()),NA())","v":{"$error":"#REF!"}},{"$f":"IF(#REF!=$E$1,IF(#REF!=$G$1,#REF!,NA()),NA())","v":{"$error":"#REF!"}},{"$f":"IF(#REF!=$E$1,IF(#REF!=$G$1,IF(#REF!=\"\",NA(),#REF!),NA()),NA())","v":{"$error":"#REF!"}},{"$f":"IF(#REF!=$E$1,IF(#REF!=$G$1,IF(#REF!=\"\",NA(),#REF!),NA()),NA())","v":{"$error":"#REF!"}},{"$error":"#REF!"},{"$error":"#REF!"}]
[null,null,null,{"$f":"IF(#REF!=$E$1,IF(#REF!=$G$1,#REF!,NA()),NA())","v":{"$error":"#REF!"}},{"$f":"IF(#REF!=$E$1,IF(#REF!=$G$1,#REF!,NA()),NA())","v":{"$error":"#REF!"}},{"$f":"IF(#REF!=$E$1,IF(#REF!=$G$1,IF(#REF!=\"\",NA(),#REF!),NA()),NA())","v":{"$error":"#REF!"}},{"$f":"IF(#REF!=$E$1,IF(#REF!=$G$1,IF(#REF!=\"\",NA(),#REF!),NA()),NA())","v":{"$error":"#REF!"}},{"$error":"#REF!"},{"$error":"#REF!"}]
[null,null,null,{"$f":"IF(#REF!=$E$1,IF(#REF!=$G$1,#REF!,NA()),NA())","v":{"$error":"#REF!"}},{"$f":"IF(#REF!=$E$1,IF(#REF!=$G$1,#REF!,NA()),NA())","v":{"$error":"#REF!"}},{"$f":"IF(#REF!=$E$1,IF(#REF!=$G$1,IF(#REF!=\"\",NA(),#REF!),NA()),NA())","v":{"$error":"#REF!"}},{"$f":"IF(#REF!=$E$1,IF(#REF!=$G$1,IF(#REF!=\"\",NA(),#REF!),NA()),NA())","v":{"$error":"#REF!"}},{"$error":"#REF!"},{"$error":"#REF!"}]
[null,null,null,{"$f":"IF(#REF!=$E$1,IF(#REF!=$G$1,#REF!,NA()),NA())","v":{"$error":"#REF!"}},{"$f":"IF(#REF!=$E$1,IF(#REF!=$G$1,#REF!,NA()),NA())","v":{"$error":"#REF!"}},{"$f":"IF(#REF!=$E$1,IF(#REF!=$G$1,IF(#REF!=\"\",NA(),#REF!),NA()),NA())","v":{"$error":"#REF!"}},{"$f":"IF(#REF!=$E$1,IF(#REF!=$G$1,IF(#REF!=\"\",NA(),#REF!),NA()),NA())","v":{"$error":"#REF!"}},{"$error":"#REF!"},{"$error":"#REF!"}]
[null,null,null,{"$f":"IF(#REF!=$E$1,IF(#REF!=$G$1,#REF!,NA()),NA())","v":{"$error":"#REF!"}},{"$f":"IF(#REF!=$E$1,IF(#REF!=$G$1,#REF!,NA()),NA())","v":{"$error":"#REF!"}},{"$f":"IF(#REF!=$E$1,IF(#REF!=$G$1,IF(#REF!=\"\",NA(),#REF!),NA()),NA())","v":{"$error":"#REF!"}},{"$f":"IF(#REF!=$E$1,IF(#REF!=$G$1,IF(#REF!=\"\",NA(),#REF!),NA()),NA())","v":{"$error":"#REF!"}},{"$error":"#REF!"},{"$error":"#REF!"}]
[null,null,null,{"$f":"IF(#REF!=$E$1,IF(#REF!=$G$1,#REF!,NA()),NA())","v":{"$error":"#REF!"}},{"$f":"IF(#REF!=$E$1,IF(#REF!=$G$1,#REF!,NA()),NA())","v":{"$error":"#REF!"}},{"$f":"IF(#REF!=$E$1,IF(#REF!=$G$1,IF(#REF!=\"\",NA(),#REF!),NA()),NA())","v":{"$error":"#REF!"}},{"$f":"IF(#REF!=$E$1,IF(#REF!=$G$1,IF(#REF!=\"\",NA(),#REF!),NA()),NA())","v":{"$error":"#REF!"}},{"$error":"#REF!"},{"$error":"#REF!"}]
[null,null,null,{"$f":"IF(#REF!=$E$1,IF(#REF!=$G$1,#REF!,NA()),NA())","v":{"$error":"#REF!"}},{"$f":"IF(#REF!=$E$1,IF(#REF!=$G$1,#REF!,NA()),NA())","v":{"$error":"#REF!"}},{"$f":"IF(#REF!=$E$1,IF(#REF!=$G$1,IF(#REF!=\"\",NA(),#REF!),NA()),NA())","v":{"$error":"#REF!"}},{"$f":"IF(#REF!=$E$1,IF(#REF!=$G$1,IF(#REF!=\"\",NA(),#REF!),NA()),NA())","v":{"$error":"#REF!"}},{"$error":"#REF!"},{"$error":"#REF!"}]
[null,null,null,{"$f":"IF(#REF!=$E$1,IF(#REF!=$G$1,#REF!,NA()),NA())","v":{"$error":"#REF!"}},{"$f":"IF(#REF!=$E$1,IF(#REF!=$G$1,#REF!,NA()),NA())","v":{"$error":"#REF!"}},{"$f":"IF(#REF!=$E$1,IF(#REF!=$G$1,IF(#REF!=\"\",NA(),#REF!),NA()),NA())","v":{"$error":"#REF!"}},{"$f":"IF(#REF!=$E$1,IF(#REF!=$G$1,IF(#REF!=\"\",NA(),#REF!),NA()),NA())","v":{"$error":"#REF!"}},{"$error":"#REF!"},{"$error":"#REF!"}]
[null,null,null,{"$f":"IF(#REF!=$E$1,IF(#REF!=$G$1,#REF!,NA()),NA())","v":{"$error":"#REF!"}},{"$f":"IF(#REF!=$E$1,IF(#REF!=$G$1,#REF!,NA()),NA())","v":{"$error":"#REF!"}},{"$f":"IF(#REF!=$E$1,IF(#REF!=$G$1,IF(#REF!=\"\",NA(),#REF!),NA()),NA())","v":{"$error":"#REF!"}},{"$f":"IF(#REF!=$E$1,IF(#REF!=$G$1,IF(#REF!=\"\",NA(),#REF!),NA()),NA())","v":{"$error":"#REF!"}},{"$error":"#REF!"},{"$error":"#REF!"}]
[null,null,null,{"$f":"IF(#REF!=$E$1,IF(#REF!=$G$1,#REF!,NA()),NA())","v":{"$error":"#REF!"}},{"$f":"IF(#REF!=$E$1,IF(#REF!=$G$1,#REF!,NA()),NA())","v":{"$error":"#REF!"}},{"$f":"IF(#REF!=$E$1,IF(#REF!=$G$1,IF(#REF!=\"\",NA(),#REF!),NA()),NA())","v":{"$error":"#REF!"}},{"$f":"IF(#REF!=$E$1,IF(#REF!=$G$1,IF(#REF!=\"\",NA(),#REF!),NA()),NA())","v":{"$error":"#REF!"}},{"$error":"#REF!"},{"$error":"#REF!"}]
[null,null,null,{"$f":"IF(#REF!=$E$1,IF(#REF!=$G$1,#REF!,NA()),NA())","v":{"$error":"#REF!"}},{"$f":"IF(#REF!=$E$1,IF(#REF!=$G$1,#REF!,NA()),NA())","v":{"$error":"#REF!"}},{"$f":"IF(#REF!=$E$1,IF(#REF!=$G$1,IF(#REF!=\"\",NA(),#REF!),NA()),NA())","v":{"$error":"#REF!"}},{"$f":"IF(#REF!=$E$1,IF(#REF!=$G$1,IF(#REF!=\"\",NA(),#REF!),NA()),NA())","v":{"$error":"#REF!"}},{"$error":"#REF!"},{"$error":"#REF!"}]
[null,null,null,{"$f":"IF(#REF!=$E$1,IF(#REF!=$G$1,#REF!,NA()),NA())","v":{"$error":"#REF!"}},{"$f":"IF(#REF!=$E$1,IF(#REF!=$G$1,#REF!,NA()),NA())","v":{"$error":"#REF!"}},{"$f":"IF(#REF!=$E$1,IF(#REF!=$G$1,IF(#REF!=\"\",NA(),#REF!),NA()),NA())","v":{"$error":"#REF!"}},{"$f":"IF(#REF!=$E$1,IF(#REF!=$G$1,IF(#REF!=\"\",NA(),#REF!),NA()),NA())","v":{"$error":"#REF!"}},{"$error":"#REF!"},{"$error":"#REF!"}]
[null,null,null,{"$f":"IF(#REF!=$E$1,IF(#REF!=$G$1,#REF!,NA()),NA())","v":{"$error":"#REF!"}},{"$f":"IF(#REF!=$E$1,IF(#REF!=$G$1,#REF!,NA()),NA())","v":{"$error":"#REF!"}},{"$f":"IF(#REF!=$E$1,IF(#REF!=$G$1,IF(#REF!=\"\",NA(),#REF!),NA()),NA())","v":{"$error":"#REF!"}},{"$f":"IF(#REF!=$E$1,IF(#REF!=$G$1,IF(#REF!=\"\",NA(),#REF!),NA()),NA())","v":{"$error":"#REF!"}},{"$error":"#REF!"},{"$error":"#REF!"}]
[null,null,null,{"$f":"IF(#REF!=$E$1,IF(#REF!=$G$1,#REF!,NA()),NA())","v":{"$error":"#REF!"}},{"$f":"IF(#REF!=$E$1,IF(#REF!=$G$1,#REF!,NA()),NA())","v":{"$error":"#REF!"}},{"$f":"IF(#REF!=$E$1,IF(#REF!=$G$1,IF(#REF!=\"\",NA(),#REF!),NA()),NA())","v":{"$error":"#REF!"}},{"$f":"IF(#REF!=$E$1,IF(#REF!=$G$1,IF(#REF!=\"\",NA(),#REF!),NA()),NA())","v":{"$error":"#REF!"}},{"$error":"#REF!"},{"$error":"#REF!"}]
[null,null,null,{"$f":"IF(#REF!=$E$1,IF(#REF!=$G$1,#REF!,NA()),NA())","v":{"$error":"#REF!"}},{"$f":"IF(#REF!=$E$1,IF(#REF!=$G$1,#REF!,NA()),NA())","v":{"$error":"#REF!"}},{"$f":"IF(#REF!=$E$1,IF(#REF!=$G$1,IF(#REF!=\"\",NA(),#REF!),NA()),NA())","v":{"$error":"#REF!"}},{"$f":"IF(#REF!=$E$1,IF(#REF!=$G$1,IF(#REF!=\"\",NA(),#REF!),NA()),NA())","v":{"$error":"#REF!"}},{"$error":"#REF!"},{"$error":"#REF!"}]
[null,null,null,{"$f":"IF(#REF!=$E$1,IF(#REF!=$G$1,#REF!,NA()),NA())","v":{"$error":"#REF!"}},{"$f":"IF(#REF!=$E$1,IF(#REF!=$G$1,#REF!,NA()),NA())","v":{"$error":"#REF!"}},{"$f":"IF(#REF!=$E$1,IF(#REF!=$G$1,IF(#REF!=\"\",NA(),#REF!),NA()),NA())","v":{"$error":"#REF!"}},{"$f":"IF(#REF!=$E$1,IF(#REF!=$G$1,IF(#REF!=\"\",NA(),#REF!),NA()),NA())","v":{"$error":"#REF!"}},{"$error":"#REF!"},{"$error":"#REF!"}]
[null,null,null,{"$f":"IF(#REF!=$E$1,IF(#REF!=$G$1,#REF!,NA()),NA())","v":{"$error":"#REF!"}},{"$f":"IF(#REF!=$E$1,IF(#REF!=$G$1,#REF!,NA()),NA())","v":{"$error":"#REF!"}},{"$f":"IF(#REF!=$E$1,IF(#REF!=$G$1,IF(#REF!=\"\",NA(),#REF!),NA()),NA())","v":{"$error":"#REF!"}},{"$f":"IF(#REF!=$E$1,IF(#REF!=$G$1,IF(#REF!=\"\",NA(),#REF!),NA()),NA())","v":{"$error":"#REF!"}},{"$error":"#REF!"},{"$error":"#REF!"}]
[null,null,null,{"$f":"IF(#REF!=$E$1,IF(#REF!=$G$1,#REF!,NA()),NA())","v":{"$error":"#REF!"}},{"$f":"IF(#REF!=$E$1,IF(#REF!=$G$1,#REF!,NA()),NA())","v":{"$error":"#REF!"}},{"$f":"IF(#REF!=$E$1,IF(#REF!=$G$1,IF(#REF!=\"\",NA(),#REF!),NA()),NA())","v":{"$error":"#REF!"}},{"$f":"IF(#REF!=$E$1,IF(#REF!=$G$1,IF(#REF!=\"\",NA(),#REF!),NA()),NA())","v":{"$error":"#REF!"}},{"$error":"#REF!"},{"$error":"#REF!"}]
[null,null,null,{"$f":"IF(#REF!=$E$1,IF(#REF!=$G$1,#REF!,NA()),NA())","v":{"$error":"#REF!"}},{"$f":"IF(#REF!=$E$1,IF(#REF!=$G$1,#REF!,NA()),NA())","v":{"$error":"#REF!"}},{"$f":"IF(#REF!=$E$1,IF(#REF!=$G$1,IF(#REF!=\"\",NA(),#REF!),NA()),NA())","v":{"$error":"#REF!"}},{"$f":"IF(#REF!=$E$1,IF(#REF!=$G$1,IF(#REF!=\"\",NA(),#REF!),NA()),NA())","v":{"$error":"#REF!"}},{"$error":"#REF!"},{"$error":"#REF!"}]
[null,null,null,{"$f":"IF(#REF!=$E$1,IF(#REF!=$G$1,#REF!,NA()),NA())","v":{"$error":"#REF!"}},{"$f":"IF(#REF!=$E$1,IF(#REF!=$G$1,#REF!,NA()),NA())","v":{"$error":"#REF!"}},{"$f":"IF(#REF!=$E$1,IF(#REF!=$G$1,IF(#REF!=\"\",NA(),#REF!),NA()),NA())","v":{"$error":"#REF!"}},{"$f":"IF(#REF!=$E$1,IF(#REF!=$G$1,IF(#REF!=\"\",NA(),#REF!),NA()),NA())","v":{"$error":"#REF!"}},{"$f":"IF(AND(ISNUMBER(G836),F836=\"-\"),0,F836)","v":{"$error":"#REF!"}},{"$f":"IF(AND(ISNUMBER(F836),G836=\"-\"),0,G836)","v":{"$error":"#REF!"}}]
[null,null,null,{"$f":"IF(#REF!=$E$1,IF(#REF!=$G$1,#REF!,NA()),NA())","v":{"$error":"#REF!"}},{"$f":"IF(#REF!=$E$1,IF(#REF!=$G$1,#REF!,NA()),NA())","v":{"$error":"#REF!"}},{"$f":"IF(#REF!=$E$1,IF(#REF!=$G$1,IF(#REF!=\"\",NA(),#REF!),NA()),NA())","v":{"$error":"#REF!"}},{"$f":"IF(#REF!=$E$1,IF(#REF!=$G$1,IF(#REF!=\"\",NA(),#REF!),NA()),NA())","v":{"$error":"#REF!"}},{"$error":"#REF!"},{"$error":"#REF!"}]
[null,null,null,{"$f":"IF(#REF!=$E$1,IF(#REF!=$G$1,#REF!,NA()),NA())","v":{"$error":"#REF!"}},{"$f":"IF(#REF!=$E$1,IF(#REF!=$G$1,#REF!,NA()),NA())","v":{"$error":"#REF!"}},{"$f":"IF(#REF!=$E$1,IF(#REF!=$G$1,IF(#REF!=\"\",NA(),#REF!),NA()),NA())","v":{"$error":"#REF!"}},{"$f":"IF(#REF!=$E$1,IF(#REF!=$G$1,IF(#REF!=\"\",NA(),#REF!),NA()),NA())","v":{"$error":"#REF!"}},{"$error":"#REF!"},{"$error":"#REF!"}]
[null,null,null,{"$f":"IF(#REF!=$E$1,IF(#REF!=$G$1,#REF!,NA()),NA())","v":{"$error":"#REF!"}},{"$f":"IF(#REF!=$E$1,IF(#REF!=$G$1,#REF!,NA()),NA())","v":{"$error":"#REF!"}},{"$f":"IF(#REF!=$E$1,IF(#REF!=$G$1,IF(#REF!=\"\",NA(),#REF!),NA()),NA())","v":{"$error":"#REF!"}},{"$f":"IF(#REF!=$E$1,IF(#REF!=$G$1,IF(#REF!=\"\",NA(),#REF!),NA()),NA())","v":{"$error":"#REF!"}},{"$error":"#REF!"},{"$error":"#REF!"}]
[null,null,null,{"$f":"IF(#REF!=$E$1,IF(#REF!=$G$1,#REF!,NA()),NA())","v":{"$error":"#REF!"}},{"$f":"IF(#REF!=$E$1,IF(#REF!=$G$1,#REF!,NA()),NA())","v":{"$error":"#REF!"}},{"$f":"IF(#REF!=$E$1,IF(#REF!=$G$1,IF(#REF!=\"\",NA(),#REF!),NA()),NA())","v":{"$error":"#REF!"}},{"$f":"IF(#REF!=$E$1,IF(#REF!=$G$1,IF(#REF!=\"\",NA(),#REF!),NA()),NA())","v":{"$error":"#REF!"}},{"$error":"#REF!"},{"$error":"#REF!"}]
[null,null,null,{"$f":"IF(#REF!=$E$1,IF(#REF!=$G$1,#REF!,NA()),NA())","v":{"$error":"#REF!"}},{"$f":"IF(#REF!=$E$1,IF(#REF!=$G$1,#REF!,NA()),NA())","v":{"$error":"#REF!"}},{"$f":"IF(#REF!=$E$1,IF(#REF!=$G$1,IF(#REF!=\"\",NA(),#REF!),NA()),NA())","v":{"$error":"#REF!"}},{"$f":"IF(#REF!=$E$1,IF(#REF!=$G$1,IF(#REF!=\"\",NA(),#REF!),NA()),NA())","v":{"$error":"#REF!"}},{"$error":"#REF!"},{"$error":"#REF!"}]
[null,null,null,{"$f":"IF(#REF!=$E$1,IF(#REF!=$G$1,#REF!,NA()),NA())","v":{"$error":"#REF!"}},{"$f":"IF(#REF!=$E$1,IF(#REF!=$G$1,#REF!,NA()),NA())","v":{"$error":"#REF!"}},{"$f":"IF(#REF!=$E$1,IF(#REF!=$G$1,IF(#REF!=\"\",NA(),#REF!),NA()),NA())","v":{"$error":"#REF!"}},{"$f":"IF(#REF!=$E$1,IF(#REF!=$G$1,IF(#REF!=\"\",NA(),#REF!),NA()),NA())","v":{"$error":"#REF!"}},{"$error":"#REF!"},{"$error":"#REF!"}]
[null,null,null,{"$f":"IF(#REF!=$E$1,IF(#REF!=$G$1,#REF!,NA()),NA())","v":{"$error":"#REF!"}},{"$f":"IF(#REF!=$E$1,IF(#REF!=$G$1,#REF!,NA()),NA())","v":{"$error":"#REF!"}},{"$f":"IF(#REF!=$E$1,IF(#REF!=$G$1,IF(#REF!=\"\",NA(),#REF!),NA()),NA())","v":{"$error":"#REF!"}},{"$f":"IF(#REF!=$E$1,IF(#REF!=$G$1,IF(#REF!=\"\",NA(),#REF!),NA()),NA())","v":{"$error":"#REF!"}},{"$error":"#REF!"},{"$error":"#REF!"}]
[null,null,null,{"$f":"IF(#REF!=$E$1,IF(#REF!=$G$1,#REF!,NA()),NA())","v":{"$error":"#REF!"}},{"$f":"IF(#REF!=$E$1,IF(#REF!=$G$1,#REF!,NA()),NA())","v":{"$error":"#REF!"}},{"$f":"IF(#REF!=$E$1,IF(#REF!=$G$1,IF(#REF!=\"\",NA(),#REF!),NA()),NA())","v":{"$error":"#REF!"}},{"$f":"IF(#REF!=$E$1,IF(#REF!=$G$1,IF(#REF!=\"\",NA(),#REF!),NA()),NA())","v":{"$error":"#REF!"}},{"$error":"#REF!"},{"$error":"#REF!"}]
[null,null,null,{"$f":"IF(#REF!=$E$1,IF(#REF!=$G$1,#REF!,NA()),NA())","v":{"$error":"#REF!"}},{"$f":"IF(#REF!=$E$1,IF(#REF!=$G$1,#REF!,NA()),NA())","v":{"$error":"#REF!"}},{"$f":"IF(#REF!=$E$1,IF(#REF!=$G$1,IF(#REF!=\"\",NA(),#REF!),NA()),NA())","v":{"$error":"#REF!"}},{"$f":"IF(#REF!=$E$1,IF(#REF!=$G$1,IF(#REF!=\"\",NA(),#REF!),NA()),NA())","v":{"$error":"#REF!"}},{"$error":"#REF!"},{"$error":"#REF!"}]
[null,null,null,{"$f":"IF(#REF!=$E$1,IF(#REF!=$G$1,#REF!,NA()),NA())","v":{"$error":"#REF!"}},{"$f":"IF(#REF!=$E$1,IF(#REF!=$G$1,#REF!,NA()),NA())","v":{"$error":"#REF!"}},{"$f":"IF(#REF!=$E$1,IF(#REF!=$G$1,IF(#REF!=\"\",NA(),#REF!),NA()),NA())","v":{"$error":"#REF!"}},{"$f":"IF(#REF!=$E$1,IF(#REF!=$G$1,IF(#REF!=\"\",NA(),#REF!),NA()),NA())","v":{"$error":"#REF!"}},{"$error":"#REF!"},{"$error":"#REF!"}]
[null,null,null,{"$f":"IF(#REF!=$E$1,IF(#REF!=$G$1,#REF!,NA()),NA())","v":{"$error":"#REF!"}},{"$f":"IF(#REF!=$E$1,IF(#REF!=$G$1,#REF!,NA()),NA())","v":{"$error":"#REF!"}},{"$f":"IF(#REF!=$E$1,IF(#REF!=$G$1,IF(#REF!=\"\",NA(),#REF!),NA()),NA())","v":{"$error":"#REF!"}},{"$f":"IF(#REF!=$E$1,IF(#REF!=$G$1,IF(#REF!=\"\",NA(),#REF!),NA()),NA())","v":{"$error":"#REF!"}},{"$error":"#REF!"},{"$error":"#REF!"}]
[null,null,null,{"$f":"IF(#REF!=$E$1,IF(#REF!=$G$1,#REF!,NA()),NA())","v":{"$error":"#REF!"}},{"$f":"IF(#REF!=$E$1,IF(#REF!=$G$1,#REF!,NA()),NA())","v":{"$error":"#REF!"}},{"$f":"IF(#REF!=$E$1,IF(#REF!=$G$1,IF(#REF!=\"\",NA(),#REF!),NA()),NA())","v":{"$error":"#REF!"}},{"$f":"IF(#REF!=$E$1,IF(#REF!=$G$1,IF(#REF!=\"\",NA(),#REF!),NA()),NA())","v":{"$error":"#REF!"}},{"$error":"#REF!"},{"$error":"#REF!"}]
[null,null,null,{"$f":"IF(#REF!=$E$1,IF(#REF!=$G$1,#REF!,NA()),NA())","v":{"$error":"#REF!"}},{"$f":"IF(#REF!=$E$1,IF(#REF!=$G$1,#REF!,NA()),NA())","v":{"$error":"#REF!"}},{"$f":"IF(#REF!=$E$1,IF(#REF!=$G$1,IF(#REF!=\"\",NA(),#REF!),NA()),NA())","v":{"$error":"#REF!"}},{"$f":"IF(#REF!=$E$1,IF(#REF!=$G$1,IF(#REF!=\"\",NA(),#REF!),NA()),NA())","v":{"$error":"#REF!"}},{"$error":"#REF!"},{"$error":"#REF!"}]
[null,null,null,{"$f":"IF(#REF!=$E$1,IF(#REF!=$G$1,#REF!,NA()),NA())","v":{"$error":"#REF!"}},{"$f":"IF(#REF!=$E$1,IF(#REF!=$G$1,#REF!,NA()),NA())","v":{"$error":"#REF!"}},{"$f":"IF(#REF!=$E$1,IF(#REF!=$G$1,IF(#REF!=\"\",NA(),#REF!),NA()),NA())","v":{"$error":"#REF!"}},{"$f":"IF(#REF!=$E$1,IF(#REF!=$G$1,IF(#REF!=\"\",NA(),#REF!),NA()),NA())","v":{"$error":"#REF!"}},{"$error":"#REF!"},{"$error":"#REF!"}]
[null,null,null,{"$f":"IF(#REF!=$E$1,IF(#REF!=$G$1,#REF!,NA()),NA())","v":{"$error":"#REF!"}},{"$f":"IF(#REF!=$E$1,IF(#REF!=$G$1,#REF!,NA()),NA())","v":{"$error":"#REF!"}},{"$f":"IF(#REF!=$E$1,IF(#REF!=$G$1,IF(#REF!=\"\",NA(),#REF!),NA()),NA())","v":{"$error":"#REF!"}},{"$f":"IF(#REF!=$E$1,IF(#REF!=$G$1,IF(#REF!=\"\",NA(),#REF!),NA()),NA())","v":{"$error":"#REF!"}},{"$error":"#REF!"},{"$error":"#REF!"}]
[null,null,null,{"$f":"IF(#REF!=$E$1,IF(#REF!=$G$1,#REF!,NA()),NA())","v":{"$error":"#REF!"}},{"$f":"IF(#REF!=$E$1,IF(#REF!=$G$1,#REF!,NA()),NA())","v":{"$error":"#REF!"}},{"$f":"IF(#REF!=$E$1,IF(#REF!=$G$1,IF(#REF!=\"\",NA(),#REF!),NA()),NA())","v":{"$error":"#REF!"}},{"$f":"IF(#REF!=$E$1,IF(#REF!=$G$1,IF(#REF!=\"\",NA(),#REF!),NA()),NA())","v":{"$error":"#REF!"}},{"$error":"#REF!"},{"$error":"#REF!"}]
[null,null,null,{"$f":"IF(#REF!=$E$1,IF(#REF!=$G$1,#REF!,NA()),NA())","v":{"$error":"#REF!"}},{"$f":"IF(#REF!=$E$1,IF(#REF!=$G$1,#REF!,NA()),NA())","v":{"$error":"#REF!"}},{"$f":"IF(#REF!=$E$1,IF(#REF!=$G$1,IF(#REF!=\"\",NA(),#REF!),NA()),NA())","v":{"$error":"#REF!"}},{"$f":"IF(#REF!=$E$1,IF(#REF!=$G$1,IF(#REF!=\"\",NA(),#REF!),NA()),NA())","v":{"$error":"#REF!"}},{"$error":"#REF!"},{"$error":"#REF!"}]
[null,null,null,{"$f":"IF(#REF!=$E$1,IF(#REF!=$G$1,#REF!,NA()),NA())","v":{"$error":"#REF!"}},{"$f":"IF(#REF!=$E$1,IF(#REF!=$G$1,#REF!,NA()),NA())","v":{"$error":"#REF!"}},{"$f":"IF(#REF!=$E$1,IF(#REF!=$G$1,IF(#REF!=\"\",NA(),#REF!),NA()),NA())","v":{"$error":"#REF!"}},{"$f":"IF(#REF!=$E$1,IF(#REF!=$G$1,IF(#REF!=\"\",NA(),#REF!),NA()),NA())","v":{"$error":"#REF!"}},{"$error":"#REF!"},{"$error":"#REF!"}]
[null,null,null,{"$f":"IF(#REF!=$E$1,IF(#REF!=$G$1,#REF!,NA()),NA())","v":{"$error":"#REF!"}},{"$f":"IF(#REF!=$E$1,IF(#REF!=$G$1,#REF!,NA()),NA())","v":{"$error":"#REF!"}},{"$f":"IF(#REF!=$E$1,IF(#REF!=$G$1,IF(#REF!=\"\",NA(),#REF!),NA()),NA())","v":{"$error":"#REF!"}},{"$f":"IF(#REF!=$E$1,IF(#REF!=$G$1,IF(#REF!=\"\",NA(),#REF!),NA()),NA())","v":{"$error":"#REF!"}},{"$error":"#REF!"},{"$error":"#REF!"}]
[null,null,null,{"$f":"IF(#REF!=$E$1,IF(#REF!=$G$1,#REF!,NA()),NA())","v":{"$error":"#REF!"}},{"$f":"IF(#REF!=$E$1,IF(#REF!=$G$1,#REF!,NA()),NA())","v":{"$error":"#REF!"}},{"$f":"IF(#REF!=$E$1,IF(#REF!=$G$1,IF(#REF!=\"\",NA(),#REF!),NA()),NA())","v":{"$error":"#REF!"}},{"$f":"IF(#REF!=$E$1,IF(#REF!=$G$1,IF(#REF!=\"\",NA(),#REF!),NA()),NA())","v":{"$error":"#REF!"}},{"$error":"#REF!"},{"$error":"#REF!"}]
[null,null,null,{"$f":"IF(#REF!=$E$1,IF(#REF!=$G$1,#REF!,NA()),NA())","v":{"$error":"#REF!"}},{"$f":"IF(#REF!=$E$1,IF(#REF!=$G$1,#REF!,NA()),NA())","v":{"$error":"#REF!"}},{"$f":"IF(#REF!=$E$1,IF(#REF!=$G$1,IF(#REF!=\"\",NA(),#REF!),NA()),NA())","v":{"$error":"#REF!"}},{"$f":"IF(#REF!=$E$1,IF(#REF!=$G$1,IF(#REF!=\"\",NA(),#REF!),NA()),NA())","v":{"$error":"#REF!"}},{"$error":"#REF!"},{"$error":"#REF!"}]
[null,null,null,{"$f":"IF(#REF!=$E$1,IF(#REF!=$G$1,#REF!,NA()),NA())","v":{"$error":"#REF!"}},{"$f":"IF(#REF!=$E$1,IF(#REF!=$G$1,#REF!,NA()),NA())","v":{"$error":"#REF!"}},{"$f":"IF(#REF!=$E$1,IF(#REF!=$G$1,IF(#REF!=\"\",NA(),#REF!),NA()),NA())","v":{"$error":"#REF!"}},{"$f":"IF(#REF!=$E$1,IF(#REF!=$G$1,IF(#REF!=\"\",NA(),#REF!),NA()),NA())","v":{"$error":"#REF!"}},{"$error":"#REF!"},{"$error":"#REF!"}]
[null,null,null,{"$f":"IF(#REF!=$E$1,IF(#REF!=$G$1,#REF!,NA()),NA())","v":{"$error":"#REF!"}},{"$f":"IF(#REF!=$E$1,IF(#REF!=$G$1,#REF!,NA()),NA())","v":{"$error":"#REF!"}},{"$f":"IF(#REF!=$E$1,IF(#REF!=$G$1,IF(#REF!=\"\",NA(),#REF!),NA()),NA())","v":{"$error":"#REF!"}},{"$f":"IF(#REF!=$E$1,IF(#REF!=$G$1,IF(#REF!=\"\",NA(),#REF!),NA()),NA())","v":{"$error":"#REF!"}},{"$error":"#REF!"},{"$error":"#REF!"}]
[null,null,null,{"$f":"IF(#REF!=$E$1,IF(#REF!=$G$1,#REF!,NA()),NA())","v":{"$error":"#REF!"}},{"$f":"IF(#REF!=$E$1,IF(#REF!=$G$1,#REF!,NA()),NA())","v":{"$error":"#REF!"}},{"$f":"IF(#REF!=$E$1,IF(#REF!=$G$1,IF(#REF!=\"\",NA(),#REF!),NA()),NA())","v":{"$error":"#REF!"}},{"$f":"IF(#REF!=$E$1,IF(#REF!=$G$1,IF(#REF!=\"\",NA(),#REF!),NA()),NA())","v":{"$error":"#REF!"}},{"$error":"#REF!"},{"$error":"#REF!"}]
[null,null,null,{"$f":"IF(#REF!=$E$1,IF(#REF!=$G$1,#REF!,NA()),NA())","v":{"$error":"#REF!"}},{"$f":"IF(#REF!=$E$1,IF(#REF!=$G$1,#REF!,NA()),NA())","v":{"$error":"#REF!"}},{"$f":"IF(#REF!=$E$1,IF(#REF!=$G$1,IF(#REF!=\"\",NA(),#REF!),NA()),NA())","v":{"$error":"#REF!"}},{"$f":"IF(#REF!=$E$1,IF(#REF!=$G$1,IF(#REF!=\"\",NA(),#REF!),NA()),NA())","v":{"$error":"#REF!"}},{"$error":"#REF!"},{"$error":"#REF!"}]
[null,null,null,{"$f":"IF(#REF!=$E$1,IF(#REF!=$G$1,#REF!,NA()),NA())","v":{"$error":"#REF!"}},{"$f":"IF(#REF!=$E$1,IF(#REF!=$G$1,#REF!,NA()),NA())","v":{"$error":"#REF!"}},{"$f":"IF(#REF!=$E$1,IF(#REF!=$G$1,IF(#REF!=\"\",NA(),#REF!),NA()),NA())","v":{"$error":"#REF!"}},{"$f":"IF(#REF!=$E$1,IF(#REF!=$G$1,IF(#REF!=\"\",NA(),#REF!),NA()),NA())","v":{"$error":"#REF!"}},{"$error":"#REF!"},{"$error":"#REF!"}]
[null,null,null,{"$f":"IF(#REF!=$E$1,IF(#REF!=$G$1,#REF!,NA()),NA())","v":{"$error":"#REF!"}},{"$f":"IF(#REF!=$E$1,IF(#REF!=$G$1,#REF!,NA()),NA())","v":{"$error":"#REF!"}},{"$f":"IF(#REF!=$E$1,IF(#REF!=$G$1,IF(#REF!=\"\",NA(),#REF!),NA()),NA())","v":{"$error":"#REF!"}},{"$f":"IF(#REF!=$E$1,IF(#REF!=$G$1,IF(#REF!=\"\",NA(),#REF!),NA()),NA())","v":{"$error":"#REF!"}},{"$error":"#REF!"},{"$error":"#REF!"}]
[null,null,null,{"$f":"IF(#REF!=$E$1,IF(#REF!=$G$1,#REF!,NA()),NA())","v":{"$error":"#REF!"}},{"$f":"IF(#REF!=$E$1,IF(#REF!=$G$1,#REF!,NA()),NA())","v":{"$error":"#REF!"}},{"$f":"IF(#REF!=$E$1,IF(#REF!=$G$1,IF(#REF!=\"\",NA(),#REF!),NA()),NA())","v":{"$error":"#REF!"}},{"$f":"IF(#REF!=$E$1,IF(#REF!=$G$1,IF(#REF!=\"\",NA(),#REF!),NA()),NA())","v":{"$error":"#REF!"}},{"$error":"#REF!"},{"$error":"#REF!"}]
[null,null,null,{"$f":"IF(#REF!=$E$1,IF(#REF!=$G$1,#REF!,NA()),NA())","v":{"$error":"#REF!"}},{"$f":"IF(#REF!=$E$1,IF(#REF!=$G$1,#REF!,NA()),NA())","v":{"$error":"#REF!"}},{"$f":"IF(#REF!=$E$1,IF(#REF!=$G$1,IF(#REF!=\"\",NA(),#REF!),NA()),NA())","v":{"$error":"#REF!"}},{"$f":"IF(#REF!=$E$1,IF(#REF!=$G$1,IF(#REF!=\"\",NA(),#REF!),NA()),NA())","v":{"$error":"#REF!"}},{"$error":"#REF!"},{"$error":"#REF!"}]
[null,null,null,{"$f":"IF(#REF!=$E$1,IF(#REF!=$G$1,#REF!,NA()),NA())","v":{"$error":"#REF!"}},{"$f":"IF(#REF!=$E$1,IF(#REF!=$G$1,#REF!,NA()),NA())","v":{"$error":"#REF!"}},{"$f":"IF(#REF!=$E$1,IF(#REF!=$G$1,IF(#REF!=\"\",NA(),#REF!),NA()),NA())","v":{"$error":"#REF!"}},{"$f":"IF(#REF!=$E$1,IF(#REF!=$G$1,IF(#REF!=\"\",NA(),#REF!),NA()),NA())","v":{"$error":"#REF!"}},{"$error":"#REF!"},{"$error":"#REF!"}]
[null,null,null,{"$f":"IF(#REF!=$E$1,IF(#REF!=$G$1,#REF!,NA()),NA())","v":{"$error":"#REF!"}},{"$f":"IF(#REF!=$E$1,IF(#REF!=$G$1,#REF!,NA()),NA())","v":{"$error":"#REF!"}},{"$f":"IF(#REF!=$E$1,IF(#REF!=$G$1,IF(#REF!=\"\",NA(),#REF!),NA()),NA())","v":{"$error":"#REF!"}},{"$f":"IF(#REF!=$E$1,IF(#REF!=$G$1,IF(#REF!=\"\",NA(),#REF!),NA()),NA())","v":{"$error":"#REF!"}},{"$error":"#REF!"},{"$error":"#REF!"}]
[null,null,null,{"$f":"IF(#REF!=$E$1,IF(#REF!=$G$1,#REF!,NA()),NA())","v":{"$error":"#REF!"}},{"$f":"IF(#REF!=$E$1,IF(#REF!=$G$1,#REF!,NA()),NA())","v":{"$error":"#REF!"}},{"$f":"IF(#REF!=$E$1,IF(#REF!=$G$1,IF(#REF!=\"\",NA(),#REF!),NA()),NA())","v":{"$error":"#REF!"}},{"$f":"IF(#REF!=$E$1,IF(#REF!=$G$1,IF(#REF!=\"\",NA(),#REF!),NA()),NA())","v":{"$error":"#REF!"}},{"$error":"#REF!"},{"$error":"#REF!"}]
[null,null,null,{"$f":"IF(#REF!=$E$1,IF(#REF!=$G$1,#REF!,NA()),NA())","v":{"$error":"#REF!"}},{"$f":"IF(#REF!=$E$1,IF(#REF!=$G$1,#REF!,NA()),NA())","v":{"$error":"#REF!"}},{"$f":"IF(#REF!=$E$1,IF(#REF!=$G$1,IF(#REF!=\"\",NA(),#REF!),NA()),NA())","v":{"$error":"#REF!"}},{"$f":"IF(#REF!=$E$1,IF(#REF!=$G$1,IF(#REF!=\"\",NA(),#REF!),NA()),NA())","v":{"$error":"#REF!"}},{"$error":"#REF!"},{"$error":"#REF!"}]
[null,null,null,{"$f":"IF(#REF!=$E$1,IF(#REF!=$G$1,#REF!,NA()),NA())","v":{"$error":"#REF!"}},{"$f":"IF(#REF!=$E$1,IF(#REF!=$G$1,#REF!,NA()),NA())","v":{"$error":"#REF!"}},{"$f":"IF(#REF!=$E$1,IF(#REF!=$G$1,IF(#REF!=\"\",NA(),#REF!),NA()),NA())","v":{"$error":"#REF!"}},{"$f":"IF(#REF!=$E$1,IF(#REF!=$G$1,IF(#REF!=\"\",NA(),#REF!),NA()),NA())","v":{"$error":"#REF!"}},{"$error":"#REF!"},{"$error":"#REF!"}]
[null,null,null,{"$f":"IF(#REF!=$E$1,IF(#REF!=$G$1,#REF!,NA()),NA())","v":{"$error":"#REF!"}},{"$f":"IF(#REF!=$E$1,IF(#REF!=$G$1,#REF!,NA()),NA())","v":{"$error":"#REF!"}},{"$f":"IF(#REF!=$E$1,IF(#REF!=$G$1,IF(#REF!=\"\",NA(),#REF!),NA()),NA())","v":{"$error":"#REF!"}},{"$f":"IF(#REF!=$E$1,IF(#REF!=$G$1,IF(#REF!=\"\",NA(),#REF!),NA()),NA())","v":{"$error":"#REF!"}},{"$error":"#REF!"},{"$error":"#REF!"}]
[null,null,null,{"$f":"IF(#REF!=$E$1,IF(#REF!=$G$1,#REF!,NA()),NA())","v":{"$error":"#REF!"}},{"$f":"IF(#REF!=$E$1,IF(#REF!=$G$1,#REF!,NA()),NA())","v":{"$error":"#REF!"}},{"$f":"IF(#REF!=$E$1,IF(#REF!=$G$1,IF(#REF!=\"\",NA(),#REF!),NA()),NA())","v":{"$error":"#REF!"}},{"$f":"IF(#REF!=$E$1,IF(#REF!=$G$1,IF(#REF!=\"\",NA(),#REF!),NA()),NA())","v":{"$error":"#REF!"}},{"$error":"#REF!"},{"$error":"#REF!"}]
[null,null,null,{"$f":"IF(#REF!=$E$1,IF(#REF!=$G$1,#REF!,NA()),NA())","v":{"$error":"#REF!"}},{"$f":"IF(#REF!=$E$1,IF(#REF!=$G$1,#REF!,NA()),NA())","v":{"$error":"#REF!"}},{"$f":"IF(#REF!=$E$1,IF(#REF!=$G$1,IF(#REF!=\"\",NA(),#REF!),NA()),NA())","v":{"$error":"#REF!"}},{"$f":"IF(#REF!=$E$1,IF(#REF!=$G$1,IF(#REF!=\"\",NA(),#REF!),NA()),NA())","v":{"$error":"#REF!"}},{"$error":"#REF!"},{"$error":"#REF!"}]
[null,null,null,{"$f":"IF(#REF!=$E$1,IF(#REF!=$G$1,#REF!,NA()),NA())","v":{"$error":"#REF!"}},{"$f":"IF(#REF!=$E$1,IF(#REF!=$G$1,#REF!,NA()),NA())","v":{"$error":"#REF!"}},{"$f":"IF(#REF!=$E$1,IF(#REF!=$G$1,IF(#REF!=\"\",NA(),#REF!),NA()),NA())","v":{"$error":"#REF!"}},{"$f":"IF(#REF!=$E$1,IF(#REF!=$G$1,IF(#REF!=\"\",NA(),#REF!),NA()),NA())","v":{"$error":"#REF!"}},{"$error":"#REF!"},{"$error":"#REF!"}]
[null,null,null,{"$f":"IF(#REF!=$E$1,IF(#REF!=$G$1,#REF!,NA()),NA())","v":{"$error":"#REF!"}},{"$f":"IF(#REF!=$E$1,IF(#REF!=$G$1,#REF!,NA()),NA())","v":{"$error":"#REF!"}},{"$f":"IF(#REF!=$E$1,IF(#REF!=$G$1,IF(#REF!=\"\",NA(),#REF!),NA()),NA())","v":{"$error":"#REF!"}},{"$f":"IF(#REF!=$E$1,IF(#REF!=$G$1,IF(#REF!=\"\",NA(),#REF!),NA()),NA())","v":{"$error":"#REF!"}},{"$error":"#REF!"},{"$error":"#REF!"}]
[null,null,null,{"$f":"IF(#REF!=$E$1,IF(#REF!=$G$1,#REF!,NA()),NA())","v":{"$error":"#REF!"}},{"$f":"IF(#REF!=$E$1,IF(#REF!=$G$1,#REF!,NA()),NA())","v":{"$error":"#REF!"}},{"$f":"IF(#REF!=$E$1,IF(#REF!=$G$1,IF(#REF!=\"\",NA(),#REF!),NA()),NA())","v":{"$error":"#REF!"}},{"$f":"IF(#REF!=$E$1,IF(#REF!=$G$1,IF(#REF!=\"\",NA(),#REF!),NA()),NA())","v":{"$error":"#REF!"}},{"$error":"#REF!"},{"$error":"#REF!"}]
[null,null,null,{"$f":"IF(#REF!=$E$1,IF(#REF!=$G$1,#REF!,NA()),NA())","v":{"$error":"#REF!"}},{"$f":"IF(#REF!=$E$1,IF(#REF!=$G$1,#REF!,NA()),NA())","v":{"$error":"#REF!"}},{"$f":"IF(#REF!=$E$1,IF(#REF!=$G$1,IF(#REF!=\"\",NA(),#REF!),NA()),NA())","v":{"$error":"#REF!"}},{"$f":"IF(#REF!=$E$1,IF(#REF!=$G$1,IF(#REF!=\"\",NA(),#REF!),NA()),NA())","v":{"$error":"#REF!"}},{"$error":"#REF!"},{"$error":"#REF!"}]
[null,null,null,{"$f":"IF(#REF!=$E$1,IF(#REF!=$G$1,#REF!,NA()),NA())","v":{"$error":"#REF!"}},{"$f":"IF(#REF!=$E$1,IF(#REF!=$G$1,#REF!,NA()),NA())","v":{"$error":"#REF!"}},{"$f":"IF(#REF!=$E$1,IF(#REF!=$G$1,IF(#REF!=\"\",NA(),#REF!),NA()),NA())","v":{"$error":"#REF!"}},{"$f":"IF(#REF!=$E$1,IF(#REF!=$G$1,IF(#REF!=\"\",NA(),#REF!),NA()),NA())","v":{"$error":"#REF!"}},{"$error":"#REF!"},{"$error":"#REF!"}]
[null,null,null,{"$f":"IF(#REF!=$E$1,IF(#REF!=$G$1,#REF!,NA()),NA())","v":{"$error":"#REF!"}},{"$f":"IF(#REF!=$E$1,IF(#REF!=$G$1,#REF!,NA()),NA())","v":{"$error":"#REF!"}},{"$f":"IF(#REF!=$E$1,IF(#REF!=$G$1,IF(#REF!=\"\",NA(),#REF!),NA()),NA())","v":{"$error":"#REF!"}},{"$f":"IF(#REF!=$E$1,IF(#REF!=$G$1,IF(#REF!=\"\",NA(),#REF!),NA()),NA())","v":{"$error":"#REF!"}},{"$error":"#REF!"},{"$error":"#REF!"}]
[null,null,null,{"$f":"IF(#REF!=$E$1,IF(#REF!=$G$1,#REF!,NA()),NA())","v":{"$error":"#REF!"}},{"$f":"IF(#REF!=$E$1,IF(#REF!=$G$1,#REF!,NA()),NA())","v":{"$error":"#REF!"}},{"$f":"IF(#REF!=$E$1,IF(#REF!=$G$1,IF(#REF!=\"\",NA(),#REF!),NA()),NA())","v":{"$error":"#REF!"}},{"$f":"IF(#REF!=$E$1,IF(#REF!=$G$1,IF(#REF!=\"\",NA(),#REF!),NA()),NA())","v":{"$error":"#REF!"}},{"$error":"#REF!"},{"$error":"#REF!"}]
[null,null,null,{"$f":"IF(#REF!=$E$1,IF(#REF!=$G$1,#REF!,NA()),NA())","v":{"$error":"#REF!"}},{"$f":"IF(#REF!=$E$1,IF(#REF!=$G$1,#REF!,NA()),NA())","v":{"$error":"#REF!"}},{"$f":"IF(#REF!=$E$1,IF(#REF!=$G$1,IF(#REF!=\"\",NA(),#REF!),NA()),NA())","v":{"$error":"#REF!"}},{"$f":"IF(#REF!=$E$1,IF(#REF!=$G$1,IF(#REF!=\"\",NA(),#REF!),NA()),NA())","v":{"$error":"#REF!"}},{"$error":"#REF!"},{"$error":"#REF!"}]
[null,null,null,{"$f":"IF(#REF!=$E$1,IF(#REF!=$G$1,#REF!,NA()),NA())","v":{"$error":"#REF!"}},{"$f":"IF(#REF!=$E$1,IF(#REF!=$G$1,#REF!,NA()),NA())","v":{"$error":"#REF!"}},{"$f":"IF(#REF!=$E$1,IF(#REF!=$G$1,IF(#REF!=\"\",NA(),#REF!),NA()),NA())","v":{"$error":"#REF!"}},{"$f":"IF(#REF!=$E$1,IF(#REF!=$G$1,IF(#REF!=\"\",NA(),#REF!),NA()),NA())","v":{"$error":"#REF!"}},{"$error":"#REF!"},{"$error":"#REF!"}]
[null,null,null,{"$f":"IF(#REF!=$E$1,IF(#REF!=$G$1,#REF!,NA()),NA())","v":{"$error":"#REF!"}},{"$f":"IF(#REF!=$E$1,IF(#REF!=$G$1,#REF!,NA()),NA())","v":{"$error":"#REF!"}},{"$f":"IF(#REF!=$E$1,IF(#REF!=$G$1,IF(#REF!=\"\",NA(),#REF!),NA()),NA())","v":{"$error":"#REF!"}},{"$f":"IF(#REF!=$E$1,IF(#REF!=$G$1,IF(#REF!=\"\",NA(),#REF!),NA()),NA())","v":{"$error":"#REF!"}},{"$error":"#REF!"},{"$error":"#REF!"}]
[null,null,null,{"$f":"IF(#REF!=$E$1,IF(#REF!=$G$1,#REF!,NA()),NA())","v":{"$error":"#REF!"}},{"$f":"IF(#REF!=$E$1,IF(#REF!=$G$1,#REF!,NA()),NA())","v":{"$error":"#REF!"}},{"$f":"IF(#REF!=$E$1,IF(#REF!=$G$1,IF(#REF!=\"\",NA(),#REF!),NA()),NA())","v":{"$error":"#REF!"}},{"$f":"IF(#REF!=$E$1,IF(#REF!=$G$1,IF(#REF!=\"\",NA(),#REF!),NA()),NA())","v":{"$error":"#REF!"}},{"$error":"#REF!"},{"$error":"#REF!"}]
[null,null,null,{"$f":"IF(#REF!=$E$1,IF(#REF!=$G$1,#REF!,NA()),NA())","v":{"$error":"#REF!"}},{"$f":"IF(#REF!=$E$1,IF(#REF!=$G$1,#REF!,NA()),NA())","v":{"$error":"#REF!"}},{"$f":"IF(#REF!=$E$1,IF(#REF!=$G$1,IF(#REF!=\"\",NA(),#REF!),NA()),NA())","v":{"$error":"#REF!"}},{"$f":"IF(#REF!=$E$1,IF(#REF!=$G$1,IF(#REF!=\"\",NA(),#REF!),NA()),NA())","v":{"$error":"#REF!"}},{"$error":"#REF!"},{"$error":"#REF!"}]
[null,null,null,{"$f":"IF(#REF!=$E$1,IF(#REF!=$G$1,#REF!,NA()),NA())","v":{"$error":"#REF!"}},{"$f":"IF(#REF!=$E$1,IF(#REF!=$G$1,#REF!,NA()),NA())","v":{"$error":"#REF!"}},{"$f":"IF(#REF!=$E$1,IF(#REF!=$G$1,IF(#REF!=\"\",NA(),#REF!),NA()),NA())","v":{"$error":"#REF!"}},{"$f":"IF(#REF!=$E$1,IF(#REF!=$G$1,IF(#REF!=\"\",NA(),#REF!),NA()),NA())","v":{"$error":"#REF!"}},{"$error":"#REF!"},{"$error":"#REF!"}]
[null,null,null,{"$f":"IF(#REF!=$E$1,IF(#REF!=$G$1,#REF!,NA()),NA())","v":{"$error":"#REF!"}},{"$f":"IF(#REF!=$E$1,IF(#REF!=$G$1,#REF!,NA()),NA())","v":{"$error":"#REF!"}},{"$f":"IF(#REF!=$E$1,IF(#REF!=$G$1,IF(#REF!=\"\",NA(),#REF!),NA()),NA())","v":{"$error":"#REF!"}},{"$f":"IF(#REF!=$E$1,IF(#REF!=$G$1,IF(#REF!=\"\",NA(),#REF!),NA()),NA())","v":{"$error":"#REF!"}},{"$error":"#REF!"},{"$error":"#REF!"}]
[null,null,null,{"$f":"IF(#REF!=$E$1,IF(#REF!=$G$1,#REF!,NA()),NA())","v":{"$error":"#REF!"}},{"$f":"IF(#REF!=$E$1,IF(#REF!=$G$1,#REF!,NA()),NA())","v":{"$error":"#REF!"}},{"$f":"IF(#REF!=$E$1,IF(#REF!=$G$1,IF(#REF!=\"\",NA(),#REF!),NA()),NA())","v":{"$error":"#REF!"}},{"$f":"IF(#REF!=$E$1,IF(#REF!=$G$1,IF(#REF!=\"\",NA(),#REF!),NA()),NA())","v":{"$error":"#REF!"}},{"$error":"#REF!"},{"$error":"#REF!"}]
[null,null,null,{"$f":"IF(#REF!=$E$1,IF(#REF!=$G$1,#REF!,NA()),NA())","v":{"$error":"#REF!"}},{"$f":"IF(#REF!=$E$1,IF(#REF!=$G$1,#REF!,NA()),NA())","v":{"$error":"#REF!"}},{"$f":"IF(#REF!=$E$1,IF(#REF!=$G$1,IF(#REF!=\"\",NA(),#REF!),NA()),NA())","v":{"$error":"#REF!"}},{"$f":"IF(#REF!=$E$1,IF(#REF!=$G$1,IF(#REF!=\"\",NA(),#REF!),NA()),NA())","v":{"$error":"#REF!"}},{"$error":"#REF!"},{"$error":"#REF!"}]
[null,null,null,{"$f":"IF(#REF!=$E$1,IF(#REF!=$G$1,#REF!,NA()),NA())","v":{"$error":"#REF!"}},{"$f":"IF(#REF!=$E$1,IF(#REF!=$G$1,#REF!,NA()),NA())","v":{"$error":"#REF!"}},{"$f":"IF(#REF!=$E$1,IF(#REF!=$G$1,IF(#REF!=\"\",NA(),#REF!),NA()),NA())","v":{"$error":"#REF!"}},{"$f":"IF(#REF!=$E$1,IF(#REF!=$G$1,IF(#REF!=\"\",NA(),#REF!),NA()),NA())","v":{"$error":"#REF!"}},{"$error":"#REF!"},{"$error":"#REF!"}]
[null,null,null,{"$f":"IF(#REF!=$E$1,IF(#REF!=$G$1,#REF!,NA()),NA())","v":{"$error":"#REF!"}},{"$f":"IF(#REF!=$E$1,IF(#REF!=$G$1,#REF!,NA()),NA())","v":{"$error":"#REF!"}},{"$f":"IF(#REF!=$E$1,IF(#REF!=$G$1,IF(#REF!=\"\",NA(),#REF!),NA()),NA())","v":{"$error":"#REF!"}},{"$f":"IF(#REF!=$E$1,IF(#REF!=$G$1,IF(#REF!=\"\",NA(),#REF!),NA()),NA())","v":{"$error":"#REF!"}},{"$error":"#REF!"},{"$error":"#REF!"}]
[null,null,null,{"$f":"IF(#REF!=$E$1,IF(#REF!=$G$1,#REF!,NA()),NA())","v":{"$error":"#REF!"}},{"$f":"IF(#REF!=$E$1,IF(#REF!=$G$1,#REF!,NA()),NA())","v":{"$error":"#REF!"}},{"$f":"IF(#REF!=$E$1,IF(#REF!=$G$1,IF(#REF!=\"\",NA(),#REF!),NA()),NA())","v":{"$error":"#REF!"}},{"$f":"IF(#REF!=$E$1,IF(#REF!=$G$1,IF(#REF!=\"\",NA(),#REF!),NA()),NA())","v":{"$error":"#REF!"}},{"$error":"#REF!"},{"$error":"#REF!"}]
[null,null,null,{"$f":"IF(#REF!=$E$1,IF(#REF!=$G$1,#REF!,NA()),NA())","v":{"$error":"#REF!"}},{"$f":"IF(#REF!=$E$1,IF(#REF!=$G$1,#REF!,NA()),NA())","v":{"$error":"#REF!"}},{"$f":"IF(#REF!=$E$1,IF(#REF!=$G$1,IF(#REF!=\"\",NA(),#REF!),NA()),NA())","v":{"$error":"#REF!"}},{"$f":"IF(#REF!=$E$1,IF(#REF!=$G$1,IF(#REF!=\"\",NA(),#REF!),NA()),NA())","v":{"$error":"#REF!"}},{"$error":"#REF!"},{"$error":"#REF!"}]
[null,null,null,{"$f":"IF(#REF!=$E$1,IF(#REF!=$G$1,#REF!,NA()),NA())","v":{"$error":"#REF!"}},{"$f":"IF(#REF!=$E$1,IF(#REF!=$G$1,#REF!,NA()),NA())","v":{"$error":"#REF!"}},{"$f":"IF(#REF!=$E$1,IF(#REF!=$G$1,IF(#REF!=\"\",NA(),#REF!),NA()),NA())","v":{"$error":"#REF!"}},{"$f":"IF(#REF!=$E$1,IF(#REF!=$G$1,IF(#REF!=\"\",NA(),#REF!),NA()),NA())","v":{"$error":"#REF!"}},{"$error":"#REF!"},{"$error":"#REF!"}]
[null,null,null,{"$f":"IF(#REF!=$E$1,IF(#REF!=$G$1,#REF!,NA()),NA())","v":{"$error":"#REF!"}},{"$f":"IF(#REF!=$E$1,IF(#REF!=$G$1,#REF!,NA()),NA())","v":{"$error":"#REF!"}},{"$f":"IF(#REF!=$E$1,IF(#REF!=$G$1,IF(#REF!=\"\",NA(),#REF!),NA()),NA())","v":{"$error":"#REF!"}},{"$f":"IF(#REF!=$E$1,IF(#REF!=$G$1,IF(#REF!=\"\",NA(),#REF!),NA()),NA())","v":{"$error":"#REF!"}},{"$error":"#REF!"},{"$error":"#REF!"}]
[null,null,null,{"$f":"IF(#REF!=$E$1,IF(#REF!=$G$1,#REF!,NA()),NA())","v":{"$error":"#REF!"}},{"$f":"IF(#REF!=$E$1,IF(#REF!=$G$1,#REF!,NA()),NA())","v":{"$error":"#REF!"}},{"$f":"IF(#REF!=$E$1,IF(#REF!=$G$1,IF(#REF!=\"\",NA(),#REF!),NA()),NA())","v":{"$error":"#REF!"}},{"$f":"IF(#REF!=$E$1,IF(#REF!=$G$1,IF(#REF!=\"\",NA(),#REF!),NA()),NA())","v":{"$error":"#REF!"}},{"$error":"#REF!"},{"$error":"#REF!"}]
[null,null,null,{"$f":"IF(#REF!=$E$1,IF(#REF!=$G$1,#REF!,NA()),NA())","v":{"$error":"#REF!"}},{"$f":"IF(#REF!=$E$1,IF(#REF!=$G$1,#REF!,NA()),NA())","v":{"$error":"#REF!"}},{"$f":"IF(#REF!=$E$1,IF(#REF!=$G$1,IF(#REF!=\"\",NA(),#REF!),NA()),NA())","v":{"$error":"#REF!"}},{"$f":"IF(#REF!=$E$1,IF(#REF!=$G$1,IF(#REF!=\"\",NA(),#REF!),NA()),NA())","v":{"$error":"#REF!"}},{"$error":"#REF!"},{"$error":"#REF!"}]
[null,null,null,{"$f":"IF(#REF!=$E$1,IF(#REF!=$G$1,#REF!,NA()),NA())","v":{"$error":"#REF!"}},{"$f":"IF(#REF!=$E$1,IF(#REF!=$G$1,#REF!,NA()),NA())","v":{"$error":"#REF!"}},{"$f":"IF(#REF!=$E$1,IF(#REF!=$G$1,IF(#REF!=\"\",NA(),#REF!),NA()),NA())","v":{"$error":"#REF!"}},{"$f":"IF(#REF!=$E$1,IF(#REF!=$G$1,IF(#REF!=\"\",NA(),#REF!),NA()),NA())","v":{"$error":"#REF!"}},{"$error":"#REF!"},{"$error":"#REF!"}]
[null,null,null,{"$f":"IF(#REF!=$E$1,IF(#REF!=$G$1,#REF!,NA()),NA())","v":{"$error":"#REF!"}},{"$f":"IF(#REF!=$E$1,IF(#REF!=$G$1,#REF!,NA()),NA())","v":{"$error":"#REF!"}},{"$f":"IF(#REF!=$E$1,IF(#REF!=$G$1,IF(#REF!=\"\",NA(),#REF!),NA()),NA())","v":{"$error":"#REF!"}},{"$f":"IF(#REF!=$E$1,IF(#REF!=$G$1,IF(#REF!=\"\",NA(),#REF!),NA()),NA())","v":{"$error":"#REF!"}},{"$error":"#REF!"},{"$error":"#REF!"}]
[null,null,null,{"$f":"IF(#REF!=$E$1,IF(#REF!=$G$1,#REF!,NA()),NA())","v":{"$error":"#REF!"}},{"$f":"IF(#REF!=$E$1,IF(#REF!=$G$1,#REF!,NA()),NA())","v":{"$error":"#REF!"}},{"$f":"IF(#REF!=$E$1,IF(#REF!=$G$1,IF(#REF!=\"\",NA(),#REF!),NA()),NA())","v":{"$error":"#REF!"}},{"$f":"IF(#REF!=$E$1,IF(#REF!=$G$1,IF(#REF!=\"\",NA(),#REF!),NA()),NA())","v":{"$error":"#REF!"}},{"$f":"IF(AND(ISNUMBER(G900),F900=\"-\"),0,F900)","v":{"$error":"#REF!"}},{"$f":"IF(AND(ISNUMBER(F900),G900=\"-\"),0,G900)","v":{"$error":"#REF!"}}]
[null,null,null,{"$f":"IF(#REF!=$E$1,IF(#REF!=$G$1,#REF!,NA()),NA())","v":{"$error":"#REF!"}},{"$f":"IF(#REF!=$E$1,IF(#REF!=$G$1,#REF!,NA()),NA())","v":{"$error":"#REF!"}},{"$f":"IF(#REF!=$E$1,IF(#REF!=$G$1,IF(#REF!=\"\",NA(),#REF!),NA()),NA())","v":{"$error":"#REF!"}},{"$f":"IF(#REF!=$E$1,IF(#REF!=$G$1,IF(#REF!=\"\",NA(),#REF!),NA()),NA())","v":{"$error":"#REF!"}},{"$error":"#REF!"},{"$error":"#REF!"}]
[null,null,null,{"$f":"IF(#REF!=$E$1,IF(#REF!=$G$1,#REF!,NA()),NA())","v":{"$error":"#REF!"}},{"$f":"IF(#REF!=$E$1,IF(#REF!=$G$1,#REF!,NA()),NA())","v":{"$error":"#REF!"}},{"$f":"IF(#REF!=$E$1,IF(#REF!=$G$1,IF(#REF!=\"\",NA(),#REF!),NA()),NA())","v":{"$error":"#REF!"}},{"$f":"IF(#REF!=$E$1,IF(#REF!=$G$1,IF(#REF!=\"\",NA(),#REF!),NA()),NA())","v":{"$error":"#REF!"}},{"$error":"#REF!"},{"$error":"#REF!"}]
[null,null,null,{"$f":"IF(#REF!=$E$1,IF(#REF!=$G$1,#REF!,NA()),NA())","v":{"$error":"#REF!"}},{"$f":"IF(#REF!=$E$1,IF(#REF!=$G$1,#REF!,NA()),NA())","v":{"$error":"#REF!"}},{"$f":"IF(#REF!=$E$1,IF(#REF!=$G$1,IF(#REF!=\"\",NA(),#REF!),NA()),NA())","v":{"$error":"#REF!"}},{"$f":"IF(#REF!=$E$1,IF(#REF!=$G$1,IF(#REF!=\"\",NA(),#REF!),NA()),NA())","v":{"$error":"#REF!"}},{"$error":"#REF!"},{"$error":"#REF!"}]
[null,null,null,{"$f":"IF(#REF!=$E$1,IF(#REF!=$G$1,#REF!,NA()),NA())","v":{"$error":"#REF!"}},{"$f":"IF(#REF!=$E$1,IF(#REF!=$G$1,#REF!,NA()),NA())","v":{"$error":"#REF!"}},{"$f":"IF(#REF!=$E$1,IF(#REF!=$G$1,IF(#REF!=\"\",NA(),#REF!),NA()),NA())","v":{"$error":"#REF!"}},{"$f":"IF(#REF!=$E$1,IF(#REF!=$G$1,IF(#REF!=\"\",NA(),#REF!),NA()),NA())","v":{"$error":"#REF!"}},{"$error":"#REF!"},{"$error":"#REF!"}]
[null,null,null,{"$f":"IF(#REF!=$E$1,IF(#REF!=$G$1,#REF!,NA()),NA())","v":{"$error":"#REF!"}},{"$f":"IF(#REF!=$E$1,IF(#REF!=$G$1,#REF!,NA()),NA())","v":{"$error":"#REF!"}},{"$f":"IF(#REF!=$E$1,IF(#REF!=$G$1,IF(#REF!=\"\",NA(),#REF!),NA()),NA())","v":{"$error":"#REF!"}},{"$f":"IF(#REF!=$E$1,IF(#REF!=$G$1,IF(#REF!=\"\",NA(),#REF!),NA()),NA())","v":{"$error":"#REF!"}},{"$error":"#REF!"},{"$error":"#REF!"}]
[null,null,null,{"$f":"IF(#REF!=$E$1,IF(#REF!=$G$1,#REF!,NA()),NA())","v":{"$error":"#REF!"}},{"$f":"IF(#REF!=$E$1,IF(#REF!=$G$1,#REF!,NA()),NA())","v":{"$error":"#REF!"}},{"$f":"IF(#REF!=$E$1,IF(#REF!=$G$1,IF(#REF!=\"\",NA(),#REF!),NA()),NA())","v":{"$error":"#REF!"}},{"$f":"IF(#REF!=$E$1,IF(#REF!=$G$1,IF(#REF!=\"\",NA(),#REF!),NA()),NA())","v":{"$error":"#REF!"}},{"$error":"#REF!"},{"$error":"#REF!"}]
[null,null,null,{"$f":"IF(#REF!=$E$1,IF(#REF!=$G$1,#REF!,NA()),NA())","v":{"$error":"#REF!"}},{"$f":"IF(#REF!=$E$1,IF(#REF!=$G$1,#REF!,NA()),NA())","v":{"$error":"#REF!"}},{"$f":"IF(#REF!=$E$1,IF(#REF!=$G$1,IF(#REF!=\"\",NA(),#REF!),NA()),NA())","v":{"$error":"#REF!"}},{"$f":"IF(#REF!=$E$1,IF(#REF!=$G$1,IF(#REF!=\"\",NA(),#REF!),NA()),NA())","v":{"$error":"#REF!"}},{"$error":"#REF!"},{"$error":"#REF!"}]
[null,null,null,{"$f":"IF(#REF!=$E$1,IF(#REF!=$G$1,#REF!,NA()),NA())","v":{"$error":"#REF!"}},{"$f":"IF(#REF!=$E$1,IF(#REF!=$G$1,#REF!,NA()),NA())","v":{"$error":"#REF!"}},{"$f":"IF(#REF!=$E$1,IF(#REF!=$G$1,IF(#REF!=\"\",NA(),#REF!),NA()),NA())","v":{"$error":"#REF!"}},{"$f":"IF(#REF!=$E$1,IF(#REF!=$G$1,IF(#REF!=\"\",NA(),#REF!),NA()),NA())","v":{"$error":"#REF!"}},{"$error":"#REF!"},{"$error":"#REF!"}]
[null,null,null,{"$f":"IF(#REF!=$E$1,IF(#REF!=$G$1,#REF!,NA()),NA())","v":{"$error":"#REF!"}},{"$f":"IF(#REF!=$E$1,IF(#REF!=$G$1,#REF!,NA()),NA())","v":{"$error":"#REF!"}},{"$f":"IF(#REF!=$E$1,IF(#REF!=$G$1,IF(#REF!=\"\",NA(),#REF!),NA()),NA())","v":{"$error":"#REF!"}},{"$f":"IF(#REF!=$E$1,IF(#REF!=$G$1,IF(#REF!=\"\",NA(),#REF!),NA()),NA())","v":{"$error":"#REF!"}},{"$error":"#REF!"},{"$error":"#REF!"}]
[null,null,null,{"$f":"IF(#REF!=$E$1,IF(#REF!=$G$1,#REF!,NA()),NA())","v":{"$error":"#REF!"}},{"$f":"IF(#REF!=$E$1,IF(#REF!=$G$1,#REF!,NA()),NA())","v":{"$error":"#REF!"}},{"$f":"IF(#REF!=$E$1,IF(#REF!=$G$1,IF(#REF!=\"\",NA(),#REF!),NA()),NA())","v":{"$error":"#REF!"}},{"$f":"IF(#REF!=$E$1,IF(#REF!=$G$1,IF(#REF!=\"\",NA(),#REF!),NA()),NA())","v":{"$error":"#REF!"}},{"$error":"#REF!"},{"$error":"#REF!"}]
[null,null,null,{"$f":"IF(#REF!=$E$1,IF(#REF!=$G$1,#REF!,NA()),NA())","v":{"$error":"#REF!"}},{"$f":"IF(#REF!=$E$1,IF(#REF!=$G$1,#REF!,NA()),NA())","v":{"$error":"#REF!"}},{"$f":"IF(#REF!=$E$1,IF(#REF!=$G$1,IF(#REF!=\"\",NA(),#REF!),NA()),NA())","v":{"$error":"#REF!"}},{"$f":"IF(#REF!=$E$1,IF(#REF!=$G$1,IF(#REF!=\"\",NA(),#REF!),NA()),NA())","v":{"$error":"#REF!"}},{"$error":"#REF!"},{"$error":"#REF!"}]
[null,null,null,{"$f":"IF(#REF!=$E$1,IF(#REF!=$G$1,#REF!,NA()),NA())","v":{"$error":"#REF!"}},{"$f":"IF(#REF!=$E$1,IF(#REF!=$G$1,#REF!,NA()),NA())","v":{"$error":"#REF!"}},{"$f":"IF(#REF!=$E$1,IF(#REF!=$G$1,IF(#REF!=\"\",NA(),#REF!),NA()),NA())","v":{"$error":"#REF!"}},{"$f":"IF(#REF!=$E$1,IF(#REF!=$G$1,IF(#REF!=\"\",NA(),#REF!),NA()),NA())","v":{"$error":"#REF!"}},{"$error":"#REF!"},{"$error":"#REF!"}]
[null,null,null,{"$f":"IF(#REF!=$E$1,IF(#REF!=$G$1,#REF!,NA()),NA())","v":{"$error":"#REF!"}},{"$f":"IF(#REF!=$E$1,IF(#REF!=$G$1,#REF!,NA()),NA())","v":{"$error":"#REF!"}},{"$f":"IF(#REF!=$E$1,IF(#REF!=$G$1,IF(#REF!=\"\",NA(),#REF!),NA()),NA())","v":{"$error":"#REF!"}},{"$f":"IF(#REF!=$E$1,IF(#REF!=$G$1,IF(#REF!=\"\",NA(),#REF!),NA()),NA())","v":{"$error":"#REF!"}},{"$error":"#REF!"},{"$error":"#REF!"}]
[null,null,null,{"$f":"IF(#REF!=$E$1,IF(#REF!=$G$1,#REF!,NA()),NA())","v":{"$error":"#REF!"}},{"$f":"IF(#REF!=$E$1,IF(#REF!=$G$1,#REF!,NA()),NA())","v":{"$error":"#REF!"}},{"$f":"IF(#REF!=$E$1,IF(#REF!=$G$1,IF(#REF!=\"\",NA(),#REF!),NA()),NA())","v":{"$error":"#REF!"}},{"$f":"IF(#REF!=$E$1,IF(#REF!=$G$1,IF(#REF!=\"\",NA(),#REF!),NA()),NA())","v":{"$error":"#REF!"}},{"$error":"#REF!"},{"$error":"#REF!"}]
[null,null,null,{"$f":"IF(#REF!=$E$1,IF(#REF!=$G$1,#REF!,NA()),NA())","v":{"$error":"#REF!"}},{"$f":"IF(#REF!=$E$1,IF(#REF!=$G$1,#REF!,NA()),NA())","v":{"$error":"#REF!"}},{"$f":"IF(#REF!=$E$1,IF(#REF!=$G$1,IF(#REF!=\"\",NA(),#REF!),NA()),NA())","v":{"$error":"#REF!"}},{"$f":"IF(#REF!=$E$1,IF(#REF!=$G$1,IF(#REF!=\"\",NA(),#REF!),NA()),NA())","v":{"$error":"#REF!"}},{"$error":"#REF!"},{"$error":"#REF!"}]
[null,null,null,{"$f":"IF(#REF!=$E$1,IF(#REF!=$G$1,#REF!,NA()),NA())","v":{"$error":"#REF!"}},{"$f":"IF(#REF!=$E$1,IF(#REF!=$G$1,#REF!,NA()),NA())","v":{"$error":"#REF!"}},{"$f":"IF(#REF!=$E$1,IF(#REF!=$G$1,IF(#REF!=\"\",NA(),#REF!),NA()),NA())","v":{"$error":"#REF!"}},{"$f":"IF(#REF!=$E$1,IF(#REF!=$G$1,IF(#REF!=\"\",NA(),#REF!),NA()),NA())","v":{"$error":"#REF!"}},{"$error":"#REF!"},{"$error":"#REF!"}]
[null,null,null,{"$f":"IF(#REF!=$E$1,IF(#REF!=$G$1,#REF!,NA()),NA())","v":{"$error":"#REF!"}},{"$f":"IF(#REF!=$E$1,IF(#REF!=$G$1,#REF!,NA()),NA())","v":{"$error":"#REF!"}},{"$f":"IF(#REF!=$E$1,IF(#REF!=$G$1,IF(#REF!=\"\",NA(),#REF!),NA()),NA())","v":{"$error":"#REF!"}},{"$f":"IF(#REF!=$E$1,IF(#REF!=$G$1,IF(#REF!=\"\",NA(),#REF!),NA()),NA())","v":{"$error":"#REF!"}},{"$error":"#REF!"},{"$error":"#REF!"}]
[null,null,null,{"$f":"IF(#REF!=$E$1,IF(#REF!=$G$1,#REF!,NA()),NA())","v":{"$error":"#REF!"}},{"$f":"IF(#REF!=$E$1,IF(#REF!=$G$1,#REF!,NA()),NA())","v":{"$error":"#REF!"}},{"$f":"IF(#REF!=$E$1,IF(#REF!=$G$1,IF(#REF!=\"\",NA(),#REF!),NA()),NA())","v":{"$error":"#REF!"}},{"$f":"IF(#REF!=$E$1,IF(#REF!=$G$1,IF(#REF!=\"\",NA(),#REF!),NA()),NA())","v":{"$error":"#REF!"}},{"$error":"#REF!"},{"$error":"#REF!"}]
[null,null,null,{"$f":"IF(#REF!=$E$1,IF(#REF!=$G$1,#REF!,NA()),NA())","v":{"$error":"#REF!"}},{"$f":"IF(#REF!=$E$1,IF(#REF!=$G$1,#REF!,NA()),NA())","v":{"$error":"#REF!"}},{"$f":"IF(#REF!=$E$1,IF(#REF!=$G$1,IF(#REF!=\"\",NA(),#REF!),NA()),NA())","v":{"$error":"#REF!"}},{"$f":"IF(#REF!=$E$1,IF(#REF!=$G$1,IF(#REF!=\"\",NA(),#REF!),NA()),NA())","v":{"$error":"#REF!"}},{"$error":"#REF!"},{"$error":"#REF!"}]
[null,null,null,{"$f":"IF(#REF!=$E$1,IF(#REF!=$G$1,#REF!,NA()),NA())","v":{"$error":"#REF!"}},{"$f":"IF(#REF!=$E$1,IF(#REF!=$G$1,#REF!,NA()),NA())","v":{"$error":"#REF!"}},{"$f":"IF(#REF!=$E$1,IF(#REF!=$G$1,IF(#REF!=\"\",NA(),#REF!),NA()),NA())","v":{"$error":"#REF!"}},{"$f":"IF(#REF!=$E$1,IF(#REF!=$G$1,IF(#REF!=\"\",NA(),#REF!),NA()),NA())","v":{"$error":"#REF!"}},{"$error":"#REF!"},{"$error":"#REF!"}]
[null,null,null,{"$f":"IF(#REF!=$E$1,IF(#REF!=$G$1,#REF!,NA()),NA())","v":{"$error":"#REF!"}},{"$f":"IF(#REF!=$E$1,IF(#REF!=$G$1,#REF!,NA()),NA())","v":{"$error":"#REF!"}},{"$f":"IF(#REF!=$E$1,IF(#REF!=$G$1,IF(#REF!=\"\",NA(),#REF!),NA()),NA())","v":{"$error":"#REF!"}},{"$f":"IF(#REF!=$E$1,IF(#REF!=$G$1,IF(#REF!=\"\",NA(),#REF!),NA()),NA())","v":{"$error":"#REF!"}},{"$error":"#REF!"},{"$error":"#REF!"}]
[null,null,null,{"$f":"IF(#REF!=$E$1,IF(#REF!=$G$1,#REF!,NA()),NA())","v":{"$error":"#REF!"}},{"$f":"IF(#REF!=$E$1,IF(#REF!=$G$1,#REF!,NA()),NA())","v":{"$error":"#REF!"}},{"$f":"IF(#REF!=$E$1,IF(#REF!=$G$1,IF(#REF!=\"\",NA(),#REF!),NA()),NA())","v":{"$error":"#REF!"}},{"$f":"IF(#REF!=$E$1,IF(#REF!=$G$1,IF(#REF!=\"\",NA(),#REF!),NA()),NA())","v":{"$error":"#REF!"}},{"$error":"#REF!"},{"$error":"#REF!"}]
[null,null,null,{"$f":"IF(#REF!=$E$1,IF(#REF!=$G$1,#REF!,NA()),NA())","v":{"$error":"#REF!"}},{"$f":"IF(#REF!=$E$1,IF(#REF!=$G$1,#REF!,NA()),NA())","v":{"$error":"#REF!"}},{"$f":"IF(#REF!=$E$1,IF(#REF!=$G$1,IF(#REF!=\"\",NA(),#REF!),NA()),NA())","v":{"$error":"#REF!"}},{"$f":"IF(#REF!=$E$1,IF(#REF!=$G$1,IF(#REF!=\"\",NA(),#REF!),NA()),NA())","v":{"$error":"#REF!"}},{"$error":"#REF!"},{"$error":"#REF!"}]
[null,null,null,{"$f":"IF(#REF!=$E$1,IF(#REF!=$G$1,#REF!,NA()),NA())","v":{"$error":"#REF!"}},{"$f":"IF(#REF!=$E$1,IF(#REF!=$G$1,#REF!,NA()),NA())","v":{"$error":"#REF!"}},{"$f":"IF(#REF!=$E$1,IF(#REF!=$G$1,IF(#REF!=\"\",NA(),#REF!),NA()),NA())","v":{"$error":"#REF!"}},{"$f":"IF(#REF!=$E$1,IF(#REF!=$G$1,IF(#REF!=\"\",NA(),#REF!),NA()),NA())","v":{"$error":"#REF!"}},{"$error":"#REF!"},{"$error":"#REF!"}]
[null,null,null,{"$f":"IF(#REF!=$E$1,IF(#REF!=$G$1,#REF!,NA()),NA())","v":{"$error":"#REF!"}},{"$f":"IF(#REF!=$E$1,IF(#REF!=$G$1,#REF!,NA()),NA())","v":{"$error":"#REF!"}},{"$f":"IF(#REF!=$E$1,IF(#REF!=$G$1,IF(#REF!=\"\",NA(),#REF!),NA()),NA())","v":{"$error":"#REF!"}},{"$f":"IF(#REF!=$E$1,IF(#REF!=$G$1,IF(#REF!=\"\",NA(),#REF!),NA()),NA())","v":{"$error":"#REF!"}},{"$error":"#REF!"},{"$error":"#REF!"}]
[null,null,null,{"$f":"IF(#REF!=$E$1,IF(#REF!=$G$1,#REF!,NA()),NA())","v":{"$error":"#REF!"}},{"$f":"IF(#REF!=$E$1,IF(#REF!=$G$1,#REF!,NA()),NA())","v":{"$error":"#REF!"}},{"$f":"IF(#REF!=$E$1,IF(#REF!=$G$1,IF(#REF!=\"\",NA(),#REF!),NA()),NA())","v":{"$error":"#REF!"}},{"$f":"IF(#REF!=$E$1,IF(#REF!=$G$1,IF(#REF!=\"\",NA(),#REF!),NA()),NA())","v":{"$error":"#REF!"}},{"$error":"#REF!"},{"$error":"#REF!"}]
[null,null,null,{"$f":"IF(#REF!=$E$1,IF(#REF!=$G$1,#REF!,NA()),NA())","v":{"$error":"#REF!"}},{"$f":"IF(#REF!=$E$1,IF(#REF!=$G$1,#REF!,NA()),NA())","v":{"$error":"#REF!"}},{"$f":"IF(#REF!=$E$1,IF(#REF!=$G$1,IF(#REF!=\"\",NA(),#REF!),NA()),NA())","v":{"$error":"#REF!"}},{"$f":"IF(#REF!=$E$1,IF(#REF!=$G$1,IF(#REF!=\"\",NA(),#REF!),NA()),NA())","v":{"$error":"#REF!"}},{"$error":"#REF!"},{"$error":"#REF!"}]
[null,null,null,{"$f":"IF(#REF!=$E$1,IF(#REF!=$G$1,#REF!,NA()),NA())","v":{"$error":"#REF!"}},{"$f":"IF(#REF!=$E$1,IF(#REF!=$G$1,#REF!,NA()),NA())","v":{"$error":"#REF!"}},{"$f":"IF(#REF!=$E$1,IF(#REF!=$G$1,IF(#REF!=\"\",NA(),#REF!),NA()),NA())","v":{"$error":"#REF!"}},{"$f":"IF(#REF!=$E$1,IF(#REF!=$G$1,IF(#REF!=\"\",NA(),#REF!),NA()),NA())","v":{"$error":"#REF!"}},{"$error":"#REF!"},{"$error":"#REF!"}]
[null,null,null,{"$f":"IF(#REF!=$E$1,IF(#REF!=$G$1,#REF!,NA()),NA())","v":{"$error":"#REF!"}},{"$f":"IF(#REF!=$E$1,IF(#REF!=$G$1,#REF!,NA()),NA())","v":{"$error":"#REF!"}},{"$f":"IF(#REF!=$E$1,IF(#REF!=$G$1,IF(#REF!=\"\",NA(),#REF!),NA()),NA())","v":{"$error":"#REF!"}},{"$f":"IF(#REF!=$E$1,IF(#REF!=$G$1,IF(#REF!=\"\",NA(),#REF!),NA()),NA())","v":{"$error":"#REF!"}},{"$error":"#REF!"},{"$error":"#REF!"}]
[null,null,null,{"$f":"IF(#REF!=$E$1,IF(#REF!=$G$1,#REF!,NA()),NA())","v":{"$error":"#REF!"}},{"$f":"IF(#REF!=$E$1,IF(#REF!=$G$1,#REF!,NA()),NA())","v":{"$error":"#REF!"}},{"$f":"IF(#REF!=$E$1,IF(#REF!=$G$1,IF(#REF!=\"\",NA(),#REF!),NA()),NA())","v":{"$error":"#REF!"}},{"$f":"IF(#REF!=$E$1,IF(#REF!=$G$1,IF(#REF!=\"\",NA(),#REF!),NA()),NA())","v":{"$error":"#REF!"}},{"$error":"#REF!"},{"$error":"#REF!"}]
[null,null,null,{"$f":"IF(#REF!=$E$1,IF(#REF!=$G$1,#REF!,NA()),NA())","v":{"$error":"#REF!"}},{"$f":"IF(#REF!=$E$1,IF(#REF!=$G$1,#REF!,NA()),NA())","v":{"$error":"#REF!"}},{"$f":"IF(#REF!=$E$1,IF(#REF!=$G$1,IF(#REF!=\"\",NA(),#REF!),NA()),NA())","v":{"$error":"#REF!"}},{"$f":"IF(#REF!=$E$1,IF(#REF!=$G$1,IF(#REF!=\"\",NA(),#REF!),NA()),NA())","v":{"$error":"#REF!"}},{"$error":"#REF!"},{"$error":"#REF!"}]
[null,null,null,{"$f":"IF(#REF!=$E$1,IF(#REF!=$G$1,#REF!,NA()),NA())","v":{"$error":"#REF!"}},{"$f":"IF(#REF!=$E$1,IF(#REF!=$G$1,#REF!,NA()),NA())","v":{"$error":"#REF!"}},{"$f":"IF(#REF!=$E$1,IF(#REF!=$G$1,IF(#REF!=\"\",NA(),#REF!),NA()),NA())","v":{"$error":"#REF!"}},{"$f":"IF(#REF!=$E$1,IF(#REF!=$G$1,IF(#REF!=\"\",NA(),#REF!),NA()),NA())","v":{"$error":"#REF!"}},{"$error":"#REF!"},{"$error":"#REF!"}]
[null,null,null,{"$f":"IF(#REF!=$E$1,IF(#REF!=$G$1,#REF!,NA()),NA())","v":{"$error":"#REF!"}},{"$f":"IF(#REF!=$E$1,IF(#REF!=$G$1,#REF!,NA()),NA())","v":{"$error":"#REF!"}},{"$f":"IF(#REF!=$E$1,IF(#REF!=$G$1,IF(#REF!=\"\",NA(),#REF!),NA()),NA())","v":{"$error":"#REF!"}},{"$f":"IF(#REF!=$E$1,IF(#REF!=$G$1,IF(#REF!=\"\",NA(),#REF!),NA()),NA())","v":{"$error":"#REF!"}},{"$error":"#REF!"},{"$error":"#REF!"}]
[null,null,null,{"$f":"IF(#REF!=$E$1,IF(#REF!=$G$1,#REF!,NA()),NA())","v":{"$error":"#REF!"}},{"$f":"IF(#REF!=$E$1,IF(#REF!=$G$1,#REF!,NA()),NA())","v":{"$error":"#REF!"}},{"$f":"IF(#REF!=$E$1,IF(#REF!=$G$1,IF(#REF!=\"\",NA(),#REF!),NA()),NA())","v":{"$error":"#REF!"}},{"$f":"IF(#REF!=$E$1,IF(#REF!=$G$1,IF(#REF!=\"\",NA(),#REF!),NA()),NA())","v":{"$error":"#REF!"}},{"$error":"#REF!"},{"$error":"#REF!"}]
[null,null,null,{"$f":"IF(#REF!=$E$1,IF(#REF!=$G$1,#REF!,NA()),NA())","v":{"$error":"#REF!"}},{"$f":"IF(#REF!=$E$1,IF(#REF!=$G$1,#REF!,NA()),NA())","v":{"$error":"#REF!"}},{"$f":"IF(#REF!=$E$1,IF(#REF!=$G$1,IF(#REF!=\"\",NA(),#REF!),NA()),NA())","v":{"$error":"#REF!"}},{"$f":"IF(#REF!=$E$1,IF(#REF!=$G$1,IF(#REF!=\"\",NA(),#REF!),NA()),NA())","v":{"$error":"#REF!"}},{"$error":"#REF!"},{"$error":"#REF!"}]
[null,null,null,{"$f":"IF(#REF!=$E$1,IF(#REF!=$G$1,#REF!,NA()),NA())","v":{"$error":"#REF!"}},{"$f":"IF(#REF!=$E$1,IF(#REF!=$G$1,#REF!,NA()),NA())","v":{"$error":"#REF!"}},{"$f":"IF(#REF!=$E$1,IF(#REF!=$G$1,IF(#REF!=\"\",NA(),#REF!),NA()),NA())","v":{"$error":"#REF!"}},{"$f":"IF(#REF!=$E$1,IF(#REF!=$G$1,IF(#REF!=\"\",NA(),#REF!),NA()),NA())","v":{"$error":"#REF!"}},{"$error":"#REF!"},{"$error":"#REF!"}]
[null,null,null,{"$f":"IF(#REF!=$E$1,IF(#REF!=$G$1,#REF!,NA()),NA())","v":{"$error":"#REF!"}},{"$f":"IF(#REF!=$E$1,IF(#REF!=$G$1,#REF!,NA()),NA())","v":{"$error":"#REF!"}},{"$f":"IF(#REF!=$E$1,IF(#REF!=$G$1,IF(#REF!=\"\",NA(),#REF!),NA()),NA())","v":{"$error":"#REF!"}},{"$f":"IF(#REF!=$E$1,IF(#REF!=$G$1,IF(#REF!=\"\",NA(),#REF!),NA()),NA())","v":{"$error":"#REF!"}},{"$error":"#REF!"},{"$error":"#REF!"}]
[null,null,null,{"$f":"IF(#REF!=$E$1,IF(#REF!=$G$1,#REF!,NA()),NA())","v":{"$error":"#REF!"}},{"$f":"IF(#REF!=$E$1,IF(#REF!=$G$1,#REF!,NA()),NA())","v":{"$error":"#REF!"}},{"$f":"IF(#REF!=$E$1,IF(#REF!=$G$1,IF(#REF!=\"\",NA(),#REF!),NA()),NA())","v":{"$error":"#REF!"}},{"$f":"IF(#REF!=$E$1,IF(#REF!=$G$1,IF(#REF!=\"\",NA(),#REF!),NA()),NA())","v":{"$error":"#REF!"}},{"$error":"#REF!"},{"$error":"#REF!"}]
[null,null,null,{"$f":"IF(#REF!=$E$1,IF(#REF!=$G$1,#REF!,NA()),NA())","v":{"$error":"#REF!"}},{"$f":"IF(#REF!=$E$1,IF(#REF!=$G$1,#REF!,NA()),NA())","v":{"$error":"#REF!"}},{"$f":"IF(#REF!=$E$1,IF(#REF!=$G$1,IF(#REF!=\"\",NA(),#REF!),NA()),NA())","v":{"$error":"#REF!"}},{"$f":"IF(#REF!=$E$1,IF(#REF!=$G$1,IF(#REF!=\"\",NA(),#REF!),NA()),NA())","v":{"$error":"#REF!"}},{"$error":"#REF!"},{"$error":"#REF!"}]
[null,null,null,{"$f":"IF(#REF!=$E$1,IF(#REF!=$G$1,#REF!,NA()),NA())","v":{"$error":"#REF!"}},{"$f":"IF(#REF!=$E$1,IF(#REF!=$G$1,#REF!,NA()),NA())","v":{"$error":"#REF!"}},{"$f":"IF(#REF!=$E$1,IF(#REF!=$G$1,IF(#REF!=\"\",NA(),#REF!),NA()),NA())","v":{"$error":"#REF!"}},{"$f":"IF(#REF!=$E$1,IF(#REF!=$G$1,IF(#REF!=\"\",NA(),#REF!),NA()),NA())","v":{"$error":"#REF!"}},{"$error":"#REF!"},{"$error":"#REF!"}]
[null,null,null,{"$f":"IF(#REF!=$E$1,IF(#REF!=$G$1,#REF!,NA()),NA())","v":{"$error":"#REF!"}},{"$f":"IF(#REF!=$E$1,IF(#REF!=$G$1,#REF!,NA()),NA())","v":{"$error":"#REF!"}},{"$f":"IF(#REF!=$E$1,IF(#REF!=$G$1,IF(#REF!=\"\",NA(),#REF!),NA()),NA())","v":{"$error":"#REF!"}},{"$f":"IF(#REF!=$E$1,IF(#REF!=$G$1,IF(#REF!=\"\",NA(),#REF!),NA()),NA())","v":{"$error":"#REF!"}},{"$error":"#REF!"},{"$error":"#REF!"}]
[null,null,null,{"$f":"IF(#REF!=$E$1,IF(#REF!=$G$1,#REF!,NA()),NA())","v":{"$error":"#REF!"}},{"$f":"IF(#REF!=$E$1,IF(#REF!=$G$1,#REF!,NA()),NA())","v":{"$error":"#REF!"}},{"$f":"IF(#REF!=$E$1,IF(#REF!=$G$1,IF(#REF!=\"\",NA(),#REF!),NA()),NA())","v":{"$error":"#REF!"}},{"$f":"IF(#REF!=$E$1,IF(#REF!=$G$1,IF(#REF!=\"\",NA(),#REF!),NA()),NA())","v":{"$error":"#REF!"}},{"$error":"#REF!"},{"$error":"#REF!"}]
[null,null,null,{"$f":"IF(#REF!=$E$1,IF(#REF!=$G$1,#REF!,NA()),NA())","v":{"$error":"#REF!"}},{"$f":"IF(#REF!=$E$1,IF(#REF!=$G$1,#REF!,NA()),NA())","v":{"$error":"#REF!"}},{"$f":"IF(#REF!=$E$1,IF(#REF!=$G$1,IF(#REF!=\"\",NA(),#REF!),NA()),NA())","v":{"$error":"#REF!"}},{"$f":"IF(#REF!=$E$1,IF(#REF!=$G$1,IF(#REF!=\"\",NA(),#REF!),NA()),NA())","v":{"$error":"#REF!"}},{"$error":"#REF!"},{"$error":"#REF!"}]
[null,null,null,{"$f":"IF(#REF!=$E$1,IF(#REF!=$G$1,#REF!,NA()),NA())","v":{"$error":"#REF!"}},{"$f":"IF(#REF!=$E$1,IF(#REF!=$G$1,#REF!,NA()),NA())","v":{"$error":"#REF!"}},{"$f":"IF(#REF!=$E$1,IF(#REF!=$G$1,IF(#REF!=\"\",NA(),#REF!),NA()),NA())","v":{"$error":"#REF!"}},{"$f":"IF(#REF!=$E$1,IF(#REF!=$G$1,IF(#REF!=\"\",NA(),#REF!),NA()),NA())","v":{"$error":"#REF!"}},{"$error":"#REF!"},{"$error":"#REF!"}]
[null,null,null,{"$f":"IF(#REF!=$E$1,IF(#REF!=$G$1,#REF!,NA()),NA())","v":{"$error":"#REF!"}},{"$f":"IF(#REF!=$E$1,IF(#REF!=$G$1,#REF!,NA()),NA())","v":{"$error":"#REF!"}},{"$f":"IF(#REF!=$E$1,IF(#REF!=$G$1,IF(#REF!=\"\",NA(),#REF!),NA()),NA())","v":{"$error":"#REF!"}},{"$f":"IF(#REF!=$E$1,IF(#REF!=$G$1,IF(#REF!=\"\",NA(),#REF!),NA()),NA())","v":{"$error":"#REF!"}},{"$error":"#REF!"},{"$error":"#REF!"}]
[null,null,null,{"$f":"IF(#REF!=$E$1,IF(#REF!=$G$1,#REF!,NA()),NA())","v":{"$error":"#REF!"}},{"$f":"IF(#REF!=$E$1,IF(#REF!=$G$1,#REF!,NA()),NA())","v":{"$error":"#REF!"}},{"$f":"IF(#REF!=$E$1,IF(#REF!=$G$1,IF(#REF!=\"\",NA(),#REF!),NA()),NA())","v":{"$error":"#REF!"}},{"$f":"IF(#REF!=$E$1,IF(#REF!=$G$1,IF(#REF!=\"\",NA(),#REF!),NA()),NA())","v":{"$error":"#REF!"}},{"$error":"#REF!"},{"$error":"#REF!"}]
[null,null,null,{"$f":"IF(#REF!=$E$1,IF(#REF!=$G$1,#REF!,NA()),NA())","v":{"$error":"#REF!"}},{"$f":"IF(#REF!=$E$1,IF(#REF!=$G$1,#REF!,NA()),NA())","v":{"$error":"#REF!"}},{"$f":"IF(#REF!=$E$1,IF(#REF!=$G$1,IF(#REF!=\"\",NA(),#REF!),NA()),NA())","v":{"$error":"#REF!"}},{"$f":"IF(#REF!=$E$1,IF(#REF!=$G$1,IF(#REF!=\"\",NA(),#REF!),NA()),NA())","v":{"$error":"#REF!"}},{"$error":"#REF!"},{"$error":"#REF!"}]
[null,null,null,{"$f":"IF(#REF!=$E$1,IF(#REF!=$G$1,#REF!,NA()),NA())","v":{"$error":"#REF!"}},{"$f":"IF(#REF!=$E$1,IF(#REF!=$G$1,#REF!,NA()),NA())","v":{"$error":"#REF!"}},{"$f":"IF(#REF!=$E$1,IF(#REF!=$G$1,IF(#REF!=\"\",NA(),#REF!),NA()),NA())","v":{"$error":"#REF!"}},{"$f":"IF(#REF!=$E$1,IF(#REF!=$G$1,IF(#REF!=\"\",NA(),#REF!),NA()),NA())","v":{"$error":"#REF!"}},{"$error":"#REF!"},{"$error":"#REF!"}]
[null,null,null,{"$f":"IF(#REF!=$E$1,IF(#REF!=$G$1,#REF!,NA()),NA())","v":{"$error":"#REF!"}},{"$f":"IF(#REF!=$E$1,IF(#REF!=$G$1,#REF!,NA()),NA())","v":{"$error":"#REF!"}},{"$f":"IF(#REF!=$E$1,IF(#REF!=$G$1,IF(#REF!=\"\",NA(),#REF!),NA()),NA())","v":{"$error":"#REF!"}},{"$f":"IF(#REF!=$E$1,IF(#REF!=$G$1,IF(#REF!=\"\",NA(),#REF!),NA()),NA())","v":{"$error":"#REF!"}},{"$error":"#REF!"},{"$error":"#REF!"}]
[null,null,null,{"$f":"IF(#REF!=$E$1,IF(#REF!=$G$1,#REF!,NA()),NA())","v":{"$error":"#REF!"}},{"$f":"IF(#REF!=$E$1,IF(#REF!=$G$1,#REF!,NA()),NA())","v":{"$error":"#REF!"}},{"$f":"IF(#REF!=$E$1,IF(#REF!=$G$1,IF(#REF!=\"\",NA(),#REF!),NA()),NA())","v":{"$error":"#REF!"}},{"$f":"IF(#REF!=$E$1,IF(#REF!=$G$1,IF(#REF!=\"\",NA(),#REF!),NA()),NA())","v":{"$error":"#REF!"}},{"$error":"#REF!"},{"$error":"#REF!"}]
[null,null,null,{"$f":"IF(#REF!=$E$1,IF(#REF!=$G$1,#REF!,NA()),NA())","v":{"$error":"#REF!"}},{"$f":"IF(#REF!=$E$1,IF(#REF!=$G$1,#REF!,NA()),NA())","v":{"$error":"#REF!"}},{"$f":"IF(#REF!=$E$1,IF(#REF!=$G$1,IF(#REF!=\"\",NA(),#REF!),NA()),NA())","v":{"$error":"#REF!"}},{"$f":"IF(#REF!=$E$1,IF(#REF!=$G$1,IF(#REF!=\"\",NA(),#REF!),NA()),NA())","v":{"$error":"#REF!"}},{"$error":"#REF!"},{"$error":"#REF!"}]
[null,null,null,{"$f":"IF(#REF!=$E$1,IF(#REF!=$G$1,#REF!,NA()),NA())","v":{"$error":"#REF!"}},{"$f":"IF(#REF!=$E$1,IF(#REF!=$G$1,#REF!,NA()),NA())","v":{"$error":"#REF!"}},{"$f":"IF(#REF!=$E$1,IF(#REF!=$G$1,IF(#REF!=\"\",NA(),#REF!),NA()),NA())","v":{"$error":"#REF!"}},{"$f":"IF(#REF!=$E$1,IF(#REF!=$G$1,IF(#REF!=\"\",NA(),#REF!),NA()),NA())","v":{"$error":"#REF!"}},{"$error":"#REF!"},{"$error":"#REF!"}]
[null,null,null,{"$f":"IF(#REF!=$E$1,IF(#REF!=$G$1,#REF!,NA()),NA())","v":{"$error":"#REF!"}},{"$f":"IF(#REF!=$E$1,IF(#REF!=$G$1,#REF!,NA()),NA())","v":{"$error":"#REF!"}},{"$f":"IF(#REF!=$E$1,IF(#REF!=$G$1,IF(#REF!=\"\",NA(),#REF!),NA()),NA())","v":{"$error":"#REF!"}},{"$f":"IF(#REF!=$E$1,IF(#REF!=$G$1,IF(#REF!=\"\",NA(),#REF!),NA()),NA())","v":{"$error":"#REF!"}},{"$error":"#REF!"},{"$error":"#REF!"}]
[null,null,null,{"$f":"IF(#REF!=$E$1,IF(#REF!=$G$1,#REF!,NA()),NA())","v":{"$error":"#REF!"}},{"$f":"IF(#REF!=$E$1,IF(#REF!=$G$1,#REF!,NA()),NA())","v":{"$error":"#REF!"}},{"$f":"IF(#REF!=$E$1,IF(#REF!=$G$1,IF(#REF!=\"\",NA(),#REF!),NA()),NA())","v":{"$error":"#REF!"}},{"$f":"IF(#REF!=$E$1,IF(#REF!=$G$1,IF(#REF!=\"\",NA(),#REF!),NA()),NA())","v":{"$error":"#REF!"}},{"$error":"#REF!"},{"$error":"#REF!"}]
[null,null,null,{"$f":"IF(#REF!=$E$1,IF(#REF!=$G$1,#REF!,NA()),NA())","v":{"$error":"#REF!"}},{"$f":"IF(#REF!=$E$1,IF(#REF!=$G$1,#REF!,NA()),NA())","v":{"$error":"#REF!"}},{"$f":"IF(#REF!=$E$1,IF(#REF!=$G$1,IF(#REF!=\"\",NA(),#REF!),NA()),NA())","v":{"$error":"#REF!"}},{"$f":"IF(#REF!=$E$1,IF(#REF!=$G$1,IF(#REF!=\"\",NA(),#REF!),NA()),NA())","v":{"$error":"#REF!"}},{"$error":"#REF!"},{"$error":"#REF!"}]
[null,null,null,{"$f":"IF(#REF!=$E$1,IF(#REF!=$G$1,#REF!,NA()),NA())","v":{"$error":"#REF!"}},{"$f":"IF(#REF!=$E$1,IF(#REF!=$G$1,#REF!,NA()),NA())","v":{"$error":"#REF!"}},{"$f":"IF(#REF!=$E$1,IF(#REF!=$G$1,IF(#REF!=\"\",NA(),#REF!),NA()),NA())","v":{"$error":"#REF!"}},{"$f":"IF(#REF!=$E$1,IF(#REF!=$G$1,IF(#REF!=\"\",NA(),#REF!),NA()),NA())","v":{"$error":"#REF!"}},{"$error":"#REF!"},{"$error":"#REF!"}]
[null,null,null,{"$f":"IF(#REF!=$E$1,IF(#REF!=$G$1,#REF!,NA()),NA())","v":{"$error":"#REF!"}},{"$f":"IF(#REF!=$E$1,IF(#REF!=$G$1,#REF!,NA()),NA())","v":{"$error":"#REF!"}},{"$f":"IF(#REF!=$E$1,IF(#REF!=$G$1,IF(#REF!=\"\",NA(),#REF!),NA()),NA())","v":{"$error":"#REF!"}},{"$f":"IF(#REF!=$E$1,IF(#REF!=$G$1,IF(#REF!=\"\",NA(),#REF!),NA()),NA())","v":{"$error":"#REF!"}},{"$error":"#REF!"},{"$error":"#REF!"}]
[null,null,null,{"$f":"IF(#REF!=$E$1,IF(#REF!=$G$1,#REF!,NA()),NA())","v":{"$error":"#REF!"}},{"$f":"IF(#REF!=$E$1,IF(#REF!=$G$1,#REF!,NA()),NA())","v":{"$error":"#REF!"}},{"$f":"IF(#REF!=$E$1,IF(#REF!=$G$1,IF(#REF!=\"\",NA(),#REF!),NA()),NA())","v":{"$error":"#REF!"}},{"$f":"IF(#REF!=$E$1,IF(#REF!=$G$1,IF(#REF!=\"\",NA(),#REF!),NA()),NA())","v":{"$error":"#REF!"}},{"$error":"#REF!"},{"$error":"#REF!"}]
[null,null,null,{"$f":"IF(#REF!=$E$1,IF(#REF!=$G$1,#REF!,NA()),NA())","v":{"$error":"#REF!"}},{"$f":"IF(#REF!=$E$1,IF(#REF!=$G$1,#REF!,NA()),NA())","v":{"$error":"#REF!"}},{"$f":"IF(#REF!=$E$1,IF(#REF!=$G$1,IF(#REF!=\"\",NA(),#REF!),NA()),NA())","v":{"$error":"#REF!"}},{"$f":"IF(#REF!=$E$1,IF(#REF!=$G$1,IF(#REF!=\"\",NA(),#REF!),NA()),NA())","v":{"$error":"#REF!"}},{"$error":"#REF!"},{"$error":"#REF!"}]
[null,null,null,{"$f":"IF(#REF!=$E$1,IF(#REF!=$G$1,#REF!,NA()),NA())","v":{"$error":"#REF!"}},{"$f":"IF(#REF!=$E$1,IF(#REF!=$G$1,#REF!,NA()),NA())","v":{"$error":"#REF!"}},{"$f":"IF(#REF!=$E$1,IF(#REF!=$G$1,IF(#REF!=\"\",NA(),#REF!),NA()),NA())","v":{"$error":"#REF!"}},{"$f":"IF(#REF!=$E$1,IF(#REF!=$G$1,IF(#REF!=\"\",NA(),#REF!),NA()),NA())","v":{"$error":"#REF!"}},{"$error":"#REF!"},{"$error":"#REF!"}]
[null,null,null,{"$f":"IF(#REF!=$E$1,IF(#REF!=$G$1,#REF!,NA()),NA())","v":{"$error":"#REF!"}},{"$f":"IF(#REF!=$E$1,IF(#REF!=$G$1,#REF!,NA()),NA())","v":{"$error":"#REF!"}},{"$f":"IF(#REF!=$E$1,IF(#REF!=$G$1,IF(#REF!=\"\",NA(),#REF!),NA()),NA())","v":{"$error":"#REF!"}},{"$f":"IF(#REF!=$E$1,IF(#REF!=$G$1,IF(#REF!=\"\",NA(),#REF!),NA()),NA())","v":{"$error":"#REF!"}},{"$error":"#REF!"},{"$error":"#REF!"}]
[null,null,null,{"$f":"IF(#REF!=$E$1,IF(#REF!=$G$1,#REF!,NA()),NA())","v":{"$error":"#REF!"}},{"$f":"IF(#REF!=$E$1,IF(#REF!=$G$1,#REF!,NA()),NA())","v":{"$error":"#REF!"}},{"$f":"IF(#REF!=$E$1,IF(#REF!=$G$1,IF(#REF!=\"\",NA(),#REF!),NA()),NA())","v":{"$error":"#REF!"}},{"$f":"IF(#REF!=$E$1,IF(#REF!=$G$1,IF(#REF!=\"\",NA(),#REF!),NA()),NA())","v":{"$error":"#REF!"}},{"$error":"#REF!"},{"$error":"#REF!"}]
[null,null,null,{"$f":"IF(#REF!=$E$1,IF(#REF!=$G$1,#REF!,NA()),NA())","v":{"$error":"#REF!"}},{"$f":"IF(#REF!=$E$1,IF(#REF!=$G$1,#REF!,NA()),NA())","v":{"$error":"#REF!"}},{"$f":"IF(#REF!=$E$1,IF(#REF!=$G$1,IF(#REF!=\"\",NA(),#REF!),NA()),NA())","v":{"$error":"#REF!"}},{"$f":"IF(#REF!=$E$1,IF(#REF!=$G$1,IF(#REF!=\"\",NA(),#REF!),NA()),NA())","v":{"$error":"#REF!"}},{"$error":"#REF!"},{"$error":"#REF!"}]
[null,null,null,{"$f":"IF(#REF!=$E$1,IF(#REF!=$G$1,#REF!,NA()),NA())","v":{"$error":"#REF!"}},{"$f":"IF(#REF!=$E$1,IF(#REF!=$G$1,#REF!,NA()),NA())","v":{"$error":"#REF!"}},{"$f":"IF(#REF!=$E$1,IF(#REF!=$G$1,IF(#REF!=\"\",NA(),#REF!),NA()),NA())","v":{"$error":"#REF!"}},{"$f":"IF(#REF!=$E$1,IF(#REF!=$G$1,IF(#REF!=\"\",NA(),#REF!),NA()),NA())","v":{"$error":"#REF!"}},{"$f":"IF(AND(ISNUMBER(G964),F964=\"-\"),0,F964)","v":{"$error":"#REF!"}},{"$f":"IF(AND(ISNUMBER(F964),G964=\"-\"),0,G964)","v":{"$error":"#REF!"}}]
[null,null,null,{"$f":"IF(#REF!=$E$1,IF(#REF!=$G$1,#REF!,NA()),NA())","v":{"$error":"#REF!"}},{"$f":"IF(#REF!=$E$1,IF(#REF!=$G$1,#REF!,NA()),NA())","v":{"$error":"#REF!"}},{"$f":"IF(#REF!=$E$1,IF(#REF!=$G$1,IF(#REF!=\"\",NA(),#REF!),NA()),NA())","v":{"$error":"#REF!"}},{"$f":"IF(#REF!=$E$1,IF(#REF!=$G$1,IF(#REF!=\"\",NA(),#REF!),NA()),NA())","v":{"$error":"#REF!"}},{"$error":"#REF!"},{"$error":"#REF!"}]
[null,null,null,{"$f":"IF(#REF!=$E$1,IF(#REF!=$G$1,#REF!,NA()),NA())","v":{"$error":"#REF!"}},{"$f":"IF(#REF!=$E$1,IF(#REF!=$G$1,#REF!,NA()),NA())","v":{"$error":"#REF!"}},{"$f":"IF(#REF!=$E$1,IF(#REF!=$G$1,IF(#REF!=\"\",NA(),#REF!),NA()),NA())","v":{"$error":"#REF!"}},{"$f":"IF(#REF!=$E$1,IF(#REF!=$G$1,IF(#REF!=\"\",NA(),#REF!),NA()),NA())","v":{"$error":"#REF!"}},{"$error":"#REF!"},{"$error":"#REF!"}]
[null,null,null,{"$f":"IF(#REF!=$E$1,IF(#REF!=$G$1,#REF!,NA()),NA())","v":{"$error":"#REF!"}},{"$f":"IF(#REF!=$E$1,IF(#REF!=$G$1,#REF!,NA()),NA())","v":{"$error":"#REF!"}},{"$f":"IF(#REF!=$E$1,IF(#REF!=$G$1,IF(#REF!=\"\",NA(),#REF!),NA()),NA())","v":{"$error":"#REF!"}},{"$f":"IF(#REF!=$E$1,IF(#REF!=$G$1,IF(#REF!=\"\",NA(),#REF!),NA()),NA())","v":{"$error":"#REF!"}},{"$error":"#REF!"},{"$error":"#REF!"}]
[null,null,null,{"$f":"IF(#REF!=$E$1,IF(#REF!=$G$1,#REF!,NA()),NA())","v":{"$error":"#REF!"}},{"$f":"IF(#REF!=$E$1,IF(#REF!=$G$1,#REF!,NA()),NA())","v":{"$error":"#REF!"}},{"$f":"IF(#REF!=$E$1,IF(#REF!=$G$1,IF(#REF!=\"\",NA(),#REF!),NA()),NA())","v":{"$error":"#REF!"}},{"$f":"IF(#REF!=$E$1,IF(#REF!=$G$1,IF(#REF!=\"\",NA(),#REF!),NA()),NA())","v":{"$error":"#REF!"}},{"$error":"#REF!"},{"$error":"#REF!"}]
[null,null,null,{"$f":"IF(#REF!=$E$1,IF(#REF!=$G$1,#REF!,NA()),NA())","v":{"$error":"#REF!"}},{"$f":"IF(#REF!=$E$1,IF(#REF!=$G$1,#REF!,NA()),NA())","v":{"$error":"#REF!"}},{"$f":"IF(#REF!=$E$1,IF(#REF!=$G$1,IF(#REF!=\"\",NA(),#REF!),NA()),NA())","v":{"$error":"#REF!"}},{"$f":"IF(#REF!=$E$1,IF(#REF!=$G$1,IF(#REF!=\"\",NA(),#REF!),NA()),NA())","v":{"$error":"#REF!"}},{"$error":"#REF!"},{"$error":"#REF!"}]
[null,null,null,{"$f":"IF(#REF!=$E$1,IF(#REF!=$G$1,#REF!,NA()),NA())","v":{"$error":"#REF!"}},{"$f":"IF(#REF!=$E$1,IF(#REF!=$G$1,#REF!,NA()),NA())","v":{"$error":"#REF!"}},{"$f":"IF(#REF!=$E$1,IF(#REF!=$G$1,IF(#REF!=\"\",NA(),#REF!),NA()),NA())","v":{"$error":"#REF!"}},{"$f":"IF(#REF!=$E$1,IF(#REF!=$G$1,IF(#REF!=\"\",NA(),#REF!),NA()),NA())","v":{"$error":"#REF!"}},{"$error":"#REF!"},{"$error":"#REF!"}]
[null,null,null,{"$f":"IF(#REF!=$E$1,IF(#REF!=$G$1,#REF!,NA()),NA())","v":{"$error":"#REF!"}},{"$f":"IF(#REF!=$E$1,IF(#REF!=$G$1,#REF!,NA()),NA())","v":{"$error":"#REF!"}},{"$f":"IF(#REF!=$E$1,IF(#REF!=$G$1,IF(#REF!=\"\",NA(),#REF!),NA()),NA())","v":{"$error":"#REF!"}},{"$f":"IF(#REF!=$E$1,IF(#REF!=$G$1,IF(#REF!=\"\",NA(),#REF!),NA()),NA())","v":{"$error":"#REF!"}},{"$error":"#REF!"},{"$error":"#REF!"}]
[null,null,null,{"$f":"IF(#REF!=$E$1,IF(#REF!=$G$1,#REF!,NA()),NA())","v":{"$error":"#REF!"}},{"$f":"IF(#REF!=$E$1,IF(#REF!=$G$1,#REF!,NA()),NA())","v":{"$error":"#REF!"}},{"$f":"IF(#REF!=$E$1,IF(#REF!=$G$1,IF(#REF!=\"\",NA(),#REF!),NA()),NA())","v":{"$error":"#REF!"}},{"$f":"IF(#REF!=$E$1,IF(#REF!=$G$1,IF(#REF!=\"\",NA(),#REF!),NA()),NA())","v":{"$error":"#REF!"}},{"$error":"#REF!"},{"$error":"#REF!"}]
[null,null,null,{"$f":"IF(#REF!=$E$1,IF(#REF!=$G$1,#REF!,NA()),NA())","v":{"$error":"#REF!"}},{"$f":"IF(#REF!=$E$1,IF(#REF!=$G$1,#REF!,NA()),NA())","v":{"$error":"#REF!"}},{"$f":"IF(#REF!=$E$1,IF(#REF!=$G$1,IF(#REF!=\"\",NA(),#REF!),NA()),NA())","v":{"$error":"#REF!"}},{"$f":"IF(#REF!=$E$1,IF(#REF!=$G$1,IF(#REF!=\"\",NA(),#REF!),NA()),NA())","v":{"$error":"#REF!"}},{"$error":"#REF!"},{"$error":"#REF!"}]
[null,null,null,{"$f":"IF(#REF!=$E$1,IF(#REF!=$G$1,#REF!,NA()),NA())","v":{"$error":"#REF!"}},{"$f":"IF(#REF!=$E$1,IF(#REF!=$G$1,#REF!,NA()),NA())","v":{"$error":"#REF!"}},{"$f":"IF(#REF!=$E$1,IF(#REF!=$G$1,IF(#REF!=\"\",NA(),#REF!),NA()),NA())","v":{"$error":"#REF!"}},{"$f":"IF(#REF!=$E$1,IF(#REF!=$G$1,IF(#REF!=\"\",NA(),#REF!),NA()),NA())","v":{"$error":"#REF!"}},{"$error":"#REF!"},{"$error":"#REF!"}]
[null,null,null,{"$f":"IF(#REF!=$E$1,IF(#REF!=$G$1,#REF!,NA()),NA())","v":{"$error":"#REF!"}},{"$f":"IF(#REF!=$E$1,IF(#REF!=$G$1,#REF!,NA()),NA())","v":{"$error":"#REF!"}},{"$f":"IF(#REF!=$E$1,IF(#REF!=$G$1,IF(#REF!=\"\",NA(),#REF!),NA()),NA())","v":{"$error":"#REF!"}},{"$f":"IF(#REF!=$E$1,IF(#REF!=$G$1,IF(#REF!=\"\",NA(),#REF!),NA()),NA())","v":{"$error":"#REF!"}},{"$error":"#REF!"},{"$error":"#REF!"}]
[null,null,null,{"$f":"IF(#REF!=$E$1,IF(#REF!=$G$1,#REF!,NA()),NA())","v":{"$error":"#REF!"}},{"$f":"IF(#REF!=$E$1,IF(#REF!=$G$1,#REF!,NA()),NA())","v":{"$error":"#REF!"}},{"$f":"IF(#REF!=$E$1,IF(#REF!=$G$1,IF(#REF!=\"\",NA(),#REF!),NA()),NA())","v":{"$error":"#REF!"}},{"$f":"IF(#REF!=$E$1,IF(#REF!=$G$1,IF(#REF!=\"\",NA(),#REF!),NA()),NA())","v":{"$error":"#REF!"}},{"$error":"#REF!"},{"$error":"#REF!"}]
[null,null,null,{"$f":"IF(#REF!=$E$1,IF(#REF!=$G$1,#REF!,NA()),NA())","v":{"$error":"#REF!"}},{"$f":"IF(#REF!=$E$1,IF(#REF!=$G$1,#REF!,NA()),NA())","v":{"$error":"#REF!"}},{"$f":"IF(#REF!=$E$1,IF(#REF!=$G$1,IF(#REF!=\"\",NA(),#REF!),NA()),NA())","v":{"$error":"#REF!"}},{"$f":"IF(#REF!=$E$1,IF(#REF!=$G$1,IF(#REF!=\"\",NA(),#REF!),NA()),NA())","v":{"$error":"#REF!"}},{"$error":"#REF!"},{"$error":"#REF!"}]
[null,null,null,{"$f":"IF(#REF!=$E$1,IF(#REF!=$G$1,#REF!,NA()),NA())","v":{"$error":"#REF!"}},{"$f":"IF(#REF!=$E$1,IF(#REF!=$G$1,#REF!,NA()),NA())","v":{"$error":"#REF!"}},{"$f":"IF(#REF!=$E$1,IF(#REF!=$G$1,IF(#REF!=\"\",NA(),#REF!),NA()),NA())","v":{"$error":"#REF!"}},{"$f":"IF(#REF!=$E$1,IF(#REF!=$G$1,IF(#REF!=\"\",NA(),#REF!),NA()),NA())","v":{"$error":"#REF!"}},{"$error":"#REF!"},{"$error":"#REF!"}]
[null,null,null,{"$f":"IF(#REF!=$E$1,IF(#REF!=$G$1,#REF!,NA()),NA())","v":{"$error":"#REF!"}},{"$f":"IF(#REF!=$E$1,IF(#REF!=$G$1,#REF!,NA()),NA())","v":{"$error":"#REF!"}},{"$f":"IF(#REF!=$E$1,IF(#REF!=$G$1,IF(#REF!=\"\",NA(),#REF!),NA()),NA())","v":{"$error":"#REF!"}},{"$f":"IF(#REF!=$E$1,IF(#REF!=$G$1,IF(#REF!=\"\",NA(),#REF!),NA()),NA())","v":{"$error":"#REF!"}},{"$error":"#REF!"},{"$error":"#REF!"}]
[null,null,null,{"$f":"IF(#REF!=$E$1,IF(#REF!=$G$1,#REF!,NA()),NA())","v":{"$error":"#REF!"}},{"$f":"IF(#REF!=$E$1,IF(#REF!=$G$1,#REF!,NA()),NA())","v":{"$error":"#REF!"}},{"$f":"IF(#REF!=$E$1,IF(#REF!=$G$1,IF(#REF!=\"\",NA(),#REF!),NA()),NA())","v":{"$error":"#REF!"}},{"$f":"IF(#REF!=$E$1,IF(#REF!=$G$1,IF(#REF!=\"\",NA(),#REF!),NA()),NA())","v":{"$error":"#REF!"}},{"$error":"#REF!"},{"$error":"#REF!"}]
[null,null,null,{"$f":"IF(#REF!=$E$1,IF(#REF!=$G$1,#REF!,NA()),NA())","v":{"$error":"#REF!"}},{"$f":"IF(#REF!=$E$1,IF(#REF!=$G$1,#REF!,NA()),NA())","v":{"$error":"#REF!"}},{"$f":"IF(#REF!=$E$1,IF(#REF!=$G$1,IF(#REF!=\"\",NA(),#REF!),NA()),NA())","v":{"$error":"#REF!"}},{"$f":"IF(#REF!=$E$1,IF(#REF!=$G$1,IF(#REF!=\"\",NA(),#REF!),NA()),NA())","v":{"$error":"#REF!"}},{"$error":"#REF!"},{"$error":"#REF!"}]
[null,null,null,{"$f":"IF(#REF!=$E$1,IF(#REF!=$G$1,#REF!,NA()),NA())","v":{"$error":"#REF!"}},{"$f":"IF(#REF!=$E$1,IF(#REF!=$G$1,#REF!,NA()),NA())","v":{"$error":"#REF!"}},{"$f":"IF(#REF!=$E$1,IF(#REF!=$G$1,IF(#REF!=\"\",NA(),#REF!),NA()),NA())","v":{"$error":"#REF!"}},{"$f":"IF(#REF!=$E$1,IF(#REF!=$G$1,IF(#REF!=\"\",NA(),#REF!),NA()),NA())","v":{"$error":"#REF!"}},{"$error":"#REF!"},{"$error":"#REF!"}]
[null,null,null,{"$f":"IF(#REF!=$E$1,IF(#REF!=$G$1,#REF!,NA()),NA())","v":{"$error":"#REF!"}},{"$f":"IF(#REF!=$E$1,IF(#REF!=$G$1,#REF!,NA()),NA())","v":{"$error":"#REF!"}},{"$f":"IF(#REF!=$E$1,IF(#REF!=$G$1,IF(#REF!=\"\",NA(),#REF!),NA()),NA())","v":{"$error":"#REF!"}},{"$f":"IF(#REF!=$E$1,IF(#REF!=$G$1,IF(#REF!=\"\",NA(),#REF!),NA()),NA())","v":{"$error":"#REF!"}},{"$error":"#REF!"},{"$error":"#REF!"}]
[null,null,null,{"$f":"IF(#REF!=$E$1,IF(#REF!=$G$1,#REF!,NA()),NA())","v":{"$error":"#REF!"}},{"$f":"IF(#REF!=$E$1,IF(#REF!=$G$1,#REF!,NA()),NA())","v":{"$error":"#REF!"}},{"$f":"IF(#REF!=$E$1,IF(#REF!=$G$1,IF(#REF!=\"\",NA(),#REF!),NA()),NA())","v":{"$error":"#REF!"}},{"$f":"IF(#REF!=$E$1,IF(#REF!=$G$1,IF(#REF!=\"\",NA(),#REF!),NA()),NA())","v":{"$error":"#REF!"}},{"$error":"#REF!"},{"$error":"#REF!"}]
[null,null,null,{"$f":"IF(#REF!=$E$1,IF(#REF!=$G$1,#REF!,NA()),NA())","v":{"$error":"#REF!"}},{"$f":"IF(#REF!=$E$1,IF(#REF!=$G$1,#REF!,NA()),NA())","v":{"$error":"#REF!"}},{"$f":"IF(#REF!=$E$1,IF(#REF!=$G$1,IF(#REF!=\"\",NA(),#REF!),NA()),NA())","v":{"$error":"#REF!"}},{"$f":"IF(#REF!=$E$1,IF(#REF!=$G$1,IF(#REF!=\"\",NA(),#REF!),NA()),NA())","v":{"$error":"#REF!"}},{"$error":"#REF!"},{"$error":"#REF!"}]
[null,null,null,{"$f":"IF(#REF!=$E$1,IF(#REF!=$G$1,#REF!,NA()),NA())","v":{"$error":"#REF!"}},{"$f":"IF(#REF!=$E$1,IF(#REF!=$G$1,#REF!,NA()),NA())","v":{"$error":"#REF!"}},{"$f":"IF(#REF!=$E$1,IF(#REF!=$G$1,IF(#REF!=\"\",NA(),#REF!),NA()),NA())","v":{"$error":"#REF!"}},{"$f":"IF(#REF!=$E$1,IF(#REF!=$G$1,IF(#REF!=\"\",NA(),#REF!),NA()),NA())","v":{"$error":"#REF!"}},{"$error":"#REF!"},{"$error":"#REF!"}]
[null,null,null,{"$f":"IF(#REF!=$E$1,IF(#REF!=$G$1,#REF!,NA()),NA())","v":{"$error":"#REF!"}},{"$f":"IF(#REF!=$E$1,IF(#REF!=$G$1,#REF!,NA()),NA())","v":{"$error":"#REF!"}},{"$f":"IF(#REF!=$E$1,IF(#REF!=$G$1,IF(#REF!=\"\",NA(),#REF!),NA()),NA())","v":{"$error":"#REF!"}},{"$f":"IF(#REF!=$E$1,IF(#REF!=$G$1,IF(#REF!=\"\",NA(),#REF!),NA()),NA())","v":{"$error":"#REF!"}},{"$error":"#REF!"},{"$error":"#REF!"}]
[null,null,null,{"$f":"IF(#REF!=$E$1,IF(#REF!=$G$1,#REF!,NA()),NA())","v":{"$error":"#REF!"}},{"$f":"IF(#REF!=$E$1,IF(#REF!=$G$1,#REF!,NA()),NA())","v":{"$error":"#REF!"}},{"$f":"IF(#REF!=$E$1,IF(#REF!=$G$1,IF(#REF!=\"\",NA(),#REF!),NA()),NA())","v":{"$error":"#REF!"}},{"$f":"IF(#REF!=$E$1,IF(#REF!=$G$1,IF(#REF!=\"\",NA(),#REF!),NA()),NA())","v":{"$error":"#REF!"}},{"$error":"#REF!"},{"$error":"#REF!"}]
[null,null,null,{"$f":"IF(#REF!=$E$1,IF(#REF!=$G$1,#REF!,NA()),NA())","v":{"$error":"#REF!"}},{"$f":"IF(#REF!=$E$1,IF(#REF!=$G$1,#REF!,NA()),NA())","v":{"$error":"#REF!"}},{"$f":"IF(#REF!=$E$1,IF(#REF!=$G$1,IF(#REF!=\"\",NA(),#REF!),NA()),NA())","v":{"$error":"#REF!"}},{"$f":"IF(#REF!=$E$1,IF(#REF!=$G$1,IF(#REF!=\"\",NA(),#REF!),NA()),NA())","v":{"$error":"#REF!"}},{"$error":"#REF!"},{"$error":"#REF!"}]
[null,null,null,{"$f":"IF(#REF!=$E$1,IF(#REF!=$G$1,#REF!,NA()),NA())","v":{"$error":"#REF!"}},{"$f":"IF(#REF!=$E$1,IF(#REF!=$G$1,#REF!,NA()),NA())","v":{"$error":"#REF!"}},{"$f":"IF(#REF!=$E$1,IF(#REF!=$G$1,IF(#REF!=\"\",NA(),#REF!),NA()),NA())","v":{"$error":"#REF!"}},{"$f":"IF(#REF!=$E$1,IF(#REF!=$G$1,IF(#REF!=\"\",NA(),#REF!),NA()),NA())","v":{"$error":"#REF!"}},{"$error":"#REF!"},{"$error":"#REF!"}]
[null,null,null,{"$f":"IF(#REF!=$E$1,IF(#REF!=$G$1,#REF!,NA()),NA())","v":{"$error":"#REF!"}},{"$f":"IF(#REF!=$E$1,IF(#REF!=$G$1,#REF!,NA()),NA())","v":{"$error":"#REF!"}},{"$f":"IF(#REF!=$E$1,IF(#REF!=$G$1,IF(#REF!=\"\",NA(),#REF!),NA()),NA())","v":{"$error":"#REF!"}},{"$f":"IF(#REF!=$E$1,IF(#REF!=$G$1,IF(#REF!=\"\",NA(),#REF!),NA()),NA())","v":{"$error":"#REF!"}},{"$error":"#REF!"},{"$error":"#REF!"}]
[null,null,null,{"$f":"IF(#REF!=$E$1,IF(#REF!=$G$1,#REF!,NA()),NA())","v":{"$error":"#REF!"}},{"$f":"IF(#REF!=$E$1,IF(#REF!=$G$1,#REF!,NA()),NA())","v":{"$error":"#REF!"}},{"$f":"IF(#REF!=$E$1,IF(#REF!=$G$1,IF(#REF!=\"\",NA(),#REF!),NA()),NA())","v":{"$error":"#REF!"}},{"$f":"IF(#REF!=$E$1,IF(#REF!=$G$1,IF(#REF!=\"\",NA(),#REF!),NA()),NA())","v":{"$error":"#REF!"}},{"$error":"#REF!"},{"$error":"#REF!"}]
[null,null,null,{"$f":"IF(#REF!=$E$1,IF(#REF!=$G$1,#REF!,NA()),NA())","v":{"$error":"#REF!"}},{"$f":"IF(#REF!=$E$1,IF(#REF!=$G$1,#REF!,NA()),NA())","v":{"$error":"#REF!"}},{"$f":"IF(#REF!=$E$1,IF(#REF!=$G$1,IF(#REF!=\"\",NA(),#REF!),NA()),NA())","v":{"$error":"#REF!"}},{"$f":"IF(#REF!=$E$1,IF(#REF!=$G$1,IF(#REF!=\"\",NA(),#REF!),NA()),NA())","v":{"$error":"#REF!"}},{"$error":"#REF!"},{"$error":"#REF!"}]
[null,null,null,{"$f":"IF(#REF!=$E$1,IF(#REF!=$G$1,#REF!,NA()),NA())","v":{"$error":"#REF!"}},{"$f":"IF(#REF!=$E$1,IF(#REF!=$G$1,#REF!,NA()),NA())","v":{"$error":"#REF!"}},{"$f":"IF(#REF!=$E$1,IF(#REF!=$G$1,IF(#REF!=\"\",NA(),#REF!),NA()),NA())","v":{"$error":"#REF!"}},{"$f":"IF(#REF!=$E$1,IF(#REF!=$G$1,IF(#REF!=\"\",NA(),#REF!),NA()),NA())","v":{"$error":"#REF!"}},{"$error":"#REF!"},{"$error":"#REF!"}]
[null,null,null,{"$f":"IF(#REF!=$E$1,IF(#REF!=$G$1,#REF!,NA()),NA())","v":{"$error":"#REF!"}},{"$f":"IF(#REF!=$E$1,IF(#REF!=$G$1,#REF!,NA()),NA())","v":{"$error":"#REF!"}},{"$f":"IF(#REF!=$E$1,IF(#REF!=$G$1,IF(#REF!=\"\",NA(),#REF!),NA()),NA())","v":{"$error":"#REF!"}},{"$f":"IF(#REF!=$E$1,IF(#REF!=$G$1,IF(#REF!=\"\",NA(),#REF!),NA()),NA())","v":{"$error":"#REF!"}},{"$error":"#REF!"},{"$error":"#REF!"}]
[null,null,null,{"$f":"IF(#REF!=$E$1,IF(#REF!=$G$1,#REF!,NA()),NA())","v":{"$error":"#REF!"}},{"$f":"IF(#REF!=$E$1,IF(#REF!=$G$1,#REF!,NA()),NA())","v":{"$error":"#REF!"}},{"$f":"IF(#REF!=$E$1,IF(#REF!=$G$1,IF(#REF!=\"\",NA(),#REF!),NA()),NA())","v":{"$error":"#REF!"}},{"$f":"IF(#REF!=$E$1,IF(#REF!=$G$1,IF(#REF!=\"\",NA(),#REF!),NA()),NA())","v":{"$error":"#REF!"}},{"$error":"#REF!"},{"$error":"#REF!"}]
[null,null,null,{"$f":"IF(#REF!=$E$1,IF(#REF!=$G$1,#REF!,NA()),NA())","v":{"$error":"#REF!"}},{"$f":"IF(#REF!=$E$1,IF(#REF!=$G$1,#REF!,NA()),NA())","v":{"$error":"#REF!"}},{"$f":"IF(#REF!=$E$1,IF(#REF!=$G$1,IF(#REF!=\"\",NA(),#REF!),NA()),NA())","v":{"$error":"#REF!"}},{"$f":"IF(#REF!=$E$1,IF(#REF!=$G$1,IF(#REF!=\"\",NA(),#REF!),NA()),NA())","v":{"$error":"#REF!"}},{"$error":"#REF!"},{"$error":"#REF!"}]
[null,null,null,{"$f":"IF(#REF!=$E$1,IF(#REF!=$G$1,#REF!,NA()),NA())","v":{"$error":"#REF!"}},{"$f":"IF(#REF!=$E$1,IF(#REF!=$G$1,#REF!,NA()),NA())","v":{"$error":"#REF!"}},{"$f":"IF(#REF!=$E$1,IF(#REF!=$G$1,IF(#REF!=\"\",NA(),#REF!),NA()),NA())","v":{"$error":"#REF!"}},{"$f":"IF(#REF!=$E$1,IF(#REF!=$G$1,IF(#REF!=\"\",NA(),#REF!),NA()),NA())","v":{"$error":"#REF!"}},{"$error":"#REF!"},{"$error":"#REF!"}]
[null,null,null,{"$f":"IF(#REF!=$E$1,IF(#REF!=$G$1,#REF!,NA()),NA())","v":{"$error":"#REF!"}},{"$f":"IF(#REF!=$E$1,IF(#REF!=$G$1,#REF!,NA()),NA())","v":{"$error":"#REF!"}},{"$f":"IF(#REF!=$E$1,IF(#REF!=$G$1,IF(#REF!=\"\",NA(),#REF!),NA()),NA())","v":{"$error":"#REF!"}},{"$f":"IF(#REF!=$E$1,IF(#REF!=$G$1,IF(#REF!=\"\",NA(),#REF!),NA()),NA())","v":{"$error":"#REF!"}},{"$error":"#REF!"},{"$error":"#REF!"}]
[null,null,null,{"$f":"IF(#REF!=$E$1,IF(#REF!=$G$1,#REF!,NA()),NA())","v":{"$error":"#REF!"}},{"$f":"IF(#REF!=$E$1,IF(#REF!=$G$1,#REF!,NA()),NA())","v":{"$error":"#REF!"}},{"$f":"IF(#REF!=$E$1,IF(#REF!=$G$1,IF(#REF!=\"\",NA(),#REF!),NA()),NA())","v":{"$error":"#REF!"}},{"$f":"IF(#REF!=$E$1,IF(#REF!=$G$1,IF(#REF!=\"\",NA(),#REF!),NA()),NA())","v":{"$error":"#REF!"}},{"$error":"#REF!"},{"$error":"#REF!"}]
[null,null,null,{"$f":"IF(#REF!=$E$1,IF(#REF!=$G$1,#REF!,NA()),NA())","v":{"$error":"#REF!"}},{"$f":"IF(#REF!=$E$1,IF(#REF!=$G$1,#REF!,NA()),NA())","v":{"$error":"#REF!"}},{"$f":"IF(#REF!=$E$1,IF(#REF!=$G$1,IF(#REF!=\"\",NA(),#REF!),NA()),NA())","v":{"$error":"#REF!"}},{"$f":"IF(#REF!=$E$1,IF(#REF!=$G$1,IF(#REF!=\"\",NA(),#REF!),NA()),NA())","v":{"$error":"#REF!"}},{"$error":"#REF!"},{"$error":"#REF!"}]
[null,null,null,{"$f":"IF(#REF!=$E$1,IF(#REF!=$G$1,#REF!,NA()),NA())","v":{"$error":"#REF!"}},{"$f":"IF(#REF!=$E$1,IF(#REF!=$G$1,#REF!,NA()),NA())","v":{"$error":"#REF!"}},{"$f":"IF(#REF!=$E$1,IF(#REF!=$G$1,IF(#REF!=\"\",NA(),#REF!),NA()),NA())","v":{"$error":"#REF!"}},{"$f":"IF(#REF!=$E$1,IF(#REF!=$G$1,IF(#REF!=\"\",NA(),#REF!),NA()),NA())","v":{"$error":"#REF!"}},{"$error":"#REF!"},{"$error":"#REF!"}]