Workbook

Sheet ①様式第5号
A1: 様式第５号（第9条関係） | K1: 様式第５号（第9条関係）
A3: コンベンション開催助成金等実績報告書兼助成金交付請求書 | K3: コンベンション開催助成金等実績報告書兼助成金交付請求書
J5: 令和 年 月 日 | T5: 令和 年 月 日
A6: 公益社団法人 福井県観光連盟 会長 様 | K6: 公益社団法人 福井県観光連盟 会長 様
D8: （申請者／主催団体） | N8: （申請者／主催団体）
C9: 名 称 | M9: 名 称 | O9: 第○○回 全国○○○○大会実行委員会
C10: 所 在 地 | E10: 〒 - | M10: 所 在 地 | O10: 〒910-0004
O11: 福井市宝永2丁目4-10 福井県宝永分庁舎2F
C13: 代表者役職氏名 | M13: 代表者役職氏名 | O13: 実行委員長 福井 太郎
C14: 発 行 責 任 者 | E14: 所属 | M14: 発 行 責 任 者 | O14: 所属 | P14: （一社）○○○○学会事務局
E15: 氏名 | O15: 氏名 | P15: 福井 次郎
E16: TEL | F16: ( ) - | O16: TEL | P16: (0776)23-0181
C17: 連 絡 先 担 当 者 | E17: 所属 | M17: 連 絡 先 担 当 者 | O17: 所属 | P17: （一社）○○○○学会事務局
E18: 氏名 | O18: 氏名 | P18: 福井 花子
E19: 連絡先住所 | F19: 〒 - | O19: 連絡先住所 | P19: 〒910-0004
O20: 福井市宝永2丁目4-10 福井県宝永分庁舎2F
E21: TEL：( ) - FAX：( ) - | O21: TEL：(0776)23-0181 FAX：(0776)23 -3715
A23: 令和 年 月 日付け福観連第 号で通知のありましたコンベンションが終了しましたので、下記のとおり実績を報告し、助成金の交付を請求します。 | K23: 令和○年○月○○日付け福観連第○○○号で通知のありましたコンベンションが終了しましたので、下記のとおり実績を報告し、助成金の交付を請求します。
A24: コンベンション名 | K24: コンベンション名 | L24: 第○○回 全国○○○○大会
A25: 開 催 期 間 | B25: 令和 年 月 日（ ） ～ 月 日（ ） | K25: 開 催 期 間 | L25: 令和○年10月28日（火） ～ 10月31日（金）
A26: 開 催 場 所 | B26: 【市町名／会場名】（※開催場所が複数の場合は、全て記載） | K26: 開 催 場 所 | L26: 【市町名／会場名】（※開催場所が複数の場合は、全て記載）
B27: ・市町 | L27: ・市町 | M27: 福井市／あわら市
B28: ・会場 | L28: ・会場 | M28: フェニックス・プラザ、福井県国際交流会館、グランディア芳泉
A29: 開 催 規 模 | B29: ［ ］国際 | E29: ［ ］全国 | G29: ［ ］ブロック | K29: 開 催 規 模 | L29: ［ ○ ］国際 | N29: ［ ］全国 | P29: ［ ］ブロック
A30: （項目に○印） | K30: （項目に○印）
A31: 参 加 者 数 | B31: 参加者総数 | E31: うち 県外参加者（国内） | J31: 人 ① | K31: 参 加 者 数 | L31: 参加者総数 | O31: うち 県外参加者（国内） | S31: 480 | T31: 人 ①
D32: 人 | E32: 海外参加者 | J32: 人 ② | L32: 1200 | N32: 人 | O32: 海外参加者 | S32: 20 | T32: 人 ②
B33: (うち現地参加者数 人) | E33: 県外・海外からの参加者【①＋②】 | I33: =I31+I32 -> 0 | J33: 人 | L33: (うち現地参加者数1,000人) | O33: 県外・海外からの参加者【①＋②】 | S33: =S31+S32 -> 500 | T33: 人
A34: 県 内 宿 泊 者 数 | B34: 県外参加者(国内)の宿泊者数 | E34: 県外参加者（国内）の県内延べ宿泊人数 | I34: =④様式第5号添付2!F7 -> 0 | J34: 人泊⑤ | K34: 県 内 宿 泊 者 数 | L34: 県外参加者(国内)の宿泊者数 | O34: 県外参加者（国内）の県内延べ宿泊人数 | S34: 1440 | T34: 人泊⑤
D35: 人③ | E35: うち開催市町での延べ宿泊人数 ※開催市町での宿泊に対する加算を希望する場合のみ記入 | I35: =④様式第5号添付2!F8+④様式第5号添付2!F9 -> 0 | J35: 人泊⑥ | L35: 480 | N35: 人③ | O35: うち開催市町での延べ宿泊人数 ※開催市町での宿泊に対する加算を希望する場合のみ記入 | S35: 1440 | T35: 人泊⑥
B37: 海外参加者の宿泊者数 | E37: 海外参加者の県内延べ宿泊人数 | I37: =④様式第5号添付2!F14 -> 0 | J37: 人泊⑦ | L37: 海外参加者の宿泊者数 | O37: 海外参加者の県内延べ宿泊人数 | S37: 60 | T37: 人泊⑦
D38: 人④ | E38: うち開催市町での延べ宿泊人数 ※開催市町での宿泊に対する加算を希望する場合のみ記入 | I38: =④様式第5号添付2!F15+④様式第5号添付2!F16 -> 0 | J38: 人泊⑧ | L38: 20 | N38: 人④ | O38: うち開催市町での延べ宿泊人数 ※開催市町での宿泊に対する加算を希望する場合のみ記入 | S38: 60 | T38: 人泊⑧
B40: 宿泊者数【③＋④】 | E40: 県外・海外参加者延べ宿泊人数【⑤＋⑦】 | I40: =SUM(I34,I37) -> 0 | J40: 人泊⑨ | L40: 宿泊者数【③＋④】 | O40: 県外・海外参加者延べ宿泊人数【⑤＋⑦】 | S40: =SUM(S34,S37) -> 1500 | T40: 人泊⑨
B41: =B35+B38 -> 0 | D41: 人 | E41: うち開催市町での延べ宿泊人数【⑥＋⑧】 | I41: =SUM(I35,I38) -> 0 | J41: 人泊⑩ | L41: =L35+L38 -> 500 | N41: 人 | O41: うち開催市町での延べ宿泊人数【⑥＋⑧】 | S41: =SUM(S35,S38) -> 1500 | T41: 人泊⑩
A42: 助 成 金 請 求 額 | B42: =②様式第5号別紙1!G48 -> 0 | E42: 開 催 経 費 額 | G42: ='(修正）③様式第5号添付1'!B25 -> 0 | K42: 助 成 金 請 求 額 | L42: 金4,290,000円 | O42: 開 催 経 費 額 | Q42: 金10,140,000円
B43: （別紙1内訳の合計額） | G43: (様式第5号添付1コンベンション開催収支予算書の合計額) | L43: （別紙1内訳の合計額） | Q43: (様式第5号添付1コンベンション開催収支予算書の合計額)
A44: 振 込 先 ※ | B44: 口座名義(個人名義は指定できません) | F44: 金融機関名 | H44: 種別 | I44: 口座番号 | K44: 振 込 先 ※ | L44: 口座名義(個人名義は指定できません) | P44: 金融機関名 | R44: 種別 | S44: 口座番号
G45: 銀行 | L45: ﾀﾞｲ○○ｶｲｾﾞﾝｺｸ○○○○ﾀｲｶｲｼﾞﾂｺｳｲｲﾝｶｲ 第○○回 全国○○○○大会実行委員会 | P45: ○○ | Q45: 銀行 | R45: 普通 | S45: 1234567
G47: 支店 | P47: ○○ | Q47: 支店
A49: 【添付書類】 １ コンベンション開催収支決算報告書（または決算見込書） | K49: 【添付書類】 １ コンベンション開催収支決算報告書（または決算見込書）
...

Sheet ②様式第5号別紙1
A1: 様式第5号別紙1 | I1: 様式第5号別紙1
A2: 請求助成金等内訳書 | I2: 請求助成金等内訳書
A4: 開催助成金 | C4: 県外参加者の延べ宿泊数 | G4: 助成金額 | I4: 開催助成金 | K4: 県外参加者の延べ宿泊数 | O4: 助成金額
B5: 県内宿泊に対する 基本助成 | C5: 【申請書⑨】 | D5: =①様式第5号!I40 -> 0 | F5: 人泊 | H5: 円 | J5: 県内宿泊に対する 基本助成 | K5: 【申請書⑨】 | L5: 1500 | N5: 人泊 | O5: 1500000 | P5: 円
H7: ※上限450万円 | P7: ※上限450万円
B8: 開催市町での宿泊に 対する加算 | C8: 【申請書⑩】 | D8: =①様式第5号!I41 -> 0 | F8: 人泊 | H8: 円 | J8: 開催市町での宿泊に 対する加算 | K8: 【申請書⑩】 | L8: 1500 | N8: 人泊 | O8: 1500000 | P8: 円
H10: ※上限450万円 | P10: ※上限450万円
B11: 合計 | G11: =SUM(G5,G8) -> 0 | H11: 円ⓐ | J11: 合計 | O11: =SUM(O5,O8) -> 3000000 | P11: 円ⓐ
A13: 国際コンベンション助成金 | C13: 海外参加者の延べ宿泊数 | G13: 助成金額 | I13: 国際コンベンション助成金 | K13: 海外参加者の延べ宿泊数 | O13: 助成金額
B14: 県内宿泊に対する 基本助成 | C14: 【申請書⑦】 | D14: =①様式第5号!I37 -> 0 | F14: 人泊 | H14: 円 | J14: 県内宿泊に対する 基本助成 | K14: 【申請書⑦】 | L14: 60 | N14: 人泊 | O14: 300000 | P14: 円
H16: ※上限150万円 | P16: ※上限150万円
B17: 開催市町での宿泊に 対する加算 | C17: 【申請書⑧】 | D17: =①様式第5号!I38 -> 0 | F17: 人泊 | H17: 円 | J17: 開催市町での宿泊に 対する加算 | K17: 【申請書⑧】 | L17: 60 | N17: 人泊 | O17: 300000 | P17: 円
H19: ※上限150万円 | P19: ※上限150万円
B20: 合計 | G20: =G14+G17 -> 0 | H20: 円ⓑ | J20: 合計 | O20: =O14+O17 -> 600000 | P20: 円ⓑ
A22: アトラクション助成金（注1） | C22: 開催市町 | G22: 助成金額 | I22: アトラクション助成金（注1） | K22: 開催市町 | O22: 助成金額
H23: 円ⓒ | P23: 円©
H25: ※上限5万円 | P25: ※上限5万円
A27: シャトル便運行助成金（注1） | C27: 開催市町 | E27: 宿泊市町 | G27: 助成金額 | I27: シャトル便運行助成金（注1） | K27: 開催市町 | M27: 宿泊市町 | O27: 助成金額
H28: 円ⓓ | K28: 福井市 | M28: 福井市 | O28: 90000 | P28: 円ⓓ
H30: ※上限10万円 | P30: ※上限10万円
A32: エクスカーション助成金（注1） | C32: 立寄り市町 | G32: 助成金額 | I32: エクスカーション助成金（注1） | K32: 立寄り市町 | O32: 助成金額
H33: 円ⓔ | K33: 永平寺町、勝山市、鯖江市 | O33: 200000 | P33: 円ⓔ
H35: ※上限20万円 | P35: ※上限20万円
A37: 大規模コンベンション加算 ※2つ以上の会場で開催する場合のみ | C37: 現地参加者数 | G37: 助成金額 | I37: 大規模コンベンション加算 ※2つ以上の会場で開催する場合のみ | K37: 現地参加者数 | O37: 助成金額
C38: ※現地参加者1,000人以上の場合 | H38: 円ⓕ | K38: ※現地参加者1,000人以上の場合 | O38: 400000 | P38: 円ⓕ
F39: 人 | K39: 1000 | N39: 人
H40: ※上限100万円 | P40: ※上限100万円
A42: 嶺南特別加算 ※対象となる場合のみ | B42: 開催助成金加算 | C42: 【ⓐ×1/2】 | D42: ※嶺南地域で開催宿泊する場合 | H42: 円 | I42: 嶺南特別加算 ※対象となる場合のみ | J42: 開催助成金加算 | K42: 【ⓐ×1/2】 | L42: ※嶺南地域で開催宿泊する場合 | P42: 円
D43: ※上限25万円 | L43: ※上限25万円
B44: エクスカーション助成金加算 | C44: 【ⓔ×1/2】 | D44: ※視察先に嶺南地域を含む場合 | H44: 円 | J44: エクスカーション助成金加算 | K44: 【ⓔ×1/2】 | L44: ※視察先に嶺南地域を含む場合 | P44: 円
D45: ※上限10万円 | L45: ※上限10万円
B46: 合計 | G46: =SUM(G42,G44) -> 0 | H46: 円ⓖ | J46: 合計 | O46: =SUM(O42,O44) -> 0 | P46: 円ⓕ
A48: 助成金額合計【ⓐ＋ⓑ＋ⓒ＋ⓓ＋ⓔ＋ⓕ+ⓖ】 | G48: =SUM(G11,G20,G23,G28,G33,G38,G46) -> 0 | H48: 円 | I48: 助成金額合計【ⓐ＋ⓑ＋©＋ⓓ＋ⓔ＋ⓕ】 | O48: =SUM(O11,O20,O23,O28,O33,O38,O46) -> 4290000 | P48: 円
A51: 注１）アトラクション助成金・シャトル便運行助成金・エクスカーション助成金を請求される場合は、各助成金の実績報告書 および収支決算報告書が別途必要です。 | I51: 注1）アトラクション助成金・シャトル便運行助成金・エクスカーション助成金を請求される場合は、各助成金の実績報告書 および収支決算報告書が別途必要です。
A53: 【添付書類】 １ コンベンション開催収支決算報告書（または決算見込書）（様式第５号添付１） | I53: 【添付書類】 １ コンベンション開催収支決算報告書（または決算見込書）（様式第５号添付１）
A54: ２ １に記載した金額を支出したことおよび内容が確認できるもの（領収書の写しなど） | I54: ２ １に記載した金額を支出したことおよび内容が確認できるもの（領収書の写しなど）
A55: ３ 宿泊実績報告書（様式第５号添付２）、参加者名簿（様式第５号添付３） | I55: ３ 宿泊実績報告書（様式第５号添付２）、参加者名簿（様式第５号添付３）
A56: ４ その他必要な書類（振込先口座の通帳の写し、開催状況を示す写真（3～4枚）、主催者アンケート、開催パンフ等） | I56: ４ その他必要な書類（振込先口座の通帳の写し、主催者アンケート、開催パンフ等）

Sheet ★別表2、別表3
A1: 別表2
A2: コンベンション開催助成金 | E2: 国際コンベンション助成金 | I2: 別表3
A3: 県外参加者の 延べ宿泊数 | B3: 県内宿泊に対する 基本助成 | C3: 開催市町での宿泊 に対する加算 | E3: 海外参加者の 延べ宿泊数 | F3: 県内宿泊に対する 基本助成 | G3: 開催市町での宿泊 に対する加算 | I3: 現地参加者の数 | J3: 加算額
I4: 1,000人から1,999人まで | J4: 40万円
A5: ※ 25～ 49人泊 | B5: 2.5万円 | C5: 2.5万円 | E5: 10～ 19人泊 | F5: 5万円 | G5: 5万円 | I5: 2,000人から2,999人まで | J5: 60万円
A6: 50～ 99人泊 | B6: 5万円 | C6: 5万円 | E6: 20～ 29人泊 | F6: 10万円 | G6: 10万円 | I6: 3,000人から3,999人まで | J6: 80万円
A7: 100～ 149人泊 | B7: 10万円 | C7: 10万円 | E7: 30～ 39人泊 | F7: 15万円 | G7: 15万円 | I7: 4,000人以上 | J7: 100万円
A8: 150～ 199人泊 | B8: 15万円 | C8: 15万円 | E8: 40～ 49人泊 | F8: 20万円 | G8: 20万円
A9: 200～ 249人泊 | B9: 20万円 | C9: 20万円 | E9: 50～ 59人泊 | F9: 25万円 | G9: 25万円
A10: 250～ 299人泊 | B10: 25万円 | C10: 25万円 | E10: 60～ 69人泊 | F10: 30万円 | G10: 30万円
A11: 300～ 399人泊 | B11: 30万円 | C11: 30万円 | E11: 70～ 79人泊 | F11: 35万円 | G11: 35万円
A12: 400～ 499人泊 | B12: 40万円 | C12: 40万円 | E12: 80～ 89人泊 | F12: 40万円 | G12: 40万円
A13: 500～ 599人泊 | B13: 50万円 | C13: 50万円 | E13: 90～ 99人泊 | F13: 45万円 | G13: 45万円
A14: 600～ 699人泊 | B14: 60万円 | C14: 60万円 | E14: 100～109人泊 | F14: 50万円 | G14: 50万円
A15: 700～ 799人泊 | B15: 70万円 | C15: 70万円 | E15: 110～119人泊 | F15: 55万円 | G15: 55万円
A16: 800～ 899人泊 | B16: 80万円 | C16: 80万円 | E16: 120～129人泊 | F16: 60万円 | G16: 60万円
A17: 900～ 999人泊 | B17: 90万円 | C17: 90万円 | E17: 130～139人泊 | F17: 65万円 | G17: 65万円
A18: 1,000～1,099人泊 | B18: 100万円 | C18: 100万円 | E18: 140～149人泊 | F18: 70万円 | G18: 70万円
A19: 1,100～1,199人泊 | B19: 110万円 | C19: 110万円 | E19: 150～159人泊 | F19: 75万円 | G19: 75万円
... A34: 2,600～2,699人泊 | B34: 260万円 | C34: 260万円 | E34: 300人泊以上 | F34: 150万円 | G34: 150万円
A35: 2,700～2,799人泊 | B35: 270万円 | C35: 270万円
A36: 2,800～2,899人泊 | B36: 280万円 | C36: 280万円
A37: 2,900～2,999人泊 | B37: 290万円 | C37: 290万円
A38: 3,000～3,099人泊 | B38: 300万円 | C38: 300万円
A39: 3,100～3,199人泊 | B39: 310万円 | C39: 310万円
A40: 3,200～3,299人泊 | B40: 320万円 | C40: 320万円
A41: 3,300～3,399人泊 | B41: 330万円 | C41: 330万円
A42: 3,400～3,499人泊 | B42: 340万円 | C42: 340万円
A43: 3,500～3,599人泊 | B43: 350万円 | C43: 350万円
A44: 3,600～3,699人泊 | B44: 360万円 | C44: 360万円
A45: 3,700～3,799人泊 | B45: 370万円 | C45: 370万円
A46: 3,800～3,899人泊 | B46: 380万円 | C46: 380万円
... A53: 4,500人泊以上 | B53: 450万円 | C53: 450万円
A54: ※ 学会に限る

Sheet 様式第5号別紙2(海外送金の場合)
A1: 様式第5号別紙2
A2: 請求助成金等振込先（海外送金用）
A4: 1 | B4: 受取人名 NAME of ACCOUNT HOLDER
A5: 2 | B5: 受取人住所 ADDRESS of ACCOUNT HOLDER
A6: 3 | B6: 振込先銀行名 BANK NAME
A7: 4 | B7: 支店名 BRANCH NAME
A8: 5 | B8: スウィフトコード SWIFT CODE
A9: 6 | B9: 銀行(支店)住所 BANK(BRANCH) ADDRESS
A10: 7 | B10: 口座番号 ACCOUNT NUMBER
A11: ※海外送金の場合は、英語で記載してください。

Sheet (修正）③様式第5号添付1
A1: 様式第５号添付１ | F1: 様式第５号添付１
A2: コンベンション開催収支決算報告書 | B2: [ｺﾝﾍﾞﾝｼｮﾝ開催助成金交付申請書（様式第１号）添付書類] | D2: [ｺﾝﾍﾞﾝｼｮﾝ開催助成金交付申請書（様式第１号）添付書類] | F2: コンベンション開催収支決算報告書 | G2: [ｺﾝﾍﾞﾝｼｮﾝ開催助成金交付申請書（様式第１号）添付書類] | I2: [ｺﾝﾍﾞﾝｼｮﾝ開催助成金交付申請書（様式第１号）添付書類]
A4: （収入の部） | D4: 単位：円 | F4: （収入の部） | I4: 単位：円
A5: 費 目 | B5: 金 額 | D5: 説 明（算出基礎等） | F5: 費 目 | G5: 金 額 | I5: 説 明（算出基礎等）
A6: 助成金 | B6: =②様式第5号別紙1!G48 -> 0 | D6: 公益社団法人 福井県観光連盟（すべての助成金の合計） | F6: 助成金 | H6: =#REF! -> #REF! | I6: 公益社団法人 福井県観光連盟（すべての助成金の合計）
A7: 寄付金・協賛金等 | F7: 寄付金・協賛金等 | H7: 1500000 | I7: 5,000円×30件
A8: 広告料 | F8: 広告料 | H8: 150000 | I8: 10社
A9: 参加費 | F9: 参加費 | H9: 4200000 | I9: 10,000円×300人 6,000円×200人
A10: 主催者負担 | F10: 主催者負担
A11: その他 | F11: その他
A13: 合 計 | B13: =SUM(B6:B12) -> 0 | F13: 合 計 | H13: =SUM(H6:H12) -> #REF!
A15: （支出の部） | D15: 単位：円 | F15: （支出の部） | I15: 単位：円
A16: 費 目 | B16: 金 額（※1） | D16: 説 明 （算出基礎等） | E16: 主催者が支払う支出のみ対象 | F16: 費 目 | G16: 金 額（※1） | I16: 説 明 （算出基礎等）
C17: うち県内支出（※2） | H17: うち県内支出（※2）
A18: 接遇関係費 | B18: ='(新規）県外支出領収書 '!B5+C18 -> 0 | C18: ='(新規）県内支出領収書'!B5 -> 0 | E18: 来賓・講師等関係費用（謝礼・宿泊費・交通費） | F18: 接遇関係費
A19: 懇親会費・飲食費 | B19: ='(新規）県外支出領収書 '!C5+C19 -> 0 | C19: ='(新規）県内支出領収書'!C5 -> 0 | E19: 懇親会、昼食費、弁当代 | F19: 懇親会費・飲食費
A20: 会場費・会場設営費 | B20: ='(新規）県外支出領収書 '!D5+C20 -> 0 | C20: ='(新規）県内支出領収書'!D5 -> 0 | E20: 会場借上費、会場設備工事費、 機材レンタル費 | F20: 会場費・会場設営費
A21: 事務局費 | B21: ='(新規）県外支出領収書 '!E5+C21 -> 0 | C21: ='(新規）県内支出領収書'!E5 -> 0 | E21: 事務局関係者宿泊費・交通費、 印刷製本費、土産・買物費、輸送費、臨時雇用費、その他 | F21: 事務局費
A22: アトラクション費 | B22: ='(新規）県外支出領収書 '!F5+C22 -> 0 | C22: ='(新規）県内支出領収書'!F5 -> 0 | D22: オプション申請書の支出額を計上 | F22: アトラクション費 | I22: オプション申請書の支出額を計上
A23: シャトル便運行費 | B23: ='(新規）県外支出領収書 '!G5+C23 -> 0 | C23: ='(新規）県内支出領収書'!G5 -> 0 | D23: オプション申請書の支出額を計上 | F23: シャトル便運行費 | I23: オプション申請書の支出額を計上
A24: エクスカーション費 | B24: ='(新規）県外支出領収書 '!H5+C24 -> 0 | C24: ='(新規）県内支出領収書'!H5 -> 0 | D24: オプション申請書の支出額を計上 | F24: エクスカーション費 | I24: オプション申請書の支出額を計上
A25: 合 計 | B25: =SUM(B18:B24) -> 0 | C25: =SUM(C18:C24) -> 0 | F25: 合 計 | G25: =SUM(G18:G24) -> 0 | H25: =SUM(H18:H24) -> 0
A27: ※１ 金額の内訳の分かる書類（領収証のコピー等）を添付してください。 | F27: ※１ 金額の内訳の分かる書類（領収証のコピー等）を添付してください。
A28: ※２ 支出金額のうち福井県内の業者等に支払った費用をご記入ください。 | F28: ※２ 支出金額のうち福井県内の業者等に支払った費用をご記入ください。

Sheet (新規）県内支出領収書
A1: 様式第5号添付１ コンベンション開催収支決算報告書関係
A2: 県内支出 領収書一覧
A3: ・県内支出分の領収書のみ登録ください。 ・領収書にナンバリングし、１行につき１枚の領収書の金額を入力ください。（振込手数料も含む）
A4: 領収書 №. | B4: 接遇関係費 | C4: 懇親会費・ 飲食費 | D4: 会場費・ 会場設営費 | E4: 事務局費 | F4: アトラク ション費 | G4: シャトル便 運行費 | H4: エクスカー ション費 | I4: 参考
A5: 合計 | B5: =SUM(B6:B105) -> 0 | C5: =SUM(C6:C105) -> 0 | D5: =SUM(D6:D105) -> 0 | E5: =SUM(E6:E105) -> 0 | F5: =SUM(F6:F105) -> 0 | G5: =SUM(G6:G105) -> 0 | H5: =SUM(H6:H105) -> 0
A6: 1
A7: 2
A8: 3
A9: 4
A10: 5
A11: 6
A12: 7
A13: 8
A14: 9
A15: 10
A16: 11
A17: 12
... A105: 100

Sheet (新規）県外支出領収書 
A1: 様式第５号添付１ コンベンション開催収支決算報告書関係
A2: 県外支出 領収書一覧
A3: ・県外支出分の領収書のみ登録ください。 ・領収書にナンバリングし、１行につき１枚の領収書の金額を入力ください。 （振込手数料も含む）
A4: 領収書 №. | B4: 接遇関係費 | C4: 懇親会費・ 飲食費 | D4: 会場費・ 会場設営費 | E4: 事務局費 | F4: アトラク ション費 | G4: シャトル便 運行費 | H4: エクスカー ション費 | I4: 参考
A5: 合計 | B5: =SUM(B6:B105) -> 0 | C5: =SUM(C6:C105) -> 0 | D5: =SUM(D6:D105) -> 0 | E5: =SUM(E6:E105) -> 0 | F5: =SUM(F6:F105) -> 0 | G5: =SUM(G6:G105) -> 0 | H5: =SUM(H6:H105) -> 0
A6: 1
A7: 2
A8: 3
A9: 4
A10: 5
A11: 6
A12: 7
A13: 8
A14: 9
A15: 10
A16: 11
A17: 12
... A105: 100

Sheet ④様式第5号添付2
A1: 様式第５号添付2 | G1: 様式第5号添付2
A2: 宿泊実績報告書 | G2: 宿泊実績報告書
A4: 県外参加者（国内） | F4: （単位：人泊） | G4: 県外参加者（国内） | L4: （単位：人泊）
B5: 宿泊日 | F5: 合計 | H5: 宿 泊 日 | L5: 合計
B6: 月 日 | C6: 月 日 | D6: 月 日 | E6: 月 日 | H6: 10月28日 | I6: 10月29日 | J6: 10月30日 | K6: 月 日
A7: 県内宿泊 | F7: =SUM(B7:E7) -> 0 | G7: 県内宿泊 | H7: 480 | I7: 480 | J7: 480 | L7: =SUM(H7:K7) -> 1440
A8: うち開催市町宿泊 （ ） | F8: =SUM(B8:E8) -> 0 | G8: うち開催市町宿泊 （ 福井市 ） | H8: 400 | I8: 400 | J8: 400 | L8: =SUM(H8:K8) -> 1200
A9: （ ） | F9: =SUM(B9:E9) -> 0 | G9: （ あわら市 ） | H9: 80 | I9: 80 | J9: 80 | L9: =SUM(H9:K9) -> 240
A11: 海外参加者 | F11: （単位：人泊） | G11: 海外参加者 | L11: （単位：人泊）
B12: 宿泊日 | F12: 合計 | H12: 宿 泊 日 | L12: 合計
B13: 月 日 | C13: 月 日 | D13: 月 日 | E13: 月 日 | H13: 10月28日 | I13: 10月29日 | J13: 10月30日 | K13: 月 日
A14: 県内宿泊 | F14: =SUM(B14:E14) -> 0 | G14: 県内宿泊 | H14: 20 | I14: 20 | J14: 20 | L14: =SUM(H14:K14) -> 60
A15: うち開催市町宿泊 （ ） | F15: =SUM(B15,C15,D15,E15) -> 0 | G15: うち開催市町宿泊 （ 福井市 ） | H15: 10 | I15: 10 | J15: 10 | L15: =SUM(H15:K15) -> 30
A16: （ ） | F16: =SUM(B16,C16,D16,E16) -> 0 | G16: （ あわら市 ） | H16: 10 | I16: 10 | J16: 10 | L16: =SUM(H16:K16) -> 30
A17: ※ 前泊、後泊は開催助成金、国際コンベンション助成金の対象外です。 例：10月1日～2日開催の場合は、10月1日の宿泊のみが対象です。
G18: ※ 前泊、後泊は開催助成金、国際コンベンション助成金の対象外です。
A19: ※ 本報告書には、対象となる宿泊のみ記載してください。 | G19: 例：10月1日～2日開催の場合は、10月1日の宿泊のみが対象です。
G21: ※ 本報告書には、対象となる宿泊のみ記載してください。

Sheet （修正）⑤様式第5号添付3（県外参加者） 
A1: 様式第５号添付3
A2: コンベンション参加者名簿（県外参加者）
A4: 番号 | B4: 区分 | C4: 居住地 （県名） | D4: 氏 名 | E4: 宿泊日
E5: 月 日 | F5: 月 日 | G5: 月 日 | H5: 月 日
A6: 1 | B6: 県外 | K6: 福井市 | L6: 北海道
A7: 2 | B7: 県外 | K7: 敦賀市 | L7: 青森県
A8: 3 | B8: 県外 | K8: 小浜市 | L8: 岩手県
A9: 4 | B9: 県外 | K9: 勝山市 | L9: 宮城県
A10: 5 | B10: 県外 | K10: 鯖江市 | L10: 秋田県
A11: 6 | B11: 県外 | K11: あわら市 | L11: 山形県
A12: 7 | B12: 県外 | K12: 越前市 | L12: 福島県
A13: 8 | B13: 県外 | K13: 坂井市 | L13: 茨城県
A14: 9 | B14: 県外 | K14: 永平寺町 | L14: 栃木県
A15: 10 | B15: 県外 | K15: 南越前町 | L15: 群馬県
A16: 11 | B16: 県外 | K16: 越前町 | L16: 埼玉県
A17: 12 | B17: 県外 | K17: 美浜町 | L17: 千葉県
... A21: 16 | B21: 県外 | K21: 県外 | L21: 富山県
A22: 17 | B22: 県外 | L22: 石川県
A23: 18 | B23: 県外 | L23: 山梨県
A24: 19 | B24: 県外 | L24: 長野県
A25: 20 | B25: 県外 | L25: 岐阜県
A26: 21 | B26: 県外 | L26: 静岡県
A27: 22 | B27: 県外 | L27: 愛知県
A28: 23 | B28: 県外 | L28: 三重県
A29: 24 | B29: 県外 | L29: 滋賀県
A30: 25 | B30: 県外 | L30: 京都府
A31: 26 | B31: 県外 | L31: 大阪府
A32: 27 | B32: 県外 | L32: 兵庫県
A33: 28 | B33: 県外 | L33: 奈良県
... A40: 35 | B40: 県外 | L40: 徳島県
B41: 県外
B42: 県外
B43: 県外
B44: 県外
D45: 宿泊合計（県外参加者） | E45: =COUNTA(E6:E44) -> 0 | F45: =COUNTA(F6:F44) -> 0 | G45: =COUNTA(G6:G44) -> 0 | H45: =COUNTA(H6:H44) -> 0
D46: 福井市 | E46: =COUNTIF(E6:E44,$D$46) -> 0 | F46: =COUNTIF(F6:F44,$D$46) -> 0 | G46: =COUNTIF(G6:G44,$D$46) -> 0 | H46: =COUNTIF(H6:H44,$D$46) -> 0
D47: 敦賀市 | E47: =COUNTIF(E6:E44,$D$47) -> 0 | F47: =COUNTIF(F6:F44,$D$47) -> 0 | G47: =COUNTIF(G6:G44,$D$47) -> 0 | H47: =COUNTIF(H6:H44,$D$47) -> 0
D48: 小浜市 | E48: =COUNTIF(E6:E44,$D$48) -> 0 | F48: =COUNTIF(F6:F44,$D$48) -> 0 | G48: =COUNTIF(G6:G44,$D$48) -> 0 | H48: =COUNTIF(H6:H44,$D$48) -> 0
D49: 勝山市 | E49: =COUNTIF(E6:E44,$D$49) -> 0 | F49: =COUNTIF(F6:F44,$D$49) -> 0 | G49: =COUNTIF(G6:G44,$D$49) -> 0 | H49: =COUNTIF(H6:H44,$D$49) -> 0
D50: 鯖江市 | E50: =COUNTIF(E6:E44,$D$50) -> 0 | F50: =COUNTIF(F6:F44,$D$50) -> 0 | G50: =COUNTIF(G6:G44,$D$50) -> 0 | H50: =COUNTIF(H6:H44,$D$50) -> 0
...

Sheet (修正）⑤様式第5号添付3（海外参加者）
A1: 様式第５号添付3
A2: コンベンション参加者名簿（海外参加者）
A4: 番号 | B4: 区分 | C4: 居住地 （国名） | D4: 氏 名 | E4: 宿泊日
E5: 月 日 | F5: 月 日 | G5: 月 日 | H5: 月 日
A6: 1 | B6: 海外 | K6: 福井市
A7: 2 | B7: 海外 | K7: 敦賀市
A8: 3 | B8: 海外 | K8: 小浜市
A9: 4 | B9: 海外 | K9: 勝山市
A10: 5 | B10: 海外 | K10: 鯖江市
A11: 6 | B11: 海外 | K11: あわら市
A12: 7 | B12: 海外 | K12: 越前市
A13: 8 | B13: 海外 | K13: 坂井市
A14: 9 | B14: 海外 | K14: 永平寺町
A15: 10 | B15: 海外 | K15: 南越前町
A16: 11 | B16: 海外 | K16: 越前町
A17: 12 | B17: 海外 | K17: 美浜町
... A21: 16 | B21: 海外 | K21: 県外
A22: 17 | B22: 海外
A23: 18 | B23: 海外
A24: 19 | B24: 海外
A25: 20 | B25: 海外
A26: 21 | B26: 海外
A27: 22 | B27: 海外
A28: 23 | B28: 海外
A29: 24 | B29: 海外
A30: 25 | B30: 海外
A31: 26 | B31: 海外
A32: 27 | B32: 海外
A33: 28 | B33: 海外
... A40: 35 | B40: 海外
B41: 海外
B42: 海外
B43: 海外
B44: 海外
D45: 宿泊合計（海外参加者） | E45: =COUNTA(E6:E44) -> 0 | F45: =COUNTA(F6:F44) -> 0 | G45: =COUNTA(G6:G44) -> 0 | H45: =COUNTA(H6:H44) -> 0
D46: 福井市 | E46: =COUNTIF(E6:E44,$D$46) -> 0 | F46: =COUNTIF(F6:F44,$D$46) -> 0 | G46: =COUNTIF(G6:G44,$D$46) -> 0 | H46: =COUNTIF(H6:H44,$D$46) -> 0
D47: 敦賀市 | E47: =COUNTIF(E6:E44,$D$47) -> 0 | F47: =COUNTIF(F6:F44,$D$47) -> 0 | G47: =COUNTIF(G6:G44,$D$47) -> 0 | H47: =COUNTIF(H6:H44,$D$47) -> 0
D48: 小浜市 | E48: =COUNTIF(E6:E44,$D$48) -> 0 | F48: =COUNTIF(F6:F44,$D$48) -> 0 | G48: =COUNTIF(G6:G44,$D$48) -> 0 | H48: =COUNTIF(H6:H44,$D$48) -> 0
D49: 勝山市 | E49: =COUNTIF(E6:E44,$D$49) -> 0 | F49: =COUNTIF(F6:F44,$D$49) -> 0 | G49: =COUNTIF(G6:G44,$D$49) -> 0 | H49: =COUNTIF(H6:H44,$D$49) -> 0
D50: 鯖江市 | E50: =COUNTIF(E6:E44,$D$50) -> 0 | F50: =COUNTIF(F6:F44,$D$50) -> 0 | G50: =COUNTIF(G6:G44,$D$50) -> 0 | H50: =COUNTIF(H6:H44,$D$50) -> 0
...

Sheet (修正）⑤様式第5号添付3（県内参加者）
A1: 様式第５号添付3
A2: コンベンション参加者名簿（県内参加者）
A4: 番号 | B4: 区分 | C4: 居住地 | D4: 氏 名
A6: 1 | B6: 県内 | C6: 福井県 | G6: 福井市
A7: 2 | B7: 県内 | C7: 福井県 | G7: 敦賀市
A8: 3 | B8: 県内 | C8: 福井県 | G8: 小浜市
A9: 4 | B9: 県内 | C9: 福井県 | G9: 勝山市
A10: 5 | B10: 県内 | C10: 福井県 | G10: 鯖江市
A11: 6 | B11: 県内 | C11: 福井県 | G11: あわら市
A12: 7 | B12: 県内 | C12: 福井県 | G12: 越前市
A13: 8 | B13: 県内 | C13: 福井県 | G13: 坂井市
A14: 9 | B14: 県内 | C14: 福井県 | G14: 永平寺町
A15: 10 | B15: 県内 | C15: 福井県 | G15: 南越前町
A16: 11 | B16: 県内 | C16: 福井県 | G16: 越前町
A17: 12 | B17: 県内 | C17: 福井県 | G17: 美浜町
... A21: 16 | B21: 県内 | C21: 福井県 | G21: 県外
A22: 17 | B22: 県内 | C22: 福井県
A23: 18 | B23: 県内 | C23: 福井県
A24: 19 | B24: 県内 | C24: 福井県
A25: 20 | B25: 県内 | C25: 福井県
A26: 21 | B26: 県内 | C26: 福井県
A27: 22 | B27: 県内 | C27: 福井県
A28: 23 | B28: 県内 | C28: 福井県
A29: 24 | B29: 県内 | C29: 福井県
A30: 25 | B30: 県内 | C30: 福井県
A31: 26 | B31: 県内 | C31: 福井県
A32: 27 | B32: 県内 | C32: 福井県
A33: 28 | B33: 県内 | C33: 福井県
... A40: 35 | B40: 県内 | C40: 福井県
B41: 県内 | C41: 福井県
B42: 県内 | C42: 福井県
B43: 県内 | C43: 福井県
B44: 県内 | C44: 福井県
C45: 参加者合計 | D45: =COUNTA(D6:D44) -> 0
