{"text_format":"1","workbook":"xlsx","n_sheets":22,"sheets":["表紙","ご利用の方へ","行政区画図（目次）","データ一覧","福井県","福井市","敦賀市","小浜市","大野市","勝山市","鯖江市","あわら市","越前市","坂井市","永平寺町","池田町","南越前町","越前町","美浜町","高浜町","おおい町","若狭町"],"not_rendered":{"charts":0,"images":59,"macros":1,"external_links":0,"defined_names":24,"comments":0,"pivot_tables":0},"unopened":[],"bounds":{"document_bytes":16777216,"sheet_cells":100000,"rows_first":2000,"rows_last":500,"rows_between":2000,"halvings":0,"cell_chars":16384,"cell_head_chars":4096},"cells_cut":0,"cells_raw":0,"read":"whole","date_system":"1900"}

{"sheet":"表紙","index":0,"n_rows":45,"n_cols":1,"rows_kept":45,"cut":false,"hidden":false,"merged":[[44,0,44,8],[10,0,10,8],[6,0,6,8]]}
[]
[]
[]
[]
[]
[]
["福井県市町勢要覧"]
[]
[]
[]
["令和２年度版"]
[]
[]
[]
[]
[]
[]
[]
[]
[]
[]
[]
[]
[]
[]
[]
[]
[]
[]
[]
[]
[]
[]
[]
[]
[]
[]
[]
[]
[]
[]
[]
[]
[]
["福井県地域戦略部統計情報課"]

{"sheet":"ご利用の方へ","index":1,"n_rows":76,"n_cols":7,"rows_kept":76,"cut":false,"hidden":false,"merged":[[1,1,1,2]]}
[{"$f":"表紙!A11","v":"令和２年度版"},"ご利用の方へ"]
[1,"「市町勢要覧」は、人口をはじめ、様々な分野にわたる基礎的なデータを市町別に編集し、個々の市勢町勢および",null,"4　統計表中の符号の用法は次のとおりです。"]
[null,"地域ごとの県勢をわかりやすくとらえられる資料として整理したものです。",null,"　「－」…該当数値なし"]
[2,"数値の単位未満は四捨五入を原則としていますので、総数と内訳の合計が一致しない場合があります。",null,"　「０」…単位未満"]
[3,"各項目は「福井県統計年鑑」に準拠して並べています。",null,"　「ｘ」…１つの事業所の値しかないなど、事業所に関する数が判明する箇所を秘匿としたもの"]
[null,null,null,"5　資料出所および留意事項は次のとおりです。"]
[]
["分　　　類","項     目","資　　料　　の　　出　　所","調査時点","留意事項"]
[" １．土　　　　地","総面積","令和２年全国都道府県市区町村別面積調",{"$f":"+データ一覧!A10","v":"2.10.1"}]
[null,null,"（国土交通省国土地理院）"]
[null,"町・字・大字区画数","市町資料",{"$f":"+データ一覧!A11","v":"31.4.1"},null,null,"照会"]
[null,"固定資産概要調書による地目別面積","固定資産概要調書",{"$f":"+データ一覧!A12","v":"2.1.1"},"道路河川を除く非課税地を含めた面積",null,"年鑑"]
[null,null,"（県税務課）",null,"住居表示指定区域内は住居表示の町名"]
[" ２．世帯数と人口","世帯数、人口、一世帯当たり人員、人口密度","国勢調査","昭和60年､平成2､7､12､17､22､27年","市町村合併のあった市町については、平成17年以降の人口密度のみを計上した。"]
["         ",null,"福井県の推計人口（県統計情報課）",{"$f":"データ一覧!$A$76","v":"2.10.1"}]
[null,"年齢階級別人口","〃",{"$f":"+データ一覧!A79","v":"2.10.1"}]
[null,"人口動態","〃",{"$f":"+データ一覧!A70","v":"元.10.1～2.9.30"},null,null,"人口G"]
[null,null,"婚姻、離婚 （県地域福祉課）",{"$f":"+データ一覧!A74","v":"31.1.1～元.12.31"},null,null,"年鑑"]
[" ３．事　 業　 所","事業所数、従業者数","経済センサス‐活動調査",{"$f":"+データ一覧!A95","v":"28.6.1"},"調査は、国・地方公共団体、外国公務の事業所、農林漁業、家事ｻｰﾋﾞｽに属する個人経営の事業所を除く。"]
[" ４．農       業","農家人口と就業状況","2015年農林業センサス",{"$f":"+データ一覧!A209","v":"27.2.1"},"2015年農林業センサス調査対象",null,"経済G"]
[null,"農家数","〃",{"$f":"+データ一覧!A230","v":"27.2.1"},"　農林産物の生産を行うかまたは委託を受けて農林業作業を行っている方で、生産または作業に係る",null,"経済G"]
[null,"米収穫量","北陸農政局",{"$f":"データ一覧!A247","v":"元年"},"面積・頭数が一定規模以上（外形基準）の農林業生産活動を行う方（組織の場合は代表者）を対象と"]
[null,"耕地面積","〃",{"$f":"+データ一覧!A250","v":"元.7.15"},"する。",null,"年鑑"]
[null,"農業生産物","〃",{"$f":"データ一覧!A253","v":"元年中"}]
[null,"畜産","県中山間農業・畜産課",{"$f":"+データ一覧!A262","v":"2.3.31"},null,null,"年鑑"]
[" ５．林       業","林野面積","県森づくり課     ",{"$f":"+データ一覧!A272","v":"2.3.31"},null,null,"年鑑"]
[null,"林産物生産量","県県産材活用課",{"$f":"+データ一覧!A283","v":"元年中"},null,null,"年鑑"]
[" ６．漁       業","漁船隻数・トン数","県水産課",{"$f":"データ一覧!A289","v":"元.12.31"},"エンジンの取り付け場所がわからないジーゼル船は動力船、電気点火式は船外機付漁船に計上した。"]
[null,"男女別就業者数","2018年漁業センサス",{"$f":"+データ一覧!A293","v":"30.11.1"},null,null,"照会"]
[null,"海面漁業漁獲量（属人）","北陸農政局福井地域センター",{"$f":"+データ一覧!A296","v":"30年中"},"内水面漁業、海面養殖業を除く。",null,"照会"]
[" ７．商       業","事業所数、従業者数、年間商品販売額","経済センサス‐活動調査",{"$f":"データ一覧!$A$301","v":"28.6.1(平成27年実績）"},"調査は、民営の事業所を対象とした。"]
[" ８．住       宅",null,"市町村固定資産課税台帳（市町資料）  　",{"$f":"データ一覧!$A$331","v":"元年"},"共同住宅、併用住宅については、独立して生活できる部分を一戸として計上した。"]
[" ９．議 員・職 員","市町議会","市町資料  　",{"$f":"+データ一覧!A332","v":"2.8.1"},null,null,"照会"]
[null,"有権者数","選挙人名簿登録者（県選挙管理委員会）",{"$f":"+データ一覧!A335","v":"2.9.1"}]
[null,"職員数","県市町協働課 ",{"$f":"+データ一覧!A337","v":"2.4.1"},null,null,"照会"]
[" 10．工       業","事業所数、従業者数、製造品出荷額等","工業統計調査",{"$f":"+データ一覧!A339","v":"元.6.1（平成30年実績）"},"従業者４人以上の事業所",null,"年鑑"]
[" 11．上・下 水 道","水道供給人口","県医薬食品・衛生課",{"$f":"+データ一覧!A415","v":"2.3.31"}]
[null,"下水道処理人口","県河川課    ",{"$f":"+データ一覧!A419","v":"2.3.31"},"引用"]
[" 12．交 通・通 信","道路","県道路保全課    ",{"$f":"+データ一覧!A420","v":"31.4.1"},null,null,"年鑑"]
[null,"鉄道営業キロ数","西日本旅客鉄道㈱金沢支社、福井鉄道㈱、えちぜん鉄道㈱",{"$f":"+データ一覧!A424","v":"2.4.1"},null,null,"照会"]
[null,"自動車台数","中部運輸局福井運輸支局",{"$f":"データ一覧!$A$425","v":"2.3.31"},"町不明の車両は県計に一括計上した。",null,"年鑑"]
[null,"通信（郵便局数）","日本郵便株式会社北陸支社",{"$f":"+データ一覧!A432","v":"2.3.31"},null,null,"照会"]
[null,"〃（一般電話加入数）","株式会社NTT西日本－北陸",{"$f":"データ一覧!A435","v":"2.3.31"},null,null,"年鑑"]
[null,"〃（ＩＮＳネット64加入数）","〃",{"$f":"D43","v":"2.3.31"},null,null,"照会"]
[" 13．税  ･ 財 政","普通会計元年度歳入決算額","県市町協働課",{"$f":"+データ一覧!A437","v":"2年度"},"現年課税分の調定額",null,"年鑑"]
[null,"歳入歳出当初予算額","〃",{"$f":"+データ一覧!A445","v":"2年度"},null,null,"年鑑"]
[null,"歳入歳出決算額","〃",{"$f":"+データ一覧!A459","v":"元年度"},null,null,"照会"]
[" 14．文       化","公共施設数","図書館・公民館(県生涯学習・文化財課)",{"$f":"+データ一覧!A501","v":"2.4.1"},"県の図書館数・図書数は県立図書館、若狭図書学習センターの分",null,"照会"]
[null,null,"公園(県都市計画課)",{"$f":"+データ一覧!A505","v":"2.3.31"},"都市公園の箇所数"]
[null,null,"児童館(県子ども家庭課)",{"$f":"+データ一覧!A506","v":"2.4.1"},null,null,"年鑑"]
[null,null,"公会堂・市民会館（県市町協働課）",{"$f":"データ一覧!A512","v":"2.3.31"},null,null,"照会"]
[null,"社会教育学級講座","県生涯学習・文化財課  　",{"$f":"+データ一覧!A507","v":"2.3.31"},"青年、成人、婦人、高齢者、家庭教育、その他の学級・講座の合計",null,"年鑑"]
[null,"宗教法人数","県情報公開・法制課  　",{"$f":"+データ一覧!A509","v":"元.12.31"},null,null,"市町財政要覧"]
[null,"衛星放送契約数","日本放送協会  　",{"$f":"+データ一覧!A513","v":"2.3.31"},null,null,"年鑑"]
[" 15．労       働","産業別就業者数","国勢調査",{"$f":"+データ一覧!A514","v":"27.10.1"},null,null,"照会"]
[" 16．社 会 福 祉","施設数、収容定員","県地域福祉課",{"$f":"+データ一覧!A564","v":"2.4.1"},null,null,"年鑑"]
[" 17．教       育","学校数、教員数、学生・生徒・児童・園児数","学校基本調査",{"$f":"+データ一覧!A590","v":"2.5.1"},"福井大学松岡キャンパス・敦賀キャンパス、福井県立大学あわらキャンパスは本校に計上した。"]
[null,null,"（大学・短大・高専の教員数、学生数は直接照会した。）"]
[null,null,null,null,"各市町の小学校・中学校の教員数および児童・生徒数は公立学校分のみ計上した。"]
[null,null,null,null,"各市町の幼稚園の園数、教員数および園児数は公立・私立分のみ計上した。"]
[null,null,null,null,"ただし、県計は国立、公立、私立学校の合計である。"]
[" 18．衛       生","医療関係施設数","県地域医療課   ",{"$f":"+データ一覧!A668","v":"元.10.1"},"医療関係者については、就業届出による。"]
[null,"医療関係者数","〃",{"$f":"+データ一覧!A673","v":"30.12.31"},"看護師には准看護師を含む。"]
[null,"死因別死亡数","県地域福祉課　 ",{"$f":"+データ一覧!A679","v":"元年中"},"交通事故の数は不慮の事故の内数。",null,"年鑑"]
[" 19．警 察・消 防","警察署数・交番・駐在所・検問所数","県警察本部警務課",{"$f":"+データ一覧!A689","v":"2.4.1"},null,null,"年鑑"]
[null,"刑法犯認知件数・刑法犯検挙件数","県警察本部捜査第一課",{"$f":"+データ一覧!A691","v":"元年中"},"発生地不明の認知件数・検挙件数は県計に一括計上した。",null,"照会"]
[null,"交通事故発生件数","県警察本部交通企画課","〃","交通事故発生件数は人身事故の数。",null,"照会"]
[null,"火災発生件数、焼損棟数、林野焼損面積","県危機対策・防災課","〃"]
[null,"損害見積額","〃","〃"]
[null,"消防自動車数、ポンプ数、消防吏員、消防団員数","〃",{"$f":"データ一覧!$A$697","v":"2.4.1"},"消防本部等、複数の市町に跨っているものは市町ごとに按分している。",null,"年鑑、照会"]
[" 20．そ   の   他","名所・旧跡、文化財等","県生涯学習・文化財課",null,null,null,"年鑑"]
[null,"〃","市町資料"]
[null,"特産物、年中行事","〃",null,null,null,"照会"]
[" 欄            外","市（町）章とそのいわれ","〃",null,null,null,"照会"]
[null,"位置および地勢","〃",null,null,null,"照会"]
[null,null,null,null,null,null,"照会"]

{"sheet":"行政区画図（目次）","index":2,"n_rows":29,"n_cols":13,"rows_kept":29,"cut":false,"hidden":false,"merged":[[28,1,28,6],[1,11,1,12]]}
[null,"（＊地図上の市町名または五十音順市町名を押すと該当市町のシートに、分野名を押すとデータ一覧の該当箇所に移動します。）"]
[null,null,null,null,null,null,null,"（五十音順市町名）",null,null,null,"（分野別）"]
[null,null,null,null,null,null,null,null,"福井県",null,null,"1．","土　地"]
[null,null,null,null,null,null,null,"あ行","あわら市",null,null,"2．","世帯数と人口"]
[null,null,null,null,null,null,null,null,"池田町","今立郡",null,"3．","事 業 所"]
[null,null,null,null,null,null,null,null,"永平寺町","吉田郡",null,"4．","農　業"]
[null,null,null,null,null,null,null,null,"越前市",null,null,"5．","林　業"]
[null,null,null,null,null,null,null,null,"越前町","丹生郡",null,"6．","漁　業"]
[null,null,null,null,null,null,null,null,"おおい町","大飯郡",null,"7．","商　業"]
[null,null,null,null,null,null,null,null,"大野市",null,null,"8．","住　宅"]
[null,null,null,null,null,null,null,null,"小浜市",null,null,"9．","議員・職員"]
[null,null,null,null,null,null,null,"か行","勝山市",null,null,"10．","工　業"]
[null,null,null,null,null,null,null,"さ行","坂井市",null,null,"11．","上・下水道"]
[null,null,null,null,null,null,null,null,"鯖江市",null,null,"12．","交通･通信"]
[null,null,null,null,null,null,null,"た行","高浜町","大飯郡",null,"13．","税・財 政"]
[null,null,null,null,null,null,null,null,"敦賀市",null,null,"14．","文　化"]
[null,null,null,null,null,null,null,"は行","福井市",null,null,"15．","労　働"]
[null,null,null,null,null,null,null,"ま行","南越前町","南条郡",null,"16．","社会福祉"]
[null,null,null,null,null,null,null,null,"美浜町","三方郡",null,"17．","教　育"]
[null,null,null,null,null,null,null,"わ行","若狭町","三方上中郡",null,"18．","衛　生"]
[null,null,null,null,null,null,null,null,null,null,null,"19．","警察・消防"]
[]
[]
[]
[]
[]
[]
[]
[null,"※令和3年3月31日現在の市町区分に合わせて、旧市町村のデータを合算している。"]

{"sheet":"データ一覧","index":3,"n_rows":700,"n_cols":27,"rows_kept":700,"cut":false,"hidden":false,"merged":[]}
[null,null,null,null,null,null,"AR",null,null,"AS",null,"H","I","AT","AU","AV","T","U","V","Y","AA","AW","AC"]
[]
[]
[]
["データ一覧",null,null,null,"かな",null,null,null,null,null,null,null,null,null,null,"よしだぐん","いまだてぐん","なんじょうぐん","にゅうぐん","みかたぐん","おおいぐん","おおいぐん","みかたかみなかぐん"]
[null,null,null,null,null,"ふくいけん","ふくいし","つるがし","おばまし","おおのし","かつやまし","さばえし","あわらし","えちぜんし","さかいし","えいへいじちょう","いけだちょう","みなみえちぜんちょう","えちぜんちょう","みはまちょう","たかはまちょう","おおいちょう","わかさちょう"]
[]
[null,null,null,null,"郡",null,null,null,null,null,null,null,null,null,null,"吉田郡","今立郡","南条郡","丹生郡","三方郡","大飯郡","大飯郡","三方上中郡"]
["基準日","分類",null,null,"市町村名","福井県","福井市","敦賀市","小浜市","大野市","勝山市","鯖江市","あわら市","越前市","坂井市","永平寺町","池田町","南越前町","越前町","美浜町","高浜町","おおい町","若狭町","基礎データ"]
["2.10.1","1 土地","総面積",null,null,4190.5200000000004,536.41,251.41,233.11,872.43,253.88,84.59,116.98,230.7,209.67,94.43,194.65,343.69,153.15,152.35,72.400000000000006,212.19,178.49,null,{"$f":"SUM(G10:W10)-F10","v":9.999999999308784E-3}]
["31.4.1",null,"町・丁・大字区画数",null,null,{"$f":"SUM(G11:W11)","v":2769},733,158,143,207,118,153,125,253,368,93,47,63,99,31,54,48,76,null,0]
["2.1.1",null,"固定資産概要調書による地目別面積",null,"総数",260555.5,34918.800000000003,11210.5,13503.8,48571.199999999997,20770.5,5989.5,8972.1,13154.8,20308.099999999999,6145.6,6545.3,13159.5,10409.4,15235,7240,11807.6,12613.8,null,0]
[null,null,null,null,"うち田",39522.5,7921.8,1304.7,1483.8,4218.3,2065.3000000000002,2022.3,2680.7,3723,6058.5,1021.4,558.4,1001.9,1376.9,927.3,521.29999999999995,701.7,1935.2,null,0]
[null,null,null,null,"うち畑",5556.4,906.5,253.5,235.3,232.2,150.4,124.5,894.1,335,902.8,85.3,118.2,144.19999999999999,300.7,123,194.6,141.80000000000001,414.3,null,0]
[null,null,null,null,"うち宅地",17683.800000000003,4878.7,1240.3,650.29999999999995,995.1,600.9,1471.6,870.8,1923.2,2373.8000000000002,405.1,96.3,280.7,489.6,280.8,317.8,279,529.79999999999995,null,0]
[null,null,null,null,"うち山林",100601.59999999999,17315.099999999999,4520.6000000000004,7283.6,13098.3,9279.7000000000007,1162.2,2171.6,4839,5986.7,4015.4,2519.5,6130.1,4558.3999999999996,4179.1000000000004,2139.1999999999998,5995.3,5407.8,null,0]
[null,null,null,null,"うち原野",2543.8999999999996,101,220.1,150.30000000000001,674.4,332.9,0,94.9,111.5,98,48.1,82,199.8,81.7,86,119.1,78,66.099999999999994,null,0]
["60.10.1","2 世帯数と人口","国勢調査人口","(昭和６０年)","世帯数",224295,77605,21194,9584,10925,7718,15362,8588,21726,20745,5033,1166,3450,6188,3878,3668,3023,4442,null,0]
[null,null,null,null,"人口*計",817633,269083,65670,34011,43118,30416,61452,31830,83953,80707,19550,4318,13886,26128,13384,12310,9791,18026,null,0]
[null,null,null,null,"人口*男",397115,130648,32808,16309,20700,14715,29881,15016,40566,38775,9447,2123,6695,12647,6695,6262,5067,8761,null,0]
[null,null,null,null,"人口*女",420518,138435,32862,17702,22418,15701,31571,16814,43387,41932,10103,2195,7191,13481,6689,6048,4724,9265,null,0]
[null,null,null,null,"男女比*女１００につき男(／１００人)",94.4,378.5,99.8,92.1,92.3,93.7,94.6,89.306530272392052,93.5,92.5,93.5,96.7,93.102489222639406,93.813515317854751,100.1,103.5,107.3,94.560172692930379,null,1814.4827075058165]
[null,null,null,null,"１世帯当たり人員*(／１世帯)",3.65,3.47,3.1,3.55,3.95,3.94,4,3.71,3.86,3.89,3.88,3.7,4.0199999999999996,4.22,3.45,3.36,3.24,4.0599999999999996,null,59.750000000000014]
[null,null,null,null,"人口密度*(人／ｋ㎡)",195.1,null,263.2,145.4,null,120.1,729.6,null,null,null,null,22.2,null,null,87.6,172.7,null,null,null,1345.7000000000003]
[" 2.10.1",null,"国勢調査人口","(平成２年)","世帯数*(世帯)",234192,81287,22995,9920,10758,7701,16053,8708,22678,21981,5159,1130,3484,6223,4019,3822,3775,4499,null,0]
[null,null,null,null,"人口*計(人)",823585,270911,68041,33774,41837,29805,62283,31743,84897,83372,19387,4203,13804,25448,13222,12425,10598,17835,null,0]
[null,null,null,null,"人口*男(人)",400391,131608,34091,16175,19944,14400,30164,14885,41272,40152,9427,2051,6628,12249,6672,6250,5767,8656,null,0]
[null,null,null,null,"人口*女(人)",423194,139303,33950,17599,21893,15405,32119,16858,43625,43220,9960,2152,7176,13199,6550,6175,4831,9179,null,0]
[null,null,null,null,"男女比*女１００につき男(／１００人)",94.6,94.5,100.4,91.9,91.1,93.5,93.9,88.296357812314625,94.6,92.9,94.6,95.3,92.363433667781493,92.80248503674521,101.9,101.2,119.4,94.302211569887788,null,1538.3644880867294]
[null,null,null,null,"１世帯当たり人員*(／１世帯)",3.52,3.33,2.96,3.4,3.89,3.87,3.88,3.65,3.74,3.79,3.76,3.72,3.96,4.09,3.29,3.25,2.81,3.96,null,57.829999999999991]
[null,null,null,null,"人口密度*(人／ｋ㎡)",196.7,null,271.60000000000002,145.1,null,117.5,734.9,null,null,null,null,21.6,null,null,86.9,172.6,null,null,null,1353.4999999999998]
[" 7.10.1",null,"国勢調査人口","(平成７年)","世帯数*(世帯)",246911,87719,23115,10383,10862,7733,16919,9327,24233,23882,6049,1115,3634,6379,3687,3816,3469,4589,null,0]
[null,null,null,null,"人口*計(人)",826996,272970,67204,33496,41069,29162,62890,32432,85533,86870,20183,4032,13616,25158,12362,12201,10251,17567,null,0]
[null,null,null,null,"人口*男(人)",401860,133444,33047,16164,19537,14033,30376,15174,41641,41942,9907,1957,6555,12060,6087,6086,5400,8450,null,0]
[null,null,null,null,"人口*女(人)",425136,139526,34157,17332,21532,15129,32514,17258,43892,44928,10276,2075,7061,13098,6275,6115,4851,9117,null,0]
[null,null,null,null,"男女比*女１００につき男(／１００人)",94.5,95.6,96.8,93.3,90.7,92.8,93.4,87.924440839031178,94.9,93.4,96.4,94.3,92.833876221498372,92.075125973431057,97,99.5,111.3,92.68399692881431,null,1520.4174399627748]
[null,null,null,null,"１世帯当たり人員*(／１世帯)",3.35,3.11,2.91,3.23,3.78,3.77,3.72,3.48,3.53,3.64,3.34,3.62,3.75,3.94,3.35,3.2,2.96,3.83,null,55.81]
[null,null,null,null,"人口密度*(人／ｋ㎡)",197.4,null,268.10000000000002,143.9,null,115,742.1,null,null,null,null,20.7,null,null,81.2,169.4,null,null,null,1343]
["12.10.1",null,"国勢調査人口","(平成１2年)","世帯数*(世帯)",259612,89946,24539,10962,11151,7942,18598,9562,26461,26278,6781,1095,3744,6619,3713,4015,3490,4716,null,0]
[null,null,null,null,"人口*計(人)",828944,269557,68145,33295,39632,28143,64898,32178,87699,91173,21182,3759,13221,25017,11630,12119,9983,17313,null,0]
[null,null,null,null,"人口*男(人)",402367,131344,33504,16134,18942,13391,31448,15072,42858,43972,10225,1825,6437,11973,5672,6076,5192,8302,null,0]
[null,null,null,null,"人口*女(人)",426577,138213,34641,17161,20690,14752,33450,17106,44841,47201,10957,1934,6784,13044,5958,6043,4791,9011,null,0]
[null,null,null,null,"男女比*女１００につき男(／１００人)",94.3,95,96.7,94,91.6,90.8,94,88.109435285864606,95.6,93.2,93.3,94.4,94.885023584905653,91.789328426862923,95.2,100.5,108.4,92.131838863611137,null,1515.3156261612446]
[null,null,null,null,"１世帯当たり人員*(／１世帯)",3.19,3,2.78,3.04,3.55,3.54,3.49,3.37,3.31,3.47,3.12,3.43,3.53,3.78,3.13,3.02,2.86,3.67,null,52.900000000000006]
[null,null,null,null,"人口密度*(人／ｋ㎡)",197.9,null,271.8,143,null,110.9,765.8,null,null,null,null,19.3,null,null,76.400000000000006,168.2,null,null,null,1357.5]
["17.10.1",null,"国勢調査人口","(平成１7年)","世帯数*(世帯)",269577,93694,25742,11136,11230,7990,20177,9658,27916,28035,6868,1060,3542,6670,3760,4014,3258,4827,null,0]
[null,null,null,null,"人口*計(人)",821592,269144,68402,32182,37843,26961,66831,31081,87742,92318,20764,3405,12274,23995,11023,11630,9217,16780,null,0]
[null,null,null,null,"人口*男(人)",397271,130834,33475,15620,17956,12777,32263,14498,42706,44349,10085,1643,5850,11447,5364,5729,4649,8026,null,0]
[null,null,null,null,"人口*女(人)",424321,138310,34927,16562,19887,14184,34568,16583,45036,47969,10679,1762,6424,12548,5659,5901,4568,8754,null,0]
[null,null,null,null,"男女比*女１００につき男(／１００人)",93.6,94.6,95.8,94.3,90.3,90.1,93.3,87.4,94.8,92.5,94.4,93.2,91.1,91.2,94.8,97.1,101.8,91.7,null,1494.8]
[null,null,null,null,"１世帯当たり人員*(／１世帯)",3.05,2.87,2.66,2.89,3.37,3.37,3.31,3.22,3.14,3.29,3.02,3.21,3.47,3.6,2.93,2.9,2.83,3.48,null,50.509999999999991]
[null,null,null,null,"人口密度*(人／ｋ㎡)",196.1,502,272.8,138.19999999999999,43.4,106.3,788.6,265.7,380.2,439.8,220.1,17.5,35.700000000000003,156.9,72.400000000000006,161.30000000000001,43.4,93.9,null,3542.1000000000004]
["22.10.1",null,"国勢調査人口","(平成22年)","世帯数*(世帯)",275599,97446,26453,11477,10847,7773,21028,9735,27601,28744,7217,1006,3483,6728,3879,4044,3144,4994,null,0]
[null,null,null,null,"人口*計(人)",806314,266796,67760,31340,35291,25466,67450,29989,85614,91900,20647,3046,11551,23160,10563,11062,8580,16099,null,0]
[null,null,null,null,"人口*男(人)",389712,128692,33396,15376,16705,12072,32507,14081,41762,44235,10026,1449,5501,11036,5292,5521,4280,7781,null,0]
[null,null,null,null,"人口*女(人)",416602,138104,34364,15964,18586,13394,34943,15908,43852,47665,10621,1597,6050,12124,5271,5541,4300,8318,null,0]
[null,null,null,null,"男女比*女１００につき男(／１００人)",93.5,93.2,97.2,96.3,89.9,90.1,93,88.5,95.2,92.8,94.4,90.7,90.9,91,100.4,99.6,99.5,93.5,null,1502.7]
[null,null,null,null,"１世帯当たり人員*(／１世帯)",2.93,2.74,2.56,2.73,3.25,3.28,3.21,3.08,3.1,3.2,2.86,3.03,3.32,3.44,2.72,2.74,2.73,3.22,null,48.279999999999994]
[null,null,null,null,"人口密度*(人／ｋ㎡)",192.4,497.6,269.7,134.6,40.5,100.4,795.9,256.3,371,437.8,218.9,15.6,33.6,151.4,69.3,153.30000000000001,40.4,90.1,null,3484.0000000000005]
["27.10.1",null,"国勢調査人口","（平成27年）","世帯数*(世帯)",279687,99872,26545,11220,10698,7703,22335,9697,27889,29454,7276,902,3353,6560,3899,4191,3222,4871,null,0]
[null,null,null,null,"人口*計(人)",786740,265904,66165,29670,33109,24125,68284,28729,81524,90280,19883,2638,10799,21538,9914,10596,8325,15257,null,0]
[null,null,null,null,"人口*男(人)",381474,128892,32558,14539,15683,11478,33105,13555,39859,43526,9621,1250,5173,10333,4988,5417,4201,7296,null,0]
[null,null,null,null,"人口*女(人)",405266,137012,33607,15131,17426,12647,35179,15174,41665,46754,10262,1388,5626,11205,4926,5179,4124,7961,null,0]
[null,null,null,null,"男女比*女１００につき男(／１００人)",94.129287924500005,94.073511809199999,96.878626476600004,96.087502478399998,89.997704579399993,90.756701194000001,94.104437306299999,89.330433636500004,95.665426617099996,93.095777901399998,93.753654258400005,90.057636887599998,91.948098115899995,92.217759928600003,101.25862768979999,104.5954817532,101.8671193016,91.646778042999998,null,1513.2059900525001]
[null,null,null,null,"１世帯当たり人員*(／１世帯)",2.8129301683667816,2.6624479333546942,2.4925598041062349,2.644385026737968,3.0948775472050851,3.1318966636375438,3.0572643832549811,2.9626688666597918,2.9231596686865791,3.0651184898485773,2.7326827927432653,2.9246119733924614,3.2206978824932895,3.2832317073170731,2.5427032572454475,2.5282748747315678,2.5837988826815641,3.1322110449599672,null,46.1696606306893]
[null,null,null,null,"人口密度*(人／ｋ㎡)",187.7,495.7,263.2,127.3,38,95,807.2,245.6,353.4,430.6,210.6,13.6,31.4,140.6,65.099999999999994,146.4,39.200000000000003,85.5,null,3400.7]
["2.10.1",null,"推計人口",null,"世帯数*(世帯)",291019,104822,27297,11481,10703,7615,24080,9909,29757,31044,7486,843,3270,6483,3845,4335,3257,4792,null,0]
[null,null,null,null,"１世帯当たり人員*(／１世帯)",{"$f":"ROUND(F76/F67,2)","v":2.62},2.4900000000000002,2.34,2.46,2.86,2.91,2.85,2.75,2.7,2.84,2.54,2.73,3.03,3.06,2.39,2.33,2.4500000000000002,2.91]
[null,null,null,null,"人口密度*(人／ｋ㎡)",{"$f":"F76/F10","v":182.00104044366807},486.78622695326339,254.32162602919533,121.35472523701256,35.098517932670816,87.368047896644086,810.35583402293412,233.12532056761839,347.9323797139142,420.54657318643586,201.12252462141268,11.826354996146931,28.851581366929501,129.53313744694742,60.210042664916315,139.47513812154696,37.645506385786327,78.222869628550612]
["元.10.1～2.9.30",null,null,"自然動態","出　生",5511,1999,449,233,184,131,555,164,618,579,100,16,64,108,72,73,72,94,"2-2",0]
[null,null,null,null,"死　亡",9377,2939,769,373,509,365,749,385,960,976,235,54,173,308,146,126,95,215,"2-3",0]
["元.10.1～2.9.30",null,null,"社会動態","転入計",22114,7213,1873,789,590,384,2088,765,3655,2478,564,55,174,384,336,275,232,259,"2-4",0]
[null,null,null,null,"転出計",23311,7686,2088,898,908,530,1879,850,2934,2700,557,80,284,517,319,406,288,387,"2-5",0]
["31.1.1～元.12.31",null,null,null,"婚姻",3320,1228,293,108,98,77,293,98,326,396,67,14,85,44,48,46,59,40,"2-6",{"$f":"SUM(G74:W74)-F74","v":0}]
[null,null,null,null,"離婚",1093,426,114,51,32,31,100,26,108,123,16,1,3,19,8,10,6,19,"2-7",0]
["2.10.1",null,null,"総計","男女計（年齢不詳含む）",762679,261117,63939,28289,30621,22181,68548,27271,80268,88176,18992,2302,9916,19838,9173,10098,7988,13962,null,0]
[null,null,null,null,"男　",371196,126962,31594,13970,14563,10550,33334,12926,39485,42551,9226,1094,4776,9575,4649,5198,4061,6682,null,0]
[null,null,null,null,"女",391483,134155,32345,14319,16058,11631,35214,14345,40783,45625,9766,1208,5140,10263,4524,4900,3927,7280,null,0]
["2.10.1",null,null,"男","0～14",48656,16604,4233,1842,1687,1253,4900,1507,5242,5892,1060,96,618,1168,533,613,544,864,null,0]
[null,null,null,null,"15～24",37334,12810,3130,1268,1316,901,3604,1212,4081,4670,1086,72,484,954,364,461,342,579,null,0]
[null,null,null,null,"25～34",34742,12178,2911,1290,1056,827,3167,1152,4081,3780,1206,90,383,720,462,565,388,486,null,0]
[null,null,null,null,"35～44",44731,15152,4021,1710,1603,1189,4461,1485,5006,5147,987,86,513,1091,518,616,439,707,null,0]
[null,null,null,null,"45～54",51343,17577,4551,1826,1811,1258,5011,1761,5544,6164,1180,121,559,1252,611,754,531,832,null,0]
[null,null,null,null,"55～64",47595,15433,4319,1978,2086,1471,3792,1839,4772,5490,1155,175,648,1300,753,727,654,1003,null,0]
[null,null,null,null,"65以上",101360,33088,8162,4000,5000,3637,8274,3956,10388,11091,2465,454,1571,3084,1402,1449,1129,2210,null,0]
[null,null,null,null,"計(年齢不詳含む)",371196,126962,31594,13970,14563,10550,33334,12926,39485,42551,9226,1094,4776,9575,4649,5198,4061,6682,null,0]
[null,null,null,"女","0～14",46167,15567,3953,1734,1660,1154,4721,1474,4885,5705,1051,93,540,1156,459,582,556,877,null,0]
[null,null,null,null,"15～24",34509,11469,2777,1077,1257,970,3428,1198,3875,4452,997,85,418,887,345,387,323,564,null,0]
[null,null,null,null,"25～34",31643,11398,2556,1006,913,708,3031,1056,3888,3682,1087,73,310,606,327,335,250,417,null,0]
[null,null,null,null,"35～44",43198,15077,3775,1542,1571,1144,4353,1425,4628,5128,952,90,493,984,452,505,402,677,null,0]
[null,null,null,null,"45～54",50953,17810,4445,1791,1824,1311,4866,1780,5194,6339,1237,89,540,1250,471,660,453,893,null,0]
[null,null,null,null,"55～64",48795,16251,4103,1875,2268,1587,3972,1995,4888,5804,1189,192,695,1384,583,581,498,930,null,0]
[null,null,null,null,"65以上",131716,42991,10541,5269,6563,4748,10746,5414,13191,14251,3174,586,2144,3994,1887,1850,1445,2922,null,0]
[null,null,null,null,"計(年齢不詳含む)",391483,134155,32345,14319,16058,11631,35214,14345,40783,45625,9766,1208,5140,10263,4524,4900,3927,7280,null,0]
["28.6.1","3 事業所","事業所数","全産業","総数","…","…","…","…","…","…","…","…","…","…","…","…","…","…","…","…","…","…",null,{"$error":"#VALUE!"}]
[null,null,null,null,"民営",41644,15789,3335,1765,1837,1212,3520,1282,4369,3754,797,143,399,1076,571,567,478,750,null,0]
[null,null,null,null,"国，地方公共団体","…","…","…","…","…","…","…","…","…","…","…","…","…","…","…","…","…","…",null,{"$f":"SUM(G97:W97)-F97","v":{"$error":"#VALUE!"}}]
[null,null,null,"農林漁業","総数","…","…","…","…","…","…","…","…","…","…","…","…","…","…","…","…","…","…",null,{"$error":"#VALUE!"}]
[null,null,null,null,"民営",348,56,4,13,37,18,15,24,30,37,13,10,17,14,16,5,13,26,null,0]
[null,null,null,null,"国，地方公共団体","…","…","…","…","…","…","…","…","…","…","…","…","…","…","…","…","…","…",null,{"$error":"#VALUE!"}]
[null,null,null,"鉱業","総数","…","…","…","…","…","…","…","…","…","…","…","…","…","…","…","…","…","…",null,{"$error":"#VALUE!"}]
[null,null,null,null,"民営",13,7,0,0,1,0,0,1,1,0,1,0,2,0,0,0,0,0,null,0]
[null,null,null,null,"国，地方公共団体","…","…","…","…","…","…","…","…","…","…","…","…","…","…","…","…","…","…",null,{"$error":"#VALUE!"}]
[null,null,null,"建設業","総数","…","…","…","…","…","…","…","…","…","…","…","…","…","…","…","…","…","…",null,{"$error":"#VALUE!"}]
[null,null,null,null,"民営",4743,1525,463,190,283,167,265,142,486,448,106,24,64,173,94,96,108,109,null,0]
[null,null,null,null,"国，地方公共団体","…","…","…","…","…","…","…","…","…","…","…","…","…","…","…","…","…","…",null,{"$error":"#VALUE!"}]
[null,null,null,"製造業","総数","…","…","…","…","…","…","…","…","…","…","…","…","…","…","…","…","…","…",null,{"$error":"#VALUE!"}]
[null,null,null,null,"民営",5292,1441,170,167,207,172,1056,166,707,651,142,27,38,203,32,28,24,61,null,0]
[null,null,null,null,"国，地方公共団体","…","…","…","…","…","…","…","…","…","…","…","…","…","…","…","…","…","…",null,{"$error":"#VALUE!"}]
[null,null,null,"電気・ガス・熱供給・水道業","総数","…","…","…","…","…","…","…","…","…","…","…","…","…","…","…","…","…","…",null,{"$error":"#VALUE!"}]
[null,null,null,null,"民営",46,5,9,2,4,2,0,0,5,7,2,0,0,0,7,1,2,0,null,0]
[null,null,null,null,"国，地方公共団体","…","…","…","…","…","…","…","…","…","…","…","…","…","…","…","…","…","…",null,{"$error":"#VALUE!"}]
[null,null,null,"情報通信業","総数","…","…","…","…","…","…","…","…","…","…","…","…","…","…","…","…","…","…",null,{"$error":"#VALUE!"}]
[null,null,null,null,"民営",322,195,24,10,3,6,17,2,16,37,3,1,1,1,3,1,1,1,null,0]
[null,null,null,null,"国，地方公共団体","…","…","…","…","…","…","…","…","…","…","…","…","…","…","…","…","…","…",null,{"$error":"#VALUE!"}]
[null,null,null,"運輸業、郵便業","総数","…","…","…","…","…","…","…","…","…","…","…","…","…","…","…","…","…","…",null,{"$error":"#VALUE!"}]
[null,null,null,null,"民営",799,310,92,19,18,16,48,32,76,106,17,2,6,15,11,10,6,15,null,0]
[null,null,null,null,"国，地方公共団体","…","…","…","…","…","…","…","…","…","…","…","…","…","…","…","…","…","…",null,{"$error":"#VALUE!"}]
[null,null,null,"卸売業、小売業","総数","…","…","…","…","…","…","…","…","…","…","…","…","…","…","…","…","…","…",null,{"$error":"#VALUE!"}]
[null,null,null,null,"民営",10543,4305,875,489,416,285,797,291,1142,930,174,28,94,249,118,102,78,170,null,0]
[null,null,null,null,"国，地方公共団体","…","…","…","…","…","…","…","…","…","…","…","…","…","…","…","…","…","…",null,{"$error":"#VALUE!"}]
[null,null,null,"金融業、保険業","総数","…","…","…","…","…","…","…","…","…","…","…","…","…","…","…","…","…","…",null,{"$error":"#VALUE!"}]
[null,null,null,null,"民営",749,394,56,34,23,17,51,15,66,41,7,1,4,13,7,5,4,11,null,0]
[null,null,null,null,"国，地方公共団体","…","…","…","…","…","…","…","…","…","…","…","…","…","…","…","…","…","…",null,{"$error":"#VALUE!"}]
[null,null,null,"不動産業、物品賃貸業","総数","…","…","…","…","…","…","…","…","…","…","…","…","…","…","…","…","…","…",null,{"$error":"#VALUE!"}]
[null,null,null,null,"民営",1288,697,107,67,26,14,74,19,123,72,47,0,2,10,8,11,6,5,null,0]
[null,null,null,null,"国，地方公共団体","…","…","…","…","…","…","…","…","…","…","…","…","…","…","…","…","…","…",null,{"$error":"#VALUE!"}]
[null,null,null,"学術研究、専門・技術サービス業","総数","…","…","…","…","…","…","…","…","…","…","…","…","…","…","…","…","…","…",null,{"$error":"#VALUE!"}]
[null,null,null,null,"民営",1529,757,136,68,50,32,89,33,130,115,22,4,13,15,21,14,12,18,null,0]
[null,null,null,null,"国，地方公共団体","…","…","…","…","…","…","…","…","…","…","…","…","…","…","…","…","…","…",null,{"$error":"#VALUE!"}]
[null,null,null,"宿泊業、飲食サービス業","総数","…","…","…","…","…","…","…","…","…","…","…","…","…","…","…","…","…","…",null,{"$error":"#VALUE!"}]
[null,null,null,null,"民営",5288,1977,569,244,230,151,338,202,425,376,69,14,62,132,100,152,87,160,null,0]
[null,null,null,null,"国，地方公共団体","…","…","…","…","…","…","…","…","…","…","…","…","…","…","…","…","…","…",null,{"$error":"#VALUE!"}]
[null,null,null,"生活関連サービス業、娯楽業","総数","…","…","…","…","…","…","…","…","…","…","…","…","…","…","…","…","…","…",null,{"$error":"#VALUE!"}]
[null,null,null,null,"民営",3577,1333,275,167,173,128,296,127,374,330,68,10,30,73,41,48,45,59,null,0]
[null,null,null,null,"国，地方公共団体","…","…","…","…","…","…","…","…","…","…","…","…","…","…","…","…","…","…",null,{"$error":"#VALUE!"}]
[null,null,null,"教育、学習支援業","総数","…","…","…","…","…","…","…","…","…","…","…","…","…","…","…","…","…","…",null,{"$error":"#VALUE!"}]
[null,null,null,null,"民営",1037,413,70,46,36,30,85,32,116,95,25,1,10,24,10,15,16,13,null,{"$f":"SUM(G138:W138)-F138","v":0}]
[null,null,null,null,"国，地方公共団体","…","…","…","…","…","…","…","…","…","…","…","…","…","…","…","…","…","…",null,{"$error":"#VALUE!"}]
[null,null,null,"医療、福祉","総数","…","…","…","…","…","…","…","…","…","…","…","…","…","…","…","…","…","…",null,{"$error":"#VALUE!"}]
[null,null,null,null,"民営",2491,1024,201,81,151,75,195,81,262,200,36,5,23,49,32,17,24,35,null,0]
[null,null,null,null,"国，地方公共団体","…","…","…","…","…","…","…","…","…","…","…","…","…","…","…","…","…","…",null,{"$error":"#VALUE!"}]
[null,null,null,"複合サービス事業","総数","…","…","…","…","…","…","…","…","…","…","…","…","…","…","…","…","…","…",null,{"$error":"#VALUE!"}]
[null,null,null,null,"民営",367,116,17,21,17,13,24,13,34,36,11,4,10,14,8,12,6,11,null,0]
[null,null,null,null,"国，地方公共団体","…","…","…","…","…","…","…","…","…","…","…","…","…","…","…","…","…","…",null,{"$error":"#VALUE!"}]
[null,null,null,"サービス業（他に分類されないもの）","総数","…","…","…","…","…","…","…","…","…","…","…","…","…","…","…","…","…","…",null,{"$error":"#VALUE!"}]
[null,null,null,null,"民営",3212,1234,267,147,162,86,170,102,376,273,54,12,23,91,63,50,46,56,null,0]
[null,null,null,null,"国，地方公共団体","…","…","…","…","…","…","…","…","…","…","…","…","…","…","…","…","…","…",null,{"$error":"#VALUE!"}]
[null,null,null,"公務（他に分類されないもの）","総数","…","…","…","…","…","…","…","…","…","…","…","…","…","…","…","…","…","…",null,{"$error":"#VALUE!"}]
[null,null,null,null,"民営","…","…","…","…","…","…","…","…","…","…","…","…","…","…","…","…","…","…",null,{"$error":"#VALUE!"}]
[null,null,null,null,"国，地方公共団体","…","…","…","…","…","…","…","…","…","…","…","…","…","…","…","…","…","…",null,{"$error":"#VALUE!"}]
[null,null,"従業者数","全産業","総数","…","…","…","…","…","…","…","…","…","…","…","…","…","…","…","…","…","…",null,{"$error":"#VALUE!"}]
[null,null,null,null,"民営",377238,149061,31828,12822,13996,9260,29663,13756,42447,34682,9454,856,2657,6957,5012,4826,4277,5684,null,0]
[null,null,null,null,"国，地方公共団体等","…","…","…","…","…","…","…","…","…","…","…","…","…","…","…","…","…","…",null,{"$error":"#VALUE!"}]
[null,null,null,"農林漁業","総数","…","…","…","…","…","…","…","…","…","…","…","…","…","…","…","…","…","…",null,{"$error":"#VALUE!"}]
[null,null,null,null,"民営",4621,743,77,185,671,323,177,285,384,330,334,96,227,175,120,94,109,291,null,0]
[null,null,null,null,"国，地方公共団体等","…","…","…","…","…","…","…","…","…","…","…","…","…","…","…","…","…","…",null,{"$error":"#VALUE!"}]
[null,null,null,"鉱業","総数","…","…","…","…","…","…","…","…","…","…","…","…","…","…","…","…","…","…",null,{"$error":"#VALUE!"}]
[null,null,null,null,"民営",92,32,0,0,1,0,0,4,12,0,8,0,35,0,0,0,0,0,null,0]
[null,null,null,null,"国，地方公共団体等","…","…","…","…","…","…","…","…","…","…","…","…","…","…","…","…","…","…",null,{"$error":"#VALUE!"}]
[null,null,null,"建設業","総数","…","…","…","…","…","…","…","…","…","…","…","…","…","…","…","…","…","…",null,{"$error":"#VALUE!"}]
[null,null,null,null,"民営",32043,11445,3911,983,1695,814,1510,686,2574,2674,620,128,309,635,1036,1200,1261,562,null,0]
[null,null,null,null,"国，地方公共団体等","…","…","…","…","…","…","…","…","…","…","…","…","…","…","…","…","…","…",null,{"$error":"#VALUE!"}]
[null,null,null,"製造業","総数","…","…","…","…","…","…","…","…","…","…","…","…","…","…","…","…","…","…",null,{"$error":"#VALUE!"}]
[null,null,null,null,"民営",82745,20796,3953,2084,2742,2909,10659,4684,17247,10661,1312,210,594,2224,289,358,293,1730,null,0]
[null,null,null,null,"国，地方公共団体等","…","…","…","…","…","…","…","…","…","…","…","…","…","…","…","…","…","…",null,{"$error":"#VALUE!"}]
[null,null,null,"電気・ガス・熱供給・水道業","総数","…","…","…","…","…","…","…","…","…","…","…","…","…","…","…","…","…","…",null,{"$error":"#VALUE!"}]
[null,null,null,null,"民営",3601,396,524,34,157,15,0,0,193,162,92,0,0,0,1014,491,523,0,null,0]
[null,null,null,null,"国，地方公共団体等","…","…","…","…","…","…","…","…","…","…","…","…","…","…","…","…","…","…",null,{"$error":"#VALUE!"}]
[null,null,null,"情報通信業","総数","…","…","…","…","…","…","…","…","…","…","…","…","…","…","…","…","…","…",null,{"$error":"#VALUE!"}]
[null,null,null,null,"民営",5047,3411,216,59,11,43,265,10,120,825,20,1,32,4,24,0,2,4,null,0]
[null,null,null,null,"国，地方公共団体等","…","…","…","…","…","…","…","…","…","…","…","…","…","…","…","…","…","…",null,{"$error":"#VALUE!"}]
[null,null,null,"運輸業、郵便業","総数","…","…","…","…","…","…","…","…","…","…","…","…","…","…","…","…","…","…",null,{"$error":"#VALUE!"}]
[null,null,null,null,"民営",16135,7119,2182,297,215,345,677,1199,1567,1677,254,11,49,94,107,103,90,149,null,0]
[null,null,null,null,"国，地方公共団体等","…","…","…","…","…","…","…","…","…","…","…","…","…","…","…","…","…","…",null,{"$error":"#VALUE!"}]
[null,null,null,"卸売業、小売業","総数","…","…","…","…","…","…","…","…","…","…","…","…","…","…","…","…","…","…",null,{"$error":"#VALUE!"}]
[null,null,null,null,"民営",73107,34043,6007,3144,2223,1379,5638,1655,7217,6702,922,116,411,1353,552,561,351,833,null,0]
[null,null,null,null,"国，地方公共団体等","…","…","…","…","…","…","…","…","…","…","…","…","…","…","…","…","…","…",null,{"$error":"#VALUE!"}]
[null,null,null,"金融業、保険業","総数","…","…","…","…","…","…","…","…","…","…","…","…","…","…","…","…","…","…",null,{"$error":"#VALUE!"}]
[null,null,null,null,"民営",9238,5552,639,348,266,118,650,143,684,481,62,4,24,93,41,48,26,59,null,0]
[null,null,null,null,"国，地方公共団体等","…","…","…","…","…","…","…","…","…","…","…","…","…","…","…","…","…","…",null,{"$error":"#VALUE!"}]
[null,null,null,"不動産業、物品賃貸業","総数","…","…","…","…","…","…","…","…","…","…","…","…","…","…","…","…","…","…",null,{"$error":"#VALUE!"}]
[null,null,null,null,"民営",5756,2900,538,220,642,31,243,37,483,445,88,0,2,27,29,17,41,13,null,0]
[null,null,null,null,"国，地方公共団体等","…","…","…","…","…","…","…","…","…","…","…","…","…","…","…","…","…","…",null,{"$error":"#VALUE!"}]
[null,null,null,"学術研究、専門・技術サービス業","総数","…","…","…","…","…","…","…","…","…","…","…","…","…","…","…","…","…","…",null,{"$error":"#VALUE!"}]
[null,null,null,null,"民営",9623,4136,1765,748,273,97,397,116,728,668,74,4,26,36,171,72,246,66,null,0]
[null,null,null,null,"国，地方公共団体","…","…","…","…","…","…","…","…","…","…","…","…","…","…","…","…","…","…",null,{"$error":"#VALUE!"}]
[null,null,null,"宿泊業、飲食サービス業","総数","…","…","…","…","…","…","…","…","…","…","…","…","…","…","…","…","…","…",null,{"$error":"#VALUE!"}]
[null,null,null,null,"民営",32923,13787,3423,1406,848,645,2542,1686,2415,2523,364,94,304,687,429,656,335,779,null,0]
[null,null,null,null,"国，地方公共団体等","…","…","…","…","…","…","…","…","…","…","…","…","…","…","…","…","…","…",null,{"$error":"#VALUE!"}]
[null,null,null,"生活関連サービス業、娯楽業","総数","…","…","…","…","…","…","…","…","…","…","…","…","…","…","…","…","…","…",null,{"$error":"#VALUE!"}]
[null,null,null,null,"民営",14326,6418,1224,598,605,317,1069,564,1276,1246,143,14,74,160,117,152,140,209,null,0]
[null,null,null,null,"国，地方公共団体等","…","…","…","…","…","…","…","…","…","…","…","…","…","…","…","…","…","…",null,{"$error":"#VALUE!"}]
[null,null,null,"教育、学習支援業","総数","…","…","…","…","…","…","…","…","…","…","…","…","…","…","…","…","…","…",null,{"$error":"#VALUE!"}]
[null,null,null,null,"民営",10254,4626,509,218,113,149,490,205,748,253,2643,1,15,45,83,54,85,17,null,0]
[null,null,null,null,"国，地方公共団体等","…","…","…","…","…","…","…","…","…","…","…","…","…","…","…","…","…","…",null,{"$error":"#VALUE!"}]
[null,null,null,"医療、福祉","総数","…","…","…","…","…","…","…","…","…","…","…","…","…","…","…","…","…","…",null,{"$error":"#VALUE!"}]
[null,null,null,null,"民営",47565,20340,3682,1336,2194,1671,3700,1484,4288,3530,2124,117,377,1098,334,324,294,672,null,0]
[null,null,null,null,"国，地方公共団体等","…","…","…","…","…","…","…","…","…","…","…","…","…","…","…","…","…","…",null,{"$error":"#VALUE!"}]
[null,null,null,"複合サービス事業","総数","…","…","…","…","…","…","…","…","…","…","…","…","…","…","…","…","…","…",null,{"$error":"#VALUE!"}]
[null,null,null,null,"民営",4934,1431,381,306,197,133,557,128,552,624,94,40,72,112,78,96,39,94,null,0]
[null,null,null,null,"国，地方公共団体等","…","…","…","…","…","…","…","…","…","…","…","…","…","…","…","…","…","…",null,{"$f":"SUM(G202:W202)-F202","v":{"$error":"#VALUE!"}}]
[null,null,null,"サービス業（他に分類されないもの）","総数","…","…","…","…","…","…","…","…","…","…","…","…","…","…","…","…","…","…",null,{"$error":"#VALUE!"}]
[null,null,null,null,"民営",25228,11886,2797,856,1143,271,1089,870,1959,1881,300,20,106,214,588,600,442,206,null,0]
[null,null,null,null,"国，地方公共団体等","…","…","…","…","…","…","…","…","…","…","…","…","…","…","…","…","…","…",null,{"$error":"#VALUE!"}]
[null,null,null,"公務（他に分類されないもの）","総数","…","…","…","…","…","…","…","…","…","…","…","…","…","…","…","…","…","…",null,{"$error":"#VALUE!"}]
[null,null,null,null,"民営","…","…","…","…","…","…","…","…","…","…","…","…","…","…","…","…","…","…",null,{"$error":"#VALUE!"}]
[null,null,null,null,"国，地方公共団体等","…","…","…","…","…","…","…","…","…","…","…","…","…","…","…","…","…","…",null,{"$error":"#VALUE!"}]
["27.2.1","4 農業","農家人口と就業状況","農家人口","計",63487,14257,1828,2468,5332,3509,3164,2922,7412,8980,2079,612,1335,3070,1204,1026,1322,2967,null,0]
[null,null,"（販売農家）",null,"男",31400,7080,893,1249,2614,1746,1590,1426,3682,4411,1020,300,652,1512,592,497,672,1464,null,0]
[null,null,null,null,"女",32087,7177,935,1219,2718,1763,1574,1496,3730,4569,1059,312,683,1558,612,529,650,1503,null,0]
[null,null,null,"１５歳以上の世帯員数","計",56979,12764,1692,2243,4825,3156,2791,2633,6699,7983,1852,563,1207,2726,1099,919,1203,2624,null,0]
[null,null,null,null,"男",28079,6293,825,1129,2355,1565,1402,1282,3325,3903,905,280,590,1343,543,446,609,1284,null,0]
[null,null,null,null,"女",28900,6471,867,1114,2470,1591,1389,1351,3374,4080,947,283,617,1383,556,473,594,1340,null,0]
["27.2.1",null,"農家世帯の就業状態","農業従事者数","総数",40533,8785,1224,1608,3599,2410,1862,1826,4742,5780,1341,402,851,1899,755,690,893,1866,null,0]
[null,null,"（販売農家）",null,"男",22829,5036,664,911,1937,1334,1116,1026,2708,3227,751,218,486,1077,431,375,485,1047,null,0]
[null,null,null,null,"女",17704,3749,560,697,1662,1076,746,800,2034,2553,590,184,365,822,324,315,408,819,null,0]
[null,null,null,"農業就業人口","総数",18509,3991,646,645,1773,1092,805,834,2055,2492,605,200,382,891,362,316,410,1010,null,0]
[null,null,null,null,"男",9545,2062,311,354,856,568,460,454,1068,1310,309,98,210,445,188,146,202,504,null,0]
[null,null,null,null,"女",8964,1929,335,291,917,524,345,380,987,1182,296,102,172,446,174,170,208,506,null,0]
[null,null,null,"基幹的農業従事者数","総数",14165,2845,515,490,1601,924,580,671,1407,1909,479,135,333,629,260,282,353,752,null,0]
[null,null,null,null,"男",8459,1727,285,316,827,523,395,408,899,1177,285,78,203,391,162,139,194,450,null,0]
[null,null,null,null,"女",5706,1118,230,174,774,401,185,263,508,732,194,57,130,238,98,143,159,302,null,0]
[null,null,null,"非農業従事者数","総数",16446,3979,468,635,1226,746,929,807,1957,2203,511,161,356,827,344,229,310,758,null,0]
[null,null,null,null,"男",5250,1257,161,218,418,231,286,256,617,676,154,62,104,266,112,71,124,237,null,0]
[null,null,null,null,"女",11196,2722,307,417,808,515,643,551,1340,1527,357,99,252,561,232,158,186,521,null,0]
[null,null,null,"平均年齢（農業従事者）","総数",59.1,59.4,61.4,58.6,59,58.8,58.3,58.8,58.8,57.4,59.1,62.5,61.1,59.8,60.6,60.2,60.4,61,null,956.1]
[null,null,null,null,"男",57.7,57.7,60.2,57.2,57.6,57.2,57.4,57.3,57.5,56.1,57.4,60.3,59.9,58.1,59,58.7,58.5,59.6,null,932]
[null,null,null,null,"女",61,61.6,62.8,60.5,60.7,60.7,59.6,60.6,60.5,58.9,61.2,65.2,62.7,62,62.8,62,62.7,62.7,null,986.20000000000027]
["27.2.1",null,"農家数","総農家数等","総農家数",22872,4859,975,1087,1658,1217,1048,956,2549,2581,764,319,738,1162,560,536,665,1198,null,0]
[null,null,null,null,"販売農家",15245,3405,502,610,1294,850,716,689,1773,2042,499,162,344,717,294,254,351,743,null,0]
[null,null,null,null,"　主業",998,189,27,38,129,61,39,73,78,187,23,10,19,31,15,11,21,47,null,0]
[null,null,null,null,"　準主業",2854,528,104,95,436,222,93,132,268,383,105,12,68,115,41,47,57,148,null,0]
[null,null,null,null,"　副業的",11393,2688,371,477,729,567,584,484,1427,1472,371,140,257,571,238,196,273,548,null,0]
[null,null,null,null,"自給的農家",7627,1454,473,477,364,367,332,267,776,539,265,157,394,445,266,282,314,455,null,0]
[null,null,null,"専兼業別","総数",15245,3405,502,610,1294,850,677,689,1773,2042,499,162,344,717,294,254,351,743,null,-39]
[null,null,null,"（販売農家）","専業農家",2468,555,133,88,255,141,95,87,274,277,65,33,73,98,43,44,64,143,null,0]
[null,null,null,null,"兼業農家",12777,2850,369,522,1039,709,621,602,1499,1765,434,129,271,619,251,210,287,600,null,0]
[null,null,null,null,"　第１種兼業",1235,236,20,66,99,75,67,94,130,227,39,17,17,37,23,15,23,50,null,0]
[null,null,null,null,"　第２種兼業",11542,2614,349,456,940,634,554,508,1369,1538,395,112,254,582,228,195,264,550,null,0]
[null,null,null,"経営面積規模別","総数",15245,3405,502,610,1294,850,716,689,1773,2042,499,162,344,717,294,254,351,743,null,0]
[null,null,null,"（販売農家）","0.5ha未満",2901,679,162,159,128,174,117,91,335,225,128,67,79,163,82,77,100,135,null,0]
[null,null,null,null,"0.5 ～ 1.0",5269,1253,182,208,331,327,251,158,691,500,190,58,146,331,123,113,145,262,null,0]
[null,null,null,null,"1.0 ～ 1.5",3121,679,80,112,345,170,168,160,392,469,94,19,51,117,34,40,43,148,null,0]
[null,null,null,null,"1.5 ～ 2.0",1688,351,27,58,217,80,73,118,166,355,39,4,25,55,13,15,25,67,null,0]
[null,null,null,null,"2.0ha以上",2247,441,51,73,267,99,106,161,188,490,48,13,42,51,42,9,37,129,null,0]
["元年",null,"米収穫量",null,"収穫量",130500,28400,2170,4390,14200,5560,7730,9440,13400,22100,3440,1230,3220,4160,2410,979,2080,5630,null,{"$f":"SUM(G247:W247)-F247","v":39}]
[null,null,null,null,"作付面積",25100,5330,451,906,2680,1110,1470,1770,2550,4140,687,281,674,817,495,204,432,1150,null,{"$f":"SUM(G248:W248)-F248","v":47}]
[null,null,null,null,"10a当たり収量",520,533,481,484,530,503,526,532,525,535,500,439,477,509,487,480,482,488]
["元.7.15",null,"耕地面積",null,"総数",40100,7860,872,1430,4200,1930,2060,3420,3640,6630,1000,470,1060,1410,841,448,741,2090,"4-1",2]
[null,null,null,null,"田",36400,7460,768,1310,4060,1780,1990,2600,3460,5890,938,415,956,1240,775,360,659,1710,"4-2",-29]
[null,null,null,null,"畑",3740,399,104,120,141,155,71,822,181,738,64,55,103,168,66,88,82,378,"4-3",-5]
["元年中",null,"農業生産物","水稲","作付面積",25100,5330,451,906,2680,1110,1470,1770,2550,4140,687,281,674,817,495,204,432,1150,null,{"$f":"SUM(G253:W253)-F253","v":47}]
[null,null,null,null,"収穫量",130500,28400,2170,4390,14200,5560,7730,9440,13400,22100,3440,1230,3220,4160,2410,979,2080,5630,null,39]
[null,null,null,null,"10a当たり収量",520,533,481,484,530,503,526,532,525,535,500,439,477,509,487,480,482,488,null,7991]
[null,null,null,"六条大麦","作付面積",4550,886,"-",49,653,233,271,572,224,1400,"x ","-",30,107,18,"x ",28,83,null,4]
[null,null,null,null,"収穫量",13200,2970,"-",121,1860,548,694,1730,598,4200,"x ","- ",32,249,34,"x ",34,162,null,32]
[null,null,null,null,"10a当たり収量",291,336,"- ",247,285,235,256,302,267,301,"x ","- ",107,233,189,100,121,195,null,2883]
[null,null,null,"大豆","作付面積",1810,431,2,32,86,14,112,347,70,658,4,5,"x",29,"x",1,1,6,null,-12]
[null,null,null,null,"収穫量",2190,522,1,18,78,6,162,448,72,835,2,4,"x",28,"x",1,1,3,null,-9]
[null,null,null,null,"10a当たり収量",121,121,50,56,90,45,145,129,103,127,45,80,"x",97,"x",58,65,50,null,1140]
["2.3.31",null,"畜産","乳用牛","農家数",20,3,"x","-",5,3,"-",2,"-",4,"-","-","-","-","x","-","-","x",null,-3]
[null,null,null,null,"頭",818,131,36,"-",218,106,"-",125,"-",123,"-","-","-","-",54,"-","-",25,null,0]
[null,null,null,"肉用牛","農家数",45,6,3,"-","x",3,"-","-","x",18,"-",4,"-","x",4,"-","x",3,null,-4]
[null,null,null,null,"頭",2181,246,65,"-",7,8,"-","-",10,1228,"-",271,"-",5,162,"-",41,138,null,{"$f":"SUM(G265:W265)-F265","v":0}]
[null,null,null,"豚","農家数","x","-","-","-","x","-","-","-","x","-","-","-","-","-","-","-","-","-",null,{"$error":"#VALUE!"}]
[null,null,null,null,"頭",1345,"-","-","-",120,"-","-","-",1225,"-","-","-","-","-","-","-","-","-",null,0]
[null,null,null,"採卵鶏","農家数",26,5,"x","-","x","x","x",3,4,5,"-","x","x","x","-","-","x","x",null,-9]
[null,null,null,null,"羽",775738,6608,400,"-",200,114,200,198625,49690,511788,"-",450,300,150,"-","-",213,7000,null,0]
[null,null,null,"ブロイラー","農家数","x","x","-","-","-","-","-","-","-","x","-","-","-","-","-","-","-","-",null,{"$f":"SUM(G270:W270)-F270","v":{"$error":"#VALUE!"}}]
[null,null,null,null,"羽",59000,26000,"-","-","-","-","-","-","-",33000,"-","-","-","-","-","-","-","-",null,0]
["2.3.31","5 林業","森林面積",null,"総面積",312149.25999999995,31943.209999999974,19899.709999999995,19030.38,75826.59,20180.18,3147.5099999999843,4441.1299999999992,14185.619999999997,7361.97,6865.21,17852.899999999998,31453.72,11385.1,12575.460000000001,5332.7699999999986,18707.62,11960.179999999997,null,0]
[null,null,null,"人工林","針葉樹",120959.72,19389.37,4458.97,7359.6900000000005,18340.580000000002,7906.26,2093.1499999999996,3176.3100000000004,7775.7800000000007,3968.53,3102.87,7962.72,9193.6000000000022,6043.19,2622.39,2340.46,9604.69,5621.16,null,0]
[null,null,null,null,"広葉樹",2930.1000000000004,70.180000000000007,335.63,34.730000000000004,1373.56,215.51999999999998,40.33,25.61,59.060000000000201,29.37,14.309999999999999,176.83999999999997,299.35999999999996,29.79,3.69,2.31,184.02,35.79,null,0]
[null,null,null,"天然林","針葉樹",8889.689999999955,721.06999999997299,2056.4499999999939,1163.26,460.69,221.21,72.22999999999999,281.75,627.94999999999698,149.07,68.23,30.63,340.76,146.86000000000001,858.02999999999895,349.04999999999899,610.28999999999905,732.15999999999599,null,0]
[null,null,null,null,"広葉樹",169885.59999999998,10922.71,12597.029999999999,10147.220000000001,51949.7,11068.970000000001,899.77999999998497,862.90999999999985,5465.82,3076.86,3606.7599999999998,9257.48,20713.900000000001,4914.3600000000006,8596.8700000000008,2190.4500000000003,8168.57,5446.21,null,0]
[null,null,null,"竹林","竹林",1393.3699999999985,303.47999999999803,72.56,181.56,8.83,9.3999999999999986,18.62,15.75,135.77000000000001,2.6399999999999997,18.34,1.62,56.180000000000099,161,27.740000000000002,249.54000000000002,62.810000000000301,67.530000000000015,null,0]
[null,null,null,"無立木地","伐採跡地",111.5,21.310000000000002,0.35,3.12,26.14,27.17,0,7.61,0,2.1,0,8.3699999999999992,0,2.58,0.37,9.14,0.94,2.2999999999999998,null,0]
[null,null,null,null,"未立木地",7979.279999999997,515.08999999999992,378.71999999999997,140.80000000000001,3667.09,731.65,23.399999999999967,71.19,121.2399999999999,133.4,54.7,415.24,849.91999999999894,87.32,466.37,191.82,76.300000000000011,55.03,null,0]
[null,null,"所有形態別",null,"国営",39314.51,109.08,4794.99,705.7,20665.93,2002.03,16.05,44.33,54.83,46.34,41.63,2270.5300000000002,6531.71,16.89,6.6,3.79,1441.77,562.30999999999995,null,0]
[null,null,null,null,"公営",38866.54,1529.5499999999997,1873.8799999999997,1887.2500000000002,11115.96,4145.0700000000006,126.77,571.91,996.81,1451.54,393.91,2198.1300000000006,4625.2700000000004,1666.03,1040.1499999999999,428.31,3072.5299999999997,1743.47,null,0]
[null,null,null,null,"私営",233968.2099999999,30304.579999999969,13230.839999999995,16437.43,44044.7,14033.079999999998,3004.689999999985,3824.8900000000003,13133.98,5864.09,6429.67,13384.24,20296.739999999998,9702.1799999999985,11528.71,4900.6699999999992,14193.319999999998,9654.399999999996,null,0]
["元年中",null,"林産物生産量",null,"生椎茸",201722,7796,1401,400,60947,375,631,"-",15531,1630,780,"-",2784,6366,11,"-",102370,700,null,0]
[null,null,null,null,"乾椎茸",1833,138,"-","-",82,"-",53,"-","-","-","-","-","-",1260,"-","-","-",300,null,0]
[null,null,null,null,"なめこ",29084,"-",67,"-","-","-","-","-","-",29000,"-","-","-",15,2,"-","-","-",null,0]
[null,null,null,null,"えのきだけ",150328,150063,"-","-","-","-","-","-","-","-","-",265,"-","-","-","-","-","-",null,0]
[null,null,null,null,"ひらたけ",9959,9789,"-","-",7,"-","-","-","-","-","-","-","-","-","-","-",163,"-",null,0]
[null,null,null,null,"まいたけ",140492,250,"-","-",140242,"-","-","-","-","-","-","-","-","-","-","-","-","-",null,0]
["元.12.31"," 6 漁業","漁船隻数・トン数",null,"無動力船隻数",68,0,0,2,0,0,0,0,0,7,12,0,0,0,0,46,1,0,"6-1",0]
[null,null,null,null,"船外機付漁船隻数",1091,140,65,149,1,0,0,27,0,67,0,0,90,162,113,73,37,167,"6-2",0]
[null,null,null,"動力船","隻数",1140,75,137,151,0,0,0,12,0,63,0,0,26,174,176,110,127,89,"6-3",0]
[null,null,null,null,"総トン数",6370.72,511.17,660.03,602.80999999999995,0,0,0,20.82,0,649.5,0,0,141.93,1706.14,768.02,354.07,570.42999999999995,385.8,"6-4",0]
["30.11.1",null,"就業者数",null,"総数",1328,114,134,154,0,0,0,42,0,122,0,0,90,266,123,82,132,69,"6-5",0]
[null,null,null,null,"男",1234,109,121,139,0,0,0,41,0,93,0,0,90,258,119,75,121,68,"6-6",0]
[null,null,null,null,"女",94,5,13,15,0,0,0,1,0,29,0,0,0,8,4,7,11,1,"6-7",0]
["30年中",null,"海面漁業漁獲量（属人）",null,"  総  数",11317,1038,503,675,0,0,0,3,0,507,0,0,1516,3155,1409,681,972,858,"6-8",0,"3月中","http://www.maff.go.jp/hokuriku/stat/data/h25yotei.html 海面漁業生産量/市町村別・魚種別漁獲量"]
[null,null,"（※  養殖含まず）",null,"  魚  類",8504,583,420,570,0,0,0,2,0,94,0,0,1455,1901,1278,588,814,801,"6-9",2,"3月中","http://www.maff.go.jp/hokuriku/stat/data/h25yotei.html 海面漁業生産量/市町村別・魚種別漁獲量"]
[null,null,null,null,"  貝  類",261,6,10,32,0,0,0,1,0,20,0,0,4,120,21,9,27,12,"6-10",1,"3月中","http://www.maff.go.jp/hokuriku/stat/data/h25yotei.html 海面漁業生産量/市町村別・魚種別漁獲量"]
[null,null,null,null,"  藻  類",50,4,2,9,0,0,0,1,0,4,0,0,3,1,18,0,1,8,"6-11",1,"3月中","http://www.maff.go.jp/hokuriku/stat/data/h25yotei.html 海面漁業生産量/市町村別・魚種別漁獲量"]
[null,null,null,null," そ の 他",{"$f":"F296-F297-F298-F299","v":2502},{"$f":"G296-G297-G298-G299","v":445},{"$f":"H296-H297-H298-H299","v":71},{"$f":"I296-I297-I298-I299","v":64},0,0,0,0,0,{"$f":"O296-O297-O298-O299","v":389},0,0,{"$f":"R296-R297-R298-R299","v":54},1133,92,84,130,37,null,-3,"3月中","http://www.maff.go.jp/hokuriku/stat/data/h25yotei.html 海面漁業生産量/市町村別・魚種別漁獲量"]
["28.6.1(平成27年実績）","7 商業","事業所数","卸売業・小売業計",null,8905,3539,735,407,378,240,681,253,992,797,149,24,81,224,105,85,64,151,null,0]
[null,null,null,"卸売業","卸売業計",2072,1051,152,92,48,28,178,32,254,142,17,3,4,26,15,10,5,15,null,0]
[null,null,null,"小売業","小売業計",6833,2488,583,315,330,212,503,221,738,655,132,21,77,198,90,75,59,136,null,0]
[null,null,null,null,"各種商品小売業",26,12,3,1,0,0,2,0,3,2,0,0,0,0,1,0,0,2,null,0]
[null,null,null,null,"織物・衣服・身の回り品小売業",986,455,90,33,58,26,79,23,99,73,10,2,9,12,5,4,3,5,null,0]
[null,null,null,null,"飲食料品小売業",2102,665,180,106,86,63,154,89,232,221,48,7,38,76,33,30,18,56,null,0]
[null,null,null,null,"機械器具小売業",1028,388,91,37,62,40,71,31,128,89,12,4,8,17,11,12,10,17,null,0]
[null,null,null,null,"その他の小売業",2465,879,205,118,118,76,175,75,262,242,58,8,21,78,38,29,28,55,null,0]
[null,null,null,null,"無店舗小売業",226,89,14,20,6,7,22,3,14,28,4,0,1,15,2,0,0,1,null,0]
[null,null,"従業者数（人）","卸売業・小売業計",null,60306,27824,5066,2685,1944,1163,4817,1390,5847,5510,755,72,344,1023,456,414,272,724,null,0]
[null,null,null,"卸売業","卸売業計",17447,10424,1148,679,209,99,1486,232,1483,1203,150,5,10,126,64,44,20,65,null,0]
[null,null,null,"小売業","小売業計",42859,17400,3918,2006,1735,1064,3331,1158,4364,4307,605,67,334,897,392,370,252,659,null,0]
[null,null,null,null,"各種商品小売業",2195,1046,342,5,0,0,198,0,118,317,0,0,0,0,4,0,0,165,null,0]
[null,null,null,null,"織物・衣服・身の回り品小売業",3532,1990,294,98,125,69,270,78,299,214,21,5,16,20,8,8,6,11,null,0]
[null,null,null,null,"飲食料品小売業",15273,5305,1425,843,654,373,1271,525,1574,1786,241,14,174,453,138,187,101,209,null,0]
[null,null,null,null,"機械器具小売業",6435,2815,652,311,352,164,359,122,818,493,39,18,29,63,70,37,30,63,null,0]
[null,null,null,null,"その他の小売業",13896,5444,1120,682,576,402,1005,391,1507,1366,299,30,114,338,159,138,115,210,null,0]
[null,null,null,null,"無店舗小売業",1528,800,85,67,28,56,228,42,48,131,5,0,1,23,13,0,0,1,null,0]
[null,null,"年間商品販売額","卸売業・小売業計",null,1945172,1186220,156769,59330,32710,22697,115279,24938,137281,133270,16280,705,6548,18439,8204,8330,4221,13951,null,0]
[null,null,null,"卸売業","卸売業計",1124125,814926,75791,24287,4267,6386,57280,8458,56166,56203,7075,63,101,5470,3448,1221,248,2733,null,-2]
[null,null,null,"小売業","小売業計",821047,371293,80978,35043,28443,16311,57999,16481,81115,77067,9205,642,6447,12969,4755,7110,3972,11218,null,1]
[null,null,null,null,"各種商品小売業",61566,35475,7877,"x",0,0,"x",0,1930,"x",0,0,0,0,"x",0,0,"x",null,{"$f":"SUM(G322:W322)-F322","v":-16284}]
[null,null,null,null,"織物・衣服・身の回り品小売業",46990,29283,3627,1276,992,743,3492,764,3665,2581,162,"x",103,132,24,33,"x",49,null,-64]
[null,null,null,null,"飲食料品小売業",238769,83516,23405,11565,9947,6094,22395,6676,25845,25739,3511,41,3618,7273,1310,3248,1680,2906,null,0]
[null,null,null,null,"機械器具小売業",178495,93970,19293,7255,7796,2691,8600,1820,20616,12373,392,183,351,762,926,429,141,897,null,0]
[null,null,null,null,"その他の小売業",254849,105519,22895,"x","x",6072,"x","x",28111,"x",5118,"x","x",4710,2091,3399,"x",2706,null,-74228]
[null,null,null,null,"無店舗小売業",40378,23530,3881,1548,"x",711,5362,"x",948,1894,23,0,"x",92,"x",0,0,"x",null,-2389]
["30年","8 住宅","30",null,"住宅数",{"$f":"SUM(G328:W328)","v":298240},100671,24774,11571,11365,8407,22359,12995,31468,32343,7466,1056,4192,7993,4586,5229,3784,7981,null,0]
[null,null,"元",null,"建設した住宅数",{"$f":"SUM(G329:W329)","v":4622},1631,578,207,66,77,507,119,718,409,67,3,24,57,51,45,25,38,null,0]
[null,null,null,null,"消失した住宅数",{"$f":"SUM(G330:W330)","v":2556},756,254,111,120,114,151,132,276,346,79,9,34,46,29,54,19,26,null,0]
["元年",null,"元",null,"住宅数",{"$f":"SUM(G331:W331)","v":300306},{"$f":"G328+G329-G330","v":101546},{"$f":"H328+H329-H330","v":25098},11667,11311,8370,22715,12982,31910,32406,7454,1050,4182,8004,4608,5220,3790,7993,null,0]
["2.8.1","9 議員・職員","市町議会",null,"議員定数",{"$f":"SUM(G332:W332)","v":300},32,24,18,18,16,20,18,22,26,14,8,14,14,14,14,14,14,null,0]
[null,null,null,null,"最近の選挙年月日","-","31.4.21","31.4.21","31.4.21","31.2.17","元.8.4","元.6.30","29.6.18","30.7.8","30.4.15","30.7.8","31.4.21","30.4.22","29.3.5","30.3.4","31.4.21","31.4.21","29.4.16",null,{"$error":"#VALUE!"}]
[null,null,null,null,"選挙投票率","-",46.73,"無投票",67.47,60.82,63.7,53.07,69.05,57.39,52.39,61.59,85.28,79.709999999999994,71.98,"無投票",71.56,79.67,"無投票",null,{"$error":"#VALUE!"}]
["2.9.1",null,"有権者数",null,"男",310130,104067,26576,11842,13225,9228,27298,11140,31875,36038,7487,1060,4213,8648,3903,4311,3350,5869,null,0]
[null,null,null,null,"女",332898,112920,27451,12437,14536,10200,29133,12496,33647,38909,7943,1175,4620,9272,4137,4251,3402,6369,null,0]
["2.4.1",null,"市町職員数",null,"総数",7922,2330,1018,290,373,264,397,291,564,833,246,73,202,250,185,195,170,241,null,0]
[null,null,null,null,"一般行政職",4314,1225,353,210,239,157,259,198,348,381,104,50,113,172,117,123,133,132,null,0]
["元.6.1（平成30年実績）","10 工業","工業","事業所数","計",{"$f":"SUM(G339:W339)","v":2091},{"$f":"SUM(G340:G363)","v":561},{"$f":"SUM(H340:H363)","v":75},64,81,70,348,79,292,321,49,11,14,57,17,9,8,35,null,0]
[null,null,null,null,"食料品",{"$f":"SUM(G340:W340)","v":195},66,15,13,8,4,7,2,30,18,7,4,1,7,5,2,3,3,null,0]
[null,null,null,null,"飲料・飼料",20,5,0,0,2,1,0,0,1,2,4,0,0,1,1,0,0,3,null,0]
[null,null,null,null,"繊維",509,132,4,9,25,34,59,21,66,110,22,2,6,11,1,1,3,3,null,0]
[null,null,null,null,"木材",60,17,3,5,2,1,4,0,10,3,3,0,0,6,0,1,0,5,null,0]
[null,null,null,null,"家具",41,11,1,2,2,2,3,2,4,6,0,0,0,4,2,2,0,0,null,0]
[null,null,null,null,"パルプ・紙",83,23,3,1,3,0,2,3,39,7,0,0,0,0,0,0,0,2,null,0]
[null,null,null,null,"印刷",100,47,2,3,2,3,11,2,9,17,2,0,0,1,0,1,0,0,null,0]
[null,null,null,null,"化学",53,17,2,1,0,1,3,2,5,19,0,0,0,0,0,0,0,3,null,0]
[null,null,null,null,"石油・石炭",9,3,1,1,0,1,1,0,1,1,0,0,0,0,0,0,0,0,null,0]
[null,null,null,null,"プラスチック",117,29,7,1,2,0,16,5,28,14,2,0,3,7,1,0,0,2,null,0]
[null,null,null,null,"ゴム",5,4,0,0,0,0,0,0,1,0,0,0,0,0,0,0,0,0,null,0]
[null,null,null,null,"皮革",3,0,0,0,0,0,0,0,0,1,0,0,0,0,1,0,0,1,null,0]
[null,null,null,null,"窯業・土石",76,11,9,2,4,3,5,7,14,12,1,0,0,3,2,1,0,2,null,0]
[null,null,null,null,"鉄鋼",19,7,0,0,0,2,3,0,4,3,0,0,0,0,0,0,0,0,null,0]
[null,null,null,null,"非鉄金属",15,2,1,0,0,0,2,1,4,2,0,0,0,3,0,0,0,0,null,0]
[null,null,null,null,"金属",181,55,9,1,15,5,19,7,23,39,1,0,1,4,1,0,1,0,null,0]
[null,null,null,null,"はん用機械",29,11,0,0,0,0,2,3,2,9,1,0,0,1,0,0,0,0,null,0]
[null,null,null,null,"生産用機械",153,58,1,2,2,1,27,11,9,38,0,0,0,1,0,0,1,2,null,0]
[null,null,null,null,"業務用機械",13,3,0,1,0,0,3,0,3,2,0,0,0,0,0,0,0,1,null,0]
[null,null,null,null,"電子・デバイス",47,8,5,2,6,2,4,7,5,5,0,1,0,1,0,0,0,1,null,0]
[null,null,null,null,"電気機械",66,9,3,5,5,3,3,3,15,7,2,2,2,1,2,0,0,4,null,0]
[null,null,null,null,"情報通信機械",5,2,0,0,0,1,1,0,1,0,0,0,0,0,0,0,0,0,null,0]
[null,null,null,null,"輸送機械",28,3,4,2,1,4,1,2,3,2,1,0,0,1,0,1,0,3,null,0]
[null,null,null,null,"その他",264,38,5,13,2,2,172,1,15,4,3,2,1,5,1,0,0,0,null,0]
[null,null,null,"従業者数","計",{"$f":"SUM(G364:W364)","v":74437},{"$f":"SUM(G365:G388)","v":17791},{"$f":"SUM(H365:H388)","v":3507},1667,2501,2398,9540,4441,16730,9814,1057,174,471,1815,271,223,189,1848,null,0]
[null,null,null,null,"食料品",{"$f":"SUM(G365:W365)","v":4722},1842,300,297,151,91,124,41,905,437,130,19,10,104,32,26,30,183,null,0]
[null,null,null,null,"飲料・飼料",259,28,0,0,28,29,0,0,6,35,71,0,0,24,14,0,0,24,null,0]
[null,null,null,null,"繊維",15137,4960,200,197,482,1168,2019,477,1599,3070,421,35,151,151,7,27,93,80,null,0]
[null,null,null,null,"木材",1584,373,267,47,192,8,109,0,153,125,94,0,0,86,0,24,0,106,null,0]
[null,null,null,null,"家具",872,294,4,15,26,40,42,31,132,84,0,0,0,64,34,106,0,0,null,0]
[null,null,null,null,"パルプ・紙",1845,348,116,35,45,0,66,180,648,322,0,0,0,0,0,0,0,85,null,0]
[null,null,null,null,"印刷",2235,1343,60,19,26,33,203,14,106,362,38,0,0,25,0,6,0,0,null,0]
[null,null,null,null,"化学",4040,1033,218,52,0,344,103,935,446,621,0,0,0,0,0,0,0,288,null,0]
[null,null,null,null,"石油・石炭",81,22,7,14,0,17,5,0,5,11,0,0,0,0,0,0,0,0,null,0]
[null,null,null,null,"プラスチック",5073,1233,661,47,40,0,458,100,1148,891,22,0,94,149,40,0,0,190,null,0]
[null,null,null,null,"ゴム",182,66,0,0,0,0,0,0,116,0,0,0,0,0,0,0,0,0,null,0]
[null,null,null,null,"皮革",57,0,0,0,0,0,0,0,0,5,0,0,0,0,46,0,0,6,null,0]
[null,null,null,null,"窯業・土石",2112,203,584,32,42,33,134,109,482,332,8,0,0,60,48,28,0,17,null,0]
[null,null,null,null,"鉄鋼",355,85,0,0,0,89,37,0,91,53,0,0,0,0,0,0,0,0,null,0]
[null,null,null,null,"非鉄金属",1438,124,29,0,0,0,43,13,298,858,0,0,0,73,0,0,0,0,null,0]
[null,null,null,null,"金属",4384,1296,105,16,315,237,715,412,322,777,7,0,19,100,11,0,52,0,null,0]
[null,null,null,null,"はん用機械",753,167,0,0,0,0,31,37,28,349,67,0,0,74,0,0,0,0,null,0]
[null,null,null,null,"生産用機械",3800,1857,6,28,12,12,429,653,170,547,0,0,0,28,0,0,14,44,null,0]
[null,null,null,null,"業務用機械",652,42,0,57,0,0,153,0,351,31,0,0,0,0,0,0,0,18,null,0]
[null,null,null,null,"電子・デバイス",9951,1053,643,160,733,53,877,1341,3897,390,0,6,0,656,0,0,0,142,null,0]
[null,null,null,null,"電気機械",3576,223,64,301,141,147,31,24,1451,307,133,96,107,145,30,0,0,376,null,0]
[null,null,null,null,"情報通信機械",342,130,0,0,0,19,5,0,188,0,0,0,0,0,0,0,0,0,null,{"$f":"SUM(G386:W386)-F386","v":0}]
[null,null,null,null,"輸送機械",4895,239,54,26,96,55,14,67,4003,17,21,0,0,8,0,6,0,289,null,0]
[null,null,null,null,"その他",6092,830,189,324,172,23,3942,7,185,190,45,18,90,68,9,0,0,0,null,0]
[null,null,null,"製造品出荷額等","計",224944302,47031742,11862783,3380997,6467559,6926734,18544882,19569663,66568700,30894754,1688500,173522,965758,4221349,439903,441267,268865,5497324,null,0]
[null,null,null,null,"食料品",5938570,2185810,311519,366466,125665,155413,106965,"x",1365283,479196,200971,3968,"x",67753,48215,"x",7522,369116,null,-144708]
[null,null,null,null,"飲料・飼料",628955,29690,0,0,"x","x",0,0,"x","x",232008,0,0,"x","x",0,0,12654,null,-354603]
[null,null,null,null,"繊維",24222905,8520143,1020786,329392,424231,1424409,4455884,588554,2481746,3760722,500857,"x",138520,278259,"x","x",102316,132485,null,-64601]
[null,null,null,null,"木材",7278134,3748033,939058,41335,"x","x",157556,0,268155,490932,139003,0,0,123516,0,"x",0,143564,null,-1226982]
[null,null,null,null,"家具",1448537,432804,"x","x","x","x",50395,"x",303490,107928,0,0,0,99551,"x","x",0,0,null,-454369]
[null,null,null,null,"パルプ・紙",7083161,758042,186595,"x",44450,0,"x",2347653,1484730,1561840,0,0,0,0,0,0,0,"x",null,-699851]
[null,null,null,null,"印刷",3237324,2079103,"x",19112,"x",47108,423879,"x",139391,305298,"x",0,0,"x",0,"x",0,0,null,-223433]
[null,null,null,null,"化学",24967071,7655972,"x","x",0,"x",689834,"x",2749396,3602673,0,0,0,0,0,0,0,773630,null,-9495566]
[null,null,null,null,"石油・石炭",577567,202749,"x","x",0,"x","x",0,"x","x",0,0,0,0,0,0,0,0,null,-374818]
[null,null,null,null,"プラスチック",16622041,3687607,4136972,"x","x",0,1391539,109988,2965187,2792726,"x",0,430627,328969,"x",0,0,"x",null,-778426]
[null,null,null,null,"ゴム",198814,"x",0,0,0,0,0,0,"x",0,0,0,0,0,0,0,0,0,null,-198814]
[null,null,null,null,"皮革",50159,0,0,0,0,0,0,0,0,"x",0,0,0,0,"x",0,0,"x",null,-50159]
[null,null,null,null,"窯業・土石",5517159,739649,934298,"x",130165,87952,455925,489734,1503573,684936,"x",0,0,59772,"x","x",0,"x",null,-431155]
[null,null,null,null,"鉄鋼",2909924,331237,0,0,0,"x","x",0,625723,163901,0,0,0,0,0,0,0,0,null,-1789063]
[null,null,null,null,"非鉄金属",14170693,"x","x",0,0,0,"x","x",2653106,"x",0,0,0,287269,0,0,0,0,null,-11230318]
[null,null,null,null,"金属",11316404,3531173,221092,"x",720133,773105,1339143,826353,757109,2457825,"x",0,"x",250042,"x",0,"x",0,null,-440429]
[null,null,null,null,"はん用機械",2228271,254436,0,0,0,0,"x",55268,"x",909435,"x",0,0,"x",0,0,0,0,null,-1009132]
[null,null,null,null,"生産用機械",11468338,5426255,"x","x","x","x",1026790,3230013,218167,1335139,0,0,0,"x",0,0,"x","x",null,-231974]
[null,null,null,null,"業務用機械",921837,69843,0,"x",0,0,243813,0,383917,"x",0,0,0,0,0,0,0,"x",null,-224264]
[null,null,null,null,"電子・デバイス",33996898,4188376,2056963,"x",2867998,"x",1859618,5077393,15046409,730515,0,"x",0,"x",0,0,0,"x",null,-2169626]
[null,null,null,null,"電気機械",19652133,387967,381915,904427,359013,148028,62323,29960,13874956,824827,"x","x","x","x","x",0,0,2006658,null,-672059]
[null,null,null,null,"情報通信機械",841032,"x",0,0,0,"x","x",0,"x",0,0,0,0,0,0,0,0,0,null,-841032]
[null,null,null,null,"輸送機械",20965058,635498,24242,"x","x",14811,"x","x",18760598,"x","x",0,0,"x",0,"x",0,690849,null,-839060]
[null,null,null,null,"その他",8703317,936340,579369,471982,"x","x",5799968,"x",230556,218353,43887,"x","x",94261,"x",0,0,0,null,-328601]
[null,null,"工業用水量",null,"従業者30人以上の事業所",321440,63172,62761,512,4402,8157,40376,16012,48860,25660,872,"x",269,801,57,"x",28,49307,null,-194]
["2.3.31","11 上・下水道","上・下水道",null,"上水道",697044,256024,63773,24080,4573,21781,69339,25019,80571,91040,18286,0,10108,9893,6206,9837,0,6514,"11-1",0]
[null,null,null,null,"簡易水道",51513,4752,0,4134,7499,0,0,2784,291,0,0,2313,0,11257,2653,328,7957,7545,"11-2",0]
[null,null,null,null,"専用水道",915,252,0,0,120,135,0,0,0,0,0,0,0,0,378,0,30,0,"11-3",0]
[null,null,null,null,"飲料水供給施設",1170,495,0,133,260,0,0,0,0,0,0,0,1,18,65,107,91,0,"11-4",0]
["2.3.31",null,null,null,"下水道処理人口",628583,229797,56005,19930,17246,19516,50504,26851,63520,89869,14044,2143,4120,14085,5313,8199,1342,6099,"11-5",0]
["31.4.1","12 交通・通信","道路",null,"実延長",10693.946600000001,2483.91,517.70499999999993,558.25700000000006,762.99800000000005,568.41999999999996,709.62099999999998,415.43899999999996,1061.788,997.29499999999985,264.93939999999998,164.70799999999997,419.06200000000001,475.15799999999996,208.34719999999999,207.50700000000001,319.89999999999998,558.89200000000005,"12-1",0]
[null,null,null,null,"国道",592.70000000000005,108.8,12.2,31.1,110.3,39.700000000000003,11.1,11.2,25.2,25.3,27.3,37.6,72.400000000000006,45.1,0,0,19.5,15.9,"12-2",0]
[null,null,null,null,"県道",1564.3000000000002,300.7,71.599999999999994,87.3,153.4,82.7,66.900000000000006,70.900000000000006,149.6,183.6,25.9,39,50.5,73.099999999999994,39.6,36.299999999999997,70.3,62.900000000000006,"12-3",0]
[null,null,null,null,"市町道",8536.9465999999993,2074.41,433.90499999999997,439.85700000000003,499.298,446.02,631.62099999999998,333.33899999999994,886.98799999999994,788.39499999999987,211.73939999999999,88.10799999999999,296.16199999999998,356.95799999999997,168.74719999999999,171.20700000000002,230.1,480.09199999999998,"12-4",0]
["2.4.1",null,"鉄道",null,"営業キロ数",302.63,69.91,30.245999999999999,16.247,26.13,6.6,13.725999999999999,14.772,13.010999999999999,20.47,15.2,0,25.611000000000001,0,11.394,13.275,4.0650000000000004,21.972999999999999,"12-5",0]
["2.3.31",null,"自動車台数","登録車","貨物",44856,18151,4647,1466,1761,951,2658,1393,4763,4818,840,156,374,949,425,479,385,637,"12-6",-3]
[null,null,null,null,"乗合",1871,546,199,95,93,67,101,119,189,139,18,6,24,48,46,40,84,57,"12-7",0]
[null,null,null,null,"普通乗用",147618,53010,11921,4558,5988,3947,12683,5482,15264,17832,3651,452,1881,3779,1634,1646,1443,2446,"12-8",-1]
[null,null,null,null,"小型乗用",158358,57840,11543,5131,6719,4478,13148,6050,16130,18950,3834,500,2084,4252,1739,1770,1569,2620,"12-9",-1]
[null,null,null,null,"特種",14913,5229,1529,534,1041,494,826,488,1377,1460,286,92,142,367,235,187,304,294,"12-10",-28]
[null,null,null,null,"小型二輪",8272,2469,869,354,300,223,740,274,864,1038,163,21,147,178,111,145,180,196,"12-11",0]
[null,null,null,"届出車","軽",287044,86841,24794,12396,14113,9234,24496,11105,30230,33245,6404,1320,4611,8899,4553,4033,3581,7189,"12-12",0]
["2.3.31",null,"通信","郵便局数","総数",236,71,12,14,13,10,14,9,24,22,6,2,6,10,5,6,5,7,"12-13",0]
[null,null,null,null,"郵便局",207,65,11,13,10,9,12,7,21,17,6,2,6,8,4,4,5,7,"12-14",0]
[null,null,null,null,"簡易局",29,6,1,1,3,1,2,2,3,5,0,0,0,2,1,2,0,0,"12-15",0]
["2.3.31",null,null,"電話数","一般加入電話数",78540,24045,7549,5061,4226,2917,5390,2548,6483,6304,2008,425,778,2218,2424,1527,1486,3151,"12-16",0]
[null,null,null,null,"INSﾈｯﾄ加入数",12492,4747,1353,568,395,262,678,485,853,940,258,86,253,249,338,327,288,412,"12-17",0]
["2年度","13 税・財政","調定額","普通会計","総額","-","-","-","-","-","-","-","-","-","-","-","-","-","-","-","-","-","-","13-1",{"$error":"#VALUE!"}]
[null,null,null,null,"市町村民税","-","-","-","-","-","-","-","-","-","-","-","-","-","-","-","-","-","-","13-2",{"$error":"#VALUE!"}]
[null,null,null,null,"固定資産税","-","-","-","-","-","-","-","-","-","-","-","-","-","-","-","-","-","-","13-3",{"$error":"#VALUE!"}]
[null,null,null,null,"その他","-","-","-","-","-","-","-","-","-","-","-","-","-","-","-","-","-","-","13-4",{"$error":"#VALUE!"}]
[null,null,null,"一人当たり金額",{"$f":"A445&C445","v":"2年度歳入"},{"$f":"SUM(F445/F$76*1000)","v":505376.1031836461},{"$f":"SUM(G445/G$76*1000)","v":428348.07768165227},562023.55369961995,556329.3152815582,580288.03762124025,529990.12668500061,391154.41734259209,563789.48333394458,437546.71849304828,482329.36399927415,439144.48188711039,1410556.038227628,914390.48003227101,654423.48018953518,989068.67982121441,898868.2907506437,{"$f":"SUM(V445/V$76*1000)","v":1249248.8733099648},772713.86620827962,null,11354837.181380929]
[null,null,null,null,{"$f":"A459&C459","v":"元年度歳入"},510572,392646,526048,585955,605581,550836,388786,553672,493891,533461,465388,1475340,839911,711732,1103853,1121296,1294568,756585,null,11888977]
[null,null,null,null,{"$f":"A473&C473","v":"2年度歳出"},{"$f":"SUM(F473/F$76*1000)","v":505376.1031836461},{"$f":"SUM(G473/G$76*1000)","v":428348.07768165227},562023.55369961995,556329.3152815582,580288.03762124025,529990.12668500061,391154.41734259209,563789.48333394458,437546.71849304828,482329.36399927415,439144.48188711039,1410556.038227628,914390.48003227101,654423.48018953518,989068.67982121441,898868.2907506437,1249248.8733099648,772713.86620827962,null,11354837.181380929]
[null,null,null,null,{"$f":"A487&C487","v":"元年度歳出"},491423.62538456928,383243.11126347462,497081.73837515898,566281.9048286496,577151.89994882292,537332.25477594079,377256.40202530165,533824.6002103202,479811.77633967128,516179.12044597109,451057.47907949792,1315313.7420718814,796805.03206709423,675528.03529820044,1020134.127843987,1028902.7426570706,1234893.268873187,715106.5371895011,null,11214480.147909161]
["2年度",null,"歳入","当初予算","総額",385439741,111848965,35935224,15738000,17769000,11755711,26812853,15375103,35121000,42529874,8340232,3247100,9067096,12982453,9072727,9076772,9979000,10788631,"13-5",0]
[null,null,null,null,"地方税",124122467,44528000,12542876,3659604,3809050,2772629,9438000,4584837,12350000,12432800,2001112,251243,1345238,2103878,2518814,3856905,4196089,1731392,"13-6",0]
[null,null,null,null,"地方譲与税",3508246,1016000,220677,162000,226950,163019,251600,129500,317068,337800,79600,50483,103313,126139,60100,49701,84200,130096,"13-7",0]
[null,null,null,null,"各種交付金",19145141,6518000,1548000,714500,771600,526006,1559000,804500,2263400,2130400,481800,62982,231000,485400,246700,214469,219000,368384,"13-8",0]
[null,null,null,null,"地方特例交付金",546400,230000,60000,24000,11000,14000,25000,14000,33000,89300,10000,100,2700,11900,2000,7400,4000,8000,"13-9",0]
[null,null,null,null,"地方交付税",65692000,10356000,1350000,5298000,5950000,4050000,4560000,2780000,5380000,7299000,3560000,1697000,3520000,4850000,920000,50000,187000,3885000,"13-10",{"$f":"SUM(G450:W450)-F450","v":0}]
[null,null,null,null,"分担金及び負担金",2142033,291463,365545,234467,24049,17845,171222,115689,110908,499181,55074,12078,34350,54043,37507,30782,15591,72239,"13-11",0]
[null,null,null,null,"使用料及び手数料",4760546,1293912,548246,231975,217621,146503,329677,185182,472345,541494,60834,45523,76939,145415,206188,70939,45217,142536,"13-12",0]
[null,null,null,null,"国庫支出金",53515562,18179883,6113630,1867505,1953082,1346111,3708970,2026807,4842604,4052914,552574,115813,1150841,876705,1340899,2103504,2259172,1024548,"13-13",0]
[null,null,null,null,"県支出金",35828870,9790116,2636709,1524175,1823919,1219306,2278003,1288832,3070258,3372226,516585,300043,1029730,927972,1280623,1696972,2014923,1058478,"13-14",0]
[null,null,null,null,"財産収入",2122043,1238146,16695,26110,45276,21450,59548,41791,260772,77145,9141,9847,48140,100956,8051,42123,42352,74500,"13-15",0]
[null,null,null,null,"繰入金",17358558,4512033,1483648,195466,1347418,119042,541680,799192,1754321,2796120,262856,63892,206149,1335536,345005,136687,617459,842054,"13-16",0]
[null,null,null,null,"地方債",40222500,9768500,7309400,958300,1239500,769300,2737300,1773600,3341800,6171900,556000,517400,837900,1607900,1673300,142800,0,817600,"13-17",0]
[null,null,null,null,"その他",16475375,4126912,1739798,841898,349535,590500,1152853,831173,924524,2729594,194656,120696,480796,356609,433540,674490,293997,633804,"13-18",0]
["元年度",null,"歳入","決算","総額",391987523,103081314,33916408,16721996,18932875,12427406,26644702,15268626,39456462,47368637,8898228,3489178,8512503,14356348,10188560,11529165,10443282,10751833,"13-19",0]
[null,null,null,null,"地方税",128540367,45284461,13444336,3691580,3914392,2819324,9367226,4746079,13815985,12639713,2064263,254478,1350054,2354749,2782899,3929817,4263677,1817334,"13-20",0]
[null,null,null,null,"地方譲与税",3312686,930261,218884,150413,202066,154654,249620,125360,321464,328614,77261,35841,89300,122236,56622,52591,72222,125277,"13-21",0]
[null,null,null,null,"各種交付金",15941820,5618086,1347845,589892,646897,458072,1322789,630112,1659536,1734099,381690,51325,195461,401659,201010,209472,176890,316985,"13-22",0]
[null,null,null,null,"地方特例交付金等",2296172,664374,207799,95005,63736,39388,241666,67391,220605,336809,82396,3362,44529,59872,40835,48534,22553,57318,"13-23",0]
[null,null,null,null,"地方交付税",67770282,10429753,1375948,5283452,6389397,4210348,4485127,3100448,5075502,7352525,3846685,1823221,3789741,5230809,949873,11961,459175,3956317,"13-24",0]
[null,null,null,null,"分担金及び負担金",3050198,196404,383925,248829,53925,87179,283886,249900,244751,589447,13170,2764,34801,75648,66252,404682,23469,91166,"13-25",0]
[null,null,null,null,"使用料及び手数料",5337062,1471640,613876,275990,231333,126984,322818,200375,479909,632469,161419,36978,90739,161547,220817,82450,44996,182722,"13-26",0]
[null,null,null,null,"国庫支出金",52381355,15417206,5827877,1885224,2452176,1526522,3737172,1669857,4454287,4445044,599561,149938,705629,1182113,2317844,2827070,2519115,664720,"13-27",0]
[null,null,null,null,"県支出金",36976994,8913506,2937023,1903606,1765333,1147460,2211546,1320702,2882253,4235970,613014,231285,921741,992768,1543835,2103574,1927254,1326124,"13-28",0]
[null,null,null,null,"財産収入",1743185,119833,102539,24614,74605,66057,66722,44467,347157,72033,10310,15353,71016,399338,14463,50089,42264,222325,"13-29",0]
[null,null,null,null,"繰入金",9110312,47274,981358,153882,657591,92522,371749,411627,2303693,1721686,92700,11877,161213,554126,555311,111375,372948,509380,"13-30",0]
[null,null,null,null,"地方債",36868085,8142853,3012300,1041534,1266500,982668,2273700,1539224,5604900,8781145,579000,506116,339100,1701600,458087,171600,0,467758,"13-31",0]
[null,null,null,null,"その他",28659005,5845663,3462698,1377975,1214924,716228,1710681,1163084,2046420,4499083,376759,366640,719179,1119883,980712,1525950,518719,1014407,"13-32",0]
["2年度",null,"歳出","当初予算","総額",385439741,111848965,35935224,15738000,17769000,11755711,26812853,15375103,35121000,42529874,8340232,3247100,9067096,12982453,9072727,9076772,9979000,10788631,"13-33",0]
[null,null,null,null,"議会費",3268743,691972,289433,186922,197399,162079,248870,161545,268930,304196,122422,52825,87655,93226,99357,99726,109694,92492,"13-34",0]
[null,null,null,null,"総務費",57357311,12646939,8742840,1855716,2055114,1392665,2616454,1532571,4653019,9629186,1049414,890291,1079568,2373857,1431904,1455907,1604233,2347633,"13-35",0]
[null,null,null,null,"民生費",123468030,43372132,9960882,4770720,5406744,3648115,9613136,4785037,11719684,14394966,2601378,375095,1834316,3330520,1569666,1829798,1944282,2311559,"13-36",0]
[null,null,null,null,"衛生費",28314954,6283130,3157762,1928098,1518121,925185,2349728,833334,2211065,2360007,503060,174925,579220,1025548,1449998,691381,1166759,1157633,"13-37",0]
[null,null,null,null,"労働費",1624887,445934,137627,174238,139412,114534,89275,40923,161157,78223,28137,2750,18000,46749,35440,40339,49710,22439,"13-38",0]
[null,null,null,null,"農林水産業費",19008376,3357312,445952,856045,1266279,833536,1168491,698207,1340862,1854676,536143,448115,923214,778759,674425,1111198,1730505,984657,"13-39",0]
[null,null,null,null,"商工費",13502386,2762028,1183426,476937,661244,803390,1046319,424393,1882168,863127,194049,117039,402444,855353,324555,409276,558813,537825,"13-40",0]
[null,null,null,null,"土木費",45175335,15655784,3271385,1962500,2582073,1004200,2529489,3439673,2574612,2518651,1033941,302721,2132168,1042640,1249450,2062299,1074382,739367,"13-41",0]
[null,null,null,null,"消防費",14523914,3687758,1089496,580570,684127,468644,852208,587747,1383755,1647846,346352,98825,362868,903913,807775,321849,293686,406495,"13-42",0]
[null,null,null,null,"教育費",39809318,9481097,5651222,1207150,1676436,1267692,3310924,1370548,3483219,4891284,1057982,320941,885539,1357400,1009695,759950,1180722,897517,"13-43",0]
[null,null,null,null,"災害復旧費",88238,36950,4000,0,3788,0,0,1300,14000,0,0,0,0,0,0,0,28200,0,"13-44",0]
[null,null,null,null,"公債費",37543994,13327929,1981199,1729104,1568263,1127571,2967959,1476397,4001793,3977712,864354,414529,747928,1164188,400462,288778,218014,1287814,"13-45",0]
[null,null,null,null,"その他",1754255,100000,20000,10000,10000,8100,20000,23428,1426736,10000,3000,49044,14176,10300,20000,6271,20000,3200,"13-46",0]
["元年度",null,"歳出","決算","総額",377286557,100612814,32048848,16160553,18044077,12122753,25854513,14721281,38331683,45834125,8624219,3110717,8075619,13626076,9415838,10579178,9961884,10162379,"13-47",0]
[null,null,null,null,"議会費",3182484,665632,274311,179252,188646,154690,243241,159466,257576,341403,97644,53927,88165,95453,94830,95052,102061,91135,"13-48",0]
[null,null,null,null,"総務費",54913111,8913301,5262732,2461590,2370014,1739684,2548947,1720682,8853260,8061785,1217007,529105,1245040,2721704,1887850,2098668,1601283,1680459,"13-49",0]
[null,null,null,null,"民生費",123258948,42679850,10207461,4471404,5494516,3752387,9986195,4511236,11847367,13930908,2682531,403587,1835124,3519840,2010247,1934693,1760537,2231065,"13-50",0]
[null,null,null,null,"衛生費",25555758,5974214,2730291,1720201,1503143,775906,1832719,741843,2123374,2207057,505348,132701,479300,1037459,759167,849952,1076879,1106204,"13-51",0]
[null,null,null,null,"労働費",1737006,416499,137471,163837,144775,113876,119270,52305,247736,80088,38183,5700,18000,45456,38440,43431,49500,22439,"13-52",0]
[null,null,null,null,"農林水産業費",24933994,3154329,427783,788249,1323416,687097,1208089,1419297,1538606,7189758,542460,416711,796531,781860,708523,1249966,1519576,1181743,"13-53",0]
[null,null,null,null,"商工費",15187823,2371275,2400629,594782,857761,608560,1105054,594998,1540292,919503,184675,461625,406352,738015,680245,428417,773980,521660,"13-54",0]
[null,null,null,null,"土木費",40251588,10795876,3802319,2290430,2343493,1568639,2589093,1839051,3256254,2658852,997614,347167,1170356,1248219,1222223,2440015,869046,812941,"13-55",0]
[null,null,null,null,"消防費",13818222,3238286,1246741,617115,660367,392834,853044,667843,1374461,1526925,419458,93686,374461,552247,520839,316912,542360,420643,"13-56",0]
[null,null,null,null,"教育費",36731911,8980722,3607761,1209602,1409027,1211759,2572454,1516221,3277237,5264629,1139193,266042,771934,1666394,833121,837356,1338559,829900,"13-57",0]
[null,null,null,null,"災害復旧費",478703,51619,0,0,126166,0,4064,10757,64090,26180,0,5850,17061,67904,0,6981,95431,2600,"13-58",0]
[null,null,null,null,"公債費",37234428,13370640,1951349,1664091,1622753,1117321,2792343,1487582,3951430,3627037,800106,394616,873295,1151525,660353,275725,232672,1261590,"13-59",0]
[null,null,null,null,"その他",2581,571,0,0,0,0,0,0,0,0,0,0,0,0,0,2010,0,0,"13-60",0]
["2.4.1","14 文化","公共施設数","図書館","館数",2,5,1,1,1,1,1,2,2,4,3,1,3,4,1,1,2,2,"14-1",33]
[null,null,null,null,"図書数",1341915,1252710,274644,194490,210054,144701,352207,163941,548625,640662,177011,44677,116644,208995,70972,90313,142440,117069,"14-2",3408240]
[null,null,null,"公民館","本館",183,50,9,13,9,10,10,9,17,23,7,1,3,1,4,4,4,9,"14-3",0]
[null,null,null,null,"分館",24,6,0,0,0,0,0,0,0,3,1,0,7,4,3,0,0,0,"14-4",0]
["2.3.31",null,null,"公園","都市公園数",937,398,40,24,34,33,190,24,94,81,1,0,0,15,2,1,0,0,"14-5",0]
["2.4.1",null,null,"児童館","児童館数",{"$f":"SUM(G506:W506)","v":108},29,3,5,5,1,15,"-",15,12,6,1,4,7,1,1,2,1,"14-6",0]
["2.3.31",null,"社会教育学級講座",null,"学級講座数",10012,2764,567,72,1155,526,362,571,2261,311,150,19,52,350,71,265,513,3,"14-7",0]
[null,null,null,null,"受講者数",245641,66044,9259,2200,33815,10545,32026,6632,27575,20466,2220,318,1088,4370,15424,3982,9579,98,"14-8",0]
["元.12.31",null,"宗教法人数",null,"仏教系",1691,388,127,139,78,46,111,65,223,121,35,11,72,80,35,39,45,76,"14-9",0]
[null,null,null,null,"キリスト教系",37,12,6,2,2,2,3,2,3,3,0,0,0,0,1,1,0,0,"14-10",0]
[null,null,null,null,"神道諸派",1813,469,106,108,102,83,63,95,167,205,55,35,60,94,40,26,33,72,"14-11",0]
["2.3.31",null,"公会堂・市民会館",null,"箇所数",37,6,2,0,2,2,5,1,3,2,3,1,1,2,0,1,6,0,"14-12",0]
["2.3.31",null,"テレビ",null,"衛星契約数",179773,66518,15768,4863,7131,5095,15453,6853,18092,19822,4624,541,1947,4461,2711,1386,1364,3144,"14-13",0]
["27.10.1","15 労働","産業別就業者数","男","男計",217914,70147,18800,8537,9403,6673,18777,8033,22823,25751,5512,689,2990,6073,3199,3493,2629,4385,null,{"$f":"SUM(G514:W514)-F514","v":0}]
[null,null,null,null,"第1次産業",9789,1889,380,399,934,510,443,610,821,1333,237,93,275,600,265,242,249,509,null,0]
[null,null,null,null,"農業",8326,1710,303,300,848,448,413,583,769,1219,227,73,189,298,166,182,147,451,null,0]
[null,null,null,null,"林業",554,126,10,19,84,59,24,21,45,32,9,19,31,23,3,4,36,9,null,0]
[null,null,null,null,"漁業",909,53,67,80,2,3,6,6,7,82,1,1,55,279,96,56,66,49,null,0]
[null,null,null,null,"第2次産業",84210,23283,6700,3020,3722,2807,8919,3153,11673,10687,1791,281,1290,2654,847,1223,761,1399,null,0]
[null,null,null,null,"鉱業，採石業，砂利採取業",79,16,8,1,5,6,4,1,10,3,2,0,14,3,1,0,0,5,null,0]
[null,null,null,null,"建設業",30243,8864,3736,1498,1833,1008,1824,863,2623,3327,729,116,436,789,539,876,561,621,null,0]
[null,null,null,null,"製造業",53888,14403,2956,1521,1884,1793,7091,2289,9040,7357,1060,165,840,1862,307,347,200,773,null,0]
[null,null,null,null,"第3次産業",120110,42993,11435,5073,4716,3310,8898,4190,9904,13575,3362,310,1409,2768,2085,2003,1605,2474,null,0]
[null,null,null,null,"電気･ ガス･ 熱供給･ 水道業 ",4356,533,1187,245,137,47,106,40,129,178,58,2,21,27,638,464,441,103,null,0]
[null,null,null,null,"情報通信業",3840,1807,210,57,108,97,361,157,262,500,101,5,36,71,24,9,9,26,null,0]
[null,null,null,null,"運輸業，郵便業",12784,4264,1582,306,419,348,999,485,1140,1819,331,36,204,306,147,117,66,215,null,0]
[null,null,null,null,"卸売業，小売業",29022,11326,1910,1170,1142,845,2397,912,2788,3485,852,63,305,673,288,241,169,456,null,0]
[null,null,null,null,"金融業，保険業",3833,1818,206,113,143,99,307,130,315,393,96,9,23,70,20,23,17,51,null,0]
[null,null,null,null,"不動産業，物品賃貸業",2337,1132,199,73,79,48,164,55,155,248,64,1,11,31,9,23,16,29,null,0]
[null,null,null,null,"学術研究，専門・技術サービス業",7429,2449,1369,399,241,116,438,209,554,677,175,13,78,140,175,138,102,156,null,0]
[null,null,null,null,"宿泊業，飲食サービス業",7488,2649,580,315,252,232,506,447,619,837,190,33,97,193,111,145,80,202,null,0]
[null,null,null,null,"生活関連サービス業，娯楽業",5027,1831,376,191,215,151,404,212,435,675,94,11,42,109,60,64,73,84,null,0]
[null,null,null,null,"教育，学習支援業",7599,2861,546,384,314,229,556,268,640,804,278,20,69,174,77,87,82,210,null,0]
[null,null,null,null,"医療，福祉",10476,4069,762,459,508,330,777,365,787,1180,326,28,98,290,72,126,94,205,null,0]
[null,null,null,null,"複合サービス事業",2877,746,166,185,197,87,211,146,252,354,73,14,53,117,60,57,41,118,null,0]
[null,null,null,null,"サービス業（他に分類されないもの）",13548,4194,1643,743,546,362,981,418,1109,1385,451,34,202,328,263,326,250,313,null,0]
[null,null,null,null,"公務(他に分類されないもの)",9494,3314,699,433,415,319,691,346,719,1040,273,41,170,239,141,183,165,306,null,0]
[null,null,null,null,"分類不能の産業",3805,1982,285,45,31,46,517,80,425,156,122,5,16,51,2,25,14,3,null,0]
[null,null,null,"女","女計",181255,59741,14020,6677,8330,5807,16142,7099,18770,21975,4902,582,2513,5056,2087,2298,1733,3523,null,0]
[null,null,null,null,"第1次産業",5037,935,235,238,623,270,179,313,332,717,121,55,126,185,105,197,121,285,null,0]
[null,null,null,null,"農業",4828,904,218,214,614,266,174,310,328,701,116,49,118,166,92,180,105,273,null,0]
[null,null,null,null,"林業",82,24,2,4,9,4,3,3,3,2,4,4,4,4,1,2,5,4,null,0]
[null,null,null,null,"漁業",127,7,15,20,0,0,2,0,1,14,1,2,4,15,12,15,11,8,null,0]
[null,null,null,null,"第2次産業",38392,9649,2059,1312,1844,1617,4711,1558,5744,5316,943,153,597,1330,314,306,296,643,null,0]
[null,null,null,null,"鉱業，採石業，砂利採取業",21,6,3,0,1,4,0,0,0,1,1,0,4,1,0,0,0,0,null,0]
[null,null,null,null,"建設業",5669,1793,668,228,328,173,357,169,524,640,153,15,56,125,95,126,107,112,null,0]
[null,null,null,null,"製造業",32702,7850,1388,1084,1515,1440,4354,1389,5220,4675,789,138,537,1204,219,180,189,531,null,0]
[null,null,null,null,"第3次産業",134566,47382,11522,5101,5837,3889,10823,5155,12355,15813,3702,371,1778,3495,1665,1771,1312,2595,null,0]
[null,null,null,null,"電気･ ガス･ 熱供給･ 水道業 ",432,94,107,32,15,11,17,10,24,33,9,1,3,2,16,23,22,13,null,0]
[null,null,null,null,"情報通信業",1771,832,142,47,31,43,137,51,105,224,50,3,8,28,18,22,15,15,null,0]
[null,null,null,null,"運輸業，郵便業",2965,1001,299,61,111,78,190,169,255,526,84,5,29,63,18,21,24,31,null,0]
[null,null,null,null,"卸売業，小売業",31778,11596,2718,1188,1217,803,2619,1158,3290,3800,750,69,375,776,342,342,206,529,null,0]
[null,null,null,null,"金融業，保険業",5421,2318,372,171,190,142,491,184,443,623,144,3,50,139,41,28,22,60,null,0]
[null,null,null,null,"不動産業，物品賃貸業",1672,817,163,41,39,23,114,35,152,165,36,4,11,23,13,14,8,14,null,0]
[null,null,null,null,"学術研究，専門・技術サービス業",3758,1544,397,104,139,66,281,113,343,425,97,5,25,69,48,32,27,43,null,0]
[null,null,null,null,"宿泊業，飲食サービス業",13579,4411,1533,576,441,316,840,791,1092,1458,311,47,232,402,274,314,201,340,null,0]
[null,null,null,null,"生活関連サービス業，娯楽業",8217,2888,732,274,398,260,650,381,779,1018,180,13,82,189,97,78,72,126,null,0]
[null,null,null,null,"教育，学習支援業",10859,4057,709,445,444,349,867,417,1002,1202,383,30,126,242,132,104,101,249,null,0]
[null,null,null,null,"医療，福祉",40283,13167,3142,1531,2127,1377,3595,1332,3673,4798,1312,154,621,1199,440,536,381,898,null,0]
[null,null,null,null,"複合サービス事業",1941,512,127,92,127,83,162,86,178,241,50,13,53,72,27,30,25,63,null,0]
[null,null,null,null,"サービス業（他に分類されないもの）",7866,2751,753,346,370,205,552,281,638,893,199,12,114,179,135,173,135,130,null,0]
[null,null,null,null,"公務(他に分類されないもの)",4024,1394,328,193,188,133,308,147,381,407,97,12,49,112,64,54,73,84,null,0]
[null,null,null,null,"分類不能の産業",3260,1775,204,26,26,31,429,73,339,129,136,3,12,46,3,24,4,0,null,0]
["2.4.1","16 社会福祉","社会福祉施設","施設数","生活保護施設",2,1,0,0,1,0,0,0,0,0,0,0,0,0,0,0,0,0,"16-1",0]
[null,null,null,null,"地域福祉施設",3,0,1,0,0,0,0,0,0,0,0,0,0,1,0,0,0,1,"16-2",0]
[null,null,null,null,"老人福祉施設",179,56,11,10,8,5,10,7,21,21,4,3,5,6,1,5,2,4,"16-3",0]
[null,null,null,null,"介護保険施設",1195,427,105,41,72,35,81,48,107,125,22,6,16,31,16,17,15,32,"16-4",1]
[null,null,null,null,"身体障害者福祉施設（旧法施設）",2,2,0,0,0,0,0,0,0,0,0,0,0,0,0,0,0,0,"16-5",0]
[null,null,null,null,"障害福祉サービス事務所",533,183,37,26,33,19,41,34,54,48,6,3,5,11,7,3,5,18,"16-6",0]
[null,null,null,null,"指定障害者支援施設",27,9,1,3,2,4,2,1,2,1,0,0,0,2,0,0,0,0,"16-7",0]
[null,null,null,null,"指定相談支援事業所",26,4,3,3,3,0,3,3,2,3,0,0,0,1,0,0,0,1,"16-8",0]
[null,null,null,null,"児童福祉施設",532,185,37,22,23,14,45,18,54,53,13,2,8,21,7,10,7,12,"16-9",-1]
[null,null,null,null,"母子福祉施設",1,1,0,0,0,0,0,0,0,0,0,0,0,0,0,0,0,0,"16-10",0]
[null,null,null,null,"婦人保護施設",1,1,0,0,0,0,0,0,0,0,0,0,0,0,0,0,0,0,"16-11",0]
[null,null,null,null,"その他社会福祉施設",13,5,2,0,0,0,0,0,1,1,0,0,0,0,2,1,1,0,"16-12",0]
[null,null,null,null,"ふくい健康の森",4,4,0,0,0,0,0,0,0,0,0,0,0,0,0,0,0,0,"16-13",0]
[null,null,null,"定員数","生活保護施設",140,0,0,0,140,0,0,0,0,0,0,0,0,0,0,0,0,0,"16-14",0]
[null,null,null,null,"地域福祉施設",0,0,0,0,0,0,0,0,0,0,0,0,0,0,0,0,0,0,"16-15",{"$f":"SUM(G578:W578)-F578","v":0}]
[null,null,null,null,"老人福祉施設",5626,1755,214,113,386,76,143,658,642,690,525,22,75,208,0,54,10,55,"16-16",0]
[null,null,null,null,"介護保険施設",23346,8084,2010,801,1156,785,1619,973,2276,2426,567,104,442,726,268,309,312,488,"16-17",0]
[null,null,null,null,"身体障害者福祉施設（旧法施設）",0,0,0,0,0,0,0,0,0,0,0,0,0,0,0,0,0,0,"16-18",0]
[null,null,null,null,"障害福祉サービス事務所",6342,2576,396,250,251,233,480,430,649,596,45,20,44,60,81,0,46,185,"16-19",0]
[null,null,null,null,"指定障害者支援施設",1663,500,30,120,110,215,190,50,138,125,0,0,0,185,0,0,0,0,"16-20",0]
[null,null,null,null,"指定相談支援事業所",0,0,0,0,0,0,0,0,0,0,0,0,0,0,0,0,0,0,"16-21",0]
[null,null,null,null,"児童福祉施設",32597,11835,2519,1060,1175,874,2885,1118,3224,3910,746,80,445,905,330,420,390,681,"16-22",0]
[null,null,null,null,"母子福祉施設",0,0,0,0,0,0,0,0,0,0,0,0,0,0,0,0,0,0,"16-23",0]
[null,null,null,null,"婦人保護施設",15,15,0,0,0,0,0,0,0,0,0,0,0,0,0,0,0,0,"16-24",0]
[null,null,null,null,"その他社会福祉施設",0,0,0,0,0,0,0,0,0,0,0,0,0,0,0,0,0,0,"16-25",0]
[null,null,null,null,"ふくい健康の森",0,0,0,0,0,0,0,0,0,0,0,0,0,0,0,0,0,0,"16-26",0]
["2.5.1","17 教育","小学校","学校数","計",196,52,15,9,10,10,12,10,17,19,7,1,4,8,3,5,4,10,"17-1",0]
[null,null,null,null,"本校",195,52,15,9,10,10,12,10,17,19,7,1,4,8,3,4,4,10,"17-2",0]
[null,null,null,null,"分校",1,0,0,0,0,0,0,0,0,0,0,0,0,0,0,1,0,0,"17-3",0]
[null,null,null,"教員数","本務",3095,946,242,135,124,112,260,110,296,351,91,12,55,107,41,51,55,107,"17-4",0]
[null,null,null,null,"兼務",477,124,45,24,24,21,37,20,53,51,15,2,8,21,5,8,6,13,"17-5",0]
[null,null,null,"児童数","総数",40177,13484,3496,1477,1391,1063,4098,1239,4190,5033,941,69,490,1056,391,499,490,770,"17-6",0]
[null,null,null,null,"男",20643,6992,1777,762,705,551,2098,618,2181,2551,470,34,272,526,200,269,247,390,"17-7",0]
[null,null,null,null,"女",19534,6492,1719,715,686,512,2000,621,2009,2482,471,35,218,530,191,230,243,380,"17-8",0]
[null,null,"中学校","学校数","計",82,28,7,2,5,4,3,2,8,5,3,1,3,4,1,2,2,2,"17-9",0]
[null,null,null,null,"本校",80,27,7,2,5,4,3,2,7,5,3,1,3,4,1,2,2,2,"17-10",0]
[null,null,null,null,"分校",2,1,0,0,0,0,0,0,1,0,0,0,0,0,0,0,0,0,"17-11",0]
[null,null,null,"教員数","本務",1832,603,143,64,83,67,140,60,184,193,54,13,35,63,24,32,28,46,"17-12",0]
[null,null,null,null,"兼務",345,169,45,9,16,9,9,3,29,13,6,1,10,13,1,6,3,3,"17-13",0]
[null,null,null,"生徒数","総数",21170,7180,1806,749,813,594,2077,665,2269,2575,497,47,262,551,193,269,216,407,"17-14",0]
[null,null,null,null,"男",10848,3662,942,386,422,308,1070,338,1165,1355,246,28,139,265,96,135,111,180,"17-15",0]
[null,null,null,null,"女",10322,3518,864,363,391,286,1007,327,1104,1220,251,19,123,286,97,134,105,227,"17-16",0]
[null,null,"高等学校","学校数","計",35,13,4,2,2,1,2,1,5,3,0,0,0,1,0,0,0,1,"17-17",0]
[null,null,null,null,"本校",35,13,4,2,2,1,2,1,5,3,0,0,0,1,0,0,0,1,"17-18",0]
[null,null,null,null,"分校",0,0,0,0,0,0,0,0,0,0,0,0,0,0,0,0,0,0,"17-19",0]
[null,null,null,"教員数","本務",1654,716,142,119,84,34,85,50,198,155,0,0,0,32,0,0,0,39,"17-20",0]
[null,null,null,null,"兼務",789,367,55,22,30,10,54,10,174,41,0,0,0,13,0,0,0,13,"17-21",0]
[null,null,null,"生徒数","総数",21221,10770,1804,1265,803,311,883,637,2337,1611,0,0,0,342,0,0,0,458,"17-22",0]
[null,null,null,null,"男",10760,5194,1038,659,433,156,450,364,1200,918,0,0,0,200,0,0,0,148,"17-23",0]
[null,null,null,null,"女",10461,5576,766,606,370,155,433,273,1137,693,0,0,0,142,0,0,0,310,"17-24",0]
[null,null,"大学・短期大学","学校数","本校",9,4,2,0,0,0,0,0,1,0,2,0,0,0,0,0,0,0,"17-25",0]
[null,null,null,null,"分校",2,0,0,1,0,0,0,"-",0,0,0,0,0,0,0,0,0,0,"17-26",-1]
[null,null,null,"教員数","本務",1080,489,48,22,0,0,0,"-",61,0,460,0,0,0,0,0,0,0,"17-27",0]
[null,null,null,null,"兼務",843,382,22,18,0,0,0,0,84,0,337,0,0,0,0,0,0,0,"17-28",0]
[null,null,null,"学生数","総数",11637,7152,366,185,0,0,0,0,1220,0,2714,0,0,0,0,0,0,0,"17-29",0]
[null,null,null,null,"男",6965,5068,130,143,0,0,0,0,338,0,1286,0,0,0,0,0,0,0,"17-30",0]
[null,null,null,null,"女",4672,2084,236,42,0,0,0,0,882,0,1428,0,0,0,0,0,0,0,"17-31",0]
[null,null,"高等専門学校","学校数","本校",1,0,0,0,0,0,1,0,0,0,0,0,0,0,0,0,0,0,"17-32",0]
[null,null,null,null,"分校",0,0,0,0,0,0,0,0,0,0,0,0,0,0,0,0,0,0,"17-33",0]
[null,null,null,"教員数","本務",77,0,0,0,0,0,77,0,0,0,0,0,0,0,0,0,0,0,"17-34",0]
[null,null,null,null,"兼務",41,0,0,0,0,0,41,0,0,0,0,0,0,0,0,0,0,0,"17-35",0]
[null,null,null,"学生数","総数",991,0,0,0,0,0,991,0,0,0,0,0,0,0,0,0,0,0,"17-36",0]
[null,null,null,null,"男",785,0,0,0,0,0,785,0,0,0,0,0,0,0,0,0,0,0,"17-37",0]
[null,null,null,null,"女",206,0,0,0,0,0,206,0,0,0,0,0,0,0,0,0,0,0,"17-38",0]
[null,null,"特別支援学校","学校数","計",12,7,0,1,0,1,0,0,1,1,0,0,0,0,1,0,0,0,"17-39",0]
[null,null,null,null,"本校",12,7,0,1,0,1,0,0,1,1,0,0,0,0,1,0,0,0,"17-40",0]
[null,null,null,null,"分校",0,0,0,0,0,0,0,0,0,0,0,0,0,0,0,0,0,0,"17-41",0]
[null,null,null,"教員数","本務",760,372,0,57,0,57,0,0,79,110,0,0,0,0,85,0,0,0,"17-42",0]
[null,null,null,null,"兼務",73,58,0,0,0,3,0,0,3,5,0,0,0,0,4,0,0,0,"17-43",0]
[null,null,null,"生徒数","総数",980,411,0,71,0,57,0,0,132,184,0,0,0,0,125,0,0,0,"17-44",0]
[null,null,null,null,"男",593,246,0,44,0,32,0,0,79,121,0,0,0,0,71,0,0,0,"17-45",0]
[null,null,null,null,"女",387,165,0,27,0,25,0,0,53,63,0,0,0,0,54,0,0,0,"17-46",0]
[null,null,"幼稚園","園数","計",67,23,4,1,7,1,4,0,11,12,3,0,0,0,0,0,1,0,"17-47",0]
[null,null,null,null,"本校",67,23,4,1,7,1,4,0,11,12,3,0,0,0,0,0,1,0,"17-48",0]
[null,null,null,null,"分校",0,0,0,0,0,0,0,0,0,0,0,0,0,0,0,0,0,0,"17-49",0]
[null,null,null,"教員数","本務",224,69,24,16,9,4,17,0,39,37,9,0,0,0,0,0,0,0,"17-50",0]
[null,null,null,null,"兼務",79,42,11,0,0,0,3,0,23,0,0,0,0,0,0,0,0,0,"17-51",0]
[null,null,null,"園児数","総数",1311,{"$f":"356+127","v":483},179,82,28,20,124,0,265,74,56,0,0,0,0,0,0,0,"17-52",0]
[null,null,null,null,"男",652,{"$f":"155+64","v":219},85,43,14,7,72,0,147,38,27,0,0,0,0,0,0,0,"17-53",{"$f":"SUM(G642:W642)-F642","v":0}]
[null,null,null,null,"女",659,{"$f":"201+63","v":264},94,39,14,13,52,0,118,36,29,0,0,0,0,0,0,0,"17-54",0]
[null,null,"幼保連携型","園数","計",129,63,3,1,8,7,5,12,15,5,0,1,2,2,0,1,4,0,null,0]
[null,null,"認定こども園",null,"本校",128,62,3,1,8,7,5,12,15,5,0,1,2,2,0,1,4,0,null,0]
[null,null,null,null,"分校",1,1,0,0,0,0,0,0,0,0,0,0,0,0,0,0,0,0,null,0]
[null,null,null,"教員数","本務",2471,1294,61,21,143,125,113,213,246,103,0,12,31,31,0,10,68,0,null,0]
[null,null,null,null,"兼務",353,228,20,0,0,8,26,4,28,15,0,2,19,0,0,0,3,0,null,0]
[null,null,null,"園児数","総数",14098,7515,546,142,798,534,747,891,1533,624,0,61,268,121,0,4,314,0,null,0]
[null,null,null,null,"男",7223,3912,254,64,407,279,359,455,809,293,0,32,138,69,0,2,150,0,null,0]
[null,null,null,null,"女",6875,3603,292,78,391,255,388,436,724,331,0,29,130,52,0,2,164,0,null,0]
[null,null,"各種学校","学校数","計",12,4,3,1,1,1,"-","-",1,1,0,0,0,0,0,0,0,0,"17-55",0]
[null,null,null,null,"本校",12,4,3,1,1,1,"-","-",1,1,0,0,0,0,0,0,0,0,"17-56",0]
[null,null,null,null,"分校",0,0,0,0,0,0,0,0,0,0,0,0,0,0,0,0,0,0,"17-57",0]
[null,null,null,"教員数","本務",220,108,33,14,9,20,"-","-",25,11,0,0,0,0,0,0,0,0,"17-58",0]
[null,null,null,null,"兼務",12,8,"-",0,2,0,0,0,2,0,0,0,0,0,0,0,0,0,"17-59",0]
[null,null,null,"生徒数","総数",1856,1171,226,102,33,54,"-","-",180,90,0,0,0,0,0,0,0,0,"17-60",0]
[null,null,null,null,"男",1203,733,173,65,24,40,"-","-",108,60,0,0,0,0,0,0,0,0,"17-61",0]
[null,null,null,null,"女",653,438,53,37,9,14,"-","-",72,30,0,0,0,0,0,0,0,0,"17-62",0]
[null,null,"専修学校","学校数","計",20,13,0,2,0,0,0,0,1,1,2,0,0,0,1,0,0,0,"17-63",0]
[null,null,null,null,"本校",20,13,0,2,0,0,0,0,1,1,2,0,0,0,1,0,0,0,"17-64",0]
[null,null,null,null,"分校",0,0,0,0,0,0,0,0,0,0,0,0,0,0,0,0,0,0,"17-65",0]
[null,null,null,"教員数","本務",159,93,0,20,0,0,0,0,10,6,20,0,0,0,10,0,0,0,"17-66",0]
[null,null,null,null,"兼務",350,208,0,90,0,0,0,0,0,4,18,0,0,0,30,0,0,0,"17-67",0]
[null,null,null,"生徒数","総数",1477,931,0,158,0,0,0,0,102,76,125,0,0,0,85,0,0,0,"17-68",0]
[null,null,null,null,"男",511,346,0,50,0,0,0,0,16,11,45,0,0,0,43,0,0,0,"17-69",0]
[null,null,null,null,"女",966,585,0,108,0,0,0,0,86,65,80,0,0,0,42,0,0,0,"17-70",0]
["元.10.1","18 衛生","医療関係施設数",null,"病院",67,27,5,2,4,2,7,3,7,4,1,0,0,2,0,1,0,2,"18-1",0]
[null,null,null,null,"一般病院",57,23,3,2,4,1,6,3,6,4,1,0,0,2,0,1,0,1,"18-2",0]
[null,null,null,null,"一般診療所",573,257,47,19,23,13,40,15,46,47,11,3,8,10,10,7,7,10,"18-3",0]
[null,null,null,null,"有床",62,34,3,1,1,3,4,0,8,3,0,0,2,1,0,0,1,1,"18-4",0]
[null,null,null,null,"歯科診療所",300,136,23,8,11,8,23,9,31,24,7,1,2,6,3,2,3,3,"18-5",0]
["30.12.31",null,"医療関係者数",null,"医師",2057,979,126,68,29,43,110,39,97,77,418,3,9,15,6,13,6,19,"18-6",0]
[null,null,null,null,"歯科医師",445,201,35,15,17,13,35,16,38,31,19,1,3,8,3,3,2,5,"18-7",0]
[null,null,null,null,"薬剤師",1466,677,130,53,31,44,95,52,115,122,88,0,3,22,2,14,4,14,"18-8",0]
[null,null,null,null,"保健師",477,155,54,28,20,20,35,22,40,34,17,3,8,11,9,11,0,10,"18-9",0]
[null,null,null,null,"助産師",248,137,37,23,1,1,10,3,9,5,19,0,0,0,0,2,0,1,"18-10",0]
[null,null,null,null,"看護師･准看護師",11822,5490,1033,459,261,357,877,312,839,675,869,15,68,159,46,124,51,187,"18-11",0]
["元年中",null,"主な死因別死亡数",null,"全死因",9593,2995,760,407,561,369,685,402,1018,948,213,59,178,337,164,139,119,239,"18-12",0]
[null,null,null,null,"結核",7,5,0,0,0,0,0,0,0,1,0,0,0,0,0,0,0,1,"18-13",0]
[null,null,null,null,"悪性新生物",2350,777,187,89,142,74,183,109,239,234,47,10,41,75,31,35,24,53,"18-14",0]
[null,null,null,null,"高血圧性疾患",72,13,14,5,4,5,5,2,3,8,1,2,3,0,4,0,2,1,"18-15",0]
[null,null,null,null,"心疾患",1550,495,112,55,78,57,90,64,212,156,38,10,27,65,24,16,17,34,"18-16",0]
[null,null,null,null,"脳血管疾患",802,261,48,23,57,41,62,30,83,75,22,3,20,23,13,9,11,21,"18-17",0]
[null,null,null,null,"肺炎",717,219,44,29,24,23,73,31,105,54,25,8,15,23,16,4,8,16,"18-18",0]
[null,null,null,null,"老衰",851,197,102,41,60,37,36,18,78,99,20,7,2,51,29,13,20,41,"18-19",0]
[null,null,null,null,"不慮の事故",336,110,19,17,14,12,29,16,44,30,4,3,8,2,3,7,5,13,"18-20",0]
[null,null,null,null,"（うち交通事故）",32,9,1,1,1,0,4,1,6,1,0,1,1,0,1,0,2,3,"18-21",0]
["2.4.1","19 警察・消防","警察",null,"警察署数",11,2,1,1,1,1,1,1,1,2,0,0,0,0,0,0,0,0,"19-1",0]
[null,null,null,null,"交番・駐在所・検問所数",136,36,8,6,8,5,8,6,15,12,4,2,4,6,3,3,5,5,"19-2",0]
["元年中",null,null,null,"刑法犯認知件数",3088,1395,324,153,68,38,253,80,259,277,43,11,22,49,24,34,22,36,"19-3",0]
[null,null,null,null,"交通人身事故発生件数",1138,526,103,36,21,13,106,33,71,138,10,"-",10,18,13,14,8,18,40,0]
["元年中",null,"消防",null,"火災発生件数",170,51,12,15,1,6,18,3,18,23,4,1,1,3,2,4,3,5,"19-6",0]
[null,null,null,null,"焼損棟数",155,52,6,11,0,5,15,11,20,22,5,0,2,1,2,2,0,1,"19-7",0]
[null,null,null,null,"林野焼損面積",30,0,0,0,0,4,0,0,25,0,0,0,0,1,0,0,0,0,"19-8",0]
[null,null,null,null,"損害見積額",1040114,155456,18616,74035,4074,15007,8459,94031,33638,66325,565556,0,8,147,48,33,3247,1434,"19-9",0]
["2.4.1",null,null,null,"消防自動車数",266,39,21,11,17,7,20,16,14,41,14,5,11,25,9,3,5,8,"19-10",0]
[null,null,null,null,"その他のﾎﾟﾝﾌﾟ数",383,107,12,36,36,37,2,3,20,10,15,2,7,4,14,23,21,34,"19-11",0]
[null,null,null,null,"消防吏員",1246,372,109,71,55,38,84,46,105,154,41,9,37,35,19,16,23,32,"19-12",0]
[null,null,null,null,"消防団員",5814,1010,274,370,455,295,223,248,540,462,262,210,59,352,229,148,169,508,"19-13",0]

{"sheet":"福井県","index":4,"n_rows":93,"n_cols":104,"rows_kept":93,"cut":false,"hidden":false,"merged":[[56,40,56,43],[57,40,57,43],[60,40,60,43],[59,44,59,59],[18,25,18,27],[17,25,17,27],[20,82,20,85],[20,92,20,95],[20,100,20,103],[20,96,20,99],[20,87,20,91],[22,87,22,91],[21,87,21,91],[21,96,21,99],[22,100,22,103],[22,96,22,99],[26,87,26,91],[21,92,21,95],[22,92,22,95],[25,96,25,99],[26,92,26,95],[26,96,26,99],[24,96,24,99],[24,92,24,95],[23,100,23,103],[21,82,21,85],[22,82,22,85],[25,92,25,95],[24,100,24,103],[23,92,23,95],[21,100,21,103],[25,100,25,103],[23,87,23,91],[24,87,24,91],[25,87,25,91],[23,82,23,85],[25,82,25,85],[26,82,26,85],[32,50,32,52],[41,36,41,37],[92,6,92,8],[87,14,87,16],[88,14,88,16],[89,14,89,16],[90,14,90,16],[91,14,91,16],[91,6,91,8],[89,6,89,8],[90,6,90,8],[87,6,87,8],[81,10,81,12],[82,10,82,12],[83,10,83,12],[81,7,81,9],[81,13,81,15],[50,33,50,38],[81,22,81,24],[53,33,53,34],[64,10,64,12],[62,10,62,12],[55,7,55,9],[88,6,88,8],[83,4,83,6],[50,29,50,32],[51,29,51,32],[51,25,51,28],[60,0,60,6],[68,0,68,6],[81,4,81,6],[64,13,64,15],[71,13,71,15],[72,22,72,24],[72,25,72,28],[72,13,72,15],[67,7,67,9],[66,10,66,12],[66,13,66,15],[66,16,66,18],[70,10,70,12],[67,0,67,6],[67,16,67,18],[67,13,67,15],[72,19,72,21],[71,0,71,6],[70,7,70,9],[64,22,64,24],[65,0,65,6],[65,16,65,18],[64,7,64,9],[65,7,65,9],[53,29,53,31],[62,7,62,9],[66,7,66,9],[60,7,60,9],[62,0,62,6],[61,0,61,6],[86,2,86,5],[83,19,83,21],[86,6,86,8],[82,7,82,9],[83,7,83,9],[82,4,82,6],[86,14,86,16],[85,9,85,16],[86,9,86,13],[85,2,85,8],[66,19,66,21],[69,22,69,24],[70,25,70,28],[66,22,66,24],[76,10,76,24],[69,13,69,15],[71,25,71,28],[71,22,71,24],[70,13,70,15],[70,22,70,24],[69,10,69,12],[69,16,69,18],[71,10,71,12],[71,19,71,21],[72,10,72,12],[69,0,69,6],[69,7,69,9],[66,0,66,6],[69,19,69,21],[69,25,69,28],[71,16,71,18],[72,16,72,18],[40,29,40,30],[51,33,51,35],[51,36,51,38],[55,31,55,34],[60,29,60,30],[62,19,62,21],[47,0,47,1],[57,35,57,37],[55,19,55,21],[56,13,56,15],[57,13,57,15],[55,13,55,15],[58,13,58,15],[58,16,58,18],[60,13,60,15],[57,10,57,12],[53,25,53,27],[54,25,54,32],[61,16,61,18],[62,16,62,18],[59,16,59,18],[62,13,62,15],[57,16,57,18],[55,16,55,18],[55,10,55,12],[56,10,56,12],[55,0,55,6],[56,7,56,9],[50,25,50,28],[61,10,61,12],[59,0,59,6],[53,36,53,37],[21,29,21,31],[21,32,21,34],[19,29,19,31],[19,32,19,34],[21,25,21,28],[18,35,18,38],[24,27,24,28],[23,35,23,38],[24,33,24,34],[25,25,25,26],[25,27,25,28],[24,37,24,38],[24,29,24,30],[24,35,24,36],[25,31,26,32],[25,33,26,34],[25,29,26,30],[20,29,20,31],[22,32,22,34],[36,29,36,30],[45,36,45,37],[50,0,51,24],[40,19,40,21],[27,35,27,36],[40,32,40,35],[41,32,41,35],[57,0,57,6],[57,7,57,9],[63,7,63,9],[68,25,68,28],[67,19,67,21],[67,22,67,24],[68,22,68,24],[65,22,65,24],[61,19,61,21],[59,22,59,24],[61,22,61,24],[59,19,59,21],[58,19,58,21],[57,19,57,21],[66,32,66,34],[66,35,66,38],[60,16,60,18],[59,13,59,15],[61,13,61,15],[41,22,41,24],[40,2,40,3],[44,25,44,28],[46,25,46,28],[35,18,35,19],[31,11,31,13],[14,68,15,82],[23,16,23,18],[15,35,15,37],[19,35,19,38],[18,28,18,30],[21,35,21,38],[24,50,24,52],[25,41,25,47],[33,41,33,47],[40,50,40,52],[33,50,33,52],[34,50,34,52],[36,50,36,52],[39,41,39,47],[37,50,37,52],[34,41,34,47],[40,41,40,47],[34,36,34,37],[22,74,22,77],[40,54,40,57],[39,54,39,57],[38,61,38,65],[39,68,39,74],[37,80,37,83],[31,82,31,85],[23,25,23,28],[34,29,34,30],[35,22,35,24],[15,29,15,30],[15,32,15,33],[14,25,15,25],[14,26,15,28],[71,35,71,37],[71,29,71,30],[69,32,69,33],[74,32,74,33],[74,40,74,43],[72,35,72,37],[74,35,74,37],[73,40,73,43],[70,29,70,30],[70,32,70,33],[68,29,68,30],[72,29,72,30],[72,32,72,33],[69,35,69,37],[72,49,72,53],[73,32,73,33],[73,49,73,53],[73,44,73,48],[74,44,74,48],[72,44,72,48],[73,35,73,37],[71,40,71,43],[68,32,68,33],[68,49,68,53],[70,35,70,37],[68,35,68,37],[69,29,69,30],[71,32,71,33],[71,58,71,62],[73,58,73,62],[74,58,74,62],[71,49,71,53],[75,40,75,43],[78,68,78,72],[80,97,80,99],[68,89,68,91],[70,101,70,103],[70,89,70,91],[70,98,70,100],[70,95,70,97],[71,68,72,82],[72,63,72,67],[74,69,74,75],[75,63,75,67],[73,87,73,93],[73,96,73,102],[74,78,74,84],[74,88,74,92],[74,97,74,101],[73,78,73,84],[74,63,74,67],[71,63,71,67],[68,95,68,97],[73,63,73,67],[78,96,78,99],[72,40,72,43],[71,54,71,57],[72,58,72,62],[72,54,72,57],[78,92,78,95],[86,93,86,96],[87,81,87,84],[87,99,87,102],[87,93,87,96],[85,99,85,102],[88,69,88,78],[67,98,67,103],[68,101,68,103],[70,86,70,88],[69,40,69,67],[70,44,70,48],[77,88,77,91],[76,63,76,67],[68,83,68,85],[77,78,77,82],[76,70,76,73],[74,54,74,57],[74,49,74,53],[77,49,77,53],[78,78,78,82],[78,73,78,77],[79,102,79,103],[80,83,80,87],[77,92,77,95],[77,63,77,67],[76,88,76,91],[78,63,78,67],[79,98,79,99],[79,63,79,67],[76,79,76,82],[84,93,84,96],[70,58,70,62],[83,29,83,30],[83,32,83,33],[80,35,81,38],[81,40,81,43],[81,32,81,34],[81,58,81,62],[81,49,81,53],[81,44,81,48],[81,54,81,57],[81,63,81,67],[88,62,88,67],[80,40,80,43],[80,58,80,62],[80,54,80,57],[80,89,80,91],[80,79,80,81],[80,63,80,67],[89,32,89,34],[88,44,88,49],[90,59,90,61],[90,22,90,24],[89,62,89,64],[88,22,88,24],[88,35,88,38],[88,32,88,34],[88,51,88,54],[90,45,90,46],[90,47,90,49],[89,40,89,43],[88,28,88,29],[86,22,86,24],[86,87,86,90],[81,29,81,31],[80,25,81,28],[82,58,82,62],[82,54,82,57],[82,63,82,67],[84,54,84,57],[80,44,80,48],[80,49,80,53],[83,40,83,43],[84,40,84,43],[82,40,82,43],[87,22,87,24],[85,17,85,24],[81,19,81,21],[81,16,81,18],[84,81,84,84],[84,58,84,62],[91,26,91,27],[91,28,91,29],[91,30,91,31],[91,32,91,34],[91,53,91,58],[90,99,90,102],[86,81,86,84],[88,87,88,90],[89,99,89,102],[84,69,84,78],[85,87,85,90],[85,81,85,84],[84,86,84,91],[84,99,84,102],[86,99,86,102],[90,65,90,67],[90,93,90,96],[89,69,89,78],[87,69,87,78],[89,93,89,96],[88,81,88,84],[88,93,88,96],[90,81,90,84],[89,81,89,84],[88,99,88,102],[85,93,85,96],[87,87,87,90],[91,93,91,96],[91,99,91,102],[90,87,90,90],[89,87,89,90],[86,69,86,78],[92,62,92,67],[92,40,92,43],[92,44,92,46],[92,50,92,52],[92,53,92,58],[92,47,92,49],[90,40,90,43],[91,35,91,36],[90,69,90,78],[91,37,91,38],[91,40,91,43],[91,62,91,67],[83,26,83,27],[88,30,88,31],[84,44,84,48],[91,44,91,46],[91,47,91,49],[85,69,85,78],[83,36,83,37],[90,62,90,64],[83,58,83,62],[84,63,84,67],[83,44,83,48],[83,49,83,53],[90,53,90,55],[84,49,84,53],[90,51,90,52],[83,54,83,57],[90,56,90,58],[83,63,83,67],[91,50,91,52],[91,69,91,78],[78,83,78,87],[80,69,80,71],[80,74,80,76],[81,68,82,103],[78,100,78,103],[80,101,80,103],[80,93,80,95],[78,88,78,91],[82,49,82,53],[79,49,79,53],[82,44,82,48],[75,54,75,57],[65,99,65,103],[64,69,64,72],[65,84,65,88],[65,89,65,93],[65,69,65,72],[65,74,65,78],[65,94,65,98],[65,79,65,83],[77,44,77,48],[76,44,76,48],[76,49,76,53],[75,49,75,53],[75,44,75,48],[76,97,76,100],[77,83,77,87],[70,78,70,79],[70,80,70,82],[71,83,72,103],[68,54,68,57],[68,58,68,62],[68,63,68,67],[68,77,68,79],[63,90,63,92],[63,85,63,87],[68,92,68,94],[67,83,67,85],[65,58,65,64],[68,80,68,82],[68,86,68,88],[65,54,65,57],[67,80,67,82],[67,68,70,72],[70,73,70,76],[68,73,68,76],[70,84,70,85],[67,58,67,62],[67,54,67,57],[70,54,70,57],[66,77,66,91],[67,89,67,91],[66,40,66,67],[67,44,67,48],[68,40,68,43],[65,40,65,43],[70,92,70,94],[70,63,70,67],[67,63,67,67],[65,44,65,50],[70,40,70,43],[70,49,70,53],[67,40,67,43],[60,98,60,103],[60,86,60,91],[60,92,60,97],[60,19,60,21],[57,62,57,64],[58,53,58,55],[58,62,58,64],[57,65,57,67],[58,59,58,61],[57,31,57,33],[63,95,63,97],[63,100,63,102],[62,88,62,90],[62,100,62,102],[62,94,62,96],[58,40,58,43],[61,69,61,72],[61,81,61,84],[62,76,62,78],[59,60,59,63],[62,69,62,72],[62,82,62,84],[61,29,61,30],[61,36,61,37],[60,36,60,37],[62,22,62,24],[57,25,57,29],[57,22,57,24],[62,29,62,30],[60,22,60,24],[61,40,61,43],[63,75,63,77],[55,64,55,66],[56,84,56,87],[56,81,56,83],[55,81,55,83],[56,69,56,76],[56,78,56,80],[56,92,56,95],[54,88,54,91],[57,48,57,51],[57,52,57,55],[57,59,57,61],[56,49,56,54],[55,69,55,76],[55,60,55,63],[54,78,54,80],[61,64,61,67],[57,44,57,47],[60,64,60,67],[60,60,60,63],[58,65,58,67],[58,56,58,58],[60,55,60,59],[58,49,58,51],[57,56,57,58],[55,52,55,54],[61,60,61,63],[61,50,61,54],[61,44,61,49],[50,100,50,103],[51,100,51,103],[51,96,51,99],[50,88,50,91],[49,100,49,103],[56,96,56,99],[52,100,52,103],[53,100,53,103],[55,96,55,99],[56,100,56,103],[53,96,53,99],[52,96,52,99],[54,100,54,103],[54,96,54,99],[55,100,55,103],[53,78,53,80],[53,81,53,83],[53,84,53,87],[53,88,53,91],[53,92,53,95],[54,92,54,95],[54,81,54,83],[54,84,54,87],[55,84,55,87],[55,88,55,91],[55,92,55,95],[55,78,55,80],[56,88,56,91],[49,69,49,76],[51,92,51,95],[49,63,49,67],[51,78,51,80],[51,81,51,83],[51,84,51,87],[48,84,48,87],[48,78,48,80],[51,88,51,91],[48,96,48,99],[50,96,50,99],[52,78,52,80],[52,81,52,83],[52,84,52,87],[52,88,52,91],[52,92,52,95],[50,92,50,95],[49,88,49,91],[49,92,49,95],[50,84,50,87],[50,78,50,80],[49,81,49,83],[50,81,50,83],[51,69,51,76],[48,63,48,66],[49,47,49,50],[48,22,48,24],[48,13,48,15],[48,16,48,18],[48,19,48,21],[49,40,49,46],[44,29,44,30],[42,36,42,37],[42,32,42,35],[46,0,46,1],[44,0,45,1],[47,22,47,24],[44,32,44,35],[45,32,45,35],[47,16,47,18],[46,32,46,35],[42,4,42,6],[42,13,42,15],[42,41,42,47],[45,25,45,28],[42,7,42,9],[42,10,42,12],[42,16,42,18],[43,41,43,47],[43,50,43,52],[46,36,46,37],[47,10,47,12],[47,13,47,15],[44,19,44,24],[47,19,47,21],[47,7,47,9],[48,10,48,12],[36,41,36,47],[39,61,39,65],[38,54,38,57],[37,68,37,74],[37,61,37,65],[34,54,34,57],[38,50,38,52],[35,41,35,47],[33,54,33,57],[35,54,35,57],[35,50,35,52],[35,61,35,65],[36,54,36,57],[38,41,38,47],[48,51,48,54],[48,0,48,1],[48,7,48,9],[48,57,48,60],[48,69,48,76],[40,36,40,37],[38,68,38,74],[40,61,40,65],[39,50,39,52],[40,68,41,74],[41,61,41,65],[35,36,35,37],[35,29,35,30],[41,4,41,6],[35,5,35,7],[35,8,35,10],[35,20,35,21],[40,22,40,24],[32,100,32,103],[29,61,29,65],[28,78,28,81],[30,61,30,65],[31,74,31,77],[30,78,30,81],[31,78,31,81],[30,69,30,73],[30,74,30,77],[28,87,28,91],[31,69,31,73],[28,74,28,77],[32,69,32,73],[32,74,32,77],[43,61,43,65],[41,50,41,52],[42,50,42,52],[30,87,30,91],[29,82,29,85],[29,87,29,91],[38,98,38,101],[37,98,37,101],[42,61,42,65],[43,54,43,57],[42,54,42,57],[33,61,33,65],[34,61,34,65],[35,76,35,78],[36,61,36,65],[36,68,36,74],[35,69,35,73],[37,54,37,57],[27,78,27,81],[29,78,29,81],[27,69,27,73],[28,69,28,73],[28,61,28,65],[27,61,27,65],[26,100,26,103],[26,69,26,73],[27,54,27,57],[31,100,31,103],[27,96,27,99],[27,74,27,77],[31,92,31,95],[30,82,30,85],[26,74,26,77],[29,100,29,103],[30,96,30,99],[28,92,28,95],[27,100,27,103],[27,92,27,95],[28,100,28,103],[29,92,29,95],[30,92,30,95],[30,100,30,103],[28,82,28,85],[31,61,31,65],[31,96,31,99],[28,96,28,99],[29,96,29,99],[27,82,27,85],[26,78,26,81],[27,87,27,91],[20,61,20,65],[20,50,20,52],[21,78,21,81],[20,54,20,57],[22,50,22,52],[21,50,21,52],[20,35,20,38],[22,41,22,47],[20,41,20,47],[23,54,23,57],[24,54,24,57],[21,54,21,57],[25,54,25,57],[24,69,24,73],[24,61,24,65],[23,61,23,65],[21,61,21,65],[22,61,22,65],[22,69,22,73],[25,61,25,65],[25,50,25,52],[22,35,22,38],[25,74,25,77],[23,78,23,81],[21,74,21,77],[24,74,24,77],[23,74,23,77],[25,78,25,81],[24,78,24,81],[31,14,31,16],[31,20,31,21],[32,11,32,13],[17,54,17,58],[17,69,17,72],[19,41,19,47],[20,16,20,18],[20,21,20,23],[17,60,17,66],[19,54,19,57],[17,49,17,53],[19,50,19,52],[20,32,20,34],[17,41,17,47],[19,61,19,65],[23,32,23,34],[22,25,22,28],[29,54,29,57],[28,54,28,57],[27,50,27,52],[26,54,26,57],[26,61,26,65],[26,50,26,52],[28,50,28,52],[27,27,27,28],[27,33,27,34],[26,25,26,26],[26,27,26,28],[27,25,27,26],[27,29,27,30],[20,25,20,28],[23,11,23,13],[29,18,29,19],[29,22,29,24],[30,8,30,10],[21,41,21,47],[27,41,27,47],[24,41,24,47],[23,21,23,23],[23,41,23,47],[29,14,29,16],[5,0,5,9],[6,0,8,9],[19,3,19,5],[22,7,22,8],[27,0,27,4],[27,5,27,7],[14,0,15,24],[26,22,26,24],[27,22,27,24],[20,11,20,13],[30,11,30,13],[27,31,27,32],[25,35,26,36],[22,29,22,31],[23,29,23,31],[27,37,27,38],[25,37,26,38],[24,31,24,32],[24,0,25,24],[30,20,30,21],[30,5,30,7],[26,41,26,47],[19,25,19,28],[31,5,31,7],[31,8,31,10],[31,54,31,57],[30,54,30,57],[31,41,31,47],[30,18,30,19],[28,41,28,47],[29,5,29,7],[33,18,33,19],[32,22,32,24],[31,22,31,24],[32,54,32,57],[31,50,31,52],[33,20,33,21],[30,50,30,52],[30,14,30,16],[32,18,32,19],[30,22,30,24],[32,5,32,7],[29,8,29,10],[29,11,29,13],[29,20,29,21],[32,41,32,47],[29,41,29,47],[30,41,30,47],[32,8,32,10],[31,18,31,19],[32,20,32,21],[33,5,33,7],[33,8,33,10],[33,11,33,13],[33,14,33,16],[32,14,32,16],[32,61,32,65],[33,22,33,24],[35,94,35,96],[35,99,35,102],[36,80,36,83],[36,98,36,101],[35,81,35,84],[35,87,35,91],[36,86,36,92],[17,92,17,95],[17,74,17,77],[17,83,17,84],[19,82,19,85],[17,87,17,90],[19,78,19,81],[23,50,23,52],[22,54,22,57],[19,92,19,95],[19,96,19,99],[19,100,19,103],[19,74,19,77],[23,96,23,99],[23,69,23,73],[22,78,22,81],[20,74,20,77],[34,22,34,24],[34,14,34,16],[36,76,36,78],[36,94,36,96],[29,50,29,52],[20,78,20,81],[14,83,15,96],[39,98,39,101],[40,98,40,101],[39,80,39,83],[40,86,40,92],[39,94,39,96],[32,78,32,81],[47,69,47,76],[47,81,47,83],[47,84,47,87],[55,25,55,30],[55,56,55,58],[54,40,54,43],[54,44,54,47],[55,44,55,46],[55,40,55,43],[55,35,55,38],[54,60,54,67],[49,59,49,62],[50,64,50,67],[49,55,49,58],[50,60,50,62],[54,52,54,55],[54,56,54,59],[50,56,50,58],[49,51,49,54],[41,86,41,92],[49,78,49,80],[49,84,49,87],[45,85,45,90],[48,88,48,91],[48,92,48,95],[48,100,48,103],[46,100,46,103],[39,86,39,92],[16,75,16,96],[17,101,17,102],[91,81,91,84],[91,87,91,90],[48,81,48,83],[50,69,50,76],[53,69,53,76],[54,69,54,76],[57,68,58,103],[40,80,41,83],[45,78,45,83],[42,68,42,74],[47,78,47,80],[47,88,47,91],[42,86,42,92],[40,76,41,78],[43,68,44,81],[42,80,42,83],[43,82,44,103],[42,76,42,78],[42,94,42,96],[41,94,41,96],[47,92,47,95],[47,96,47,99],[47,100,47,103],[32,92,32,95],[32,96,32,99],[33,68,34,82],[29,74,29,77],[50,51,50,54],[60,50,60,54],[73,54,73,57],[71,44,71,48],[67,49,67,53],[58,45,58,47],[55,48,55,50],[60,44,60,49],[68,44,68,48],[32,82,32,85],[33,83,34,96],[75,58,75,62],[16,32,16,33],[16,36,16,37],[17,32,17,34],[17,36,17,38],[18,31,18,34],[50,48,50,50],[54,48,54,51],[49,96,49,99],[24,82,24,85],[39,76,39,78],[38,94,38,96],[38,76,38,78],[38,80,38,83],[37,94,37,96],[37,76,37,78]],"merged_total":1124,"flags":["merged_cut"]}
[{"$f":"+データ一覧!F5","v":0}]
[{"$f":"+データ一覧!F8","v":0}]
[null,null,null,null,null,null,null,null,null,null,null,null,null,null,null,null,null,null,null,null,null,null,null,null,null,null,null,null,null,null,null,null,null,null,null,null,null,null,null,null,0,null,null,null,null,null,null,null,null,null,null,null,null,null,null,null,null,null,null,null,null,null,null,null,null,null,null,null,null,null,null,0]
[null,null,null,null,null,null,null,null,null,null,null,null,null,null,null,null,null,null,null,null,null,null,null,null,null,null,null,"県章とそのいわれ    「フクイ」の三文字を組み合わせ、伸びゆく",null,null,null,null,null,null,null,null,null,null,null,null,null,"【位置および地勢 】本県は本州日本海側のほぼ中央にあり、総面積は、 ",null,null,null,null,null,null,null,null,null,null,null,null,null,null,null,null,null,null,null,null,null,null,null,null,null,null,null,null,null,0,null,null,null,"所在地",null,null,null,null,null,null,null,"〒910-8580"]
[null,null,null,null,null,null,null,null,null,null,null,null,null,null,null,null,null,null,null,null,null,null,null,null,null,null,null,"                　  福井県を表現しています。 ",null,null,null,null,null,null,null,null,null,null,null,null,null,"　4,190.52k㎡で北は石川県に、東南は岐阜県、西南は滋賀県、京都府に",null,null,null,null,null,null,null,null,null,null,null,null,null,null,null,null,null,null,null,null,null,null,null,null,null,null,null,null,null,0,null,null,null,null,null,null,null,null,null,null,null,"福井市大手３丁目１７番１号"]
[{"$f":"+データ一覧!F6","v":"ふくいけん"},null,null,null,null,null,null,null,null,null,null,null,null,null,null,null,null,null,null,null,null,null,null,null,null,null,null,0,null,null,null,null,null,null,null,null,null,null,null,null,null,"　連なり、西北は日本海に面している。",null,null,null,null,null,null,null,null,null,null,null,null,null,null,null,null,null,null,null,null,null,null,null,null,null,null,null,null,null,0]
[{"$f":"データ一覧!F9","v":"福井県"},null,null,null,null,null,null,null,null,null,null,null,null,null,null,null,null,null,null,null,null,null,null,null,null,null,null,0,null,null,null,null,null,null,null,null,null,null,null,null,null,null,null,null,null,null,null,null,null,null,null,null,null,null,null,null,null,null,null,null,null,null,null,null,null,null,null,null,null,null,null,0,null,null,null,"電話番号",null,null,null,null,null,null,null,"（０７７６）２１－１１１１（代表）"]
[null,null,null,null,null,null,null,null,null,null,null,null,null,null,null,null,null,null,null,null,null,null,null,null,null,null,null,0,null,null,null,null,null,null,null,null,null,null,null,null,null,null,null,null,null,null,null,null,null,null,null,null,null,null,null,null,null,null,null,null,null,null,null,null,null,null,null,null,null,null,null,null,null,null,null,"FAX番号"]
[null,null,null,null,null,null,null,null,null,null,null,null,null,null,null,null,null,null,null,null,null,null,null,null,null,null,null,0]
[null,null,null,null,null,null,null,null,null,null,null,null,null,null,null,null,null,null,null,null,null,null,null,null,null,null,null,0,null,null,null,null,null,null,null,null,null,null,null,null,null,null,null,null,null,null,null,null,null,null,null,null,null,null,null,null,null,null,null,null,null,null,null,null,null,null,null,null,null,null,null,0,null,null,null,"最寄駅および距離",null,null,null,null,null,null,null,"ＪＲ北陸本線福井駅　下車３００ｍ"]
[null,null,null,null,null,null,null,null,null,null,null,null,null,null,null,null,null,null,null,null,null,null,null,null,null,null,null,null,null,null,null,null,null,null,null,null,null,null,null,null,null,null,null,null,null,null,null,null,null,null,null,null,null,null,null,null,null,null,null,null,null,null,null,null,null,null,null,null,null,null,null,0]
[null,null,null,null,null,null,null,null,null,null,null,null,null,null,null,null,null,null,null,null,null,null,null,null,null,null,null,null,null,null,null,null,null,null,null,null,null,null,null,null,null,null,null,null,null,null,null,null,null,null,null,null,null,null,null,null,null,null,null,null,null,null,null,null,null,null,null,null,null,null,null,0,null,null,null,"ホームページ",null,null,null,null,null,null,null,"https://www.pref.fukui.lg.jp"]
[]
[]
["  １  土            　　地",null,null,null,null,null,null,null,null,null,null,null,null,null,null,null,null,null,null,null,null,null,null,null,null,{"$f":"データ一覧!$A$247","v":"元年"},"産米収穫量",null,null,"　 収　穫　量",null,null," 　作 付 面 積",null,null,"   10a当たり収量",null,null,null,null,null,null,null,null,null,null,null,null,null,null,null,null,null,null,null,null,null,null,null,null,null,null,null,null,null,null,null,null," １５  労　　　　　　　働",null,null,null,null,null,null,null,null,null,null,null,null,null,null,"27.10.1"]
[null,null,null,null,null,null,null,null,null,null,null,null,null,null,null,null,null,null,null,null,null,null,null,null,null,null,null,null,null,{"$f":"データ一覧!$F$247","v":130500},null,"t",{"$f":"データ一覧!$F$248","v":25100},null,"ha",{"$f":"データ一覧!F249","v":520},null,null,"kg",null," １０  工　　　　　　業 ",null,null,null,null,null,null,null,null,null,null,null,null,null,{"$f":"データ一覧!$A$339","v":"元.6.1（平成30年実績）"}]
["   総          面           積",null,null,null,null,null,null,null,null,null," 固 定 資 産 概 要 調 書 に よ る 地 目 別 面 積",null,null,null,null,null,null,null,null,null,null,null,null,null,null,null,null,null,"   総　　　数",null,null,null,"うち　　田",null,null,null,"うち　　畑",null,null,null,null,null,null,null,null,null,null,null,null,null,null,null,null,null,null,null,null,null,null,null,null,null,null,null,null,null,null,null,null,null,null,null,null,null,null,"産業別就業者数   "]
[null,null,{"$f":"データ一覧!$A$10","v":"2.10.1"},null,null,null,null,null,null,null,null,null,null,null,null,null,{"$f":"データ一覧!$A$12","v":"2.1.1"},null,null,null,null,null,null,null,null," 耕  地  面  積",null,null,null,"       ha",null,null,"ha ",null,null,null,"ha ",null,null,null,"      ","産業分類",null,null,null,null,null,null,null,"事業所数",null,null,null,null,"従業者数",null,null,null,null,null,"年間製造品出荷額等",null,null,null,null,null,null,null,null,"区  分",null,null,null,null,"総    数",null,null,null,null,"男",null,null,null,"女",null,null,"  ","区  分",null,null,null,null,"総    数",null,null,null,null,"男",null,null,null,"女"]
[null,null,null,null,null,null,"㎢",null,null,null,"   総       数",null,null,null,null,"  う ち     田",null,null,null,null,"  う ち     畑",null,null,null,null,{"$f":"データ一覧!$A$250","v":"元.7.15"},null,null,{"$f":"データ一覧!$F$250","v":40100},null,null,{"$f":"データ一覧!$F$251","v":36400},null,null,null,{"$f":"データ一覧!$F$252","v":3740},null,null,null,null,null,null,null,null,null,null,null,null,null,"　　   ",null,null,"事業所",null,"　　　　　　　 人",null,null,"人",null,"　　　　　　　　　　　　　　万円",null,null,null,null,null,null,"万円",null,null,null,null,null,null,null,"      人",null,null,null,null,null," 人",null,null,null," 人",null,null,null,null,null,null,null,"      人",null,null,null,"      人",null,null,null,"      人"]
[null,null,null,{"$f":"データ一覧!F10","v":4190.5200000000004},null,null,null,null,null,null,null,null,null,null,"ha",null,null,null,null,"ha",null,null,null,null,"ha","農 業 生 産 物",null,null,null,"作 付 面 積",null,null,"収 穫 量",null,null,"10a当たり収量",null,null,null,null,"     ","総数",null,null,null,null,null,null,null,null,{"$f":"データ一覧!F339","v":2091},null,null,null,{"$f":"+データ一覧!F364","v":74437},null,null,null,null,null,null,{"$f":"データ一覧!F389","v":224944302},null,null,null,null,null,null," 総　　　数",null,null,null,null,null,{"$f":"CA20+CE20","v":399169},null,null,null,{"$f":"データ一覧!F514","v":217914},null,null,null,{"$f":"データ一覧!F539","v":181255}]
[null,null,null,null,null,null,null,null,null,null,null,{"$f":"データ一覧!F12","v":260555.5},null,null,null,null,{"$f":"データ一覧!F13","v":39522.5},null,null,null,null,{"$f":"データ一覧!F14","v":5556.4},null,null,null,{"$f":"データ一覧!$A$253","v":"元年中"},null,null,null,"ha",null,null,"t",null,null,"kg",null,null,null,null,null,"食料品",null,null,null,null,null,null,null,null,{"$f":"データ一覧!F340","v":195},null,null,null,{"$f":"+データ一覧!F365","v":4722},null,null,null,null,null,null,{"$f":"データ一覧!F390","v":5938570},null,null,null,null,null,null,null,null,null,null,null,null,null,null,null,null,null,null,null,null,null,null,null,null,null,"卸売業,小売業",null,null,null,null,{"$f":"CS21+CW21","v":60800},null,null,null,{"$f":"データ一覧!F527","v":29022},null,null,null,{"$f":"データ一覧!F552","v":31778}]
["  町 ･ 丁 ･ 大 字",null,null,null,null,null,null,null,null,null,"  う ち  宅 地",null,null,null,null,"  う ち  山 林",null,null,null,null,"  う ち  原 野",null,null,null,null,"水　　　　　稲",null,null,null,{"$f":"データ一覧!F253","v":25100},null,null,{"$f":"データ一覧!F254","v":130500},null,null,{"$f":"データ一覧!F255","v":520},null,null,null,null,null,"飲料・飼料",null,null,null,null,null,null,null,null,{"$f":"データ一覧!F341","v":20},null,null,null,{"$f":"+データ一覧!F366","v":259},null,null,null,null,null,null,{"$f":"データ一覧!F391","v":628955},null,null,null,null,null,null," 第１次産業",null,null,null,null,null,{"$f":"CA22+CE22","v":14826},null,null,null,{"$f":"データ一覧!F515","v":9789},null,null,null,{"$f":"データ一覧!F540","v":5037},null,null,null,null,"金融業,保険業",null,null,null,null,{"$f":"CS22+CW22","v":9254},null,null,null,{"$f":"データ一覧!F528","v":3833},null,null,null,{"$f":"データ一覧!F553","v":5421}]
["  区    画    数",null,null,null,null,null,null,{"$f":"データ一覧!F11","v":2769},null,null,null,null,null,null,"ha",null,null,null,null,"ha",null,null,null,null,"ha","六　条　大　麦",null,null,null,{"$f":"データ一覧!F256","v":4550},null,null,{"$f":"データ一覧!F257","v":13200},null,null,{"$f":"データ一覧!F258","v":291},null,null,null,null,null,"繊維",null,null,null,null,null,null,null,null,{"$f":"データ一覧!F342","v":509},null,null,null,{"$f":"+データ一覧!F367","v":15137},null,null,null,null,null,null,{"$f":"データ一覧!F392","v":24222905},null,null,null,null,null,null,"  ","農業",null,null,null,null,{"$f":"CA23+CE23","v":13154},null,null,null,{"$f":"データ一覧!F516","v":8326},null,null,null,{"$f":"データ一覧!F541","v":4828},null,null,null,"  ","不動産業",null,null,null,null,4009,null,null,null,{"$f":"データ一覧!F529","v":2337},null,null,null,{"$f":"データ一覧!F554","v":1672}]
[{"$f":"データ一覧!$A$11","v":"31.4.1"},null,null,null,null,null,null,null,null,null,null,{"$f":"データ一覧!F15","v":17683.800000000003},null,null,null,null,{"$f":"データ一覧!F16","v":100601.59999999999},null,null,null,null,{"$f":"データ一覧!F17","v":2543.8999999999996},null,null,null,"大　　      豆",null,null,null,{"$f":"データ一覧!F259","v":1810},null,null,{"$f":"データ一覧!F260","v":2190},null,null,{"$f":"データ一覧!F261","v":121},null,null,null,null,null,"木材",null,null,null,null,null,null,null,null,{"$f":"データ一覧!F343","v":60},null,null,null,{"$f":"+データ一覧!F368","v":1584},null,null,null,null,null,null,{"$f":"データ一覧!F393","v":7278134},null,null,null,null,null,null,"  ","林業",null,null,null,null,636,null,null,null,{"$f":"データ一覧!F517","v":554},null,null,null,{"$f":"データ一覧!F542","v":82},null,null,null,"  ","学術研究",null,null,null,null,11187,null,null,null,{"$f":"データ一覧!F530","v":7429},null,null,null,{"$f":"データ一覧!F555","v":3758}]
["  ２  世　帯　数　と　人　口",null,null,null,null,null,null,null,null,null,null,null,null,null,null,null,null,null,null,null,null,null,null,null,null,null,null,"  区　分",null," 乳 用 牛",null," 肉 用 牛",null,"豚",null,"採卵鶏",null,"ブロイラー",null,null,null,"家具",null,null,null,null,null,null,null,null,{"$f":"データ一覧!F344","v":41},null,null,null,{"$f":"+データ一覧!F369","v":872},null,null,null,null,null,null,{"$f":"データ一覧!F394","v":1448537},null,null,null,null,null,null,"  ","漁業",null,null,null,null,1036,null,null,null,{"$f":"データ一覧!F518","v":909},null,null,null,{"$f":"データ一覧!F543","v":127},null,null,null,"  ","宿泊業,飲食ｻｰﾋﾞｽ",null,null,null,null,21067,null,null,null,{"$f":"データ一覧!F531","v":7488},null,null,null,{"$f":"データ一覧!F556","v":13579}]
[null,null,null,null,null,null,null,null,null,null,null,null,null,null,null,null,null,null,null,null,null,null,null,null,null,"畜　産",null," 飼養農家",null,{"$f":"データ一覧!$F$262","v":20},null,{"$f":"データ一覧!$F$264","v":45},null,{"$f":"データ一覧!$F$266","v":"x"},null,{"$f":"データ一覧!$F$268","v":26},null,{"$f":"データ一覧!$F$270","v":"x"},null,null,null,"パルプ・紙",null,null,null,null,null,null,null,null,{"$f":"データ一覧!F345","v":83},null,null,null,{"$f":"+データ一覧!F370","v":1845},null,null,null,null,null,null,{"$f":"データ一覧!F395","v":7083161},null,null,null,null,null,null," 第２次産業",null,null,null,null,null,122602,null,null,null,{"$f":"データ一覧!F519","v":84210},null,null,null,{"$f":"データ一覧!F544","v":38392},null,null,null,"  ","生活関連ｻｰﾋﾞｽ業",null,null,null,null,13244,null,null,null,{"$f":"データ一覧!F532","v":5027},null,null,null,{"$f":"データ一覧!F557","v":8217}]
[null,null,null,null,null,null,null,null,"        人　　　　　　　　　　口",null,null,null,null,null,null,null,null,null,null,null,"１世帯当",null,"人    口",null,null,{"$f":"データ一覧!$A$262","v":"2.3.31"},null,"（戸）",null,null,null,null,null,null,null,null,null,null,null,null,null,"印刷",null,null,null,null,null,null,null,null,{"$f":"データ一覧!F346","v":100},null,null,null,{"$f":"+データ一覧!F371","v":2235},null,null,null,null,null,null,{"$f":"データ一覧!F396","v":3237324},null,null,null,null,null,null,null,"鉱業，採石業",null,null,null,null,100,null,null,null,{"$f":"データ一覧!F520","v":79},null,null,null,{"$f":"データ一覧!F545","v":21},null,null,null,"  ","教育,学習支援業",null,null,null,null,18458,null,null,null,{"$f":"データ一覧!F533","v":7599},null,null,null,{"$f":"データ一覧!F558","v":10859}]
[" 区　　　　分",null,null,null,null,"世帯数",null,null," 総   数",null,null,"    男",null,null,"    女",null,null,"  男／女",null,null,"たり人員",null,"密    度",null,null,null,null," 頭 羽",null,{"$f":"データ一覧!$F$263","v":818},null,{"$f":"データ一覧!$F$265","v":2181},null,{"$f":"データ一覧!$F$267","v":1345},null,{"$f":"データ一覧!$F$269","v":775738},null,{"$f":"データ一覧!$F$271","v":59000},null,null,null,"化学",null,null,null,null,null,null,null,null,{"$f":"データ一覧!F347","v":53},null,null,null,{"$f":"+データ一覧!F372","v":4040},null,null,null,null,null,null,{"$f":"データ一覧!F397","v":24967071},null,null,null,null,null,null,"  ","建設業",null,null,null,null,35912,null,null,null,{"$f":"データ一覧!F521","v":30243},null,null,null,{"$f":"データ一覧!F546","v":5669},null,null,null,null,"医療，福祉",null,null,null,null,50759,null,null,null,{"$f":"データ一覧!F534","v":10476},null,null,null,{"$f":"データ一覧!F559","v":40283}]
[null,null,null,null,null,"    世 帯",null,null,"       人",null,null,"       人",null,null,"       人",null,null,null,"　　％",null,"    人",null,"    人/㎢",null,null,null,null,null,null,null,null,null,null,null,null,null,null,null,null,null,null,"石油・石炭",null,null,null,null,null,null,null,null,{"$f":"データ一覧!F348","v":9},null,null,null,{"$f":"+データ一覧!F373","v":81},null,null,null,null,null,null,{"$f":"データ一覧!F398","v":577567},null,null,null,null,null,null,null,"製造業",null,null,null,null,86590,null,null,null,{"$f":"データ一覧!F522","v":53888},null,null,null,{"$f":"データ一覧!F547","v":32702},null,null,null,null,"複合サービス事業",null,null,null,null,4818,null,null,null,{"$f":"データ一覧!F535","v":2877},null,null,null,{"$f":"データ一覧!F560","v":1941}]
[{"$f":"データ一覧!$A$25","v":" 2.10.1"},null,null,null,null,{"$f":"データ一覧!F25","v":234192},null,null,{"$f":"+L30+O30","v":823585},null,null,{"$f":"データ一覧!F27","v":400391},null,null,{"$f":"データ一覧!F28","v":423194},null,null,null,{"$f":"+L30/O30*100","v":94.611691092028721},null,{"$f":"データ一覧!F30","v":3.52},null,{"$f":"データ一覧!F31","v":196.7},null,null,"  ５  林               業",null,null,null,null,null,null,null,null,null,null,null,null,null,null,null,"プラスチック",null,null,null,null,null,null,null,null,{"$f":"データ一覧!F349","v":117},null,null,null,{"$f":"+データ一覧!F374","v":5073},null,null,null,null,null,null,{"$f":"データ一覧!F399","v":16622041},null,null,null,null,null,null," 第３次産業",null,null,null,null,null,254676,null,null,null,{"$f":"データ一覧!F523","v":120110},null,null,null,{"$f":"データ一覧!F548","v":134566},null,null,null,null,"サービス業",null,null,null,null,21414,null,null,null,{"$f":"データ一覧!F536","v":13548},null,null,null,{"$f":"データ一覧!F561","v":7866}]
[{"$f":"データ一覧!$A$32","v":" 7.10.1"},null,null,null,null,{"$f":"データ一覧!F32","v":246911},null,null,{"$f":"+L31+O31","v":826996},null,null,{"$f":"データ一覧!F34","v":401860},null,null,{"$f":"データ一覧!F35","v":425136},null,null,null,94.525046102894123,null,{"$f":"データ一覧!F37","v":3.35},null,{"$f":"データ一覧!F38","v":197.4},null,null,null,null,null,null,null,null,null,null,null,null,null,null,null,null,null,null,"ゴム",null,null,null,null,null,null,null,null,{"$f":"データ一覧!F350","v":5},null,null,null,{"$f":"+データ一覧!F375","v":182},null,null,null,null,null,null,{"$f":"データ一覧!F400","v":198814},null,null,null,null,null,null,null,"電気･ｶﾞｽ･水道業",null,null,null,null,4788,null,null,null,{"$f":"データ一覧!F524","v":4356},null,null,null,{"$f":"データ一覧!F549","v":432},null,null,null,null,"公務",null,null,null,null,13518,null,null,null,{"$f":"データ一覧!F537","v":9494},null,null,null,{"$f":"データ一覧!F562","v":4024}]
[{"$f":"データ一覧!$A$39","v":"12.10.1"},null,null,null,null,{"$f":"データ一覧!F39","v":259612},null,null,{"$f":"+L32+O32","v":828944},null,null,{"$f":"データ一覧!F41","v":402367},null,null,{"$f":"データ一覧!F42","v":426577},null,null,null,94.324588526807588,null,{"$f":"データ一覧!F44","v":3.19},null,{"$f":"データ一覧!F45","v":197.9},null,null,"    　森　　　林　　　総　　　面　　　積   ",null,null,null,null,null,null,null,{"$f":"データ一覧!$A$272","v":"2.3.31"},null,null,null,null,null,null,null,"皮革",null,null,null,null,null,null,null,null,{"$f":"データ一覧!F351","v":3},null,null,null,{"$f":"+データ一覧!F376","v":57},null,null,null,null,null,null,{"$f":"データ一覧!F401","v":50159},null,null,null,null,null,null,null,"情報通信業",null,null,null,null,5611,null,null,null,{"$f":"データ一覧!F525","v":3840},null,null,null,{"$f":"データ一覧!F550","v":1771},null,null,null," 分類不能の産業",null,null,null,null,null,7065,null,null,null,{"$f":"データ一覧!F538","v":3805},null,null,null,{"$f":"データ一覧!F563","v":3260}]
[{"$f":"+データ一覧!$A$46","v":"17.10.1"},null,null,null,null,{"$f":"データ一覧!F46","v":269577},null,null,{"$f":"+L33+O33","v":821592},null,null,{"$f":"データ一覧!F48","v":397271},null,null,{"$f":"データ一覧!F49","v":424321},null,null,null,93.62510929225752,null,{"$f":"データ一覧!F51","v":3.05},null,{"$f":"データ一覧!F52","v":196.1},null,null,"　　　森　　　　　　　林　　　　　　　の　　　　　　　構　　　　　　　成",null,null,null,null,null,null,null,null,null,null,null,null,null,null,null,"窯業・土石",null,null,null,null,null,null,null,null,{"$f":"データ一覧!F352","v":76},null,null,null,{"$f":"+データ一覧!F377","v":2112},null,null,null,null,null,null,{"$f":"データ一覧!F402","v":5517159},null,null,null,null,null,null,"  ","運輸業,郵便業",null,null,null,null,{"$f":"CA33+CE33","v":15749},null,null,null,{"$f":"データ一覧!F526","v":12784},null,null,null,{"$f":"データ一覧!F551","v":2965}]
[{"$f":"+データ一覧!$A$53","v":"22.10.1"},null,null,null,null,{"$f":"+データ一覧!F53","v":275599},null,null,{"$f":"データ一覧!F54","v":806314},null,null,{"$f":"+データ一覧!F55","v":389712},null,null,{"$f":"+データ一覧!F56","v":416602},null,null,null,93.54539824580776,null,{"$f":"+データ一覧!F58","v":2.93},null,{"$f":"+データ一覧!F59","v":192.4},null,null,null,null,null,null,null,"       ha",null,null,null,null,null,null,"       ha",null,null,null,"鉄鋼",null,null,null,null,null,null,null,null,{"$f":"データ一覧!F353","v":19},null,null,null,{"$f":"+データ一覧!F378","v":355},null,null,null,null,null,null,{"$f":"データ一覧!F403","v":2909924},null,null,null,null,null,null," １６  社　 会 　福　 祉",null,null,null,null,null,null,null,null,null,null,null,null,null,null,{"$f":"データ一覧!$A$564","v":"2.4.1"}]
[{"$f":"+データ一覧!$A$60","v":"27.10.1"},null,null,null,null,{"$f":"+データ一覧!F60","v":279687},null,null,{"$f":"データ一覧!F61","v":786740},null,null,{"$f":"+データ一覧!F62","v":381474},null,null,{"$f":"+データ一覧!F63","v":405266},null,null,null,94.129287924474298,null,{"$f":"+データ一覧!F65","v":2.8129301683667816},null,{"$f":"+データ一覧!F66","v":187.7},null,null,"  総　　　　　   数",null,null,null,{"$f":"データ一覧!F272","v":312149.25999999995},null,null," 天然林       針葉樹",null,null,null,{"$f":"データ一覧!F275","v":8889.689999999955},null,null,null,null,"非鉄金属",null,null,null,null,null,null,null,null,{"$f":"データ一覧!F354","v":15},null,null,null,{"$f":"+データ一覧!F379","v":1438},null,null,null,null,null,null,{"$f":"データ一覧!F404","v":14170693}]
[{"$f":"+データ一覧!$A$67","v":"2.10.1"},null,null,null,null,{"$f":"データ一覧!F67","v":291019},null,null,{"$f":"データ一覧!F76","v":762679},null,null,{"$f":"データ一覧!F77","v":371196},null,null,{"$f":"データ一覧!F78","v":391483},null,null,null,94.817910356260683,null,{"$f":"データ一覧!F68","v":2.62},null,{"$f":"データ一覧!F69","v":182.00104044366807},null,null,"  人工林     針葉樹",null,null,null,{"$f":"データ一覧!F273","v":120959.72},null,null," 天然林       広葉樹",null,null,null,{"$f":"データ一覧!F276","v":169885.59999999998},null,null,null,null,"金属",null,null,null,null,null,null,null,null,{"$f":"データ一覧!F355","v":181},null,null,null,{"$f":"+データ一覧!F380","v":4384},null,null,null,null,null,null,{"$f":"データ一覧!F405","v":11316404},null,null,null,null,null,null,"    ","区分",null,null,null,null,null,null,"施設数",null,null,null,null,"収容定員",null,null,null,null,null,"区分",null,null,null,null,null,null,"施設数",null,null,null,null,"収容定員"]
["年",null,"  区",null," 0歳",null,null,"15歳",null,null,"25歳",null,null,"35歳",null,null,"45歳",null,null,"55歳",null,null,"65歳",null,null,"  人工林     広葉樹",null,null,null,{"$f":"データ一覧!F274","v":2930.1000000000004},null,null," 竹               林",null,null,null,{"$f":"データ一覧!F277","v":1393.3699999999985},null,null,null,null,"はん用機械",null,null,null,null,null,null,null,null,{"$f":"データ一覧!F356","v":29},null,null,null,{"$f":"+データ一覧!F381","v":753},null,null,null,null,null,null,{"$f":"データ一覧!F406","v":2228271},null,null,null,null,null,null,"生活保護施設",null,null,null,null,null,null,null,{"$f":"データ一覧!F564","v":2},null,null,null,{"$f":"データ一覧!F577","v":140},null,null,null,"人",null,"指定障害者支援施設",null,null,null,null,null,null,null,{"$f":"データ一覧!F570","v":27},null,null,null,{"$f":"データ一覧!F583","v":1663},null,null,null,"人"]
["齢","令",null,null,null,"～",null,null,"～",null,null,"～",null,null,"～",null,null,"～",null,null,"～",null,null,null,null,null,null,null,null,null,null,null,null,null,null,null,null,null,null,null,null,"生産用機械",null,null,null,null,null,null,null,null,{"$f":"データ一覧!F357","v":153},null,null,null,{"$f":"+データ一覧!F382","v":3800},null,null,null,null,null,null,{"$f":"データ一覧!F407","v":11468338},null,null,null,null,null,null,"地域福祉施設",null,null,null,null,null,null,null,{"$f":"データ一覧!F565","v":3},null,null,null,{"$f":"データ一覧!F578","v":0},null,null,null,null,null,"指定相談支援事業所",null,null,null,null,null,null,null,{"$f":"データ一覧!F571","v":26},null,null,null,{"$f":"データ一覧!F584","v":0}]
["階",{"$f":"+LEFT(データ一覧!$A$79,1)","v":"2"},"  分",null,null,null,"14歳",null,null,"24歳",null,null,"34歳",null,null,"44歳",null,null,"54歳",null,null,"64歳",null,null,"以上","    林     野     の     構     成",null,null,null,null,null,null,"保     有     形     態     別",null,null,null,null,null,null,null,null,"業務用機械",null,null,null,null,null,null,null,null,{"$f":"データ一覧!F358","v":13},null,null,null,{"$f":"+データ一覧!F383","v":652},null,null,null,null,null,null,{"$f":"データ一覧!F408","v":921837},null,null,null,null,null,null,"老人福祉施設",null,null,null,null,null,null,null,{"$f":"データ一覧!F566","v":179},null,null,null,{"$f":"データ一覧!F579","v":5626},null,null,null,null,null,"児童福祉施設",null,null,null,null,null,null,null,{"$f":"データ一覧!F572","v":532},null,null,null,{"$f":"データ一覧!F585","v":32597}]
["級","・",null,null,null,null,"人",null,null,"人",null,"    人",null,null,"    人",null,null,"    人",null,null,"    人",null,null,"    人",null,null,null,null,null,null,null,"ha",null,null,null,null,null,"       ha",null,null,null,"電子・デバイス",null,null,null,null,null,null,null,null,{"$f":"データ一覧!F359","v":47},null,null,null,{"$f":"+データ一覧!F384","v":9951},null,null,null,null,null,null,{"$f":"データ一覧!F409","v":33996898},null,null,null,null,null,null,"介護保険施設",null,null,null,null,null,null,null,{"$f":"データ一覧!F567","v":1195},null,null,null,{"$f":"データ一覧!F580","v":23346},null,null,null,null,null,"母子福祉施設",null,null,null,null,null,null,null,{"$f":"データ一覧!F573","v":1},null,null,null,{"$f":"データ一覧!F586","v":0}]
["別",{"$f":"+MID(データ一覧!$A$79,3,2)","v":"10"},"総 数",null,{"$f":"+E42+E43","v":94823},null,null,{"$f":"+H42+H43","v":71843},null,null,{"$f":"+K42+K43","v":66385},null,null,{"$f":"+N42+N43","v":87929},null,null,{"$f":"+Q42+Q43","v":102296},null,null,{"$f":"+T42+T43","v":96390},null,null,{"$f":"+W42+W43","v":233076},null,null," 無立木地   伐採跡地",null,null,null,{"$f":"データ一覧!F278","v":111.5},null,null,"国   　　　 　 有",null,null,null,{"$f":"データ一覧!F280","v":39314.51},null,null,null,null,"電気機械",null,null,null,null,null,null,null,null,{"$f":"データ一覧!F360","v":66},null,null,null,{"$f":"+データ一覧!F385","v":3576},null,null,null,null,null,null,{"$f":"データ一覧!F410","v":19652133},null,null,null,null,null,null,"障害者自立支援法施行前からの身体障害者福祉施設",null,null,null,null,null,null,null,{"$f":"データ一覧!F568","v":2},null,null,null,{"$f":"データ一覧!F581","v":0},null,null,null,null,null,"婦人保護施設",null,null,null,null,null,null,null,{"$f":"データ一覧!F574","v":1},null,null,null,{"$f":"データ一覧!F587","v":15}]
["人","・","  男",null,{"$f":"データ一覧!F79","v":48656},null,null,{"$f":"データ一覧!F80","v":37334},null,null,{"$f":"データ一覧!F81","v":34742},null,null,{"$f":"データ一覧!F82","v":44731},null,null,{"$f":"データ一覧!F83","v":51343},null,null,{"$f":"データ一覧!F84","v":47595},null,null,{"$f":"データ一覧!F85","v":101360},null,null," 無立木地   未立木地",null,null,null,{"$f":"データ一覧!F279","v":7979.279999999997},null,null,"公       　　  有",null,null,null,{"$f":"データ一覧!F281","v":38866.54},null,null,null,null,"情報通信機械",null,null,null,null,null,null,null,null,{"$f":"データ一覧!F361","v":5},null,null,null,{"$f":"+データ一覧!F386","v":342},null,null,null,null,null,null,{"$f":"データ一覧!F411","v":841032},null,null,null,null,null,null,null,null,null,null,null,null,null,null,null,null,null,null,null,null,null,null,null,null,"その他の社会福祉施設",null,null,null,null,null,null,null,{"$f":"データ一覧!F575+データ一覧!F576","v":17},null,null,null,{"$f":"SUM(データ一覧!F588,データ一覧!F589)","v":0}]
["口",{"$f":"+RIGHT(データ一覧!$A$79,1)","v":"1"},"  女",null,{"$f":"データ一覧!F87","v":46167},null,null,{"$f":"データ一覧!F88","v":34509},null,null,{"$f":"データ一覧!F89","v":31643},null,null,{"$f":"データ一覧!F90","v":43198},null,null,{"$f":"データ一覧!F91","v":50953},null,null,{"$f":"データ一覧!F92","v":48795},null,null,{"$f":"データ一覧!F93","v":131716},null,null,null,null,null,null,null,null,null,"私          　 有",null,null,null,{"$f":"データ一覧!F282","v":233968.2099999999},null,null,null,null,"輸送機械",null,null,null,null,null,null,null,null,{"$f":"データ一覧!F362","v":28},null,null,null,{"$f":"+データ一覧!F387","v":4895},null,null,null,null,null,null,{"$f":"データ一覧!F412","v":20965058},null,null,null,null,null,null,"障害福祉サービス事業所",null,null,null,null,null,null,null,{"$f":"データ一覧!F569","v":533},null,null,null,{"$f":"データ一覧!F582","v":6342}]
[null,null,null,null,null,null,null,null,null,null,null,null,null,null,null,null,null,null,null,null,null,null,null,null,null,"            林     産     物     生     産     量 ",null,null,null,null,null,null,null,null,null,{"$f":"データ一覧!$A$283","v":"元年中"},null,null,null,null,null,"その他",null,null,null,null,null,null,null,null,{"$f":"データ一覧!F363","v":264},null,null,null,{"$f":"+データ一覧!F388","v":6092},null,null,null,null,null,null,{"$f":"データ一覧!F413","v":8703317},null,null,null,null,null,null," １７  教　　　　　　　育",null,null,null,null,null,null,null,null,null,null,null,null,null,{"$f":"データ一覧!$A$590","v":"2.5.1"}]
["人口動態",null,null,null,null,null,null,"   自　然　動　態",null,null,null,null,null,"   社  会  動  態",null,null,null,null,null,{"$f":"データ一覧!$A74","v":"31.1.1～元.12.31"},null,null,null,null,null,"生椎茸",null,null,null,{"$f":"データ一覧!F283","v":201722},null,"㎏","乾椎茸",null,null,null,{"$f":"データ一覧!F284","v":1833},null,"㎏"]
[null,null,"   区       分",null,null,null,null," 出   生",null,null," 死   亡",null,null," 転   入",null,null," 転   出",null,null," 婚   姻",null,null," 離   婚",null,null,"えのきだけ",null,null,null,{"$f":"データ一覧!F286","v":150328},null,"㎏","なめこ",null,null,null,{"$f":"データ一覧!F285","v":29084},null,"㎏",null,"    ","工　業　用　水　量",null,null,null,null,null,"（従業者30人以上の事業所）",null,null,null,null,null,null,null,null,null,null,{"$f":"データ一覧!F414","v":321440},null,null,null,null,"㎥／日",null,null,null,null,null,null,null,null,null,null,null,null,null,null,"学校数（校）",null,null,null,null,null,null,"教員数（人）",null,null,null,null,null,null,null,"学生・生徒・児童数（人）"]
[{"$f":"LEFT(データ一覧!$A70,7)","v":"元.10.1～"},null,null,null,null,null,null,"       人",null,null,"       人",null,null,"       人",null,null,"       人",null,null,null,"    件",null,null,"    件",null,"ひらたけ",null,null,null,{"$f":"+データ一覧!F287","v":9959},null,"㎏","まいたけ",null,null,null,{"$f":"+データ一覧!F288","v":140492},null,"㎏",null,null,null,null,null,null,null,null,null,null,null,null,null,null,null,null,null,null,null,null,null,null,null,null,null,null,null,null,null,null,"　","区分",null,null,null,null,null,null,null," 本 校",null,null," 分 校",null,null," 本   務",null,null,null," 兼   務",null,null,null," 総   数",null,null,null,"男",null,null,null,"女"]
["～",null," 実          数",null,null,null,null,{"$f":"データ一覧!F70","v":5511},null,null,{"$f":"データ一覧!F71","v":9377},null,null,{"$f":"データ一覧!F72","v":22114},null,null,{"$f":"データ一覧!F73","v":23311},null,null,{"$f":"データ一覧!F74","v":3320},null,null,{"$f":"データ一覧!F75","v":1093},null,null,null,null,null,null,null,null,null,null,null,null,null,null,null,null,null," １１ 　上　・　下　水　道",null,null,null,null,null,null,null,null,null,null,null,null,null,null,null,null,null,null,null,null,null,null,null,null,null,null,null,null,"小学校",null,null,null,null,null,null,null,null,{"$f":"データ一覧!F591","v":195},null,null,{"$f":"データ一覧!F592","v":1},null,null,{"$f":"データ一覧!F593","v":3095},null,null,null,{"$f":"データ一覧!F594","v":477},null,null,null,{"$f":"データ一覧!F595","v":40177},null,null,null,{"$f":"データ一覧!F596","v":20643},null,null,null,{"$f":"データ一覧!F597","v":19534}]
[{"$f":"RIGHT(データ一覧!$A72,7)","v":"～2.9.30"},null,"比率(対1,000人)",null,null,null,null,{"$f":"+H48/I36*1000","v":7.2258446869521782},null,null,{"$f":"+K48/I36*1000","v":12.294818658963994},null,null,"- ",null,null,"- ",null,null,{"$f":"+T48/I36*1000","v":4.3530764581167176},null,null,{"$f":"+W48/I36*1000","v":1.4331061953980639},null,null,"  ６  漁               業",null,null,null,null,null,null,null,null,null,null,null,null,null,null,null,null,null,null,null,null,null,null,null,null,null,null,null,null,null,null,null,null,null,null,null,null,null,null,null,null,null,null,"  ","中学校",null,null,null,null,null,null,null,null,{"$f":"データ一覧!F599","v":80},null,null,{"$f":"データ一覧!F600","v":2},null,null,{"$f":"データ一覧!F601","v":1832},null,null,null,{"$f":"データ一覧!F602","v":345},null,null,null,{"$f":"データ一覧!F603","v":21170},null,null,null,{"$f":"データ一覧!F604","v":10848},null,null,null,{"$f":"データ一覧!F605","v":10322}]
[null,null,null,null,null,null,null,null,null,null,null,null,null,null,null,null,null,null,null,null,null,null,null,null,null,null,null,null,null,null,null,null,null,null,null,null,null,null,null,null,"水 道 供 給 人 口",null,null,null,null,null,null,"上 水 道",null,null,null,"簡易水道",null,null,null,"専用水道",null,null,null,"飲料水供給施設",null,null,null,"下水道処理人口",null,null,null,null,"  ","高等学校",null,null,null,null,null,null,null,null,{"$f":"データ一覧!F607","v":35},null,null,{"$f":"データ一覧!F608","v":0},null,null,{"$f":"データ一覧!F609","v":1654},null,null,null,{"$f":"データ一覧!F610","v":789},null,null,null,{"$f":"データ一覧!F611","v":21221},null,null,null,{"$f":"データ一覧!F612","v":10760},null,null,null,{"$f":"データ一覧!F613","v":10461}]
["  ３  事　　業　　所（民　　営）    （平 28.6.1）",null,null,null,null,null,null,null,null,null,null,null,null,null,null,null,null,null,null,null,null,null,null,null,null,"漁船隻数・トン数",null,null,null,{"$f":"データ一覧!$A$289","v":"元.12.31"},null,null,null,"動　力　船",null,null,null,null,null,null,{"$f":"データ一覧!$A$415","v":"2.3.31"},null,null,null,null,null,"人",null,{"$f":"データ一覧!F415","v":697044},null,null,{"$f":"データ一覧!F416","v":51513},null,null,null,null,{"$f":"データ一覧!F417","v":915},null,null,null,{"$f":"データ一覧!F418","v":1170},null,null,null,{"$f":"データ一覧!F419","v":628583},null,null,null,"  ","大学・短期大学",null,null,null,null,null,null,null,null,{"$f":"データ一覧!F614","v":9},null,null,{"$f":"データ一覧!F615","v":2},null,null,{"$f":"データ一覧!F616","v":1080},null,null,null,{"$f":"データ一覧!F617","v":843},null,null,null,{"$f":"データ一覧!F618","v":11637},null,null,null,{"$f":"データ一覧!F619","v":6965},null,null,null,{"$f":"データ一覧!F620","v":4672}]
[null,null,null,null,null,null,null,null,null,null,null,null,null,null,null,null,null,null,null,null,null,null,null,null,null,"無動力船隻数",null,null,null,"船外機付漁船隻数",null,null,null,"隻　数",null,null,"総 ト ン 数",null,null,null,null,null,null,null,null,null,null,null,null,null,null,null,null,null,null,null,null,null,null,null,null,null,null,null,null,null,null,null,"  ","高等専門学校",null,null,null,null,null,null,null,null,{"$f":"データ一覧!F621","v":1},null,null,{"$f":"データ一覧!F622","v":0},null,null,{"$f":"データ一覧!F623","v":77},null,null,null,{"$f":"データ一覧!F624","v":41},null,null,null,{"$f":"データ一覧!F625","v":991},null,null,null,{"$f":"データ一覧!F626","v":785},null,null,null,{"$f":"データ一覧!F627","v":206}]
[null,null,null,null,null,null,null,"    総　　　　　数",null,null,null,null,null,"    民　　　　　営",null,null,null,null,null,"  国 ･ 地方公共団体",null,null,null,null,null,null,null,null,"隻",null,null,null,"隻",null,null,"隻",null,null,"t",null," １２  交   通　・　通   信",null,null,null,null,null,null,null,null,null,null,null,null,null,null,null,null,null,null,null,null,null,null,null,null,null,null,null,"  ","特別支援学校",null,null,null,null,null,null,null,null,{"$f":"+データ一覧!F629","v":12},null,null,{"$f":"+データ一覧!F630","v":0},null,null,{"$f":"+データ一覧!F631","v":760},null,null,null,{"$f":"+データ一覧!F632","v":73},null,null,null,{"$f":"+データ一覧!F633","v":980},null,null,null,{"$f":"+データ一覧!F634","v":593},null,null,null,{"$f":"+データ一覧!F635","v":387}]
["  　区　　　　　　分",null,null,null,null,null,null," 事業所数",null,null," 従業者数",null,null," 事業所数",null,null," 従業者数",null,null," 事業所数",null,null," 従業者数",null,null,{"$f":"データ一覧!$F$289","v":68},null,null,null,{"$f":"データ一覧!$F$290","v":1091},null,null,null,{"$f":"データ一覧!F291","v":1140},null,null,{"$f":"データ一覧!F292","v":6370.72},null,null,null,null,null,null,null,null,null,null,null,null,null,null,null,null,null,null,null,null,null,null,null,null,null,null,null,null,null,null,null,"  ","幼稚園",null,null,null,null,null,null,null,null,{"$f":"データ一覧!F645","v":128},null,null,{"$f":"データ一覧!F646","v":1},null,null,{"$f":"データ一覧!F647","v":2471},null,null,null,{"$f":"データ一覧!F648","v":353},null,null,null,{"$f":"データ一覧!F649","v":14098},null,null,null,{"$f":"データ一覧!F650","v":7223},null,null,null,{"$f":"データ一覧!F651","v":6875}]
[null,null,null,null,null,null,null,null,null,null,"       人",null,null,null,null,null,"       人",null,null,null,null,null,"       人",null,null,"  男女別就業者数",null,null,null,null,null,null,null,{"$f":"データ一覧!$A$293","v":"30.11.1"},null,null,null,null,null,null,"道     路",null,null,null,"実 延 長",null,null,null,"国     道",null,null,null,"県     道",null,null,null,"市町道",null,null,null," 鉄 道 営 業 キ ロ 数",null,null,null,null,null,null,null,"  ","幼保連携認定こども園",null,null,null,null,null,null,null,null,{"$f":"データ一覧!F637","v":67},null,null,{"$f":"データ一覧!F638","v":0},null,null,{"$f":"データ一覧!F639","v":224},null,null,null,{"$f":"データ一覧!F640","v":79},null,null,null,{"$f":"データ一覧!F641","v":1311},null,null,null,{"$f":"データ一覧!F642","v":652},null,null,null,{"$f":"データ一覧!F643","v":659}]
["総数",null,null,null,null,null,null,{"$f":"データ一覧!F95","v":"…"},null,null,{"$f":"データ一覧!F152","v":"…"},null,null,{"$f":"データ一覧!F96","v":41644},null,null,{"$f":"データ一覧!F153","v":377238},null,null,{"$f":"データ一覧!F97","v":"…"},null,null,{"$f":"データ一覧!F154","v":"…"},null,null,"総　　数",null,null,null,null,null,"男",null,null,null,"女",null,null,null,null,{"$f":"データ一覧!$A$420","v":"31.4.1"},null,null,null,{"$f":"データ一覧!F420","v":10693.946600000001},null,null,"㎞",{"$f":"データ一覧!F421","v":592.70000000000005},null,null,"㎞",{"$f":"データ一覧!F422","v":1564.3000000000002},null,null,"㎞",{"$f":"データ一覧!F423","v":8536.9465999999993},null,null,"km",{"$f":"データ一覧!$A$424","v":"2.4.1"},null,null,null,{"$f":"データ一覧!F424","v":302.63},null,null,"㎞","  ","各種学校",null,null,null,null,null,null,null,null,{"$f":"データ一覧!F653","v":12},null,null,{"$f":"データ一覧!F654","v":0},null,null,{"$f":"データ一覧!F655","v":220},null,null,null,{"$f":"データ一覧!F656","v":12},null,null,null,{"$f":"データ一覧!F657","v":1856},null,null,null,{"$f":"データ一覧!F658","v":1203},null,null,null,{"$f":"データ一覧!F659","v":653}]
["農林漁業",null,null,null,null,null,null,{"$f":"データ一覧!F98","v":"…"},null,null,{"$f":"データ一覧!F155","v":"…"},null,null,{"$f":"データ一覧!F99","v":348},null,null,{"$f":"データ一覧!F156","v":4621},null,null,{"$f":"データ一覧!F100","v":"…"},null,null,{"$f":"データ一覧!F157","v":"…"},null,null,null,null,null,null,null,"人",null,null,"　　　　人",null,null,null,null,"  人",null,"自動車",null,null,null,null,null,null,null,null,"乗用車",null,null,null,null,null,null,null,null,null,null,null,null,null,null,null,null,null,null,"  ","専修学校",null,null,null,null,null,null,null,null,{"$f":"データ一覧!F661","v":20},null,null,{"$f":"データ一覧!F662","v":0},null,null,{"$f":"データ一覧!F663","v":159},null,null,null,{"$f":"データ一覧!F664","v":350},null,null,null,{"$f":"データ一覧!F665","v":1477},null,null,null,{"$f":"データ一覧!F666","v":511},null,null,null,{"$f":"データ一覧!F667","v":966}]
["鉱業",null,null,null,null,null,null,{"$f":"データ一覧!F101","v":"…"},null,null,{"$f":"データ一覧!F158","v":"…"},null,null,{"$f":"データ一覧!F102","v":13},null,null,{"$f":"データ一覧!F159","v":92},null,null,{"$f":"データ一覧!F103","v":"…"},null,null,{"$f":"データ一覧!F160","v":"…"},null,null,{"$f":"AF58+AJ58","v":1328},null,null,null,null,null,{"$f":"データ一覧!F294","v":1234},null,null,null,{"$f":"データ一覧!F295","v":94},null,null,null,null,"台  数",null,null,null,"貨    物",null,null,null,"普     通",null,null,null,"小     型",null,null,null,"乗  合",null,null,"特  種",null,null,"小型二輪",null,null,"軽自動車",null,null," １８  衛　　　　　　　生"]
["建設業",null,null,null,null,null,null,{"$f":"データ一覧!F104","v":"…"},null,null,{"$f":"データ一覧!F161","v":"…"},null,null,{"$f":"データ一覧!F105","v":4743},null,null,{"$f":"データ一覧!F162","v":32043},null,null,{"$f":"データ一覧!F106","v":"…"},null,null,{"$f":"データ一覧!F163","v":"…"},null,null,"　　　　海 面 漁 業 漁 獲 量 （属人）",null,null,null,null,null,null,null,{"$f":"データ一覧!$A$296","v":"30年中"},null,null,null,null,null,null,{"$f":"データ一覧!$A$425","v":"2.3.31"},null,null,null,null,{"$f":"データ一覧!F425","v":44856},null,null,null,{"$f":"データ一覧!F427","v":147618},null,null,null,{"$f":"データ一覧!F428","v":158358},null,null,{"$f":"データ一覧!F426","v":1871},null,null,{"$f":"データ一覧!F429","v":14913},null,null,{"$f":"データ一覧!F430","v":8272},null,null,{"$f":"データ一覧!F431","v":287044}]
["製造業",null,null,null,null,null,null,{"$f":"データ一覧!F107","v":"…"},null,null,{"$f":"データ一覧!F164","v":"…"},null,null,{"$f":"データ一覧!F108","v":5292},null,null,{"$f":"データ一覧!F165","v":82745},null,null,{"$f":"データ一覧!F109","v":"…"},null,null,{"$f":"データ一覧!F166","v":"…"},null,null,null,null,null,null,null,"       ","ｔ",null,null,null,null,null,null,"t",null,null,null,"     ",null,"郵　便　局　数",null,null,null,null,null,null,null,null,null,null,null,null,null,null,null,"一般加入",null,null,null,"ＩＮＳネット",null,null,null,null,null,null,null,"医療関係施設",null,null,null,null,null,{"$f":"データ一覧!$A$668","v":"元.10.1"},null,null,null,null,null,null,"および医療関係者数",null,null,null,null,null,null,null,{"$f":"データ一覧!$A$673","v":"30.12.31"}]
["電気・ｶﾞ ｽ・熱供給・水道業",null,null,null,null,null,null,{"$f":"データ一覧!F110","v":"…"},null,null,{"$f":"データ一覧!F167","v":"…"},null,null,{"$f":"データ一覧!F111","v":46},null,null,{"$f":"データ一覧!F168","v":3601},null,null,{"$f":"データ一覧!F112","v":"…"},null,null,{"$f":"データ一覧!F169","v":"…"},null,null,"   総　　　　　　数",null,null,null,{"$f":"データ一覧!F296","v":11317},null,null,"   藻　　　　　　類",null,null,null,{"$f":"データ一覧!F299","v":50},null,null,null,"通  信",null,null,null," 総     数",null,null,null,null,null," 郵 便 局",null,null,null,null," 簡 易 局",null,null,null,null,"電話数",null,null,null,"加入数",null,null,null,null,null,null,null,null,null,"　","病",null,null,"院",null,"　",null,null,null,null," ","一般診療所",null,null,null,null,null,null,null,null,null,null,null,"歯科診療所"]
["情報通信業",null,null,null,null,null,null,{"$f":"データ一覧!F113","v":"…"},null,null,{"$f":"データ一覧!F170","v":"…"},null,null,{"$f":"データ一覧!F114","v":322},null,null,{"$f":"データ一覧!F171","v":5047},null,null,{"$f":"データ一覧!F115","v":"…"},null,null,{"$f":"データ一覧!F172","v":"…"},null,null,"   魚　　　　　　類",null,null,null,{"$f":"データ一覧!F297","v":8504},null,null,"   そ　   の　　 他",null,null,null,{"$f":"データ一覧!F300","v":2502},null,null,null,{"$f":"データ一覧!$A$435","v":"2.3.31"},null,null,null,{"$f":"データ一覧!F432","v":236},null,null,null,null,null,{"$f":"データ一覧!F433","v":207},null,null,null,null,{"$f":"データ一覧!F434","v":29},null,null,null,null,{"$f":"データ一覧!F435","v":78540},null,null,null,{"$f":"データ一覧!F436","v":12492},null,null,null," ","医療関係",null,null,null,null,null,null,null,null,null,null,null,"一般病院",null,null,null,null,null,null,null,null,null,null,null,"有",null,null,"床"]
["運輸業、郵便業",null,null,null,null,null,null,{"$f":"データ一覧!F116","v":"…"},null,null,{"$f":"データ一覧!F173","v":"…"},null,null,{"$f":"データ一覧!F117","v":799},null,null,{"$f":"データ一覧!F174","v":16135},null,null,{"$f":"データ一覧!F118","v":"…"},null,null,{"$f":"データ一覧!F175","v":"…"},null,null,"   貝　　　　　　類",null,null,null,{"$f":"データ一覧!F298","v":261},null,null,null,null,null,null,null,null,null,null,null,null,null,null,null,null,null,null,null,null,null,null,null,null,null,null,null,null,null,null,null,null,null,null,null,null,null,null,null,"施設数",null,null,null,null,null,null,{"$f":"データ一覧!F668","v":67},null,null,null,null,null,{"$f":"データ一覧!F669","v":57},null,null,null,null,null,{"$f":"データ一覧!F670","v":573},null,null,null,null,null,{"$f":"データ一覧!F671","v":62},null,null,null,null,null,{"$f":"データ一覧!F672","v":300}]
["卸売業、小売業",null,null,null,null,null,null,{"$f":"データ一覧!F119","v":"…"},null,null,{"$f":"データ一覧!F176","v":"…"},null,null,{"$f":"データ一覧!F120","v":10543},null,null,{"$f":"データ一覧!F177","v":73107},null,null,{"$f":"データ一覧!F121","v":"…"},null,null,{"$f":"データ一覧!F178","v":"…"},null,null,null,null,null,null,null,null,null,null,null,null,null,null,null,null,null," １３  税　　・　　財　　政",null,null,null,null,null,null,null,null,null,null,null,null,null,null,null,null,null,null,null,null,null,null,null,null,null,null,null,null,null,null,null,null,null,null,"医師",null,null,null,null,"歯科医師",null,null,null,null,"薬剤師",null,null,null,null,"保健師",null,null,null,null,"助産師",null,null," ",null,"看護師",null,null," "]
["金融業、保険業",null,null,null,null,null,null,{"$f":"データ一覧!F122","v":"…"},null,null,{"$f":"データ一覧!F179","v":"…"},null,null,{"$f":"データ一覧!F123","v":749},null,null,{"$f":"データ一覧!F180","v":9238},null,null,{"$f":"データ一覧!F124","v":"…"},null,null,{"$f":"データ一覧!F181","v":"…"},null,null,"  ７  商        　　　業 ",null,null,null,null,null,null,{"$f":"データ一覧!$A$301","v":"28.6.1(平成27年実績）"},null,null,null,null,null,null,null,null,null,null,null,null,null,null,null,null,null,null,null,null,null,null,null,null,null,null,null,null,null,null,null,null,null,null,null," ","医療",null,null,null,null,null,null,null,null,"人",null,null,null,null,"人",null,null,null,null,"人",null,null,null,null,"人",null,null,null,null,"人",null,null,null,null,"人"]
["不動産業、物品賃貸業",null,null,null,null,null,null,{"$f":"データ一覧!F125","v":"…"},null,null,{"$f":"データ一覧!F182","v":"…"},null,null,{"$f":"データ一覧!F126","v":1288},null,null,{"$f":"データ一覧!F183","v":5756},null,null,{"$f":"データ一覧!F127","v":"…"},null,null,{"$f":"データ一覧!F184","v":"…"},null,null,null,null,null,null,null,null,null,null,null,null,null,null,null,null,null,"           ",null,null,null,"歳入",null,null,null,null,null,null,null,null,"(千円）"," ",null,null,null,"歳出",null,null,null,null,null,null,null,null,"(千円）",null,"関係者",null,null,null,null,{"$f":"データ一覧!F673","v":2057},null,null,null,null,{"$f":"データ一覧!F674","v":445},null,null,null,null,{"$f":"データ一覧!F675","v":1466},null,null,null,null,{"$f":"データ一覧!F676","v":477},null,null,null,null,{"$f":"データ一覧!F677","v":248},null,null,null,null,{"$f":"データ一覧!F678","v":11822}]
["学術研究、専門・技術ｻｰﾋﾞｽ業",null,null,null,null,null,null,{"$f":"データ一覧!F128","v":"…"},null,null,{"$f":"データ一覧!F185","v":"…"},null,null,{"$f":"データ一覧!F129","v":1529},null,null,{"$f":"データ一覧!F186","v":9623},null,null,{"$f":"データ一覧!F130","v":"…"},null,null,{"$f":"データ一覧!F187","v":"…"},null,null,"  産   業　 分　 類",null,null,null,"  商　 店 　数",null,null," 従　業　者　数",null,null,"年　間　販　売　額",null,null,null,null,"一人当たり歳入歳出予算決算額",null,null,null,null,null,null,null,null,null,null,null,null,null,null,null,null,null,null,null,null,null,null,null,null,null,null,null,"                   ",null,null,null,null,null,null,null,null,"死因別死亡数　　　　　　    ",null,null,null,null,null,null,null,null,null,null,null,null,null,null,null,{"$f":"データ一覧!$A$679","v":"元年中"},null,null,null,null,null,null,null,null,"      単 位：人"]
["宿泊業、飲食サービス業",null,null,null,null,null,null,{"$f":"データ一覧!F131","v":"…"},null,null,{"$f":"データ一覧!F188","v":"…"},null,null,{"$f":"データ一覧!F132","v":5288},null,null,{"$f":"データ一覧!F189","v":32923},null,null,{"$f":"データ一覧!F133","v":"…"},null,null,{"$f":"データ一覧!F190","v":"…"},null,null,null,null,null,null,null,"        店",null,null,null,"　人",null,"         百万円",null,null,null,"区分",null,null,null,{"$f":"データ一覧!$A$445","v":"2年度"},null,null,null,null,{"$f":"データ一覧!$A$459","v":"元年度"},null,null,null,null,"区分",null,null,null,{"$f":"+AS68","v":"2年度"},null,null,null,null,{"$f":"データ一覧!$A$459","v":"元年度"},null,null,null,null," 死     因",null,null,null,null,null,null,null,null,null,null,null,"悪  性",null,null,"高血圧",null,null,null,null,null,"脳血管",null,null,null,null,null," ",null,null,"不慮の事故"]
["生活関連サービス業、娯楽業",null,null,null,null,null,null,{"$f":"データ一覧!F134","v":"…"},null,null,{"$f":"データ一覧!F191","v":"…"},null,null,{"$f":"データ一覧!F135","v":3577},null,null,{"$f":"データ一覧!F192","v":14326},null,null,{"$f":"データ一覧!F136","v":"…"},null,null,{"$f":"データ一覧!F193","v":"…"},null,null,"総　　　　　　計",null,null,null,{"$f":"データ一覧!F301","v":8905},null,null,{"$f":"データ一覧!F310","v":60306},null,null,{"$f":"データ一覧!F319","v":1945172},null,null,null,null,null,null,null,null,{"$f":"データ一覧!F441","v":505376.1031836461},null,null,null,null,{"$f":"データ一覧!F442","v":510572},null,null,null,null,null,null,null,null,{"$f":"データ一覧!F443","v":505376.1031836461},null,null,null,null,{"$f":"データ一覧!F444","v":491423.62538456928},null,null,null,null,null,null,null,null,null,"全 死 因",null,null,null,"結 核",null,null,"新生物",null,null,"性疾患",null,null,"心疾患",null,null,"疾  患",null,null,"肺  炎",null,null,"老  衰",null,null,null,null," ","交通事故"]
["教育、学習支援業",null,null,null,null,null,null,{"$f":"データ一覧!F137","v":"…"},null,null,{"$f":"データ一覧!F194","v":"…"},null,null,{"$f":"データ一覧!F138","v":1037},null,null,{"$f":"データ一覧!F195","v":10254},null,null,{"$f":"データ一覧!F139","v":"…"},null,null,{"$f":"データ一覧!F196","v":"…"},null,null,"卸売業",null,null,null,{"$f":"データ一覧!F302","v":2072},null,null,{"$f":"データ一覧!F311","v":17447},null,null,{"$f":"データ一覧!F320","v":1124125},null,null,null,null,"項目別歳入歳出予算決算額"]
["医療、福祉",null,null,null,null,null,null,{"$f":"データ一覧!F140","v":"…"},null,null,{"$f":"データ一覧!F197","v":"…"},null,null,{"$f":"データ一覧!F141","v":2491},null,null,{"$f":"データ一覧!F198","v":47565},null,null,{"$f":"データ一覧!F142","v":"…"},null,null,{"$f":"データ一覧!F199","v":"…"},null,null,"小売業",null,null,null,{"$f":"データ一覧!F303","v":6833},null,null,{"$f":"データ一覧!F312","v":42859},null,null,{"$f":"データ一覧!F321","v":821047},null,null,null,null,"区分",null,null,null,{"$f":"データ一覧!$A$445","v":"2年度"},null,null,null,null,{"$f":"データ一覧!$A$459","v":"元年度"},null,null,null,null,"区分",null,null,null,{"$f":"+AS71","v":"2年度"},null,null,null,null,{"$f":"データ一覧!$A$459","v":"元年度"},null,null,null,null,null,null,null,null,null,{"$f":"データ一覧!F679","v":9593},null,null,null,"   －",{"$f":"データ一覧!F680","v":7},null,{"$f":"データ一覧!F681","v":2350},null,null,null,{"$f":"データ一覧!F682","v":72},null,{"$f":"データ一覧!F683","v":1550},null,null,{"$f":"データ一覧!F684","v":802},null,null,{"$f":"データ一覧!F685","v":717},null,null,{"$f":"データ一覧!F686","v":851},null,null,{"$f":"データ一覧!F687","v":336},null,null,{"$f":"データ一覧!F688","v":32}]
["複合サービス事業",null,null,null,null,null,null,{"$f":"データ一覧!F143","v":"…"},null,null,{"$f":"データ一覧!F200","v":"…"},null,null,{"$f":"データ一覧!F144","v":367},null,null,{"$f":"データ一覧!F201","v":4934},null,null,{"$f":"データ一覧!F145","v":"…"},null,null,{"$f":"データ一覧!F202","v":"…"},null,null,"各種商品",null,null,null,{"$f":"データ一覧!F304","v":26},null,null,{"$f":"データ一覧!F313","v":2195},null,null,{"$f":"データ一覧!F322","v":61566},null,null,null,null,"総額",null,null,null,{"$f":"SUM(AS73:AW85)","v":385439741},null,null,null,null,{"$f":"SUM(AX73:BB85)","v":391987523},null,null,null,null,"総額",null,null,null,{"$f":"SUM(BG73:BK85)","v":385439741},null,null,null,null,{"$f":"SUM(BL73:BP85)","v":377286557},null,null,null,null," １９  警　察　・　消　防  ",null,null,null,null,null,null,null,null,null,null,null,null,null,null,{"$f":"+データ一覧!$A689","v":"2.4.1"}]
["サービス業",null,null,null,null,null,null,{"$f":"データ一覧!F146","v":"…"},null,null,{"$f":"データ一覧!F203","v":"…"},null,null,{"$f":"データ一覧!F147","v":3212},null,null,{"$f":"データ一覧!F204","v":25228},null,null,{"$f":"データ一覧!F148","v":"…"},null,null,{"$f":"データ一覧!F205","v":"…"},null,null,"織物・衣服・身の回り品",null,null,null,{"$f":"データ一覧!F305","v":986},null,null,{"$f":"データ一覧!F314","v":3532},null,null,{"$f":"データ一覧!F323","v":46990},null,null,null,null,"地方税",null,null,null,{"$f":"データ一覧!F446","v":124122467},null,null,null,null,{"$f":"データ一覧!F460","v":128540367},null,null,null,null,"議会費",null,null,null,{"$f":"データ一覧!F474","v":3268743},null,null,null,null,{"$f":"データ一覧!F488","v":3182484}]
["公務",null,null,null,null,null,null,{"$f":"データ一覧!F149","v":"…"},null,null,{"$f":"データ一覧!F206","v":"…"},null,null,{"$f":"データ一覧!F150","v":"…"},null,null,{"$f":"データ一覧!F207","v":"…"},null,null,{"$f":"データ一覧!F151","v":"…"},null,null,{"$f":"データ一覧!F208","v":"…"},null,null,"飲食料品",null,null,null,{"$f":"データ一覧!F306","v":2102},null,null,{"$f":"データ一覧!F315","v":15273},null,null,{"$f":"データ一覧!F324","v":238769},null,null,null,null,"地方譲与税",null,null,null,{"$f":"データ一覧!F447","v":3508246},null,null,null,null,{"$f":"データ一覧!F461","v":3312686},null,null,null,null,"総務費",null,null,null,{"$f":"データ一覧!F475","v":57357311},null,null,null,null,{"$f":"データ一覧!F489","v":54913111},null,null,null,null,null,null,null,null,null,null,null,null,null,null,"交番・駐在所",null,null,null,null,null,null,null,null,"刑法犯認知件数",null,null,null,null,null,null,null,null,"交通人身事故発生件数"]
["  ４  農        　　　業 ",null,null,null,null,null,null,null,null,null,null,null,null,null,null,null,null,null,null,null,null,null,null,null,null,"機械器具",null,null,null,{"$f":"データ一覧!F307","v":1028},null,null,{"$f":"データ一覧!F316","v":6435},null,null,{"$f":"データ一覧!F325","v":178495},null,null,null,null,"各種交付金",null,null,null,{"$f":"データ一覧!F448","v":19145141},null,null,null,null,{"$f":"データ一覧!F462","v":15941820},null,null,null,null,"民生費",null,null,null,{"$f":"データ一覧!F476","v":123468030},null,null,null,null,{"$f":"データ一覧!F490","v":123258948},null,null,null,null,null,"警察署数",null,null,null,null,null,null,null,null,"検問所数",null,null,null,null,null,null,null,null,null,{"$f":"データ一覧!$A$691","v":"元年中"},null,null,null,null,null,null,null,null,{"$f":"データ一覧!$A$691","v":"元年中"}]
[null,null,null,null,null,null,null,null,null,null,null,null,null,null,null,null,null,null,null,null,null,null,null,null,null,"その他",null,null,null,{"$f":"データ一覧!F308","v":2465},null,null,{"$f":"データ一覧!F317","v":13896},null,null,{"$f":"データ一覧!F326","v":254849},null,null,null,null,"地方特例交付金",null,null,null,{"$f":"データ一覧!F449","v":546400},null,null,null,null,{"$f":"データ一覧!F463","v":2296172},null,null,null,null,"衛生費",null,null,null,{"$f":"データ一覧!F477","v":28314954},null,null,null,null,{"$f":"データ一覧!F491","v":25555758},null,null,null,null,null,null,null,null,null,null,null,null,null,null,null,null,null,null,null,null,null,null,null,null,null,null,null,null," 件",null,null,null,null,null,null,null,null,"　件"]
[null,null,"農家人口と世帯員数(販売農家)",null,null,null,null,null,null,null,"農家世帯の就業状態（販売農家）",null,null,null,null,null,null,null,null,null,null,null,null,null,null,"無店舗",null,null,null,{"$f":"データ一覧!F309","v":226},null,null,{"$f":"データ一覧!F318","v":1528},null,null,{"$f":"データ一覧!F327","v":40378},null,null,null,null,"地方交付税",null,null,null,{"$f":"データ一覧!F450","v":65692000},null,null,null,null,{"$f":"データ一覧!F464","v":67770282},null,null,null,null,"労働費",null,null,null,{"$f":"データ一覧!F478","v":1624887},null,null,null,null,{"$f":"データ一覧!F492","v":1737006},null,null,null,null,null,null,{"$f":"データ一覧!F689","v":11},null,null,null,null,null,null,null,null,{"$f":"データ一覧!F690","v":136},null,null,null,null,null,null,null,null,{"$f":"データ一覧!F691","v":3088},null,null,null,null,null,null,null,null,{"$f":"データ一覧!F692","v":1138}]
["農","平",null,null,null,null,null,null,null,null,"農業従事者",null,null,null,null,null,null,null,null,"非農業従事",null,null,"農業従事者",null,null,null,null,null,null,null,null,null,null,null,null,null,null,null,null,null,"分担金および負担金",null,null,null,{"$f":"データ一覧!F451","v":2142033},null,null,null,null,{"$f":"データ一覧!F465","v":3050198},null,null,null,null,"農林水産業費",null,null,null,{"$f":"データ一覧!F479","v":19008376},null,null,null,null,{"$f":"データ一覧!F493","v":24933994},null,null,null,null,"火災発生件数",null,null,null,null,null,null,null,null,null,"林野焼損",null,null,null,null,"損      害",null,null,null,null,"消 防 自",null,null,null,"その他の",null,null,null," ",null,null,null,null," "]
["家",{"$f":"+LEFT(データ一覧!$A$209,2)","v":"27"},"区分",null,"農家人口",null,null,"15歳以上の",null,null,null,null,null,"農業就業人口",null,null,null,null,null,"者",null,null,"の平均年齢",null,null,"  ８  住　　　　　　 　宅",null,null,null,null,null,null,null,null,null,null,null,null,null,null,"使用料および手数料",null,null,null,{"$f":"データ一覧!F452","v":4760546},null,null,null,null,{"$f":"データ一覧!F466","v":5337062},null,null,null,null,"商工費",null,null,null,{"$f":"データ一覧!F480","v":13502386},null,null,null,null,{"$f":"データ一覧!F494","v":15187823},null,null,null,null,{"$f":"+データ一覧!$A$693","v":"元年中"},null,null,null,null,"焼損棟数",null,null,null,null,"面    積",null,null,null,null,"見  積  額",null,null,null,null,"動 車 数",null,null,null,"ﾎﾟﾝﾌﾟ数",null,null,null," 消防吏員",null,null,null," 消防団員"]
["人就 ","・",null,null,null,null,null,"世帯員数",null,null,null,null,null,null,null,null,"基幹的農業",null,null,null,null,null,null,null,null,null,null,null,null,null,null,null,null,null,null,null,null,null,null,null,"国庫支出金",null,null,null,{"$f":"データ一覧!F453","v":53515562},null,null,null,null,{"$f":"データ一覧!F467","v":52381355},null,null,null,null,"土木費",null,null,null,{"$f":"データ一覧!F481","v":45175335},null,null,null,null,{"$f":"データ一覧!F495","v":40251588},null,null,null,null,"         件",null,null,null,null,null,"      棟",null,null,null,null,null,null,"  ａ",null,null,null,"  千円",null,null,"        ",null,null,null,null,null,null,null,null,null,"  人",null,null,null,"  人"]
["口業 ",{"$f":"+MID(データ一覧!$A$209,4,1)","v":"2"},null,null,null,null,"人",null,null,"人",null,null,"人",null,null,"人","従事者",null,"人",null,null,"人",null,null,"歳",{"$f":"+データ一覧!$A$328","v":"30年"},null,null,null,null,{"$f":"データ一覧!$A$331","v":"元年"},"中の増減",null,null,null,{"$f":"+データ一覧!$A$331","v":"元年"},null,null,null,null,"県支出金",null,null,null,{"$f":"データ一覧!F454","v":35828870},null,null,null,null,{"$f":"データ一覧!F468","v":36976994},null,null,null,null,"消防費",null,null,null,{"$f":"データ一覧!F482","v":14523914},null,null,null,null,{"$f":"データ一覧!F496","v":13818222},null,null,null,null,null,{"$f":"データ一覧!F693","v":170},null,null,null,null,{"$f":"データ一覧!F694","v":155},null,null,null,null,{"$f":"データ一覧!F695","v":30},null,null,null,{"$f":"データ一覧!F696","v":1040114},null,null,null,null,null,{"$f":"データ一覧!F697","v":266},null,null,null,{"$f":"データ一覧!F698","v":383},null,null,null,{"$f":"データ一覧!F699","v":1246},null,null,null,{"$f":"データ一覧!F700","v":5814}]
["と状 ","・"," 総数",null,{"$f":"データ一覧!F209","v":63487},null,null,{"$f":"データ一覧!F212","v":56979},null,null,{"$f":"データ一覧!F215","v":40533},null,null,{"$f":"データ一覧!F218","v":18509},null,null,{"$f":"データ一覧!F221","v":14165},null,null,{"$f":"データ一覧!F224","v":16446},null,null,{"$f":"データ一覧!F227","v":59.1},null,null,null,null,null,null,"建設した住宅",null,null,"消失した住宅",null,null,null,null,null,null,null,"財産収入",null,null,null,{"$f":"データ一覧!F455","v":2122043},null,null,null,null,{"$f":"データ一覧!F469","v":1743185},null,null,null,null,"教育費",null,null,null,{"$f":"データ一覧!F483","v":39809318},null,null,null,null,{"$f":"データ一覧!F497","v":36731911},null,null,null,null," ２０  そ　　　の　　　他　"]
["  況 ",{"$f":"+RIGHT(データ一覧!$A$209,1)","v":"1"},"　男",null,{"$f":"データ一覧!F210","v":31400},null,null,{"$f":"データ一覧!F213","v":28079},null,null,{"$f":"データ一覧!F216","v":22829},null,null,{"$f":"データ一覧!F219","v":9545},null,null,{"$f":"データ一覧!F222","v":8459},null,null,{"$f":"データ一覧!F225","v":5250},null,null,{"$f":"データ一覧!F228","v":57.7},null,null,null,null,null,null,null,null,null,null,null,null,null,null,null,null,null,"繰入金",null,null,null,{"$f":"データ一覧!F456","v":17358558},null,null,null,null,{"$f":"データ一覧!F470","v":9110312},null,null,null,null,"災害復旧費",null,null,null,{"$f":"データ一覧!F484","v":88238},null,null,null,null,{"$f":"データ一覧!F498","v":478703}]
[null,null,"　女",null,{"$f":"データ一覧!F211","v":32087},null,null,{"$f":"データ一覧!F214","v":28900},null,null,{"$f":"データ一覧!F217","v":17704},null,null,{"$f":"データ一覧!F220","v":8964},null,null,{"$f":"データ一覧!F223","v":5706},null,null,{"$f":"データ一覧!F226","v":11196},null,null,{"$f":"データ一覧!F229","v":61},null,null,null,{"$f":"データ一覧!F328","v":298240},null,"戸",{"$f":"データ一覧!F329","v":4622},null,"戸",{"$f":"データ一覧!F330","v":2556},null,"戸",null,{"$f":"データ一覧!F331","v":300306},null,"戸",null,"地方債",null,null,null,{"$f":"データ一覧!F457","v":40222500},null,null,null,null,{"$f":"データ一覧!F471","v":36868085},null,null,null,null,"公債費",null,null,null,{"$f":"データ一覧!F485","v":37543994},null,null,null,null,{"$f":"データ一覧!F499","v":37234428}]
[null,null,null,null,null,null,null,null,null,null,null,null,null,null,null,null,null,null,null,null,null,null,null,null,null,null,null,null,null,null,null,null,null,null,null,null,null,null,null,null,"その他",null,null,null,{"$f":"データ一覧!F458","v":16475375},null,null,null,null,{"$f":"データ一覧!F472","v":28659005},null,null,null,null,"その他",null,null,null,{"$f":"データ一覧!F486","v":1754255},null,null,null,null,{"$f":"データ一覧!F500","v":2581},null,null,null,null,null,"県内文化財数",null,null,null,null,null,null,null,null,null,null,null,"国指定",null,null,null,null,"国選択・選定",null,null,null,null,null,null,"国登録",null,null,null,null,null,"県指定"]
[null,null,"総農家数等",null,null,null,null,null,null,"専兼業別（販売農家）",null,null,null,null,null,null,null,"経営面積規模別（販売農家）",null,null,null,null,null,null,null,null,null,null,null,null,null,null,null,null,null,null,null,null,null,null,null,null,null,null,null,null,null,null,null,null,null,null,null,null,null,null,null,null,null,null,null,null,null,null,null,null,null,null,null,"有形文化財",null,null,null,null,null,null,null,null,null,null,null,113,null,null,null,null,null,null,null,null,null,null,null,194,null,null,null,null,null,254]
[null,"平","区　分",null,null,null,"戸数（戸）",null,null,"区　分",null,null,null,null,"戸数（戸）",null,null,"区　　分",null,null,null,null,"戸数（戸）",null,null,"  ９  議　 員　・　職 　員",null,null,null,null,null,null,null,null,null,null,null,null,null,null," １４  文　　　　　　化",null,null,null,null,null,null,null,null,null," ( ",{"$f":"データ一覧!$A$507","v":"2.3.31"},null,null,null,"ただし図書館・公民館・児童館",null,null,null,null,null,null,null,{"$f":"データ一覧!$A$501","v":"2.4.1"},null,null,null,null,null,"無形文化財",null,null,null,null,null,null,null,null,null,null,null,2,null,null,null,null,null,null,null,null,null,null,null,null,null,null,null,null,null,4]
["農",{"$f":"+LEFT(データ一覧!$A$230,2)","v":"27"},"総農家",null,null,null,{"$f":"データ一覧!F230","v":22872},null,null,"総数",null,null,null,null,{"$f":"データ一覧!F236","v":15245},null,null,"総数",null,null,null,null,{"$f":"データ一覧!F241","v":15245},null,null,null,null,null,null,null,null,null,null,null,null,null,null,null,null,null,null,null,null,null,null,null,null,null,null,null,null,null,null,null,null,null,"　宗教法人数 ",null,null,null,null,null,null,{"$f":"データ一覧!$A$509","v":"元.12.31"},null,null,null,"）",null,"民俗文化財",null,null,null,null,null,null,null,null,null,null,null,6,null,null,null,null,null,12,null,null,null,null,null,1,null,null,null,null,null,74]
["家","・","販売農家",null,null,null,{"$f":"データ一覧!F231","v":15245},null,null,"専業農家",null,null,null,null,{"$f":"データ一覧!F237","v":2468},null,null,"0.5 ha 未満",null,null,null,null,{"$f":"データ一覧!F242","v":2901},null,null," 市 町 村 議 会",null,null,"有権者数",null,{"$f":"データ一覧!$A$335","v":"2.9.1"},null,"市 町 村 議 会",null,null,"市町職員数　",null,null,null,null,null,null,null,null,"県立図書館",null,null,null,null,null,null,"公　民　館",null,null,null,null,null,null,null,null,null,null," 社会教育学級講座",null,null,null,null,null,null,"天然記念物、史跡・名勝",null,null,null,null,null,null,null,null,null,null,null,62,null,null,null,null,null,null,null,null,null,null,null,3,null,null,null,null,null,69]
["数",{"$f":"+MID(データ一覧!$A$230,4,1)","v":"2"},null,"主業",null,null,{"$f":"データ一覧!F232","v":998},null,null,"兼業農家",null,null,null,null,{"$f":"データ一覧!F238","v":12777},null,null,"0.5 ha ～ 1.0 ha",null,null,null,null,{"$f":"データ一覧!F243","v":5269},null,null," 議  員  定  数",null,null,"    男",null,"    女",null,"選 挙 投 票 率",null,null," 総     数",null,"一般行政職",null,null,"公    共",null,null,null," 館  数",null,null," 図書数",null,null," 本  館",null,null," 分  館",null,null," 公  園",null,null," 児童館",null,null,"学級講座数",null,null,"受講者数",null,null,null,"選定保存技術"]
[null,"・",null,"準主業",null,null,{"$f":"データ一覧!F233","v":2854},null,null,null,"第１種兼業",null,null,null,{"$f":"データ一覧!F239","v":1235},null,null,"1.0 ha ～ 1.5 ha",null,null,null,null,{"$f":"データ一覧!F244","v":3121},null,null,null,null,"人",null,"人",null,"人",null,null,"　％",null,"人",null,"人",null,"施 設 数",null,null,null,null,{"$f":"データ一覧!F501","v":2},null,{"$f":"データ一覧!F502","v":1341915},null,null,null,{"$f":"データ一覧!F503","v":183},null,{"$f":"データ一覧!F504","v":24},null,null,{"$f":"データ一覧!F505","v":937},null,null,{"$f":"データ一覧!F506","v":108},null,null,{"$f":"データ一覧!F507","v":10012},null,null,{"$f":"データ一覧!F508","v":245641},null,null,"  ","重要伝統的建造物群保存地区",null,null,null,null,null,null,null,null,null,null,null,null,null,null,null,null,null,2]
[null,{"$f":"+RIGHT(データ一覧!$A$230,1)","v":"1"},null,"副業的",null,null,{"$f":"データ一覧!F234","v":11393},null,null,null,"第２種兼業",null,null,null,{"$f":"データ一覧!F240","v":11542},null,null,"1.5 ha ～ 2.0 ha",null,null,null,null,{"$f":"データ一覧!F245","v":1688},null,null,null,{"$f":"データ一覧!F332","v":300},null,{"$f":"データ一覧!F335","v":310130},null,{"$f":"データ一覧!F336","v":332898},null,{"$f":"データ一覧!F334","v":"-"},null,null,{"$f":"データ一覧!F337","v":7922},null,{"$f":"データ一覧!F338","v":4314},null,null,"宗    教",null,null,null," 仏教系",null,null,"ｷﾘｽﾄ教系",null,null,"神道諸派",null,null,"公会堂・市民会館",null,null,null,null,null," テレビ",null,null,"衛星放送契約数",null,null,null,null,null,null,"その他"]
[null,null,"自給的農家",null,null,null,{"$f":"データ一覧!F235","v":7627},null,null,null,null,null,null,null,null,null,null,"2.0 ha 以上",null,null,null,null,{"$f":"データ一覧!F246","v":2247},null,null,null,null,null,null,null,null,null,null,null,null,null,null,null,null,null,"法 人 数",null,null,null,{"$f":"データ一覧!F509","v":1691},null,null,{"$f":"データ一覧!F510","v":37},null,null,{"$f":"データ一覧!F511","v":1813},null,null,{"$f":"データ一覧!F512","v":37},null,null,null,null,null,"　　　等",null,null,{"$f":"データ一覧!F513","v":179773}]

{"sheet":"福井市","index":5,"n_rows":93,"n_cols":104,"rows_kept":93,"cut":false,"hidden":false,"merged":[[68,44,68,48],[69,40,69,67],[68,89,68,91],[71,84,72,103],[70,98,70,100],[68,101,68,103],[77,49,77,53],[78,88,78,91],[79,102,79,103],[67,40,67,43],[77,54,77,57],[78,49,78,53],[76,97,76,100],[73,78,73,84],[68,86,68,88],[72,49,72,53],[73,49,73,53],[73,87,73,93],[68,49,68,53],[76,58,76,62],[68,40,68,43],[79,63,79,67],[65,99,65,102],[80,54,80,57],[70,95,70,97],[71,40,71,43],[71,44,71,48],[71,54,71,57],[74,49,74,53],[73,96,73,102],[74,69,74,75],[74,78,74,84],[79,54,79,57],[72,54,72,57],[78,58,78,62],[77,63,77,67],[68,92,68,94],[77,83,77,87],[70,86,70,88],[70,78,70,79],[78,78,78,82],[67,68,70,72],[74,88,74,92],[78,96,78,99],[78,92,78,95],[78,83,78,87],[71,63,71,67],[70,73,70,76],[70,58,70,62],[70,101,70,103],[67,98,67,103],[77,44,77,48],[71,58,71,62],[72,58,72,62],[80,74,80,76],[75,54,75,57],[77,58,77,62],[75,63,75,67],[73,63,73,67],[78,73,78,77],[78,68,78,72],[78,63,78,67],[71,68,72,82],[77,92,77,95],[76,79,76,82],[76,88,76,91],[70,63,70,67],[68,80,68,82],[73,54,73,57],[68,95,68,97],[80,93,80,95],[77,78,77,82],[77,88,77,91],[68,83,68,85],[74,97,74,101],[73,58,73,62],[79,58,79,62],[67,49,67,53],[58,45,58,47],[39,41,39,47],[67,54,67,57],[65,54,65,57],[49,59,49,62],[50,60,50,62],[49,63,49,67],[38,80,38,83],[40,76,41,78],[39,80,39,83],[65,74,65,77],[65,79,65,82],[56,49,56,54],[42,50,42,52],[43,50,43,52],[56,40,56,43],[54,78,54,80],[48,57,48,60],[34,36,34,37],[35,22,35,24],[23,87,23,91],[25,78,25,81],[25,82,25,85],[23,78,23,81],[45,29,45,30],[38,68,38,74],[40,29,40,30],[35,41,35,47],[40,68,41,74],[27,69,27,73],[27,74,27,77],[30,61,30,65],[27,54,27,57],[29,54,29,57],[28,61,28,65],[32,78,32,81],[32,74,32,77],[39,68,39,74],[42,32,42,35],[44,36,44,37],[28,69,28,73],[31,69,31,73],[40,41,40,47],[41,50,41,52],[43,84,44,103],[45,36,45,37],[54,52,54,55],[42,54,42,57],[48,51,48,54],[54,48,54,51],[46,29,46,30],[55,56,55,58],[55,31,55,34],[40,50,40,52],[36,36,36,37],[27,41,27,47],[28,41,28,47],[54,40,54,43],[32,61,32,65],[33,68,34,79],[37,76,37,78],[35,54,35,57],[54,56,54,59],[38,76,38,78],[36,76,36,78],[36,61,36,65],[53,78,53,80],[40,80,41,83],[48,78,48,80],[49,69,49,76],[30,69,30,73],[43,68,44,81],[49,81,49,83],[40,54,40,57],[50,51,50,54],[49,51,49,54],[30,74,30,77],[30,78,30,81],[37,98,37,101],[40,94,40,96],[40,86,40,92],[48,96,48,99],[49,96,49,99],[48,88,48,91],[46,96,46,99],[39,86,39,92],[45,85,45,90],[28,87,28,91],[27,82,27,85],[36,98,36,101],[36,86,36,92],[37,80,37,83],[50,88,50,91],[57,62,57,64],[47,96,47,99],[47,100,47,103],[28,74,28,77],[36,68,36,74],[35,81,35,84],[39,98,39,101],[33,84,34,97],[30,82,30,85],[30,87,30,91],[31,74,31,77],[31,78,31,81],[31,82,31,85],[51,100,51,103],[51,92,51,95],[46,0,46,1],[47,0,47,1],[50,81,50,83],[38,98,38,101],[38,86,38,92],[39,94,39,96],[42,86,42,92],[41,94,41,96],[48,100,48,103],[49,88,49,91],[45,93,45,102],[49,100,49,103],[48,92,48,95],[42,94,42,96],[42,98,42,101],[47,84,47,87],[47,88,47,91],[41,98,41,101],[58,19,58,21],[56,22,56,24],[61,7,61,9],[35,99,35,102],[58,0,58,6],[42,22,42,24],[55,19,55,21],[40,19,40,21],[59,13,59,15],[47,16,47,18],[35,5,35,7],[35,8,35,10],[48,7,48,9],[48,10,48,12],[40,22,40,24],[42,4,42,6],[48,16,48,18],[50,0,51,24],[40,2,40,3],[48,19,48,21],[48,22,48,24],[47,13,47,15],[41,16,41,18],[41,13,41,15],[55,13,55,15],[44,19,44,24],[46,32,46,35],[50,29,50,32],[51,36,51,38],[44,32,44,35],[47,22,47,24],[48,69,48,76],[53,36,53,37],[55,35,55,38],[42,36,42,37],[29,14,29,16],[30,20,30,21],[30,22,30,24],[62,7,62,9],[59,0,59,6],[41,7,41,9],[60,10,60,12],[33,5,33,7],[33,18,33,19],[33,11,33,13],[34,14,34,16],[40,4,40,6],[41,19,41,21],[40,16,40,18],[34,22,34,24],[34,20,34,21],[61,16,61,18],[57,19,57,21],[61,19,61,21],[57,10,57,12],[44,0,45,1],[62,22,62,24],[61,0,61,6],[56,0,56,6],[59,7,59,9],[35,18,35,19],[42,13,42,15],[47,19,47,21],[41,22,41,24],[57,7,57,9],[55,16,55,18],[40,10,40,12],[57,35,57,37],[41,4,41,6],[34,5,34,7],[20,35,20,38],[34,8,34,10],[34,18,34,19],[50,25,50,28],[50,33,50,38],[48,0,48,1],[55,7,55,9],[27,22,27,24],[32,8,32,10],[29,8,29,10],[29,11,29,13],[31,8,31,10],[31,11,31,13],[33,14,33,16],[56,7,56,9],[48,13,48,15],[55,0,55,6],[40,7,40,9],[47,10,47,12],[42,7,42,9],[42,16,42,18],[40,13,40,15],[42,10,42,12],[34,11,34,13],[55,22,55,24],[42,19,42,21],[45,25,45,28],[33,8,33,10],[41,10,41,12],[47,7,47,9],[32,5,32,7],[55,25,55,30],[44,25,44,28],[54,25,54,32],[53,25,53,27],[45,32,45,35],[41,32,41,35],[35,29,35,30],[44,29,44,30],[34,29,34,30],[40,32,40,35],[41,29,41,30],[36,29,36,30],[46,25,46,28],[55,10,55,12],[35,20,35,21],[5,0,5,9],[6,0,8,9],[19,3,19,5],[35,11,35,13],[35,14,35,16],[30,5,30,7],[31,5,31,7],[30,8,30,10],[14,0,15,24],[16,36,16,37],[18,35,18,38],[17,32,17,34],[17,36,17,38],[16,32,16,33],[21,32,21,34],[21,35,21,38],[38,54,38,57],[24,27,24,28],[20,16,20,18],[25,25,25,26],[25,27,25,28],[20,21,20,23],[23,16,23,18],[29,5,29,7],[22,7,22,8],[27,0,27,4],[33,22,33,24],[27,25,27,26],[19,25,19,28],[17,25,17,27],[18,25,18,27],[22,25,22,28],[64,0,64,6],[65,0,65,6],[66,13,66,15],[65,10,65,12],[56,10,56,12],[62,10,62,12],[56,13,56,15],[57,44,57,47],[58,49,58,51],[61,29,61,30],[58,40,58,43],[61,40,61,43],[61,36,61,37],[62,16,62,18],[59,16,59,18],[57,16,57,18],[56,19,56,21],[56,16,56,18],[57,31,57,33],[57,25,57,29],[63,13,63,15],[60,7,60,9],[57,0,57,6],[63,0,63,6],[61,10,61,12],[60,0,60,6],[59,10,59,12],[58,10,58,12],[58,7,58,9],[58,16,58,18],[60,16,60,18],[58,13,58,15],[46,36,46,37],[15,35,15,37],[14,25,15,25],[14,26,15,28],[23,25,23,28],[15,32,15,33],[15,29,15,30],[18,28,18,30],[24,33,24,34],[19,35,19,38],[21,25,21,28],[22,32,22,34],[61,13,61,15],[60,13,60,15],[66,19,66,21],[63,19,63,21],[51,25,51,28],[51,29,51,32],[51,33,51,35],[32,11,32,13],[30,14,30,16],[32,14,32,16],[30,11,30,13],[31,14,31,16],[32,20,32,21],[20,11,20,13],[23,11,23,13],[23,21,23,23],[32,18,32,19],[26,27,26,28],[57,13,57,15],[57,22,57,24],[55,100,55,103],[55,81,55,83],[56,84,56,87],[55,96,55,99],[56,81,56,83],[55,84,55,87],[54,88,54,91],[52,100,52,103],[62,100,62,102],[54,69,54,76],[62,82,62,84],[57,68,58,103],[63,75,63,77],[60,98,60,103],[60,86,60,91],[52,92,52,95],[54,100,54,103],[56,100,56,103],[53,92,53,95],[52,96,52,99],[63,100,63,102],[52,69,52,76],[65,69,65,72],[56,69,56,76],[60,92,60,97],[53,100,53,103],[62,76,62,78],[63,85,63,87],[52,88,52,91],[64,13,64,15],[69,16,69,18],[70,44,70,48],[62,13,62,15],[21,50,21,52],[19,41,19,47],[23,35,23,38],[24,31,24,32],[66,35,66,38],[65,22,65,24],[60,36,60,37],[62,29,62,30],[65,44,65,50],[27,31,27,32],[28,50,28,52],[29,41,29,47],[41,36,41,37],[40,36,40,37],[25,33,26,34],[27,35,27,36],[68,19,68,21],[27,33,27,34],[26,41,26,47],[56,96,56,99],[67,7,67,9],[66,10,66,12],[67,10,67,12],[67,16,67,18],[70,29,70,30],[70,22,70,24],[69,22,69,24],[54,96,54,99],[53,81,53,83],[54,81,54,83],[58,22,58,24],[70,32,70,33],[63,22,63,24],[60,22,60,24],[67,58,67,62],[67,63,67,67],[60,29,60,30],[65,13,65,15],[64,69,64,72],[66,77,66,91],[61,81,61,84],[61,69,61,72],[56,78,56,80],[65,84,65,87],[55,78,55,80],[64,10,64,12],[63,10,63,12],[63,7,63,9],[64,7,64,9],[65,7,65,9],[61,22,61,24],[66,32,66,34],[65,16,65,18],[65,58,65,64],[66,40,66,67],[67,44,67,48],[67,13,67,15],[62,19,62,21],[65,19,65,21],[66,7,66,9],[69,7,69,9],[68,7,68,9],[71,29,71,30],[68,0,68,6],[70,0,70,6],[81,7,81,9],[69,0,69,6],[68,10,68,12],[70,10,70,12],[70,7,70,9],[68,29,68,30],[68,25,68,28],[69,29,69,30],[72,0,72,6],[67,19,67,21],[72,16,72,18],[68,16,68,18],[72,19,72,21],[72,7,72,9],[67,0,67,6],[70,13,70,15],[67,22,67,24],[66,22,66,24],[71,10,71,12],[69,13,69,15],[71,0,71,6],[68,13,68,15],[71,16,71,18],[71,7,71,9],[66,0,66,6],[69,25,69,28],[19,29,19,31],[19,32,19,34],[20,50,20,52],[20,29,20,31],[20,61,20,65],[21,74,21,77],[24,29,24,30],[24,74,24,77],[22,41,22,47],[17,54,17,58],[23,41,23,47],[23,50,23,52],[48,63,48,66],[49,55,49,58],[41,61,41,65],[45,58,45,62],[43,61,43,65],[27,37,27,38],[25,29,26,30],[31,41,31,47],[58,62,58,64],[55,64,55,66],[49,40,49,46],[33,41,33,47],[38,50,38,52],[17,49,17,53],[17,41,17,47],[18,31,18,34],[24,41,24,47],[19,50,19,52],[22,35,22,38],[24,50,24,52],[22,50,22,52],[20,32,20,34],[19,61,19,65],[17,60,17,66],[19,54,19,57],[20,54,20,57],[21,54,21,57],[22,61,22,65],[24,69,24,73],[17,74,17,77],[20,74,20,77],[23,32,23,34],[17,69,17,72],[24,87,24,91],[27,87,27,91],[28,78,28,81],[28,82,28,85],[35,50,35,52],[36,50,36,52],[26,54,26,57],[25,74,25,77],[21,82,21,85],[21,87,21,91],[35,87,35,91],[22,82,22,85],[26,74,26,77],[35,76,35,78],[27,78,27,81],[26,78,26,81],[29,82,29,85],[29,78,29,81],[26,82,26,85],[21,61,21,65],[34,61,34,65],[35,61,35,65],[26,50,26,52],[27,50,27,52],[31,50,31,52],[32,50,32,52],[22,78,22,81],[24,54,24,57],[34,50,34,52],[23,82,23,85],[33,50,33,52],[51,88,51,91],[53,88,53,91],[54,84,54,87],[49,84,49,87],[51,84,51,87],[51,78,51,80],[52,84,52,87],[50,84,50,87],[32,69,32,73],[22,69,22,73],[23,74,23,77],[23,69,23,73],[22,54,22,57],[24,61,24,65],[23,54,23,57],[28,54,28,57],[37,54,37,57],[23,61,23,65],[32,54,32,57],[52,78,52,80],[52,81,52,83],[40,61,40,65],[33,61,33,65],[25,61,25,65],[26,61,26,65],[38,61,38,65],[39,54,39,57],[24,82,24,85],[25,87,25,91],[35,69,35,73],[37,68,37,74],[29,87,29,91],[39,50,39,52],[55,60,55,63],[54,60,54,67],[27,29,27,30],[31,54,31,57],[31,61,31,65],[37,61,37,65],[39,61,39,65],[34,54,34,57],[36,54,36,57],[41,41,41,47],[43,41,43,47],[42,41,42,47],[21,41,21,47],[20,41,20,47],[24,37,24,38],[24,35,24,36],[33,54,33,57],[43,54,43,57],[41,54,41,57],[50,48,50,50],[49,47,49,50],[55,48,55,50],[37,50,37,52],[25,35,26,36],[25,37,26,38],[30,41,30,47],[38,41,38,47],[36,41,36,47],[37,41,37,47],[34,41,34,47],[35,36,35,37],[29,18,29,19],[29,22,29,24],[27,61,27,65],[29,61,29,65],[27,27,27,28],[32,41,32,47],[29,50,29,52],[29,20,29,21],[30,18,30,19],[32,22,32,24],[31,22,31,24],[31,18,31,19],[31,20,31,21],[30,54,30,57],[30,50,30,52],[20,25,20,28],[33,20,33,21],[26,25,26,26],[25,41,25,47],[25,54,25,57],[25,50,25,52],[21,29,21,31],[22,29,22,31],[23,29,23,31],[25,31,26,32],[24,0,25,24],[26,22,26,24],[27,5,27,7],[58,53,58,55],[57,59,57,61],[57,52,57,55],[46,100,46,103],[45,78,45,83],[47,78,47,80],[47,81,47,83],[50,100,50,103],[56,88,56,91],[56,92,56,95],[55,69,55,76],[50,69,50,76],[49,92,49,95],[48,84,48,87],[50,96,50,99],[49,78,49,80],[42,80,42,83],[42,76,42,78],[42,68,42,74],[53,84,53,87],[50,78,50,80],[51,69,51,76],[55,92,55,95],[55,88,55,91],[48,81,48,83],[47,92,47,95],[50,92,50,95],[50,56,50,58],[42,61,42,65],[51,81,51,83],[51,96,51,99],[53,96,53,99],[59,44,59,59],[60,60,60,63],[54,92,54,95],[72,63,72,67],[55,44,55,46],[75,35,75,37],[76,32,76,33],[53,29,53,31],[53,33,53,34],[60,55,60,59],[55,52,55,54],[58,65,58,67],[68,54,68,57],[68,58,68,62],[68,63,68,67],[54,44,54,47],[57,56,57,58],[67,80,67,82],[68,77,68,79],[67,83,67,85],[68,73,68,76],[70,80,70,82],[72,40,72,43],[70,54,70,57],[70,35,70,37],[70,40,70,43],[53,69,53,76],[62,94,62,96],[75,44,75,48],[72,44,72,48],[70,49,70,53],[61,44,61,49],[91,50,91,52],[84,44,84,48],[90,59,90,61],[83,36,83,37],[83,32,83,33],[82,54,82,57],[92,32,92,34],[92,47,92,49],[91,44,91,46],[91,47,91,49],[89,40,89,43],[90,56,90,58],[82,58,82,62],[90,40,90,43],[92,44,92,46],[84,54,84,57],[84,58,84,62],[82,49,82,53],[91,53,91,58],[83,49,83,53],[89,32,89,34],[91,32,91,34],[84,49,84,53],[91,35,91,36],[90,62,90,64],[91,40,91,43],[84,40,84,43],[84,63,84,67],[14,68,15,82],[14,83,15,96],[38,94,38,96],[70,89,70,91],[70,84,70,85],[70,92,70,94],[37,94,37,96],[29,74,29,77],[62,69,62,72],[29,96,29,99],[20,87,20,91],[21,92,21,95],[19,78,19,81],[27,96,27,99],[23,96,23,99],[20,82,20,85],[21,78,21,81],[24,92,24,95],[16,75,16,96],[47,69,47,76],[46,70,46,75],[36,94,36,96],[22,74,22,77],[28,92,28,95],[22,92,22,95],[20,78,20,81],[26,87,26,91],[26,69,26,73],[22,87,22,91],[36,80,36,83],[39,76,39,78],[24,78,24,81],[17,87,17,90],[19,82,19,85],[19,74,19,77],[65,89,65,92],[67,89,67,91],[80,101,80,103],[80,69,80,71],[80,79,80,81],[32,100,32,103],[35,94,35,96],[63,95,63,97],[80,89,80,91],[79,98,79,99],[80,83,80,87],[32,96,32,99],[32,92,32,95],[32,82,32,85],[80,97,80,99],[31,92,31,95],[30,92,30,95],[31,100,31,103],[31,96,31,99],[30,100,30,103],[30,96,30,99],[78,100,78,103],[62,88,62,90],[76,70,76,73],[37,86,37,92],[40,98,40,101],[41,86,41,92],[65,94,65,97],[63,90,63,92],[60,64,60,67],[57,48,57,51],[58,59,58,61],[59,60,59,63],[58,56,58,58],[75,58,75,62],[60,44,60,49],[74,40,74,43],[74,58,74,62],[73,44,73,48],[74,54,74,57],[76,49,76,53],[73,40,73,43],[76,63,76,67],[74,63,74,67],[17,101,17,102],[19,100,19,103],[28,100,28,103],[21,100,21,103],[26,96,26,99],[25,92,25,95],[24,96,24,99],[26,92,26,95],[23,92,23,95],[17,92,17,95],[20,92,20,95],[19,92,19,95],[25,96,25,99],[29,92,29,95],[23,100,23,103],[22,100,22,103],[22,96,22,99],[27,92,27,95],[24,100,24,103],[25,100,25,103],[26,100,26,103],[27,100,27,103],[20,100,20,103],[19,96,19,99],[20,96,20,99],[21,96,21,99],[29,100,29,103],[28,96,28,99],[17,83,17,84],[50,64,50,67],[61,55,61,59],[61,64,61,67],[72,25,72,28],[83,40,83,43],[61,50,61,54],[61,60,61,63],[57,65,57,67],[81,54,81,57],[82,63,82,67],[55,40,55,43],[73,35,73,37],[76,25,76,28],[69,32,69,33],[68,32,68,33],[72,29,72,30],[68,35,68,37],[76,29,76,30],[81,63,81,67],[80,63,80,67],[71,22,71,24],[78,54,78,57],[71,13,71,15],[66,16,66,18],[83,19,83,21],[82,4,82,6],[82,10,82,12],[71,25,71,28],[76,35,76,37],[75,25,75,28],[75,29,75,30],[73,25,73,28],[79,44,79,48],[71,49,71,53],[74,29,74,30],[57,40,57,43],[60,40,60,43],[81,4,81,6],[72,32,72,33],[83,26,83,27],[69,10,69,12],[59,22,59,24],[75,32,75,33],[65,40,65,43],[75,40,75,43],[75,49,75,53],[76,40,76,43],[69,35,69,37],[71,35,71,37],[72,35,72,37],[74,44,74,48],[81,40,81,43],[80,49,80,53],[81,58,81,62],[60,50,60,54],[80,58,80,62],[77,40,77,43],[78,44,78,48],[78,40,78,43],[76,54,76,57],[79,40,79,43],[79,49,79,53],[76,44,76,48],[92,22,92,24],[89,14,89,16],[90,6,90,8],[88,22,88,24],[87,22,87,24],[89,22,89,24],[82,19,82,21],[88,30,88,31],[88,32,88,34],[88,28,88,29],[85,2,85,8],[85,9,85,16],[81,49,81,53],[90,45,90,46],[83,58,83,62],[90,47,90,49],[88,51,88,54],[83,54,83,57],[90,51,90,52],[92,50,92,52],[91,62,91,67],[73,16,73,18],[73,22,73,24],[81,10,81,12],[73,19,73,21],[73,0,73,6],[73,10,73,12],[73,7,73,9],[91,28,91,29]],"merged_total":1088,"flags":["merged_cut"]}
[{"$f":"+データ一覧!G5","v":0}]
[{"$f":"+データ一覧!G8","v":0}]
[null,null,null,null,null,null,null,null,null,null,null,null,null,null,null,null,null,null,null,null,null,null,null,null,null,null,null,null,null,null,null,null,null,null,null,null,null,null,null,null,0]
[null,null,null,null,null,null,null,null,null,null,null,null,null,null,null,null,null,null,null,null,null,null,null,null,null,null,null,"【市章とそのいわれ】福井城内にあった「福ノ井」の井げたに、 ",null,null,null,null,null,null,null,null,null,null,null,null,"  【位置および地勢】福井市は、福井県の北部に位置し、面積は536.41平方㎞、東西に",null,null,null,null,null,null,null,null,null,null,null,null,null,null,null,null,null,null,null,null,null,null,null,null,null,null,null,null,null,null,"所在地",null,null,null,null,null,null,null,"〒910-8511"]
[null,null,null,null,null,null,null,null,null,null,null,null,null,null,null,null,null,null,null,null,null,null,null,null,null,null,null,"                  福井の旧称「北ノ庄」の北を組み合せ、古きを",null,null,null,null,null,null,null,null,null,null,null,null,"　                  ","広がりのある形で、西方は日本海に臨み、奇岩で有名な越前海岸は風光明媚な",null,null,null,null,null,null,null,null,null,null,null,null,null,null,null,null,null,null,null,null,null,null,null,null,null,null,null,null,null,null,null,null,null,null,null,null,null,"福井市大手３丁目１０番１号"]
[{"$f":"+データ一覧!G6","v":"ふくいし"},null,null,null,null,null,null,null,null,null,null,null,null,null,null,null,null,null,null,null,null,null,null,null,null,null,null,"                  生かし新しい時代への発展と繁栄を図案化した ",null,null,null,null,null,null,null,null,null,null,null,null,"  ","観光地となっている。市の西部と南東部は山岳地であるが、他のほとんどは平坦地で"]
[{"$f":"データ一覧!G9","v":"福井市"},null,null,null,null,null,null,null,null,null,null,null,null,null,null,null,null,null,null,null,null,null,null,null,null,null,null,"                  もの。                                                                           ",null,null,null,null,null,null,null,null,null,null,null,null,"  ","穀倉地帯となっている。市南東部の豊かな森林地帯に源を発する足羽川が市の中央部を",null,null,null,null,null,null,null,null,null,null,null,null,null,null,null,null,null,null,null,null,null,null,null,null,null,null,null,null,null,"電話番号",null,null,null,null,null,null,null,"（０７７６）２０－５１１１"]
[null,null,null,null,null,null,null,null,null,null,null,null,null,null,null,null,null,null,null,null,null,null,null,null,null,null,null,0,null,null,null,null,null,null,null,null,null,null,null,null,"  ","流れて、南越から市街地西側に流れ込む日野川と合流し、さらに市の北部を流れる本県",null,null,null,null,null,null,null,null,null,null,null,null,null,null,null,null,null,null,null,null,null,null,null,null,null,null,null,null,null,"FAX番号",null,null,null,null,null,null,null,"     〃     ２０－５７３３"]
[null,null,null,null,null,null,null,null,null,null,null,null,null,null,null,null,null,null,null,null,null,null,null,null,null,null,null,0,null,null,null,null,null,null,null,null,null,null,null,null,null,"最大河川の九頭竜川へと注いでいる。ＪＲ北陸本線は市街地の東側を走り、その東を"]
[null,null,null,null,null,null,null,null,null,null,null,null,null,null,null,null,null,null,null,null,null,null,null,null,null,null,null,0,null,null,null,null,null,null,null,null,null,null,null,null,null,"これに平行して国道８号と北陸自動車が南北に貫いている。",null,null,null,null,null,null,null,null,null,null,null,null,null,null,null,null,null,null,null,null,null,null,null,null,null,null,null,null,null,"最寄駅および距離",null,null,null,null,null,null,null,"ＪＲ北陸本線福井駅  下車５００ｍ"]
[null,null,null,null,null,null,null,null,null,null,null,null,null,null,null,null,null,null,null,null,null,null,null,null,null,null,null,0,null,null,null,null,null,null,null,null,null,null,null,null,0]
[]
[null,null,null,null,null,null,null,null,null,null,null,null,null,null,null,null,null,null,null,null,null,null,null,null,null,null,null,"【市が掲げる標語】みんなが輝く　全国に誇れる　ふくい",null,null,null,null,null,null,null,null,null,null,null,null,null,null,null,null,null,null,null,null,null,null,null,null,null,null,null,null,null,null,null,null,null,null,null,null,null,null,null,null,null,null,null,"ホームページ",null,null,null,null,null,null,null,"http://www.city.fukui.lg.jp/"]
[]
["  １  土            　　地",null,null,null,null,null,null,null,null,null,null,null,null,null,null,null,null,null,null,null,null,null,null,null,null,{"$f":"データ一覧!$A$247","v":"元年"},"産米収穫量",null,null,"　 収　穫　量",null,null," 　作 付 面 積",null,null,"   10a当たり収量",null,null,null,null,null,null,null,null,null,null,null,null,null,null,null,null,null,null,null,null,null,null,null,null,null,null,null,null,null,null,null,null," １５  労　　　　　　　働",null,null,null,null,null,null,null,null,null,null,null,null,null,null,"27.10.1"]
[null,null,null,null,null,null,null,null,null,null,null,null,null,null,null,null,null,null,null,null,null,null,null,null,null,null,null,null,null,{"$f":"データ一覧!$G$247","v":28400},null,"t",{"$f":"データ一覧!$G$248","v":5330},null,"ha",{"$f":"データ一覧!G249","v":533},null,null,"kg",null," １０  工　　　　　　業 ",null,null,null,null,null,null,null,null,null,null,null,null,null,{"$f":"データ一覧!$A$339","v":"元.6.1（平成30年実績）"}]
["   総          面           積",null,null,null,null,null,null,null,null,null," 固 定 資 産 概 要 調 書 に よ る 地 目 別 面 積",null,null,null,null,null,null,null,null,null,null,null,null,null,null,null,null,null,"   総　　　数",null,null,null,"うち　　田",null,null,null,"うち　　畑",null,null,null,null,null,null,null,null,null,null,null,null,null,null,null,null,null,null,null,null,null,null,null,null,null,null,null,null,null,null,null,null,null,null,null,null,null,null,"産業別就業者数   "]
[null,null,{"$f":"データ一覧!$A$10","v":"2.10.1"},null,null,null,null,null,null,null,null,null,null,null,null,null,{"$f":"データ一覧!$A$12","v":"2.1.1"},null,null,null,null,null,null,null,null," 耕  地  面  積",null,null,null,"       ha",null,null,"ha ",null,null,null,"ha ",null,null,null,"      ","産業分類",null,null,null,null,null,null,null,"事業所数",null,null,null,null,"従業者数",null,null,null,null,null,"年間製造品出荷額等",null,null,null,null,null,null,null,null,"区  分",null,null,null,null,"総    数",null,null,null,null,"男",null,null,null,"女",null,null,"  ","区  分",null,null,null,null,"総    数",null,null,null,null,"男",null,null,null,"女"]
[null,null,null,null,null,null,"㎢",null,null,null,"   総       数",null,null,null,null,"  う ち     田",null,null,null,null,"  う ち     畑",null,null,null,null,{"$f":"データ一覧!$A$250","v":"元.7.15"},null,null,{"$f":"データ一覧!$G$250","v":7860},null,null,{"$f":"データ一覧!$G$251","v":7460},null,null,null,{"$f":"データ一覧!$G$252","v":399},null,null,null,null,null,null,null,null,null,null,null,null,null,"　　   ",null,null,"事業所",null,"　　　　　　　 人",null,null,"人",null,"　　　　　　　　　　　　　　万円",null,null,null,null,null,null,"万円",null,null,null,null,null,null,null,"      人",null,null,null,null,null," 人",null,null,null," 人",null,null,null,null,null,null,null,"      人",null,null,null,"      人",null,null,null,"      人"]
[null,null,null,{"$f":"データ一覧!G10","v":536.41},null,null,null,null,null,null,null,null,null,null,"ha",null,null,null,null,"ha",null,null,null,null,"ha","農 業 生 産 物",null,null,null,"作 付 面 積",null,null,"収 穫 量",null,null,"10a当たり収量",null,null,null,null,"     ","総数",null,null,null,null,null,null,null,null,{"$f":"データ一覧!G339","v":561},null,null,null,{"$f":"+データ一覧!G364","v":17791},null,null,null,null,null,null,{"$f":"データ一覧!G389","v":47031742},null,null,null,null,null,null," 総　　　数",null,null,null,null,null,{"$f":"CA20+CE20","v":129888},null,null,null,{"$f":"データ一覧!G514","v":70147},null,null,null,{"$f":"データ一覧!G539","v":59741}]
[null,null,null,null,null,null,null,null,null,null,null,{"$f":"データ一覧!G12","v":34918.800000000003},null,null,null,null,{"$f":"データ一覧!G13","v":7921.8},null,null,null,null,{"$f":"データ一覧!G14","v":906.5},null,null,null,{"$f":"データ一覧!$A$253","v":"元年中"},null,null,null,"ha",null,null,"t",null,null,"kg",null,null,null,null,"     食料品","食料品",null,null,null,null,null,null,null,null,{"$f":"データ一覧!G340","v":66},null,null,null,{"$f":"+データ一覧!G365","v":1842},null,null,null,null,null,null,{"$f":"データ一覧!G390","v":2185810},null,null,null,null,null,null,null,null,null,null,null,null,null,null,null,null,null,null,null,null,null,null,null,null,null,"卸売業,小売業",null,null,null,null,{"$f":"CS21+CW21","v":22922},null,null,null,{"$f":"データ一覧!G527","v":11326},null,null,null,{"$f":"データ一覧!G552","v":11596}]
["  町 ･ 丁 ･ 大 字",null,null,null,null,null,null,null,null,null,"  う ち  宅 地",null,null,null,null,"  う ち  山 林",null,null,null,null,"  う ち  原 野",null,null,null,null,"水　　　　　稲",null,null,null,{"$f":"データ一覧!G253","v":5330},null,null,{"$f":"データ一覧!G254","v":28400},null,null,{"$f":"データ一覧!G255","v":533},null,null,null,null,"     飲料・飼料","飲料・飼料",null,null,null,null,null,null,null,null,{"$f":"データ一覧!G341","v":5},null,null,null,{"$f":"+データ一覧!G366","v":28},null,null,null,null,null,null,{"$f":"データ一覧!G391","v":29690},null,null,null,null,null,null," 第１次産業",null,null,null,null,null,{"$f":"CA22+CE22","v":2824},null,null,null,{"$f":"データ一覧!G515","v":1889},null,null,null,{"$f":"データ一覧!G540","v":935},null,null,null,null,"金融業,保険業",null,null,null,null,{"$f":"CS22+CW22","v":4136},null,null,null,{"$f":"データ一覧!G528","v":1818},null,null,null,{"$f":"データ一覧!G553","v":2318}]
["  区    画    数",null,null,null,null,null,null,{"$f":"データ一覧!G11","v":733},null,null,null,null,null,null,"ha",null,null,null,null,"ha",null,null,null,null,"ha","六　条　大　麦",null,null,null,{"$f":"データ一覧!G256","v":886},null,null,{"$f":"データ一覧!G257","v":2970},null,null,{"$f":"データ一覧!G258","v":336},null,null,null,null,"     繊維","繊維",null,null,null,null,null,null,null,null,{"$f":"データ一覧!G342","v":132},null,null,null,{"$f":"+データ一覧!G367","v":4960},null,null,null,null,null,null,{"$f":"データ一覧!G392","v":8520143},null,null,null,null,null,null,"  ","農業",null,null,null,null,{"$f":"CA23+CE23","v":2614},null,null,null,{"$f":"データ一覧!G516","v":1710},null,null,null,{"$f":"データ一覧!G541","v":904},null,null,null,"  ","不動産業",null,null,null,null,1949,null,null,null,{"$f":"データ一覧!G529","v":1132},null,null,null,{"$f":"データ一覧!G554","v":817}]
[{"$f":"データ一覧!$A$11","v":"31.4.1"},null,null,null,null,null,null,null,null,null,null,{"$f":"データ一覧!G15","v":4878.7},null,null,null,null,{"$f":"データ一覧!G16","v":17315.099999999999},null,null,null,null,{"$f":"データ一覧!G17","v":101},null,null,null,"大　　      豆",null,null,null,{"$f":"データ一覧!G259","v":431},null,null,{"$f":"データ一覧!G260","v":522},null,null,{"$f":"データ一覧!G261","v":121},null,null,null,null,"     衣服","木材",null,null,null,null,null,null,null,null,{"$f":"データ一覧!G343","v":17},null,null,null,{"$f":"+データ一覧!G368","v":373},null,null,null,null,null,null,{"$f":"データ一覧!G393","v":3748033},null,null,null,null,null,null,"  ","林業",null,null,null,null,150,null,null,null,{"$f":"データ一覧!G517","v":126},null,null,null,{"$f":"データ一覧!G542","v":24},null,null,null,"  ","学術研究",null,null,null,null,3993,null,null,null,{"$f":"データ一覧!G530","v":2449},null,null,null,{"$f":"データ一覧!G555","v":1544}]
["  ２  世　帯　数　と　人　口",null,null,null,null,null,null,null,null,null,null,null,null,null,null,null,null,null,null,null,null,null,null,null,null,null,null,"  区　分",null," 乳 用 牛",null," 肉 用 牛",null,"豚",null,"採卵鶏",null,"ブロイラー",null,null,"     木材","家具",null,null,null,null,null,null,null,null,{"$f":"データ一覧!G344","v":11},null,null,null,{"$f":"+データ一覧!G369","v":294},null,null,null,null,null,null,{"$f":"データ一覧!G394","v":432804},null,null,null,null,null,null,"  ","漁業",null,null,null,null,60,null,null,null,{"$f":"データ一覧!G518","v":53},null,null,null,{"$f":"データ一覧!G543","v":7},null,null,null,"  ","宿泊業,飲食ｻｰﾋﾞｽ",null,null,null,null,7060,null,null,null,{"$f":"データ一覧!G531","v":2649},null,null,null,{"$f":"データ一覧!G556","v":4411}]
[null,null,null,null,null,null,null,null,null,null,null,null,null,null,null,null,null,null,null,null,null,null,null,null,null,"畜　産",null,"飼養農家",null,{"$f":"データ一覧!$G$262","v":3},null,{"$f":"データ一覧!$G$264","v":6},null,{"$f":"データ一覧!$G$266","v":"-"},null,{"$f":"データ一覧!$G$268","v":5},null,{"$f":"データ一覧!$G$270","v":"x"},null,null,"     家具","パルプ・紙",null,null,null,null,null,null,null,null,{"$f":"データ一覧!G345","v":23},null,null,null,{"$f":"+データ一覧!G370","v":348},null,null,null,null,null,null,{"$f":"データ一覧!G395","v":758042},null,null,null,null,null,null," 第２次産業",null,null,null,null,null,32932,null,null,null,{"$f":"データ一覧!G519","v":23283},null,null,null,{"$f":"データ一覧!G544","v":9649},null,null,null,"  ","生活関連ｻｰﾋﾞｽ業",null,null,null,null,4719,null,null,null,{"$f":"データ一覧!G532","v":1831},null,null,null,{"$f":"データ一覧!G557","v":2888}]
[null,null,null,null,null,null,null,null,"        人　　　　　　　　　　口",null,null,null,null,null,null,null,null,null,null,null,"１世帯当",null,"人    口",null,null,{"$f":"データ一覧!$A$262","v":"2.3.31"},null,"（戸）",null,null,null,null,null,null,null,null,null,null,null,null,"     パルプ・紙","印刷",null,null,null,null,null,null,null,null,{"$f":"データ一覧!G346","v":47},null,null,null,{"$f":"+データ一覧!G371","v":1343},null,null,null,null,null,null,{"$f":"データ一覧!G396","v":2079103},null,null,null,null,null,null,null,"鉱業，採石業",null,null,null,null,22,null,null,null,{"$f":"データ一覧!G520","v":16},null,null,null,{"$f":"データ一覧!G545","v":6},null,null,null,"  ","教育,学習支援業",null,null,null,null,6918,null,null,null,{"$f":"データ一覧!G533","v":2861},null,null,null,{"$f":"データ一覧!G558","v":4057}]
[" 区　　　　分",null,null,null,null,"世帯数",null,null," 総   数",null,null,"    男",null,null,"    女",null,null,"  男／女",null,null,"たり人員",null,"密    度",null,null,null,null,"頭 羽",null,{"$f":"データ一覧!$G$263","v":131},null,{"$f":"データ一覧!$G$265","v":246},null,{"$f":"データ一覧!$G$267","v":"-"},null,{"$f":"データ一覧!$G$269","v":6608},null,{"$f":"データ一覧!$G$271","v":26000},null,null,"     出版・印刷","化学",null,null,null,null,null,null,null,null,{"$f":"データ一覧!G347","v":17},null,null,null,{"$f":"+データ一覧!G372","v":1033},null,null,null,null,null,null,{"$f":"データ一覧!G397","v":7655972},null,null,null,null,null,null,"  ","建設業",null,null,null,null,10657,null,null,null,{"$f":"データ一覧!G521","v":8864},null,null,null,{"$f":"データ一覧!G546","v":1793},null,null,null,null,"医療，福祉",null,null,null,null,17236,null,null,null,{"$f":"データ一覧!G534","v":4069},null,null,null,{"$f":"データ一覧!G559","v":13167}]
[null,null,null,null,null,"    世 帯",null,null,"       人",null,null,"       人",null,null,"       人",null,null,null,"　　％",null,"    人",null,"    人/㎢",null,null,null,null,null,null,null,null,null,null,null,null,null,null,null,null,null,"     化学","石油・石炭",null,null,null,null,null,null,null,null,{"$f":"データ一覧!G348","v":3},null,null,null,{"$f":"+データ一覧!G373","v":22},null,null,null,null,null,null,{"$f":"データ一覧!G398","v":202749},null,null,null,null,null,null,null,"製造業",null,null,null,null,22253,null,null,null,{"$f":"データ一覧!G522","v":14403},null,null,null,{"$f":"データ一覧!G547","v":7850},null,null,null,null,"複合サービス事業",null,null,null,null,1258,null,null,null,{"$f":"データ一覧!G535","v":746},null,null,null,{"$f":"データ一覧!G560","v":512}]
[{"$f":"データ一覧!$A$25","v":" 2.10.1"},null,null,null,null,{"$f":"データ一覧!G25","v":81287},null,null,{"$f":"+L30+O30","v":270911},null,null,{"$f":"データ一覧!G27","v":131608},null,null,{"$f":"データ一覧!G28","v":139303},null,null,null,{"$f":"+L30/O30*100","v":94.476070149243014},null,{"$f":"データ一覧!G30","v":3.33},null,{"$f":"データ一覧!G24","v":0},null,null,"  ５  林               業",null,null,null,null,null,null,null,null,null,null,null,null,null,null,"     石油・石炭","プラスチック",null,null,null,null,null,null,null,null,{"$f":"データ一覧!G349","v":29},null,null,null,{"$f":"+データ一覧!G374","v":1233},null,null,null,null,null,null,{"$f":"データ一覧!G399","v":3687607},null,null,null,null,null,null," 第３次産業",null,null,null,null,null,90375,null,null,null,{"$f":"データ一覧!G523","v":42993},null,null,null,{"$f":"データ一覧!G548","v":47382},null,null,null,null,"サービス業",null,null,null,null,6945,null,null,null,{"$f":"データ一覧!G536","v":4194},null,null,null,{"$f":"データ一覧!G561","v":2751}]
[{"$f":"データ一覧!$A$32","v":" 7.10.1"},null,null,null,null,{"$f":"データ一覧!G32","v":87719},null,null,{"$f":"+L31+O31","v":272970},null,null,{"$f":"データ一覧!G34","v":133444},null,null,{"$f":"データ一覧!G35","v":139526},null,null,null,95.640955807519745,null,{"$f":"データ一覧!G37","v":3.11},null,{"$f":"データ一覧!G31","v":0},null,null,null,null,null,null,null,null,null,null,null,null,null,null,null,null,null,"     プラスチック","ゴム",null,null,null,null,null,null,null,null,{"$f":"データ一覧!G350","v":4},null,null,null,{"$f":"+データ一覧!G375","v":66},null,null,null,null,null,null,{"$f":"データ一覧!G400","v":"x"},null,null,null,null,null,null,null,"電気･ｶﾞｽ･水道業",null,null,null,null,627,null,null,null,{"$f":"データ一覧!G524","v":533},null,null,null,{"$f":"データ一覧!G549","v":94},null,null,null,null,"公務",null,null,null,null,4708,null,null,null,{"$f":"データ一覧!G537","v":3314},null,null,null,{"$f":"データ一覧!G562","v":1394}]
[{"$f":"データ一覧!$A$39","v":"12.10.1"},null,null,null,null,{"$f":"データ一覧!G39","v":89946},null,null,{"$f":"+L32+O32","v":269557},null,null,{"$f":"データ一覧!G41","v":131344},null,null,{"$f":"データ一覧!G42","v":138213},null,null,null,95.030134647247365,null,{"$f":"データ一覧!G44","v":3},null,{"$f":"データ一覧!G38","v":0},null,null,"    　森　　　林　　　総　　　面　　　積   ",null,null,null,null,null,null,null,{"$f":"データ一覧!$A$272","v":"2.3.31"},null,null,null,null,null,null,"     ゴム","皮革",null,null,null,null,null,null,null,null,{"$f":"データ一覧!G351","v":0},null,null,null,{"$f":"+データ一覧!G376","v":0},null,null,null,null,null,null,{"$f":"データ一覧!G401","v":0},null,null,null,null,null,null,null,"情報通信業",null,null,null,null,2639,null,null,null,{"$f":"データ一覧!G525","v":1807},null,null,null,{"$f":"データ一覧!G550","v":832},null,null,null," 分類不能の産業",null,null,null,null,null,3757,null,null,null,{"$f":"データ一覧!G538","v":1982},null,null,null,{"$f":"データ一覧!G563","v":1775}]
[{"$f":"+データ一覧!$A$46","v":"17.10.1"},null,null,null,null,{"$f":"データ一覧!G46","v":93694},null,null,{"$f":"+L33+O33","v":269144},null,null,{"$f":"データ一覧!G48","v":130834},null,null,{"$f":"データ一覧!G49","v":138310},null,null,null,94.594750921842234,null,{"$f":"データ一覧!G51","v":2.87},null,{"$f":"データ一覧!G52","v":502},null,null,"　　　森　　　　　　　林　　　　　　　の　　　　　　　構　　　　　　　成",null,null,null,null,null,null,null,null,null,null,null,null,null,null,"     皮革","窯業・土石",null,null,null,null,null,null,null,null,{"$f":"データ一覧!G352","v":11},null,null,null,{"$f":"+データ一覧!G377","v":203},null,null,null,null,null,null,{"$f":"データ一覧!G402","v":739649},null,null,null,null,null,null,"  ","運輸業,郵便業",null,null,null,null,{"$f":"CA33+CE33","v":5265},null,null,null,{"$f":"データ一覧!G526","v":4264},null,null,null,{"$f":"データ一覧!G551","v":1001}]
[{"$f":"+データ一覧!$A$53","v":"22.10.1"},null,null,null,null,{"$f":"+データ一覧!G53","v":97446},null,null,{"$f":"+L34+O34","v":266796},null,null,{"$f":"+データ一覧!G55","v":128692},null,null,{"$f":"+データ一覧!G56","v":138104},null,null,null,93.184846202861621,null,{"$f":"+データ一覧!G58","v":2.74},null,{"$f":"+データ一覧!G59","v":497.6},null,null,null,null,null,null,null,"       ha",null,null,null,null,null,null,"       ha",null,null,"     窯業・土石","鉄鋼",null,null,null,null,null,null,null,null,{"$f":"データ一覧!G353","v":7},null,null,null,{"$f":"+データ一覧!G378","v":85},null,null,null,null,null,null,{"$f":"データ一覧!G403","v":331237},null,null,null,null,null,null," １６  社　 会 　福　 祉",null,null,null,null,null,null,null,null,null,null,null,null,null,null,null,{"$f":"データ一覧!$A$564","v":"2.4.1"}]
[{"$f":"データ一覧!$A$60","v":"27.10.1"},null,null,null,null,{"$f":"データ一覧!G60","v":99872},null,null,{"$f":"データ一覧!G61","v":265904},null,null,{"$f":"データ一覧!G62","v":128892},null,null,{"$f":"データ一覧!G63","v":137012},null,null,null,94.073511809184595,null,{"$f":"データ一覧!G65","v":2.6624479333546942},null,{"$f":"データ一覧!G66","v":495.7},null,null,"  総　　　　　   数",null,null,null,{"$f":"データ一覧!G272","v":31943.209999999974},null,null," 天然林       針葉樹",null,null,null,{"$f":"データ一覧!G275","v":721.06999999997299},null,null,null,"     鉄鋼","非鉄金属",null,null,null,null,null,null,null,null,{"$f":"データ一覧!G354","v":2},null,null,null,{"$f":"+データ一覧!G379","v":124},null,null,null,null,null,null,{"$f":"データ一覧!G404","v":"x"}]
[{"$f":"+データ一覧!$A$67","v":"2.10.1"},null,null,null,null,{"$f":"データ一覧!G67","v":104822},null,null,{"$f":"データ一覧!G76","v":261117},null,null,{"$f":"データ一覧!G77","v":126962},null,null,{"$f":"データ一覧!G78","v":134155},null,null,null,{"$f":"+L36/O36*100","v":94.638291528455881},null,{"$f":"データ一覧!G68","v":2.4900000000000002},null,{"$f":"データ一覧!G69","v":486.78622695326339},null,null,"  人工林     針葉樹",null,null,null,{"$f":"データ一覧!G273","v":19389.37},null,null," 天然林       広葉樹",null,null,null,{"$f":"データ一覧!G276","v":10922.71},null,null,null,"     非鉄金属","金属",null,null,null,null,null,null,null,null,{"$f":"データ一覧!G355","v":55},null,null,null,{"$f":"+データ一覧!G380","v":1296},null,null,null,null,null,null,{"$f":"データ一覧!G405","v":3531173},null,null,null,null,null,null,"    ","区分",null,null,null,null,null,null,"施設数",null,null,null,null,"収容定員",null,null,null,null,null,"区分",null,null,null,null,null,null,"施設数",null,null,null,null,"収容定員"]
["年",null,"  区",null," 0歳",null,null,"15歳",null,null,"25歳",null,null,"35歳",null,null,"45歳",null,null,"55歳",null,null,"65歳",null,null,"  人工林     広葉樹",null,null,null,{"$f":"データ一覧!G274","v":70.180000000000007},null,null," 竹               林",null,null,null,{"$f":"データ一覧!G277","v":303.47999999999803},null,null,null,"     金属","はん用機械",null,null,null,null,null,null,null,null,{"$f":"データ一覧!G356","v":11},null,null,null,{"$f":"+データ一覧!G381","v":167},null,null,null,null,null,null,{"$f":"データ一覧!G406","v":254436},null,null,null,null,null,null,"生活保護施設",null,null,null,null,null,null,null,{"$f":"データ一覧!G564","v":1},null,null,null,{"$f":"データ一覧!G577","v":0},null,null,null,"人",null,"指定障害者支援施設",null,null,null,null,null,null,null,{"$f":"データ一覧!G570","v":9},null,null,null,{"$f":"データ一覧!G583","v":500},null,null,null,"人"]
["齢","令",null,null,null,"～",null,null,"～",null,null,"～",null,null,"～",null,null,"～",null,null,"～",null,null,null,null,null,null,null,null,null,null,null,null,null,null,null,null,null,null,null,"     一般機械","生産用機械",null,null,null,null,null,null,null,null,{"$f":"データ一覧!G357","v":58},null,null,null,{"$f":"+データ一覧!G382","v":1857},null,null,null,null,null,null,{"$f":"データ一覧!G407","v":5426255},null,null,null,null,null,null,"地域福祉施設",null,null,null,null,null,null,null,{"$f":"データ一覧!G565","v":0},null,null,null,{"$f":"データ一覧!G578","v":0},null,null,null,null,null,"指定相談支援事業所",null,null,null,null,null,null,null,{"$f":"データ一覧!G571","v":4},null,null,null,{"$f":"データ一覧!G584","v":0}]
["階","元","  分",null,null,null,"14歳",null,null,"24歳",null,null,"34歳",null,null,"44歳",null,null,"54歳",null,null,"64歳",null,null,"以上","    林     野     の     構     成",null,null,null,null,null,null,"保     有     形     態     別",null,null,null,null,null,null,null,"     電気機械","業務用機械",null,null,null,null,null,null,null,null,{"$f":"データ一覧!G358","v":3},null,null,null,{"$f":"+データ一覧!G383","v":42},null,null,null,null,null,null,{"$f":"データ一覧!G408","v":69843},null,null,null,null,null,null,"老人福祉施設",null,null,null,null,null,null,null,{"$f":"データ一覧!G566","v":56},null,null,null,{"$f":"データ一覧!G579","v":1755},null,null,null,null,null,"児童福祉施設",null,null,null,null,null,null,null,{"$f":"データ一覧!G572","v":185},null,null,null,{"$f":"データ一覧!G585","v":11835}]
["級","・",null,null,null,null,"人",null,null,"人",null,"    人",null,null,"    人",null,null,"    人",null,null,"    人",null,null,"    人",null,null,null,null,null,null,null,"ha",null,null,null,null,null,"       ha",null,null,null,"電子・デバイス",null,null,null,null,null,null,null,null,{"$f":"データ一覧!G359","v":8},null,null,null,{"$f":"+データ一覧!G384","v":1053},null,null,null,null,null,null,{"$f":"データ一覧!G409","v":4188376},null,null,null,null,null,null,"介護保険施設",null,null,null,null,null,null,null,{"$f":"データ一覧!G567","v":427},null,null,null,{"$f":"データ一覧!G580","v":8084},null,null,null,null,null,"母子福祉施設",null,null,null,null,null,null,null,{"$f":"データ一覧!G573","v":1},null,null,null,{"$f":"データ一覧!G586","v":0}]
["別","10","総 数",null,{"$f":"+E42+E43","v":32171},null,null,{"$f":"+H42+H43","v":24279},null,null,{"$f":"+K42+K43","v":23576},null,null,{"$f":"+N42+N43","v":30229},null,null,{"$f":"+Q42+Q43","v":35387},null,null,{"$f":"+T42+T43","v":31684},null,null,{"$f":"+W42+W43","v":76079},null,null," 無立木地   伐採跡地",null,null,null,{"$f":"データ一覧!G278","v":21.310000000000002},null,null,"国   　　　 　 有",null,null,null,{"$f":"データ一覧!G280","v":109.08},null,null,null,null,"電気機械",null,null,null,null,null,null,null,null,{"$f":"データ一覧!G360","v":9},null,null,null,{"$f":"+データ一覧!G385","v":223},null,null,null,null,null,null,{"$f":"データ一覧!G410","v":387967},null,null,null,null,null,null,"障害者自立支援法施行前からの身体障害者福祉施設",null,null,null,null,null,null,null,{"$f":"データ一覧!G568","v":2},null,null,null,{"$f":"データ一覧!G581","v":0},null,null,null,null,null,"婦人保護施設",null,null,null,null,null,null,null,{"$f":"データ一覧!G574","v":1},null,null,null,{"$f":"データ一覧!G587","v":15}]
["人","・","  男",null,{"$f":"データ一覧!G79","v":16604},null,null,{"$f":"データ一覧!G80","v":12810},null,null,{"$f":"データ一覧!G81","v":12178},null,null,{"$f":"データ一覧!G82","v":15152},null,null,{"$f":"データ一覧!G83","v":17577},null,null,{"$f":"データ一覧!G84","v":15433},null,null,{"$f":"データ一覧!G85","v":33088},null,null," 無立木地   未立木地",null,null,null,{"$f":"データ一覧!G279","v":515.08999999999992},null,null,"公       　　  有",null,null,null,{"$f":"データ一覧!G281","v":1529.5499999999997},null,null,null,"     輸送機械","情報通信機械",null,null,null,null,null,null,null,null,{"$f":"データ一覧!G361","v":2},null,null,null,{"$f":"+データ一覧!G386","v":130},null,null,null,null,null,null,{"$f":"データ一覧!G411","v":"x"},null,null,null,null,null,null,null,null,null,null,null,null,null,null,null,null,null,null,null,null,null,null,null,null,"その他の社会福祉施設",null,null,null,null,null,null,null,{"$f":"データ一覧!G575+データ一覧!G576","v":9},null,null,null,{"$f":"SUM(データ一覧!G588,データ一覧!G589)","v":0}]
["口","1","  女",null,{"$f":"データ一覧!G87","v":15567},null,null,{"$f":"データ一覧!G88","v":11469},null,null,{"$f":"データ一覧!G89","v":11398},null,null,{"$f":"データ一覧!G90","v":15077},null,null,{"$f":"データ一覧!G91","v":17810},null,null,{"$f":"データ一覧!G92","v":16251},null,null,{"$f":"データ一覧!G93","v":42991},null,null,null,null,null,null,null,null,null,"私          　 有",null,null,null,{"$f":"データ一覧!G282","v":30304.579999999969},null,null,null,"     精密機械","輸送機械",null,null,null,null,null,null,null,null,{"$f":"データ一覧!G362","v":3},null,null,null,{"$f":"+データ一覧!G387","v":239},null,null,null,null,null,null,{"$f":"データ一覧!G412","v":635498},null,null,null,null,null,null,"障害福祉サービス事業所",null,null,null,null,null,null,null,{"$f":"データ一覧!G569","v":183},null,null,null,{"$f":"データ一覧!G582","v":2576}]
[null,null,null,null,null,null,null,null,null,null,null,null,null,null,null,null,null,null,null,null,null,null,null,null,null,"            林     産     物     生     産     量 ",null,null,null,null,null,null,null,null,null,{"$f":"データ一覧!$A$283","v":"元年中"},null,null,null,null,"     その他","その他",null,null,null,null,null,null,null,null,{"$f":"データ一覧!G363","v":38},null,null,null,{"$f":"+データ一覧!G388","v":830},null,null,null,null,null,null,{"$f":"データ一覧!G413","v":936340},null,null,null,null,null,null," １７  教　　　　　　　育",null,null,null,null,null,null,null,null,null,null,null,null,null,null,null,{"$f":"データ一覧!$A$590","v":"2.5.1"}]
["人口動態",null,null,null,null,null,null,"   自　然　動　態",null,null,null,null,null,"   社  会  動  態",null,null,null,null,null,{"$f":"データ一覧!$A74","v":"31.1.1～元.12.31"},null,null,null,null,null,"生椎茸",null,null,null,{"$f":"データ一覧!G283","v":7796},null,"㎏","乾椎茸",null,null,null,{"$f":"データ一覧!G284","v":138},null,"㎏"]
[null,null,"   区       分",null,null,null,null," 出   生",null,null," 死   亡",null,null," 転   入",null,null," 転   出",null,null," 婚   姻",null,null," 離   婚",null,null,"えのきだけ",null,null,null,{"$f":"データ一覧!G286","v":150063},null,"㎏","なめこ",null,null,null,{"$f":"データ一覧!G285","v":"-"},null,"㎏",null,"    ","工　業　用　水　量",null,null,null,null,null,"（従業者30人以上の事業所）",null,null,null,null,null,null,null,null,null,null,{"$f":"データ一覧!G414","v":63172},null,null,null,null,"㎥／日",null,null,null,null,null,null,null,null,null,null,null,null,null,null,"学校数（校）",null,null,null,null,null,null,"教員数（人）",null,null,null,null,null,null,null,"学生・生徒・児童数（人）"]
[{"$f":"LEFT(データ一覧!$A70,7)","v":"元.10.1～"},null,null,null,null,null,null,"       人",null,null,"       人",null,null,"       人",null,null,"       人",null,null,null,"    件",null,null,"    件",null,"ひらたけ",null,null,null,{"$f":"+データ一覧!G287","v":9789},null,"㎏","まいたけ",null,null,null,{"$f":"+データ一覧!G288","v":250},null,"㎏",null,null,null,null,null,null,null,null,null,null,null,null,null,null,null,null,null,null,null,null,null,null,null,null,null,null,null,null,null,null,"　","区分",null,null,null,null,null,null,null," 本 校",null,null," 分 校",null,null," 本   務",null,null,null," 兼   務",null,null,null," 総   数",null,null,null,"男",null,null,null,"女"]
["～",null," 実          数",null,null,null,null,{"$f":"データ一覧!G70","v":1999},null,null,{"$f":"データ一覧!G71","v":2939},null,null,{"$f":"データ一覧!G72","v":7213},null,null,{"$f":"データ一覧!G73","v":7686},null,null,{"$f":"データ一覧!G74","v":1228},null,null,{"$f":"データ一覧!G75","v":426},null,null,null,null,null,null,null,null,null,null,null,null,null,null,null,null,null," １１ 　上　・　下　水　道",null,null,null,null,null,null,null,null,null,null,null,null,null,null,null,null,null,null,null,null,null,null,null,null,null,null,null,null,"小学校",null,null,null,null,null,null,null,null,{"$f":"データ一覧!G591","v":52},null,null,{"$f":"データ一覧!G592","v":0},null,null,{"$f":"データ一覧!G593","v":946},null,null,null,{"$f":"データ一覧!G594","v":124},null,null,null,{"$f":"データ一覧!G595","v":13484},null,null,null,{"$f":"データ一覧!G596","v":6992},null,null,null,{"$f":"データ一覧!G597","v":6492}]
[{"$f":"RIGHT(データ一覧!$A72,7)","v":"～2.9.30"},null,"比率(対1,000人)",null,null,null,null,{"$f":"+H48/I35*1000","v":7.5177507671941752},null,null,{"$f":"+K48/I35*1000","v":11.052861182983332},null,null,"- ",null,null,"- ",null,null,{"$f":"+T48/I35*1000","v":4.6182080750947714},null,null,{"$f":"+W48/I35*1000","v":1.6020819543895541},null,null,"  ６  漁               業",null,null,null,null,null,null,null,null,null,null,null,null,null,null,null,null,null,null,null,null,null,null,null,null,null,null,null,null,null,null,null,null,null,null,null,null,null,null,null,null,null,null,"  ","中学校",null,null,null,null,null,null,null,null,{"$f":"データ一覧!G599","v":27},null,null,{"$f":"データ一覧!G600","v":1},null,null,{"$f":"データ一覧!G601","v":603},null,null,null,{"$f":"データ一覧!G602","v":169},null,null,null,{"$f":"データ一覧!G603","v":7180},null,null,null,{"$f":"データ一覧!G604","v":3662},null,null,null,{"$f":"データ一覧!G605","v":3518}]
[null,null,null,null,null,null,null,null,null,null,null,null,null,null,null,null,null,null,null,null,null,null,null,null,null,null,null,null,null,null,null,null,null,null,null,null,null,null,null,null,"水 道 供 給 人 口",null,null,null,null,null,null,"上 水 道",null,null,null,"簡易水道",null,null,null,"専用水道",null,null,null,"飲料水供給施設",null,null,null,"下水道処理人口",null,null,null,null,"  ","高等学校",null,null,null,null,null,null,null,null,{"$f":"データ一覧!G607","v":13},null,null,{"$f":"データ一覧!G608","v":0},null,null,{"$f":"データ一覧!G609","v":716},null,null,null,{"$f":"データ一覧!G610","v":367},null,null,null,{"$f":"データ一覧!G611","v":10770},null,null,null,{"$f":"データ一覧!G612","v":5194},null,null,null,{"$f":"データ一覧!G613","v":5576}]
["  ３  事　　業　　所（民　　営）    （平 28.6.1）",null,null,null,null,null,null,null,null,null,null,null,null,null,null,null,null,null,null,null,null,null,null,null,null,"漁船隻数・トン数",null,null,null,{"$f":"データ一覧!$A$289","v":"元.12.31"},null,null,null,"動　力　船",null,null,null,null,null,null,{"$f":"データ一覧!$A$415","v":"2.3.31"},null,null,null,null,null,"人",null,{"$f":"データ一覧!G415","v":256024},null,null,{"$f":"データ一覧!G416","v":4752},null,null,null,null,{"$f":"データ一覧!G417","v":252},null,null,null,{"$f":"データ一覧!G418","v":495},null,null,null,{"$f":"データ一覧!G419","v":229797},null,null,null,"  ","大学・短期大学",null,null,null,null,null,null,null,null,{"$f":"データ一覧!G614","v":4},null,null,{"$f":"データ一覧!G615","v":0},null,null,{"$f":"データ一覧!G616","v":489},null,null,null,{"$f":"データ一覧!G617","v":382},null,null,null,{"$f":"データ一覧!G618","v":7152},null,null,null,{"$f":"データ一覧!G619","v":5068},null,null,null,{"$f":"データ一覧!G620","v":2084}]
[null,null,null,null,null,null,null,null,null,null,null,null,null,null,null,null,null,null,null,null,null,null,null,null,null,"無動力船隻数",null,null,null,"船外機付漁船隻数",null,null,null,"隻　数",null,null,"総 ト ン 数",null,null,null,null,null,null,null,null,null,null,null,null,null,null,null,null,null,null,null,null,null,null,null,null,null,null,null,null,null,null,null,"  ","高等専門学校",null,null,null,null,null,null,null,null,{"$f":"データ一覧!G621","v":0},null,null,{"$f":"データ一覧!G622","v":0},null,null,{"$f":"データ一覧!G623","v":0},null,null,null,{"$f":"データ一覧!G624","v":0},null,null,null,{"$f":"データ一覧!G625","v":0},null,null,null,{"$f":"データ一覧!G626","v":0},null,null,null,{"$f":"データ一覧!G627","v":0}]
[null,null,null,null,null,null,null,"    総　　　　　数",null,null,null,null,null,"    民　　　　　営",null,null,null,null,null,"  国 ･ 地方公共団体",null,null,null,null,null,null,null,null,"隻",null,null,null,"隻",null,null,"隻",null,null,"t",null," １２  交   通　・　通   信",null,null,null,null,null,null,null,null,null,null,null,null,null,null,null,null,null,null,null,null,null,null,null,null,null,null,null,"  ","特別支援学校",null,null,null,null,null,null,null,null,{"$f":"+データ一覧!G629","v":7},null,null,{"$f":"+データ一覧!G630","v":0},null,null,{"$f":"+データ一覧!G631","v":372},null,null,null,{"$f":"+データ一覧!G632","v":58},null,null,null,{"$f":"+データ一覧!G633","v":411},null,null,null,{"$f":"+データ一覧!G634","v":246},null,null,null,{"$f":"+データ一覧!G635","v":165}]
["  　区　　　　　　分",null,null,null,null,null,null," 事業所数",null,null," 従業者数",null,null," 事業所数",null,null," 従業者数",null,null," 事業所数",null,null," 従業者数",null,null,{"$f":"データ一覧!$G$289","v":0},null,null,null,{"$f":"データ一覧!$G$290","v":140},null,null,null,{"$f":"データ一覧!G291","v":75},null,null,{"$f":"データ一覧!G292","v":511.17},null,null,null,null,null,null,null,null,null,null,null,null,null,null,null,null,null,null,null,null,null,null,null,null,null,null,null,null,null,null,null,"  ","幼稚園",null,null,null,null,null,null,null,null,{"$f":"データ一覧!G637","v":23},null,null,{"$f":"データ一覧!G638","v":0},null,null,{"$f":"データ一覧!G639","v":69},null,null,null,{"$f":"データ一覧!G640","v":42},null,null,null,{"$f":"データ一覧!G641","v":483},null,null,null,{"$f":"データ一覧!G642","v":219},null,null,null,{"$f":"データ一覧!G643","v":264}]
[null,null,null,null,null,null,null,null,null,null,"       人",null,null,null,null,null,"       人",null,null,null,null,null,"       人",null,null,"  男女別就業者数",null,null,null,null,null,null,null,{"$f":"データ一覧!$A$293","v":"30.11.1"},null,null,null,null,null,null,"道     路",null,null,null,"実 延 長",null,null,null,"国     道",null,null,null,"県     道",null,null,null,"市町道",null,null,null," 鉄 道 営 業 キ ロ 数",null,null,null,null,null,null,null,"  ","幼保連携認定こども園",null,null,null,null,null,null,null,null,{"$f":"データ一覧!G645","v":62},null,null,{"$f":"データ一覧!G646","v":1},null,null,{"$f":"データ一覧!G647","v":1294},null,null,null,{"$f":"データ一覧!G648","v":228},null,null,null,{"$f":"データ一覧!G649","v":7515},null,null,null,{"$f":"データ一覧!G650","v":3912},null,null,null,{"$f":"データ一覧!G651","v":3603}]
["総数",null,null,null,null,null,null,{"$f":"データ一覧!G95","v":"…"},null,null,{"$f":"データ一覧!G152","v":"…"},null,null,{"$f":"データ一覧!G96","v":15789},null,null,{"$f":"データ一覧!G153","v":149061},null,null,{"$f":"データ一覧!G97","v":"…"},null,null,{"$f":"データ一覧!G154","v":"…"},null,null,"総　　数",null,null,null,null,null,"男",null,null,null,"女",null,null,null,null,{"$f":"データ一覧!$A$420","v":"31.4.1"},null,null,null,{"$f":"データ一覧!G420","v":2483.91},null,null,"㎞",{"$f":"データ一覧!G421","v":108.8},null,null,"㎞",{"$f":"データ一覧!G422","v":300.7},null,null,"㎞",{"$f":"データ一覧!G423","v":2074.41},null,null,"km",{"$f":"データ一覧!$A$424","v":"2.4.1"},null,null,null,{"$f":"データ一覧!G424","v":69.91},null,null,"㎞","  ","各種学校",null,null,null,null,null,null,null,null,{"$f":"データ一覧!G653","v":4},null,null,{"$f":"データ一覧!G654","v":0},null,null,{"$f":"データ一覧!G655","v":108},null,null,null,{"$f":"データ一覧!G656","v":8},null,null,null,{"$f":"データ一覧!G657","v":1171},null,null,null,{"$f":"データ一覧!G658","v":733},null,null,null,{"$f":"データ一覧!G659","v":438}]
["農林漁業",null,null,null,null,null,null,{"$f":"データ一覧!G98","v":"…"},null,null,{"$f":"データ一覧!G155","v":"…"},null,null,{"$f":"データ一覧!G99","v":56},null,null,{"$f":"データ一覧!G156","v":743},null,null,{"$f":"データ一覧!G100","v":"…"},null,null,{"$f":"データ一覧!G157","v":"…"},null,null,null,null,null,null,null,"人",null,null,"　　　　人",null,null,null,null,"  人",null,"自動車",null,null,null,null,null,null,null,null,"乗用車",null,null,null,null,null,null,null,null,null,null,null,null,null,null,null,null,null,null,"  ","専修学校",null,null,null,null,null,null,null,null,{"$f":"データ一覧!G661","v":13},null,null,{"$f":"データ一覧!G662","v":0},null,null,{"$f":"データ一覧!G663","v":93},null,null,null,{"$f":"データ一覧!G664","v":208},null,null,null,{"$f":"データ一覧!G665","v":931},null,null,null,{"$f":"データ一覧!G666","v":346},null,null,null,{"$f":"データ一覧!G667","v":585}]
["鉱業",null,null,null,null,null,null,{"$f":"データ一覧!G101","v":"…"},null,null,{"$f":"データ一覧!G158","v":"…"},null,null,{"$f":"データ一覧!G102","v":7},null,null,{"$f":"データ一覧!G159","v":32},null,null,{"$f":"データ一覧!G103","v":"…"},null,null,{"$f":"データ一覧!G160","v":"…"},null,null,{"$f":"AF58+AJ58","v":114},null,null,null,null,null,{"$f":"データ一覧!$G$294","v":109},null,null,null,{"$f":"データ一覧!G295","v":5},null,null,null,null,"台  数",null,null,null,"貨    物",null,null,null,"普     通",null,null,null,"小     型",null,null,null,"乗  合",null,null,"特  種",null,null,"小型二輪",null,null,"軽自動車",null,null," １８  衛　　　　　　　生"]
["建設業",null,null,null,null,null,null,{"$f":"データ一覧!G104","v":"…"},null,null,{"$f":"データ一覧!G161","v":"…"},null,null,{"$f":"データ一覧!G105","v":1525},null,null,{"$f":"データ一覧!G162","v":11445},null,null,{"$f":"データ一覧!G106","v":"…"},null,null,{"$f":"データ一覧!G163","v":"…"},null,null,"　　　　海 面 漁 業 漁 獲 量 （属人）",null,null,null,null,null,null,null,{"$f":"データ一覧!$A$296","v":"30年中"},null,null,null,null,null,null,{"$f":"データ一覧!$A$425","v":"2.3.31"},null,null,null,null,{"$f":"データ一覧!G425","v":18151},null,null,null,{"$f":"データ一覧!G427","v":53010},null,null,null,{"$f":"データ一覧!G428","v":57840},null,null,{"$f":"データ一覧!G426","v":546},null,null,{"$f":"データ一覧!G429","v":5229},null,null,{"$f":"データ一覧!G430","v":2469},null,null,{"$f":"データ一覧!G431","v":86841}]
["製造業",null,null,null,null,null,null,{"$f":"データ一覧!G107","v":"…"},null,null,{"$f":"データ一覧!G164","v":"…"},null,null,{"$f":"データ一覧!G108","v":1441},null,null,{"$f":"データ一覧!G165","v":20796},null,null,{"$f":"データ一覧!G109","v":"…"},null,null,{"$f":"データ一覧!G166","v":"…"},null,null,null,null,null,null,null,"       ","ｔ",null,null,null,null,null,null,"t",null,null,null,"     ",null,"郵　便　局　数",null,null,null,null,null,null,null,null,null,null,null,null,null,null,null,"一般加入",null,null,null,"ＩＮＳネット",null,null,null,null,null,null,null,"医療関係施設",null,null,null,null,null,{"$f":"データ一覧!$A$668","v":"元.10.1"},null,null,null,null,null,null,"および医療関係者数",null,null,null,null,null,null,null,{"$f":"データ一覧!$A$673","v":"30.12.31"}]
["電気・ｶﾞ ｽ・熱供給・水道業",null,null,null,null,null,null,{"$f":"データ一覧!G110","v":"…"},null,null,{"$f":"データ一覧!G167","v":"…"},null,null,{"$f":"データ一覧!G111","v":5},null,null,{"$f":"データ一覧!G168","v":396},null,null,{"$f":"データ一覧!G112","v":"…"},null,null,{"$f":"データ一覧!G169","v":"…"},null,null,"   総　　　　　　数",null,null,null,{"$f":"データ一覧!G296","v":1038},null,null,"   藻　　　　　　類",null,null,null,{"$f":"データ一覧!G299","v":4},null,null,null,"通  信",null,null,null," 総     数",null,null,null,null,null," 郵 便 局",null,null,null,null," 簡 易 局",null,null,null,null,"電話数",null,null,null,"加入数",null,null,null,null,null,null,null,null,null,"　","病",null,null,"院",null,"　",null,null,null,null," ","一般診療所",null,null,null,null,null,null,null,null,null,null,null,"歯科診療所"]
["情報通信業",null,null,null,null,null,null,{"$f":"データ一覧!G113","v":"…"},null,null,{"$f":"データ一覧!G170","v":"…"},null,null,{"$f":"データ一覧!G114","v":195},null,null,{"$f":"データ一覧!G171","v":3411},null,null,{"$f":"データ一覧!G115","v":"…"},null,null,{"$f":"データ一覧!G172","v":"…"},null,null,"   魚　　　　　　類",null,null,null,{"$f":"データ一覧!G297","v":583},null,null,"   そ　   の　　 他",null,null,null,{"$f":"データ一覧!G300","v":445},null,null,null,{"$f":"データ一覧!$A$435","v":"2.3.31"},null,null,null,{"$f":"データ一覧!G432","v":71},null,null,null,null,null,{"$f":"データ一覧!G433","v":65},null,null,null,null,{"$f":"データ一覧!G434","v":6},null,null,null,null,{"$f":"データ一覧!G435","v":24045},null,null,null,{"$f":"データ一覧!G436","v":4747},null,null,null," ","医療関係",null,null,null,null,null,null,null,null,null,null,null,"一般病院",null,null,null,null,null,null,null,null,null,null,null,"有",null,null,"床"]
["運輸業、郵便業",null,null,null,null,null,null,{"$f":"データ一覧!G116","v":"…"},null,null,{"$f":"データ一覧!G173","v":"…"},null,null,{"$f":"データ一覧!G117","v":310},null,null,{"$f":"データ一覧!G174","v":7119},null,null,{"$f":"データ一覧!G118","v":"…"},null,null,{"$f":"データ一覧!G175","v":"…"},null,null,"   貝　　　　　　類",null,null,null,{"$f":"データ一覧!G298","v":6},null,null,null,null,null,null,null,null,null,null,null,null,null,null,null,null,null,null,null,null,null,null,null,null,null,null,null,null,null,null,null,null,null,null,null,null,null,null,null,"施設数",null,null,null,null,null,null,{"$f":"データ一覧!G668","v":27},null,null,null,null,null,{"$f":"データ一覧!G669","v":23},null,null,null,null,null,{"$f":"データ一覧!G670","v":257},null,null,null,null,null,{"$f":"データ一覧!G671","v":34},null,null,null,null,null,{"$f":"データ一覧!G672","v":136}]
["卸売業、小売業",null,null,null,null,null,null,{"$f":"データ一覧!G119","v":"…"},null,null,{"$f":"データ一覧!G176","v":"…"},null,null,{"$f":"データ一覧!G120","v":4305},null,null,{"$f":"データ一覧!G177","v":34043},null,null,{"$f":"データ一覧!G121","v":"…"},null,null,{"$f":"データ一覧!G178","v":"…"},null,null,null,null,null,null,null,null,null,null,null,null,null,null,null,null,null," １３  税　　・　　財　　政",null,null,null,null,null,null,null,null,null,null,null,null,null,null,null,null,null,null,null,null,null,null,null,null,null,null,null,null,null,null,null,null,null,null,"医師",null,null,null,null,"歯科医師",null,null,null,null,"薬剤師",null,null,null,null,"保健師",null,null,null,null,"助産師",null,null," ",null,"看護師",null,null," "]
["金融業、保険業",null,null,null,null,null,null,{"$f":"データ一覧!G122","v":"…"},null,null,{"$f":"データ一覧!G179","v":"…"},null,null,{"$f":"データ一覧!G123","v":394},null,null,{"$f":"データ一覧!G180","v":5552},null,null,{"$f":"データ一覧!G124","v":"…"},null,null,{"$f":"データ一覧!G181","v":"…"},null,null,"  ７  商        　　　業 ",null,null,null,null,null,null,{"$f":"データ一覧!$A$301","v":"28.6.1(平成27年実績）"},null,null,null,null,null,null,null,null,null,null,null,null,null,null,null,null,null,null,null,null,null,null,null,null,null,null,null,null,null,null,null,null,null,null,null," ","医療",null,null,null,null,null,null,null,null,"人",null,null,null,null,"人",null,null,null,null,"人",null,null,null,null,"人",null,null,null,null,"人",null,null,null,null,"人"]
["不動産業、物品賃貸業",null,null,null,null,null,null,{"$f":"データ一覧!G125","v":"…"},null,null,{"$f":"データ一覧!G182","v":"…"},null,null,{"$f":"データ一覧!G126","v":697},null,null,{"$f":"データ一覧!G183","v":2900},null,null,{"$f":"データ一覧!G127","v":"…"},null,null,{"$f":"データ一覧!G184","v":"…"},null,null,null,null,null,null,null,null,null,null,null,null,null,null,null,null,null,"           ",null,null,null,"歳入",null,null,null,null,null,null,null,null,"(千円）"," ",null,null,null,"歳出",null,null,null,null,null,null,null,null,"(千円）",null,"関係者",null,null,null,null,{"$f":"データ一覧!G673","v":979},null,null,null,null,{"$f":"データ一覧!G674","v":201},null,null,null,null,{"$f":"データ一覧!G675","v":677},null,null,null,null,{"$f":"データ一覧!G676","v":155},null,null,null,null,{"$f":"データ一覧!G677","v":137},null,null,null,null,{"$f":"データ一覧!G678","v":5490}]
["学術研究、専門・技術ｻｰﾋﾞｽ業",null,null,null,null,null,null,{"$f":"データ一覧!G128","v":"…"},null,null,{"$f":"データ一覧!G185","v":"…"},null,null,{"$f":"データ一覧!G129","v":757},null,null,{"$f":"データ一覧!G186","v":4136},null,null,{"$f":"データ一覧!G130","v":"…"},null,null,{"$f":"データ一覧!G187","v":"…"},null,null,"  産   業　 分　 類",null,null,null,"  商　 店 　数",null,null," 従　業　者　数",null,null,"年　間　販　売　額",null,null,null,null,"一人当たり歳入歳出予算決算額",null,null,null,null,null,null,null,null,null,null,null,null,null,null,null,null,null,null,null,null,null,null,null,null,null,null,null,"                   ",null,null,null,null,null,null,null,null,"死因別死亡数　　　　　　    ",null,null,null,null,null,null,null,null,null,null,null,null,null,null,null,{"$f":"データ一覧!$A$679","v":"元年中"},null,null,null,null,null,null,null,null,"      単 位：人"]
["宿泊業、飲食サービス業",null,null,null,null,null,null,{"$f":"データ一覧!G131","v":"…"},null,null,{"$f":"データ一覧!G188","v":"…"},null,null,{"$f":"データ一覧!G132","v":1977},null,null,{"$f":"データ一覧!G189","v":13787},null,null,{"$f":"データ一覧!G133","v":"…"},null,null,{"$f":"データ一覧!G190","v":"…"},null,null,null,null,null,null,null,"        店",null,null,null,"　人",null,"         百万円",null,null,null,"区分",null,null,null,{"$f":"データ一覧!$A$445","v":"2年度"},null,null,null,null,{"$f":"データ一覧!$A$459","v":"元年度"},null,null,null,null,"区分",null,null,null,{"$f":"+AS68","v":"2年度"},null,null,null,null,{"$f":"データ一覧!$A$459","v":"元年度"},null,null,null,null," 死     因",null,null,null,null,null,null,null,null,null,null,null,"悪  性",null,null,"高血圧",null,null,null,null,null,"脳血管",null,null,null,null,null," ",null,null,"不慮の事故"]
["生活関連サービス業、娯楽業",null,null,null,null,null,null,{"$f":"データ一覧!G134","v":"…"},null,null,{"$f":"データ一覧!G191","v":"…"},null,null,{"$f":"データ一覧!G135","v":1333},null,null,{"$f":"データ一覧!G192","v":6418},null,null,{"$f":"データ一覧!G136","v":"…"},null,null,{"$f":"データ一覧!G193","v":"…"},null,null,"総　　　　　　計",null,null,null,{"$f":"データ一覧!$G$301","v":3539},null,null,{"$f":"データ一覧!G310","v":27824},null,null,{"$f":"データ一覧!G319","v":1186220},null,null,null,null,null,null,null,null,{"$f":"データ一覧!G441","v":428348.07768165227},null,null,null,null,{"$f":"データ一覧!G442","v":392646},null,null,null,null,null,null,null,null,{"$f":"データ一覧!G443","v":428348.07768165227},null,null,null,null,{"$f":"データ一覧!G444","v":383243.11126347462},null,null,null,null,null,null,null,null,null,"全 死 因",null,null,null,"結 核",null,null,"新生物",null,null,"性疾患",null,null,"心疾患",null,null,"疾  患",null,null,"肺  炎",null,null,"老  衰",null,null,null,null," ","交通事故"]
["教育、学習支援業",null,null,null,null,null,null,{"$f":"データ一覧!G137","v":"…"},null,null,{"$f":"データ一覧!G194","v":"…"},null,null,{"$f":"データ一覧!G138","v":413},null,null,{"$f":"データ一覧!G195","v":4626},null,null,{"$f":"データ一覧!G139","v":"…"},null,null,{"$f":"データ一覧!G196","v":"…"},null,null,"卸売業",null,null,null,{"$f":"データ一覧!G302","v":1051},null,null,{"$f":"データ一覧!G311","v":10424},null,null,{"$f":"データ一覧!G320","v":814926},null,null,null,null,"項目別歳入歳出予算決算額"]
["医療、福祉",null,null,null,null,null,null,{"$f":"データ一覧!G140","v":"…"},null,null,{"$f":"データ一覧!G197","v":"…"},null,null,{"$f":"データ一覧!G141","v":1024},null,null,{"$f":"データ一覧!G198","v":20340},null,null,{"$f":"データ一覧!G142","v":"…"},null,null,{"$f":"データ一覧!G199","v":"…"},null,null,"小売業",null,null,null,{"$f":"データ一覧!G303","v":2488},null,null,{"$f":"データ一覧!G312","v":17400},null,null,{"$f":"データ一覧!G321","v":371293},null,null,null,null,"区分",null,null,null,{"$f":"データ一覧!$A$445","v":"2年度"},null,null,null,null,{"$f":"データ一覧!$A$459","v":"元年度"},null,null,null,null,"区分",null,null,null,{"$f":"+AS71","v":"2年度"},null,null,null,null,{"$f":"データ一覧!$A$459","v":"元年度"},null,null,null,null,null,null,null,null,null,{"$f":"データ一覧!G679","v":2995},null,null,null,"   －",{"$f":"データ一覧!G680","v":5},null,{"$f":"データ一覧!G681","v":777},null,null,null,{"$f":"データ一覧!G682","v":13},null,{"$f":"データ一覧!G683","v":495},null,null,{"$f":"データ一覧!G684","v":261},null,null,{"$f":"データ一覧!G685","v":219},null,null,{"$f":"データ一覧!G686","v":197},null,null,{"$f":"データ一覧!G687","v":110},null,null,{"$f":"データ一覧!G688","v":9}]
["複合サービス事業",null,null,null,null,null,null,{"$f":"データ一覧!G143","v":"…"},null,null,{"$f":"データ一覧!G200","v":"…"},null,null,{"$f":"データ一覧!G144","v":116},null,null,{"$f":"データ一覧!G201","v":1431},null,null,{"$f":"データ一覧!G145","v":"…"},null,null,{"$f":"データ一覧!G202","v":"…"},null,null,"各種商品",null,null,null,{"$f":"データ一覧!G304","v":12},null,null,{"$f":"データ一覧!G313","v":1046},null,null,{"$f":"データ一覧!G322","v":35475},null,null,null,null,"総額",null,null,null,{"$f":"SUM(AS73:AW85)","v":111848965},null,null,null,null,{"$f":"SUM(AX73:BB85)","v":103081314},null,null,null,null,"総額",null,null,null,{"$f":"SUM(BG73:BK85)","v":111848965},null,null,null,null,{"$f":"SUM(BL73:BP85)","v":100612814},null,null,null,null," １９  警　察　・　消　防  ",null,null,null,null,null,null,null,null,null,null,null,null,null,null,null,{"$f":"+データ一覧!$A689","v":"2.4.1"}]
["サービス業",null,null,null,null,null,null,{"$f":"データ一覧!G146","v":"…"},null,null,{"$f":"データ一覧!G203","v":"…"},null,null,{"$f":"データ一覧!G147","v":1234},null,null,{"$f":"データ一覧!G204","v":11886},null,null,{"$f":"データ一覧!G148","v":"…"},null,null,{"$f":"データ一覧!G205","v":"…"},null,null,"織物・衣服・身の回り品",null,null,null,{"$f":"データ一覧!G305","v":455},null,null,{"$f":"データ一覧!G314","v":1990},null,null,{"$f":"データ一覧!G323","v":29283},null,null,null,null,"地方税",null,null,null,{"$f":"データ一覧!G446","v":44528000},null,null,null,null,{"$f":"データ一覧!G460","v":45284461},null,null,null,null,"議会費",null,null,null,{"$f":"データ一覧!G474","v":691972},null,null,null,null,{"$f":"データ一覧!G488","v":665632}]
["公務",null,null,null,null,null,null,{"$f":"データ一覧!G149","v":"…"},null,null,{"$f":"データ一覧!G206","v":"…"},null,null,{"$f":"データ一覧!G150","v":"…"},null,null,{"$f":"データ一覧!G207","v":"…"},null,null,{"$f":"データ一覧!G151","v":"…"},null,null,{"$f":"データ一覧!G208","v":"…"},null,null,"飲食料品",null,null,null,{"$f":"データ一覧!G306","v":665},null,null,{"$f":"データ一覧!G315","v":5305},null,null,{"$f":"データ一覧!G324","v":83516},null,null,null,null,"地方譲与税",null,null,null,{"$f":"データ一覧!G447","v":1016000},null,null,null,null,{"$f":"データ一覧!G461","v":930261},null,null,null,null,"総務費",null,null,null,{"$f":"データ一覧!G475","v":12646939},null,null,null,null,{"$f":"データ一覧!G489","v":8913301},null,null,null,null,null,null,null,null,null,null,null,null,null,null,"交番・駐在所",null,null,null,null,null,null,null,null,"刑法犯認知件数",null,null,null,null,null,null,null,null,"交通人身事故発生件数"]
["  ４  農        　　　業 ",null,null,null,null,null,null,null,null,null,null,null,null,null,null,null,null,null,null,null,null,null,null,null,null,"機械器具",null,null,null,{"$f":"データ一覧!G307","v":388},null,null,{"$f":"データ一覧!G316","v":2815},null,null,{"$f":"データ一覧!G325","v":93970},null,null,null,null,"各種交付金",null,null,null,{"$f":"データ一覧!G448","v":6518000},null,null,null,null,{"$f":"データ一覧!G462","v":5618086},null,null,null,null,"民生費",null,null,null,{"$f":"データ一覧!G476","v":43372132},null,null,null,null,{"$f":"データ一覧!G490","v":42679850},null,null,null,null,null,"警察署数",null,null,null,null,null,null,null,null,"検問所数",null,null,null,null,null,null,null,null,null,{"$f":"データ一覧!$A$691","v":"元年中"},null,null,null,null,null,null,null,null,{"$f":"データ一覧!$A$691","v":"元年中"}]
[null,null,null,null,null,null,null,null,null,null,null,null,null,null,null,null,null,null,null,null,null,null,null,null,null,"その他",null,null,null,{"$f":"データ一覧!G308","v":879},null,null,{"$f":"データ一覧!G317","v":5444},null,null,{"$f":"データ一覧!G326","v":105519},null,null,null,null,"地方特例交付金",null,null,null,{"$f":"データ一覧!G449","v":230000},null,null,null,null,{"$f":"データ一覧!G463","v":664374},null,null,null,null,"衛生費",null,null,null,{"$f":"データ一覧!G477","v":6283130},null,null,null,null,{"$f":"データ一覧!G491","v":5974214},null,null,null,null,null,null,null,null,null,null,null,null,null,null,null,null,null,null,null,null,null,null,null,null,null,null,null,null," 件",null,null,null,null,null,null,null,null,"　件"]
[null,null,"農家人口と世帯員数(販売農家)",null,null,null,null,null,null,null,"農家世帯の就業状態（販売農家）",null,null,null,null,null,null,null,null,null,null,null,null,null,null,"無店舗",null,null,null,{"$f":"データ一覧!G309","v":89},null,null,{"$f":"データ一覧!G318","v":800},null,null,{"$f":"データ一覧!G327","v":23530},null,null,null,null,"地方交付税",null,null,null,{"$f":"データ一覧!G450","v":10356000},null,null,null,null,{"$f":"データ一覧!G464","v":10429753},null,null,null,null,"労働費",null,null,null,{"$f":"データ一覧!G478","v":445934},null,null,null,null,{"$f":"データ一覧!G492","v":416499},null,null,null,null,null,null,{"$f":"データ一覧!G689","v":2},null,null,null,null,null,null,null,null,{"$f":"データ一覧!G690","v":36},null,null,null,null,null,null,null,null,{"$f":"データ一覧!G691","v":1395},null,null,null,null,null,null,null,null,{"$f":"データ一覧!G692","v":526}]
["農","平",null,null,null,null,null,null,null,null,"農業従事者",null,null,null,null,null,null,null,null,"非農業従事",null,null,"農業従事者",null,null,null,null,null,null,null,null,null,null,null,null,null,null,null,null,null,"分担金および負担金",null,null,null,{"$f":"データ一覧!G451","v":291463},null,null,null,null,{"$f":"データ一覧!G465","v":196404},null,null,null,null,"農林水産業費",null,null,null,{"$f":"データ一覧!G479","v":3357312},null,null,null,null,{"$f":"データ一覧!G493","v":3154329},null,null,null,null,"火災発生件数",null,null,null,null,null,null,null,null,null,"林野焼損",null,null,null,null,"損      害",null,null,null,null,"消 防 自",null,null,null,"その他の",null,null,null," ",null,null,null,null," "]
["家",{"$f":"+LEFT(データ一覧!$A$209,2)","v":"27"},"区分",null,"農家人口",null,null,"15歳以上の",null,null,null,null,null,"農業就業人口",null,null,null,null,null,"者",null,null,"の平均年齢",null,null,"  ８  住　　　　　　 　宅",null,null,null,null,null,null,null,null,null,null,null,null,null,null,"使用料および手数料",null,null,null,{"$f":"データ一覧!G452","v":1293912},null,null,null,null,{"$f":"データ一覧!G466","v":1471640},null,null,null,null,"商工費",null,null,null,{"$f":"データ一覧!G480","v":2762028},null,null,null,null,{"$f":"データ一覧!G494","v":2371275},null,null,null,null,{"$f":"+データ一覧!$A$693","v":"元年中"},null,null,null,null,"焼損棟数",null,null,null,null,"面    積",null,null,null,null,"見  積  額",null,null,null,null,"動 車 数",null,null,null,"ﾎﾟﾝﾌﾟ数",null,null,null," 消防吏員",null,null,null," 消防団員"]
["人就 ","・",null,null,null,null,null,"世帯員数",null,null,null,null,null,null,null,null,"基幹的農業",null,null,null,null,null,null,null,null,null,null,null,null,null,null,null,null,null,null,null,null,null,null,null,"国庫支出金",null,null,null,{"$f":"データ一覧!G453","v":18179883},null,null,null,null,{"$f":"データ一覧!G467","v":15417206},null,null,null,null,"土木費",null,null,null,{"$f":"データ一覧!G481","v":15655784},null,null,null,null,{"$f":"データ一覧!G495","v":10795876},null,null,null,null,"         件",null,null,null,null,null,"      棟",null,null,null,null,null,null,"  ａ",null,null,null,"  千円",null,null,"        ",null,null,null,null,null,null,null,null,null,"  人",null,null,null,"  人"]
["口業 ",{"$f":"+MID(データ一覧!$A$209,4,1)","v":"2"},null,null,null,null,"人",null,null,"人",null,null,"人",null,null,"人","従事者",null,"人",null,null,"人",null,null,"歳",{"$f":"+データ一覧!$A$328","v":"30年"},null,null,null,null,{"$f":"データ一覧!$A$331","v":"元年"},"中の増減",null,null,null,{"$f":"+データ一覧!$A$331","v":"元年"},null,null,null,null,"県支出金",null,null,null,{"$f":"データ一覧!G454","v":9790116},null,null,null,null,{"$f":"データ一覧!G468","v":8913506},null,null,null,null,"消防費",null,null,null,{"$f":"データ一覧!G482","v":3687758},null,null,null,null,{"$f":"データ一覧!G496","v":3238286},null,null,null,null,null,{"$f":"データ一覧!G693","v":51},null,null,null,null,{"$f":"データ一覧!G694","v":52},null,null,null,null,{"$f":"データ一覧!G695","v":0},null,null,null,{"$f":"データ一覧!G696","v":155456},null,null,null,null,null,{"$f":"データ一覧!G697","v":39},null,null,null,{"$f":"データ一覧!G698","v":107},null,null,null,{"$f":"データ一覧!G699","v":372},null,null,null,{"$f":"データ一覧!G700","v":1010}]
["と状 ","・"," 総数",null,{"$f":"データ一覧!G209","v":14257},null,null,{"$f":"データ一覧!G212","v":12764},null,null,{"$f":"データ一覧!G215","v":8785},null,null,{"$f":"データ一覧!G218","v":3991},null,null,{"$f":"データ一覧!G221","v":2845},null,null,{"$f":"データ一覧!G224","v":3979},null,null,{"$f":"データ一覧!G227","v":59.4},null,null,null,null,null,null,"建設した住宅",null,null,"消失した住宅",null,null,null,null,null,null,null,"財産収入",null,null,null,{"$f":"データ一覧!G455","v":1238146},null,null,null,null,{"$f":"データ一覧!G469","v":119833},null,null,null,null,"教育費",null,null,null,{"$f":"データ一覧!G483","v":9481097},null,null,null,null,{"$f":"データ一覧!G497","v":8980722},null,null,null,null," ２０  そ　　　の　　　他　"]
["  況 ",{"$f":"+RIGHT(データ一覧!$A$209,1)","v":"1"},"　男",null,{"$f":"データ一覧!G210","v":7080},null,null,{"$f":"データ一覧!G213","v":6293},null,null,{"$f":"データ一覧!G216","v":5036},null,null,{"$f":"データ一覧!G219","v":2062},null,null,{"$f":"データ一覧!G222","v":1727},null,null,{"$f":"データ一覧!G225","v":1257},null,null,{"$f":"データ一覧!G228","v":57.7},null,null,null,null,null,null,null,null,null,null,null,null,null,null,null,null,null,"繰入金",null,null,null,{"$f":"データ一覧!G456","v":4512033},null,null,null,null,{"$f":"データ一覧!G470","v":47274},null,null,null,null,"災害復旧費",null,null,null,{"$f":"データ一覧!G484","v":36950},null,null,null,null,{"$f":"データ一覧!G498","v":51619}]
[null,null,"　女",null,{"$f":"データ一覧!G211","v":7177},null,null,{"$f":"データ一覧!G214","v":6471},null,null,{"$f":"データ一覧!G217","v":3749},null,null,{"$f":"データ一覧!G220","v":1929},null,null,{"$f":"データ一覧!G223","v":1118},null,null,{"$f":"データ一覧!G226","v":2722},null,null,{"$f":"データ一覧!G229","v":61.6},null,null,null,{"$f":"データ一覧!G328","v":100671},null,"戸",{"$f":"データ一覧!G329","v":1631},null,"戸",{"$f":"データ一覧!G330","v":756},null,"戸",null,{"$f":"データ一覧!G331","v":101546},null,"戸",null,"地方債",null,null,null,{"$f":"データ一覧!G457","v":9768500},null,null,null,null,{"$f":"データ一覧!G471","v":8142853},null,null,null,null,"公債費",null,null,null,{"$f":"データ一覧!G485","v":13327929},null,null,null,null,{"$f":"データ一覧!G499","v":13370640},null,null,null,null,null,null,null,null,null,"一乗谷朝倉氏遺跡、一乗谷朝倉氏庭園、養浩館庭園、免鳥長山古墳、越前海岸、\n福井城址、北の庄城址・柴田公園､グリフィス記念館、足羽川の桜並木、愛宕坂、\n丹巌洞、大安禅寺、コスモス広苑、絹本著色　羅漢図、木造十一面観音菩薩立像、\n鉄製銀象嵌冑、糸崎の仏舞、睦月神事"]
[null,null,null,null,null,null,null,null,null,null,null,null,null,null,null,null,null,null,null,null,null,null,null,null,null,null,null,null,null,null,null,null,null,null,null,null,null,null,null,null,"その他",null,null,null,{"$f":"データ一覧!G458","v":4126912},null,null,null,null,{"$f":"データ一覧!G472","v":5845663},null,null,null,null,"その他",null,null,null,{"$f":"データ一覧!G486","v":100000},null,null,null,null,{"$f":"データ一覧!G500","v":571},null,null,null,null,"　名所・旧跡"]
[null,null,"総農家数等",null,null,null,null,null,null,"専兼業別（販売農家）",null,null,null,null,null,null,null,"経営面積規模別（販売農家）",null,null,null,null,null,null,null,null,null,null,null,null,null,null,null,null,null,null,null,null,null,null,null,null,null,null,null,null,null,null,null,null,null,null,null,null,null,null,null,null,null,null,null,null,null,null,null,null,null,null,"  文化財等"]
[null,"平","区　分",null,null,null,"戸数（戸）",null,null,"区　分",null,null,null,null,"戸数（戸）",null,null,"区　　分",null,null,null,null,"戸数（戸）",null,null,"  ９  議　 員　・　職 　員",null,null,null,null,null,null,null,null,null,null,null,null,null,null," １４  文　　　　　　化",null,null,null,null,null,null,null,null,null," ( ",{"$f":"データ一覧!$A$507","v":"2.3.31"},null,null,null,"ただし図書館・公民館・児童館",null,null,null,null,null,null,null,{"$f":"データ一覧!$A$501","v":"2.4.1"}]
["農",{"$f":"+LEFT(データ一覧!$A$230,2)","v":"27"},"総農家",null,null,null,{"$f":"データ一覧!G230","v":4859},null,null,"総数",null,null,null,null,{"$f":"データ一覧!G236","v":3405},null,null,"総数",null,null,null,null,{"$f":"データ一覧!G241","v":3405},null,null,null,null,null,null,null,null,null,null,null,null,null,null,null,null,null,null,null,null,null,null,null,null,null,null,null,null,null,null,null,null,null,"　宗教法人数 ",null,null,null,null,null,null,{"$f":"データ一覧!$A$509","v":"元.12.31"},null,null,null,"）"]
["家","・","販売農家",null,null,null,{"$f":"データ一覧!G231","v":3405},null,null,"専業農家",null,null,null,null,{"$f":"データ一覧!G237","v":555},null,null,"0.5 ha 未満",null,null,null,null,{"$f":"データ一覧!G242","v":679},null,null," 市 町 村 議 会",null,null,"有権者数",null,{"$f":"データ一覧!$A$335","v":"2.9.1"},null,"市 町 村 議 会",null,null,"  職      員      数",null,null,null,null,null,null,null,null,null,"図書館",null,null,null,null,null,"公　民　館",null,null,null,null,null,null,null,null,null,null," 社会教育学級講座",null,null,null,null,null,"　　特産物",null,null,null,null,"羽二重餅、水ようかん、越前がに、越前おろしそば、金福すいか、越のルビー、\n越前金時、水菜、坊ちゃんかぼちゃ、六条大麦、河内赤かぶら､木田ちそ、明里ネギ、\n新保ナス、越前水仙、ワカメ、ソースカツ丼、あべかわ餅"]
["数",{"$f":"+MID(データ一覧!$A$230,4,1)","v":"2"},null,"主業",null,null,{"$f":"データ一覧!G232","v":189},null,null,"兼業農家",null,null,null,null,{"$f":"データ一覧!G238","v":2850},null,null,"0.5 ha ～ 1.0 ha",null,null,null,null,{"$f":"データ一覧!G243","v":1253},null,null," 議  員  定  数",null,null,"    男",null,"    女",null,"選 挙 投 票 率",null,null," 総     数",null,"一般行政職",null,null,"公    共",null,null,null," 館  数",null,null," 図書数",null,null," 本  館",null,null," 分  館",null,null," 公  園",null,null," 児童館",null,null,"学級講座数",null,null,"受講者数"]
[null,"・",null,"準主業",null,null,{"$f":"データ一覧!G233","v":528},null,null,null,"第１種兼業",null,null,null,{"$f":"データ一覧!G239","v":236},null,null,"1.0 ha ～ 1.5 ha",null,null,null,null,{"$f":"データ一覧!G244","v":679},null,null,null,null,"人",null,"人",null,"人",null,null,"　％",null,"人",null,"人",null,"施 設 数",null,null,null,null,{"$f":"データ一覧!G501","v":5},null,{"$f":"データ一覧!G502","v":1252710},null,null,null,{"$f":"データ一覧!G503","v":50},null,{"$f":"データ一覧!G504","v":6},null,null,{"$f":"データ一覧!G505","v":398},null,null,{"$f":"データ一覧!G506","v":29},null,null,{"$f":"データ一覧!G507","v":2764},null,null,{"$f":"データ一覧!G508","v":66044}]
[null,{"$f":"+RIGHT(データ一覧!$A$230,1)","v":"1"},null,"副業的",null,null,{"$f":"データ一覧!G234","v":2688},null,null,null,"第２種兼業",null,null,null,{"$f":"データ一覧!G240","v":2614},null,null,"1.5 ha ～ 2.0 ha",null,null,null,null,{"$f":"データ一覧!G245","v":351},null,null,null,{"$f":"データ一覧!G332","v":32},null,{"$f":"データ一覧!G335","v":104067},null,{"$f":"データ一覧!G336","v":112920},null,{"$f":"データ一覧!G334","v":46.73},null,null,{"$f":"データ一覧!G337","v":2330},null,{"$f":"データ一覧!G338","v":1225},null,null,"宗    教",null,null,null," 仏教系",null,null,"ｷﾘｽﾄ教系",null,null,"神道諸派",null,null,"公会堂・市民会館",null,null,null,null,null," テレビ",null,null,"衛星放送契約数",null,null,null,null,null," 　年中行事",null,null,null,null,"オシッサマのお渡り、越前朝倉万灯夜(規模縮小して実施）"]
[null,null,"自給的農家",null,null,null,{"$f":"データ一覧!G235","v":1454},null,null,null,null,null,null,null,null,null,null,"2.0 ha 以上",null,null,null,null,{"$f":"データ一覧!G246","v":441},null,null,null,null,null,null,null,null,null,{"$f":"データ一覧!G333","v":"31.4.21"},null,null,null,null,null,null,null,"法 人 数",null,null,null,{"$f":"データ一覧!G509","v":388},null,null,{"$f":"データ一覧!G510","v":12},null,null,{"$f":"データ一覧!G511","v":469},null,null,{"$f":"データ一覧!G512","v":6},null,null,null,null,null,"      等",null,null,{"$f":"データ一覧!G513","v":66518}]

{"sheet":"敦賀市","index":6,"n_rows":93,"n_cols":104,"rows_kept":93,"cut":false,"hidden":false,"merged":[[30,41,30,47],[35,54,35,57],[29,54,29,57],[32,54,32,57],[30,54,30,57],[34,61,34,65],[35,99,35,102],[32,41,32,47],[33,41,33,47],[35,41,35,47],[35,69,35,73],[30,74,30,77],[39,86,39,92],[23,100,23,103],[23,82,23,85],[23,87,23,91],[25,87,25,91],[25,82,25,85],[24,61,24,65],[23,41,23,47],[38,94,38,96],[38,80,38,83],[38,68,38,74],[38,41,38,47],[36,50,36,52],[28,92,28,95],[29,92,29,95],[29,96,29,99],[31,78,31,81],[26,69,26,73],[31,74,31,77],[26,74,26,77],[74,78,74,84],[74,88,74,92],[74,97,74,101],[76,79,76,82],[26,82,26,85],[53,84,53,87],[52,92,52,95],[53,88,53,91],[53,78,53,80],[67,54,67,57],[56,100,56,103],[56,69,56,76],[56,81,56,83],[56,84,56,87],[56,88,56,91],[56,92,56,95],[56,96,56,99],[26,87,26,91],[54,100,54,103],[60,98,60,103],[60,60,60,63],[61,81,61,84],[55,100,55,103],[52,100,52,103],[52,96,52,99],[53,100,53,103],[53,96,53,99],[41,94,41,96],[56,78,56,80],[34,54,34,57],[67,63,67,67],[37,68,37,74],[26,78,26,81],[29,82,29,85],[22,92,22,95],[25,50,25,52],[22,96,22,99],[23,92,23,95],[23,96,23,99],[30,61,30,65],[28,100,28,103],[27,92,27,95],[28,61,28,65],[26,100,26,103],[28,74,28,77],[22,100,22,103],[24,100,24,103],[25,96,25,99],[27,69,27,73],[23,50,23,52],[23,54,23,57],[24,92,24,95],[26,92,26,95],[26,96,26,99],[28,87,28,91],[29,100,29,103],[28,50,28,52],[63,0,63,6],[62,0,62,6],[27,22,27,24],[35,11,35,13],[32,5,32,7],[31,14,31,16],[32,20,32,21],[30,22,30,24],[35,14,35,16],[35,18,35,19],[26,41,26,47],[24,41,24,47],[24,50,24,52],[25,41,25,47],[29,61,29,65],[21,100,21,103],[35,61,35,65],[22,82,22,85],[22,87,22,91],[23,69,23,73],[23,74,23,77],[24,69,24,73],[24,74,24,77],[24,78,24,81],[24,82,24,85],[24,87,24,91],[52,69,52,76],[37,50,37,52],[36,80,36,83],[33,61,33,65],[34,50,34,52],[31,61,31,65],[70,7,70,9],[70,10,70,12],[24,96,24,99],[60,22,60,24],[59,19,59,21],[60,19,60,21],[69,19,69,21],[67,58,67,62],[61,40,61,43],[27,100,27,103],[31,100,31,103],[31,96,31,99],[32,96,32,99],[31,92,31,95],[30,92,30,95],[62,10,62,12],[62,13,62,15],[30,96,30,99],[30,100,30,103],[33,50,33,52],[28,96,28,99],[25,100,25,103],[25,74,25,77],[28,82,28,85],[27,78,27,81],[27,96,27,99],[32,92,32,95],[34,20,34,21],[33,22,33,24],[32,22,32,24],[31,54,31,57],[33,54,33,57],[73,10,73,12],[73,13,73,15],[63,22,63,24],[60,10,60,12],[59,10,59,12],[71,10,71,12],[73,25,73,28],[73,0,73,6],[66,0,66,6],[70,0,70,6],[72,19,72,21],[73,22,73,24],[73,16,73,18],[73,19,73,21],[59,22,59,24],[65,19,65,21],[63,19,63,21],[64,19,64,21],[64,22,64,24],[71,16,71,18],[70,22,70,24],[70,19,70,21],[71,19,71,21],[59,16,59,18],[60,13,60,15],[59,13,59,15],[64,16,64,18],[71,7,71,9],[62,16,62,18],[63,16,63,18],[67,7,67,9],[65,10,65,12],[32,8,32,10],[30,50,30,52],[28,69,28,73],[56,19,56,21],[68,25,68,28],[63,13,63,15],[60,40,60,43],[59,44,59,59],[56,16,56,18],[55,16,55,18],[40,22,40,24],[47,10,47,12],[71,13,71,15],[71,40,71,43],[30,69,30,73],[33,68,34,81],[68,44,68,48],[68,49,68,53],[68,54,68,57],[68,58,68,62],[37,41,37,47],[31,69,31,73],[37,80,37,83],[34,41,34,47],[29,50,29,52],[35,50,35,52],[34,14,34,16],[33,18,33,19],[33,20,33,21],[33,11,33,13],[33,14,33,16],[32,18,32,19],[35,5,35,7],[55,13,55,15],[56,13,56,15],[21,74,21,77],[21,78,21,81],[21,82,21,85],[22,74,22,77],[22,78,22,81],[20,25,20,28],[22,69,22,73],[20,11,20,13],[20,16,20,18],[20,21,20,23],[27,74,27,77],[25,78,25,81],[29,20,29,21],[35,20,35,21],[34,22,34,24],[40,16,40,18],[47,22,47,24],[48,22,48,24],[40,68,41,74],[28,41,28,47],[31,41,31,47],[23,78,23,81],[33,84,34,97],[31,5,31,7],[27,41,27,47],[42,7,42,9],[22,41,22,47],[29,87,29,91],[21,61,21,65],[23,25,23,28],[22,32,22,34],[22,50,22,52],[21,41,21,47],[23,32,23,34],[27,61,27,65],[25,61,25,65],[26,61,26,65],[31,18,31,19],[30,5,30,7],[30,8,30,10],[31,8,31,10],[31,11,31,13],[27,37,27,38],[21,32,21,34],[31,22,31,24],[29,5,29,7],[27,25,27,26],[30,20,30,21],[31,20,31,21],[30,11,30,13],[30,14,30,16],[30,18,30,19],[29,8,29,10],[29,41,29,47],[29,14,29,16],[29,22,29,24],[24,0,25,24],[21,50,21,52],[21,54,21,57],[28,54,28,57],[31,50,31,52],[27,0,27,4],[27,5,27,7],[29,11,29,13],[14,68,15,82],[14,83,15,96],[14,25,15,25],[14,26,15,28],[15,29,15,30],[15,32,15,33],[15,35,15,37],[17,25,17,27],[18,25,18,27],[40,7,40,9],[27,27,27,28],[27,29,27,30],[27,31,27,32],[27,33,27,34],[21,25,21,28],[20,78,20,81],[20,87,20,91],[20,82,20,85],[35,8,35,10],[32,14,32,16],[34,18,34,19],[34,8,34,10],[34,11,34,13],[38,86,38,92],[37,86,37,92],[37,61,37,65],[39,41,39,47],[25,92,25,95],[21,29,21,31],[5,0,5,9],[6,0,8,9],[17,54,17,58],[19,50,19,52],[19,54,19,57],[17,41,17,47],[14,0,15,24],[19,3,19,5],[18,28,18,30],[19,25,19,28],[19,74,19,77],[25,25,25,26],[26,22,26,24],[24,27,24,28],[25,27,25,28],[26,25,26,26],[25,37,26,38],[19,35,19,38],[26,27,26,28],[25,29,26,30],[25,31,26,32],[23,35,23,38],[24,29,24,30],[24,31,24,32],[24,33,24,34],[24,35,24,36],[22,35,22,38],[25,33,26,34],[25,35,26,36],[20,74,20,77],[19,29,19,31],[19,32,19,34],[20,100,20,103],[20,35,20,38],[20,92,20,95],[20,96,20,99],[20,61,20,65],[19,78,19,81],[19,82,19,85],[16,75,16,96],[16,32,16,33],[16,36,16,37],[17,32,17,34],[17,36,17,38],[18,31,18,34],[18,35,18,38],[17,49,17,53],[17,69,17,72],[19,41,19,47],[19,100,19,103],[17,60,17,66],[17,92,17,95],[17,101,17,102],[19,61,19,65],[19,92,19,95],[19,96,19,99],[17,74,17,77],[17,83,17,84],[17,87,17,90],[20,41,20,47],[20,50,20,52],[20,54,20,57],[20,29,20,31],[20,32,20,34],[33,8,33,10],[33,5,33,7],[40,19,40,21],[21,87,21,91],[21,92,21,95],[21,96,21,99],[23,29,23,31],[32,11,32,13],[27,35,27,36],[23,11,23,13],[23,16,23,18],[23,21,23,23],[23,61,23,65],[22,25,22,28],[22,29,22,31],[22,54,22,57],[22,61,22,65],[24,54,24,57],[25,54,25,57],[27,50,27,52],[26,54,26,57],[26,50,26,52],[27,54,27,57],[24,37,24,38],[37,94,37,96],[36,41,36,47],[36,76,36,78],[36,68,36,74],[38,61,38,65],[29,18,29,19],[21,35,21,38],[22,7,22,8],[31,82,31,85],[30,78,30,81],[30,82,30,85],[35,94,35,96],[37,98,37,101],[28,78,28,81],[36,98,36,101],[36,86,36,92],[36,94,36,96],[37,76,37,78],[38,98,38,101],[36,54,36,57],[38,76,38,78],[38,54,38,57],[27,82,27,85],[27,87,27,91],[29,74,29,77],[29,78,29,81],[30,87,30,91],[32,100,32,103],[32,61,32,65],[32,74,32,77],[32,78,32,81],[32,82,32,85],[32,69,32,73],[35,81,35,84],[35,87,35,91],[35,76,35,78],[39,94,39,96],[39,76,39,78],[39,80,39,83],[39,68,39,74],[40,94,40,96],[39,50,39,52],[40,80,41,83],[40,76,41,78],[42,98,42,101],[42,94,42,96],[45,93,45,102],[48,57,48,60],[49,63,49,67],[39,61,39,65],[42,68,42,74],[42,86,42,92],[39,98,39,101],[49,59,49,62],[43,61,43,65],[46,96,46,99],[43,54,43,57],[46,70,46,75],[41,50,41,52],[40,50,40,52],[42,50,42,52],[40,98,40,101],[41,98,41,101],[40,86,40,92],[43,50,43,52],[39,54,39,57],[41,86,41,92],[42,76,42,78],[50,78,50,80],[47,13,47,15],[47,16,47,18],[47,19,47,21],[48,10,48,12],[48,13,48,15],[48,7,48,9],[46,0,46,1],[40,2,40,3],[47,0,47,1],[47,7,47,9],[41,4,41,6],[40,4,40,6],[44,0,45,1],[42,36,42,37],[42,32,42,35],[48,16,48,18],[48,19,48,21],[44,19,44,24],[41,19,41,21],[42,10,42,12],[50,92,50,95],[45,78,45,83],[44,25,44,28],[47,84,47,87],[51,96,51,99],[45,25,45,28],[46,25,46,28],[47,81,47,83],[46,100,46,103],[49,100,49,103],[55,78,55,80],[42,80,42,83],[53,69,53,76],[54,69,54,76],[43,41,43,47],[42,54,42,57],[50,25,50,28],[49,96,49,99],[49,88,49,91],[47,92,47,95],[49,84,49,87],[49,69,49,76],[47,96,47,99],[47,100,47,103],[55,96,55,99],[48,84,48,87],[48,88,48,91],[47,88,47,91],[55,92,55,95],[52,78,52,80],[42,41,42,47],[52,81,52,83],[53,92,53,95],[51,92,51,95],[52,88,52,91],[48,96,48,99],[64,13,64,15],[65,74,65,77],[68,89,68,91],[65,44,65,50],[57,13,57,15],[45,85,45,90],[47,69,47,76],[47,78,47,80],[43,68,44,82],[43,84,44,103],[55,69,55,76],[50,100,50,103],[49,92,49,95],[60,92,60,97],[60,86,60,91],[55,44,55,46],[54,48,54,51],[55,22,55,24],[51,84,51,87],[51,78,51,80],[51,81,51,83],[56,49,56,54],[58,19,58,21],[54,92,54,95],[54,96,54,99],[54,81,54,83],[52,84,52,87],[68,16,68,18],[64,0,64,6],[63,10,63,12],[62,22,62,24],[62,19,62,21],[64,7,64,9],[68,19,68,21],[51,100,51,103],[54,56,54,59],[50,84,50,87],[66,13,66,15],[66,16,66,18],[67,13,67,15],[67,40,67,43],[67,89,67,91],[65,89,65,92],[69,10,69,12],[68,29,68,30],[68,32,68,33],[66,19,66,21],[65,69,65,72],[66,77,66,91],[69,35,69,37],[69,22,69,24],[68,40,68,43],[68,10,68,12],[68,13,68,15],[66,40,66,67],[67,44,67,48],[67,68,70,72],[67,80,67,82],[70,40,70,43],[61,44,61,49],[72,49,72,53],[67,98,67,103],[67,83,67,85],[70,80,70,82],[71,63,71,67],[61,50,61,54],[65,0,65,6],[58,0,58,6],[57,68,58,103],[60,7,60,9],[57,65,57,67],[59,7,59,9],[58,7,58,9],[64,10,64,12],[62,69,62,72],[65,13,65,15],[65,16,65,18],[65,40,65,43],[64,69,64,72],[61,69,61,72],[65,54,65,57],[60,55,60,59],[60,50,60,54],[57,7,57,9],[61,19,61,21],[62,94,62,96],[58,62,58,64],[61,0,61,6],[60,0,60,6],[65,99,65,102],[65,79,65,82],[65,84,65,87],[71,29,71,30],[70,32,70,33],[70,35,70,37],[62,82,62,84],[61,22,61,24],[61,60,61,63],[61,64,61,67],[69,29,69,30],[66,22,66,24],[62,76,62,78],[69,32,69,33],[67,22,67,24],[65,22,65,24],[69,25,69,28],[65,94,65,97],[68,63,68,67],[69,40,69,67],[62,88,62,90],[70,73,70,76],[70,78,70,79],[68,77,68,79],[65,58,65,64],[73,78,73,84],[73,87,73,93],[73,96,73,102],[70,63,70,67],[68,22,68,24],[69,13,69,15],[68,35,68,37],[67,49,67,53],[68,83,68,85],[68,86,68,88],[68,92,68,94],[68,95,68,97],[67,19,67,21],[70,98,70,100],[70,101,70,103],[72,54,72,57],[72,63,72,67],[68,80,68,82],[70,92,70,94],[70,95,70,97],[70,86,70,88],[70,89,70,91],[70,84,70,85],[70,29,70,30],[72,40,72,43],[72,16,72,18],[72,22,72,24],[72,44,72,48],[71,44,71,48],[68,101,68,103],[68,73,68,76],[70,44,70,48],[78,92,78,95],[78,96,78,99],[78,100,78,103],[78,68,78,72],[78,73,78,77],[78,78,78,82],[78,83,78,87],[77,83,77,87],[77,88,77,91],[76,88,76,91],[77,92,77,95],[77,40,77,43],[73,32,73,33],[71,25,71,28],[73,35,73,37],[74,40,74,43],[74,25,74,28],[72,25,72,28],[72,29,72,30],[72,32,72,33],[72,35,72,37],[73,40,73,43],[74,29,74,30],[74,32,74,33],[74,35,74,37],[71,68,72,82],[71,58,71,62],[72,58,72,62],[71,83,72,103],[75,40,75,43],[75,25,75,28],[75,35,75,37],[91,26,91,27],[91,28,91,29],[91,30,91,31],[91,32,91,34],[91,53,91,58],[90,47,90,49],[91,35,91,36],[91,37,91,38],[91,40,91,43],[90,40,90,43],[88,30,88,31],[83,36,83,37],[82,40,82,43],[81,49,81,53],[80,49,80,53],[84,58,84,62],[81,29,81,31],[81,40,81,43],[88,32,88,34],[88,45,88,48],[91,44,91,46],[91,47,91,49],[91,50,91,52],[88,51,88,54],[90,45,90,46],[80,40,80,43],[80,44,80,48],[81,32,81,34],[89,32,89,34],[89,40,89,43],[79,44,79,48],[79,49,79,53],[78,40,78,43],[83,40,83,43],[84,49,84,53],[83,44,83,48],[78,49,78,53],[78,54,78,57],[84,40,84,43],[82,44,82,48],[80,35,81,38],[75,54,75,57],[76,44,76,48],[76,49,76,53],[74,44,74,48],[74,49,74,53],[75,49,75,53],[76,97,76,100],[78,88,78,91],[78,58,78,62],[62,100,62,102],[63,85,63,87],[63,90,63,92],[63,100,63,102],[63,95,63,97],[63,75,63,77],[61,55,61,59],[57,48,57,51],[92,40,92,43],[92,44,92,46],[92,47,92,49],[92,50,92,52],[90,62,90,64],[90,65,90,67],[81,44,81,48],[77,44,77,48],[77,49,77,53],[77,54,77,57],[77,58,77,62],[77,63,77,67],[76,54,76,57],[76,58,76,62],[76,63,76,67],[77,78,77,82],[76,70,76,73],[76,40,76,43],[78,44,78,48],[79,40,79,43],[84,63,84,67],[80,101,80,103],[80,89,80,91],[80,93,80,95],[80,69,80,71],[80,74,80,76],[79,98,79,99],[81,68,82,103],[79,54,79,57],[79,58,79,62],[79,63,79,67],[79,102,79,103],[80,97,80,99],[80,79,80,81],[84,54,84,57],[91,62,91,67],[90,59,90,61],[88,62,88,67],[81,58,81,62],[83,54,83,57],[81,54,81,57],[89,62,89,64],[88,73,89,103],[80,54,80,57],[80,58,80,62],[80,63,80,67],[92,53,92,58],[92,62,92,67],[90,56,90,58],[83,58,83,62],[81,63,81,67],[82,58,82,62],[82,54,82,57],[82,63,82,67],[83,49,83,53],[83,63,83,67],[83,32,83,33],[82,49,82,53],[84,44,84,48],[74,54,74,57],[74,58,74,62],[74,63,74,67],[45,36,45,37],[50,33,50,38],[46,36,46,37],[73,58,73,62],[73,63,73,67],[73,44,73,48],[73,49,73,53],[73,54,73,57],[70,49,70,53],[71,49,71,53],[70,54,70,57],[70,58,70,62],[66,32,66,34],[54,40,54,43],[60,64,60,67],[59,60,59,63],[38,50,38,52],[37,54,37,57],[50,29,50,32],[46,32,46,35],[36,61,36,65],[50,48,50,50],[49,47,49,50],[55,60,55,63],[50,60,50,62],[50,64,50,67],[49,51,49,54],[41,29,41,30],[41,61,41,65],[57,62,57,64],[57,59,57,61],[57,56,57,58],[58,56,58,58],[58,59,58,61],[58,49,58,51],[58,65,58,67],[55,48,55,50],[55,52,55,54],[42,61,42,65],[55,31,55,34],[56,40,56,43],[58,53,58,55],[45,58,45,62],[40,54,40,57],[55,10,55,12],[41,13,41,15],[41,36,41,37],[40,32,40,35],[40,36,40,37],[41,32,41,35],[48,0,48,1],[61,36,61,37],[48,51,48,54],[41,54,41,57],[60,44,60,49],[60,36,60,37],[44,36,44,37],[44,32,44,35],[45,32,45,35],[40,29,40,30],[40,41,40,47],[41,41,41,47],[42,19,42,21],[41,10,41,12],[41,7,41,9],[51,36,51,38],[61,10,61,12],[61,13,61,15],[55,19,55,21],[50,0,51,24],[55,7,55,9],[34,29,34,30],[36,29,36,30],[48,63,48,66],[40,61,40,65],[36,36,36,37],[54,44,54,47],[51,33,51,35],[32,50,32,52],[72,0,72,6],[66,7,66,9],[66,10,66,12],[57,52,57,55],[71,35,71,37],[57,25,57,29],[57,44,57,47],[58,40,58,43],[58,45,58,47],[57,40,57,43],[66,35,66,38],[71,54,71,57],[34,36,34,37],[35,36,35,37],[35,29,35,30],[44,29,44,30],[46,29,46,30],[45,29,45,30],[41,16,41,18],[34,5,34,7],[57,16,57,18],[60,16,60,18],[56,0,56,6],[59,0,59,6],[35,22,35,24],[92,32,92,34],[83,7,83,9],[83,10,83,12],[83,13,83,15],[83,16,83,18],[83,19,83,21],[81,22,81,24],[54,25,54,32],[55,25,55,30],[82,22,82,24],[76,2,76,9],[76,10,76,24],[78,2,78,3],[78,4,78,6],[81,4,81,6],[81,7,81,9],[57,0,57,6],[87,6,87,8],[87,14,87,16],[87,22,87,24],[58,10,58,12],[57,10,57,12],[51,29,51,32],[51,25,51,28],[42,4,42,6],[42,22,42,24],[41,22,41,24],[40,10,40,12],[40,13,40,15],[42,13,42,15],[42,16,42,18],[90,6,90,8],[90,14,90,16],[81,10,81,12],[81,13,81,15],[81,16,81,18],[81,19,81,21],[70,25,70,28],[83,29,83,30],[71,32,71,33],[61,29,61,30],[83,22,83,24],[83,4,83,6],[82,4,82,6],[82,7,82,9],[82,10,82,12],[72,7,72,9],[72,10,72,12],[72,13,72,15],[74,0,75,24],[61,16,61,18],[62,29,62,30],[68,7,68,9],[69,0,69,6],[68,0,68,6],[67,0,67,6],[83,26,83,27],[88,28,88,29],[80,25,81,28],[73,29,73,30],[67,10,67,12],[67,16,67,18],[62,7,62,9],[69,7,69,9],[69,16,69,18],[70,13,70,15],[70,16,70,18],[71,22,71,24],[65,7,65,9],[63,7,63,9],[61,7,61,9],[71,0,71,6]],"merged_total":1087,"flags":["merged_cut"]}
[{"$f":"+データ一覧!H5","v":0}]
[{"$f":"+データ一覧!H8","v":0}]
[null,null,null,null,null,null,null,null,null,null,null,null,null,null,null,null,null,null,null,null,null,null,null,null,null,null,null,null,null,null,null,null,null,null,null,null,null,null,null,null,0]
[null,null,null,null,null,null,null,null,null,null,null,null,null,null,null,null,null,null,null,null,null,null,null,null,null,null,null,"【市章とそのいわれ】周囲の円形は敦賀港を現して地勢を物語り、                    ",null,null,null,null,null,null,null,null,null,null,null,null,"  【位置および地勢】敦賀市は福井県の中央部に位置し、北に敦賀湾口を開いて",null,null,null,null,null,null,null,null,null,null,null,null,null,null,null,null,null,null,null,null,null,null,null,null,null,null,null,null,null,null,"所在地",null,null,null,null,null,null,null,"〒914-8501"]
[null,null,null,null,null,null,null,null,null,null,null,null,null,null,null,null,null,null,null,null,null,null,null,null,null,null,null,"                  中央の角は「都怒我阿羅斯等」来朝にちなんで                                        ",null,null,null,null,null,null,null,null,null,null,null,null,"                  ","日本海に面し、他の三方は山岳が連なり、敦賀湾と平野部を囲んでいる。",null,null,null,null,null,null,null,null,null,null,null,null,null,null,null,null,null,null,null,null,null,null,null,null,null,null,null,null,null,null,null,null,null,null,null,null,null,"敦賀市中央町２丁目１番１号"]
[{"$f":"+データ一覧!H6","v":"つるがし"},null,null,null,null,null,null,null,null,null,null,null,null,null,null,null,null,null,null,null,null,null,null,null,null,null,null,"                  その沿革を象徴する。角の上部は敦賀港最初の",null,null,null,null,null,null,null,null,null,null,null,null,"　　　　　　　　　","東西約１４㎞、南北約２６km、面積は２５１．４１平方kmで若狭湾に大きく"]
[{"$f":"データ一覧!H9","v":"敦賀市"},null,null,null,null,null,null,null,null,null,null,null,null,null,null,null,null,null,null,null,null,null,null,null,null,null,null,"                  文明施設としての灯台を具現し、港湾都市と",null,null,null,null,null,null,null,null,null,null,null,null,"　","張り出た敦賀半島と５４㎞に及ぶ海岸線が敦賀湾を日本海の風や波浪から",null,null,null,null,null,null,null,null,null,null,null,null,null,null,null,null,null,null,null,null,null,null,null,null,null,null,null,null,null,"電話番号",null,null,null,null,null,null,null,"（０７７０）２１－１１１１"]
[null,null,null,null,null,null,null,null,null,null,null,null,null,null,null,null,null,null,null,null,null,null,null,null,null,null,null,"                  しての将来への発展を意味する。",null,null,null,null,null,null,null,null,null,null,null,null," ","防ぎ、天然の良港を形成している。",null,null,null,null,null,null,null,null,null,null,null,null,null,null,null,null,null,null,null,null,null,null,null,null,null,null,null,null,null,"FAX番号",null,null,null,null,null,null,null,"     〃     ２２－６２２０"]
[null,null,null,null,null,null,null,null,null,null,null,null,null,null,null,null,null,null,null,null,null,null,null,null,null,null,null,0,null,null,null,null,null,null,null,null,null,null,null,null," ","日本三大松原の一つに数えられる気比の松原は、敦賀湾の最奥部に位置し、"]
[null,null,null,null,null,null,null,null,null,null,null,null,null,null,null,null,null,null,null,null,null,null,null,null,null,null,null,0,null,null,null,null,null,null,null,null,null,null,null,null,"　","海との織り成す景観は、見事である。",null,null,null,null,null,null,null,null,null,null,null,null,null,null,null,null,null,null,null,null,null,null,null,null,null,null,null,null,null,"最寄駅および距離",null,null,null,null,null,null,null,"ＪＲ北陸本線敦賀駅  下車２ｋｍ"]
[null,null,null,null,null,null,null,null,null,null,null,null,null,null,null,null,null,null,null,null,null,null,null,null,null,null,null,0,null,null,null,null,null,null,null,null,null,null,null,null,"  "]
[]
[null,null,null,null,null,null,null,null,null,null,null,null,null,null,null,null,null,null,null,null,null,null,null,null,null,null,null,"【市が掲げる標語】世界をつなぐ港まちみんなで拓く交流拠点都市 敦賀",null,null,null,null,null,null,null,null,null,null,null,null,null,null,null,null,null,null,null,null,null,null,null,null,null,null,null,null,null,null,null,null,null,null,null,null,null,null,null,null,null,null,null,"ホームページ",null,null,null,null,null,null,null,"http://www.city.tsuruga.lg.jp/"]
[]
["  １  土            　　地",null,null,null,null,null,null,null,null,null,null,null,null,null,null,null,null,null,null,null,null,null,null,null,null,{"$f":"データ一覧!$A$247","v":"元年"},"産米収穫量",null,null,"　 収　穫　量",null,null," 　作 付 面 積",null,null,"   10a当たり収量",null,null,null,null,null,null,null,null,null,null,null,null,null,null,null,null,null,null,null,null,null,null,null,null,null,null,null,null,null,null,null,null," １５  労　　　　　　　働",null,null,null,null,null,null,null,null,null,null,null,null,null,null,"27.10.1"]
[null,null,null,null,null,null,null,null,null,null,null,null,null,null,null,null,null,null,null,null,null,null,null,null,null,null,null,null,null,{"$f":"データ一覧!$H$247","v":2170},null,"t",{"$f":"データ一覧!$H$248","v":451},null,"ha",{"$f":"データ一覧!H249","v":481},null,null,"kg",null," １０  工　　　　　　業 ",null,null,null,null,null,null,null,null,null,null,null,null,null,{"$f":"データ一覧!$A$339","v":"元.6.1（平成30年実績）"}]
["   総          面           積",null,null,null,null,null,null,null,null,null," 固 定 資 産 概 要 調 書 に よ る 地 目 別 面 積",null,null,null,null,null,null,null,null,null,null,null,null,null,null,null,null,null,"   総　　　数",null,null,null,"うち　　田",null,null,null,"うち　　畑",null,null,null,null,null,null,null,null,null,null,null,null,null,null,null,null,null,null,null,null,null,null,null,null,null,null,null,null,null,null,null,null,null,null,null,null,null,null,"産業別就業者数   "]
[null,null,{"$f":"データ一覧!$A$10","v":"2.10.1"},null,null,null,null,null,null,null,null,null,null,null,null,null,{"$f":"データ一覧!$A$12","v":"2.1.1"},null,null,null,null,null,null,null,null," 耕  地  面  積",null,null,null,"       ha",null,null,"ha ",null,null,null,"ha ",null,null,null,"      ","産業分類",null,null,null,null,null,null,null,"事業所数",null,null,null,null,"従業者数",null,null,null,null,null,"年間製造品出荷額等",null,null,null,null,null,null,null,null,"区  分",null,null,null,null,"総    数",null,null,null,null,"男",null,null,null,"女",null,null,"  ","区  分",null,null,null,null,"総    数",null,null,null,null,"男",null,null,null,"女"]
[null,null,null,null,null,null,"㎢",null,null,null,"   総       数",null,null,null,null,"  う ち     田",null,null,null,null,"  う ち     畑",null,null,null,null,{"$f":"データ一覧!$A$250","v":"元.7.15"},null,null,{"$f":"データ一覧!$H$250","v":872},null,null,{"$f":"データ一覧!$H$251","v":768},null,null,null,{"$f":"データ一覧!$H$252","v":104},null,null,null,null,null,null,null,null,null,null,null,null,null,"　　   ",null,null,"事業所",null,"　　　　　　　 人",null,null,"人",null,"　　　　　　　　　　　　　　万円",null,null,null,null,null,null,"万円",null,null,null,null,null,null,null,"      人",null,null,null,null,null," 人",null,null,null," 人",null,null,null,null,null,null,null,"      人",null,null,null,"      人",null,null,null,"      人"]
[null,null,null,{"$f":"データ一覧!H10","v":251.41},null,null,null,null,null,null,null,null,null,null,"ha",null,null,null,null,"ha",null,null,null,null,"ha","農 業 生 産 物",null,null,null,"作 付 面 積",null,null,"収 穫 量",null,null,"10a当たり収量",null,null,null,null,"     ","総数",null,null,null,null,null,null,null,null,{"$f":"データ一覧!H339","v":75},null,null,null,{"$f":"+データ一覧!H364","v":3507},null,null,null,null,null,null,{"$f":"データ一覧!H389","v":11862783},null,null,null,null,null,null," 総　　　数",null,null,null,null,null,{"$f":"CA20+CE20","v":32820},null,null,null,{"$f":"データ一覧!H514","v":18800},null,null,null,{"$f":"データ一覧!H539","v":14020}]
[null,null,null,null,null,null,null,null,null,null,null,{"$f":"データ一覧!H12","v":11210.5},null,null,null,null,{"$f":"データ一覧!H13","v":1304.7},null,null,null,null,{"$f":"データ一覧!H14","v":253.5},null,null,null,{"$f":"データ一覧!$A$253","v":"元年中"},null,null,null,"ha",null,null,"t",null,null,"kg",null,null,null,null,"     食料品","食料品",null,null,null,null,null,null,null,null,{"$f":"データ一覧!H340","v":15},null,null,null,{"$f":"+データ一覧!H365","v":300},null,null,null,null,null,null,{"$f":"データ一覧!H390","v":311519},null,null,null,null,null,null,null,null,null,null,null,null,null,null,null,null,null,null,null,null,null,null,null,null,null,"卸売業,小売業",null,null,null,null,{"$f":"CS21+CW21","v":4628},null,null,null,{"$f":"データ一覧!H527","v":1910},null,null,null,{"$f":"データ一覧!H552","v":2718}]
["  町 ･ 丁 ･ 大 字",null,null,null,null,null,null,null,null,null,"  う ち  宅 地",null,null,null,null,"  う ち  山 林",null,null,null,null,"  う ち  原 野",null,null,null,null,"水　　　　　稲",null,null,null,{"$f":"データ一覧!H253","v":451},null,null,{"$f":"データ一覧!H254","v":2170},null,null,{"$f":"データ一覧!H255","v":481},null,null,null,null,"     飲料・飼料","飲料・飼料",null,null,null,null,null,null,null,null,{"$f":"データ一覧!H341","v":0},null,null,null,{"$f":"+データ一覧!H366","v":0},null,null,null,null,null,null,{"$f":"データ一覧!H391","v":0},null,null,null,null,null,null," 第１次産業",null,null,null,null,null,{"$f":"CA22+CE22","v":615},null,null,null,{"$f":"データ一覧!H515","v":380},null,null,null,{"$f":"データ一覧!H540","v":235},null,null,null,null,"金融業,保険業",null,null,null,null,{"$f":"CS22+CW22","v":578},null,null,null,{"$f":"データ一覧!H528","v":206},null,null,null,{"$f":"データ一覧!H553","v":372}]
["  区    画    数",null,null,null,null,null,null,{"$f":"データ一覧!H11","v":158},null,null,null,null,null,null,"ha",null,null,null,null,"ha",null,null,null,null,"ha","六　条　大　麦",null,null,null,{"$f":"データ一覧!H256","v":"-"},null,null,{"$f":"データ一覧!H257","v":"-"},null,null,{"$f":"データ一覧!H258","v":"- "},null,null,null,null,"     繊維","繊維",null,null,null,null,null,null,null,null,{"$f":"データ一覧!H342","v":4},null,null,null,{"$f":"+データ一覧!H367","v":200},null,null,null,null,null,null,{"$f":"データ一覧!H392","v":1020786},null,null,null,null,null,null,"  ","農業",null,null,null,null,{"$f":"CA23+CE23","v":521},null,null,null,{"$f":"データ一覧!H516","v":303},null,null,null,{"$f":"データ一覧!H541","v":218},null,null,null,"  ","不動産業",null,null,null,null,362,null,null,null,{"$f":"データ一覧!H529","v":199},null,null,null,{"$f":"データ一覧!H554","v":163}]
[{"$f":"データ一覧!$A$11","v":"31.4.1"},null,null,null,null,null,null,null,null,null,null,{"$f":"データ一覧!H15","v":1240.3},null,null,null,null,{"$f":"データ一覧!H16","v":4520.6000000000004},null,null,null,null,{"$f":"データ一覧!H17","v":220.1},null,null,null,"大　　      豆",null,null,null,{"$f":"データ一覧!H259","v":2},null,null,{"$f":"データ一覧!H260","v":1},null,null,{"$f":"データ一覧!H261","v":50},null,null,null,null,"     衣服","木材",null,null,null,null,null,null,null,null,{"$f":"データ一覧!H343","v":3},null,null,null,{"$f":"+データ一覧!H368","v":267},null,null,null,null,null,null,{"$f":"データ一覧!H393","v":939058},null,null,null,null,null,null,"  ","林業",null,null,null,null,12,null,null,null,{"$f":"データ一覧!H517","v":10},null,null,null,{"$f":"データ一覧!H542","v":2},null,null,null,"  ","学術研究",null,null,null,null,1766,null,null,null,{"$f":"データ一覧!H530","v":1369},null,null,null,{"$f":"データ一覧!H555","v":397}]
["  ２  世　帯　数　と　人　口",null,null,null,null,null,null,null,null,null,null,null,null,null,null,null,null,null,null,null,null,null,null,null,null,null,null,"  区　分",null," 乳 用 牛",null," 肉 用 牛",null,"豚",null,"採卵鶏",null,"ブロイラー",null,null,"     木材","家具",null,null,null,null,null,null,null,null,{"$f":"データ一覧!H344","v":1},null,null,null,{"$f":"+データ一覧!H369","v":4},null,null,null,null,null,null,{"$f":"データ一覧!H394","v":"x"},null,null,null,null,null,null,"  ","漁業",null,null,null,null,82,null,null,null,{"$f":"データ一覧!H518","v":67},null,null,null,{"$f":"データ一覧!H543","v":15},null,null,null,"  ","宿泊業,飲食ｻｰﾋﾞｽ",null,null,null,null,2113,null,null,null,{"$f":"データ一覧!H531","v":580},null,null,null,{"$f":"データ一覧!H556","v":1533}]
[null,null,null,null,null,null,null,null,null,null,null,null,null,null,null,null,null,null,null,null,null,null,null,null,null,"畜　産",null," 飼養農家",null,{"$f":"データ一覧!$H$262","v":"x"},null,{"$f":"データ一覧!$H$264","v":3},null,{"$f":"データ一覧!$H$266","v":"-"},null,{"$f":"データ一覧!$H$268","v":"x"},null,{"$f":"データ一覧!$H$270","v":"-"},null,null,"     家具","パルプ・紙",null,null,null,null,null,null,null,null,{"$f":"データ一覧!H345","v":3},null,null,null,{"$f":"+データ一覧!H370","v":116},null,null,null,null,null,null,{"$f":"データ一覧!H395","v":186595},null,null,null,null,null,null," 第２次産業",null,null,null,null,null,8759,null,null,null,{"$f":"データ一覧!H519","v":6700},null,null,null,{"$f":"データ一覧!H544","v":2059},null,null,null,"  ","生活関連ｻｰﾋﾞｽ業",null,null,null,null,1108,null,null,null,{"$f":"データ一覧!H532","v":376},null,null,null,{"$f":"データ一覧!H557","v":732}]
[null,null,null,null,null,null,null,null,"        人　　　　　　　　　　口",null,null,null,null,null,null,null,null,null,null,null,"１世帯当",null,"人    口",null,null,{"$f":"データ一覧!$A$262","v":"2.3.31"},null,"（戸）",null,null,null,null,null,null,null,null,null,null,null,null,"     パルプ・紙","印刷",null,null,null,null,null,null,null,null,{"$f":"データ一覧!H346","v":2},null,null,null,{"$f":"+データ一覧!H371","v":60},null,null,null,null,null,null,{"$f":"データ一覧!H396","v":"x"},null,null,null,null,null,null,null,"鉱業，採石業",null,null,null,null,11,null,null,null,{"$f":"データ一覧!H520","v":8},null,null,null,{"$f":"データ一覧!H545","v":3},null,null,null,"  ","教育,学習支援業",null,null,null,null,1255,null,null,null,{"$f":"データ一覧!H533","v":546},null,null,null,{"$f":"データ一覧!H558","v":709}]
[" 区　　　　分",null,null,null,null,"世帯数",null,null," 総   数",null,null,"    男",null,null,"    女",null,null,"  男／女",null,null,"たり人員",null,"密    度",null,null,null,null," 頭 羽",null,{"$f":"データ一覧!$H$263","v":36},null,{"$f":"データ一覧!$H$265","v":65},null,{"$f":"データ一覧!$H$267","v":"-"},null,{"$f":"データ一覧!$H$269","v":400},null,{"$f":"データ一覧!$H$271","v":"-"},null,null,"     出版・印刷","化学",null,null,null,null,null,null,null,null,{"$f":"データ一覧!H347","v":2},null,null,null,{"$f":"+データ一覧!H372","v":218},null,null,null,null,null,null,{"$f":"データ一覧!H397","v":"x"},null,null,null,null,null,null,"  ","建設業",null,null,null,null,4404,null,null,null,{"$f":"データ一覧!H521","v":3736},null,null,null,{"$f":"データ一覧!H546","v":668},null,null,null,null,"医療，福祉",null,null,null,null,3904,null,null,null,{"$f":"データ一覧!H534","v":762},null,null,null,{"$f":"データ一覧!H559","v":3142}]
[null,null,null,null,null,"    世 帯",null,null,"       人",null,null,"       人",null,null,"       人",null,null,null,"　　％",null,"    人",null,"    人/㎢",null,null,null,null,null,null,null,null,null,null,null,null,null,null,null,null,null,"     化学","石油・石炭",null,null,null,null,null,null,null,null,{"$f":"データ一覧!H348","v":1},null,null,null,{"$f":"+データ一覧!H373","v":7},null,null,null,null,null,null,{"$f":"データ一覧!H398","v":"x"},null,null,null,null,null,null,null,"製造業",null,null,null,null,4344,null,null,null,{"$f":"データ一覧!H522","v":2956},null,null,null,{"$f":"データ一覧!H547","v":1388},null,null,null,null,"複合サービス事業",null,null,null,null,293,null,null,null,{"$f":"データ一覧!H535","v":166},null,null,null,{"$f":"データ一覧!H560","v":127}]
[{"$f":"データ一覧!$A$25","v":" 2.10.1"},null,null,null,null,{"$f":"データ一覧!H25","v":22995},null,null,{"$f":"+L30+O30","v":68041},null,null,{"$f":"データ一覧!H27","v":34091},null,null,{"$f":"データ一覧!H28","v":33950},null,null,null,{"$f":"+L30/O30*100","v":100.41531664212076},null,{"$f":"データ一覧!H30","v":2.96},null,{"$f":"データ一覧!H31","v":271.60000000000002},null,null,"  ５  林               業",null,null,null,null,null,null,null,null,null,null,null,null,null,null,"     石油・石炭","プラスチック",null,null,null,null,null,null,null,null,{"$f":"データ一覧!H349","v":7},null,null,null,{"$f":"+データ一覧!H374","v":661},null,null,null,null,null,null,{"$f":"データ一覧!H399","v":4136972},null,null,null,null,null,null," 第３次産業",null,null,null,null,null,22957,null,null,null,{"$f":"データ一覧!H523","v":11435},null,null,null,{"$f":"データ一覧!H548","v":11522},null,null,null,null,"サービス業",null,null,null,null,2396,null,null,null,{"$f":"データ一覧!H536","v":1643},null,null,null,{"$f":"データ一覧!H561","v":753}]
[{"$f":"データ一覧!$A$32","v":" 7.10.1"},null,null,null,null,{"$f":"データ一覧!H32","v":23115},null,null,{"$f":"+L31+O31","v":67204},null,null,{"$f":"データ一覧!H34","v":33047},null,null,{"$f":"データ一覧!H35","v":34157},null,null,null,96.750300084902079,null,{"$f":"データ一覧!H37","v":2.91},null,{"$f":"データ一覧!H38","v":268.10000000000002},null,null,null,null,null,null,null,null,null,null,null,null,null,null,null,null,null,"     プラスチック","ゴム",null,null,null,null,null,null,null,null,{"$f":"データ一覧!H350","v":0},null,null,null,{"$f":"+データ一覧!H375","v":0},null,null,null,null,null,null,{"$f":"データ一覧!H400","v":0},null,null,null,null,null,null,null,"電気･ｶﾞｽ･水道業",null,null,null,null,1294,null,null,null,{"$f":"データ一覧!H524","v":1187},null,null,null,{"$f":"データ一覧!H549","v":107},null,null,null,null,"公務",null,null,null,null,1027,null,null,null,{"$f":"データ一覧!H537","v":699},null,null,null,{"$f":"データ一覧!H562","v":328}]
[{"$f":"データ一覧!$A$39","v":"12.10.1"},null,null,null,null,{"$f":"データ一覧!H39","v":24539},null,null,{"$f":"+L32+O32","v":68145},null,null,{"$f":"データ一覧!H41","v":33504},null,null,{"$f":"データ一覧!H42","v":34641},null,null,null,96.717762189313234,null,{"$f":"データ一覧!H44","v":2.78},null,{"$f":"データ一覧!H45","v":271.8},null,null,"    　森　　　林　　　総　　　面　　　積   ",null,null,null,null,null,null,null,{"$f":"データ一覧!$A$272","v":"2.3.31"},null,null,null,null,null,null,"     ゴム","皮革",null,null,null,null,null,null,null,null,{"$f":"データ一覧!H351","v":0},null,null,null,{"$f":"+データ一覧!H376","v":0},null,null,null,null,null,null,{"$f":"データ一覧!H401","v":0},null,null,null,null,null,null,null,"情報通信業",null,null,null,null,352,null,null,null,{"$f":"データ一覧!H525","v":210},null,null,null,{"$f":"データ一覧!H550","v":142},null,null,null," 分類不能の産業",null,null,null,null,null,489,null,null,null,{"$f":"データ一覧!H538","v":285},null,null,null,{"$f":"データ一覧!H563","v":204}]
[{"$f":"+データ一覧!$A$46","v":"17.10.1"},null,null,null,null,{"$f":"データ一覧!H46","v":25742},null,null,{"$f":"+L33+O33","v":68402},null,null,{"$f":"データ一覧!H48","v":33475},null,null,{"$f":"データ一覧!H49","v":34927},null,null,null,95.842757751882502,null,{"$f":"データ一覧!H51","v":2.66},null,{"$f":"データ一覧!H52","v":272.8},null,null,"　　　森　　　　　　　林　　　　　　　の　　　　　　　構　　　　　　　成",null,null,null,null,null,null,null,null,null,null,null,null,null,null,"     皮革","窯業・土石",null,null,null,null,null,null,null,null,{"$f":"データ一覧!H352","v":9},null,null,null,{"$f":"+データ一覧!H377","v":584},null,null,null,null,null,null,{"$f":"データ一覧!H402","v":934298},null,null,null,null,null,null,"  ","運輸業,郵便業",null,null,null,null,{"$f":"CA33+CE33","v":1881},null,null,null,{"$f":"データ一覧!H526","v":1582},null,null,null,{"$f":"データ一覧!H551","v":299}]
[{"$f":"+データ一覧!$A$53","v":"22.10.1"},null,null,null,null,{"$f":"+データ一覧!H53","v":26453},null,null,{"$f":"+L34+O34","v":67760},null,null,{"$f":"+データ一覧!H55","v":33396},null,null,{"$f":"+データ一覧!H56","v":34364},null,null,null,97.183098591549296,null,{"$f":"+データ一覧!H58","v":2.56},null,{"$f":"+データ一覧!H59","v":269.7},null,null,null,null,null,null,null,"       ha",null,null,null,null,null,null,"       ha",null,null,"     窯業・土石","鉄鋼",null,null,null,null,null,null,null,null,{"$f":"データ一覧!H353","v":0},null,null,null,{"$f":"+データ一覧!H378","v":0},null,null,null,null,null,null,{"$f":"データ一覧!H403","v":0},null,null,null,null,null,null," １６  社　 会 　福　 祉",null,null,null,null,null,null,null,null,null,null,null,null,null,null,null,{"$f":"データ一覧!$A$564","v":"2.4.1"}]
[{"$f":"データ一覧!$A$60","v":"27.10.1"},null,null,null,null,{"$f":"データ一覧!H60","v":26545},null,null,{"$f":"データ一覧!H61","v":66165},null,null,{"$f":"データ一覧!H62","v":32558},null,null,{"$f":"データ一覧!H63","v":33607},null,null,null,96.878626476626891,null,{"$f":"データ一覧!H65","v":2.4925598041062349},null,{"$f":"データ一覧!H66","v":263.2},null,null,"  総　　　　　   数",null,null,null,{"$f":"データ一覧!H272","v":19899.709999999995},null,null," 天然林       針葉樹",null,null,null,{"$f":"データ一覧!H275","v":2056.4499999999939},null,null,null,"     鉄鋼","非鉄金属",null,null,null,null,null,null,null,null,{"$f":"データ一覧!H354","v":1},null,null,null,{"$f":"+データ一覧!H379","v":29},null,null,null,null,null,null,{"$f":"データ一覧!H404","v":"x"}]
[{"$f":"+データ一覧!$A$67","v":"2.10.1"},null,null,null,null,{"$f":"データ一覧!H67","v":27297},null,null,{"$f":"データ一覧!H76","v":63939},null,null,{"$f":"データ一覧!H77","v":31594},null,null,{"$f":"データ一覧!H78","v":32345},null,null,null,{"$f":"+L36/O36*100","v":97.678157365898898},null,{"$f":"データ一覧!H68","v":2.34},null,{"$f":"データ一覧!H69","v":254.32162602919533},null,null,"  人工林     針葉樹",null,null,null,{"$f":"データ一覧!H273","v":4458.97},null,null," 天然林       広葉樹",null,null,null,{"$f":"データ一覧!H276","v":12597.029999999999},null,null,null,"     非鉄金属","金属",null,null,null,null,null,null,null,null,{"$f":"データ一覧!H355","v":9},null,null,null,{"$f":"+データ一覧!H380","v":105},null,null,null,null,null,null,{"$f":"データ一覧!H405","v":221092},null,null,null,null,null,null,"    ","区分",null,null,null,null,null,null,"施設数",null,null,null,null,"収容定員",null,null,null,null,null,"区分",null,null,null,null,null,null,"施設数",null,null,null,null,"収容定員"]
["年",null,"  区",null," 0歳",null,null,"15歳",null,null,"25歳",null,null,"35歳",null,null,"45歳",null,null,"55歳",null,null,"65歳",null,null,"  人工林     広葉樹",null,null,null,{"$f":"データ一覧!H274","v":335.63},null,null," 竹               林",null,null,null,{"$f":"データ一覧!H277","v":72.56},null,null,null,"     金属","はん用機械",null,null,null,null,null,null,null,null,{"$f":"データ一覧!H356","v":0},null,null,null,{"$f":"+データ一覧!H381","v":0},null,null,null,null,null,null,{"$f":"データ一覧!H406","v":0},null,null,null,null,null,null,"生活保護施設",null,null,null,null,null,null,null,{"$f":"データ一覧!H564","v":0},null,null,null,{"$f":"データ一覧!H577","v":0},null,null,null,"人",null,"指定障害者支援施設",null,null,null,null,null,null,null,{"$f":"データ一覧!H570","v":1},null,null,null,{"$f":"データ一覧!H583","v":30},null,null,null,"人"]
["齢","令",null,null,null,"～",null,null,"～",null,null,"～",null,null,"～",null,null,"～",null,null,"～",null,null,null,null,null,null,null,null,null,null,null,null,null,null,null,null,null,null,null,"     一般機械","生産用機械",null,null,null,null,null,null,null,null,{"$f":"データ一覧!H357","v":1},null,null,null,{"$f":"+データ一覧!H382","v":6},null,null,null,null,null,null,{"$f":"データ一覧!H407","v":"x"},null,null,null,null,null,null,"地域福祉施設",null,null,null,null,null,null,null,{"$f":"データ一覧!H565","v":1},null,null,null,{"$f":"データ一覧!H578","v":0},null,null,null,null,null,"指定相談支援事業所",null,null,null,null,null,null,null,{"$f":"データ一覧!H571","v":3},null,null,null,{"$f":"データ一覧!H584","v":0}]
["階","元","  分",null,null,null,"14歳",null,null,"24歳",null,null,"34歳",null,null,"44歳",null,null,"54歳",null,null,"64歳",null,null,"以上","    林     野     の     構     成",null,null,null,null,null,null,"保     有     形     態     別",null,null,null,null,null,null,null,"     電気機械","業務用機械",null,null,null,null,null,null,null,null,{"$f":"データ一覧!H358","v":0},null,null,null,{"$f":"+データ一覧!H383","v":0},null,null,null,null,null,null,{"$f":"データ一覧!H408","v":0},null,null,null,null,null,null,"老人福祉施設",null,null,null,null,null,null,null,{"$f":"データ一覧!H566","v":11},null,null,null,{"$f":"データ一覧!H579","v":214},null,null,null,null,null,"児童福祉施設",null,null,null,null,null,null,null,{"$f":"データ一覧!H572","v":37},null,null,null,{"$f":"データ一覧!H585","v":2519}]
["級","・",null,null,null,null,"人",null,null,"人",null,"    人",null,null,"    人",null,null,"    人",null,null,"    人",null,null,"    人",null,null,null,null,null,null,null,"ha",null,null,null,null,null,"       ha",null,null,null,"電子・デバイス",null,null,null,null,null,null,null,null,{"$f":"データ一覧!H359","v":5},null,null,null,{"$f":"+データ一覧!H384","v":643},null,null,null,null,null,null,{"$f":"データ一覧!H409","v":2056963},null,null,null,null,null,null,"介護保険施設",null,null,null,null,null,null,null,{"$f":"データ一覧!H567","v":105},null,null,null,{"$f":"データ一覧!H580","v":2010},null,null,null,null,null,"母子福祉施設",null,null,null,null,null,null,null,{"$f":"データ一覧!H573","v":0},null,null,null,{"$f":"データ一覧!H586","v":0}]
["別","10","総 数",null,{"$f":"+E42+E43","v":8186},null,null,{"$f":"+H42+H43","v":5907},null,null,{"$f":"+K42+K43","v":5467},null,null,{"$f":"+N42+N43","v":7796},null,null,{"$f":"+Q42+Q43","v":8996},null,null,{"$f":"+T42+T43","v":8422},null,null,{"$f":"+W42+W43","v":18703},null,null," 無立木地   伐採跡地",null,null,null,{"$f":"データ一覧!H278","v":0.35},null,null,"国   　　　 　 有",null,null,null,{"$f":"データ一覧!H280","v":4794.99},null,null,null,null,"電気機械",null,null,null,null,null,null,null,null,{"$f":"データ一覧!H360","v":3},null,null,null,{"$f":"+データ一覧!H385","v":64},null,null,null,null,null,null,{"$f":"データ一覧!H410","v":381915},null,null,null,null,null,null,"障害者自立支援法施行前からの身体障害者福祉施設",null,null,null,null,null,null,null,{"$f":"データ一覧!H568","v":0},null,null,null,{"$f":"データ一覧!H581","v":0},null,null,null,null,null,"婦人保護施設",null,null,null,null,null,null,null,{"$f":"データ一覧!H574","v":0},null,null,null,{"$f":"データ一覧!H587","v":0}]
["人","・","  男",null,{"$f":"データ一覧!H79","v":4233},null,null,{"$f":"データ一覧!H80","v":3130},null,null,{"$f":"データ一覧!H81","v":2911},null,null,{"$f":"データ一覧!H82","v":4021},null,null,{"$f":"データ一覧!H83","v":4551},null,null,{"$f":"データ一覧!H84","v":4319},null,null,{"$f":"データ一覧!H85","v":8162},null,null," 無立木地   未立木地",null,null,null,{"$f":"データ一覧!H279","v":378.71999999999997},null,null,"公       　　  有",null,null,null,{"$f":"データ一覧!H281","v":1873.8799999999997},null,null,null,"     輸送機械","情報通信機械",null,null,null,null,null,null,null,null,{"$f":"データ一覧!H361","v":0},null,null,null,{"$f":"+データ一覧!H386","v":0},null,null,null,null,null,null,{"$f":"データ一覧!H411","v":0},null,null,null,null,null,null,null,null,null,null,null,null,null,null,null,null,null,null,null,null,null,null,null,null,"その他の社会福祉施設",null,null,null,null,null,null,null,{"$f":"データ一覧!H575+データ一覧!H576","v":2},null,null,null,{"$f":"データ一覧!H588+データ一覧!H589","v":0}]
["口","1","  女",null,{"$f":"データ一覧!H87","v":3953},null,null,{"$f":"データ一覧!H88","v":2777},null,null,{"$f":"データ一覧!H89","v":2556},null,null,{"$f":"データ一覧!H90","v":3775},null,null,{"$f":"データ一覧!H91","v":4445},null,null,{"$f":"データ一覧!H92","v":4103},null,null,{"$f":"データ一覧!H93","v":10541},null,null,null,null,null,null,null,null,null,"私          　 有",null,null,null,{"$f":"データ一覧!H282","v":13230.839999999995},null,null,null,"     精密機械","輸送機械",null,null,null,null,null,null,null,null,{"$f":"データ一覧!H362","v":4},null,null,null,{"$f":"+データ一覧!H387","v":54},null,null,null,null,null,null,{"$f":"データ一覧!H412","v":24242},null,null,null,null,null,null,"障害福祉サービス事業所",null,null,null,null,null,null,null,{"$f":"データ一覧!H569","v":37},null,null,null,{"$f":"データ一覧!H582","v":396}]
[null,null,null,null,null,null,null,null,null,null,null,null,null,null,null,null,null,null,null,null,null,null,null,null,null,"            林     産     物     生     産     量 ",null,null,null,null,null,null,null,null,null,{"$f":"データ一覧!$A$283","v":"元年中"},null,null,null,null,"     その他","その他",null,null,null,null,null,null,null,null,{"$f":"データ一覧!H363","v":5},null,null,null,{"$f":"+データ一覧!H388","v":189},null,null,null,null,null,null,{"$f":"データ一覧!H413","v":579369},null,null,null,null,null,null," １７  教　　　　　　　育",null,null,null,null,null,null,null,null,null,null,null,null,null,null,null,{"$f":"データ一覧!$A$590","v":"2.5.1"}]
["人口動態",null,null,null,null,null,null,"   自　然　動　態",null,null,null,null,null,"   社  会  動  態",null,null,null,null,null,{"$f":"データ一覧!$A74","v":"31.1.1～元.12.31"},null,null,null,null,null,"生椎茸",null,null,null,{"$f":"データ一覧!H283","v":1401},null,"㎏","乾椎茸",null,null,null,{"$f":"データ一覧!H284","v":"-"},null,"㎏"]
[null,null,"   区       分",null,null,null,null," 出   生",null,null," 死   亡",null,null," 転   入",null,null," 転   出",null,null," 婚   姻",null,null," 離   婚",null,null,"えのきだけ",null,null,null,{"$f":"データ一覧!H286","v":"-"},null,"㎏","なめこ",null,null,null,{"$f":"データ一覧!H285","v":67},null,"㎏",null,"    ","工　業　用　水　量",null,null,null,null,null,"（従業者30人以上の事業所）",null,null,null,null,null,null,null,null,null,null,{"$f":"データ一覧!H414","v":62761},null,null,null,null,"㎥／日",null,null,null,null,null,null,null,null,null,null,null,null,null,null,"学校数（校）",null,null,null,null,null,null,"教員数（人）",null,null,null,null,null,null,null,"学生・生徒・児童数（人）"]
[{"$f":"LEFT(データ一覧!$A70,7)","v":"元.10.1～"},null,null,null,null,null,null,"       人",null,null,"       人",null,null,"       人",null,null,"       人",null,null,null,"    件",null,null,"    件",null,"ひらたけ",null,null,null,{"$f":"+データ一覧!H287","v":"-"},null,"㎏","まいたけ",null,null,null,{"$f":"+データ一覧!H288","v":"-"},null,"㎏",null,null,null,null,null,null,null,null,null,null,null,null,null,null,null,null,null,null,null,null,null,null,null,null,null,null,null,null,null,null,"　","区分",null,null,null,null,null,null,null," 本 校",null,null," 分 校",null,null," 本   務",null,null,null," 兼   務",null,null,null," 総   数",null,null,null,"男",null,null,null,"女"]
["～",null," 実          数",null,null,null,null,{"$f":"データ一覧!H70","v":449},null,null,{"$f":"データ一覧!H71","v":769},null,null,{"$f":"データ一覧!H72","v":1873},null,null,{"$f":"データ一覧!H73","v":2088},null,null,{"$f":"データ一覧!H74","v":293},null,null,{"$f":"データ一覧!H75","v":114},null,null,null,null,null,null,null,null,null,null,null,null,null,null,null,null,null," １１ 　上　・　下　水　道",null,null,null,null,null,null,null,null,null,null,null,null,null,null,null,null,null,null,null,null,null,null,null,null,null,null,null,null,"小学校",null,null,null,null,null,null,null,null,{"$f":"データ一覧!H591","v":15},null,null,{"$f":"データ一覧!H592","v":0},null,null,{"$f":"データ一覧!H593","v":242},null,null,null,{"$f":"データ一覧!H594","v":45},null,null,null,{"$f":"データ一覧!H595","v":3496},null,null,null,{"$f":"データ一覧!H596","v":1777},null,null,null,{"$f":"データ一覧!H597","v":1719}]
[{"$f":"RIGHT(データ一覧!$A72,7)","v":"～2.9.30"},null,"比率(対1,000人)",null,null,null,null,{"$f":"+H48/I35*1000","v":6.7860651401798542},null,null,{"$f":"+K48/I35*1000","v":11.622459004005139},null,null,"- ",null,null,"- ",null,null,{"$f":"+T48/I35*1000","v":4.4283231315650271},null,null,{"$f":"+W48/I35*1000","v":1.7229653139877579},null,null,"  ６  漁               業",null,null,null,null,null,null,null,null,null,null,null,null,null,null,null,null,null,null,null,null,null,null,null,null,null,null,null,null,null,null,null,null,null,null,null,null,null,null,null,null,null,null,"  ","中学校",null,null,null,null,null,null,null,null,{"$f":"データ一覧!H599","v":7},null,null,{"$f":"データ一覧!H600","v":0},null,null,{"$f":"データ一覧!H601","v":143},null,null,null,{"$f":"データ一覧!H602","v":45},null,null,null,{"$f":"データ一覧!H603","v":1806},null,null,null,{"$f":"データ一覧!H604","v":942},null,null,null,{"$f":"データ一覧!H605","v":864}]
[null,null,null,null,null,null,null,null,null,null,null,null,null,null,null,null,null,null,null,null,null,null,null,null,null,null,null,null,null,null,null,null,null,null,null,null,null,null,null,null,"水 道 供 給 人 口",null,null,null,null,null,null,"上 水 道",null,null,null,"簡易水道",null,null,null,"専用水道",null,null,null,"飲料水供給施設",null,null,null,"下水道処理人口",null,null,null,null,"  ","高等学校",null,null,null,null,null,null,null,null,{"$f":"データ一覧!H607","v":4},null,null,{"$f":"データ一覧!H608","v":0},null,null,{"$f":"データ一覧!H609","v":142},null,null,null,{"$f":"データ一覧!H610","v":55},null,null,null,{"$f":"データ一覧!H611","v":1804},null,null,null,{"$f":"データ一覧!H612","v":1038},null,null,null,{"$f":"データ一覧!H613","v":766}]
["  ３  事　　業　　所（民　　営）    （平 28.6.1）",null,null,null,null,null,null,null,null,null,null,null,null,null,null,null,null,null,null,null,null,null,null,null,null,"漁船隻数・トン数",null,null,null,{"$f":"データ一覧!$A$289","v":"元.12.31"},null,null,null,"動　力　船",null,null,null,null,null,null,{"$f":"データ一覧!$A$415","v":"2.3.31"},null,null,null,null,null,"人",null,{"$f":"データ一覧!H415","v":63773},null,null,{"$f":"データ一覧!H416","v":0},null,null,null,null,{"$f":"データ一覧!H417","v":0},null,null,null,{"$f":"データ一覧!H418","v":0},null,null,null,{"$f":"データ一覧!H419","v":56005},null,null,null,"  ","大学・短期大学",null,null,null,null,null,null,null,null,{"$f":"データ一覧!H614","v":2},null,null,{"$f":"データ一覧!H615","v":0},null,null,{"$f":"データ一覧!H616","v":48},null,null,null,{"$f":"データ一覧!H617","v":22},null,null,null,{"$f":"データ一覧!H618","v":366},null,null,null,{"$f":"データ一覧!H619","v":130},null,null,null,{"$f":"データ一覧!H620","v":236}]
[null,null,null,null,null,null,null,null,null,null,null,null,null,null,null,null,null,null,null,null,null,null,null,null,null,"無動力船隻数",null,null,null,"船外機付漁船隻数",null,null,null,"隻　数",null,null,"総 ト ン 数",null,null,null,null,null,null,null,null,null,null,null,null,null,null,null,null,null,null,null,null,null,null,null,null,null,null,null,null,null,null,null,"  ","高等専門学校",null,null,null,null,null,null,null,null,{"$f":"データ一覧!H621","v":0},null,null,{"$f":"データ一覧!H622","v":0},null,null,{"$f":"データ一覧!H623","v":0},null,null,null,{"$f":"データ一覧!H624","v":0},null,null,null,{"$f":"データ一覧!H625","v":0},null,null,null,{"$f":"データ一覧!H626","v":0},null,null,null,{"$f":"データ一覧!H627","v":0}]
[null,null,null,null,null,null,null,"    総　　　　　数",null,null,null,null,null,"    民　　　　　営",null,null,null,null,null,"  国 ･ 地方公共団体",null,null,null,null,null,null,null,null,"隻",null,null,null,"隻",null,null,"隻",null,null,"t",null," １２  交   通　・　通   信",null,null,null,null,null,null,null,null,null,null,null,null,null,null,null,null,null,null,null,null,null,null,null,null,null,null,null,"  ","特別支援学校",null,null,null,null,null,null,null,null,{"$f":"データ一覧!H629","v":0},null,null,{"$f":"データ一覧!H630","v":0},null,null,{"$f":"+データ一覧!H631","v":0},null,null,null,{"$f":"+データ一覧!H632","v":0},null,null,null,{"$f":"+データ一覧!H633","v":0},null,null,null,{"$f":"+データ一覧!H634","v":0},null,null,null,{"$f":"+データ一覧!H635","v":0}]
["  　区　　　　　　分",null,null,null,null,null,null," 事業所数",null,null," 従業者数",null,null," 事業所数",null,null," 従業者数",null,null," 事業所数",null,null," 従業者数",null,null,{"$f":"データ一覧!$H$289","v":0},null,null,null,{"$f":"データ一覧!$H$290","v":65},null,null,null,{"$f":"データ一覧!H291","v":137},null,null,{"$f":"データ一覧!H292","v":660.03},null,null,null,null,null,null,null,null,null,null,null,null,null,null,null,null,null,null,null,null,null,null,null,null,null,null,null,null,null,null,null,"  ","幼稚園",null,null,null,null,null,null,null,null,{"$f":"データ一覧!H637","v":4},null,null,{"$f":"データ一覧!H638","v":0},null,null,{"$f":"データ一覧!H639","v":24},null,null,null,{"$f":"データ一覧!H640","v":11},null,null,null,{"$f":"データ一覧!$H$641","v":179},null,null,null,{"$f":"データ一覧!H642","v":85},null,null,null,{"$f":"データ一覧!H643","v":94}]
[null,null,null,null,null,null,null,null,null,null,"       人",null,null,null,null,null,"       人",null,null,null,null,null,"       人",null,null,"  男女別就業者数",null,null,null,null,null,null,null,{"$f":"データ一覧!$A$293","v":"30.11.1"},null,null,null,null,null,null,"道     路",null,null,null,"実 延 長",null,null,null,"国     道",null,null,null,"県     道",null,null,null,"市町道",null,null,null," 鉄 道 営 業 キ ロ 数",null,null,null,null,null,null,null,"  ","幼保連携認定こども園",null,null,null,null,null,null,null,null,{"$f":"データ一覧!H645","v":3},null,null,{"$f":"データ一覧!H646","v":0},null,null,{"$f":"データ一覧!H647","v":61},null,null,null,{"$f":"データ一覧!H648","v":20},null,null,null,{"$f":"データ一覧!H649","v":546},null,null,null,{"$f":"データ一覧!H650","v":254},null,null,null,{"$f":"データ一覧!H651","v":292}]
["総数",null,null,null,null,null,null,{"$f":"データ一覧!H95","v":"…"},null,null,{"$f":"データ一覧!H152","v":"…"},null,null,{"$f":"データ一覧!H96","v":3335},null,null,{"$f":"データ一覧!H153","v":31828},null,null,{"$f":"データ一覧!H97","v":"…"},null,null,{"$f":"データ一覧!H154","v":"…"},null,null,"総　　数",null,null,null,null,null,"男",null,null,null,"女",null,null,null,null,{"$f":"データ一覧!$A$420","v":"31.4.1"},null,null,null,{"$f":"データ一覧!H420","v":517.70499999999993},null,null,"㎞",{"$f":"データ一覧!H421","v":12.2},null,null,"㎞",{"$f":"データ一覧!H422","v":71.599999999999994},null,null,"㎞",{"$f":"データ一覧!H423","v":433.90499999999997},null,null,"km",{"$f":"データ一覧!$A$424","v":"2.4.1"},null,null,null,{"$f":"データ一覧!H424","v":30.245999999999999},null,null,"㎞","  ","各種学校",null,null,null,null,null,null,null,null,{"$f":"データ一覧!H653","v":3},null,null,{"$f":"データ一覧!H654","v":0},null,null,{"$f":"データ一覧!H655","v":33},null,null,null,{"$f":"データ一覧!H656","v":"-"},null,null,null,{"$f":"データ一覧!H657","v":226},null,null,null,{"$f":"データ一覧!H658","v":173},null,null,null,{"$f":"データ一覧!H659","v":53}]
["農林漁業",null,null,null,null,null,null,{"$f":"データ一覧!H98","v":"…"},null,null,{"$f":"データ一覧!H155","v":"…"},null,null,{"$f":"データ一覧!H99","v":4},null,null,{"$f":"データ一覧!H156","v":77},null,null,{"$f":"データ一覧!H100","v":"…"},null,null,{"$f":"データ一覧!H157","v":"…"},null,null,null,null,null,null,null,"人",null,null,"　　　　人",null,null,null,null,"  人",null,"自動車",null,null,null,null,null,null,null,null,"乗用車",null,null,null,null,null,null,null,null,null,null,null,null,null,null,null,null,null,null,"  ","専修学校",null,null,null,null,null,null,null,null,{"$f":"データ一覧!H661","v":0},null,null,{"$f":"データ一覧!H662","v":0},null,null,{"$f":"データ一覧!H663","v":0},null,null,null,{"$f":"データ一覧!H664","v":0},null,null,null,{"$f":"データ一覧!H665","v":0},null,null,null,{"$f":"データ一覧!H666","v":0},null,null,null,{"$f":"データ一覧!H667","v":0}]
["鉱業",null,null,null,null,null,null,{"$f":"データ一覧!H101","v":"…"},null,null,{"$f":"データ一覧!H158","v":"…"},null,null,{"$f":"データ一覧!H102","v":0},null,null,{"$f":"データ一覧!H159","v":0},null,null,{"$f":"データ一覧!H103","v":"…"},null,null,{"$f":"データ一覧!H160","v":"…"},null,null,{"$f":"AF58+AJ58","v":134},null,null,null,null,null,{"$f":"データ一覧!$H$294","v":121},null,null,null,{"$f":"データ一覧!H295","v":13},null,null,null,null,"台  数",null,null,null,"貨    物",null,null,null,"普     通",null,null,null,"小     型",null,null,null,"乗  合",null,null,"特  種",null,null,"小型二輪",null,null,"軽自動車",null,null," １８  衛　　　　　　　生"]
["建設業",null,null,null,null,null,null,{"$f":"データ一覧!H104","v":"…"},null,null,{"$f":"データ一覧!H161","v":"…"},null,null,{"$f":"データ一覧!H105","v":463},null,null,{"$f":"データ一覧!H162","v":3911},null,null,{"$f":"データ一覧!H106","v":"…"},null,null,{"$f":"データ一覧!H163","v":"…"},null,null,"　　　　海 面 漁 業 漁 獲 量 （属人）",null,null,null,null,null,null,null,{"$f":"データ一覧!$A$296","v":"30年中"},null,null,null,null,null,null,{"$f":"データ一覧!$A$425","v":"2.3.31"},null,null,null,null,{"$f":"データ一覧!H425","v":4647},null,null,null,{"$f":"データ一覧!H427","v":11921},null,null,null,{"$f":"データ一覧!H428","v":11543},null,null,{"$f":"データ一覧!H426","v":199},null,null,{"$f":"データ一覧!H429","v":1529},null,null,{"$f":"データ一覧!H430","v":869},null,null,{"$f":"データ一覧!H431","v":24794}]
["製造業",null,null,null,null,null,null,{"$f":"データ一覧!H107","v":"…"},null,null,{"$f":"データ一覧!H164","v":"…"},null,null,{"$f":"データ一覧!H108","v":170},null,null,{"$f":"データ一覧!H165","v":3953},null,null,{"$f":"データ一覧!H109","v":"…"},null,null,{"$f":"データ一覧!H166","v":"…"},null,null,null,null,null,null,null,"       ","ｔ",null,null,null,null,null,null,"t",null,null,null,"     ",null,"郵　便　局　数",null,null,null,null,null,null,null,null,null,null,null,null,null,null,null,"一般加入",null,null,null,"ＩＮＳネット",null,null,null,null,null,null,null,"医療関係施設",null,null,null,null,null,{"$f":"データ一覧!$A$668","v":"元.10.1"},null,null,null,null,null,null,"および医療関係者数",null,null,null,null,null,null,null,{"$f":"データ一覧!$A$673","v":"30.12.31"}]
["電気・ｶﾞ ｽ・熱供給・水道業",null,null,null,null,null,null,{"$f":"データ一覧!H110","v":"…"},null,null,{"$f":"データ一覧!H167","v":"…"},null,null,{"$f":"データ一覧!H111","v":9},null,null,{"$f":"データ一覧!H168","v":524},null,null,{"$f":"データ一覧!H112","v":"…"},null,null,{"$f":"データ一覧!H169","v":"…"},null,null,"   総　　　　　　数",null,null,null,{"$f":"データ一覧!H296","v":503},null,null,"   藻　　　　　　類",null,null,null,{"$f":"データ一覧!H299","v":2},null,null,null,"通  信",null,null,null," 総     数",null,null,null,null,null," 郵 便 局",null,null,null,null," 簡 易 局",null,null,null,null,"電話数",null,null,null,"加入数",null,null,null,null,null,null,null,null,null,"　","病",null,null,"院",null,"　",null,null,null,null," ","一般診療所",null,null,null,null,null,null,null,null,null,null,null,"歯科診療所"]
["情報通信業",null,null,null,null,null,null,{"$f":"データ一覧!H113","v":"…"},null,null,{"$f":"データ一覧!H170","v":"…"},null,null,{"$f":"データ一覧!H114","v":24},null,null,{"$f":"データ一覧!H171","v":216},null,null,{"$f":"データ一覧!H115","v":"…"},null,null,{"$f":"データ一覧!H172","v":"…"},null,null,"   魚　　　　　　類",null,null,null,{"$f":"データ一覧!H297","v":420},null,null,"   そ　   の　　 他",null,null,null,{"$f":"データ一覧!H300","v":71},null,null,null,{"$f":"データ一覧!$A$435","v":"2.3.31"},null,null,null,{"$f":"データ一覧!H432","v":12},null,null,null,null,null,{"$f":"データ一覧!H433","v":11},null,null,null,null,{"$f":"データ一覧!H434","v":1},null,null,null,null,{"$f":"データ一覧!H435","v":7549},null,null,null,{"$f":"データ一覧!H436","v":1353},null,null,null," ","医療関係",null,null,null,null,null,null,null,null,null,null,null,"一般病院",null,null,null,null,null,null,null,null,null,null,null,"有",null,null,"床"]
["運輸業、郵便業",null,null,null,null,null,null,{"$f":"データ一覧!H116","v":"…"},null,null,{"$f":"データ一覧!H173","v":"…"},null,null,{"$f":"データ一覧!H117","v":92},null,null,{"$f":"データ一覧!H174","v":2182},null,null,{"$f":"データ一覧!H118","v":"…"},null,null,{"$f":"データ一覧!H175","v":"…"},null,null,"   貝　　　　　　類",null,null,null,{"$f":"データ一覧!H298","v":10},null,null,null,null,null,null,null,null,null,null,null,null,null,null,null,null,null,null,null,null,null,null,null,null,null,null,null,null,null,null,null,null,null,null,null,null,null,null,null,"施設数",null,null,null,null,null,null,{"$f":"データ一覧!H668","v":5},null,null,null,null,null,{"$f":"データ一覧!H669","v":3},null,null,null,null,null,{"$f":"データ一覧!H670","v":47},null,null,null,null,null,{"$f":"データ一覧!H671","v":3},null,null,null,null,null,{"$f":"データ一覧!H672","v":23}]
["卸売業、小売業",null,null,null,null,null,null,{"$f":"データ一覧!H119","v":"…"},null,null,{"$f":"データ一覧!H176","v":"…"},null,null,{"$f":"データ一覧!H120","v":875},null,null,{"$f":"データ一覧!H177","v":6007},null,null,{"$f":"データ一覧!H121","v":"…"},null,null,{"$f":"データ一覧!H178","v":"…"},null,null,null,null,null,null,null,null,null,null,null,null,null,null,null,null,null," １３  税　　・　　財　　政",null,null,null,null,null,null,null,null,null,null,null,null,null,null,null,null,null,null,null,null,null,null,null,null,null,null,null,null,null,null,null,null,null,null,"医師",null,null,null,null,"歯科医師",null,null,null,null,"薬剤師",null,null,null,null,"保健師",null,null,null,null,"助産師",null,null," ",null,"看護師",null,null," "]
["金融業、保険業",null,null,null,null,null,null,{"$f":"データ一覧!H122","v":"…"},null,null,{"$f":"データ一覧!H179","v":"…"},null,null,{"$f":"データ一覧!H123","v":56},null,null,{"$f":"データ一覧!H180","v":639},null,null,{"$f":"データ一覧!H124","v":"…"},null,null,{"$f":"データ一覧!H181","v":"…"},null,null,"  ７  商        　　　業 ",null,null,null,null,null,null,{"$f":"データ一覧!$A$301","v":"28.6.1(平成27年実績）"},null,null,null,null,null,null,null,null,null,null,null,null,null,null,null,null,null,null,null,null,null,null,null,null,null,null,null,null,null,null,null,null,null,null,null," ","医療",null,null,null,null,null,null,null,null,"人",null,null,null,null,"人",null,null,null,null,"人",null,null,null,null,"人",null,null,null,null,"人",null,null,null,null,"人"]
["不動産業、物品賃貸業",null,null,null,null,null,null,{"$f":"データ一覧!H125","v":"…"},null,null,{"$f":"データ一覧!H182","v":"…"},null,null,{"$f":"データ一覧!H126","v":107},null,null,{"$f":"データ一覧!H183","v":538},null,null,{"$f":"データ一覧!H127","v":"…"},null,null,{"$f":"データ一覧!H184","v":"…"},null,null,null,null,null,null,null,null,null,null,null,null,null,null,null,null,null,"           ",null,null,null,"歳入",null,null,null,null,null,null,null,null,"(千円）"," ",null,null,null,"歳出",null,null,null,null,null,null,null,null,"(千円）",null,"関係者",null,null,null,null,{"$f":"データ一覧!H673","v":126},null,null,null,null,{"$f":"データ一覧!H674","v":35},null,null,null,null,{"$f":"データ一覧!H675","v":130},null,null,null,null,{"$f":"データ一覧!H676","v":54},null,null,null,null,{"$f":"データ一覧!H677","v":37},null,null,null,null,{"$f":"データ一覧!H678","v":1033}]
["学術研究、専門・技術ｻｰﾋﾞｽ業",null,null,null,null,null,null,{"$f":"データ一覧!H128","v":"…"},null,null,{"$f":"データ一覧!H185","v":"…"},null,null,{"$f":"データ一覧!H129","v":136},null,null,{"$f":"データ一覧!H186","v":1765},null,null,{"$f":"データ一覧!H130","v":"…"},null,null,{"$f":"データ一覧!H187","v":"…"},null,null,"  産   業　 分　 類",null,null,null,"  商　 店 　数",null,null," 従　業　者　数",null,null,"年　間　販　売　額",null,null,null,null,"一人当たり歳入歳出予算決算額",null,null,null,null,null,null,null,null,null,null,null,null,null,null,null,null,null,null,null,null,null,null,null,null,null,null,null,"                   ",null,null,null,null,null,null,null,null,"死因別死亡数　　　　　　    ",null,null,null,null,null,null,null,null,null,null,null,null,null,null,null,{"$f":"データ一覧!$A$679","v":"元年中"},null,null,null,null,null,null,null,null,"      単 位：人"]
["宿泊業、飲食サービス業",null,null,null,null,null,null,{"$f":"データ一覧!H131","v":"…"},null,null,{"$f":"データ一覧!H188","v":"…"},null,null,{"$f":"データ一覧!H132","v":569},null,null,{"$f":"データ一覧!H189","v":3423},null,null,{"$f":"データ一覧!H133","v":"…"},null,null,{"$f":"データ一覧!H190","v":"…"},null,null,null,null,null,null,null,"        店",null,null,null,"　人",null,"         百万円",null,null,null,"区分",null,null,null,{"$f":"データ一覧!$A$445","v":"2年度"},null,null,null,null,{"$f":"データ一覧!$A$459","v":"元年度"},null,null,null,null,"区分",null,null,null,{"$f":"+AS68","v":"2年度"},null,null,null,null,{"$f":"データ一覧!$A$459","v":"元年度"},null,null,null,null," 死     因",null,null,null,null,null,null,null,null,null,null,null,"悪  性",null,null,"高血圧",null,null,null,null,null,"脳血管",null,null,null,null,null," ",null,null,"不慮の事故"]
["生活関連サービス業、娯楽業",null,null,null,null,null,null,{"$f":"データ一覧!H134","v":"…"},null,null,{"$f":"データ一覧!H191","v":"…"},null,null,{"$f":"データ一覧!H135","v":275},null,null,{"$f":"データ一覧!H192","v":1224},null,null,{"$f":"データ一覧!H136","v":"…"},null,null,{"$f":"データ一覧!H193","v":"…"},null,null,"総　　　　　　計",null,null,null,{"$f":"データ一覧!$H$301","v":735},null,null,{"$f":"データ一覧!H310","v":5066},null,null,{"$f":"データ一覧!H319","v":156769},null,null,null,null,null,null,null,null,{"$f":"データ一覧!H441","v":562023.55369961995},null,null,null,null,{"$f":"データ一覧!H442","v":526048},null,null,null,null,null,null,null,null,{"$f":"データ一覧!H443","v":562023.55369961995},null,null,null,null,{"$f":"データ一覧!H444","v":497081.73837515898},null,null,null,null,null,null,null,null,null,"全 死 因",null,null,null,"結 核",null,null,"新生物",null,null,"性疾患",null,null,"心疾患",null,null,"疾  患",null,null,"肺  炎",null,null,"老  衰",null,null,null,null," ","交通事故"]
["教育、学習支援業",null,null,null,null,null,null,{"$f":"データ一覧!H137","v":"…"},null,null,{"$f":"データ一覧!H194","v":"…"},null,null,{"$f":"データ一覧!H138","v":70},null,null,{"$f":"データ一覧!H195","v":509},null,null,{"$f":"データ一覧!H139","v":"…"},null,null,{"$f":"データ一覧!H196","v":"…"},null,null,"卸売業",null,null,null,{"$f":"データ一覧!H302","v":152},null,null,{"$f":"データ一覧!H311","v":1148},null,null,{"$f":"データ一覧!H320","v":75791},null,null,null,null,"項目別歳入歳出予算決算額"]
["医療、福祉",null,null,null,null,null,null,{"$f":"データ一覧!H140","v":"…"},null,null,{"$f":"データ一覧!H197","v":"…"},null,null,{"$f":"データ一覧!H141","v":201},null,null,{"$f":"データ一覧!H198","v":3682},null,null,{"$f":"データ一覧!H142","v":"…"},null,null,{"$f":"データ一覧!H199","v":"…"},null,null,"小売業",null,null,null,{"$f":"データ一覧!H303","v":583},null,null,{"$f":"データ一覧!H312","v":3918},null,null,{"$f":"データ一覧!H321","v":80978},null,null,null,null,"区分",null,null,null,{"$f":"データ一覧!$A$445","v":"2年度"},null,null,null,null,{"$f":"データ一覧!$A$459","v":"元年度"},null,null,null,null,"区分",null,null,null,{"$f":"+AS71","v":"2年度"},null,null,null,null,{"$f":"データ一覧!$A$459","v":"元年度"},null,null,null,null,null,null,null,null,null,{"$f":"データ一覧!H679","v":760},null,null,null,"   －",{"$f":"データ一覧!H680","v":0},null,{"$f":"データ一覧!H681","v":187},null,null,null,{"$f":"データ一覧!H682","v":14},null,{"$f":"データ一覧!H683","v":112},null,null,{"$f":"データ一覧!H684","v":48},null,null,{"$f":"データ一覧!H685","v":44},null,null,{"$f":"データ一覧!H686","v":102},null,null,{"$f":"データ一覧!H687","v":19},null,null,{"$f":"データ一覧!H688","v":1}]
["複合サービス事業",null,null,null,null,null,null,{"$f":"データ一覧!H143","v":"…"},null,null,{"$f":"データ一覧!H200","v":"…"},null,null,{"$f":"データ一覧!H144","v":17},null,null,{"$f":"データ一覧!H201","v":381},null,null,{"$f":"データ一覧!H145","v":"…"},null,null,{"$f":"データ一覧!H202","v":"…"},null,null,"各種商品",null,null,null,{"$f":"データ一覧!H304","v":3},null,null,{"$f":"データ一覧!H313","v":342},null,null,{"$f":"データ一覧!H322","v":7877},null,null,null,null,"総額",null,null,null,{"$f":"SUM(AS73:AW85)","v":35935224},null,null,null,null,{"$f":"SUM(AX73:BB85)","v":33916408},null,null,null,null,"総額",null,null,null,{"$f":"SUM(BG73:BK85)","v":35935224},null,null,null,null,{"$f":"SUM(BL73:BP85)","v":32048848},null,null,null,null," １９  警　察　・　消　防  ",null,null,null,null,null,null,null,null,null,null,null,null,null,null,{"$f":"+データ一覧!$A689","v":"2.4.1"}]
["サービス業",null,null,null,null,null,null,{"$f":"データ一覧!H146","v":"…"},null,null,{"$f":"データ一覧!H203","v":"…"},null,null,{"$f":"データ一覧!H147","v":267},null,null,{"$f":"データ一覧!H204","v":2797},null,null,{"$f":"データ一覧!H148","v":"…"},null,null,{"$f":"データ一覧!H205","v":"…"},null,null,"織物・衣服・身の回り品",null,null,null,{"$f":"データ一覧!H305","v":90},null,null,{"$f":"データ一覧!H314","v":294},null,null,{"$f":"データ一覧!H323","v":3627},null,null,null,null,"地方税",null,null,null,{"$f":"データ一覧!H446","v":12542876},null,null,null,null,{"$f":"データ一覧!H460","v":13444336},null,null,null,null,"議会費",null,null,null,{"$f":"データ一覧!H474","v":289433},null,null,null,null,{"$f":"データ一覧!H488","v":274311}]
["公務",null,null,null,null,null,null,{"$f":"データ一覧!H149","v":"…"},null,null,{"$f":"データ一覧!H206","v":"…"},null,null,{"$f":"データ一覧!H150","v":"…"},null,null,{"$f":"データ一覧!H207","v":"…"},null,null,{"$f":"データ一覧!H151","v":"…"},null,null,{"$f":"データ一覧!H208","v":"…"},null,null,"飲食料品",null,null,null,{"$f":"データ一覧!H306","v":180},null,null,{"$f":"データ一覧!H315","v":1425},null,null,{"$f":"データ一覧!H324","v":23405},null,null,null,null,"地方譲与税",null,null,null,{"$f":"データ一覧!H447","v":220677},null,null,null,null,{"$f":"データ一覧!H461","v":218884},null,null,null,null,"総務費",null,null,null,{"$f":"データ一覧!H475","v":8742840},null,null,null,null,{"$f":"データ一覧!H489","v":5262732},null,null,null,null,null,null,null,null,null,null,null,null,null,null,"交番・駐在所",null,null,null,null,null,null,null,null,"刑法犯認知件数",null,null,null,null,null,null,null,null,"交通人身事故発生件数"]
["  ４  農        　　　業 ",null,null,null,null,null,null,null,null,null,null,null,null,null,null,null,null,null,null,null,null,null,null,null,null,"機械器具",null,null,null,{"$f":"データ一覧!H307","v":91},null,null,{"$f":"データ一覧!H316","v":652},null,null,{"$f":"データ一覧!H325","v":19293},null,null,null,null,"各種交付金",null,null,null,{"$f":"データ一覧!H448","v":1548000},null,null,null,null,{"$f":"データ一覧!H462","v":1347845},null,null,null,null,"民生費",null,null,null,{"$f":"データ一覧!H476","v":9960882},null,null,null,null,{"$f":"データ一覧!H490","v":10207461},null,null,null,null,null,"警察署数",null,null,null,null,null,null,null,null,"検問所数",null,null,null,null,null,null,null,null,null,{"$f":"データ一覧!$A$691","v":"元年中"},null,null,null,null,null,null,null,null,{"$f":"データ一覧!$A$691","v":"元年中"}]
[null,null,null,null,null,null,null,null,null,null,null,null,null,null,null,null,null,null,null,null,null,null,null,null,null,"その他",null,null,null,{"$f":"データ一覧!H308","v":205},null,null,{"$f":"データ一覧!H317","v":1120},null,null,{"$f":"データ一覧!H326","v":22895},null,null,null,null,"地方特例交付金",null,null,null,{"$f":"データ一覧!H449","v":60000},null,null,null,null,{"$f":"データ一覧!H463","v":207799},null,null,null,null,"衛生費",null,null,null,{"$f":"データ一覧!H477","v":3157762},null,null,null,null,{"$f":"データ一覧!H491","v":2730291},null,null,null,null,null,null,null,null,null,null,null,null,null,null,null,null,null,null,null,null,null,null,null,null,null,null,null,null," 件",null,null,null,null,null,null,null,null,"　件"]
[null,null,"農家人口と世帯員数(販売農家)",null,null,null,null,null,null,null,"農家世帯の就業状態（販売農家）",null,null,null,null,null,null,null,null,null,null,null,null,null,null,"無店舗",null,null,null,{"$f":"データ一覧!H309","v":14},null,null,{"$f":"データ一覧!H318","v":85},null,null,{"$f":"データ一覧!H327","v":3881},null,null,null,null,"地方交付税",null,null,null,{"$f":"データ一覧!H450","v":1350000},null,null,null,null,{"$f":"データ一覧!H464","v":1375948},null,null,null,null,"労働費",null,null,null,{"$f":"データ一覧!H478","v":137627},null,null,null,null,{"$f":"データ一覧!H492","v":137471},null,null,null,null,null,null,{"$f":"データ一覧!H689","v":1},null,null,null,null,null,null,null,null,{"$f":"データ一覧!H690","v":8},null,null,null,null,null,null,null,null,{"$f":"データ一覧!H691","v":324},null,null,null,null,null,null,null,null,{"$f":"データ一覧!H692","v":103}]
["農","平",null,null,null,null,null,null,null,null,"農業従事者",null,null,null,null,null,null,null,null,"非農業従事",null,null,"農業従事者",null,null,null,null,null,null,null,null,null,null,null,null,null,null,null,null,null,"分担金および負担金",null,null,null,{"$f":"データ一覧!H451","v":365545},null,null,null,null,{"$f":"データ一覧!H465","v":383925},null,null,null,null,"農林水産業費",null,null,null,{"$f":"データ一覧!H479","v":445952},null,null,null,null,{"$f":"データ一覧!H493","v":427783},null,null,null,null,"火災発生件数",null,null,null,null,null,null,null,null,null,"林野焼損",null,null,null,null,"損      害",null,null,null,null,"消 防 自",null,null,null,"その他の",null,null,null," ",null,null,null,null," "]
["家",{"$f":"+LEFT(データ一覧!$A$209,2)","v":"27"},"区分",null,"農家人口",null,null,"15歳以上の",null,null,null,null,null,"農業就業人口",null,null,null,null,null,"者",null,null,"の平均年齢",null,null,"  ８  住　　　　　　 　宅",null,null,null,null,null,null,null,null,null,null,null,null,null,null,"使用料および手数料",null,null,null,{"$f":"データ一覧!H452","v":548246},null,null,null,null,{"$f":"データ一覧!H466","v":613876},null,null,null,null,"商工費",null,null,null,{"$f":"データ一覧!H480","v":1183426},null,null,null,null,{"$f":"データ一覧!H494","v":2400629},null,null,null,null,{"$f":"+データ一覧!$A$693","v":"元年中"},null,null,null,null,"焼損棟数",null,null,null,null,"面    積",null,null,null,null,"見  積  額",null,null,null,null,"動 車 数",null,null,null,"ﾎﾟﾝﾌﾟ数",null,null,null," 消防吏員",null,null,null," 消防団員"]
["人就 ","・",null,null,null,null,null,"世帯員数",null,null,null,null,null,null,null,null,"基幹的農業",null,null,null,null,null,null,null,null,null,null,null,null,null,null,null,null,null,null,null,null,null,null,null,"国庫支出金",null,null,null,{"$f":"データ一覧!H453","v":6113630},null,null,null,null,{"$f":"データ一覧!H467","v":5827877},null,null,null,null,"土木費",null,null,null,{"$f":"データ一覧!H481","v":3271385},null,null,null,null,{"$f":"データ一覧!H495","v":3802319},null,null,null,null,"         件",null,null,null,null,null,"      棟",null,null,null,null,null,null,"  ａ",null,null,null,"  千円",null,null,"        ",null,null,null,null,null,null,null,null,null,"  人",null,null,null,"  人"]
["口業 ",{"$f":"+MID(データ一覧!$A$209,4,1)","v":"2"},null,null,null,null,"人",null,null,"人",null,null,"人",null,null,"人","従事者",null,"人",null,null,"人",null,null,"歳",{"$f":"+データ一覧!$A$328","v":"30年"},null,null,null,null,{"$f":"データ一覧!$A$331","v":"元年"},"中の増減",null,null,null,{"$f":"+データ一覧!$A$331","v":"元年"},null,null,null,null,"県支出金",null,null,null,{"$f":"データ一覧!H454","v":2636709},null,null,null,null,{"$f":"データ一覧!H468","v":2937023},null,null,null,null,"消防費",null,null,null,{"$f":"データ一覧!H482","v":1089496},null,null,null,null,{"$f":"データ一覧!H496","v":1246741},null,null,null,null,null,{"$f":"データ一覧!H693","v":12},null,null,null,null,{"$f":"データ一覧!H694","v":6},null,null,null,null,{"$f":"データ一覧!H695","v":0},null,null,null,{"$f":"データ一覧!H696","v":18616},null,null,null,null,null,{"$f":"データ一覧!H697","v":21},null,null,null,{"$f":"データ一覧!H698","v":12},null,null,null,{"$f":"データ一覧!H699","v":109},null,null,null,{"$f":"データ一覧!H700","v":274}]
["と状 ","・"," 総数",null,{"$f":"データ一覧!H209","v":1828},null,null,{"$f":"データ一覧!H212","v":1692},null,null,{"$f":"データ一覧!H215","v":1224},null,null,{"$f":"データ一覧!H218","v":646},null,null,{"$f":"データ一覧!H221","v":515},null,null,{"$f":"データ一覧!H224","v":468},null,null,{"$f":"データ一覧!H227","v":61.4},null,null,null,null,null,null,"建設した住宅",null,null,"消失した住宅",null,null,null,null,null,null,null,"財産収入",null,null,null,{"$f":"データ一覧!H455","v":16695},null,null,null,null,{"$f":"データ一覧!H469","v":102539},null,null,null,null,"教育費",null,null,null,{"$f":"データ一覧!H483","v":5651222},null,null,null,null,{"$f":"データ一覧!H497","v":3607761},null,null,null,null," ２０  そ　　　の　　　他　"]
["  況 ",{"$f":"+RIGHT(データ一覧!$A$209,1)","v":"1"},"　男",null,{"$f":"データ一覧!H210","v":893},null,null,{"$f":"データ一覧!H213","v":825},null,null,{"$f":"データ一覧!H216","v":664},null,null,{"$f":"データ一覧!H219","v":311},null,null,{"$f":"データ一覧!H222","v":285},null,null,{"$f":"データ一覧!H225","v":161},null,null,{"$f":"データ一覧!H228","v":60.2},null,null,null,null,null,null,null,null,null,null,null,null,null,null,null,null,null,"繰入金",null,null,null,{"$f":"データ一覧!H456","v":1483648},null,null,null,null,{"$f":"データ一覧!H470","v":981358},null,null,null,null,"災害復旧費",null,null,null,{"$f":"データ一覧!H484","v":4000},null,null,null,null,{"$f":"データ一覧!H498","v":0}]
[null,null,"　女",null,{"$f":"データ一覧!H211","v":935},null,null,{"$f":"データ一覧!H214","v":867},null,null,{"$f":"データ一覧!H217","v":560},null,null,{"$f":"データ一覧!H220","v":335},null,null,{"$f":"データ一覧!H223","v":230},null,null,{"$f":"データ一覧!H226","v":307},null,null,{"$f":"データ一覧!H229","v":62.8},null,null,null,{"$f":"データ一覧!H328","v":24774},null,"戸",{"$f":"データ一覧!H329","v":578},null,"戸",{"$f":"データ一覧!H330","v":254},null,"戸",null,{"$f":"データ一覧!H331","v":25098},null,"戸",null,"地方債",null,null,null,{"$f":"データ一覧!H457","v":7309400},null,null,null,null,{"$f":"データ一覧!H471","v":3012300},null,null,null,null,"公債費",null,null,null,{"$f":"データ一覧!H485","v":1981199},null,null,null,null,{"$f":"データ一覧!H499","v":1951349},null,null,null,null,null,null,null,null,null,"気比の松原、柴田氏庭園、西福寺書院庭園、西福寺御影堂・阿弥陀堂・書院及び\n庫裏、金ヶ崎城跡、武田耕雲斎等墓、氣比神宮大鳥居、朝鮮鐘、疋壇城跡、\n穴地蔵古墳、立洞古墳、中郷古墳群、洲崎の高燈籠、玄蕃尾城跡、\n旧大和田銀行本店本館、旧紐育スタンダード石油会社倉庫（赤レンガ倉庫）、\n旧敦賀倉庫株式会社新港第一号・第二号・第三号倉庫"]
[null,null,null,null,null,null,null,null,null,null,null,null,null,null,null,null,null,null,null,null,null,null,null,null,null,null,null,null,null,null,null,null,null,null,null,null,null,null,null,null,"その他",null,null,null,{"$f":"データ一覧!H458","v":1739798},null,null,null,null,{"$f":"データ一覧!H472","v":3462698},null,null,null,null,"その他",null,null,null,{"$f":"データ一覧!H486","v":20000},null,null,null,null,{"$f":"データ一覧!H500","v":0},null,null,null,null,"　名所・旧跡"]
[null,null,"総農家数等",null,null,null,null,null,null,"専兼業別（販売農家）",null,null,null,null,null,null,null,"経営面積規模別（販売農家）",null,null,null,null,null,null,null,null,null,null,null,null,null,null,null,null,null,null,null,null,null,null,null,null,null,null,null,null,null,null,null,null,null,null,null,null,null,null,null,null,null,null,null,null,null,null,null,null,null,null,"  文化財等"]
[null,"平","区　分",null,null,null,"戸数（戸）",null,null,"区　分",null,null,null,null,"戸数（戸）",null,null,"区　　分",null,null,null,null,"戸数（戸）",null,null,"  ９  議　 員　・　職 　員",null,null,null,null,null,null,null,null,null,null,null,null,null,null," １４  文　　　　　　化",null,null,null,null,null,null,null,null,null," ( ",{"$f":"データ一覧!$A$507","v":"2.3.31"},null,null,null,"ただし図書館・公民館・児童館",null,null,null,null,null,null,null,{"$f":"データ一覧!$A$501","v":"2.4.1"}]
["農",{"$f":"+LEFT(データ一覧!$A$230,2)","v":"27"},"総農家",null,null,null,{"$f":"データ一覧!H230","v":975},null,null,"総数",null,null,null,null,{"$f":"データ一覧!H236","v":502},null,null,"総数",null,null,null,null,{"$f":"データ一覧!H241","v":502},null,null,null,null,null,null,null,null,null,null,null,null,null,null,null,null,null,null,null,null,null,null,null,null,null,null,null,null,null,null,null,null,null,"　宗教法人数 ",null,null,null,null,null,null,{"$f":"データ一覧!$A$509","v":"元.12.31"},null,null,null,"）"]
["家","・","販売農家",null,null,null,{"$f":"データ一覧!H231","v":502},null,null,"専業農家",null,null,null,null,{"$f":"データ一覧!H237","v":133},null,null,"0.5 ha 未満",null,null,null,null,{"$f":"データ一覧!H242","v":162},null,null," 市 町 村 議 会",null,null,"有権者数",null,{"$f":"データ一覧!$A$335","v":"2.9.1"},null,"市 町 村 議 会",null,null,"  職      員      数",null,null,null,null,null,null,null,null,null,"図書館",null,null,null,null,null,"公　民　館",null,null,null,null,null,null,null,null,null,null," 社会教育学級講座",null,null,null,null,null,"　　特産物",null,null,null,null,"昆布加工品、かまぼこ、越前かに、敦賀ふぐ、敦賀真鯛、杉箸アカカンバ、\n古田苅かぶら、黒河マナ、東浦みかん、豆らくがん、かたパン、敦賀ラーメン、ソースカツ丼"]
["数",{"$f":"+MID(データ一覧!$A$230,4,1)","v":"2"},null,"主業",null,null,{"$f":"データ一覧!H232","v":27},null,null,"兼業農家",null,null,null,null,{"$f":"データ一覧!H238","v":369},null,null,"0.5 ha ～ 1.0 ha",null,null,null,null,{"$f":"データ一覧!H243","v":182},null,null," 議  員  定  数",null,null,"    男",null,"    女",null,"選 挙 投 票 率",null,null," 総     数",null,"一般行政職",null,null,"公    共",null,null,null," 館  数",null,null," 図書数",null,null," 本  館",null,null," 分  館",null,null," 公  園",null,null," 児童館",null,null,"学級講座数",null,null,"受講者数"]
[null,"・",null,"準主業",null,null,{"$f":"データ一覧!H233","v":104},null,null,null,"第１種兼業",null,null,null,{"$f":"データ一覧!H239","v":20},null,null,"1.0 ha ～ 1.5 ha",null,null,null,null,{"$f":"データ一覧!H244","v":80},null,null,null,null,"人",null,"人",null,"人",null,null,"　％",null,"人",null,"人",null,"施 設 数",null,null,null,null,{"$f":"データ一覧!H501","v":1},null,{"$f":"データ一覧!H502","v":274644},null,null,null,{"$f":"データ一覧!H503","v":9},null,{"$f":"データ一覧!H504","v":0},null,null,{"$f":"データ一覧!H505","v":40},null,null,{"$f":"データ一覧!H506","v":3},null,null,{"$f":"データ一覧!H507","v":567},null,null,{"$f":"データ一覧!H508","v":9259},null,null," 　年中行事",null,null,null,null,"敦賀西町の綱引き､花換まつり､沓見御田植祭､総参祭､とうろう流しと大花火大会､\n氣比神宮例大祭敦賀まつり、赤崎の獅子舞、相撲甚句、菊花大会、厄除せんべい焼､\n彼岸祭、野坂だのせ祭、御船遊管絃祭、昆沙講"]
[null,{"$f":"+RIGHT(データ一覧!$A$230,1)","v":"1"},null,"副業的",null,null,{"$f":"データ一覧!H234","v":371},null,null,null,"第２種兼業",null,null,null,{"$f":"データ一覧!H240","v":349},null,null,"1.5 ha ～ 2.0 ha",null,null,null,null,{"$f":"データ一覧!H245","v":27},null,null,null,{"$f":"データ一覧!H332","v":24},null,{"$f":"データ一覧!H335","v":26576},null,{"$f":"データ一覧!H336","v":27451},null,{"$f":"データ一覧!H334","v":"無投票"},null,null,{"$f":"データ一覧!H337","v":1018},null,{"$f":"データ一覧!H338","v":353},null,null,"宗    教",null,null,null," 仏教系",null,null,"ｷﾘｽﾄ教系",null,null,"神道諸派",null,null,"公会堂・市民会館",null,null,null,null,null," テレビ",null,null,"衛星放送契約数"]
[null,null,"自給的農家",null,null,null,{"$f":"データ一覧!H235","v":473},null,null,null,null,null,null,null,null,null,null,"2.0 ha 以上",null,null,null,null,{"$f":"データ一覧!H246","v":51},null,null,null,null,null,null,null,null,null,{"$f":"データ一覧!H333","v":"31.4.21"},null,null,null,null,null,null,null,"法 人 数",null,null,null,{"$f":"データ一覧!H509","v":127},null,null,{"$f":"データ一覧!H510","v":6},null,null,{"$f":"データ一覧!H511","v":106},null,null,{"$f":"データ一覧!H512","v":2},null,null,null,null,null,"      等",null,null,{"$f":"データ一覧!H513","v":15768}]

{"sheet":"小浜市","index":7,"n_rows":93,"n_cols":104,"rows_kept":93,"cut":false,"hidden":false,"merged":[[83,73,87,103],[65,40,65,43],[68,80,68,82],[65,74,65,77],[65,79,65,82],[33,8,33,10],[33,11,33,13],[57,40,57,43],[33,18,33,19],[32,5,32,7],[33,14,33,16],[17,25,17,27],[18,25,18,27],[88,73,90,103],[65,58,65,64],[66,40,66,67],[67,44,67,48],[67,49,67,53],[67,54,67,57],[73,58,73,62],[68,44,68,48],[68,49,68,53],[71,68,72,83],[76,79,76,82],[76,88,76,91],[76,97,76,100],[73,78,73,84],[73,87,73,93],[68,54,68,57],[68,58,68,62],[73,96,73,102],[74,69,74,75],[74,78,74,84],[74,88,74,92],[74,97,74,101],[70,98,70,100],[70,101,70,103],[30,14,30,16],[30,5,30,7],[30,18,30,19],[30,20,30,21],[31,18,31,19],[35,41,35,47],[66,77,66,91],[40,2,40,3],[30,78,30,81],[30,82,30,85],[30,87,30,91],[31,69,31,73],[31,74,31,77],[31,78,31,81],[31,82,31,85],[30,69,30,73],[35,22,35,24],[45,29,45,30],[41,29,41,30],[40,29,40,30],[46,29,46,30],[35,5,35,7],[35,8,35,10],[35,11,35,13],[35,14,35,16],[35,18,35,19],[41,22,41,24],[42,32,42,35],[33,5,33,7],[37,54,37,57],[37,76,37,78],[37,61,37,65],[37,68,37,74],[36,76,36,78],[36,61,36,65],[34,61,34,65],[37,94,37,96],[34,5,34,7],[32,18,32,19],[28,69,28,73],[28,74,28,77],[28,78,28,81],[28,82,28,85],[28,87,28,91],[29,74,29,77],[29,78,29,81],[29,82,29,85],[29,87,29,91],[35,20,35,21],[28,50,28,52],[32,22,32,24],[31,20,31,21],[31,50,31,52],[33,20,33,21],[32,20,32,21],[31,5,31,7],[30,8,30,10],[30,11,30,13],[32,8,32,10],[17,87,17,90],[19,74,19,77],[19,78,19,81],[19,82,19,85],[20,74,20,77],[19,96,19,99],[21,92,21,95],[17,92,17,95],[17,69,17,72],[17,74,17,77],[17,83,17,84],[17,49,17,53],[34,54,34,57],[34,50,34,52],[20,29,20,31],[21,61,21,65],[21,50,21,52],[22,32,22,34],[21,78,21,81],[21,82,21,85],[24,78,24,81],[23,82,23,85],[22,41,22,47],[22,50,22,52],[21,35,21,38],[20,54,20,57],[22,61,22,65],[20,41,20,47],[20,50,20,52],[24,50,24,52],[25,37,26,38],[26,82,26,85],[59,60,59,63],[31,8,31,10],[31,11,31,13],[31,22,31,24],[30,22,30,24],[31,14,31,16],[33,50,33,52],[30,50,30,52],[31,54,31,57],[31,61,31,65],[30,54,30,57],[33,84,34,97],[32,92,32,95],[19,29,19,31],[18,28,18,30],[19,35,19,38],[20,25,20,28],[20,32,20,34],[20,35,20,38],[21,29,21,31],[22,29,22,31],[25,96,25,99],[24,69,24,73],[24,74,24,77],[25,78,25,81],[25,82,25,85],[27,69,27,73],[27,74,27,77],[27,78,27,81],[27,82,27,85],[27,87,27,91],[26,69,26,73],[45,36,45,37],[57,25,57,29],[62,29,62,30],[46,36,46,37],[46,32,46,35],[55,31,55,34],[61,36,61,37],[53,29,53,31],[70,29,70,30],[69,29,69,30],[50,48,50,50],[57,44,57,47],[54,25,54,32],[51,25,51,28],[51,29,51,32],[55,25,55,30],[50,29,50,32],[45,25,45,28],[46,25,46,28],[61,29,61,30],[70,32,70,33],[50,25,50,28],[49,40,49,46],[49,47,49,50],[60,98,60,103],[30,100,30,103],[31,100,31,103],[31,96,31,99],[30,92,30,95],[38,98,38,101],[48,96,48,99],[46,96,46,99],[32,100,32,103],[46,100,46,103],[48,100,48,103],[63,85,63,87],[62,82,62,84],[62,94,62,96],[30,96,30,99],[43,84,44,103],[32,96,32,99],[48,92,48,95],[56,96,56,99],[36,98,36,101],[35,99,35,102],[37,98,37,101],[62,100,62,102],[43,68,44,83],[62,88,62,90],[60,86,60,91],[42,98,42,101],[45,85,45,90],[42,94,42,96],[40,80,41,83],[38,86,38,92],[53,88,53,91],[27,100,27,103],[27,92,27,95],[38,94,38,96],[21,100,21,103],[21,96,21,99],[29,92,29,95],[24,92,24,95],[26,87,26,91],[26,41,26,47],[26,50,26,52],[26,54,26,57],[26,61,26,65],[25,74,25,77],[25,25,25,26],[32,61,32,65],[32,41,32,47],[35,54,35,57],[26,78,26,81],[29,100,29,103],[22,100,22,103],[23,96,23,99],[22,92,22,95],[29,96,29,99],[23,100,23,103],[22,96,22,99],[25,92,25,95],[27,96,27,99],[28,100,28,103],[25,100,25,103],[26,96,26,99],[26,92,26,95],[26,100,26,103],[25,54,25,57],[58,45,58,47],[61,44,61,49],[60,44,60,49],[25,87,25,91],[24,100,24,103],[25,61,25,65],[63,95,63,97],[51,92,51,95],[36,36,36,37],[37,41,37,47],[41,54,41,57],[38,80,38,83],[48,0,48,1],[42,4,42,6],[42,7,42,9],[46,0,46,1],[47,0,47,1],[47,7,47,9],[47,10,47,12],[42,16,42,18],[58,16,58,18],[43,61,43,65],[50,60,50,62],[49,69,49,76],[49,84,49,87],[49,81,49,83],[50,64,50,67],[49,59,49,62],[51,84,51,87],[53,33,53,34],[50,33,50,38],[48,13,48,15],[44,19,44,24],[47,22,47,24],[48,16,48,18],[51,78,51,80],[44,36,44,37],[53,25,53,27],[45,32,45,35],[44,32,44,35],[44,29,44,30],[42,22,42,24],[44,25,44,28],[42,19,42,21],[57,16,57,18],[60,16,60,18],[59,0,59,6],[61,19,61,21],[59,16,59,18],[55,7,55,9],[42,36,42,37],[46,70,46,75],[43,54,43,57],[42,80,42,83],[42,76,42,78],[42,68,42,74],[42,54,42,57],[42,61,42,65],[54,40,54,43],[55,64,55,66],[55,60,55,63],[55,48,55,50],[50,51,50,54],[65,22,65,24],[56,13,56,15],[56,0,56,6],[47,13,47,15],[47,16,47,18],[47,19,47,21],[48,19,48,21],[60,22,60,24],[60,19,60,21],[65,19,65,21],[56,7,56,9],[59,7,59,9],[57,10,57,12],[61,13,61,15],[60,13,60,15],[62,22,62,24],[63,13,63,15],[55,16,55,18],[59,10,59,12],[58,0,58,6],[57,0,57,6],[65,0,65,6],[64,0,64,6],[63,0,63,6],[56,22,56,24],[62,0,62,6],[64,22,64,24],[63,22,63,24],[61,0,61,6],[60,0,60,6],[63,19,63,21],[64,19,64,21],[14,0,15,24],[19,3,19,5],[17,101,17,102],[41,4,41,6],[41,7,41,9],[40,19,40,21],[41,10,41,12],[41,13,41,15],[41,16,41,18],[41,19,41,21],[40,4,40,6],[19,25,19,28],[40,7,40,9],[40,10,40,12],[65,16,65,18],[63,16,63,18],[64,16,64,18],[42,13,42,15],[40,13,40,15],[40,16,40,18],[56,10,56,12],[50,0,51,24],[55,0,55,6],[44,0,45,1],[42,10,42,12],[55,22,55,24],[56,19,56,21],[55,10,55,12],[55,13,55,15],[48,22,48,24],[48,7,48,9],[48,10,48,12],[15,35,15,37],[25,33,26,34],[25,35,26,36],[40,36,40,37],[36,41,36,47],[16,32,16,33],[16,36,16,37],[17,32,17,34],[24,29,24,30],[22,35,22,38],[24,37,24,38],[23,35,23,38],[21,32,21,34],[28,41,28,47],[40,41,40,47],[22,25,22,28],[25,29,26,30],[25,31,26,32],[36,29,36,30],[34,29,34,30],[29,41,29,47],[31,41,31,47],[30,41,30,47],[35,36,35,37],[17,36,17,38],[18,31,18,34],[27,33,27,34],[40,32,40,35],[27,35,27,36],[27,27,27,28],[27,29,27,30],[18,35,18,38],[19,100,19,103],[19,92,19,95],[20,92,20,95],[21,54,21,57],[19,61,19,65],[20,78,20,81],[20,82,20,85],[20,87,20,91],[21,74,21,77],[21,25,21,28],[20,100,20,103],[5,0,5,9],[17,54,17,58],[17,60,17,66],[6,0,8,9],[17,41,17,47],[20,11,20,13],[14,68,15,82],[14,83,15,96],[16,75,16,96],[20,16,20,18],[20,21,20,23],[19,32,19,34],[15,29,15,30],[15,32,15,33],[20,61,20,65],[19,41,19,47],[19,50,19,52],[19,54,19,57],[14,25,15,25],[14,26,15,28],[20,96,20,99],[22,7,22,8],[23,41,23,47],[23,50,23,52],[23,54,23,57],[23,61,23,65],[23,29,23,31],[23,25,23,28],[23,11,23,13],[23,16,23,18],[21,41,21,47],[23,92,23,95],[24,96,24,99],[23,87,23,91],[22,69,22,73],[22,74,22,77],[22,78,22,81],[22,54,22,57],[23,21,23,23],[24,61,24,65],[24,41,24,47],[23,32,23,34],[24,33,24,34],[24,54,24,57],[24,31,24,32],[21,87,21,91],[23,69,23,73],[24,82,24,85],[24,87,24,91],[22,82,22,85],[22,87,22,91],[23,74,23,77],[23,78,23,81],[26,22,26,24],[24,0,25,24],[24,35,24,36],[25,41,25,47],[25,50,25,52],[26,25,26,26],[26,27,26,28],[24,27,24,28],[25,27,25,28],[26,74,26,77],[27,0,27,4],[27,5,27,7],[27,22,27,24],[29,54,29,57],[29,61,29,65],[29,20,29,21],[27,41,27,47],[27,31,27,32],[29,22,29,24],[27,25,27,26],[28,61,28,65],[27,37,27,38],[27,50,27,52],[29,50,29,52],[28,54,28,57],[27,54,27,57],[27,61,27,65],[29,5,29,7],[29,8,29,10],[29,11,29,13],[29,14,29,16],[29,18,29,19],[32,11,32,13],[32,14,32,16],[32,54,32,57],[30,61,30,65],[32,50,32,52],[32,74,32,77],[32,78,32,81],[32,82,32,85],[32,69,32,73],[41,94,41,96],[39,94,39,96],[40,94,40,96],[37,86,37,92],[35,87,35,91],[35,94,35,96],[41,86,41,92],[39,61,39,65],[39,76,39,78],[39,50,39,52],[38,54,38,57],[38,61,38,65],[38,68,38,74],[39,68,39,74],[30,74,30,77],[36,50,36,52],[36,94,36,96],[36,86,36,92],[41,36,41,37],[39,41,39,47],[38,76,38,78],[38,50,38,52],[38,41,38,47],[34,8,34,10],[34,11,34,13],[34,14,34,16],[34,20,34,21],[34,18,34,19],[33,54,33,57],[33,22,33,24],[34,22,34,24],[35,29,35,30],[33,41,33,47],[33,61,33,65],[37,50,37,52],[39,80,39,83],[40,68,41,74],[41,32,41,35],[41,61,41,65],[40,50,40,52],[40,22,40,24],[40,76,41,78],[34,41,34,47],[34,36,34,37],[36,68,36,74],[36,80,36,83],[33,68,34,81],[35,69,35,73],[35,76,35,78],[35,81,35,84],[37,80,37,83],[39,54,39,57],[36,54,36,57],[35,50,35,52],[35,61,35,65],[40,61,40,65],[41,41,41,47],[41,50,41,52],[43,50,43,52],[43,41,43,47],[42,41,42,47],[40,98,40,101],[39,98,39,101],[41,98,41,101],[51,33,51,35],[51,100,51,103],[55,69,55,76],[52,69,52,76],[51,96,51,99],[53,36,53,37],[51,36,51,38],[50,100,50,103],[50,69,50,76],[50,78,50,80],[50,81,50,83],[50,84,50,87],[49,96,49,99],[49,100,49,103],[50,92,50,95],[49,92,49,95],[49,78,49,80],[55,44,55,46],[55,40,55,43],[54,44,54,47],[53,92,53,95],[53,96,53,99],[52,92,52,95],[49,51,49,54],[49,55,49,58],[49,63,49,67],[50,56,50,58],[50,96,50,99],[50,88,50,91],[49,88,49,91],[42,50,42,52],[51,88,51,91],[51,69,51,76],[48,57,48,60],[48,78,48,80],[48,81,48,83],[48,84,48,87],[48,88,48,91],[48,63,48,66],[48,51,48,54],[54,60,54,67],[70,25,70,28],[62,76,62,78],[61,16,61,18],[63,75,63,77],[61,50,61,54],[55,35,55,38],[54,100,54,103],[55,100,55,103],[54,88,54,91],[54,84,54,87],[54,92,54,95],[55,78,55,80],[55,84,55,87],[55,88,55,91],[55,92,55,95],[54,96,54,99],[58,53,58,55],[54,69,54,76],[54,78,54,80],[54,81,54,83],[56,81,56,83],[56,84,56,87],[56,92,56,95],[56,88,56,91],[58,56,58,58],[56,69,56,76],[56,78,56,80],[58,62,58,64],[56,49,56,54],[55,96,55,99],[55,81,55,83],[71,7,71,9],[70,7,70,9],[60,7,60,9],[69,7,69,9],[62,7,62,9],[61,7,61,9],[66,7,66,9],[68,7,68,9],[64,7,64,9],[65,13,65,15],[62,13,62,15],[61,10,61,12],[60,10,60,12],[58,13,58,15],[62,10,62,12],[64,10,64,12],[57,13,57,15],[58,10,58,12],[64,13,64,15],[65,10,65,12],[59,13,59,15],[57,7,57,9],[63,7,63,9],[58,7,58,9],[63,10,63,12],[65,7,65,9],[61,55,61,59],[60,64,60,67],[61,60,61,63],[61,64,61,67],[60,60,60,63],[60,55,60,59],[61,40,61,43],[60,50,60,54],[60,36,60,37],[60,29,60,30],[64,69,64,72],[61,22,61,24],[62,19,62,21],[56,16,56,18],[60,40,60,43],[59,44,59,59],[57,65,57,67],[57,48,57,51],[57,52,57,55],[57,62,57,64],[57,68,58,103],[58,19,58,21],[56,100,56,103],[58,65,58,67],[57,59,57,61],[57,22,57,24],[59,22,59,24],[57,35,57,37],[61,81,61,84],[58,59,58,61],[58,40,58,43],[63,100,63,102],[55,19,55,21],[59,19,59,21],[62,16,62,18],[65,44,65,50],[56,40,56,43],[71,58,71,62],[74,49,74,53],[74,63,74,67],[74,58,74,62],[72,49,72,53],[65,54,65,57],[69,22,69,24],[68,25,68,28],[66,32,66,34],[66,22,66,24],[68,35,68,37],[68,32,68,33],[68,22,68,24],[69,32,69,33],[69,35,69,37],[66,35,66,38],[69,40,69,67],[68,40,68,43],[67,58,67,62],[67,63,67,67],[68,63,68,67],[67,40,67,43],[69,25,69,28],[71,22,71,24],[70,22,70,24],[73,63,73,67],[72,63,72,67],[70,58,70,62],[70,63,70,67],[75,35,75,37],[75,40,75,43],[75,44,75,48],[74,25,74,28],[74,29,74,30],[76,63,76,67],[76,49,76,53],[74,54,74,57],[75,58,75,62],[75,54,75,57],[76,58,76,62],[75,49,75,53],[74,32,74,33],[74,35,74,37],[74,40,74,43],[75,63,75,67],[76,32,76,33],[75,32,75,33],[70,54,70,57],[72,32,72,33],[72,35,72,37],[71,35,71,37],[70,35,70,37],[71,29,71,30],[71,32,71,33],[70,80,70,82],[71,84,72,103],[80,101,80,103],[80,89,80,91],[80,93,80,95],[79,98,79,99],[79,49,79,53],[79,54,79,57],[79,58,79,62],[79,63,79,67],[78,40,78,43],[78,54,78,57],[78,58,78,62],[78,63,78,67],[78,100,78,103],[78,68,78,72],[78,73,78,77],[78,78,78,82],[78,83,78,87],[78,92,78,95],[78,96,78,99],[78,88,78,91],[80,58,80,62],[70,89,70,91],[77,63,77,67],[77,58,77,62],[71,63,71,67],[72,58,72,62],[77,78,77,82],[77,83,77,87],[76,44,76,48],[71,54,71,57],[81,68,82,103],[84,54,84,57],[83,26,83,27],[74,0,75,24],[82,54,82,57],[83,29,83,30],[83,32,83,33],[83,36,83,37],[82,44,82,48],[82,49,82,53],[77,88,77,91],[77,92,77,95],[76,70,76,73],[77,40,77,43],[77,44,77,48],[82,63,82,67],[83,49,83,53],[83,63,83,67],[83,54,83,57],[80,40,80,43],[80,44,80,48],[81,54,81,57],[81,58,81,62],[80,54,80,57],[80,49,80,53],[80,63,80,67],[80,69,80,71],[80,74,80,76],[79,102,79,103],[80,97,80,99],[80,79,80,81],[80,83,80,87],[78,4,78,6],[81,4,81,6],[75,29,75,30],[73,32,73,33],[73,35,73,37],[82,10,82,12],[82,13,82,15],[81,13,81,15],[77,49,77,53],[77,54,77,57],[76,54,76,57],[73,54,73,57],[72,54,72,57],[72,13,72,15],[73,10,73,12],[73,0,73,6],[81,49,81,53],[73,49,73,53],[72,44,72,48],[73,25,73,28],[73,29,73,30],[73,22,73,24],[73,19,73,21],[81,7,81,9],[81,10,81,12],[72,29,72,30],[81,32,81,34],[80,25,81,28],[81,29,81,31],[81,40,81,43],[81,44,81,48],[76,40,76,43],[90,56,90,58],[83,58,83,62],[81,63,81,67],[82,58,82,62],[84,58,84,62],[84,63,84,67],[92,40,92,43],[92,44,92,46],[92,47,92,49],[92,50,92,52],[90,62,90,64],[88,62,88,67],[89,62,89,64],[88,45,88,48],[88,51,88,54],[90,65,90,67],[91,62,91,67],[90,59,90,61],[90,51,90,52],[90,53,90,55],[91,53,91,58],[90,47,90,49],[90,40,90,43],[90,45,90,46],[91,44,91,46],[84,40,84,43],[84,44,84,48],[82,40,82,43],[89,40,89,43],[83,40,83,43],[92,53,92,58],[92,62,92,67],[47,100,47,103],[45,78,45,83],[47,69,47,76],[47,78,47,80],[47,81,47,83],[47,84,47,87],[47,88,47,91],[47,92,47,95],[45,93,45,102],[65,84,65,87],[65,89,65,92],[68,77,68,79],[68,73,68,76],[67,80,67,82],[67,89,67,91],[68,89,68,91],[65,69,65,72],[52,100,52,103],[52,96,52,99],[53,100,53,103],[53,84,53,87],[52,88,52,91],[65,99,65,102],[62,69,62,72],[61,69,61,72],[52,78,52,80],[52,81,52,83],[53,81,53,83],[53,69,53,76],[52,84,52,87],[63,90,63,92],[60,92,60,97],[65,94,65,97],[28,92,28,95],[28,96,28,99],[31,92,31,95],[54,56,54,59],[53,78,53,80],[42,86,42,92],[39,86,39,92],[45,58,45,62],[48,69,48,76],[40,86,40,92],[51,81,51,83],[55,52,55,54],[57,56,57,58],[40,54,40,57],[68,83,68,85],[67,98,67,103],[67,68,70,72],[55,56,55,58],[70,73,70,76],[68,101,68,103],[68,92,68,94],[54,52,54,55],[68,86,68,88],[70,92,70,94],[70,95,70,97],[70,78,70,79],[70,86,70,88],[68,95,68,97],[67,83,67,85],[70,84,70,85],[47,96,47,99],[88,32,88,34],[83,44,83,48],[92,32,92,34],[81,16,81,18],[81,19,81,21],[81,22,81,24],[82,22,82,24],[71,16,71,18],[91,14,91,16],[88,22,88,24],[72,22,72,24],[73,40,73,43],[72,40,72,43],[71,40,71,43],[73,44,73,48],[87,22,87,24],[91,47,91,49],[91,30,91,31],[91,32,91,34],[91,35,91,36],[72,19,72,21],[88,30,88,31],[76,25,76,28],[72,25,72,28],[85,9,85,16],[85,17,85,24],[73,13,73,15],[72,7,72,9],[75,25,75,28],[74,44,74,48],[76,29,76,30],[76,35,76,37],[67,0,67,6],[66,0,66,6],[70,10,70,12],[66,13,66,15],[69,0,69,6],[67,7,67,9],[70,13,70,15],[68,13,68,15],[72,16,72,18],[73,16,73,18]],"merged_total":1086,"flags":["merged_cut"]}
[{"$f":"+データ一覧!I5","v":0}]
[{"$f":"+データ一覧!I8","v":0}]
[null,null,null,null,null,null,null,null,null,null,null,null,null,null,null,null,null,null,null,null,null,null,null,null,null,null,null,null,null,null,null,null,null,null,null,null,null,null,null,null,0]
[null,null,null,null,null,null,null,null,null,null,null,null,null,null,null,null,null,null,null,null,null,null,null,null,null,null,null,"【市章とそのいわれ】小浜市の「小」の字を、未来への飛躍を                      ",null,null,null,null,null,null,null,null,null,null,null,null,"  【位置および地勢】小浜市は福井県の南西部に位置し南は東西に走る京都",null,null,null,null,null,null,null,null,null,null,null,null,null,null,null,null,null,null,null,null,null,null,null,null,null,null,null,null,null,null,"所在地",null,null,null,null,null,null,null,"〒917-8585"]
[null,null,null,null,null,null,null,null,null,null,null,null,null,null,null,null,null,null,null,null,null,null,null,null,null,null,null,"                  こめて、鳥の羽ばたく姿にデザインしたもので、                                    ",null,null,null,null,null,null,null,null,null,null,null,null,"                  ","北部一帯に連なる山岳で、一部滋賀県と境を接し、北は内外海半島、",null,null,null,null,null,null,null,null,null,null,null,null,null,null,null,null,null,null,null,null,null,null,null,null,null,null,null,null,null,null,null,null,null,null,null,null,null,"小浜市大手町６番３号"]
[{"$f":"+データ一覧!I6","v":"おばまし"},null,null,null,null,null,null,null,null,null,null,null,null,null,null,null,null,null,null,null,null,null,null,null,null,null,null,"                  市制発足の際、市民の公募作品から選定した。                                          ",null,null,null,null,null,null,null,null,null,null,null,null,"  ","大島半島で囲まれた小浜湾に面している。付近一帯の海岸は 国定公園の"]
[{"$f":"データ一覧!I9","v":"小浜市"},null,null,null,null,null,null,null,null,null,null,null,null,null,null,null,null,null,null,null,null,null,null,null,null,null,null,0,null,null,null,null,null,null,null,null,null,null,null,null," ","指定を受け、各所に明媚な風光をかもしだしており、遠く南の山岳地帯に",null,null,null,null,null,null,null,null,null,null,null,null,null,null,null,null,null,null,null,null,null,null,null,null,null,null,null,null,null,"電話番号",null,null,null,null,null,null,null,"（０７７０）５３－１１１１"]
[null,null,null,null,null,null,null,null,null,null,null,null,null,null,null,null,null,null,null,null,null,null,null,null,null,null,null,0,null,null,null,null,null,null,null,null,null,null,null,null,"  ","源を発する北川、南川の両河川は海岸に細長く走る肥沃な平野を貫流して、",null,null,null,null,null,null,null,null,null,null,null,null,null,null,null,null,null,null,null,null,null,null,null,null,null,null,null,null,null,"FAX番号",null,null,null,null,null,null,null,"     〃     ５３－０７４２"]
[null,null,null,null,null,null,null,null,null,null,null,null,null,null,null,null,null,null,null,null,null,null,null,null,null,null,null,0,null,null,null,null,null,null,null,null,null,null,null,null,"  ","下流にかんがいをもたらし小浜湾に注いでいる。"]
[null,null,null,null,null,null,null,null,null,null,null,null,null,null,null,null,null,null,null,null,null,null,null,null,null,null,null,0,null,null,null,null,null,null,null,null,null,null,null,null,0,null,null,null,null,null,null,null,null,null,null,null,null,null,null,null,null,null,null,null,null,null,null,null,null,null,null,null,null,null,null,"最寄駅および距離",null,null,null,null,null,null,null,"ＪＲ小浜線小浜駅  下車４００ｍ"]
[null,null,null,null,null,null,null,null,null,null,null,null,null,null,null,null,null,null,null,null,null,null,null,null,null,null,null,0,null,null,null,null,null,null,null,null,null,null,null,null,0]
[]
[null,null,null,null,null,null,null,null,null,null,null,null,null,null,null,null,null,null,null,null,null,null,null,null,null,null,null,"【市が掲げる標語】「夢、無限大」感動おばま",null,null,null,null,null,null,null,null,null,null,null,null,null,null,null,null,null,null,null,null,null,null,null,null,null,null,null,null,null,null,null,null,null,null,null,null,null,null,null,null,null,null,null,"ホームページ",null,null,null,null,null,null,null,"http://www1.city.obama.fukui.jp/"]
[]
["  １  土            　　地",null,null,null,null,null,null,null,null,null,null,null,null,null,null,null,null,null,null,null,null,null,null,null,null,{"$f":"データ一覧!$A$247","v":"元年"},"産米収穫量",null,null,"　 収　穫　量",null,null," 　作 付 面 積",null,null,"   10a当たり収量",null,null,null,null,null,null,null,null,null,null,null,null,null,null,null,null,null,null,null,null,null,null,null,null,null,null,null,null,null,null,null,null," １５  労　　　　　　　働",null,null,null,null,null,null,null,null,null,null,null,null,null,null,"27.10.1"]
[null,null,null,null,null,null,null,null,null,null,null,null,null,null,null,null,null,null,null,null,null,null,null,null,null,null,null,null,null,{"$f":"データ一覧!$I$247","v":4390},null,"t",{"$f":"データ一覧!$I$248","v":906},null,"ha",{"$f":"データ一覧!I249","v":484},null,null,"kg",null," １０  工　　　　　　業 ",null,null,null,null,null,null,null,null,null,null,null,null,null,{"$f":"データ一覧!$A$339","v":"元.6.1（平成30年実績）"}]
["   総          面           積",null,null,null,null,null,null,null,null,null," 固 定 資 産 概 要 調 書 に よ る 地 目 別 面 積",null,null,null,null,null,null,null,null,null,null,null,null,null,null,null,null,null,"   総　　　数",null,null,null,"うち　　田",null,null,null,"うち　　畑",null,null,null,null,null,null,null,null,null,null,null,null,null,null,null,null,null,null,null,null,null,null,null,null,null,null,null,null,null,null,null,null,null,null,null,null,null,null,"産業別就業者数   "]
[null,null,{"$f":"データ一覧!$A$10","v":"2.10.1"},null,null,null,null,null,null,null,null,null,null,null,null,null,{"$f":"データ一覧!$A$12","v":"2.1.1"},null,null,null,null,null,null,null,null," 耕  地  面  積",null,null,null,"       ha",null,null,"ha ",null,null,null,"ha ",null,null,null,"      ","産業分類",null,null,null,null,null,null,null,"事業所数",null,null,null,null,"従業者数",null,null,null,null,null,"年間製造品出荷額等",null,null,null,null,null,null,null,null,"区  分",null,null,null,null,"総    数",null,null,null,null,"男",null,null,null,"女",null,null,"  ","区  分",null,null,null,null,"総    数",null,null,null,null,"男",null,null,null,"女"]
[null,null,null,null,null,null,"㎢",null,null,null,"   総       数",null,null,null,null,"  う ち     田",null,null,null,null,"  う ち     畑",null,null,null,null,{"$f":"データ一覧!$A$250","v":"元.7.15"},null,null,{"$f":"データ一覧!$I$250","v":1430},null,null,{"$f":"データ一覧!$I$251","v":1310},null,null,null,{"$f":"データ一覧!$I$252","v":120},null,null,null,null,null,null,null,null,null,null,null,null,null,"　　   ",null,null,"事業所",null,"　　　　　　　 人",null,null,"人",null,"　　　　　　　　　　　　　　万円",null,null,null,null,null,null,"万円",null,null,null,null,null,null,null,"      人",null,null,null,null,null," 人",null,null,null," 人",null,null,null,null,null,null,null,"      人",null,null,null,"      人",null,null,null,"      人"]
[null,null,null,{"$f":"データ一覧!I10","v":233.11},null,null,null,null,null,null,null,null,null,null,"ha",null,null,null,null,"ha",null,null,null,null,"ha","農 業 生 産 物",null,null,null,"作 付 面 積",null,null,"収 穫 量",null,null,"10a当たり収量",null,null,null,null,"     ","総数",null,null,null,null,null,null,null,null,{"$f":"データ一覧!I339","v":64},null,null,null,{"$f":"+データ一覧!I364","v":1667},null,null,null,null,null,null,{"$f":"データ一覧!I389","v":3380997},null,null,null,null,null,null," 総　　　数",null,null,null,null,null,{"$f":"CA20+CE20","v":15214},null,null,null,{"$f":"データ一覧!I514","v":8537},null,null,null,{"$f":"データ一覧!I539","v":6677}]
[null,null,null,null,null,null,null,null,null,null,null,{"$f":"データ一覧!I12","v":13503.8},null,null,null,null,{"$f":"データ一覧!I13","v":1483.8},null,null,null,null,{"$f":"データ一覧!I14","v":235.3},null,null,null,{"$f":"データ一覧!$A$253","v":"元年中"},null,null,null,"ha",null,null,"t",null,null,"kg",null,null,null,null,"     食料品","食料品",null,null,null,null,null,null,null,null,{"$f":"データ一覧!I340","v":13},null,null,null,{"$f":"+データ一覧!I365","v":297},null,null,null,null,null,null,{"$f":"データ一覧!I390","v":366466},null,null,null,null,null,null,null,null,null,null,null,null,null,null,null,null,null,null,null,null,null,null,null,null,null,"卸売業,小売業",null,null,null,null,{"$f":"CS21+CW21","v":2358},null,null,null,{"$f":"データ一覧!I527","v":1170},null,null,null,{"$f":"データ一覧!I552","v":1188}]
["  町 ･ 丁 ･ 大 字",null,null,null,null,null,null,null,null,null,"  う ち  宅 地",null,null,null,null,"  う ち  山 林",null,null,null,null,"  う ち  原 野",null,null,null,null,"水　　　　　稲",null,null,null,{"$f":"データ一覧!I253","v":906},null,null,{"$f":"データ一覧!I254","v":4390},null,null,{"$f":"データ一覧!I255","v":484},null,null,null,null,"     飲料・飼料","飲料・飼料",null,null,null,null,null,null,null,null,{"$f":"データ一覧!I341","v":0},null,null,null,{"$f":"+データ一覧!I366","v":0},null,null,null,null,null,null,{"$f":"データ一覧!I391","v":0},null,null,null,null,null,null," 第１次産業",null,null,null,null,null,{"$f":"CA22+CE22","v":637},null,null,null,{"$f":"データ一覧!I515","v":399},null,null,null,{"$f":"データ一覧!I540","v":238},null,null,null,null,"金融業,保険業",null,null,null,null,{"$f":"CS22+CW22","v":284},null,null,null,{"$f":"データ一覧!I528","v":113},null,null,null,{"$f":"データ一覧!I553","v":171}]
["  区    画    数",null,null,null,null,null,null,{"$f":"データ一覧!I11","v":143},null,null,null,null,null,null,"ha",null,null,null,null,"ha",null,null,null,null,"ha","六　条　大　麦",null,null,null,{"$f":"データ一覧!I256","v":49},null,null,{"$f":"データ一覧!I257","v":121},null,null,{"$f":"データ一覧!I258","v":247},null,null,null,null,"     繊維","繊維",null,null,null,null,null,null,null,null,{"$f":"データ一覧!I342","v":9},null,null,null,{"$f":"+データ一覧!I367","v":197},null,null,null,null,null,null,{"$f":"データ一覧!I392","v":329392},null,null,null,null,null,null,"  ","農業",null,null,null,null,{"$f":"CA23+CE23","v":514},null,null,null,{"$f":"データ一覧!I516","v":300},null,null,null,{"$f":"データ一覧!I541","v":214},null,null,null,"  ","不動産業",null,null,null,null,114,null,null,null,{"$f":"データ一覧!I529","v":73},null,null,null,{"$f":"データ一覧!I554","v":41}]
[{"$f":"データ一覧!$A$11","v":"31.4.1"},null,null,null,null,null,null,null,null,null,null,{"$f":"データ一覧!I15","v":650.29999999999995},null,null,null,null,{"$f":"データ一覧!I16","v":7283.6},null,null,null,null,{"$f":"データ一覧!I17","v":150.30000000000001},null,null,null,"大　　      豆",null,null,null,{"$f":"データ一覧!I259","v":32},null,null,{"$f":"データ一覧!I260","v":18},null,null,{"$f":"データ一覧!I261","v":56},null,null,null,null,"     衣服","木材",null,null,null,null,null,null,null,null,{"$f":"データ一覧!I343","v":5},null,null,null,{"$f":"+データ一覧!I368","v":47},null,null,null,null,null,null,{"$f":"データ一覧!I393","v":41335},null,null,null,null,null,null,"  ","林業",null,null,null,null,23,null,null,null,{"$f":"データ一覧!I517","v":19},null,null,null,{"$f":"データ一覧!I542","v":4},null,null,null,"  ","学術研究",null,null,null,null,503,null,null,null,{"$f":"データ一覧!I530","v":399},null,null,null,{"$f":"データ一覧!I555","v":104}]
["  ２  世　帯　数　と　人　口",null,null,null,null,null,null,null,null,null,null,null,null,null,null,null,null,null,null,null,null,null,null,null,null,null,null,"  区　分",null," 乳 用 牛",null," 肉 用 牛",null,"豚",null,"採卵鶏",null,"ブロイラー",null,null,"     木材","家具",null,null,null,null,null,null,null,null,{"$f":"データ一覧!I344","v":2},null,null,null,{"$f":"+データ一覧!I369","v":15},null,null,null,null,null,null,{"$f":"データ一覧!I394","v":"x"},null,null,null,null,null,null,"  ","漁業",null,null,null,null,100,null,null,null,{"$f":"データ一覧!I518","v":80},null,null,null,{"$f":"データ一覧!I543","v":20},null,null,null,"  ","宿泊業,飲食ｻｰﾋﾞｽ",null,null,null,null,891,null,null,null,{"$f":"データ一覧!I531","v":315},null,null,null,{"$f":"データ一覧!I556","v":576}]
[null,null,null,null,null,null,null,null,null,null,null,null,null,null,null,null,null,null,null,null,null,null,null,null,null,"畜　産",null," 飼養農家",null,{"$f":"データ一覧!$I$262","v":"-"},null,{"$f":"データ一覧!$I$264","v":"-"},null,{"$f":"データ一覧!$I$266","v":"-"},null,{"$f":"データ一覧!$I$268","v":"-"},null,{"$f":"データ一覧!$I$270","v":"-"},null,null,"     家具","パルプ・紙",null,null,null,null,null,null,null,null,{"$f":"データ一覧!I345","v":1},null,null,null,{"$f":"+データ一覧!I370","v":35},null,null,null,null,null,null,{"$f":"データ一覧!I395","v":"x"},null,null,null,null,null,null," 第２次産業",null,null,null,null,null,4332,null,null,null,{"$f":"データ一覧!I519","v":3020},null,null,null,{"$f":"データ一覧!I544","v":1312},null,null,null,"  ","生活関連ｻｰﾋﾞｽ業",null,null,null,null,465,null,null,null,{"$f":"データ一覧!I532","v":191},null,null,null,{"$f":"データ一覧!I557","v":274}]
[null,null,null,null,null,null,null,null,"        人　　　　　　　　　　口",null,null,null,null,null,null,null,null,null,null,null,"１世帯当",null,"人    口",null,null,{"$f":"データ一覧!$A$262","v":"2.3.31"},null,"（戸）",null,null,null,null,null,null,null,null,null,null,null,null,"     パルプ・紙","印刷",null,null,null,null,null,null,null,null,{"$f":"データ一覧!I346","v":3},null,null,null,{"$f":"+データ一覧!I371","v":19},null,null,null,null,null,null,{"$f":"データ一覧!I396","v":19112},null,null,null,null,null,null,null,"鉱業，採石業",null,null,null,null,1,null,null,null,{"$f":"データ一覧!I520","v":1},null,null,null,{"$f":"データ一覧!I545","v":0},null,null,null,"  ","教育,学習支援業",null,null,null,null,829,null,null,null,{"$f":"データ一覧!I533","v":384},null,null,null,{"$f":"データ一覧!I558","v":445}]
[" 区　　　　分",null,null,null,null,"世帯数",null,null," 総   数",null,null,"    男",null,null,"    女",null,null,"  男／女",null,null,"たり人員",null,"密    度",null,null,null,null," 頭 羽",null,{"$f":"データ一覧!$I$263","v":"-"},null,{"$f":"データ一覧!$I$265","v":"-"},null,{"$f":"データ一覧!$I$267","v":"-"},null,{"$f":"データ一覧!$I$269","v":"-"},null,{"$f":"データ一覧!$I$271","v":"-"},null,null,"     出版・印刷","化学",null,null,null,null,null,null,null,null,{"$f":"データ一覧!I347","v":1},null,null,null,{"$f":"+データ一覧!I372","v":52},null,null,null,null,null,null,{"$f":"データ一覧!I397","v":"x"},null,null,null,null,null,null,"  ","建設業",null,null,null,null,1726,null,null,null,{"$f":"データ一覧!I521","v":1498},null,null,null,{"$f":"データ一覧!I546","v":228},null,null,null,null,"医療，福祉",null,null,null,null,1990,null,null,null,{"$f":"データ一覧!I534","v":459},null,null,null,{"$f":"データ一覧!I559","v":1531}]
[null,null,null,null,null,"    世 帯",null,null,"       人",null,null,"       人",null,null,"       人",null,null,null,"　　％",null,"    人",null,"    人/㎢",null,null,null,null,null,null,null,null,null,null,null,null,null,null,null,null,null,"     化学","石油・石炭",null,null,null,null,null,null,null,null,{"$f":"データ一覧!I348","v":1},null,null,null,{"$f":"+データ一覧!I373","v":14},null,null,null,null,null,null,{"$f":"データ一覧!I398","v":"x"},null,null,null,null,null,null,null,"製造業",null,null,null,null,2605,null,null,null,{"$f":"データ一覧!I522","v":1521},null,null,null,{"$f":"データ一覧!I547","v":1084},null,null,null,null,"複合サービス事業",null,null,null,null,277,null,null,null,{"$f":"データ一覧!I535","v":185},null,null,null,{"$f":"データ一覧!I560","v":92}]
[{"$f":"データ一覧!$A$25","v":" 2.10.1"},null,null,null,null,{"$f":"データ一覧!I25","v":9920},null,null,{"$f":"+L30+O30","v":33774},null,null,{"$f":"データ一覧!I27","v":16175},null,null,{"$f":"データ一覧!I28","v":17599},null,null,null,{"$f":"+L30/O30*100","v":91.908631172225697},null,{"$f":"データ一覧!I30","v":3.4},null,{"$f":"データ一覧!I31","v":145.1},null,null,"  ５  林               業",null,null,null,null,null,null,null,null,null,null,null,null,null,null,"     石油・石炭","プラスチック",null,null,null,null,null,null,null,null,{"$f":"データ一覧!I349","v":1},null,null,null,{"$f":"+データ一覧!I374","v":47},null,null,null,null,null,null,{"$f":"データ一覧!I399","v":"x"},null,null,null,null,null,null," 第３次産業",null,null,null,null,null,10174,null,null,null,{"$f":"データ一覧!I523","v":5073},null,null,null,{"$f":"データ一覧!I548","v":5101},null,null,null,null,"サービス業",null,null,null,null,1089,null,null,null,{"$f":"データ一覧!I536","v":743},null,null,null,{"$f":"データ一覧!I561","v":346}]
[{"$f":"データ一覧!$A$32","v":" 7.10.1"},null,null,null,null,{"$f":"データ一覧!I32","v":10383},null,null,{"$f":"+L31+O31","v":33496},null,null,{"$f":"データ一覧!I34","v":16164},null,null,{"$f":"データ一覧!I35","v":17332},null,null,null,93.261020078467567,null,{"$f":"データ一覧!I37","v":3.23},null,{"$f":"データ一覧!I38","v":143.9},null,null,null,null,null,null,null,null,null,null,null,null,null,null,null,null,null,"     プラスチック","ゴム",null,null,null,null,null,null,null,null,{"$f":"データ一覧!I350","v":0},null,null,null,{"$f":"+データ一覧!I375","v":0},null,null,null,null,null,null,{"$f":"データ一覧!I400","v":0},null,null,null,null,null,null,null,"電気･ｶﾞｽ･水道業",null,null,null,null,277,null,null,null,{"$f":"データ一覧!I524","v":245},null,null,null,{"$f":"データ一覧!I549","v":32},null,null,null,null,"公務",null,null,null,null,626,null,null,null,{"$f":"データ一覧!I537","v":433},null,null,null,{"$f":"データ一覧!I562","v":193}]
[{"$f":"データ一覧!$A$39","v":"12.10.1"},null,null,null,null,{"$f":"データ一覧!I39","v":10962},null,null,{"$f":"+L32+O32","v":33295},null,null,{"$f":"データ一覧!I41","v":16134},null,null,{"$f":"データ一覧!I42","v":17161},null,null,null,94.015500262222488,null,{"$f":"データ一覧!I44","v":3.04},null,{"$f":"データ一覧!I45","v":143},null,null,"    　森　　　林　　　総　　　面　　　積   ",null,null,null,null,null,null,null,{"$f":"データ一覧!$A$272","v":"2.3.31"},null,null,null,null,null,null,"     ゴム","皮革",null,null,null,null,null,null,null,null,{"$f":"データ一覧!I351","v":0},null,null,null,{"$f":"+データ一覧!I376","v":0},null,null,null,null,null,null,{"$f":"データ一覧!I401","v":0},null,null,null,null,null,null,null,"情報通信業",null,null,null,null,104,null,null,null,{"$f":"データ一覧!I525","v":57},null,null,null,{"$f":"データ一覧!I550","v":47},null,null,null," 分類不能の産業",null,null,null,null,null,71,null,null,null,{"$f":"データ一覧!I538","v":45},null,null,null,{"$f":"データ一覧!I563","v":26}]
[{"$f":"+データ一覧!$A$46","v":"17.10.1"},null,null,null,null,{"$f":"データ一覧!I46","v":11136},null,null,{"$f":"+L33+O33","v":32182},null,null,{"$f":"データ一覧!I48","v":15620},null,null,{"$f":"データ一覧!I49","v":16562},null,null,null,94.312281125467933,null,{"$f":"データ一覧!I51","v":2.89},null,{"$f":"データ一覧!I52","v":138.19999999999999},null,null,"　　　森　　　　　　　林　　　　　　　の　　　　　　　構　　　　　　　成",null,null,null,null,null,null,null,null,null,null,null,null,null,null,"     皮革","窯業・土石",null,null,null,null,null,null,null,null,{"$f":"データ一覧!I352","v":2},null,null,null,{"$f":"+データ一覧!I377","v":32},null,null,null,null,null,null,{"$f":"データ一覧!I402","v":"x"},null,null,null,null,null,null,"  ","運輸業,郵便業",null,null,null,null,{"$f":"CA33+CE33","v":367},null,null,null,{"$f":"データ一覧!I526","v":306},null,null,null,{"$f":"データ一覧!I551","v":61}]
[{"$f":"+データ一覧!$A$53","v":"22.10.1"},null,null,null,null,{"$f":"+データ一覧!I53","v":11477},null,null,{"$f":"+L34+O34","v":31340},null,null,{"$f":"+データ一覧!I55","v":15376},null,null,{"$f":"+データ一覧!I56","v":15964},null,null,null,96.316712603357558,null,{"$f":"+データ一覧!I58","v":2.73},null,{"$f":"+データ一覧!I59","v":134.6},null,null,null,null,null,null,null,"       ha",null,null,null,null,null,null,"       ha",null,null,"     窯業・土石","鉄鋼",null,null,null,null,null,null,null,null,{"$f":"データ一覧!I353","v":0},null,null,null,{"$f":"+データ一覧!I378","v":0},null,null,null,null,null,null,{"$f":"データ一覧!I403","v":0},null,null,null,null,null,null," １６  社　 会 　福　 祉",null,null,null,null,null,null,null,null,null,null,null,null,null,null,null,{"$f":"データ一覧!$A$564","v":"2.4.1"}]
[{"$f":"データ一覧!$A$60","v":"27.10.1"},null,null,null,null,{"$f":"データ一覧!I60","v":11220},null,null,{"$f":"データ一覧!I61","v":29670},null,null,{"$f":"データ一覧!I62","v":14539},null,null,{"$f":"データ一覧!I63","v":15131},null,null,null,96.087502478355688,null,{"$f":"データ一覧!I68","v":2.46},null,{"$f":"データ一覧!I66","v":127.3},null,null,"  総　　　　　   数",null,null,null,{"$f":"データ一覧!I272","v":19030.38},null,null," 天然林       針葉樹",null,null,null,{"$f":"データ一覧!I275","v":1163.26},null,null,null,"     鉄鋼","非鉄金属",null,null,null,null,null,null,null,null,{"$f":"データ一覧!I354","v":0},null,null,null,{"$f":"+データ一覧!I379","v":0},null,null,null,null,null,null,{"$f":"データ一覧!I404","v":0}]
[{"$f":"+データ一覧!$A$67","v":"2.10.1"},null,null,null,null,{"$f":"データ一覧!I67","v":11481},null,null,{"$f":"データ一覧!I76","v":28289},null,null,{"$f":"データ一覧!I77","v":13970},null,null,{"$f":"データ一覧!I78","v":14319},null,null,null,{"$f":"+L36/O36*100","v":97.562678958027789},null,{"$f":"データ一覧!I68","v":2.46},null,{"$f":"データ一覧!I69","v":121.35472523701256},null,null,"  人工林     針葉樹",null,null,null,{"$f":"データ一覧!I273","v":7359.6900000000005},null,null," 天然林       広葉樹",null,null,null,{"$f":"データ一覧!I276","v":10147.220000000001},null,null,null,"     非鉄金属","金属",null,null,null,null,null,null,null,null,{"$f":"データ一覧!I355","v":1},null,null,null,{"$f":"+データ一覧!I380","v":16},null,null,null,null,null,null,{"$f":"データ一覧!I405","v":"x"},null,null,null,null,null,null,"    ","区分",null,null,null,null,null,null,"施設数",null,null,null,null,"収容定員",null,null,null,null,null,"区分",null,null,null,null,null,null,"施設数",null,null,null,null,"収容定員"]
["年",null,"  区",null," 0歳",null,null,"15歳",null,null,"25歳",null,null,"35歳",null,null,"45歳",null,null,"55歳",null,null,"65歳",null,null,"  人工林     広葉樹",null,null,null,{"$f":"データ一覧!I274","v":34.730000000000004},null,null," 竹               林",null,null,null,{"$f":"データ一覧!I277","v":181.56},null,null,null,"     金属","はん用機械",null,null,null,null,null,null,null,null,{"$f":"データ一覧!I356","v":0},null,null,null,{"$f":"+データ一覧!I381","v":0},null,null,null,null,null,null,{"$f":"データ一覧!I406","v":0},null,null,null,null,null,null,"生活保護施設",null,null,null,null,null,null,null,{"$f":"データ一覧!I564","v":0},null,null,null,{"$f":"データ一覧!I577","v":0},null,null,null,"人",null,"指定障害者支援施設",null,null,null,null,null,null,null,{"$f":"データ一覧!I570","v":3},null,null,null,{"$f":"データ一覧!I583","v":120},null,null,null,"人"]
["齢","令",null,null,null,"～",null,null,"～",null,null,"～",null,null,"～",null,null,"～",null,null,"～",null,null,null,null,null,null,null,null,null,null,null,null,null,null,null,null,null,null,null,"     一般機械","生産用機械",null,null,null,null,null,null,null,null,{"$f":"データ一覧!I357","v":2},null,null,null,{"$f":"+データ一覧!I382","v":28},null,null,null,null,null,null,{"$f":"データ一覧!I407","v":"x"},null,null,null,null,null,null,"地域福祉施設",null,null,null,null,null,null,null,{"$f":"データ一覧!I565","v":0},null,null,null,{"$f":"データ一覧!I578","v":0},null,null,null,null,null,"指定相談支援事業所",null,null,null,null,null,null,null,{"$f":"データ一覧!I571","v":3},null,null,null,{"$f":"データ一覧!I584","v":0}]
["階","元","  分",null,null,null,"14歳",null,null,"24歳",null,null,"34歳",null,null,"44歳",null,null,"54歳",null,null,"64歳",null,null,"以上","    林     野     の     構     成",null,null,null,null,null,null,"保     有     形     態     別",null,null,null,null,null,null,null,"     電気機械","業務用機械",null,null,null,null,null,null,null,null,{"$f":"データ一覧!I358","v":1},null,null,null,{"$f":"+データ一覧!I383","v":57},null,null,null,null,null,null,{"$f":"データ一覧!I408","v":"x"},null,null,null,null,null,null,"老人福祉施設",null,null,null,null,null,null,null,{"$f":"データ一覧!I566","v":10},null,null,null,{"$f":"データ一覧!I579","v":113},null,null,null,null,null,"児童福祉施設",null,null,null,null,null,null,null,{"$f":"データ一覧!I572","v":22},null,null,null,{"$f":"データ一覧!I585","v":1060}]
["級","・",null,null,null,null,"人",null,null,"人",null,"    人",null,null,"    人",null,null,"    人",null,null,"    人",null,null,"    人",null,null,null,null,null,null,null,"ha",null,null,null,null,null,"       ha",null,null,null,"電子・デバイス",null,null,null,null,null,null,null,null,{"$f":"データ一覧!I359","v":2},null,null,null,{"$f":"+データ一覧!I384","v":160},null,null,null,null,null,null,{"$f":"データ一覧!I409","v":"x"},null,null,null,null,null,null,"介護保険施設",null,null,null,null,null,null,null,{"$f":"データ一覧!I567","v":41},null,null,null,{"$f":"データ一覧!I580","v":801},null,null,null,null,null,"母子福祉施設",null,null,null,null,null,null,null,{"$f":"データ一覧!I573","v":0},null,null,null,{"$f":"データ一覧!I586","v":0}]
["別","10","総 数",null,{"$f":"+E42+E43","v":3576},null,null,{"$f":"+H42+H43","v":2345},null,null,{"$f":"+K42+K43","v":2296},null,null,{"$f":"+N42+N43","v":3252},null,null,{"$f":"+Q42+Q43","v":3617},null,null,{"$f":"+T42+T43","v":3853},null,null,{"$f":"+W42+W43","v":9269},null,null," 無立木地   伐採跡地",null,null,null,{"$f":"データ一覧!I278","v":3.12},null,null,"国   　　　 　 有",null,null,null,{"$f":"データ一覧!I280","v":705.7},null,null,null,null,"電気機械",null,null,null,null,null,null,null,null,{"$f":"データ一覧!I360","v":5},null,null,null,{"$f":"+データ一覧!I385","v":301},null,null,null,null,null,null,{"$f":"データ一覧!I410","v":904427},null,null,null,null,null,null,"障害者自立支援法施行前からの身体障害者福祉施設",null,null,null,null,null,null,null,{"$f":"データ一覧!I568","v":0},null,null,null,{"$f":"データ一覧!I581","v":0},null,null,null,null,null,"婦人保護施設",null,null,null,null,null,null,null,{"$f":"データ一覧!I574","v":0},null,null,null,{"$f":"データ一覧!I587","v":0}]
["人","・","  男",null,{"$f":"データ一覧!I79","v":1842},null,null,{"$f":"データ一覧!I80","v":1268},null,null,{"$f":"データ一覧!I81","v":1290},null,null,{"$f":"データ一覧!I82","v":1710},null,null,{"$f":"データ一覧!I83","v":1826},null,null,{"$f":"データ一覧!I84","v":1978},null,null,{"$f":"データ一覧!I85","v":4000},null,null," 無立木地   未立木地",null,null,null,{"$f":"データ一覧!I279","v":140.80000000000001},null,null,"公       　　  有",null,null,null,{"$f":"データ一覧!I281","v":1887.2500000000002},null,null,null,"     輸送機械","情報通信機械",null,null,null,null,null,null,null,null,{"$f":"データ一覧!I361","v":0},null,null,null,{"$f":"+データ一覧!I386","v":0},null,null,null,null,null,null,{"$f":"データ一覧!I411","v":0},null,null,null,null,null,null,null,null,null,null,null,null,null,null,null,null,null,null,null,null,null,null,null,null,"その他の社会福祉施設",null,null,null,null,null,null,null,{"$f":"データ一覧!I575+データ一覧!I576","v":0},null,null,null,{"$f":"データ一覧!I588+データ一覧!I589","v":0}]
["口","1","  女",null,{"$f":"データ一覧!I87","v":1734},null,null,{"$f":"データ一覧!I88","v":1077},null,null,{"$f":"データ一覧!I89","v":1006},null,null,{"$f":"データ一覧!I90","v":1542},null,null,{"$f":"データ一覧!I91","v":1791},null,null,{"$f":"データ一覧!I92","v":1875},null,null,{"$f":"データ一覧!I93","v":5269},null,null,null,null,null,null,null,null,null,"私          　 有",null,null,null,{"$f":"データ一覧!I282","v":16437.43},null,null,null,"     精密機械","輸送機械",null,null,null,null,null,null,null,null,{"$f":"データ一覧!I362","v":2},null,null,null,{"$f":"+データ一覧!I387","v":26},null,null,null,null,null,null,{"$f":"データ一覧!I412","v":"x"},null,null,null,null,null,null,"障害福祉サービス事業所",null,null,null,null,null,null,null,{"$f":"データ一覧!I569","v":26},null,null,null,{"$f":"データ一覧!I582","v":250}]
[null,null,null,null,null,null,null,null,null,null,null,null,null,null,null,null,null,null,null,null,null,null,null,null,null,"            林     産     物     生     産     量 ",null,null,null,null,null,null,null,null,null,{"$f":"データ一覧!$A$283","v":"元年中"},null,null,null,null,"     その他","その他",null,null,null,null,null,null,null,null,{"$f":"データ一覧!I363","v":13},null,null,null,{"$f":"+データ一覧!I388","v":324},null,null,null,null,null,null,{"$f":"データ一覧!I413","v":471982},null,null,null,null,null,null," １７  教　　　　　　　育",null,null,null,null,null,null,null,null,null,null,null,null,null,null,null,{"$f":"データ一覧!$A$590","v":"2.5.1"}]
["人口動態",null,null,null,null,null,null,"   自　然　動　態",null,null,null,null,null,"   社  会  動  態",null,null,null,null,null,{"$f":"データ一覧!$A74","v":"31.1.1～元.12.31"},null,null,null,null,null,"生椎茸",null,null,null,{"$f":"データ一覧!I283","v":400},null,"㎏","乾椎茸",null,null,null,{"$f":"データ一覧!I284","v":"-"},null,"㎏"]
[null,null,"   区       分",null,null,null,null," 出   生",null,null," 死   亡",null,null," 転   入",null,null," 転   出",null,null," 婚   姻",null,null," 離   婚",null,null,"えのきだけ",null,null,null,{"$f":"データ一覧!I286","v":"-"},null,"㎏","なめこ",null,null,null,{"$f":"データ一覧!I285","v":"-"},null,"㎏",null,"    ","工　業　用　水　量",null,null,null,null,null,"（従業者30人以上の事業所）",null,null,null,null,null,null,null,null,null,null,{"$f":"データ一覧!I414","v":512},null,null,null,null,"㎥／日",null,null,null,null,null,null,null,null,null,null,null,null,null,null,"学校数（校）",null,null,null,null,null,null,"教員数（人）",null,null,null,null,null,null,null,"学生・生徒・児童数（人）"]
[{"$f":"LEFT(データ一覧!$A70,7)","v":"元.10.1～"},null,null,null,null,null,null,"       人",null,null,"       人",null,null,"       人",null,null,"       人",null,null,null,"    件",null,null,"    件",null,"ひらたけ",null,null,null,{"$f":"+データ一覧!I287","v":"-"},null,"㎏","まいたけ",null,null,null,{"$f":"+データ一覧!I288","v":"-"},null,"㎏",null,null,null,null,null,null,null,null,null,null,null,null,null,null,null,null,null,null,null,null,null,null,null,null,null,null,null,null,null,null,"　","区分",null,null,null,null,null,null,null," 本 校",null,null," 分 校",null,null," 本   務",null,null,null," 兼   務",null,null,null," 総   数",null,null,null,"男",null,null,null,"女"]
["～",null," 実          数",null,null,null,null,{"$f":"データ一覧!I70","v":233},null,null,{"$f":"データ一覧!I71","v":373},null,null,{"$f":"データ一覧!I72","v":789},null,null,{"$f":"データ一覧!I73","v":898},null,null,{"$f":"データ一覧!I74","v":108},null,null,{"$f":"データ一覧!I75","v":51},null,null,null,null,null,null,null,null,null,null,null,null,null,null,null,null,null," １１ 　上　・　下　水　道",null,null,null,null,null,null,null,null,null,null,null,null,null,null,null,null,null,null,null,null,null,null,null,null,null,null,null,null,"小学校",null,null,null,null,null,null,null,null,{"$f":"データ一覧!I591","v":9},null,null,{"$f":"データ一覧!I592","v":0},null,null,{"$f":"データ一覧!I593","v":135},null,null,null,{"$f":"データ一覧!I594","v":24},null,null,null,{"$f":"データ一覧!I595","v":1477},null,null,null,{"$f":"データ一覧!I596","v":762},null,null,null,{"$f":"データ一覧!I597","v":715}]
[{"$f":"RIGHT(データ一覧!$A72,7)","v":"～2.9.30"},null,"比率(対1,000人)",null,null,null,null,{"$f":"+H48/I35*1000","v":7.8530502190765086},null,null,{"$f":"+K48/I35*1000","v":12.571621166161105},null,null,"- ",null,null,"- ",null,null,{"$f":"+T48/I35*1000","v":3.6400404448938319},null,null,{"$f":"+W48/I35*1000","v":1.7189079878665319},null,null,"  ６  漁               業",null,null,null,null,null,null,null,null,null,null,null,null,null,null,null,null,null,null,null,null,null,null,null,null,null,null,null,null,null,null,null,null,null,null,null,null,null,null,null,null,null,null,"  ","中学校",null,null,null,null,null,null,null,null,{"$f":"データ一覧!I599","v":2},null,null,{"$f":"データ一覧!I600","v":0},null,null,{"$f":"データ一覧!I601","v":64},null,null,null,{"$f":"データ一覧!I602","v":9},null,null,null,{"$f":"データ一覧!I603","v":749},null,null,null,{"$f":"データ一覧!I604","v":386},null,null,null,{"$f":"データ一覧!I605","v":363}]
[null,null,null,null,null,null,null,null,null,null,null,null,null,null,null,null,null,null,null,null,null,null,null,null,null,null,null,null,null,null,null,null,null,null,null,null,null,null,null,null,"水 道 供 給 人 口",null,null,null,null,null,null,"上 水 道",null,null,null,"簡易水道",null,null,null,"専用水道",null,null,null,"飲料水供給施設",null,null,null,"下水道処理人口",null,null,null,null,"  ","高等学校",null,null,null,null,null,null,null,null,{"$f":"データ一覧!I607","v":2},null,null,{"$f":"データ一覧!I608","v":0},null,null,{"$f":"データ一覧!I609","v":119},null,null,null,{"$f":"データ一覧!I610","v":22},null,null,null,{"$f":"データ一覧!I611","v":1265},null,null,null,{"$f":"データ一覧!I612","v":659},null,null,null,{"$f":"データ一覧!I613","v":606}]
["  ３  事　　業　　所（民　　営）    （平 28.6.1）",null,null,null,null,null,null,null,null,null,null,null,null,null,null,null,null,null,null,null,null,null,null,null,null,"漁船隻数・トン数",null,null,null,{"$f":"データ一覧!$A$289","v":"元.12.31"},null,null,null,"動　力　船",null,null,null,null,null,null,{"$f":"データ一覧!$A$415","v":"2.3.31"},null,null,null,null,null,"人",null,{"$f":"データ一覧!I415","v":24080},null,null,{"$f":"データ一覧!I416","v":4134},null,null,null,null,{"$f":"データ一覧!I417","v":0},null,null,null,{"$f":"データ一覧!I418","v":133},null,null,null,{"$f":"データ一覧!I419","v":19930},null,null,null,"  ","大学・短期大学",null,null,null,null,null,null,null,null,{"$f":"データ一覧!I614","v":0},null,null,{"$f":"データ一覧!I615","v":1},null,null,{"$f":"データ一覧!I616","v":22},null,null,null,{"$f":"データ一覧!I617","v":18},null,null,null,{"$f":"データ一覧!I618","v":185},null,null,null,{"$f":"データ一覧!I619","v":143},null,null,null,{"$f":"データ一覧!I620","v":42}]
[null,null,null,null,null,null,null,null,null,null,null,null,null,null,null,null,null,null,null,null,null,null,null,null,null,"無動力船隻数",null,null,null,"船外機付漁船隻数",null,null,null,"隻　数",null,null,"総 ト ン 数",null,null,null,null,null,null,null,null,null,null,null,null,null,null,null,null,null,null,null,null,null,null,null,null,null,null,null,null,null,null,null,"  ","高等専門学校",null,null,null,null,null,null,null,null,{"$f":"データ一覧!I621","v":0},null,null,{"$f":"データ一覧!I622","v":0},null,null,{"$f":"データ一覧!I623","v":0},null,null,null,{"$f":"データ一覧!I624","v":0},null,null,null,{"$f":"データ一覧!I625","v":0},null,null,null,{"$f":"データ一覧!I626","v":0},null,null,null,{"$f":"データ一覧!I627","v":0}]
[null,null,null,null,null,null,null,"    総　　　　　数",null,null,null,null,null,"    民　　　　　営",null,null,null,null,null,"  国 ･ 地方公共団体",null,null,null,null,null,null,null,null,"隻",null,null,null,"隻",null,null,"隻",null,null,"t",null," １２  交   通　・　通   信",null,null,null,null,null,null,null,null,null,null,null,null,null,null,null,null,null,null,null,null,null,null,null,null,null,null,null,"  ","特別支援学校",null,null,null,null,null,null,null,null,{"$f":"+データ一覧!I629","v":1},null,null,{"$f":"+データ一覧!I630","v":0},null,null,{"$f":"+データ一覧!I631","v":57},null,null,null,{"$f":"+データ一覧!I632","v":0},null,null,null,{"$f":"+データ一覧!I633","v":71},null,null,null,{"$f":"+データ一覧!I634","v":44},null,null,null,{"$f":"+データ一覧!I635","v":27}]
["  　区　　　　　　分",null,null,null,null,null,null," 事業所数",null,null," 従業者数",null,null," 事業所数",null,null," 従業者数",null,null," 事業所数",null,null," 従業者数",null,null,{"$f":"データ一覧!$I$289","v":2},null,null,null,{"$f":"データ一覧!$I$290","v":149},null,null,null,{"$f":"データ一覧!I291","v":151},null,null,{"$f":"データ一覧!I292","v":602.80999999999995},null,null,null,null,null,null,null,null,null,null,null,null,null,null,null,null,null,null,null,null,null,null,null,null,null,null,null,null,null,null,null,"  ","幼稚園",null,null,null,null,null,null,null,null,{"$f":"データ一覧!I637","v":1},null,null,{"$f":"データ一覧!I638","v":0},null,null,{"$f":"データ一覧!I639","v":16},null,null,null,{"$f":"データ一覧!I640","v":0},null,null,null,{"$f":"データ一覧!I641","v":82},null,null,null,{"$f":"データ一覧!I642","v":43},null,null,null,{"$f":"データ一覧!I643","v":39}]
[null,null,null,null,null,null,null,null,null,null,"       人",null,null,null,null,null,"       人",null,null,null,null,null,"       人",null,null,"  男女別就業者数",null,null,null,null,null,null,null,{"$f":"データ一覧!$A$293","v":"30.11.1"},null,null,null,null,null,null,"道     路",null,null,null,"実 延 長",null,null,null,"国     道",null,null,null,"県     道",null,null,null,"市町道",null,null,null," 鉄 道 営 業 キ ロ 数",null,null,null,null,null,null,null,"  ","幼保連携認定こども園",null,null,null,null,null,null,null,null,{"$f":"データ一覧!I645","v":1},null,null,{"$f":"データ一覧!I646","v":0},null,null,{"$f":"データ一覧!I647","v":21},null,null,null,{"$f":"データ一覧!I648","v":0},null,null,null,{"$f":"データ一覧!I649","v":142},null,null,null,{"$f":"データ一覧!I650","v":64},null,null,null,{"$f":"データ一覧!I651","v":78}]
["総数",null,null,null,null,null,null,{"$f":"データ一覧!I95","v":"…"},null,null,{"$f":"データ一覧!I152","v":"…"},null,null,{"$f":"データ一覧!I96","v":1765},null,null,{"$f":"データ一覧!I153","v":12822},null,null,{"$f":"データ一覧!I97","v":"…"},null,null,{"$f":"データ一覧!I154","v":"…"},null,null,"総　　数",null,null,null,null,null,"男",null,null,null,"女",null,null,null,null,{"$f":"データ一覧!$A$420","v":"31.4.1"},null,null,null,{"$f":"データ一覧!I420","v":558.25700000000006},null,null,"㎞",{"$f":"データ一覧!I421","v":31.1},null,null,"㎞",{"$f":"データ一覧!I422","v":87.3},null,null,"㎞",{"$f":"データ一覧!I423","v":439.85700000000003},null,null,"km",{"$f":"データ一覧!$A$424","v":"2.4.1"},null,null,null,{"$f":"データ一覧!I424","v":16.247},null,null,"㎞","  ","各種学校",null,null,null,null,null,null,null,null,{"$f":"データ一覧!I653","v":1},null,null,{"$f":"データ一覧!I654","v":0},null,null,{"$f":"データ一覧!I655","v":14},null,null,null,{"$f":"データ一覧!I656","v":0},null,null,null,{"$f":"データ一覧!I657","v":102},null,null,null,{"$f":"データ一覧!I658","v":65},null,null,null,{"$f":"データ一覧!I659","v":37}]
["農林漁業",null,null,null,null,null,null,{"$f":"データ一覧!I98","v":"…"},null,null,{"$f":"データ一覧!I155","v":"…"},null,null,{"$f":"データ一覧!I99","v":13},null,null,{"$f":"データ一覧!I156","v":185},null,null,{"$f":"データ一覧!I100","v":"…"},null,null,{"$f":"データ一覧!I157","v":"…"},null,null,null,null,null,null,null,"人",null,null,"　　　　人",null,null,null,null,"  人",null,"自動車",null,null,null,null,null,null,null,null,"乗用車",null,null,null,null,null,null,null,null,null,null,null,null,null,null,null,null,null,null,"  ","専修学校",null,null,null,null,null,null,null,null,{"$f":"データ一覧!I661","v":2},null,null,{"$f":"データ一覧!I662","v":0},null,null,{"$f":"データ一覧!I663","v":20},null,null,null,{"$f":"データ一覧!I664","v":90},null,null,null,{"$f":"データ一覧!I665","v":158},null,null,null,{"$f":"データ一覧!I666","v":50},null,null,null,{"$f":"データ一覧!I667","v":108}]
["鉱業",null,null,null,null,null,null,{"$f":"データ一覧!I101","v":"…"},null,null,{"$f":"データ一覧!I158","v":"…"},null,null,{"$f":"データ一覧!I102","v":0},null,null,{"$f":"データ一覧!I159","v":0},null,null,{"$f":"データ一覧!I103","v":"…"},null,null,{"$f":"データ一覧!I160","v":"…"},null,null,{"$f":"AF58+AJ58","v":154},null,null,null,null,null,{"$f":"データ一覧!$I$294","v":139},null,null,null,{"$f":"データ一覧!I295","v":15},null,null,null,null,"台  数",null,null,null,"貨    物",null,null,null,"普     通",null,null,null,"小     型",null,null,null,"乗  合",null,null,"特  種",null,null,"小型二輪",null,null,"軽自動車",null,null," １８  衛　　　　　　　生"]
["建設業",null,null,null,null,null,null,{"$f":"データ一覧!I104","v":"…"},null,null,{"$f":"データ一覧!I161","v":"…"},null,null,{"$f":"データ一覧!I105","v":190},null,null,{"$f":"データ一覧!I162","v":983},null,null,{"$f":"データ一覧!I106","v":"…"},null,null,{"$f":"データ一覧!I163","v":"…"},null,null,"　　　　海 面 漁 業 漁 獲 量 （属人）",null,null,null,null,null,null,null,{"$f":"データ一覧!$A$296","v":"30年中"},null,null,null,null,null,null,{"$f":"データ一覧!$A$425","v":"2.3.31"},null,null,null,null,{"$f":"データ一覧!I425","v":1466},null,null,null,{"$f":"データ一覧!I427","v":4558},null,null,null,{"$f":"データ一覧!I428","v":5131},null,null,{"$f":"データ一覧!I426","v":95},null,null,{"$f":"データ一覧!I429","v":534},null,null,{"$f":"データ一覧!I430","v":354},null,null,{"$f":"データ一覧!I431","v":12396}]
["製造業",null,null,null,null,null,null,{"$f":"データ一覧!I107","v":"…"},null,null,{"$f":"データ一覧!I164","v":"…"},null,null,{"$f":"データ一覧!I108","v":167},null,null,{"$f":"データ一覧!I165","v":2084},null,null,{"$f":"データ一覧!I109","v":"…"},null,null,{"$f":"データ一覧!I166","v":"…"},null,null,null,null,null,null,null,"       ","ｔ",null,null,null,null,null,null,"t",null,null,null,"     ",null,"郵　便　局　数",null,null,null,null,null,null,null,null,null,null,null,null,null,null,null,"一般加入",null,null,null,"ＩＮＳネット",null,null,null,null,null,null,null,"医療関係施設",null,null,null,null,null,{"$f":"データ一覧!$A$668","v":"元.10.1"},null,null,null,null,null,null,"および医療関係者数",null,null,null,null,null,null,null,{"$f":"データ一覧!$A$673","v":"30.12.31"}]
["電気・ｶﾞ ｽ・熱供給・水道業",null,null,null,null,null,null,{"$f":"データ一覧!I110","v":"…"},null,null,{"$f":"データ一覧!I167","v":"…"},null,null,{"$f":"データ一覧!I111","v":2},null,null,{"$f":"データ一覧!I168","v":34},null,null,{"$f":"データ一覧!I112","v":"…"},null,null,{"$f":"データ一覧!I169","v":"…"},null,null,"   総　　　　　　数",null,null,null,{"$f":"データ一覧!I296","v":675},null,null,"   藻　　　　　　類",null,null,null,{"$f":"データ一覧!I299","v":9},null,null,null,"通  信",null,null,null," 総     数",null,null,null,null,null," 郵 便 局",null,null,null,null," 簡 易 局",null,null,null,null,"電話数",null,null,null,"加入数",null,null,null,null,null,null,null,null,null,"　","病",null,null,"院",null,"　",null,null,null,null," ","一般診療所",null,null,null,null,null,null,null,null,null,null,null,"歯科診療所"]
["情報通信業",null,null,null,null,null,null,{"$f":"データ一覧!I113","v":"…"},null,null,{"$f":"データ一覧!I170","v":"…"},null,null,{"$f":"データ一覧!I114","v":10},null,null,{"$f":"データ一覧!I171","v":59},null,null,{"$f":"データ一覧!I115","v":"…"},null,null,{"$f":"データ一覧!I172","v":"…"},null,null,"   魚　　　　　　類",null,null,null,{"$f":"データ一覧!I297","v":570},null,null,"   そ　   の　　 他",null,null,null,{"$f":"データ一覧!I300","v":64},null,null,null,{"$f":"データ一覧!$A$435","v":"2.3.31"},null,null,null,{"$f":"データ一覧!I432","v":14},null,null,null,null,null,{"$f":"データ一覧!I433","v":13},null,null,null,null,{"$f":"データ一覧!I434","v":1},null,null,null,null,{"$f":"データ一覧!I435","v":5061},null,null,null,{"$f":"データ一覧!I436","v":568},null,null,null," ","医療関係",null,null,null,null,null,null,null,null,null,null,null,"一般病院",null,null,null,null,null,null,null,null,null,null,null,"有",null,null,"床"]
["運輸業、郵便業",null,null,null,null,null,null,{"$f":"データ一覧!I116","v":"…"},null,null,{"$f":"データ一覧!I173","v":"…"},null,null,{"$f":"データ一覧!I117","v":19},null,null,{"$f":"データ一覧!I174","v":297},null,null,{"$f":"データ一覧!I118","v":"…"},null,null,{"$f":"データ一覧!I175","v":"…"},null,null,"   貝　　　　　　類",null,null,null,{"$f":"データ一覧!I298","v":32},null,null,null,null,null,null,null,null,null,null,null,null,null,null,null,null,null,null,null,null,null,null,null,null,null,null,null,null,null,null,null,null,null,null,null,null,null,null,null,"施設数",null,null,null,null,null,null,{"$f":"データ一覧!I668","v":2},null,null,null,null,null,{"$f":"データ一覧!I669","v":2},null,null,null,null,null,{"$f":"データ一覧!I670","v":19},null,null,null,null,null,{"$f":"データ一覧!I671","v":1},null,null,null,null,null,{"$f":"データ一覧!I672","v":8}]
["卸売業、小売業",null,null,null,null,null,null,{"$f":"データ一覧!I119","v":"…"},null,null,{"$f":"データ一覧!I176","v":"…"},null,null,{"$f":"データ一覧!I120","v":489},null,null,{"$f":"データ一覧!I177","v":3144},null,null,{"$f":"データ一覧!I121","v":"…"},null,null,{"$f":"データ一覧!I178","v":"…"},null,null,null,null,null,null,null,null,null,null,null,null,null,null,null,null,null," １３  税　　・　　財　　政",null,null,null,null,null,null,null,null,null,null,null,null,null,null,null,null,null,null,null,null,null,null,null,null,null,null,null,null,null,null,null,null,null,null,"医師",null,null,null,null,"歯科医師",null,null,null,null,"薬剤師",null,null,null,null,"保健師",null,null,null,null,"助産師",null,null," ",null,"看護師",null,null," "]
["金融業、保険業",null,null,null,null,null,null,{"$f":"データ一覧!I122","v":"…"},null,null,{"$f":"データ一覧!I179","v":"…"},null,null,{"$f":"データ一覧!I123","v":34},null,null,{"$f":"データ一覧!I180","v":348},null,null,{"$f":"データ一覧!I124","v":"…"},null,null,{"$f":"データ一覧!I181","v":"…"},null,null,"  ７  商        　　　業 ",null,null,null,null,null,null,{"$f":"データ一覧!$A$301","v":"28.6.1(平成27年実績）"},null,null,null,null,null,null,null,null,null,null,null,null,null,null,null,null,null,null,null,null,null,null,null,null,null,null,null,null,null,null,null,null,null,null,null," ","医療",null,null,null,null,null,null,null,null,"人",null,null,null,null,"人",null,null,null,null,"人",null,null,null,null,"人",null,null,null,null,"人",null,null,null,null,"人"]
["不動産業、物品賃貸業",null,null,null,null,null,null,{"$f":"データ一覧!I125","v":"…"},null,null,{"$f":"データ一覧!I182","v":"…"},null,null,{"$f":"データ一覧!I126","v":67},null,null,{"$f":"データ一覧!I183","v":220},null,null,{"$f":"データ一覧!I127","v":"…"},null,null,{"$f":"データ一覧!I184","v":"…"},null,null,null,null,null,null,null,null,null,null,null,null,null,null,null,null,null,"           ",null,null,null,"歳入",null,null,null,null,null,null,null,null,"(千円）"," ",null,null,null,"歳出",null,null,null,null,null,null,null,null,"(千円）",null,"関係者",null,null,null,null,{"$f":"データ一覧!I673","v":68},null,null,null,null,{"$f":"データ一覧!I674","v":15},null,null,null,null,{"$f":"データ一覧!I675","v":53},null,null,null,null,{"$f":"データ一覧!I676","v":28},null,null,null,null,{"$f":"データ一覧!I677","v":23},null,null,null,null,{"$f":"データ一覧!I678","v":459}]
["学術研究、専門・技術ｻｰﾋﾞｽ業",null,null,null,null,null,null,{"$f":"データ一覧!I128","v":"…"},null,null,{"$f":"データ一覧!I185","v":"…"},null,null,{"$f":"データ一覧!I129","v":68},null,null,{"$f":"データ一覧!I186","v":748},null,null,{"$f":"データ一覧!I130","v":"…"},null,null,{"$f":"データ一覧!I187","v":"…"},null,null,"  産   業　 分　 類",null,null,null,"  商　 店 　数",null,null," 従　業　者　数",null,null,"年　間　販　売　額",null,null,null,null,"一人当たり歳入歳出予算決算額",null,null,null,null,null,null,null,null,null,null,null,null,null,null,null,null,null,null,null,null,null,null,null,null,null,null,null,"                   ",null,null,null,null,null,null,null,null,"死因別死亡数　　　　　　    ",null,null,null,null,null,null,null,null,null,null,null,null,null,null,null,{"$f":"データ一覧!$A$679","v":"元年中"},null,null,null,null,null,null,null,null,"      単 位：人"]
["宿泊業、飲食サービス業",null,null,null,null,null,null,{"$f":"データ一覧!I131","v":"…"},null,null,{"$f":"データ一覧!I188","v":"…"},null,null,{"$f":"データ一覧!I132","v":244},null,null,{"$f":"データ一覧!I189","v":1406},null,null,{"$f":"データ一覧!I133","v":"…"},null,null,{"$f":"データ一覧!I190","v":"…"},null,null,null,null,null,null,null,"        店",null,null,null,"　人",null,"         百万円",null,null,null,"区分",null,null,null,{"$f":"データ一覧!$A$445","v":"2年度"},null,null,null,null,{"$f":"データ一覧!$A$459","v":"元年度"},null,null,null,null,"区分",null,null,null,{"$f":"+AS68","v":"2年度"},null,null,null,null,{"$f":"データ一覧!$A$459","v":"元年度"},null,null,null,null," 死     因",null,null,null,null,null,null,null,null,null,null,null,"悪  性",null,null,"高血圧",null,null,null,null,null,"脳血管",null,null,null,null,null," ",null,null,"不慮の事故"]
["生活関連サービス業、娯楽業",null,null,null,null,null,null,{"$f":"データ一覧!I134","v":"…"},null,null,{"$f":"データ一覧!I191","v":"…"},null,null,{"$f":"データ一覧!I135","v":167},null,null,{"$f":"データ一覧!I192","v":598},null,null,{"$f":"データ一覧!I136","v":"…"},null,null,{"$f":"データ一覧!I193","v":"…"},null,null,"総　　　　　　計",null,null,null,{"$f":"データ一覧!$I$301","v":407},null,null,{"$f":"データ一覧!I310","v":2685},null,null,{"$f":"データ一覧!I319","v":59330},null,null,null,null,null,null,null,null,{"$f":"データ一覧!I441","v":556329.3152815582},null,null,null,null,{"$f":"データ一覧!I442","v":585955},null,null,null,null,null,null,null,null,{"$f":"データ一覧!I443","v":556329.3152815582},null,null,null,null,{"$f":"データ一覧!I444","v":566281.9048286496},null,null,null,null,null,null,null,null,null,"全 死 因",null,null,null,"結 核",null,null,"新生物",null,null,"性疾患",null,null,"心疾患",null,null,"疾  患",null,null,"肺  炎",null,null,"老  衰",null,null,null,null," ","交通事故"]
["教育、学習支援業",null,null,null,null,null,null,{"$f":"データ一覧!I137","v":"…"},null,null,{"$f":"データ一覧!I194","v":"…"},null,null,{"$f":"データ一覧!I138","v":46},null,null,{"$f":"データ一覧!I195","v":218},null,null,{"$f":"データ一覧!I139","v":"…"},null,null,{"$f":"データ一覧!I196","v":"…"},null,null,"卸売業",null,null,null,{"$f":"データ一覧!I302","v":92},null,null,{"$f":"データ一覧!I311","v":679},null,null,{"$f":"データ一覧!I320","v":24287},null,null,null,null,"項目別歳入歳出予算決算額"]
["医療、福祉",null,null,null,null,null,null,{"$f":"データ一覧!I140","v":"…"},null,null,{"$f":"データ一覧!I197","v":"…"},null,null,{"$f":"データ一覧!I141","v":81},null,null,{"$f":"データ一覧!I198","v":1336},null,null,{"$f":"データ一覧!I142","v":"…"},null,null,{"$f":"データ一覧!I199","v":"…"},null,null,"小売業",null,null,null,{"$f":"データ一覧!I303","v":315},null,null,{"$f":"データ一覧!I312","v":2006},null,null,{"$f":"データ一覧!I321","v":35043},null,null,null,null,"区分",null,null,null,{"$f":"データ一覧!$A$445","v":"2年度"},null,null,null,null,{"$f":"データ一覧!$A$459","v":"元年度"},null,null,null,null,"区分",null,null,null,{"$f":"+AS71","v":"2年度"},null,null,null,null,{"$f":"データ一覧!$A$459","v":"元年度"},null,null,null,null,null,null,null,null,null,{"$f":"データ一覧!I679","v":407},null,null,null,"   －",{"$f":"データ一覧!I680","v":0},null,{"$f":"データ一覧!I681","v":89},null,null,null,{"$f":"データ一覧!I682","v":5},null,{"$f":"データ一覧!I683","v":55},null,null,{"$f":"データ一覧!I684","v":23},null,null,{"$f":"データ一覧!I685","v":29},null,null,{"$f":"データ一覧!I686","v":41},null,null,{"$f":"データ一覧!I687","v":17},null,null,{"$f":"データ一覧!I688","v":1}]
["複合サービス事業",null,null,null,null,null,null,{"$f":"データ一覧!I143","v":"…"},null,null,{"$f":"データ一覧!I200","v":"…"},null,null,{"$f":"データ一覧!I144","v":21},null,null,{"$f":"データ一覧!I201","v":306},null,null,{"$f":"データ一覧!I145","v":"…"},null,null,{"$f":"データ一覧!I202","v":"…"},null,null,"各種商品",null,null,null,{"$f":"データ一覧!I304","v":1},null,null,{"$f":"データ一覧!I313","v":5},null,null,{"$f":"データ一覧!I322","v":"x"},null,null,null,null,"総額",null,null,null,{"$f":"SUM(AS73:AW85)","v":15738000},null,null,null,null,{"$f":"SUM(AX73:BB85)","v":16721996},null,null,null,null,"総額",null,null,null,{"$f":"SUM(BG73:BK85)","v":15738000},null,null,null,null,{"$f":"SUM(BL73:BP85)","v":16160553},null,null,null,null," １９  警　察　・　消　防  ",null,null,null,null,null,null,null,null,null,null,null,null,null,null,null,{"$f":"+データ一覧!$A689","v":"2.4.1"}]
["サービス業",null,null,null,null,null,null,{"$f":"データ一覧!I146","v":"…"},null,null,{"$f":"データ一覧!I203","v":"…"},null,null,{"$f":"データ一覧!I147","v":147},null,null,{"$f":"データ一覧!I204","v":856},null,null,{"$f":"データ一覧!I148","v":"…"},null,null,{"$f":"データ一覧!I205","v":"…"},null,null,"織物・衣服・身の回り品",null,null,null,{"$f":"データ一覧!I305","v":33},null,null,{"$f":"データ一覧!I314","v":98},null,null,{"$f":"データ一覧!I323","v":1276},null,null,null,null,"地方税",null,null,null,{"$f":"データ一覧!I446","v":3659604},null,null,null,null,{"$f":"データ一覧!I460","v":3691580},null,null,null,null,"議会費",null,null,null,{"$f":"データ一覧!I474","v":186922},null,null,null,null,{"$f":"データ一覧!I488","v":179252}]
["公務",null,null,null,null,null,null,{"$f":"データ一覧!I149","v":"…"},null,null,{"$f":"データ一覧!I206","v":"…"},null,null,{"$f":"データ一覧!I150","v":"…"},null,null,{"$f":"データ一覧!I207","v":"…"},null,null,{"$f":"データ一覧!I151","v":"…"},null,null,{"$f":"データ一覧!I208","v":"…"},null,null,"飲食料品",null,null,null,{"$f":"データ一覧!I306","v":106},null,null,{"$f":"データ一覧!I315","v":843},null,null,{"$f":"データ一覧!I324","v":11565},null,null,null,null,"地方譲与税",null,null,null,{"$f":"データ一覧!I447","v":162000},null,null,null,null,{"$f":"データ一覧!I461","v":150413},null,null,null,null,"総務費",null,null,null,{"$f":"データ一覧!I475","v":1855716},null,null,null,null,{"$f":"データ一覧!I489","v":2461590},null,null,null,null,null,null,null,null,null,null,null,null,null,null,"交番・駐在所",null,null,null,null,null,null,null,null,"刑法犯認知件数",null,null,null,null,null,null,null,null,"交通人身事故発生件数"]
["  ４  農        　　　業 ",null,null,null,null,null,null,null,null,null,null,null,null,null,null,null,null,null,null,null,null,null,null,null,null,"機械器具",null,null,null,{"$f":"データ一覧!I307","v":37},null,null,{"$f":"データ一覧!I316","v":311},null,null,{"$f":"データ一覧!I325","v":7255},null,null,null,null,"各種交付金",null,null,null,{"$f":"データ一覧!I448","v":714500},null,null,null,null,{"$f":"データ一覧!I462","v":589892},null,null,null,null,"民生費",null,null,null,{"$f":"データ一覧!I476","v":4770720},null,null,null,null,{"$f":"データ一覧!I490","v":4471404},null,null,null,null,null,"警察署数",null,null,null,null,null,null,null,null,"検問所数",null,null,null,null,null,null,null,null,null,{"$f":"データ一覧!$A$691","v":"元年中"},null,null,null,null,null,null,null,null,{"$f":"データ一覧!$A$691","v":"元年中"}]
[null,null,null,null,null,null,null,null,null,null,null,null,null,null,null,null,null,null,null,null,null,null,null,null,null,"その他",null,null,null,{"$f":"データ一覧!I308","v":118},null,null,{"$f":"データ一覧!I317","v":682},null,null,{"$f":"データ一覧!I326","v":"x"},null,null,null,null,"地方特例交付金",null,null,null,{"$f":"データ一覧!I449","v":24000},null,null,null,null,{"$f":"データ一覧!I463","v":95005},null,null,null,null,"衛生費",null,null,null,{"$f":"データ一覧!I477","v":1928098},null,null,null,null,{"$f":"データ一覧!I491","v":1720201},null,null,null,null,null,null,null,null,null,null,null,null,null,null,null,null,null,null,null,null,null,null,null,null,null,null,null,null," 件",null,null,null,null,null,null,null,null,"　件"]
[null,null,"農家人口と世帯員数(販売農家)",null,null,null,null,null,null,null,"農家世帯の就業状態（販売農家）",null,null,null,null,null,null,null,null,null,null,null,null,null,null,"無店舗",null,null,null,{"$f":"データ一覧!I309","v":20},null,null,{"$f":"データ一覧!I318","v":67},null,null,{"$f":"データ一覧!I327","v":1548},null,null,null,null,"地方交付税",null,null,null,{"$f":"データ一覧!I450","v":5298000},null,null,null,null,{"$f":"データ一覧!I464","v":5283452},null,null,null,null,"労働費",null,null,null,{"$f":"データ一覧!I478","v":174238},null,null,null,null,{"$f":"データ一覧!I492","v":163837},null,null,null,null,null,null,{"$f":"データ一覧!I689","v":1},null,null,null,null,null,null,null,null,{"$f":"データ一覧!I690","v":6},null,null,null,null,null,null,null,null,{"$f":"データ一覧!I691","v":153},null,null,null,null,null,null,null,null,{"$f":"データ一覧!I692","v":36}]
["農","平",null,null,null,null,null,null,null,null,"農業従事者",null,null,null,null,null,null,null,null,"非農業従事",null,null,"農業従事者",null,null,null,null,null,null,null,null,null,null,null,null,null,null,null,null,null,"分担金および負担金",null,null,null,{"$f":"データ一覧!I451","v":234467},null,null,null,null,{"$f":"データ一覧!I465","v":248829},null,null,null,null,"農林水産業費",null,null,null,{"$f":"データ一覧!I479","v":856045},null,null,null,null,{"$f":"データ一覧!I493","v":788249},null,null,null,null,"火災発生件数",null,null,null,null,null,null,null,null,null,"林野焼損",null,null,null,null,"損      害",null,null,null,null,"消 防 自",null,null,null,"その他の",null,null,null," ",null,null,null,null," "]
["家",{"$f":"+LEFT(データ一覧!$A$209,2)","v":"27"},"区分",null,"農家人口",null,null,"15歳以上の",null,null,null,null,null,"農業就業人口",null,null,null,null,null,"者",null,null,"の平均年齢",null,null,"  ８  住　　　　　　 　宅",null,null,null,null,null,null,null,null,null,null,null,null,null,null,"使用料および手数料",null,null,null,{"$f":"データ一覧!I452","v":231975},null,null,null,null,{"$f":"データ一覧!I466","v":275990},null,null,null,null,"商工費",null,null,null,{"$f":"データ一覧!I480","v":476937},null,null,null,null,{"$f":"データ一覧!I494","v":594782},null,null,null,null,{"$f":"+データ一覧!$A$693","v":"元年中"},null,null,null,null,"焼損棟数",null,null,null,null,"面    積",null,null,null,null,"見  積  額",null,null,null,null,"動 車 数",null,null,null,"ﾎﾟﾝﾌﾟ数",null,null,null," 消防吏員",null,null,null," 消防団員"]
["人就 ","・",null,null,null,null,null,"世帯員数",null,null,null,null,null,null,null,null,"基幹的農業",null,null,null,null,null,null,null,null,null,null,null,null,null,null,null,null,null,null,null,null,null,null,null,"国庫支出金",null,null,null,{"$f":"データ一覧!I453","v":1867505},null,null,null,null,{"$f":"データ一覧!I467","v":1885224},null,null,null,null,"土木費",null,null,null,{"$f":"データ一覧!I481","v":1962500},null,null,null,null,{"$f":"データ一覧!I495","v":2290430},null,null,null,null,"         件",null,null,null,null,null,"      棟",null,null,null,null,null,null,"  ａ",null,null,null,"  千円",null,null,"        ",null,null,null,null,null,null,null,null,null,"  人",null,null,null,"  人"]
["口業 ",{"$f":"+MID(データ一覧!$A$209,4,1)","v":"2"},null,null,null,null,"人",null,null,"人",null,null,"人",null,null,"人","従事者",null,"人",null,null,"人",null,null,"歳",{"$f":"+データ一覧!$A$328","v":"30年"},null,null,null,null,{"$f":"データ一覧!$A$331","v":"元年"},"中の増減",null,null,null,{"$f":"+データ一覧!$A$331","v":"元年"},null,null,null,null,"県支出金",null,null,null,{"$f":"データ一覧!I454","v":1524175},null,null,null,null,{"$f":"データ一覧!I468","v":1903606},null,null,null,null,"消防費",null,null,null,{"$f":"データ一覧!I482","v":580570},null,null,null,null,{"$f":"データ一覧!I496","v":617115},null,null,null,null,null,{"$f":"データ一覧!I693","v":15},null,null,null,null,{"$f":"データ一覧!I694","v":11},null,null,null,null,{"$f":"データ一覧!I695","v":0},null,null,null,{"$f":"データ一覧!I696","v":74035},null,null,null,null,null,{"$f":"データ一覧!I697","v":11},null,null,null,{"$f":"データ一覧!I698","v":36},null,null,null,{"$f":"データ一覧!I699","v":71},null,null,null,{"$f":"データ一覧!I700","v":370}]
["と状 ","・"," 総数",null,{"$f":"データ一覧!I209","v":2468},null,null,{"$f":"データ一覧!I212","v":2243},null,null,{"$f":"データ一覧!I215","v":1608},null,null,{"$f":"データ一覧!I218","v":645},null,null,{"$f":"データ一覧!I221","v":490},null,null,{"$f":"データ一覧!I224","v":635},null,null,{"$f":"データ一覧!I227","v":58.6},null,null,null,null,null,null,"建設した住宅",null,null,"消失した住宅",null,null,null,null,null,null,null,"財産収入",null,null,null,{"$f":"データ一覧!I455","v":26110},null,null,null,null,{"$f":"データ一覧!I469","v":24614},null,null,null,null,"教育費",null,null,null,{"$f":"データ一覧!I483","v":1207150},null,null,null,null,{"$f":"データ一覧!I497","v":1209602},null,null,null,null," ２０  そ　　　の　　　他　"]
["  況 ",{"$f":"+RIGHT(データ一覧!$A$209,1)","v":"1"},"　男",null,{"$f":"データ一覧!I210","v":1249},null,null,{"$f":"データ一覧!I213","v":1129},null,null,{"$f":"データ一覧!I216","v":911},null,null,{"$f":"データ一覧!I219","v":354},null,null,{"$f":"データ一覧!I222","v":316},null,null,{"$f":"データ一覧!I225","v":218},null,null,{"$f":"データ一覧!I228","v":57.2},null,null,null,null,null,null,null,null,null,null,null,null,null,null,null,null,null,"繰入金",null,null,null,{"$f":"データ一覧!I456","v":195466},null,null,null,null,{"$f":"データ一覧!I470","v":153882},null,null,null,null,"災害復旧費",null,null,null,{"$f":"データ一覧!I484","v":0},null,null,null,null,{"$f":"データ一覧!I498","v":0}]
[null,null,"　女",null,{"$f":"データ一覧!I211","v":1219},null,null,{"$f":"データ一覧!I214","v":1114},null,null,{"$f":"データ一覧!I217","v":697},null,null,{"$f":"データ一覧!I220","v":291},null,null,{"$f":"データ一覧!I223","v":174},null,null,{"$f":"データ一覧!I226","v":417},null,null,{"$f":"データ一覧!I229","v":60.5},null,null,null,{"$f":"データ一覧!I328","v":11571},null,"戸",{"$f":"データ一覧!I329","v":207},null,"戸",{"$f":"データ一覧!I330","v":111},null,"戸",null,{"$f":"データ一覧!I331","v":11667},null,"戸",null,"地方債",null,null,null,{"$f":"データ一覧!I457","v":958300},null,null,null,null,{"$f":"データ一覧!I471","v":1041534},null,null,null,null,"公債費",null,null,null,{"$f":"データ一覧!I485","v":1729104},null,null,null,null,{"$f":"データ一覧!I499","v":1664091},null,null,null,null,null,null,null,null,null,"若狭湾国定公園（若狭蘇洞門 蒼島暖地性植物群落 双児島 児島）、明通寺、羽賀寺、\n神宮寺、妙楽寺、飯盛寺、国分寺、多田寺、円照寺、萬徳寺、\n小浜西組重要伝統的建造物群保存地区、国指定文化財等66、県指定79、\n市指定114（R2.5.1現在）"]
[null,null,null,null,null,null,null,null,null,null,null,null,null,null,null,null,null,null,null,null,null,null,null,null,null,null,null,null,null,null,null,null,null,null,null,null,null,null,null,null,"その他",null,null,null,{"$f":"データ一覧!I458","v":841898},null,null,null,null,{"$f":"データ一覧!I472","v":1377975},null,null,null,null,"その他",null,null,null,{"$f":"データ一覧!I486","v":10000},null,null,null,null,{"$f":"データ一覧!I500","v":0},null,null,null,null,"　名所・旧跡"]
[null,null,"総農家数等",null,null,null,null,null,null,"専兼業別（販売農家）",null,null,null,null,null,null,null,"経営面積規模別（販売農家）",null,null,null,null,null,null,null,null,null,null,null,null,null,null,null,null,null,null,null,null,null,null,null,null,null,null,null,null,null,null,null,null,null,null,null,null,null,null,null,null,null,null,null,null,null,null,null,null,null,null,"  文化財等"]
[null,"平","区　分",null,null,null,"戸数（戸）",null,null,"区　分",null,null,null,null,"戸数（戸）",null,null,"区　　分",null,null,null,null,"戸数（戸）",null,null,"  ９  議　 員　・　職 　員",null,null,null,null,null,null,null,null,null,null,null,null,null,null," １４  文　　　　　　化",null,null,null,null,null,null,null,null,null," ( ",{"$f":"データ一覧!$A$507","v":"2.3.31"},null,null,null,"ただし図書館・公民館・児童館",null,null,null,null,null,null,null,{"$f":"データ一覧!$A$501","v":"2.4.1"}]
["農",{"$f":"+LEFT(データ一覧!$A$230,2)","v":"27"},"総農家",null,null,null,{"$f":"データ一覧!I230","v":1087},null,null,"総数",null,null,null,null,{"$f":"データ一覧!I236","v":610},null,null,"総数",null,null,null,null,{"$f":"データ一覧!I241","v":610},null,null,null,null,null,null,null,null,null,null,null,null,null,null,null,null,null,null,null,null,null,null,null,null,null,null,null,null,null,null,null,null,null,"　宗教法人数 ",null,null,null,null,null,null,{"$f":"データ一覧!$A$509","v":"元.12.31"},null,null,null,"）"]
["家","・","販売農家",null,null,null,{"$f":"データ一覧!I231","v":610},null,null,"専業農家",null,null,null,null,{"$f":"データ一覧!I237","v":88},null,null,"0.5 ha 未満",null,null,null,null,{"$f":"データ一覧!I242","v":159},null,null," 市 町 村 議 会",null,null,"有権者数",null,{"$f":"データ一覧!$A$335","v":"2.9.1"},null,"市 町 村 議 会",null,null,"  職      員      数",null,null,null,null,null,null,null,null,null,"図書館",null,null,null,null,null,"公　民　館",null,null,null,null,null,null,null,null,null,null," 社会教育学級講座",null,null,null,null,null,"　　特産物",null,null,null,null,"若狭塗（箸、漆器）、若狭めのう細工、若狭和紙、うるしダルマ、若狭かれい、\n小鯛ささ漬、谷田部ねぎ、浜焼き鯖、若狭ぐじ、若狭ふぐ、若狭かき、鯖へしこ、\n鯖のなれずし、おばま醤油干、小浜よっぱらいサバ、でっちようかん、くずまんじゅう"]
["数",{"$f":"+MID(データ一覧!$A$230,4,1)","v":"2"},null,"主業",null,null,{"$f":"データ一覧!I232","v":38},null,null,"兼業農家",null,null,null,null,{"$f":"データ一覧!I238","v":522},null,null,"0.5 ha ～ 1.0 ha",null,null,null,null,{"$f":"データ一覧!I243","v":208},null,null," 議  員  定  数",null,null,"    男",null,"    女",null,"選 挙 投 票 率",null,null," 総     数",null,"一般行政職",null,null,"公    共",null,null,null," 館  数",null,null," 図書数",null,null," 本  館",null,null," 分  館",null,null," 公  園",null,null," 児童館",null,null,"学級講座数",null,null,"受講者数"]
[null,"・",null,"準主業",null,null,{"$f":"データ一覧!I233","v":95},null,null,null,"第１種兼業",null,null,null,{"$f":"データ一覧!I239","v":66},null,null,"1.0 ha ～ 1.5 ha",null,null,null,null,{"$f":"データ一覧!I244","v":112},null,null,null,null,"人",null,"人",null,"人",null,null,"　％",null,"人",null,"人",null,"施 設 数",null,null,null,null,{"$f":"データ一覧!I501","v":1},null,{"$f":"データ一覧!I502","v":194490},null,null,null,{"$f":"データ一覧!I503","v":13},null,{"$f":"データ一覧!I504","v":0},null,null,{"$f":"データ一覧!I505","v":24},null,null,{"$f":"データ一覧!I506","v":5},null,null,{"$f":"データ一覧!I507","v":72},null,null,{"$f":"データ一覧!I508","v":2200}]
[null,{"$f":"+RIGHT(データ一覧!$A$230,1)","v":"1"},null,"副業的",null,null,{"$f":"データ一覧!I234","v":477},null,null,null,"第２種兼業",null,null,null,{"$f":"データ一覧!I240","v":456},null,null,"1.5 ha ～ 2.0 ha",null,null,null,null,{"$f":"データ一覧!I245","v":58},null,null,null,{"$f":"データ一覧!I332","v":18},null,{"$f":"データ一覧!I335","v":11842},null,{"$f":"データ一覧!I336","v":12437},null,{"$f":"データ一覧!I334","v":67.47},null,null,{"$f":"データ一覧!I337","v":290},null,{"$f":"データ一覧!I338","v":210},null,null,"宗    教",null,null,null," 仏教系",null,null,"ｷﾘｽﾄ教系",null,null,"神道諸派",null,null,"公会堂・市民会館",null,null,null,null,null," テレビ",null,null,"衛星放送契約数",null,null,null,null,null," 　年中行事",null,null,null,null,"お水送り、お城祭り（雲浜獅子）、放生祭、地蔵盆、箸まつり"]
[null,null,"自給的農家",null,null,null,{"$f":"データ一覧!I235","v":477},null,null,null,null,null,null,null,null,null,null,"2.0 ha 以上",null,null,null,null,{"$f":"データ一覧!I246","v":73},null,null,null,null,null,null,null,null,null,{"$f":"データ一覧!I333","v":"31.4.21"},null,null,null,null,null,null,null,"法 人 数",null,null,null,{"$f":"データ一覧!I509","v":139},null,null,{"$f":"データ一覧!I510","v":2},null,null,{"$f":"データ一覧!I511","v":108},null,null,{"$f":"データ一覧!I512","v":0},null,null,null,null,null,"      等",null,null,{"$f":"データ一覧!I513","v":4863},null,null,null,null,null,null,null,null,null,null,"若狭マリンピア、芽立ち神事、すり鉢くぐり、小浜祇園祭、OBAMA食のまつり"]

{"sheet":"大野市","index":8,"n_rows":93,"n_cols":104,"rows_kept":93,"cut":false,"hidden":false,"merged":[[88,73,92,103],[28,87,28,91],[27,22,27,24],[29,11,29,13],[32,82,32,85],[32,41,32,47],[29,87,29,91],[28,69,28,73],[28,74,28,77],[28,78,28,81],[70,22,70,24],[35,22,35,24],[35,11,35,13],[35,14,35,16],[35,18,35,19],[35,20,35,21],[42,10,42,12],[41,16,41,18],[73,78,73,84],[73,87,73,93],[73,96,73,102],[74,78,74,84],[74,88,74,92],[74,97,74,101],[67,58,67,62],[67,63,67,67],[57,16,57,18],[50,0,51,24],[40,2,40,3],[34,8,34,10],[41,7,41,9],[42,4,42,6],[26,50,26,52],[26,54,26,57],[24,41,24,47],[24,50,24,52],[24,54,24,57],[40,32,40,35],[30,54,30,57],[29,50,29,52],[29,54,29,57],[27,50,27,52],[29,41,29,47],[27,41,27,47],[25,50,25,52],[25,54,25,57],[27,0,27,4],[27,5,27,7],[25,37,26,38],[24,27,24,28],[25,41,25,47],[26,41,26,47],[35,5,35,7],[35,8,35,10],[30,5,30,7],[31,11,31,13],[30,8,30,10],[29,8,29,10],[27,54,27,57],[33,11,33,13],[34,11,34,13],[28,50,28,52],[28,54,28,57],[36,41,36,47],[17,101,17,102],[21,92,21,95],[19,96,19,99],[23,100,23,103],[24,92,24,95],[19,92,19,95],[24,96,24,99],[24,100,24,103],[34,5,34,7],[41,10,41,12],[41,13,41,15],[40,4,40,6],[17,92,17,95],[25,92,25,95],[29,5,29,7],[30,18,30,19],[28,41,28,47],[23,11,23,13],[41,4,41,6],[31,5,31,7],[30,69,30,73],[30,20,30,21],[30,11,30,13],[31,18,31,19],[30,14,30,16],[40,13,40,15],[41,19,41,21],[41,22,41,24],[41,32,41,35],[31,14,31,16],[31,8,31,10],[27,74,27,77],[21,35,21,38],[14,25,15,25],[14,26,15,28],[20,21,20,23],[20,11,20,13],[20,16,20,18],[23,21,23,23],[26,22,26,24],[29,18,29,19],[29,14,29,16],[23,25,23,28],[23,29,23,31],[23,32,23,34],[23,35,23,38],[24,37,24,38],[25,27,25,28],[25,29,26,30],[25,31,26,32],[24,29,24,30],[24,31,24,32],[24,33,24,34],[24,35,24,36],[22,25,22,28],[26,27,26,28],[25,25,25,26],[27,25,27,26],[27,27,27,28],[27,29,27,30],[23,16,23,18],[17,25,17,27],[18,25,18,27],[23,74,23,77],[23,78,23,81],[23,82,23,85],[5,0,5,9],[6,0,8,9],[17,41,17,47],[19,3,19,5],[20,61,20,65],[20,41,20,47],[20,50,20,52],[20,54,20,57],[19,41,19,47],[16,36,16,37],[21,61,21,65],[21,41,21,47],[21,50,21,52],[20,29,20,31],[20,32,20,34],[21,25,21,28],[20,25,20,28],[17,49,17,53],[17,54,17,58],[21,54,21,57],[19,32,19,34],[19,35,19,38],[19,50,19,52],[19,54,19,57],[20,35,20,38],[19,25,19,28],[19,29,19,31],[21,29,21,31],[21,32,21,34],[24,78,24,81],[26,74,26,77],[26,78,26,81],[23,41,23,47],[22,54,22,57],[22,82,22,85],[22,87,22,91],[23,69,23,73],[23,92,23,95],[23,96,23,99],[22,29,22,31],[22,32,22,34],[22,41,22,47],[22,50,22,52],[22,35,22,38],[22,7,22,8],[16,75,16,96],[17,83,17,84],[17,87,17,90],[19,74,19,77],[19,78,19,81],[17,60,17,66],[17,69,17,72],[17,74,17,77],[19,61,19,65],[19,82,19,85],[20,74,20,77],[23,61,23,65],[22,69,22,73],[22,74,22,77],[23,50,23,52],[23,54,23,57],[28,82,28,85],[25,74,25,77],[30,92,30,95],[19,100,19,103],[21,100,21,103],[21,96,21,99],[22,100,22,103],[20,92,20,95],[20,96,20,99],[25,96,25,99],[25,100,25,103],[26,96,26,99],[26,100,26,103],[22,61,22,65],[20,100,20,103],[21,74,21,77],[21,78,21,81],[26,82,26,85],[26,87,26,91],[24,87,24,91],[22,96,22,99],[22,92,22,95],[25,61,25,65],[26,61,26,65],[23,87,23,91],[20,78,20,81],[20,82,20,85],[20,87,20,91],[21,82,21,85],[21,87,21,91],[22,78,22,81],[24,74,24,77],[27,96,27,99],[27,100,27,103],[29,100,29,103],[29,78,29,81],[28,96,28,99],[28,100,28,103],[30,96,30,99],[28,92,28,95],[29,61,29,65],[28,61,28,65],[30,100,30,103],[29,92,29,95],[29,96,29,99],[24,61,24,65],[25,78,25,81],[25,82,25,85],[27,92,27,95],[27,87,27,91],[27,69,27,73],[27,61,27,65],[24,82,24,85],[24,69,24,73],[26,92,26,95],[30,82,30,85],[30,87,30,91],[30,78,30,81],[29,74,29,77],[29,82,29,85],[25,87,25,91],[26,69,26,73],[27,78,27,81],[27,82,27,85],[31,22,31,24],[35,69,35,73],[35,76,35,78],[35,81,35,84],[34,61,34,65],[33,61,33,65],[33,41,33,47],[34,29,34,30],[34,36,34,37],[35,61,35,65],[35,54,35,57],[35,41,35,47],[34,41,34,47],[35,50,35,52],[35,94,35,96],[33,84,34,97],[35,87,35,91],[32,96,32,99],[32,78,32,81],[31,92,31,95],[31,78,31,81],[31,82,31,85],[31,96,31,99],[35,99,35,102],[31,100,31,103],[32,100,32,103],[32,92,32,95],[38,54,38,57],[34,14,34,16],[34,18,34,19],[29,20,29,21],[29,22,29,24],[31,41,31,47],[31,50,31,52],[33,50,33,52],[34,20,34,21],[33,14,33,16],[33,18,33,19],[33,20,33,21],[34,50,34,52],[31,54,31,57],[32,54,32,57],[38,80,38,83],[38,68,38,74],[38,61,38,65],[32,69,32,73],[32,74,32,77],[30,22,30,24],[30,74,30,77],[32,50,32,52],[30,41,30,47],[30,50,30,52],[31,61,31,65],[30,61,30,65],[31,69,31,73],[33,68,34,81],[32,61,32,65],[31,74,31,77],[31,20,31,21],[47,10,47,12],[47,13,47,15],[38,98,38,101],[40,68,41,74],[41,98,41,101],[40,76,41,78],[40,86,40,92],[37,61,37,65],[37,76,37,78],[37,98,37,101],[32,5,32,7],[32,8,32,10],[32,11,32,13],[32,14,32,16],[32,18,32,19],[33,5,33,7],[33,8,33,10],[37,50,37,52],[37,54,37,57],[36,50,36,52],[36,54,36,57],[33,22,33,24],[37,41,37,47],[34,22,34,24],[33,54,33,57],[35,36,35,37],[34,54,34,57],[32,20,32,21],[32,22,32,24],[36,61,36,65],[38,41,38,47],[38,50,38,52],[40,16,40,18],[39,54,39,57],[55,0,55,6],[40,7,40,9],[40,10,40,12],[40,19,40,21],[44,36,44,37],[37,68,37,74],[38,76,38,78],[37,80,37,83],[40,94,40,96],[38,94,38,96],[41,86,41,92],[39,76,39,78],[39,80,39,83],[40,80,41,83],[41,94,41,96],[48,10,48,12],[42,7,42,9],[44,0,45,1],[46,0,46,1],[47,0,47,1],[48,0,48,1],[48,7,48,9],[48,13,48,15],[48,22,48,24],[42,16,42,18],[42,19,42,21],[42,32,42,35],[48,16,48,18],[48,19,48,21],[47,7,47,9],[40,22,40,24],[41,41,41,47],[42,22,42,24],[42,36,42,37],[39,61,39,65],[40,41,40,47],[40,50,40,52],[40,54,40,57],[40,61,40,65],[39,41,39,47],[44,25,44,28],[45,25,45,28],[46,25,46,28],[44,32,44,35],[45,32,45,35],[46,32,46,35],[45,29,45,30],[46,29,46,30],[42,13,42,15],[41,61,41,65],[46,100,46,103],[42,50,42,52],[45,85,45,90],[45,93,45,102],[42,54,42,57],[42,94,42,96],[42,98,42,101],[43,54,43,57],[43,61,43,65],[42,61,42,65],[42,41,42,47],[43,41,43,47],[43,50,43,52],[42,86,42,92],[48,100,48,103],[44,19,44,24],[47,16,47,18],[47,19,47,21],[47,22,47,24],[40,98,40,101],[39,98,39,101],[49,100,49,103],[48,88,48,91],[48,92,48,95],[48,96,48,99],[49,69,49,76],[49,81,49,83],[48,81,48,83],[49,88,49,91],[54,88,54,91],[50,84,50,87],[52,69,52,76],[53,100,53,103],[53,96,53,99],[53,84,53,87],[53,88,53,91],[53,92,53,95],[47,96,47,99],[47,100,47,103],[45,78,45,83],[47,69,47,76],[47,78,47,80],[47,81,47,83],[47,84,47,87],[47,88,47,91],[47,92,47,95],[39,68,39,74],[60,86,60,91],[60,92,60,97],[49,78,49,80],[48,69,48,76],[48,78,48,80],[49,84,49,87],[48,84,48,87],[54,100,54,103],[53,78,53,80],[51,92,51,95],[52,88,52,91],[52,92,52,95],[51,78,51,80],[51,81,51,83],[51,100,51,103],[51,88,51,91],[52,81,52,83],[50,78,50,80],[50,81,50,83],[50,69,50,76],[56,81,56,83],[53,81,53,83],[52,78,52,80],[55,100,55,103],[55,69,55,76],[55,78,55,80],[55,81,55,83],[55,84,55,87],[55,92,55,95],[50,64,50,67],[57,0,57,6],[59,22,59,24],[58,49,58,51],[57,62,57,64],[55,44,55,46],[57,59,57,61],[56,22,56,24],[71,7,71,9],[73,19,73,21],[72,19,72,21],[70,7,70,9],[64,0,64,6],[73,0,73,6],[70,0,70,6],[69,0,69,6],[68,0,68,6],[66,0,66,6],[65,0,65,6],[71,0,71,6],[67,0,67,6],[72,0,72,6],[73,7,73,9],[63,0,63,6],[62,0,62,6],[66,40,66,67],[70,16,70,18],[71,13,71,15],[57,19,57,21],[55,10,55,12],[57,7,57,9],[56,7,56,9],[57,13,57,15],[58,59,58,61],[58,62,58,64],[57,68,58,103],[60,98,60,103],[62,100,62,102],[65,19,65,21],[65,22,65,24],[65,69,65,72],[67,7,67,9],[61,81,61,84],[60,60,60,63],[60,64,60,67],[62,69,62,72],[63,100,63,102],[56,84,56,87],[56,88,56,91],[56,92,56,95],[56,100,56,103],[64,7,64,9],[64,10,64,12],[64,13,64,15],[64,16,64,18],[63,10,63,12],[63,95,63,97],[63,90,63,92],[62,94,62,96],[62,76,62,78],[62,82,62,84],[62,88,62,90],[63,85,63,87],[66,35,66,38],[59,0,59,6],[59,10,59,12],[58,0,58,6],[59,19,59,21],[58,13,58,15],[59,13,59,15],[58,10,58,12],[58,7,58,9],[59,7,59,9],[60,0,60,6],[61,0,61,6],[60,13,60,15],[60,16,60,18],[56,16,56,18],[56,19,56,21],[60,19,60,21],[58,56,58,58],[60,50,60,54],[61,29,61,30],[56,0,56,6],[59,16,59,18],[60,44,60,49],[58,40,58,43],[58,22,58,24],[60,22,60,24],[61,40,61,43],[60,55,60,59],[57,22,57,24],[60,36,60,37],[58,45,58,47],[56,40,56,43],[57,40,57,43],[62,29,62,30],[63,16,63,18],[68,25,68,28],[62,22,62,24],[63,13,63,15],[62,19,62,21],[67,89,67,91],[65,94,65,97],[68,44,68,48],[66,77,66,91],[68,58,68,62],[68,63,68,67],[65,44,65,50],[65,54,65,57],[65,58,65,64],[67,80,67,82],[64,19,64,21],[64,22,64,24],[63,75,63,77],[58,65,58,67],[60,29,60,30],[61,55,61,59],[61,50,61,54],[61,44,61,49],[61,69,61,72],[58,53,58,55],[61,22,61,24],[61,13,61,15],[61,16,61,18],[58,16,58,18],[58,19,58,21],[67,44,67,48],[68,49,68,53],[68,54,68,57],[65,40,65,43],[67,40,67,43],[68,13,68,15],[68,16,68,18],[61,60,61,63],[61,64,61,67],[59,60,59,63],[67,16,67,18],[67,19,67,21],[67,22,67,24],[60,40,60,43],[59,44,59,59],[62,13,62,15],[62,16,62,18],[63,22,63,24],[63,19,63,21],[64,69,64,72],[67,98,67,103],[70,84,70,85],[68,83,68,85],[68,101,68,103],[68,86,68,88],[68,89,68,91],[70,89,70,91],[70,92,70,94],[68,95,68,97],[68,92,68,94],[68,73,68,76],[67,83,67,85],[67,68,70,72],[68,77,68,79],[70,80,70,82],[68,80,68,82],[70,73,70,76],[70,78,70,79],[70,86,70,88],[70,95,70,97],[70,98,70,100],[70,101,70,103],[70,49,70,53],[70,54,70,57],[81,68,82,103],[75,58,75,62],[78,68,78,72],[78,73,78,77],[77,78,77,82],[78,100,78,103],[78,78,78,82],[78,58,78,62],[78,88,78,91],[76,79,76,82],[78,49,78,53],[79,49,79,53],[77,54,77,57],[75,49,75,53],[77,49,77,53],[80,93,80,95],[80,97,80,99],[80,63,80,67],[80,83,80,87],[80,89,80,91],[79,102,79,103],[77,63,77,67],[73,63,73,67],[71,68,72,82],[71,84,72,103],[72,63,72,67],[71,63,71,67],[70,63,70,67],[69,16,69,18],[69,19,69,21],[67,10,67,12],[71,49,71,53],[72,49,72,53],[72,25,72,28],[68,7,68,9],[68,10,68,12],[80,58,80,62],[74,69,74,75],[79,44,79,48],[74,58,74,62],[74,40,74,43],[74,54,74,57],[76,44,76,48],[76,49,76,53],[76,54,76,57],[77,40,77,43],[76,40,76,43],[69,40,69,67],[68,40,68,43],[69,22,69,24],[69,32,69,33],[75,54,75,57],[76,25,76,28],[76,29,76,30],[70,10,70,12],[77,44,77,48],[70,32,70,33],[70,35,70,37],[73,58,73,62],[71,54,71,57],[14,68,15,82],[15,29,15,30],[15,32,15,33],[18,28,18,30],[16,32,16,33],[17,32,17,34],[18,31,18,34],[18,35,18,38],[54,48,54,51],[51,33,51,35],[51,25,51,28],[57,56,57,58],[57,65,57,67],[76,63,76,67],[72,40,72,43],[49,51,49,54],[75,44,75,48],[73,44,73,48],[73,49,73,53],[73,54,73,57],[74,44,74,48],[76,32,76,33],[66,32,66,34],[73,32,73,33],[73,25,73,28],[70,29,70,30],[71,29,71,30],[71,32,71,33],[74,63,74,67],[65,74,65,77],[65,79,65,82],[55,48,55,50],[14,83,15,96],[54,56,54,59],[36,68,36,74],[36,80,36,83],[36,86,36,92],[54,60,54,67],[49,59,49,62],[17,36,17,38],[56,96,56,99],[55,88,55,91],[53,69,53,76],[54,44,54,47],[54,52,54,55],[55,60,55,63],[55,64,55,66],[56,49,56,54],[54,69,54,76],[54,78,54,80],[41,54,41,57],[39,50,39,52],[52,84,52,87],[50,96,50,99],[50,92,50,95],[50,88,50,91],[51,96,51,99],[50,51,50,54],[54,92,54,95],[54,96,54,99],[51,84,51,87],[49,92,49,95],[49,96,49,99],[15,35,15,37],[36,98,36,101],[36,76,36,78],[37,86,37,92],[38,86,38,92],[39,86,39,92],[39,94,39,96],[37,94,37,96],[69,25,69,28],[55,25,55,30],[55,35,55,38],[68,29,68,30],[68,32,68,33],[68,35,68,37],[69,35,69,37],[69,29,69,30],[61,36,61,37],[50,29,50,32],[50,33,50,38],[36,29,36,30],[36,36,36,37],[44,29,44,30],[52,100,52,103],[50,100,50,103],[52,96,52,99],[54,84,54,87],[57,44,57,47],[57,48,57,51],[41,36,41,37],[46,36,46,37],[45,36,45,37],[41,50,41,52],[55,40,55,43],[36,94,36,96],[54,25,54,32],[51,36,51,38],[41,29,41,30],[40,36,40,37],[40,29,40,30],[50,25,50,28],[27,31,27,32],[27,33,27,34],[27,35,27,36],[27,37,27,38],[35,29,35,30],[25,33,26,34],[25,35,26,36],[26,25,26,26],[56,78,56,80],[54,40,54,43],[51,29,51,32],[49,55,49,58],[49,63,49,67],[49,40,49,46],[48,51,48,54],[48,63,48,66],[48,57,48,60],[46,70,46,75],[42,76,42,78],[42,80,42,83],[42,68,42,74],[43,68,44,83],[43,84,44,103],[45,58,45,62],[46,96,46,99],[55,52,55,54],[50,60,50,62],[50,56,50,58],[55,56,55,58],[80,35,81,38],[83,36,83,37],[82,54,82,57],[83,44,83,48],[50,48,50,50],[49,47,49,50],[72,35,72,37],[73,35,73,37],[81,44,81,48],[80,40,80,43],[84,44,84,48],[81,49,81,53],[82,44,82,48],[83,40,83,43],[81,58,81,62],[70,40,70,43],[70,44,70,48],[84,40,84,43],[71,35,71,37],[74,49,74,53],[75,35,75,37],[74,35,74,37],[67,54,67,57],[76,58,76,62],[78,54,78,57],[70,58,70,62],[67,49,67,53],[84,54,84,57],[65,99,65,102],[88,45,88,48],[83,49,83,53],[83,54,83,57],[83,58,83,62],[91,47,91,49],[91,50,91,52],[91,28,91,29],[91,30,91,31],[90,59,90,61],[91,53,91,58],[84,58,84,62],[84,63,84,67],[82,58,82,62],[91,32,91,34],[88,51,88,54],[72,32,72,33],[83,29,83,30],[80,25,81,28],[82,63,82,67],[83,63,83,67],[77,83,77,87],[78,63,78,67],[76,70,76,73],[65,84,65,87],[79,63,79,67],[79,98,79,99],[80,101,80,103],[80,69,80,71],[80,74,80,76],[80,79,80,81],[76,97,76,100],[83,26,83,27],[72,58,72,62],[73,16,73,18],[75,25,75,28],[71,25,71,28],[81,29,81,31],[75,29,75,30],[75,32,75,33],[74,25,74,28],[88,30,88,31],[81,54,81,57],[83,32,83,33],[81,32,81,34],[82,40,82,43],[88,28,88,29],[84,49,84,53],[83,73,85,103],[76,88,76,91],[77,92,77,95],[77,88,77,91],[78,83,78,87],[74,32,74,33],[80,44,80,48],[78,40,78,43],[78,44,78,48],[79,40,79,43],[75,40,75,43],[81,40,81,43],[78,96,78,99],[78,92,78,95],[77,58,77,62],[75,63,75,67],[72,16,72,18],[70,25,70,28],[82,49,82,53],[72,29,72,30],[73,40,73,43],[72,44,72,48],[72,54,72,57],[71,40,71,43],[71,44,71,48],[86,14,86,16],[73,29,73,30],[74,29,74,30],[72,10,72,12],[71,10,71,12],[70,19,70,21],[91,62,91,67],[81,63,81,67],[76,35,76,37],[90,40,90,43],[90,45,90,46],[89,62,89,64],[89,40,89,43],[90,62,90,64],[83,22,83,24],[81,22,81,24],[71,16,71,18],[71,58,71,62],[80,54,80,57],[80,49,80,53],[79,54,79,57],[79,58,79,62],[81,13,81,15],[92,40,92,43],[92,44,92,46],[92,47,92,49],[91,40,91,43],[91,44,91,46],[92,50,92,52],[90,47,90,49],[90,51,90,52],[90,65,90,67],[91,35,91,36],[91,37,91,38],[88,62,88,67],[92,32,92,34],[91,26,91,27],[89,32,89,34],[91,6,91,8],[91,14,91,16],[91,22,91,24],[92,6,92,8],[92,22,92,24],[89,6,89,8],[89,14,89,16],[89,22,89,24],[90,6,90,8],[90,14,90,16],[90,22,90,24],[92,53,92,58],[92,62,92,67],[90,53,90,55],[90,56,90,58],[88,32,88,34],[86,2,86,5],[86,6,86,8],[86,9,86,13],[86,17,86,21],[81,16,81,18],[81,19,81,21],[83,13,83,15],[82,22,82,24]],"merged_total":1087,"flags":["merged_cut"]}
[{"$f":"+データ一覧!J5","v":0}]
[{"$f":"+データ一覧!J8","v":0}]
[]
[null,null,null,null,null,null,null,null,null,null,null,null,null,null,null,null,null,null,null,null,null,null,null,null,null,null,null,"【市紋章とそのいわれ】大の（大野）を図案化したもので、円は",null,null,null,null,null,null,null,null,null,null,null,null,"  【位置および地勢】大野市は福井県の東端に位置し、東は岐阜県郡上市、高山市、",null,null,null,null,null,null,null,null,null,null,null,null,null,null,null,null,null,null,null,null,null,null,null,null,null,null,null,null,null,null,"所在地",null,null,null,null,null,null,null,"〒912-8666"]
[null,null,null,null,null,null,null,null,null,null,null,null,null,null,null,null,null,null,null,null,null,null,null,null,null,null,null,"                 和と団結を象徴し、円満な市政の運用を意味し、",null,null,null,null,null,null,null,null,null,null,null,null,null,"西は福井市、池田町、 南は岐阜県関市、本巣市および揖斐川町、北は勝山市および",null,null,null,null,null,null,null,null,null,null,null,null,null,null,null,null,null,null,null,null,null,null,null,null,null,null,null,null,null,null,null,null,null,null,null,null,null,"大野市天神町１番１号"]
[{"$f":"+データ一覧!J6","v":"おおのし"},null,null,null,null,null,null,null,null,null,null,null,null,null,null,null,null,null,null,null,null,null,null,null,null,null,null,"                  剣尖は市の将来の発展性を表す。昭和２９年    ",null,null,null,null,null,null,null,null,null,null,null,null,null,"石川県の白山市に接している。四方を1,000ｍ級の霊峰白山の支脈に囲まれ、市域の"]
[{"$f":"データ一覧!J9","v":"大野市"},null,null,null,null,null,null,null,null,null,null,null,null,null,null,null,null,null,null,null,null,null,null,null,null,null,null,"                  ７月１日、市制施行と同時に公募により制定。  ",null,null,null,null,null,null,null,null,null,null,null,null,null,"約8割が林野に覆われており、これらの山岳地形の間を縫うように、岐阜県境に源を",null,null,null,null,null,null,null,null,null,null,null,null,null,null,null,null,null,null,null,null,null,null,null,null,null,null,null,null,null,"電話番号",null,null,null,null,null,null,null,"（０７７９）６６－１１１１"]
[null,null,null,null,null,null,null,null,null,null,null,null,null,null,null,null,null,null,null,null,null,null,null,null,null,null,null,0,null,null,null,null,null,null,null,null,null,null,null,null,null,"発する九頭竜川が貫流し、これへ石徹白川をはじめ多くの中小河川が合流している。",null,null,null,null,null,null,null,null,null,null,null,null,null,null,null,null,null,null,null,null,null,null,null,null,null,null,null,null,null,"FAX番号",null,null,null,null,null,null,null,"     〃     ６５－８３７１"]
[null,null,null,null,null,null,null,null,null,null,null,null,null,null,null,null,null,null,null,null,null,null,null,null,null,null,null,0,null,null,null,null,null,null,null,null,null,null,null,null,null,"市内の交通は、国道１５７号が南北に、国道１５８号が東西に走り、東は東海北陸"]
[null,null,null,null,null,null,null,null,null,null,null,null,null,null,null,null,null,null,null,null,null,null,null,null,null,null,null,0,null,null,null,null,null,null,null,null,null,null,null,null,null,"自動車道、西は北陸自動車道に連絡している。また、ＪＲ越美北線が国道１５８号に",null,null,null,null,null,null,null,null,null,null,null,null,null,null,null,null,null,null,null,null,null,null,null,null,null,null,null,null,null,"最寄駅および距離",null,null,null,null,null,null,null,"ＪＲ越美北線越前大野駅  下車１ｋｍ"]
[null,null,null,null,null,null,null,null,null,null,null,null,null,null,null,null,null,null,null,null,null,null,null,null,null,null,null,{"$f":"+データ一覧!#REF!","v":{"$error":"#REF!"}},null,null,null,null,null,null,null,null,null,null,null,null,null,"ほぼ並行して走り、越前花堂駅でＪＲ北陸本線と接続している。中部縦貫自動車道に"]
[null,null,null,null,null,null,null,null,null,null,null,null,null,null,null,null,null,null,null,null,null,null,null,null,null,null,null,null,null,null,null,null,null,null,null,null,null,null,null,null,null,"ついては、永平寺大野道路が全線開通し、北陸自動車道と直結している。"]
[null,null,null,null,null,null,null,null,null,null,null,null,null,null,null,null,null,null,null,null,null,null,null,null,null,null,null,"【市が掲げる標語】人がつながり地域がつながる　住み続けたい結のまち",null,null,null,null,null,null,null,null,null,null,null,null,null,null,null,null,null,null,null,null,null,null,null,null,null,null,null,null,null,null,null,null,null,null,null,null,null,null,null,null,null,null,null,"ホームページ",null,null,null,null,null,null,null,"http://www.city.ono.fukui.jp/"]
[]
["  １  土            　　地",null,null,null,null,null,null,null,null,null,null,null,null,null,null,null,null,null,null,null,null,null,null,null,null,{"$f":"データ一覧!$A$247","v":"元年"},"産米収穫量",null,null,"　 収　穫　量",null,null," 　作 付 面 積",null,null,"   10a当たり収量",null,null,null,null,null,null,null,null,null,null,null,null,null,null,null,null,null,null,null,null,null,null,null,null,null,null,null,null,null,null,null,null," １５  労　　　　　　　働",null,null,null,null,null,null,null,null,null,null,null,null,null,null,"27.10.1"]
[null,null,null,null,null,null,null,null,null,null,null,null,null,null,null,null,null,null,null,null,null,null,null,null,null,null,null,null,null,{"$f":"データ一覧!$J$247","v":14200},null,"t",{"$f":"データ一覧!$J$248","v":2680},null,"ha",{"$f":"データ一覧!J249","v":530},null,null,"kg",null," １０  工　　　　　　業 ",null,null,null,null,null,null,null,null,null,null,null,null,null,{"$f":"データ一覧!$A$339","v":"元.6.1（平成30年実績）"}]
["   総          面           積",null,null,null,null,null,null,null,null,null," 固 定 資 産 概 要 調 書 に よ る 地 目 別 面 積",null,null,null,null,null,null,null,null,null,null,null,null,null,null,null,null,null,"   総　　　数",null,null,null,"うち　　田",null,null,null,"うち　　畑",null,null,null,null,null,null,null,null,null,null,null,null,null,null,null,null,null,null,null,null,null,null,null,null,null,null,null,null,null,null,null,null,null,null,null,null,null,null,"産業別就業者数   "]
[null,null,{"$f":"データ一覧!$A$10","v":"2.10.1"},null,null,null,null,null,null,null,null,null,null,null,null,null,{"$f":"データ一覧!$A$12","v":"2.1.1"},null,null,null,null,null,null,null,null," 耕  地  面  積",null,null,null,"       ha",null,null,"ha ",null,null,null,"ha ",null,null,null,"      ","産業分類",null,null,null,null,null,null,null,"事業所数",null,null,null,null,"従業者数",null,null,null,null,null,"年間製造品出荷額等",null,null,null,null,null,null,null,null,"区  分",null,null,null,null,"総    数",null,null,null,null,"男",null,null,null,"女",null,null,"  ","区  分",null,null,null,null,"総    数",null,null,null,null,"男",null,null,null,"女"]
[null,null,null,null,null,null,"㎢",null,null,null,"   総       数",null,null,null,null,"  う ち     田",null,null,null,null,"  う ち     畑",null,null,null,null,{"$f":"データ一覧!$A$250","v":"元.7.15"},null,null,{"$f":"データ一覧!$J$250","v":4200},null,null,{"$f":"データ一覧!$J$251","v":4060},null,null,null,{"$f":"データ一覧!$J$252","v":141},null,null,null,null,null,null,null,null,null,null,null,null,null,"　　   ",null,null,"事業所",null,"　　　　　　　 人",null,null,"人",null,"　　　　　　　　　　　　　　万円",null,null,null,null,null,null,"万円",null,null,null,null,null,null,null,"      人",null,null,null,null,null," 人",null,null,null," 人",null,null,null,null,null,null,null,"      人",null,null,null,"      人",null,null,null,"      人"]
[null,null,null,{"$f":"データ一覧!J10","v":872.43},null,null,null,null,null,null,null,null,null,null,"ha",null,null,null,null,"ha",null,null,null,null,"ha","農 業 生 産 物",null,null,null,"作 付 面 積",null,null,"収 穫 量",null,null,"10a当たり収量",null,null,null,null,"     ","総数",null,null,null,null,null,null,null,null,{"$f":"データ一覧!J339","v":81},null,null,null,{"$f":"+データ一覧!J364","v":2501},null,null,null,null,null,null,{"$f":"データ一覧!J389","v":6467559},null,null,null,null,null,null," 総　　　数",null,null,null,null,null,{"$f":"CA20+CE20","v":17733},null,null,null,{"$f":"データ一覧!J514","v":9403},null,null,null,{"$f":"データ一覧!J539","v":8330}]
[null,null,null,null,null,null,null,null,null,null,null,{"$f":"データ一覧!J12","v":48571.199999999997},null,null,null,null,{"$f":"データ一覧!J13","v":4218.3},null,null,null,null,{"$f":"データ一覧!J14","v":232.2},null,null,null,{"$f":"データ一覧!$A$253","v":"元年中"},null,null,null,"ha",null,null,"t",null,null,"kg",null,null,null,null,"     食料品","食料品",null,null,null,null,null,null,null,null,{"$f":"データ一覧!J340","v":8},null,null,null,{"$f":"+データ一覧!J365","v":151},null,null,null,null,null,null,{"$f":"データ一覧!J390","v":125665},null,null,null,null,null,null,null,null,null,null,null,null,null,null,null,null,null,null,null,null,null,null,null,null,null,"卸売業,小売業",null,null,null,null,{"$f":"CS21+CW21","v":2359},null,null,null,{"$f":"データ一覧!J527","v":1142},null,null,null,{"$f":"データ一覧!J552","v":1217}]
["  町 ･ 丁 ･ 大 字",null,null,null,null,null,null,null,null,null,"  う ち  宅 地",null,null,null,null,"  う ち  山 林",null,null,null,null,"  う ち  原 野",null,null,null,null,"水　　　　　稲",null,null,null,{"$f":"データ一覧!J253","v":2680},null,null,{"$f":"データ一覧!J254","v":14200},null,null,{"$f":"データ一覧!J255","v":530},null,null,null,null,"     飲料・飼料","飲料・飼料",null,null,null,null,null,null,null,null,{"$f":"データ一覧!J341","v":2},null,null,null,{"$f":"+データ一覧!J366","v":28},null,null,null,null,null,null,{"$f":"データ一覧!J391","v":"x"},null,null,null,null,null,null," 第１次産業",null,null,null,null,null,{"$f":"CA22+CE22","v":1557},null,null,null,{"$f":"データ一覧!J515","v":934},null,null,null,{"$f":"データ一覧!J540","v":623},null,null,null,null,"金融業,保険業",null,null,null,null,{"$f":"CS22+CW22","v":333},null,null,null,{"$f":"データ一覧!J528","v":143},null,null,null,{"$f":"データ一覧!J553","v":190}]
["  区    画    数",null,null,null,null,null,null,{"$f":"データ一覧!J11","v":207},null,null,null,null,null,null,"ha",null,null,null,null,"ha",null,null,null,null,"ha","六　条　大　麦",null,null,null,{"$f":"データ一覧!J256","v":653},null,null,{"$f":"データ一覧!J257","v":1860},null,null,{"$f":"データ一覧!J258","v":285},null,null,null,null,"     繊維","繊維",null,null,null,null,null,null,null,null,{"$f":"データ一覧!J342","v":25},null,null,null,{"$f":"+データ一覧!J367","v":482},null,null,null,null,null,null,{"$f":"データ一覧!J392","v":424231},null,null,null,null,null,null,"  ","農業",null,null,null,null,{"$f":"CA23+CE23","v":1462},null,null,null,{"$f":"データ一覧!J516","v":848},null,null,null,{"$f":"データ一覧!J541","v":614},null,null,null,"  ","不動産業",null,null,null,null,118,null,null,null,{"$f":"データ一覧!J529","v":79},null,null,null,{"$f":"データ一覧!J554","v":39}]
[{"$f":"データ一覧!$A$11","v":"31.4.1"},null,null,null,null,null,null,null,null,null,null,{"$f":"データ一覧!J15","v":995.1},null,null,null,null,{"$f":"データ一覧!J16","v":13098.3},null,null,null,null,{"$f":"データ一覧!J17","v":674.4},null,null,null,"大　　      豆",null,null,null,{"$f":"データ一覧!J259","v":86},null,null,{"$f":"データ一覧!J260","v":78},null,null,{"$f":"データ一覧!J261","v":90},null,null,null,null,"     衣服","木材",null,null,null,null,null,null,null,null,{"$f":"データ一覧!J343","v":2},null,null,null,{"$f":"+データ一覧!J368","v":192},null,null,null,null,null,null,{"$f":"データ一覧!J393","v":"x"},null,null,null,null,null,null,"  ","林業",null,null,null,null,93,null,null,null,{"$f":"データ一覧!J517","v":84},null,null,null,{"$f":"データ一覧!J542","v":9},null,null,null,"  ","学術研究",null,null,null,null,380,null,null,null,{"$f":"データ一覧!J530","v":241},null,null,null,{"$f":"データ一覧!J555","v":139}]
["  ２  世　帯　数　と　人　口",null,null,null,null,null,null,null,null,null,null,null,null,null,null,null,null,null,null,null,null,null,null,null,null,null,null,"  区　分",null," 乳 用 牛",null," 肉 用 牛",null,"豚",null,"採卵鶏",null,"ブロイラー",null,null,"     木材","家具",null,null,null,null,null,null,null,null,{"$f":"データ一覧!J344","v":2},null,null,null,{"$f":"+データ一覧!J369","v":26},null,null,null,null,null,null,{"$f":"データ一覧!J394","v":"x"},null,null,null,null,null,null,"  ","漁業",null,null,null,null,2,null,null,null,{"$f":"データ一覧!J518","v":2},null,null,null,{"$f":"データ一覧!J543","v":0},null,null,null,"  ","宿泊業,飲食ｻｰﾋﾞｽ",null,null,null,null,693,null,null,null,{"$f":"データ一覧!J531","v":252},null,null,null,{"$f":"データ一覧!J556","v":441}]
[null,null,null,null,null,null,null,null,null,null,null,null,null,null,null,null,null,null,null,null,null,null,null,null,null,"畜　産",null," 飼養農家",null,{"$f":"データ一覧!$J$262","v":5},null,{"$f":"データ一覧!$J$264","v":"x"},null,{"$f":"データ一覧!$J$266","v":"x"},null,{"$f":"データ一覧!$J$268","v":"x"},null,{"$f":"データ一覧!$J$270","v":"-"},null,null,"     家具","パルプ・紙",null,null,null,null,null,null,null,null,{"$f":"データ一覧!J345","v":3},null,null,null,{"$f":"+データ一覧!J370","v":45},null,null,null,null,null,null,{"$f":"データ一覧!J395","v":44450},null,null,null,null,null,null," 第２次産業",null,null,null,null,null,5566,null,null,null,{"$f":"データ一覧!J519","v":3722},null,null,null,{"$f":"データ一覧!J544","v":1844},null,null,null,"  ","生活関連ｻｰﾋﾞｽ業",null,null,null,null,613,null,null,null,{"$f":"データ一覧!J532","v":215},null,null,null,{"$f":"データ一覧!J557","v":398}]
[null,null,null,null,null,null,null,null,"        人　　　　　　　　　　口",null,null,null,null,null,null,null,null,null,null,null,"１世帯当",null,"人    口",null,null,{"$f":"データ一覧!$A$262","v":"2.3.31"},null,"（戸）",null,null,null,null,null,null,null,null,null,null,null,null,"     パルプ・紙","印刷",null,null,null,null,null,null,null,null,{"$f":"データ一覧!J346","v":2},null,null,null,{"$f":"+データ一覧!J371","v":26},null,null,null,null,null,null,{"$f":"データ一覧!J396","v":"x"},null,null,null,null,null,null,null,"鉱業，採石業",null,null,null,null,6,null,null,null,{"$f":"データ一覧!J520","v":5},null,null,null,{"$f":"データ一覧!J545","v":1},null,null,null,"  ","教育,学習支援業",null,null,null,null,758,null,null,null,{"$f":"データ一覧!J533","v":314},null,null,null,{"$f":"データ一覧!J558","v":444}]
[" 区　　　　分",null,null,null,null,"世帯数",null,null," 総   数",null,null,"    男",null,null,"    女",null,null,"  男／女",null,null,"たり人員",null,"密    度",null,null,null,null," 頭 羽",null,{"$f":"データ一覧!$J$263","v":218},null,{"$f":"データ一覧!$J$265","v":7},null,{"$f":"データ一覧!$J$267","v":120},null,{"$f":"データ一覧!$J$269","v":200},null,{"$f":"データ一覧!$J$271","v":"-"},null,null,"     出版・印刷","化学",null,null,null,null,null,null,null,null,{"$f":"データ一覧!J347","v":0},null,null,null,{"$f":"+データ一覧!J372","v":0},null,null,null,null,null,null,{"$f":"データ一覧!J397","v":0},null,null,null,null,null,null,"  ","建設業",null,null,null,null,2161,null,null,null,{"$f":"データ一覧!J521","v":1833},null,null,null,{"$f":"データ一覧!J546","v":328},null,null,null,null,"医療，福祉",null,null,null,null,2635,null,null,null,{"$f":"データ一覧!J534","v":508},null,null,null,{"$f":"データ一覧!J559","v":2127}]
[null,null,null,null,null,"    世 帯",null,null,"       人",null,null,"       人",null,null,"       人",null,null,null,"　　％",null,"    人",null,"    人/㎢",null,null,null,null,null,null,null,null,null,null,null,null,null,null,null,null,null,"     化学","石油・石炭",null,null,null,null,null,null,null,null,{"$f":"データ一覧!J348","v":0},null,null,null,{"$f":"+データ一覧!J373","v":0},null,null,null,null,null,null,{"$f":"データ一覧!J398","v":0},null,null,null,null,null,null,null,"製造業",null,null,null,null,3399,null,null,null,{"$f":"データ一覧!J522","v":1884},null,null,null,{"$f":"データ一覧!J547","v":1515},null,null,null,null,"複合サービス事業",null,null,null,null,324,null,null,null,{"$f":"データ一覧!J535","v":197},null,null,null,{"$f":"データ一覧!J560","v":127}]
[{"$f":"データ一覧!$A$25","v":" 2.10.1"},null,null,null,null,{"$f":"データ一覧!J25","v":10758},null,null,{"$f":"+L30+O30","v":41837},null,null,{"$f":"データ一覧!J27","v":19944},null,null,{"$f":"データ一覧!J28","v":21893},null,null,null,{"$f":"+L30/O30*100","v":91.097611108573517},null,{"$f":"データ一覧!J30","v":3.89},null,{"$f":"データ一覧!J24","v":0},null,null,"  ５  林               業",null,null,null,null,null,null,null,null,null,null,null,null,null,null,"     石油・石炭","プラスチック",null,null,null,null,null,null,null,null,{"$f":"データ一覧!J349","v":2},null,null,null,{"$f":"+データ一覧!J374","v":40},null,null,null,null,null,null,{"$f":"データ一覧!J399","v":"x"},null,null,null,null,null,null," 第３次産業",null,null,null,null,null,10553,null,null,null,{"$f":"データ一覧!J523","v":4716},null,null,null,{"$f":"データ一覧!J548","v":5837},null,null,null,null,"サービス業",null,null,null,null,916,null,null,null,{"$f":"データ一覧!J536","v":546},null,null,null,{"$f":"データ一覧!J561","v":370}]
[{"$f":"データ一覧!$A$32","v":" 7.10.1"},null,null,null,null,{"$f":"データ一覧!J32","v":10862},null,null,{"$f":"+L31+O31","v":41069},null,null,{"$f":"データ一覧!J34","v":19537},null,null,{"$f":"データ一覧!J35","v":21532},null,null,null,90.73472041612483,null,{"$f":"データ一覧!J37","v":3.78},null,{"$f":"データ一覧!J31","v":0},null,null,null,null,null,null,null,null,null,null,null,null,null,null,null,null,null,"     プラスチック","ゴム",null,null,null,null,null,null,null,null,{"$f":"データ一覧!J350","v":0},null,null,null,{"$f":"+データ一覧!J375","v":0},null,null,null,null,null,null,{"$f":"データ一覧!J400","v":0},null,null,null,null,null,null,null,"電気･ｶﾞｽ･水道業",null,null,null,null,152,null,null,null,{"$f":"データ一覧!J524","v":137},null,null,null,{"$f":"データ一覧!J549","v":15},null,null,null,null,"公務",null,null,null,null,603,null,null,null,{"$f":"データ一覧!J537","v":415},null,null,null,{"$f":"データ一覧!J562","v":188}]
[{"$f":"データ一覧!$A$39","v":"12.10.1"},null,null,null,null,{"$f":"データ一覧!J39","v":11151},null,null,{"$f":"+L32+O32","v":39632},null,null,{"$f":"データ一覧!J41","v":18942},null,null,{"$f":"データ一覧!J42","v":20690},null,null,null,91.551474142097632,null,{"$f":"データ一覧!J44","v":3.55},null,{"$f":"データ一覧!J38","v":0},null,null,"    　森　　　林　　　総　　　面　　　積   ",null,null,null,null,null,null,null,{"$f":"データ一覧!$A$272","v":"2.3.31"},null,null,null,null,null,null,"     ゴム","皮革",null,null,null,null,null,null,null,null,{"$f":"データ一覧!J351","v":0},null,null,null,{"$f":"+データ一覧!J376","v":0},null,null,null,null,null,null,{"$f":"データ一覧!J401","v":0},null,null,null,null,null,null,null,"情報通信業",null,null,null,null,139,null,null,null,{"$f":"データ一覧!J525","v":108},null,null,null,{"$f":"データ一覧!J550","v":31},null,null,null," 分類不能の産業",null,null,null,null,null,57,null,null,null,{"$f":"データ一覧!J538","v":31},null,null,null,{"$f":"データ一覧!J563","v":26}]
[{"$f":"+データ一覧!$A$46","v":"17.10.1"},null,null,null,null,{"$f":"データ一覧!J46","v":11230},null,null,{"$f":"+L33+O33","v":37843},null,null,{"$f":"データ一覧!J48","v":17956},null,null,{"$f":"データ一覧!J49","v":19887},null,null,null,90.290139286971396,null,{"$f":"データ一覧!J51","v":3.37},null,{"$f":"データ一覧!J52","v":43.4},null,null,"　　　森　　　　　　　林　　　　　　　の　　　　　　　構　　　　　　　成",null,null,null,null,null,null,null,null,null,null,null,null,null,null,"     皮革","窯業・土石",null,null,null,null,null,null,null,null,{"$f":"データ一覧!J352","v":4},null,null,null,{"$f":"+データ一覧!J377","v":42},null,null,null,null,null,null,{"$f":"データ一覧!J402","v":130165},null,null,null,null,null,null,"  ","運輸業,郵便業",null,null,null,null,{"$f":"CA33+CE33","v":530},null,null,null,{"$f":"データ一覧!J526","v":419},null,null,null,{"$f":"データ一覧!J551","v":111}]
[{"$f":"+データ一覧!$A$53","v":"22.10.1"},null,null,null,null,{"$f":"+データ一覧!J53","v":10847},null,null,{"$f":"+L34+O34","v":35291},null,null,{"$f":"+データ一覧!J55","v":16705},null,null,{"$f":"+データ一覧!J56","v":18586},null,null,null,89.879479177875822,null,{"$f":"+データ一覧!J58","v":3.25},null,{"$f":"+データ一覧!J59","v":40.5},null,null,null,null,null,null,null,"       ha",null,null,null,null,null,null,"       ha",null,null,"     窯業・土石","鉄鋼",null,null,null,null,null,null,null,null,{"$f":"データ一覧!J353","v":0},null,null,null,{"$f":"+データ一覧!J378","v":0},null,null,null,null,null,null,{"$f":"データ一覧!J403","v":0},null,null,null,null,null,null," １６  社　 会 　福　 祉",null,null,null,null,null,null,null,null,null,null,null,null,null,null,null,{"$f":"データ一覧!$A$564","v":"2.4.1"}]
[{"$f":"データ一覧!$A$60","v":"27.10.1"},null,null,null,null,{"$f":"データ一覧!J60","v":10698},null,null,{"$f":"データ一覧!J61","v":33109},null,null,{"$f":"データ一覧!J62","v":15683},null,null,{"$f":"データ一覧!J63","v":17426},null,null,null,89.997704579364168,null,{"$f":"データ一覧!J65","v":3.0948775472050851},null,{"$f":"データ一覧!J66","v":38},null,null,"  総　　　　　   数",null,null,null,{"$f":"データ一覧!J272","v":75826.59},null,null," 天然林       針葉樹",null,null,null,{"$f":"データ一覧!J275","v":460.69},null,null,null,"     鉄鋼","非鉄金属",null,null,null,null,null,null,null,null,{"$f":"データ一覧!J354","v":0},null,null,null,{"$f":"+データ一覧!J379","v":0},null,null,null,null,null,null,{"$f":"データ一覧!J404","v":0}]
[{"$f":"+データ一覧!$A$67","v":"2.10.1"},null,null,null,null,{"$f":"データ一覧!J67","v":10703},null,null,{"$f":"データ一覧!J76","v":30621},null,null,{"$f":"データ一覧!J77","v":14563},null,null,{"$f":"データ一覧!J78","v":16058},null,null,null,{"$f":"+L36/O36*100","v":90.689998754514889},null,{"$f":"データ一覧!J68","v":2.86},null,{"$f":"データ一覧!J69","v":35.098517932670816},null,null,"  人工林     針葉樹",null,null,null,{"$f":"データ一覧!J273","v":18340.580000000002},null,null," 天然林       広葉樹",null,null,null,{"$f":"データ一覧!J276","v":51949.7},null,null,null,"     非鉄金属","金属",null,null,null,null,null,null,null,null,{"$f":"データ一覧!J355","v":15},null,null,null,{"$f":"+データ一覧!J380","v":315},null,null,null,null,null,null,{"$f":"データ一覧!J405","v":720133},null,null,null,null,null,null,"    ","区分",null,null,null,null,null,null,"施設数",null,null,null,null,"収容定員",null,null,null,null,null,"区分",null,null,null,null,null,null,"施設数",null,null,null,null,"収容定員"]
["年",null,"  区",null," 0歳",null,null,"15歳",null,null,"25歳",null,null,"35歳",null,null,"45歳",null,null,"55歳",null,null,"65歳",null,null,"  人工林     広葉樹",null,null,null,{"$f":"データ一覧!J274","v":1373.56},null,null," 竹               林",null,null,null,{"$f":"データ一覧!J277","v":8.83},null,null,null,"     金属","はん用機械",null,null,null,null,null,null,null,null,{"$f":"データ一覧!J356","v":0},null,null,null,{"$f":"+データ一覧!J381","v":0},null,null,null,null,null,null,{"$f":"データ一覧!J406","v":0},null,null,null,null,null,null,"生活保護施設",null,null,null,null,null,null,null,{"$f":"データ一覧!J564","v":1},null,null,null,{"$f":"データ一覧!J577","v":140},null,null,null,"人",null,"指定障害者支援施設",null,null,null,null,null,null,null,{"$f":"データ一覧!J570","v":2},null,null,null,{"$f":"データ一覧!J583","v":110},null,null,null,"人"]
["齢","令",null,null,null,"～",null,null,"～",null,null,"～",null,null,"～",null,null,"～",null,null,"～",null,null,null,null,null,null,null,null,null,null,null,null,null,null,null,null,null,null,null,"     一般機械","生産用機械",null,null,null,null,null,null,null,null,{"$f":"データ一覧!J357","v":2},null,null,null,{"$f":"+データ一覧!J382","v":12},null,null,null,null,null,null,{"$f":"データ一覧!J407","v":"x"},null,null,null,null,null,null,"地域福祉施設",null,null,null,null,null,null,null,{"$f":"データ一覧!J565","v":0},null,null,null,{"$f":"データ一覧!J578","v":0},null,null,null,null,null,"指定相談支援事業所",null,null,null,null,null,null,null,{"$f":"データ一覧!J571","v":3},null,null,null,{"$f":"データ一覧!J584","v":0}]
["階","元","  分",null,null,null,"14歳",null,null,"24歳",null,null,"34歳",null,null,"44歳",null,null,"54歳",null,null,"64歳",null,null,"以上","    林     野     の     構     成",null,null,null,null,null,null,"保     有     形     態     別",null,null,null,null,null,null,null,"     電気機械","業務用機械",null,null,null,null,null,null,null,null,{"$f":"データ一覧!J358","v":0},null,null,null,{"$f":"+データ一覧!J383","v":0},null,null,null,null,null,null,{"$f":"データ一覧!J408","v":0},null,null,null,null,null,null,"老人福祉施設",null,null,null,null,null,null,null,{"$f":"データ一覧!J566","v":8},null,null,null,{"$f":"データ一覧!J579","v":386},null,null,null,null,null,"児童福祉施設",null,null,null,null,null,null,null,{"$f":"データ一覧!J572","v":23},null,null,null,{"$f":"データ一覧!J585","v":1175}]
["級","・",null,null,null,null,"人",null,null,"人",null,"    人",null,null,"    人",null,null,"    人",null,null,"    人",null,null,"    人",null,null,null,null,null,null,null,"ha",null,null,null,null,null,"       ha",null,null,null,"電子・デバイス",null,null,null,null,null,null,null,null,{"$f":"データ一覧!J359","v":6},null,null,null,{"$f":"+データ一覧!J384","v":733},null,null,null,null,null,null,{"$f":"データ一覧!J409","v":2867998},null,null,null,null,null,null,"介護保険施設",null,null,null,null,null,null,null,{"$f":"データ一覧!J567","v":72},null,null,null,{"$f":"データ一覧!J580","v":1156},null,null,null,null,null,"母子福祉施設",null,null,null,null,null,null,null,{"$f":"データ一覧!J573","v":0},null,null,null,{"$f":"データ一覧!J586","v":0}]
["別","10","総 数",null,{"$f":"+E42+E43","v":3347},null,null,{"$f":"+H42+H43","v":2573},null,null,{"$f":"+K42+K43","v":1969},null,null,{"$f":"+N42+N43","v":3174},null,null,{"$f":"+Q42+Q43","v":3635},null,null,{"$f":"+T42+T43","v":4354},null,null,{"$f":"+W42+W43","v":11563},null,null," 無立木地   伐採跡地",null,null,null,{"$f":"データ一覧!J278","v":26.14},null,null,"国   　　　 　 有",null,null,null,{"$f":"データ一覧!J280","v":20665.93},null,null,null,null,"電気機械",null,null,null,null,null,null,null,null,{"$f":"データ一覧!J360","v":5},null,null,null,{"$f":"+データ一覧!J385","v":141},null,null,null,null,null,null,{"$f":"データ一覧!J410","v":359013},null,null,null,null,null,null,"障害者自立支援法施行前からの身体障害者福祉施設",null,null,null,null,null,null,null,{"$f":"データ一覧!J568","v":0},null,null,null,{"$f":"データ一覧!J581","v":0},null,null,null,null,null,"婦人保護施設",null,null,null,null,null,null,null,{"$f":"データ一覧!J574","v":0},null,null,null,{"$f":"データ一覧!J587","v":0}]
["人","・","  男",null,{"$f":"データ一覧!J79","v":1687},null,null,{"$f":"データ一覧!J80","v":1316},null,null,{"$f":"データ一覧!J81","v":1056},null,null,{"$f":"データ一覧!J82","v":1603},null,null,{"$f":"データ一覧!J83","v":1811},null,null,{"$f":"データ一覧!J84","v":2086},null,null,{"$f":"データ一覧!J85","v":5000},null,null," 無立木地   未立木地",null,null,null,{"$f":"データ一覧!J279","v":3667.09},null,null,"公       　　  有",null,null,null,{"$f":"データ一覧!J281","v":11115.96},null,null,null,"     輸送機械","情報通信機械",null,null,null,null,null,null,null,null,{"$f":"データ一覧!J361","v":0},null,null,null,{"$f":"+データ一覧!J386","v":0},null,null,null,null,null,null,{"$f":"データ一覧!J411","v":0},null,null,null,null,null,null,null,null,null,null,null,null,null,null,null,null,null,null,null,null,null,null,null,null,"その他の社会福祉施設",null,null,null,null,null,null,null,{"$f":"データ一覧!J575+データ一覧!J576","v":0},null,null,null,{"$f":"データ一覧!J588+データ一覧!J589","v":0}]
["口","1","  女",null,{"$f":"データ一覧!J87","v":1660},null,null,{"$f":"データ一覧!J88","v":1257},null,null,{"$f":"データ一覧!J89","v":913},null,null,{"$f":"データ一覧!J90","v":1571},null,null,{"$f":"データ一覧!J91","v":1824},null,null,{"$f":"データ一覧!J92","v":2268},null,null,{"$f":"データ一覧!J93","v":6563},null,null,null,null,null,null,null,null,null,"私          　 有",null,null,null,{"$f":"データ一覧!J282","v":44044.7},null,null,null,"     精密機械","輸送機械",null,null,null,null,null,null,null,null,{"$f":"データ一覧!J362","v":1},null,null,null,{"$f":"+データ一覧!J387","v":96},null,null,null,null,null,null,{"$f":"データ一覧!J412","v":"x"},null,null,null,null,null,null,"障害福祉サービス事業所",null,null,null,null,null,null,null,{"$f":"データ一覧!J569","v":33},null,null,null,{"$f":"データ一覧!J582","v":251}]
[null,null,null,null,null,null,null,null,null,null,null,null,null,null,null,null,null,null,null,null,null,null,null,null,null,"            林     産     物     生     産     量 ",null,null,null,null,null,null,null,null,null,{"$f":"データ一覧!$A$283","v":"元年中"},null,null,null,null,"     その他","その他",null,null,null,null,null,null,null,null,{"$f":"データ一覧!J363","v":2},null,null,null,{"$f":"+データ一覧!J388","v":172},null,null,null,null,null,null,{"$f":"データ一覧!J413","v":"x"},null,null,null,null,null,null," １７  教　　　　　　　育",null,null,null,null,null,null,null,null,null,null,null,null,null,null,null,{"$f":"データ一覧!$A$590","v":"2.5.1"}]
["人口動態",null,null,null,null,null,null,"   自　然　動　態",null,null,null,null,null,"   社  会  動  態",null,null,null,null,null,{"$f":"データ一覧!$A74","v":"31.1.1～元.12.31"},null,null,null,null,null,"生椎茸",null,null,null,{"$f":"データ一覧!J283","v":60947},null,"㎏","乾椎茸",null,null,null,{"$f":"データ一覧!J284","v":82},null,"㎏"]
[null,null,"   区       分",null,null,null,null," 出   生",null,null," 死   亡",null,null," 転   入",null,null," 転   出",null,null," 婚   姻",null,null," 離   婚",null,null,"えのきだけ",null,null,null,{"$f":"データ一覧!J286","v":"-"},null,"㎏","なめこ",null,null,null,{"$f":"データ一覧!J285","v":"-"},null,"㎏",null,"    ","工　業　用　水　量",null,null,null,null,null,"（従業者30人以上の事業所）",null,null,null,null,null,null,null,null,null,null,{"$f":"データ一覧!J414","v":4402},null,null,null,null,"㎥／日",null,null,null,null,null,null,null,null,null,null,null,null,null,null,"学校数（校）",null,null,null,null,null,null,"教員数（人）",null,null,null,null,null,null,null,"学生・生徒・児童数（人）"]
[{"$f":"LEFT(データ一覧!$A70,7)","v":"元.10.1～"},null,null,null,null,null,null,"       人",null,null,"       人",null,null,"       人",null,null,"       人",null,null,null,"    件",null,null,"    件",null,"ひらたけ",null,null,null,{"$f":"+データ一覧!J287","v":7},null,"㎏","まいたけ",null,null,null,{"$f":"+データ一覧!J288","v":140242},null,"㎏",null,null,null,null,null,null,null,null,null,null,null,null,null,null,null,null,null,null,null,null,null,null,null,null,null,null,null,null,null,null,"　","区分",null,null,null,null,null,null,null," 本 校",null,null," 分 校",null,null," 本   務",null,null,null," 兼   務",null,null,null," 総   数",null,null,null,"男",null,null,null,"女"]
["～",null," 実          数",null,null,null,null,{"$f":"データ一覧!J70","v":184},null,null,{"$f":"データ一覧!J71","v":509},null,null,{"$f":"データ一覧!J72","v":590},null,null,{"$f":"データ一覧!J73","v":908},null,null,{"$f":"データ一覧!J74","v":98},null,null,{"$f":"データ一覧!J75","v":32},null,null,null,null,null,null,null,null,null,null,null,null,null,null,null,null,null," １１ 　上　・　下　水　道",null,null,null,null,null,null,null,null,null,null,null,null,null,null,null,null,null,null,null,null,null,null,null,null,null,null,null,null,"小学校",null,null,null,null,null,null,null,null,{"$f":"データ一覧!J591","v":10},null,null,{"$f":"データ一覧!J592","v":0},null,null,{"$f":"データ一覧!J593","v":124},null,null,null,{"$f":"データ一覧!J594","v":24},null,null,null,{"$f":"データ一覧!J595","v":1391},null,null,null,{"$f":"データ一覧!J596","v":705},null,null,null,{"$f":"データ一覧!J597","v":686}]
[{"$f":"RIGHT(データ一覧!$A72,7)","v":"～2.9.30"},null,"比率(対1,000人)",null,null,null,null,{"$f":"+H48/I35*1000","v":5.557401310821831},null,null,{"$f":"+K48/I35*1000","v":15.373463408740827},null,null,"- ",null,null,"- ",null,null,{"$f":"+T48/I35*1000","v":2.959920263372497},null,null,{"$f":"+W48/I35*1000","v":0.96650457579510107},null,null,"  ６  漁               業",null,null,null,null,null,null,null,null,null,null,null,null,null,null,null,null,null,null,null,null,null,null,null,null,null,null,null,null,null,null,null,null,null,null,null,null,null,null,null,null,null,null,"  ","中学校",null,null,null,null,null,null,null,null,{"$f":"データ一覧!J599","v":5},null,null,{"$f":"データ一覧!J600","v":0},null,null,{"$f":"データ一覧!J601","v":83},null,null,null,{"$f":"データ一覧!J602","v":16},null,null,null,{"$f":"データ一覧!J603","v":813},null,null,null,{"$f":"データ一覧!J604","v":422},null,null,null,{"$f":"データ一覧!J605","v":391}]
[null,null,null,null,null,null,null,null,null,null,null,null,null,null,null,null,null,null,null,null,null,null,null,null,null,null,null,null,null,null,null,null,null,null,null,null,null,null,null,null,"水 道 供 給 人 口",null,null,null,null,null,null,"上 水 道",null,null,null,"簡易水道",null,null,null,"専用水道",null,null,null,"飲料水供給施設",null,null,null,"下水道処理人口",null,null,null,null,"  ","高等学校",null,null,null,null,null,null,null,null,{"$f":"データ一覧!J607","v":2},null,null,{"$f":"データ一覧!J608","v":0},null,null,{"$f":"データ一覧!J609","v":84},null,null,null,{"$f":"データ一覧!J610","v":30},null,null,null,{"$f":"データ一覧!J611","v":803},null,null,null,{"$f":"データ一覧!J612","v":433},null,null,null,{"$f":"データ一覧!J613","v":370}]
["  ３  事　　業　　所（民　　営）    （平 28.6.1）",null,null,null,null,null,null,null,null,null,null,null,null,null,null,null,null,null,null,null,null,null,null,null,null,"漁船隻数・トン数",null,null,null,{"$f":"データ一覧!$A$289","v":"元.12.31"},null,null,null,"動　力　船",null,null,null,null,null,null,{"$f":"データ一覧!$A$415","v":"2.3.31"},null,null,null,null,null,"人",null,{"$f":"データ一覧!J415","v":4573},null,null,{"$f":"データ一覧!J416","v":7499},null,null,null,null,{"$f":"データ一覧!J417","v":120},null,null,null,{"$f":"データ一覧!J418","v":260},null,null,null,{"$f":"データ一覧!J419","v":17246},null,null,null,"  ","大学・短期大学",null,null,null,null,null,null,null,null,{"$f":"データ一覧!J614","v":0},null,null,{"$f":"データ一覧!J615","v":0},null,null,{"$f":"データ一覧!J616","v":0},null,null,null,{"$f":"データ一覧!J617","v":0},null,null,null,{"$f":"データ一覧!J618","v":0},null,null,null,{"$f":"データ一覧!J619","v":0},null,null,null,{"$f":"データ一覧!J620","v":0}]
[null,null,null,null,null,null,null,null,null,null,null,null,null,null,null,null,null,null,null,null,null,null,null,null,null,"無動力船隻数",null,null,null,"船外機付漁船隻数",null,null,null,"隻　数",null,null,"総 ト ン 数",null,null,null,null,null,null,null,null,null,null,null,null,null,null,null,null,null,null,null,null,null,null,null,null,null,null,null,null,null,null,null,"  ","高等専門学校",null,null,null,null,null,null,null,null,{"$f":"データ一覧!J621","v":0},null,null,{"$f":"データ一覧!J622","v":0},null,null,{"$f":"データ一覧!J623","v":0},null,null,null,{"$f":"データ一覧!J624","v":0},null,null,null,{"$f":"データ一覧!J625","v":0},null,null,null,{"$f":"データ一覧!J626","v":0},null,null,null,{"$f":"データ一覧!J627","v":0}]
[null,null,null,null,null,null,null,"    総　　　　　数",null,null,null,null,null,"    民　　　　　営",null,null,null,null,null,"  国 ･ 地方公共団体",null,null,null,null,null,null,null,null,"隻",null,null,null,"隻",null,null,"隻",null,null,"t",null," １２  交   通　・　通   信",null,null,null,null,null,null,null,null,null,null,null,null,null,null,null,null,null,null,null,null,null,null,null,null,null,null,null,"  ","特別支援学校",null,null,null,null,null,null,null,null,{"$f":"データ一覧!J629","v":0},null,null,{"$f":"データ一覧!J630","v":0},null,null,{"$f":"+データ一覧!J631","v":0},null,null,null,{"$f":"+データ一覧!J632","v":0},null,null,null,{"$f":"+データ一覧!J633","v":0},null,null,null,{"$f":"+データ一覧!J634","v":0},null,null,null,{"$f":"+データ一覧!J635","v":0}]
["  　区　　　　　　分",null,null,null,null,null,null," 事業所数",null,null," 従業者数",null,null," 事業所数",null,null," 従業者数",null,null," 事業所数",null,null," 従業者数",null,null,{"$f":"データ一覧!$J$289","v":0},null,null,null,{"$f":"データ一覧!$J$290","v":1},null,null,null,{"$f":"データ一覧!J291","v":0},null,null,{"$f":"データ一覧!J292","v":0},null,null,null,null,null,null,null,null,null,null,null,null,null,null,null,null,null,null,null,null,null,null,null,null,null,null,null,null,null,null,null,"  ","幼稚園",null,null,null,null,null,null,null,null,{"$f":"データ一覧!J637","v":7},null,null,{"$f":"データ一覧!J638","v":0},null,null,{"$f":"データ一覧!J639","v":9},null,null,null,{"$f":"データ一覧!J640","v":0},null,null,null,{"$f":"データ一覧!J641","v":28},null,null,null,{"$f":"データ一覧!J642","v":14},null,null,null,{"$f":"データ一覧!J643","v":14}]
[null,null,null,null,null,null,null,null,null,null,"       人",null,null,null,null,null,"       人",null,null,null,null,null,"       人",null,null,"  男女別就業者数",null,null,null,null,null,null,null,{"$f":"データ一覧!$A$293","v":"30.11.1"},null,null,null,null,null,null,"道     路",null,null,null,"実 延 長",null,null,null,"国     道",null,null,null,"県     道",null,null,null,"市町道",null,null,null," 鉄 道 営 業 キ ロ 数",null,null,null,null,null,null,null,"  ","幼保連携認定こども園",null,null,null,null,null,null,null,null,{"$f":"データ一覧!J645","v":8},null,null,{"$f":"データ一覧!J646","v":0},null,null,{"$f":"データ一覧!J647","v":143},null,null,null,{"$f":"データ一覧!J648","v":0},null,null,null,{"$f":"データ一覧!J649","v":798},null,null,null,{"$f":"データ一覧!J650","v":407},null,null,null,{"$f":"データ一覧!J651","v":391}]
["総数",null,null,null,null,null,null,{"$f":"データ一覧!J95","v":"…"},null,null,{"$f":"データ一覧!J152","v":"…"},null,null,{"$f":"データ一覧!J96","v":1837},null,null,{"$f":"データ一覧!J153","v":13996},null,null,{"$f":"データ一覧!J97","v":"…"},null,null,{"$f":"データ一覧!J154","v":"…"},null,null,"総　　数",null,null,null,null,null,"男",null,null,null,"女",null,null,null,null,{"$f":"データ一覧!$A$420","v":"31.4.1"},null,null,null,{"$f":"データ一覧!J420","v":762.99800000000005},null,null,"㎞",{"$f":"データ一覧!J421","v":110.3},null,null,"㎞",{"$f":"データ一覧!J422","v":153.4},null,null,"㎞",{"$f":"データ一覧!J423","v":499.298},null,null,"km",{"$f":"データ一覧!$A$424","v":"2.4.1"},null,null,null,{"$f":"データ一覧!J424","v":26.13},null,null,"㎞","  ","各種学校",null,null,null,null,null,null,null,null,{"$f":"データ一覧!J653","v":1},null,null,{"$f":"データ一覧!J654","v":0},null,null,{"$f":"データ一覧!J655","v":9},null,null,null,{"$f":"データ一覧!J656","v":2},null,null,null,{"$f":"データ一覧!J657","v":33},null,null,null,{"$f":"データ一覧!J658","v":24},null,null,null,{"$f":"データ一覧!J659","v":9}]
["農林漁業",null,null,null,null,null,null,{"$f":"データ一覧!J98","v":"…"},null,null,{"$f":"データ一覧!J155","v":"…"},null,null,{"$f":"データ一覧!J99","v":37},null,null,{"$f":"データ一覧!J156","v":671},null,null,{"$f":"データ一覧!J100","v":"…"},null,null,{"$f":"データ一覧!J157","v":"…"},null,null,null,null,null,null,null,"人",null,null,"　　　　人",null,null,null,null,"  人",null,"自動車",null,null,null,null,null,null,null,null,"乗用車",null,null,null,null,null,null,null,null,null,null,null,null,null,null,null,null,null,null,"  ","専修学校",null,null,null,null,null,null,null,null,{"$f":"データ一覧!J661","v":0},null,null,{"$f":"データ一覧!J662","v":0},null,null,{"$f":"データ一覧!J663","v":0},null,null,null,{"$f":"データ一覧!J664","v":0},null,null,null,{"$f":"データ一覧!J665","v":0},null,null,null,{"$f":"データ一覧!J666","v":0},null,null,null,{"$f":"データ一覧!J667","v":0}]
["鉱業",null,null,null,null,null,null,{"$f":"データ一覧!J101","v":"…"},null,null,{"$f":"データ一覧!J158","v":"…"},null,null,{"$f":"データ一覧!J102","v":1},null,null,{"$f":"データ一覧!J159","v":1},null,null,{"$f":"データ一覧!J103","v":"…"},null,null,{"$f":"データ一覧!J160","v":"…"},null,null,{"$f":"SUM(AF58,AJ58)","v":0},null,null,null,null,null,{"$f":"データ一覧!$J$294","v":0},null,null,null,{"$f":"データ一覧!J295","v":0},null,null,null,null,"台  数",null,null,null,"貨    物",null,null,null,"普     通",null,null,null,"小     型",null,null,null,"乗  合",null,null,"特  種",null,null,"小型二輪",null,null,"軽自動車",null,null," １８  衛　　　　　　　生"]
["建設業",null,null,null,null,null,null,{"$f":"データ一覧!J104","v":"…"},null,null,{"$f":"データ一覧!J161","v":"…"},null,null,{"$f":"データ一覧!J105","v":283},null,null,{"$f":"データ一覧!J162","v":1695},null,null,{"$f":"データ一覧!J106","v":"…"},null,null,{"$f":"データ一覧!J163","v":"…"},null,null,"　　　　海 面 漁 業 漁 獲 量 （属人）",null,null,null,null,null,null,null,{"$f":"データ一覧!$A$296","v":"30年中"},null,null,null,null,null,null,{"$f":"データ一覧!$A$425","v":"2.3.31"},null,null,null,null,{"$f":"データ一覧!J425","v":1761},null,null,null,{"$f":"データ一覧!J427","v":5988},null,null,null,{"$f":"データ一覧!J428","v":6719},null,null,{"$f":"データ一覧!J426","v":93},null,null,{"$f":"データ一覧!J429","v":1041},null,null,{"$f":"データ一覧!J430","v":300},null,null,{"$f":"データ一覧!J431","v":14113}]
["製造業",null,null,null,null,null,null,{"$f":"データ一覧!J107","v":"…"},null,null,{"$f":"データ一覧!J164","v":"…"},null,null,{"$f":"データ一覧!J108","v":207},null,null,{"$f":"データ一覧!J165","v":2742},null,null,{"$f":"データ一覧!J109","v":"…"},null,null,{"$f":"データ一覧!J166","v":"…"},null,null,null,null,null,null,null,"       ","ｔ",null,null,null,null,null,null,"t",null,null,null,"     ",null,"郵　便　局　数",null,null,null,null,null,null,null,null,null,null,null,null,null,null,null,"一般加入",null,null,null,"ＩＮＳネット",null,null,null,null,null,null,null,"医療関係施設",null,null,null,null,null,{"$f":"データ一覧!$A$668","v":"元.10.1"},null,null,null,null,null,null,"および医療関係者数",null,null,null,null,null,null,null,{"$f":"データ一覧!$A$673","v":"30.12.31"}]
["電気・ｶﾞ ｽ・熱供給・水道業",null,null,null,null,null,null,{"$f":"データ一覧!J110","v":"…"},null,null,{"$f":"データ一覧!J167","v":"…"},null,null,{"$f":"データ一覧!J111","v":4},null,null,{"$f":"データ一覧!J168","v":157},null,null,{"$f":"データ一覧!J112","v":"…"},null,null,{"$f":"データ一覧!J169","v":"…"},null,null,"   総　　　　　　数",null,null,null,{"$f":"データ一覧!J296","v":0},null,null,"   藻　　　　　　類",null,null,null,{"$f":"データ一覧!J299","v":0},null,null,null,"通  信",null,null,null," 総     数",null,null,null,null,null," 郵 便 局",null,null,null,null," 簡 易 局",null,null,null,null,"電話数",null,null,null,"加入数",null,null,null,null,null,null,null,null,null,"　","病",null,null,"院",null,"　",null,null,null,null," ","一般診療所",null,null,null,null,null,null,null,null,null,null,null,"歯科診療所"]
["情報通信業",null,null,null,null,null,null,{"$f":"データ一覧!J113","v":"…"},null,null,{"$f":"データ一覧!J170","v":"…"},null,null,{"$f":"データ一覧!J114","v":3},null,null,{"$f":"データ一覧!J171","v":11},null,null,{"$f":"データ一覧!J115","v":"…"},null,null,{"$f":"データ一覧!J172","v":"…"},null,null,"   魚　　　　　　類",null,null,null,{"$f":"データ一覧!J297","v":0},null,null,"   そ　   の　　 他",null,null,null,{"$f":"データ一覧!J300","v":0},null,null,null,{"$f":"データ一覧!$A$435","v":"2.3.31"},null,null,null,{"$f":"データ一覧!J432","v":13},null,null,null,null,null,{"$f":"データ一覧!J433","v":10},null,null,null,null,{"$f":"データ一覧!J434","v":3},null,null,null,null,{"$f":"データ一覧!J435","v":4226},null,null,null,{"$f":"データ一覧!J436","v":395},null,null,null," ","医療関係",null,null,null,null,null,null,null,null,null,null,null,"一般病院",null,null,null,null,null,null,null,null,null,null,null,"有",null,null,"床"]
["運輸業、郵便業",null,null,null,null,null,null,{"$f":"データ一覧!J116","v":"…"},null,null,{"$f":"データ一覧!J173","v":"…"},null,null,{"$f":"データ一覧!J117","v":18},null,null,{"$f":"データ一覧!J174","v":215},null,null,{"$f":"データ一覧!J118","v":"…"},null,null,{"$f":"データ一覧!J175","v":"…"},null,null,"   貝　　　　　　類",null,null,null,{"$f":"データ一覧!J298","v":0},null,null,null,null,null,null,null,null,null,null,null,null,null,null,null,null,null,null,null,null,null,null,null,null,null,null,null,null,null,null,null,null,null,null,null,null,null,null,null,"施設数",null,null,null,null,null,null,{"$f":"データ一覧!J668","v":4},null,null,null,null,null,{"$f":"データ一覧!J669","v":4},null,null,null,null,null,{"$f":"データ一覧!J670","v":23},null,null,null,null,null,{"$f":"データ一覧!J671","v":1},null,null,null,null,null,{"$f":"データ一覧!J672","v":11}]
["卸売業、小売業",null,null,null,null,null,null,{"$f":"データ一覧!J119","v":"…"},null,null,{"$f":"データ一覧!J176","v":"…"},null,null,{"$f":"データ一覧!J120","v":416},null,null,{"$f":"データ一覧!J177","v":2223},null,null,{"$f":"データ一覧!J121","v":"…"},null,null,{"$f":"データ一覧!J178","v":"…"},null,null,null,null,null,null,null,null,null,null,null,null,null,null,null,null,null," １３  税　　・　　財　　政",null,null,null,null,null,null,null,null,null,null,null,null,null,null,null,null,null,null,null,null,null,null,null,null,null,null,null,null,null,null,null,null,null,null,"医師",null,null,null,null,"歯科医師",null,null,null,null,"薬剤師",null,null,null,null,"保健師",null,null,null,null,"助産師",null,null," ",null,"看護師",null,null," "]
["金融業、保険業",null,null,null,null,null,null,{"$f":"データ一覧!J122","v":"…"},null,null,{"$f":"データ一覧!J179","v":"…"},null,null,{"$f":"データ一覧!J123","v":23},null,null,{"$f":"データ一覧!J180","v":266},null,null,{"$f":"データ一覧!J124","v":"…"},null,null,{"$f":"データ一覧!J181","v":"…"},null,null,"  ７  商        　　　業 ",null,null,null,null,null,null,{"$f":"データ一覧!$A$301","v":"28.6.1(平成27年実績）"},null,null,null,null,null,null,null,null,null,null,null,null,null,null,null,null,null,null,null,null,null,null,null,null,null,null,null,null,null,null,null,null,null,null,null," ","医療",null,null,null,null,null,null,null,null,"人",null,null,null,null,"人",null,null,null,null,"人",null,null,null,null,"人",null,null,null,null,"人",null,null,null,null,"人"]
["不動産業、物品賃貸業",null,null,null,null,null,null,{"$f":"データ一覧!J125","v":"…"},null,null,{"$f":"データ一覧!J182","v":"…"},null,null,{"$f":"データ一覧!J126","v":26},null,null,{"$f":"データ一覧!J183","v":642},null,null,{"$f":"データ一覧!J127","v":"…"},null,null,{"$f":"データ一覧!J184","v":"…"},null,null,null,null,null,null,null,null,null,null,null,null,null,null,null,null,null,"           ",null,null,null,"歳入",null,null,null,null,null,null,null,null,"(千円）"," ",null,null,null,"歳出",null,null,null,null,null,null,null,null,"(千円）",null,"関係者",null,null,null,null,{"$f":"データ一覧!J673","v":29},null,null,null,null,{"$f":"データ一覧!J674","v":17},null,null,null,null,{"$f":"データ一覧!J675","v":31},null,null,null,null,{"$f":"データ一覧!J676","v":20},null,null,null,null,{"$f":"データ一覧!J677","v":1},null,null,null,null,{"$f":"データ一覧!J678","v":261}]
["学術研究、専門・技術ｻｰﾋﾞｽ業",null,null,null,null,null,null,{"$f":"データ一覧!J128","v":"…"},null,null,{"$f":"データ一覧!J185","v":"…"},null,null,{"$f":"データ一覧!J129","v":50},null,null,{"$f":"データ一覧!J186","v":273},null,null,{"$f":"データ一覧!J130","v":"…"},null,null,{"$f":"データ一覧!J187","v":"…"},null,null,"  産   業　 分　 類",null,null,null,"  商　 店 　数",null,null," 従　業　者　数",null,null,"年　間　販　売　額",null,null,null,null,"一人当たり歳入歳出予算決算額",null,null,null,null,null,null,null,null,null,null,null,null,null,null,null,null,null,null,null,null,null,null,null,null,null,null,null,"                   ",null,null,null,null,null,null,null,null,"死因別死亡数　　　　　　    ",null,null,null,null,null,null,null,null,null,null,null,null,null,null,null,{"$f":"データ一覧!$A$679","v":"元年中"},null,null,null,null,null,null,null,null,"      単 位：人"]
["宿泊業、飲食サービス業",null,null,null,null,null,null,{"$f":"データ一覧!J131","v":"…"},null,null,{"$f":"データ一覧!J188","v":"…"},null,null,{"$f":"データ一覧!J132","v":230},null,null,{"$f":"データ一覧!J189","v":848},null,null,{"$f":"データ一覧!J133","v":"…"},null,null,{"$f":"データ一覧!J190","v":"…"},null,null,null,null,null,null,null,"        店",null,null,null,"　人",null,"         百万円",null,null,null,"区分",null,null,null,{"$f":"データ一覧!$A$445","v":"2年度"},null,null,null,null,{"$f":"データ一覧!$A$459","v":"元年度"},null,null,null,null,"区分",null,null,null,{"$f":"+AS68","v":"2年度"},null,null,null,null,{"$f":"データ一覧!$A$459","v":"元年度"},null,null,null,null," 死     因",null,null,null,null,null,null,null,null,null,null,null,"悪  性",null,null,"高血圧",null,null,null,null,null,"脳血管",null,null,null,null,null," ",null,null,"不慮の事故"]
["生活関連サービス業、娯楽業",null,null,null,null,null,null,{"$f":"データ一覧!J134","v":"…"},null,null,{"$f":"データ一覧!J191","v":"…"},null,null,{"$f":"データ一覧!J135","v":173},null,null,{"$f":"データ一覧!J192","v":605},null,null,{"$f":"データ一覧!J136","v":"…"},null,null,{"$f":"データ一覧!J193","v":"…"},null,null,"総　　　　　　計",null,null,null,{"$f":"データ一覧!J301","v":378},null,null,{"$f":"データ一覧!J310","v":1944},null,null,{"$f":"データ一覧!J319","v":32710},null,null,null,null,null,null,null,null,{"$f":"データ一覧!J441","v":580288.03762124025},null,null,null,null,{"$f":"データ一覧!J442","v":605581},null,null,null,null,null,null,null,null,{"$f":"データ一覧!J443","v":580288.03762124025},null,null,null,null,{"$f":"データ一覧!J444","v":577151.89994882292},null,null,null,null,null,null,null,null,null,"全 死 因",null,null,null,"結 核",null,null,"新生物",null,null,"性疾患",null,null,"心疾患",null,null,"疾  患",null,null,"肺  炎",null,null,"老  衰",null,null,null,null," ","交通事故"]
["教育、学習支援業",null,null,null,null,null,null,{"$f":"データ一覧!J137","v":"…"},null,null,{"$f":"データ一覧!J194","v":"…"},null,null,{"$f":"データ一覧!J138","v":36},null,null,{"$f":"データ一覧!J195","v":113},null,null,{"$f":"データ一覧!J139","v":"…"},null,null,{"$f":"データ一覧!J196","v":"…"},null,null,"卸売業",null,null,null,{"$f":"データ一覧!J302","v":48},null,null,{"$f":"データ一覧!J311","v":209},null,null,{"$f":"データ一覧!J320","v":4267},null,null,null,null,"項目別歳入歳出予算決算額"]
["医療、福祉",null,null,null,null,null,null,{"$f":"データ一覧!J140","v":"…"},null,null,{"$f":"データ一覧!J197","v":"…"},null,null,{"$f":"データ一覧!J141","v":151},null,null,{"$f":"データ一覧!J198","v":2194},null,null,{"$f":"データ一覧!J142","v":"…"},null,null,{"$f":"データ一覧!J199","v":"…"},null,null,"小売業",null,null,null,{"$f":"データ一覧!J303","v":330},null,null,{"$f":"データ一覧!J312","v":1735},null,null,{"$f":"データ一覧!J321","v":28443},null,null,null,null,"区分",null,null,null,{"$f":"データ一覧!$A$445","v":"2年度"},null,null,null,null,{"$f":"データ一覧!$A$459","v":"元年度"},null,null,null,null,"区分",null,null,null,{"$f":"+AS71","v":"2年度"},null,null,null,null,{"$f":"データ一覧!$A$459","v":"元年度"},null,null,null,null,null,null,null,null,null,{"$f":"データ一覧!J679","v":561},null,null,null,"   －",{"$f":"データ一覧!J680","v":0},null,{"$f":"データ一覧!J681","v":142},null,null,null,{"$f":"データ一覧!J682","v":4},null,{"$f":"データ一覧!J683","v":78},null,null,{"$f":"データ一覧!J684","v":57},null,null,{"$f":"データ一覧!J685","v":24},null,null,{"$f":"データ一覧!J686","v":60},null,null,{"$f":"データ一覧!J687","v":14},null,null,{"$f":"データ一覧!J688","v":1}]
["複合サービス事業",null,null,null,null,null,null,{"$f":"データ一覧!J143","v":"…"},null,null,{"$f":"データ一覧!J200","v":"…"},null,null,{"$f":"データ一覧!J144","v":17},null,null,{"$f":"データ一覧!J201","v":197},null,null,{"$f":"データ一覧!J145","v":"…"},null,null,{"$f":"データ一覧!J202","v":"…"},null,null,"各種商品",null,null,null,{"$f":"データ一覧!J304","v":0},null,null,{"$f":"データ一覧!J313","v":0},null,null,{"$f":"データ一覧!J322","v":0},null,null,null,null,"総額",null,null,null,{"$f":"SUM(AS73:AW85)","v":17769000},null,null,null,null,{"$f":"SUM(AX73:BB85)","v":18932875},null,null,null,null,"総額",null,null,null,{"$f":"SUM(BG73:BK85)","v":17769000},null,null,null,null,{"$f":"SUM(BL73:BP85)","v":18044077},null,null,null,null," １９  警　察　・　消　防  ",null,null,null,null,null,null,null,null,null,null,null,null,null,null,null,{"$f":"+データ一覧!$A689","v":"2.4.1"}]
["サービス業",null,null,null,null,null,null,{"$f":"データ一覧!J146","v":"…"},null,null,{"$f":"データ一覧!J203","v":"…"},null,null,{"$f":"データ一覧!J147","v":162},null,null,{"$f":"データ一覧!J204","v":1143},null,null,{"$f":"データ一覧!J148","v":"…"},null,null,{"$f":"データ一覧!J205","v":"…"},null,null,"織物・衣服・身の回り品",null,null,null,{"$f":"データ一覧!J305","v":58},null,null,{"$f":"データ一覧!J314","v":125},null,null,{"$f":"データ一覧!J323","v":992},null,null,null,null,"地方税",null,null,null,{"$f":"データ一覧!J446","v":3809050},null,null,null,null,{"$f":"データ一覧!J460","v":3914392},null,null,null,null,"議会費",null,null,null,{"$f":"データ一覧!J474","v":197399},null,null,null,null,{"$f":"データ一覧!J488","v":188646}]
["公務",null,null,null,null,null,null,{"$f":"データ一覧!J149","v":"…"},null,null,{"$f":"データ一覧!J206","v":"…"},null,null,{"$f":"データ一覧!J150","v":"…"},null,null,{"$f":"データ一覧!J207","v":"…"},null,null,{"$f":"データ一覧!J151","v":"…"},null,null,{"$f":"データ一覧!J208","v":"…"},null,null,"飲食料品",null,null,null,{"$f":"データ一覧!J306","v":86},null,null,{"$f":"データ一覧!J315","v":654},null,null,{"$f":"データ一覧!J324","v":9947},null,null,null,null,"地方譲与税",null,null,null,{"$f":"データ一覧!J447","v":226950},null,null,null,null,{"$f":"データ一覧!J461","v":202066},null,null,null,null,"総務費",null,null,null,{"$f":"データ一覧!J475","v":2055114},null,null,null,null,{"$f":"データ一覧!J489","v":2370014},null,null,null,null,null,null,null,null,null,null,null,null,null,null,"交番・駐在所",null,null,null,null,null,null,null,null,"刑法犯認知件数",null,null,null,null,null,null,null,null,"交通人身事故発生件数"]
["  ４  農        　　　業 ",null,null,null,null,null,null,null,null,null,null,null,null,null,null,null,null,null,null,null,null,null,null,null,null,"機械器具",null,null,null,{"$f":"データ一覧!J307","v":62},null,null,{"$f":"データ一覧!J316","v":352},null,null,{"$f":"データ一覧!J325","v":7796},null,null,null,null,"各種交付金",null,null,null,{"$f":"データ一覧!J448","v":771600},null,null,null,null,{"$f":"データ一覧!J462","v":646897},null,null,null,null,"民生費",null,null,null,{"$f":"データ一覧!J476","v":5406744},null,null,null,null,{"$f":"データ一覧!J490","v":5494516},null,null,null,null,null,"警察署数",null,null,null,null,null,null,null,null,"検問所数",null,null,null,null,null,null,null,null,null,{"$f":"データ一覧!$A$691","v":"元年中"},null,null,null,null,null,null,null,null,{"$f":"データ一覧!$A$691","v":"元年中"}]
[null,null,null,null,null,null,null,null,null,null,null,null,null,null,null,null,null,null,null,null,null,null,null,null,null,"その他",null,null,null,{"$f":"データ一覧!J308","v":118},null,null,{"$f":"データ一覧!J317","v":576},null,null,{"$f":"データ一覧!J326","v":"x"},null,null,null,null,"地方特例交付金",null,null,null,{"$f":"データ一覧!J449","v":11000},null,null,null,null,{"$f":"データ一覧!J463","v":63736},null,null,null,null,"衛生費",null,null,null,{"$f":"データ一覧!J477","v":1518121},null,null,null,null,{"$f":"データ一覧!J491","v":1503143},null,null,null,null,null,null,null,null,null,null,null,null,null,null,null,null,null,null,null,null,null,null,null,null,null,null,null,null," 件",null,null,null,null,null,null,null,null,"　件"]
[null,null,"農家人口と世帯員数(販売農家)",null,null,null,null,null,null,null,"農家世帯の就業状態（販売農家）",null,null,null,null,null,null,null,null,null,null,null,null,null,null,"無店舗",null,null,null,{"$f":"データ一覧!J309","v":6},null,null,{"$f":"データ一覧!J318","v":28},null,null,{"$f":"データ一覧!J327","v":"x"},null,null,null,null,"地方交付税",null,null,null,{"$f":"データ一覧!J450","v":5950000},null,null,null,null,{"$f":"データ一覧!J464","v":6389397},null,null,null,null,"労働費",null,null,null,{"$f":"データ一覧!J478","v":139412},null,null,null,null,{"$f":"データ一覧!J492","v":144775},null,null,null,null,null,null,{"$f":"データ一覧!J689","v":1},null,null,null,null,null,null,null,null,{"$f":"データ一覧!J690","v":8},null,null,null,null,null,null,null,null,{"$f":"データ一覧!J691","v":68},null,null,null,null,null,null,null,null,{"$f":"データ一覧!J692","v":21}]
["農","平",null,null,null,null,null,null,null,null,"農業従事者",null,null,null,null,null,null,null,null,"非農業従事",null,null,"農業従事者",null,null,null,null,null,null,null,null,null,null,null,null,null,null,null,null,null,"分担金および負担金",null,null,null,{"$f":"データ一覧!J451","v":24049},null,null,null,null,{"$f":"データ一覧!J465","v":53925},null,null,null,null,"農林水産業費",null,null,null,{"$f":"データ一覧!J479","v":1266279},null,null,null,null,{"$f":"データ一覧!J493","v":1323416},null,null,null,null,"火災発生件数",null,null,null,null,null,null,null,null,null,"林野焼損",null,null,null,null,"損      害",null,null,null,null,"消 防 自",null,null,null,"その他の",null,null,null," ",null,null,null,null," "]
["家",{"$f":"+LEFT(データ一覧!$A$209,2)","v":"27"},"区分",null,"農家人口",null,null,"15歳以上の",null,null,null,null,null,"農業就業人口",null,null,null,null,null,"者",null,null,"の平均年齢",null,null,"  ８  住　　　　　　 　宅",null,null,null,null,null,null,null,null,null,null,null,null,null,null,"使用料および手数料",null,null,null,{"$f":"データ一覧!J452","v":217621},null,null,null,null,{"$f":"データ一覧!J466","v":231333},null,null,null,null,"商工費",null,null,null,{"$f":"データ一覧!J480","v":661244},null,null,null,null,{"$f":"データ一覧!J494","v":857761},null,null,null,null,{"$f":"+データ一覧!$A$693","v":"元年中"},null,null,null,null,"焼損棟数",null,null,null,null,"面    積",null,null,null,null,"見  積  額",null,null,null,null,"動 車 数",null,null,null,"ﾎﾟﾝﾌﾟ数",null,null,null," 消防吏員",null,null,null," 消防団員"]
["人就 ","・",null,null,null,null,null,"世帯員数",null,null,null,null,null,null,null,null,"基幹的農業",null,null,null,null,null,null,null,null,null,null,null,null,null,null,null,null,null,null,null,null,null,null,null,"国庫支出金",null,null,null,{"$f":"データ一覧!J453","v":1953082},null,null,null,null,{"$f":"データ一覧!J467","v":2452176},null,null,null,null,"土木費",null,null,null,{"$f":"データ一覧!J481","v":2582073},null,null,null,null,{"$f":"データ一覧!J495","v":2343493},null,null,null,null,"         件",null,null,null,null,null,"      棟",null,null,null,null,null,null,"  ａ",null,null,null,"  千円",null,null,"        ",null,null,null,null,null,null,null,null,null,"  人",null,null,null,"  人"]
["口業 ",{"$f":"+MID(データ一覧!$A$209,4,1)","v":"2"},null,null,null,null,"人",null,null,"人",null,null,"人",null,null,"人","従事者",null,"人",null,null,"人",null,null,"歳",{"$f":"+データ一覧!$A$328","v":"30年"},null,null,null,null,{"$f":"データ一覧!$A$331","v":"元年"},"中の増減",null,null,null,{"$f":"+データ一覧!$A$331","v":"元年"},null,null,null,null,"県支出金",null,null,null,{"$f":"データ一覧!J454","v":1823919},null,null,null,null,{"$f":"データ一覧!J468","v":1765333},null,null,null,null,"消防費",null,null,null,{"$f":"データ一覧!J482","v":684127},null,null,null,null,{"$f":"データ一覧!J496","v":660367},null,null,null,null,null,{"$f":"データ一覧!J693","v":1},null,null,null,null,{"$f":"データ一覧!J694","v":0},null,null,null,null,{"$f":"データ一覧!J695","v":0},null,null,null,{"$f":"データ一覧!J696","v":4074},null,null,null,null,null,{"$f":"データ一覧!J697","v":17},null,null,null,{"$f":"データ一覧!J698","v":36},null,null,null,{"$f":"データ一覧!J699","v":55},null,null,null,{"$f":"データ一覧!J700","v":455}]
["と状 ","・"," 総数",null,{"$f":"データ一覧!J209","v":5332},null,null,{"$f":"データ一覧!J212","v":4825},null,null,{"$f":"データ一覧!J215","v":3599},null,null,{"$f":"データ一覧!J218","v":1773},null,null,{"$f":"データ一覧!J221","v":1601},null,null,{"$f":"データ一覧!J224","v":1226},null,null,{"$f":"データ一覧!J227","v":59},null,null,null,null,null,null,"建設した住宅",null,null,"消失した住宅",null,null,null,null,null,null,null,"財産収入",null,null,null,{"$f":"データ一覧!J455","v":45276},null,null,null,null,{"$f":"データ一覧!J469","v":74605},null,null,null,null,"教育費",null,null,null,{"$f":"データ一覧!J483","v":1676436},null,null,null,null,{"$f":"データ一覧!J497","v":1409027},null,null,null,null," ２０  そ　　　の　　　他　"]
["  況 ",{"$f":"+RIGHT(データ一覧!$A$209,1)","v":"1"},"　男",null,{"$f":"データ一覧!J210","v":2614},null,null,{"$f":"データ一覧!J213","v":2355},null,null,{"$f":"データ一覧!J216","v":1937},null,null,{"$f":"データ一覧!J219","v":856},null,null,{"$f":"データ一覧!J222","v":827},null,null,{"$f":"データ一覧!J225","v":418},null,null,{"$f":"データ一覧!J228","v":57.6},null,null,null,null,null,null,null,null,null,null,null,null,null,null,null,null,null,"繰入金",null,null,null,{"$f":"データ一覧!J456","v":1347418},null,null,null,null,{"$f":"データ一覧!J470","v":657591},null,null,null,null,"災害復旧費",null,null,null,{"$f":"データ一覧!J484","v":3788},null,null,null,null,{"$f":"データ一覧!J498","v":126166}]
[null,null,"　女",null,{"$f":"データ一覧!J211","v":2718},null,null,{"$f":"データ一覧!J214","v":2470},null,null,{"$f":"データ一覧!J217","v":1662},null,null,{"$f":"データ一覧!J220","v":917},null,null,{"$f":"データ一覧!J223","v":774},null,null,{"$f":"データ一覧!J226","v":808},null,null,{"$f":"データ一覧!J229","v":60.7},null,null,null,{"$f":"データ一覧!J328","v":11365},null,"戸",{"$f":"データ一覧!J329","v":66},null,"戸",{"$f":"データ一覧!J330","v":120},null,"戸",null,{"$f":"データ一覧!J331","v":11311},null,"戸",null,"地方債",null,null,null,{"$f":"データ一覧!J457","v":1239500},null,null,null,null,{"$f":"データ一覧!J471","v":1266500},null,null,null,null,"公債費",null,null,null,{"$f":"データ一覧!J485","v":1568263},null,null,null,null,{"$f":"データ一覧!J499","v":1622753},null,null,null,null,"　名所・旧跡",null,null,null,null,"越前大野城、民俗資料館、歴史博物館、武家屋敷旧内山家、武家屋敷旧田村家、笛資料館、宝慶寺、\n和泉郷土資料館、御清水(名水百選)、本願清水(平成の名水百選)、本願清水イトヨの里、旧橋本家住宅、\n専福寺の大ケヤキ、朝倉義景墓所、平成大野屋、荒島岳（日本百名山）、刈込池、九頭竜峡、\n七間通り(朝市)、寺町通り、六呂師高原、九頭竜湖、良縁の樹、化石発掘体験センターHOROSSA!、\nCOCONOアートプレイス"]
[null,null,null,null,null,null,null,null,null,null,null,null,null,null,null,null,null,null,null,null,null,null,null,null,null,null,null,null,null,null,null,null,null,null,null,null,null,null,null,null,"その他",null,null,null,{"$f":"データ一覧!J458","v":349535},null,null,null,null,{"$f":"データ一覧!J472","v":1214924},null,null,null,null,"その他",null,null,null,{"$f":"データ一覧!J486","v":10000},null,null,null,null,{"$f":"データ一覧!J500","v":0},null,null,null,null,"  文化財等"]
[null,null,"総農家数等",null,null,null,null,null,null,"専兼業別（販売農家）",null,null,null,null,null,null,null,"経営面積規模別（販売農家）"]
[null,"平","区　分",null,null,null,"戸数（戸）",null,null,"区　分",null,null,null,null,"戸数（戸）",null,null,"区　　分",null,null,null,null,"戸数（戸）",null,null,"  ９  議　 員　・　職 　員",null,null,null,null,null,null,null,null,null,null,null,null,null,null," １４  文　　　　　　化",null,null,null,null,null,null,null,null,null," ( ",{"$f":"データ一覧!$A$507","v":"2.3.31"},null,null,null,"ただし図書館・公民館・児童館",null,null,null,null,null,null,null,{"$f":"データ一覧!$A$501","v":"2.4.1"},null,null,null,null,"　　特産物",null,null,null,null,"けんけら、でっち羊かん、やまぶどうワイン、地酒、はまな味噌、草木染（什器)、里芋、\n大野在来そば、越前おおの米、半夏生さば、穴馬スイートコーン、九頭竜まいたけ、とんちゃん、\nオウレン、醤油カツ丼"]
["農",{"$f":"+LEFT(データ一覧!$A$230,2)","v":"27"},"総農家",null,null,null,{"$f":"データ一覧!J230","v":1658},null,null,"総数",null,null,null,null,{"$f":"データ一覧!J236","v":1294},null,null,"総数",null,null,null,null,{"$f":"データ一覧!J241","v":1294},null,null,null,null,null,null,null,null,null,null,null,null,null,null,null,null,null,null,null,null,null,null,null,null,null,null,null,null,null,null,null,null,null,"　宗教法人数 ",null,null,null,null,null,null,{"$f":"データ一覧!$A$509","v":"元.12.31"},null,null,null,"）"]
["家","・","販売農家",null,null,null,{"$f":"データ一覧!J231","v":1294},null,null,"専業農家",null,null,null,null,{"$f":"データ一覧!J237","v":255},null,null,"0.5 ha 未満",null,null,null,null,{"$f":"データ一覧!J242","v":128},null,null," 市 町 村 議 会",null,null,"有権者数",null,{"$f":"データ一覧!$A$335","v":"2.9.1"},null,"市 町 村 議 会",null,null,"  職      員      数",null,null,null,null,null,null,null,null,null,"図書館",null,null,null,null,null,"公　民　館",null,null,null,null,null,null,null,null,null,null," 社会教育学級講座",null,null,null,null,null," 　年中行事",null,null,null,null,"七間朝市(春分の日～12月)､結の花まつり(4月上旬～5月中旬)､七間朝市山菜フードピア(5月中旬)､名水マラソン(5月下旬)､九頭竜新緑まつり(5月中旬)､おおの城まつり(8月13日～16日)、アルプス音楽祭(9月中旬)、三大朝市物産まつり・九頭竜紅葉まつり(10月下旬)、産業と食彩フェア(11月上旬)､小京都物産五番まつり(11月上旬)、新そばまつり(11月中旬)､越前おおの冬物語・ふるさと味物語・でっち羊かんまつり(2月上旬)"]
["数",{"$f":"+MID(データ一覧!$A$230,4,1)","v":"2"},null,"主業",null,null,{"$f":"データ一覧!J232","v":129},null,null,"兼業農家",null,null,null,null,{"$f":"データ一覧!J238","v":1039},null,null,"0.5 ha ～ 1.0 ha",null,null,null,null,{"$f":"データ一覧!J243","v":331},null,null," 議  員  定  数",null,null,"    男",null,"    女",null,"選 挙 投 票 率",null,null," 総     数",null,"一般行政職",null,null,"公    共",null,null,null," 館  数",null,null," 図書数",null,null," 本  館",null,null," 分  館",null,null," 公  園",null,null," 児童館",null,null,"学級講座数",null,null,"受講者数"]
[null,"・",null,"準主業",null,null,{"$f":"データ一覧!J233","v":436},null,null,null,"第１種兼業",null,null,null,{"$f":"データ一覧!J239","v":99},null,null,"1.0 ha ～ 1.5 ha",null,null,null,null,{"$f":"データ一覧!J244","v":345},null,null,null,null,"人",null,"人",null,"人",null,null,"　％",null,"人",null,"人",null,"施 設 数",null,null,null,null,{"$f":"データ一覧!J501","v":1},null,{"$f":"データ一覧!J502","v":210054},null,null,null,{"$f":"データ一覧!J503","v":9},null,{"$f":"データ一覧!J504","v":0},null,null,{"$f":"データ一覧!J505","v":34},null,null,{"$f":"データ一覧!J506","v":5},null,null,{"$f":"データ一覧!J507","v":1155},null,null,{"$f":"データ一覧!J508","v":33815}]
[null,{"$f":"+RIGHT(データ一覧!$A$230,1)","v":"1"},null,"副業的",null,null,{"$f":"データ一覧!J234","v":729},null,null,null,"第２種兼業",null,null,null,{"$f":"データ一覧!J240","v":940},null,null,"1.5 ha ～ 2.0 ha",null,null,null,null,{"$f":"データ一覧!J245","v":217},null,null,null,{"$f":"データ一覧!J332","v":18},null,{"$f":"データ一覧!J335","v":13225},null,{"$f":"データ一覧!J336","v":14536},null,{"$f":"データ一覧!J334","v":60.82},null,null,{"$f":"データ一覧!J337","v":373},null,{"$f":"データ一覧!J338","v":239},null,null,"宗    教",null,null,null," 仏教系",null,null,"ｷﾘｽﾄ教系",null,null,"神道諸派",null,null,"公会堂・市民会館",null,null,null,null,null," テレビ",null,null,"衛星放送契約数"]
[null,null,"自給的農家",null,null,null,{"$f":"データ一覧!J235","v":364},null,null,null,null,null,null,null,null,null,null,"2.0 ha 以上",null,null,null,null,{"$f":"データ一覧!J246","v":267},null,null,null,null,null,null,null,null,null,{"$f":"データ一覧!J333","v":"31.2.17"},null,null,null,null,null,null,null,"法 人 数",null,null,null,{"$f":"データ一覧!J509","v":78},null,null,{"$f":"データ一覧!J510","v":2},null,null,{"$f":"データ一覧!J511","v":102},null,null,{"$f":"データ一覧!J512","v":2},null,null,null,null,null,"      等",null,null,{"$f":"データ一覧!J513","v":7131}]

{"sheet":"勝山市","index":9,"n_rows":93,"n_cols":104,"rows_kept":93,"cut":false,"hidden":false,"merged":[[17,25,17,27],[18,25,18,27],[62,0,62,6],[61,0,61,6],[60,0,60,6],[57,19,57,21],[59,16,59,18],[57,16,57,18],[64,22,64,24],[35,36,35,37],[35,22,35,24],[51,29,51,32],[50,60,50,62],[51,36,51,38],[50,33,50,38],[27,37,27,38],[20,16,20,18],[29,5,29,7],[27,0,27,4],[34,8,34,10],[23,16,23,18],[57,10,57,12],[56,16,56,18],[47,16,47,18],[50,0,51,24],[31,5,31,7],[32,14,32,16],[33,14,33,16],[55,48,55,50],[55,52,55,54],[59,0,59,6],[48,7,48,9],[48,10,48,12],[47,0,47,1],[48,0,48,1],[55,0,55,6],[58,0,58,6],[57,0,57,6],[56,0,56,6],[55,10,55,12],[36,50,36,52],[38,76,38,78],[38,54,38,57],[36,54,36,57],[36,29,36,30],[48,13,48,15],[48,16,48,18],[41,4,41,6],[47,7,47,9],[47,10,47,12],[46,0,46,1],[42,7,42,9],[42,10,42,12],[42,13,42,15],[42,16,42,18],[57,7,57,9],[58,10,58,12],[56,40,56,43],[57,40,57,43],[42,4,42,6],[40,36,40,37],[40,32,40,35],[39,54,39,57],[36,36,36,37],[32,82,32,85],[33,84,34,97],[35,94,35,96],[35,69,35,73],[33,61,33,65],[35,81,35,84],[34,61,34,65],[31,41,31,47],[34,36,34,37],[65,40,65,43],[30,50,30,52],[42,61,42,65],[42,36,42,37],[37,94,37,96],[36,94,36,96],[38,94,38,96],[40,86,40,92],[39,86,39,92],[39,94,39,96],[37,80,37,83],[37,76,37,78],[42,50,42,52],[55,44,55,46],[55,40,55,43],[32,41,32,47],[41,41,41,47],[37,61,37,65],[39,80,39,83],[42,68,42,74],[38,41,38,47],[39,68,39,74],[38,80,38,83],[21,78,21,81],[21,82,21,85],[22,87,22,91],[23,69,23,73],[25,25,25,26],[30,54,30,57],[32,54,32,57],[33,54,33,57],[34,54,34,57],[34,41,34,47],[33,50,33,52],[29,54,29,57],[29,61,29,65],[34,50,34,52],[37,41,37,47],[38,50,38,52],[32,50,32,52],[26,25,26,26],[29,50,29,52],[29,87,29,91],[30,69,30,73],[32,69,32,73],[32,74,32,77],[32,78,32,81],[30,61,30,65],[31,50,31,52],[31,54,31,57],[34,29,34,30],[33,41,33,47],[35,50,35,52],[35,41,35,47],[30,41,30,47],[27,22,27,24],[20,21,20,23],[47,22,47,24],[27,25,27,26],[34,5,34,7],[44,0,45,1],[27,31,27,32],[45,32,45,35],[46,32,46,35],[16,75,16,96],[56,7,56,9],[21,32,21,34],[21,35,21,38],[20,61,20,65],[21,61,21,65],[49,40,49,46],[49,47,49,50],[49,51,49,54],[51,33,51,35],[16,36,16,37],[17,36,17,38],[18,35,18,38],[26,41,26,47],[21,41,21,47],[21,50,21,52],[20,92,20,95],[17,92,17,95],[22,92,22,95],[21,54,21,57],[21,87,21,91],[44,25,44,28],[45,25,45,28],[27,27,27,28],[55,25,55,30],[18,28,18,30],[16,32,16,33],[19,25,19,28],[19,29,19,31],[19,32,19,34],[26,27,26,28],[17,32,17,34],[18,31,18,34],[50,25,50,28],[25,29,26,30],[17,87,17,90],[19,74,19,77],[19,78,19,81],[24,74,24,77],[29,78,29,81],[31,69,31,73],[31,74,31,77],[31,78,31,81],[31,82,31,85],[29,74,29,77],[31,61,31,65],[29,82,29,85],[30,74,30,77],[30,78,30,81],[45,29,45,30],[44,29,44,30],[30,82,30,85],[30,87,30,91],[32,61,32,65],[21,74,21,77],[29,18,29,19],[41,13,41,15],[33,5,33,7],[33,8,33,10],[30,5,30,7],[29,14,29,16],[32,11,32,13],[41,16,41,18],[30,14,30,16],[32,8,32,10],[32,22,32,24],[40,4,40,6],[30,20,30,21],[30,18,30,19],[32,18,32,19],[32,20,32,21],[33,18,33,19],[33,22,33,24],[29,22,29,24],[35,8,35,10],[30,11,30,13],[30,8,30,10],[29,20,29,21],[34,22,34,24],[31,22,31,24],[30,22,30,24],[33,11,33,13],[33,20,33,21],[34,20,34,21],[31,8,31,10],[31,11,31,13],[31,14,31,16],[5,0,5,9],[6,0,8,9],[22,7,22,8],[27,5,27,7],[29,8,29,10],[29,11,29,13],[19,3,19,5],[23,11,23,13],[20,11,20,13],[24,0,25,24],[51,25,51,28],[48,22,48,24],[55,19,55,21],[26,22,26,24],[44,19,44,24],[21,25,21,28],[55,22,55,24],[47,19,47,21],[48,19,48,21],[22,25,22,28],[54,25,54,32],[15,29,15,30],[15,32,15,33],[14,26,15,28],[20,29,20,31],[20,32,20,34],[25,33,26,34],[25,27,25,28],[24,27,24,28],[40,2,40,3],[32,5,32,7],[35,5,35,7],[14,0,15,24],[17,41,17,47],[17,49,17,53],[20,41,20,47],[23,21,23,23],[25,41,25,47],[47,13,47,15],[15,35,15,37],[20,35,20,38],[25,35,26,36],[25,37,26,38],[22,32,22,34],[22,35,22,38],[23,29,23,31],[23,32,23,34],[23,35,23,38],[23,25,23,28],[22,29,22,31],[19,35,19,38],[20,25,20,28],[25,31,26,32],[21,29,21,31],[14,25,15,25],[27,29,27,30],[46,25,46,28],[27,33,27,34],[27,35,27,36],[34,11,34,13],[26,50,26,52],[28,41,28,47],[27,41,27,47],[36,41,36,47],[17,101,17,102],[19,41,19,47],[19,50,19,52],[19,54,19,57],[19,61,19,65],[17,60,17,66],[19,100,19,103],[19,96,19,99],[19,92,19,95],[17,54,17,58],[20,54,20,57],[20,50,20,52],[19,82,19,85],[20,74,20,77],[20,78,20,81],[20,82,20,85],[20,87,20,91],[17,69,17,72],[17,74,17,77],[17,83,17,84],[22,96,22,99],[22,78,22,81],[22,82,22,85],[20,100,20,103],[20,96,20,99],[25,100,25,103],[25,82,25,85],[25,87,25,91],[26,96,26,99],[24,29,24,30],[24,31,24,32],[24,33,24,34],[24,41,24,47],[24,35,24,36],[24,50,24,52],[24,37,24,38],[21,96,21,99],[21,100,21,103],[22,41,22,47],[22,50,22,52],[22,54,22,57],[22,61,22,65],[22,100,22,103],[22,69,22,73],[22,74,22,77],[21,92,21,95],[23,74,23,77],[24,87,24,91],[23,41,23,47],[23,50,23,52],[24,54,24,57],[24,61,24,65],[24,100,24,103],[24,96,24,99],[26,100,26,103],[24,92,24,95],[25,54,25,57],[25,61,25,65],[24,69,24,73],[24,78,24,81],[24,82,24,85],[23,100,23,103],[23,92,23,95],[23,96,23,99],[25,74,25,77],[23,78,23,81],[23,82,23,85],[23,54,23,57],[23,61,23,65],[26,54,26,57],[26,61,26,65],[25,78,25,81],[26,87,26,91],[23,87,23,91],[28,92,28,95],[26,92,26,95],[27,92,27,95],[27,50,27,52],[27,54,27,57],[27,61,27,65],[26,69,26,73],[26,74,26,77],[26,78,26,81],[26,82,26,85],[25,50,25,52],[25,96,25,99],[28,78,28,81],[28,82,28,85],[28,87,28,91],[27,69,27,73],[27,74,27,77],[27,78,27,81],[27,82,27,85],[27,87,27,91],[28,69,28,73],[25,92,25,95],[28,61,28,65],[28,50,28,52],[28,54,28,57],[28,74,28,77],[31,18,31,19],[31,20,31,21],[29,41,29,47],[34,14,34,16],[34,18,34,19],[40,7,40,9],[41,7,41,9],[40,13,40,15],[41,36,41,37],[41,32,41,35],[41,29,41,30],[41,19,41,21],[41,10,41,12],[40,16,40,18],[40,10,40,12],[40,19,40,21],[38,61,38,65],[35,54,35,57],[35,61,35,65],[37,54,37,57],[36,61,36,65],[39,41,39,47],[41,22,41,24],[41,50,41,52],[41,54,41,57],[35,11,35,13],[35,14,35,16],[35,18,35,19],[35,20,35,21],[41,61,41,65],[35,29,35,30],[40,22,40,24],[38,68,38,74],[39,50,39,52],[37,68,37,74],[36,76,36,78],[42,94,42,96],[42,19,42,21],[43,41,43,47],[42,32,42,35],[42,22,42,24],[40,29,40,30],[40,41,40,47],[40,50,40,52],[41,86,41,92],[37,50,37,52],[40,80,41,83],[40,76,41,78],[49,78,49,80],[46,29,46,30],[48,88,48,91],[48,92,48,95],[48,96,48,99],[49,88,49,91],[42,41,42,47],[42,76,42,78],[42,98,42,101],[42,54,42,57],[42,80,42,83],[45,93,45,102],[43,61,43,65],[45,36,45,37],[48,100,48,103],[43,54,43,57],[44,36,44,37],[49,63,49,67],[45,58,45,62],[46,70,46,75],[45,85,45,90],[48,81,48,83],[48,63,48,66],[48,69,48,76],[46,100,46,103],[47,92,47,95],[47,100,47,103],[44,32,44,35],[50,81,50,83],[50,64,50,67],[50,69,50,76],[50,78,50,80],[46,36,46,37],[48,51,48,54],[43,68,44,83],[50,96,50,99],[50,48,50,50],[50,51,50,54],[50,56,50,58],[49,100,49,103],[50,100,50,103],[50,29,50,32],[51,81,51,83],[51,84,51,87],[50,84,50,87],[50,88,50,91],[50,92,50,95],[51,92,51,95],[47,96,47,99],[43,50,43,52],[51,96,51,99],[49,55,49,58],[48,84,48,87],[48,78,48,80],[48,57,48,60],[46,96,46,99],[49,84,49,87],[49,81,49,83],[49,69,49,76],[45,78,45,83],[49,92,49,95],[49,96,49,99],[51,69,51,76],[51,88,51,91],[51,78,51,80],[62,88,62,90],[55,84,55,87],[54,96,54,99],[52,88,52,91],[54,84,54,87],[63,16,63,18],[53,25,53,27],[53,29,53,31],[53,69,53,76],[53,78,53,80],[52,78,52,80],[56,19,56,21],[55,35,55,38],[61,13,61,15],[57,22,57,24],[60,55,60,59],[61,36,61,37],[59,22,59,24],[58,19,58,21],[62,22,62,24],[61,50,61,54],[60,19,60,21],[61,19,61,21],[61,16,61,18],[60,16,60,18],[58,13,58,15],[57,13,57,15],[56,13,56,15],[54,56,54,59],[54,44,54,47],[54,48,54,51],[53,33,53,34],[59,10,59,12],[55,13,55,15],[56,10,56,12],[58,62,58,64],[58,53,58,55],[56,22,56,24],[58,22,58,24],[61,29,61,30],[58,45,58,47],[59,7,59,9],[60,7,60,9],[62,19,62,21],[60,22,60,24],[58,7,58,9],[55,16,55,18],[55,7,55,9],[62,16,62,18],[61,22,61,24],[60,40,60,43],[59,44,59,59],[55,31,55,34],[58,40,58,43],[58,16,58,18],[56,49,56,54],[60,36,60,37],[61,10,61,12],[59,19,59,21],[60,29,60,30],[59,13,59,15],[66,35,66,38],[62,29,62,30],[70,40,70,43],[61,40,61,43],[67,54,67,57],[67,63,67,67],[70,58,70,62],[73,35,73,37],[61,64,61,67],[69,32,69,33],[70,32,70,33],[68,32,68,33],[71,32,71,33],[61,7,61,9],[62,10,62,12],[60,10,60,12],[62,7,62,9],[60,13,60,15],[62,13,62,15],[63,10,63,12],[64,19,64,21],[65,13,65,15],[64,16,64,18],[69,10,69,12],[66,13,66,15],[66,16,66,18],[65,19,65,21],[65,7,65,9],[65,10,65,12],[69,13,69,15],[61,69,61,72],[75,63,75,67],[75,54,75,57],[67,68,70,72],[67,80,67,82],[78,40,78,43],[70,73,70,76],[76,63,76,67],[73,96,73,102],[74,97,74,101],[78,88,78,91],[80,79,80,81],[77,63,77,67],[78,68,78,72],[78,58,78,62],[78,73,78,77],[80,69,80,71],[77,78,77,82],[72,63,72,67],[73,54,73,57],[72,44,72,48],[72,49,72,53],[72,54,72,57],[71,54,71,57],[71,44,71,48],[71,49,71,53],[73,58,73,62],[71,58,71,62],[71,63,71,67],[74,88,74,92],[75,58,75,62],[74,58,74,62],[70,102,70,103],[76,97,76,100],[67,44,67,48],[67,49,67,53],[80,49,80,53],[78,100,78,103],[69,40,69,67],[71,68,72,83],[68,77,68,79],[68,83,68,85],[71,84,72,103],[70,98,70,100],[70,92,70,94],[68,92,68,94],[68,101,68,103],[68,58,68,62],[73,49,73,53],[68,89,68,91],[78,96,78,99],[79,98,79,99],[79,40,79,43],[79,44,79,48],[79,49,79,53],[79,54,79,57],[80,40,80,43],[78,44,78,48],[78,49,78,53],[73,78,73,84],[73,87,73,93],[77,58,77,62],[76,88,76,91],[70,89,70,91],[68,80,68,82],[70,80,70,82],[68,95,68,97],[70,78,70,79],[68,44,68,48],[68,49,68,53],[77,49,77,53],[69,25,69,28],[70,25,70,28],[70,29,70,30],[82,44,82,48],[77,40,77,43],[74,49,74,53],[83,29,83,30],[69,29,69,30],[83,40,83,43],[82,40,82,43],[74,29,74,30],[75,29,75,30],[70,84,70,85],[72,58,72,62],[70,63,70,67],[68,54,68,57],[77,44,77,48],[76,44,76,48],[68,40,68,43],[68,73,68,76],[73,63,73,67],[76,79,76,82],[74,78,74,84],[80,35,81,38],[71,35,71,37],[82,13,82,15],[82,16,82,18],[82,19,82,21],[75,40,75,43],[72,35,72,37],[73,25,73,28],[73,29,73,30],[81,16,81,18],[73,0,73,6],[74,32,74,33],[71,29,71,30],[84,49,84,53],[73,44,73,48],[73,40,73,43],[75,32,75,33],[75,35,75,37],[76,40,76,43],[80,25,81,28],[74,40,74,43],[75,44,75,48],[75,49,75,53],[74,44,74,48],[83,22,83,24],[83,4,83,6],[83,7,83,9],[83,10,83,12],[81,32,81,34],[81,40,81,43],[81,44,81,48],[73,32,73,33],[74,0,75,24],[92,32,92,34],[88,28,88,29],[91,62,91,67],[91,35,91,36],[91,37,91,38],[91,40,91,43],[91,44,91,46],[88,45,88,48],[90,65,90,67],[91,47,91,49],[90,45,90,46],[88,62,88,67],[88,51,88,54],[89,32,89,34],[90,62,90,64],[90,47,90,49],[90,51,90,52],[90,59,90,61],[91,28,91,29],[91,30,91,31],[91,32,91,34],[88,32,88,34],[88,30,88,31],[92,40,92,43],[92,44,92,46],[92,47,92,49],[92,50,92,52],[91,53,91,58],[89,40,89,43],[91,50,91,52],[90,53,90,55],[90,40,90,43],[27,100,27,103],[27,96,27,99],[92,53,92,58],[92,62,92,67],[83,63,83,67],[77,54,77,57],[80,63,80,67],[81,58,81,62],[84,63,84,67],[84,54,84,57],[83,49,83,53],[81,54,81,57],[80,89,80,91],[80,83,80,87],[78,92,78,95],[78,63,78,67],[80,74,80,76],[79,102,79,103],[80,101,80,103],[78,78,78,82],[78,83,78,87],[80,93,80,95],[80,97,80,99],[31,92,31,95],[56,100,56,103],[56,84,56,87],[40,98,40,101],[61,81,61,84],[67,89,67,91],[70,95,70,97],[41,94,41,96],[74,54,74,57],[29,100,29,103],[67,83,67,85],[67,98,67,103],[62,82,62,84],[62,76,62,78],[66,77,66,91],[63,75,63,77],[65,74,65,77],[62,69,62,72],[65,89,65,92],[39,98,39,101],[55,100,55,103],[65,94,65,97],[64,69,64,72],[65,69,65,72],[56,88,56,91],[56,92,56,95],[56,96,56,99],[65,99,65,102],[62,94,62,96],[60,86,60,91],[60,92,60,97],[55,88,55,91],[55,92,55,95],[52,100,52,103],[53,100,53,103],[55,69,55,76],[55,78,55,80],[55,81,55,83],[56,69,56,76],[51,100,51,103],[52,92,52,95],[39,76,39,78],[49,59,49,62],[54,69,54,76],[56,81,56,83],[39,61,39,65],[40,61,40,65],[56,78,56,80],[42,86,42,92],[54,88,54,91],[52,96,52,99],[31,96,31,99],[41,98,41,101],[35,99,35,102],[37,98,37,101],[40,94,40,96],[32,100,32,103],[32,92,32,95],[32,96,32,99],[54,92,54,95],[53,92,53,95],[54,100,54,103],[53,84,53,87],[55,96,55,99],[54,81,54,83],[54,78,54,80],[53,96,53,99],[53,81,53,83],[52,81,52,83],[52,84,52,87],[36,98,36,101],[53,88,53,91],[52,69,52,76],[36,86,36,92],[31,100,31,103],[43,84,44,103],[36,68,36,74],[28,96,28,99],[47,69,47,76],[47,78,47,80],[47,81,47,83],[47,84,47,87],[47,88,47,91],[81,68,82,103],[14,68,15,82],[14,83,15,96],[35,76,35,78],[37,86,37,92],[38,86,38,92],[36,80,36,83],[30,96,30,99],[29,96,29,99],[35,87,35,91],[33,68,34,81],[28,100,28,103],[29,92,29,95],[30,92,30,95],[65,79,65,82],[65,84,65,87],[70,86,70,88],[30,100,30,103],[63,85,63,87],[63,90,63,92],[38,98,38,101],[60,98,60,103],[90,56,90,58],[82,58,82,62],[89,62,89,64],[83,54,83,57],[83,58,83,62],[78,54,78,57],[83,44,83,48],[55,56,55,58],[70,44,70,48],[70,54,70,57],[61,44,61,49],[60,44,60,49],[70,49,70,53],[61,55,61,59],[57,62,57,64],[79,58,79,62],[68,63,68,67],[80,58,80,62],[60,50,60,54],[60,64,60,67],[60,60,60,63],[58,59,58,61],[65,54,65,57],[65,58,65,64],[66,40,66,67],[58,56,58,58],[84,40,84,43],[84,44,84,48],[82,49,82,53],[76,49,76,53],[67,58,67,62],[88,73,89,103],[55,64,55,66],[63,95,63,97],[76,54,76,57],[74,63,74,67],[77,92,77,95],[77,83,77,87],[76,70,76,73],[74,69,74,75],[81,49,81,53],[80,44,80,48],[62,100,62,102],[63,100,63,102],[63,19,63,21],[63,22,63,24],[65,22,65,24],[67,22,67,24],[81,19,81,21],[81,22,81,24],[82,22,82,24],[83,32,83,33],[83,36,83,37],[83,26,83,27],[81,29,81,31],[76,32,76,33],[76,35,76,37],[66,32,66,34],[68,25,68,28],[71,25,71,28],[84,58,84,62],[57,68,58,103],[66,19,66,21],[63,0,63,6],[72,10,72,12],[69,7,69,9],[70,10,70,12],[64,10,64,12],[68,29,68,30],[72,25,72,28],[70,19,70,21],[72,32,72,33],[70,35,70,37],[68,35,68,37],[72,40,72,43],[71,40,71,43],[64,0,64,6],[66,7,66,9],[67,7,67,9],[71,22,71,24],[70,16,70,18],[64,7,64,9],[63,7,63,9],[71,19,71,21],[71,10,71,12],[68,22,68,24],[66,10,66,12],[65,0,65,6],[64,13,64,15],[72,19,72,21],[68,7,68,9],[68,10,68,12],[68,13,68,15],[63,13,63,15],[70,13,70,15],[70,0,70,6],[70,7,70,9],[73,22,73,24],[69,22,69,24],[70,22,70,24],[66,22,66,24],[72,22,72,24],[71,0,71,6],[67,13,67,15],[67,16,67,18],[71,13,71,15],[67,19,67,21],[69,19,69,21],[69,16,69,18],[67,10,67,12],[65,16,65,18],[71,7,71,9],[71,16,71,18],[72,7,72,9],[72,0,72,6],[73,16,73,18],[91,26,91,27],[76,29,76,30],[74,25,74,28],[81,7,81,9],[81,10,81,12]],"merged_total":1085,"flags":["merged_cut"]}
[{"$f":"+データ一覧!K5","v":0}]
[{"$f":"+データ一覧!K8","v":0}]
[null,null,null,null,null,null,null,null,null,null,null,null,null,null,null,null,null,null,null,null,null,null,null,null,null,null,null,null,null,null,null,null,null,null,null,null,null,null,null,null,0]
[null,null,null,null,null,null,null,null,null,null,null,null,null,null,null,null,null,null,null,null,null,null,null,null,null,null,null,"【市章とそのいわれ】     カ     ツ     山 をもって勝山を意味                      ",null,null,null,null,null,null,null,null,null,null,null,null,"  【位置および地勢】勝山市は福井県の北東部に位置し、南東は大野市に、",null,null,null,null,null,null,null,null,null,null,null,null,null,null,null,null,null,null,null,null,null,null,null,null,null,null,null,null,null,null,"所在地",null,null,null,null,null,null,null,"〒911-8501"]
[null,null,null,null,null,null,null,null,null,null,null,null,null,null,null,null,null,null,null,null,null,null,null,null,null,null,null,"                  する。福井、大野、金沢の三方面への発展を                                        ",null,null,null,null,null,null,null,null,null,null,null,null,"                  ","南西は福井市、北西に坂井市、西に永平寺町、北は石川県に隣接し、",null,null,null,null,null,null,null,null,null,null,null,null,null,null,null,null,null,null,null,null,null,null,null,null,null,null,null,null,null,null,null,null,null,null,null,null,null,"勝山市元町１丁目１番１号"]
[{"$f":"+データ一覧!K6","v":"かつやまし"},null,null,null,null,null,null,null,null,null,null,null,null,null,null,null,null,null,null,null,null,null,null,null,null,null,null,"                  三角の各頂点であらわし、丸は和合、三角は                                        ",null,null,null,null,null,null,null,null,null,null,null,null,"  ","市の周辺は1,000m級の山々に囲まれ、中心部は県下最大河川 である九頭竜川の"]
[{"$f":"データ一覧!K9","v":"勝山市"},null,null,null,null,null,null,null,null,null,null,null,null,null,null,null,null,null,null,null,null,null,null,null,null,null,null,"                  どっしりとした安定性を意味し、三角と丸を",null,null,null,null,null,null,null,null,null,null,null,null," ","中流域に位置している。",null,null,null,null,null,null,null,null,null,null,null,null,null,null,null,null,null,null,null,null,null,null,null,null,null,null,null,null,null,"電話番号",null,null,null,null,null,null,null,"（０７７９）８８－１１１１"]
[null,null,null,null,null,null,null,null,null,null,null,null,null,null,null,null,null,null,null,null,null,null,null,null,null,null,null,"                  組み合わせて勝山市としての将来の発展を",null,null,null,null,null,null,null,null,null,null,null,null," ","市街地は九頭竜川の流れに沿って形成された河岸段丘に位置しており、",null,null,null,null,null,null,null,null,null,null,null,null,null,null,null,null,null,null,null,null,null,null,null,null,null,null,null,null,null,"FAX番号",null,null,null,null,null,null,null,"     〃     ８８－１１１９"]
[null,null,null,null,null,null,null,null,null,null,null,null,null,null,null,null,null,null,null,null,null,null,null,null,null,null,null,"                  意味する。",null,null,null,null,null,null,null,null,null,null,null,null,"  ","明治以来の地場産業である繊維産業を中心とした商工業、古くから盛んな"]
[null,null,null,null,null,null,null,null,null,null,null,null,null,null,null,null,null,null,null,null,null,null,null,null,null,null,null,0,null,null,null,null,null,null,null,null,null,null,null,null," ","農林業を基幹産業とする水と緑の豊かな田園都市である。",null,null,null,null,null,null,null,null,null,null,null,null,null,null,null,null,null,null,null,null,null,null,null,null,null,null,null,null,null,"最寄駅および距離",null,null,null,null,null,null,null,"えちぜん鉄道勝山永平寺線勝山駅　下車１ｋｍ"]
[null,null,null,null,null,null,null,null,null,null,null,null,null,null,null,null,null,null,null,null,null,null,null,null,null,null,null,0]
[]
[null,null,null,null,null,null,null,null,null,null,null,null,null,null,null,null,null,null,null,null,null,null,null,null,null,null,null,"【市が掲げる標語】小さくてもキラリと光る誇りと活力に満ちたふるさと勝山",null,null,null,null,null,null,null,null,null,null,null,null,null,null,null,null,null,null,null,null,null,null,null,null,null,null,null,null,null,null,null,null,null,null,null,null,null,null,null,null,null,null,null,"ホームページ",null,null,null,null,null,null,null,"http://www.city.katsuyama.fukui.jp/"]
[]
["  １  土            　　地",null,null,null,null,null,null,null,null,null,null,null,null,null,null,null,null,null,null,null,null,null,null,null,null,{"$f":"データ一覧!$A$247","v":"元年"},"産米収穫量",null,null,"　 収　穫　量",null,null," 　作 付 面 積",null,null,"   10a当たり収量",null,null,null,null,null,null,null,null,null,null,null,null,null,null,null,null,null,null,null,null,null,null,null,null,null,null,null,null,null,null,null,null," １５  労　　　　　　　働",null,null,null,null,null,null,null,null,null,null,null,null,null,null,"27.10.1"]
[null,null,null,null,null,null,null,null,null,null,null,null,null,null,null,null,null,null,null,null,null,null,null,null,null,null,null,null,null,{"$f":"データ一覧!$K$247","v":5560},null,"t",{"$f":"データ一覧!$K$248","v":1110},null,"ha",{"$f":"データ一覧!K249","v":503},null,null,"kg",null," １０  工　　　　　　業 ",null,null,null,null,null,null,null,null,null,null,null,null,null,{"$f":"データ一覧!$A$339","v":"元.6.1（平成30年実績）"}]
["   総          面           積",null,null,null,null,null,null,null,null,null," 固 定 資 産 概 要 調 書 に よ る 地 目 別 面 積",null,null,null,null,null,null,null,null,null,null,null,null,null,null,null,null,null,"   総　　　数",null,null,null,"うち　　田",null,null,null,"うち　　畑",null,null,null,null,null,null,null,null,null,null,null,null,null,null,null,null,null,null,null,null,null,null,null,null,null,null,null,null,null,null,null,null,null,null,null,null,null,null,"産業別就業者数   "]
[null,null,{"$f":"データ一覧!$A$10","v":"2.10.1"},null,null,null,null,null,null,null,null,null,null,null,null,null,{"$f":"データ一覧!$A$12","v":"2.1.1"},null,null,null,null,null,null,null,null," 耕  地  面  積",null,null,null,"       ha",null,null,"ha ",null,null,null,"ha ",null,null,null,"      ","産業分類",null,null,null,null,null,null,null,"事業所数",null,null,null,null,"従業者数",null,null,null,null,null,"年間製造品出荷額等",null,null,null,null,null,null,null,null,"区  分",null,null,null,null,"総    数",null,null,null,null,"男",null,null,null,"女",null,null,"  ","区  分",null,null,null,null,"総    数",null,null,null,null,"男",null,null,null,"女"]
[null,null,null,null,null,null,"㎢",null,null,null,"   総       数",null,null,null,null,"  う ち     田",null,null,null,null,"  う ち     畑",null,null,null,null,{"$f":"データ一覧!$A$250","v":"元.7.15"},null,null,{"$f":"データ一覧!$K$250","v":1930},null,null,{"$f":"データ一覧!$K$251","v":1780},null,null,null,{"$f":"データ一覧!$K$252","v":155},null,null,null,null,null,null,null,null,null,null,null,null,null,"　　   ",null,null,"事業所",null,"　　　　　　　 人",null,null,"人",null,"　　　　　　　　　　　　　　万円",null,null,null,null,null,null,"万円",null,null,null,null,null,null,null,"      人",null,null,null,null,null," 人",null,null,null," 人",null,null,null,null,null,null,null,"      人",null,null,null,"      人",null,null,null,"      人"]
[null,null,null,{"$f":"データ一覧!K10","v":253.88},null,null,null,null,null,null,null,null,null,null,"ha",null,null,null,null,"ha",null,null,null,null,"ha","農 業 生 産 物",null,null,null,"作 付 面 積",null,null,"収 穫 量",null,null,"10a当たり収量",null,null,null,null,"     ","総数",null,null,null,null,null,null,null,null,{"$f":"データ一覧!K339","v":70},null,null,null,{"$f":"+データ一覧!K364","v":2398},null,null,null,null,null,null,{"$f":"データ一覧!K389","v":6926734},null,null,null,null,null,null," 総　　　数",null,null,null,null,null,{"$f":"CA20+CE20","v":12480},null,null,null,{"$f":"データ一覧!K514","v":6673},null,null,null,{"$f":"データ一覧!K539","v":5807}]
[null,null,null,null,null,null,null,null,null,null,null,{"$f":"データ一覧!K12","v":20770.5},null,null,null,null,{"$f":"データ一覧!K13","v":2065.3000000000002},null,null,null,null,{"$f":"データ一覧!K14","v":150.4},null,null,null,{"$f":"データ一覧!$A$253","v":"元年中"},null,null,null,"ha",null,null,"t",null,null,"kg",null,null,null,null,"     食料品","食料品",null,null,null,null,null,null,null,null,{"$f":"データ一覧!K340","v":4},null,null,null,{"$f":"+データ一覧!K365","v":91},null,null,null,null,null,null,{"$f":"データ一覧!K390","v":155413},null,null,null,null,null,null,null,null,null,null,null,null,null,null,null,null,null,null,null,null,null,null,null,null,null,"卸売業,小売業",null,null,null,null,{"$f":"CS21+CW21","v":1648},null,null,null,{"$f":"データ一覧!K527","v":845},null,null,null,{"$f":"データ一覧!K552","v":803}]
["  町 ･ 丁 ･ 大 字",null,null,null,null,null,null,null,null,null,"  う ち  宅 地",null,null,null,null,"  う ち  山 林",null,null,null,null,"  う ち  原 野",null,null,null,null,"水　　　　　稲",null,null,null,{"$f":"データ一覧!K253","v":1110},null,null,{"$f":"データ一覧!K254","v":5560},null,null,{"$f":"データ一覧!K255","v":503},null,null,null,null,"     飲料・飼料","飲料・飼料",null,null,null,null,null,null,null,null,{"$f":"データ一覧!K341","v":1},null,null,null,{"$f":"+データ一覧!K366","v":29},null,null,null,null,null,null,{"$f":"データ一覧!K391","v":"x"},null,null,null,null,null,null," 第１次産業",null,null,null,null,null,{"$f":"CA22+CE22","v":780},null,null,null,{"$f":"データ一覧!K515","v":510},null,null,null,{"$f":"データ一覧!K540","v":270},null,null,null,null,"金融業,保険業",null,null,null,null,{"$f":"CS22+CW22","v":241},null,null,null,{"$f":"データ一覧!K528","v":99},null,null,null,{"$f":"データ一覧!K553","v":142}]
["  区    画    数",null,null,null,null,null,null,{"$f":"データ一覧!K11","v":118},null,null,null,null,null,null,"ha",null,null,null,null,"ha",null,null,null,null,"ha","六　条　大　麦",null,null,null,{"$f":"データ一覧!K256","v":233},null,null,{"$f":"データ一覧!K257","v":548},null,null,{"$f":"データ一覧!K258","v":235},null,null,null,null,"     繊維","繊維",null,null,null,null,null,null,null,null,{"$f":"データ一覧!K342","v":34},null,null,null,{"$f":"+データ一覧!K367","v":1168},null,null,null,null,null,null,{"$f":"データ一覧!K392","v":1424409},null,null,null,null,null,null,"  ","農業",null,null,null,null,{"$f":"CA23+CE23","v":714},null,null,null,{"$f":"データ一覧!K516","v":448},null,null,null,{"$f":"データ一覧!K541","v":266},null,null,null,"  ","不動産業",null,null,null,null,71,null,null,null,{"$f":"データ一覧!K529","v":48},null,null,null,{"$f":"データ一覧!K554","v":23}]
[{"$f":"データ一覧!$A$11","v":"31.4.1"},null,null,null,null,null,null,null,null,null,null,{"$f":"データ一覧!K15","v":600.9},null,null,null,null,{"$f":"データ一覧!K16","v":9279.7000000000007},null,null,null,null,{"$f":"データ一覧!K17","v":332.9},null,null,null,"大　　      豆",null,null,null,{"$f":"データ一覧!K259","v":14},null,null,{"$f":"データ一覧!K260","v":6},null,null,{"$f":"データ一覧!K261","v":45},null,null,null,null,"     衣服","木材",null,null,null,null,null,null,null,null,{"$f":"データ一覧!K343","v":1},null,null,null,{"$f":"+データ一覧!K368","v":8},null,null,null,null,null,null,{"$f":"データ一覧!K393","v":"x"},null,null,null,null,null,null,"  ","林業",null,null,null,null,63,null,null,null,{"$f":"データ一覧!K517","v":59},null,null,null,{"$f":"データ一覧!K542","v":4},null,null,null,"  ","学術研究",null,null,null,null,182,null,null,null,{"$f":"データ一覧!K530","v":116},null,null,null,{"$f":"データ一覧!K555","v":66}]
["  ２  世　帯　数　と　人　口",null,null,null,null,null,null,null,null,null,null,null,null,null,null,null,null,null,null,null,null,null,null,null,null,null,null,"  区　分",null," 乳 用 牛",null," 肉 用 牛",null,"豚",null,"採卵鶏",null,"ブロイラー",null,null,"     木材","家具",null,null,null,null,null,null,null,null,{"$f":"データ一覧!K344","v":2},null,null,null,{"$f":"+データ一覧!K369","v":40},null,null,null,null,null,null,{"$f":"データ一覧!K394","v":"x"},null,null,null,null,null,null,"  ","漁業",null,null,null,null,3,null,null,null,{"$f":"データ一覧!K518","v":3},null,null,null,{"$f":"データ一覧!K543","v":0},null,null,null,"  ","宿泊業,飲食ｻｰﾋﾞｽ",null,null,null,null,548,null,null,null,{"$f":"データ一覧!K531","v":232},null,null,null,{"$f":"データ一覧!K556","v":316}]
[null,null,null,null,null,null,null,null,null,null,null,null,null,null,null,null,null,null,null,null,null,null,null,null,null,"畜　産",null," 飼養農家",null,{"$f":"データ一覧!$K$262","v":3},null,{"$f":"データ一覧!$K$264","v":3},null,{"$f":"データ一覧!$K$266","v":"-"},null,{"$f":"データ一覧!$K$268","v":"x"},null,{"$f":"データ一覧!$K$270","v":"-"},null,null,"     家具","パルプ・紙",null,null,null,null,null,null,null,null,{"$f":"データ一覧!K345","v":0},null,null,null,{"$f":"+データ一覧!K370","v":0},null,null,null,null,null,null,{"$f":"データ一覧!K395","v":0},null,null,null,null,null,null," 第２次産業",null,null,null,null,null,4424,null,null,null,{"$f":"データ一覧!K519","v":2807},null,null,null,{"$f":"データ一覧!K544","v":1617},null,null,null,"  ","生活関連ｻｰﾋﾞｽ業",null,null,null,null,411,null,null,null,{"$f":"データ一覧!K532","v":151},null,null,null,{"$f":"データ一覧!K557","v":260}]
[null,null,null,null,null,null,null,null,"        人　　　　　　　　　　口",null,null,null,null,null,null,null,null,null,null,null,"１世帯当",null,"人    口",null,null,{"$f":"データ一覧!$A$262","v":"2.3.31"},null,"（戸）",null,null,null,null,null,null,null,null,null,null,null,null,"     パルプ・紙","印刷",null,null,null,null,null,null,null,null,{"$f":"データ一覧!K346","v":3},null,null,null,{"$f":"+データ一覧!K371","v":33},null,null,null,null,null,null,{"$f":"データ一覧!K396","v":47108},null,null,null,null,null,null,null,"鉱業，採石業",null,null,null,null,10,null,null,null,{"$f":"データ一覧!K520","v":6},null,null,null,{"$f":"データ一覧!K545","v":4},null,null,null,"  ","教育,学習支援業",null,null,null,null,578,null,null,null,{"$f":"データ一覧!K533","v":229},null,null,null,{"$f":"データ一覧!K558","v":349}]
[" 区　　　　分",null,null,null,null,"世帯数",null,null," 総   数",null,null,"    男",null,null,"    女",null,null,"  男／女",null,null,"たり人員",null,"密    度",null,null,null,null," 頭 羽",null,{"$f":"データ一覧!$K$263","v":106},null,{"$f":"データ一覧!$K$265","v":8},null,{"$f":"データ一覧!$K$267","v":"-"},null,{"$f":"データ一覧!$K$269","v":114},null,{"$f":"データ一覧!$K$271","v":"-"},null,null,"     出版・印刷","化学",null,null,null,null,null,null,null,null,{"$f":"データ一覧!K347","v":1},null,null,null,{"$f":"+データ一覧!K372","v":344},null,null,null,null,null,null,{"$f":"データ一覧!K397","v":"x"},null,null,null,null,null,null,"  ","建設業",null,null,null,null,1181,null,null,null,{"$f":"データ一覧!K521","v":1008},null,null,null,{"$f":"データ一覧!K546","v":173},null,null,null,null,"医療，福祉",null,null,null,null,1707,null,null,null,{"$f":"データ一覧!K534","v":330},null,null,null,{"$f":"データ一覧!K559","v":1377}]
[null,null,null,null,null,"    世 帯",null,null,"       人",null,null,"       人",null,null,"       人",null,null,null,"　　％",null,"    人",null,"    人/㎢",null,null,null,null,null,null,null,null,null,null,null,null,null,null,null,null,null,"     化学","石油・石炭",null,null,null,null,null,null,null,null,{"$f":"データ一覧!K348","v":1},null,null,null,{"$f":"+データ一覧!K373","v":17},null,null,null,null,null,null,{"$f":"データ一覧!K398","v":"x"},null,null,null,null,null,null,null,"製造業",null,null,null,null,3233,null,null,null,{"$f":"データ一覧!K522","v":1793},null,null,null,{"$f":"データ一覧!K547","v":1440},null,null,null,null,"複合サービス事業",null,null,null,null,170,null,null,null,{"$f":"データ一覧!K535","v":87},null,null,null,{"$f":"データ一覧!K560","v":83}]
[{"$f":"データ一覧!$A$25","v":" 2.10.1"},null,null,null,null,{"$f":"データ一覧!K25","v":7701},null,null,{"$f":"+L30+O30","v":29805},null,null,{"$f":"データ一覧!K27","v":14400},null,null,{"$f":"データ一覧!K28","v":15405},null,null,null,{"$f":"+L30/O30*100","v":93.476144109055497},null,{"$f":"データ一覧!K30","v":3.87},null,{"$f":"データ一覧!K31","v":117.5},null,null,"  ５  林               業",null,null,null,null,null,null,null,null,null,null,null,null,null,null,"     石油・石炭","プラスチック",null,null,null,null,null,null,null,null,{"$f":"データ一覧!K349","v":0},null,null,null,{"$f":"+データ一覧!K374","v":0},null,null,null,null,null,null,{"$f":"データ一覧!K399","v":0},null,null,null,null,null,null," 第３次産業",null,null,null,null,null,7199,null,null,null,{"$f":"データ一覧!K523","v":3310},null,null,null,{"$f":"データ一覧!K548","v":3889},null,null,null,null,"サービス業",null,null,null,null,567,null,null,null,{"$f":"データ一覧!K536","v":362},null,null,null,{"$f":"データ一覧!K561","v":205}]
[{"$f":"データ一覧!$A$32","v":" 7.10.1"},null,null,null,null,{"$f":"データ一覧!K32","v":7733},null,null,{"$f":"+L31+O31","v":29162},null,null,{"$f":"データ一覧!K34","v":14033},null,null,{"$f":"データ一覧!K35","v":15129},null,null,null,92.755634873421911,null,{"$f":"データ一覧!K37","v":3.77},null,{"$f":"データ一覧!K38","v":115},null,null,null,null,null,null,null,null,null,null,null,null,null,null,null,null,null,"     プラスチック","ゴム",null,null,null,null,null,null,null,null,{"$f":"データ一覧!K350","v":0},null,null,null,{"$f":"+データ一覧!K375","v":0},null,null,null,null,null,null,{"$f":"データ一覧!K400","v":0},null,null,null,null,null,null,null,"電気･ｶﾞｽ･水道業",null,null,null,null,58,null,null,null,{"$f":"データ一覧!K524","v":47},null,null,null,{"$f":"データ一覧!K549","v":11},null,null,null,null,"公務",null,null,null,null,452,null,null,null,{"$f":"データ一覧!K537","v":319},null,null,null,{"$f":"データ一覧!K562","v":133}]
[{"$f":"データ一覧!$A$39","v":"12.10.1"},null,null,null,null,{"$f":"データ一覧!K39","v":7942},null,null,{"$f":"+L32+O32","v":28143},null,null,{"$f":"データ一覧!K41","v":13391},null,null,{"$f":"データ一覧!K42","v":14752},null,null,null,90.774132321041208,null,{"$f":"データ一覧!K44","v":3.54},null,{"$f":"データ一覧!K45","v":110.9},null,null,"    　森　　　林　　　総　　　面　　　積   ",null,null,null,null,null,null,null,{"$f":"データ一覧!$A$272","v":"2.3.31"},null,null,null,null,null,null,"     ゴム","皮革",null,null,null,null,null,null,null,null,{"$f":"データ一覧!K351","v":0},null,null,null,{"$f":"+データ一覧!K376","v":0},null,null,null,null,null,null,{"$f":"データ一覧!K401","v":0},null,null,null,null,null,null,null,"情報通信業",null,null,null,null,140,null,null,null,{"$f":"データ一覧!K525","v":97},null,null,null,{"$f":"データ一覧!K550","v":43},null,null,null," 分類不能の産業",null,null,null,null,null,77,null,null,null,{"$f":"データ一覧!K538","v":46},null,null,null,{"$f":"データ一覧!K563","v":31}]
[{"$f":"+データ一覧!$A$46","v":"17.10.1"},null,null,null,null,{"$f":"データ一覧!K46","v":7990},null,null,{"$f":"+L33+O33","v":26961},null,null,{"$f":"データ一覧!K48","v":12777},null,null,{"$f":"データ一覧!K49","v":14184},null,null,null,90.080372250423011,null,{"$f":"データ一覧!K51","v":3.37},null,{"$f":"データ一覧!K52","v":106.3},null,null,"　　　森　　　　　　　林　　　　　　　の　　　　　　　構　　　　　　　成",null,null,null,null,null,null,null,null,null,null,null,null,null,null,"     皮革","窯業・土石",null,null,null,null,null,null,null,null,{"$f":"データ一覧!K352","v":3},null,null,null,{"$f":"+データ一覧!K377","v":33},null,null,null,null,null,null,{"$f":"データ一覧!K402","v":87952},null,null,null,null,null,null,"  ","運輸業,郵便業",null,null,null,null,{"$f":"CA33+CE33","v":426},null,null,null,{"$f":"データ一覧!K526","v":348},null,null,null,{"$f":"データ一覧!K551","v":78}]
[{"$f":"+データ一覧!$A$53","v":"22.10.1"},null,null,null,null,{"$f":"+データ一覧!K53","v":7773},null,null,{"$f":"+L34+O34","v":25466},null,null,{"$f":"+データ一覧!K55","v":12072},null,null,{"$f":"+データ一覧!K56","v":13394},null,null,null,90.129908914439312,null,{"$f":"+データ一覧!K58","v":3.28},null,{"$f":"+データ一覧!K59","v":100.4},null,null,null,null,null,null,null,"       ha",null,null,null,null,null,null,"       ha",null,null,"     窯業・土石","鉄鋼",null,null,null,null,null,null,null,null,{"$f":"データ一覧!K353","v":2},null,null,null,{"$f":"+データ一覧!K378","v":89},null,null,null,null,null,null,{"$f":"データ一覧!K403","v":"x"},null,null,null,null,null,null," １６  社　 会 　福　 祉",null,null,null,null,null,null,null,null,null,null,null,null,null,null,null,{"$f":"データ一覧!$A$564","v":"2.4.1"}]
[{"$f":"データ一覧!$A$60","v":"27.10.1"},null,null,null,null,{"$f":"データ一覧!K60","v":7703},null,null,{"$f":"データ一覧!K61","v":24125},null,null,{"$f":"データ一覧!K62","v":11478},null,null,{"$f":"データ一覧!K63","v":12647},null,null,null,90.756701193959046,null,{"$f":"データ一覧!K65","v":3.1318966636375438},null,{"$f":"データ一覧!K66","v":95},null,null,"  総　　　　　   数",null,null,null,{"$f":"データ一覧!K272","v":20180.18},null,null," 天然林       針葉樹",null,null,null,{"$f":"データ一覧!K275","v":221.21},null,null,null,"     鉄鋼","非鉄金属",null,null,null,null,null,null,null,null,{"$f":"データ一覧!K354","v":0},null,null,null,{"$f":"+データ一覧!K379","v":0},null,null,null,null,null,null,{"$f":"データ一覧!K404","v":0}]
[{"$f":"+データ一覧!$A$67","v":"2.10.1"},null,null,null,null,{"$f":"データ一覧!K67","v":7615},null,null,{"$f":"データ一覧!K76","v":22181},null,null,{"$f":"データ一覧!K77","v":10550},null,null,{"$f":"データ一覧!K78","v":11631},null,null,null,{"$f":"+L36/O36*100","v":90.705872237984693},null,{"$f":"データ一覧!K68","v":2.91},null,{"$f":"データ一覧!K69","v":87.368047896644086},null,null,"  人工林     針葉樹",null,null,null,{"$f":"データ一覧!K273","v":7906.26},null,null," 天然林       広葉樹",null,null,null,{"$f":"データ一覧!K276","v":11068.970000000001},null,null,null,"     非鉄金属","金属",null,null,null,null,null,null,null,null,{"$f":"データ一覧!K355","v":5},null,null,null,{"$f":"+データ一覧!K380","v":237},null,null,null,null,null,null,{"$f":"データ一覧!K405","v":773105},null,null,null,null,null,null,"    ","区分",null,null,null,null,null,null,"施設数",null,null,null,null,"収容定員",null,null,null,null,null,"区分",null,null,null,null,null,null,"施設数",null,null,null,null,"収容定員"]
["年",null,"  区",null," 0歳",null,null,"15歳",null,null,"25歳",null,null,"35歳",null,null,"45歳",null,null,"55歳",null,null,"65歳",null,null,"  人工林     広葉樹",null,null,null,{"$f":"データ一覧!K274","v":215.51999999999998},null,null," 竹               林",null,null,null,{"$f":"データ一覧!K277","v":9.3999999999999986},null,null,null,"     金属","はん用機械",null,null,null,null,null,null,null,null,{"$f":"データ一覧!K356","v":0},null,null,null,{"$f":"+データ一覧!K381","v":0},null,null,null,null,null,null,{"$f":"データ一覧!K406","v":0},null,null,null,null,null,null,"生活保護施設",null,null,null,null,null,null,null,{"$f":"データ一覧!K564","v":0},null,null,null,{"$f":"データ一覧!K577","v":0},null,null,null,"人",null,"指定障害者支援施設",null,null,null,null,null,null,null,{"$f":"データ一覧!K570","v":4},null,null,null,{"$f":"データ一覧!K583","v":215},null,null,null,"人"]
["齢","令",null,null,null,"～",null,null,"～",null,null,"～",null,null,"～",null,null,"～",null,null,"～",null,null,null,null,null,null,null,null,null,null,null,null,null,null,null,null,null,null,null,"     一般機械","生産用機械",null,null,null,null,null,null,null,null,{"$f":"データ一覧!K357","v":1},null,null,null,{"$f":"+データ一覧!K382","v":12},null,null,null,null,null,null,{"$f":"データ一覧!K407","v":"x"},null,null,null,null,null,null,"地域福祉施設",null,null,null,null,null,null,null,{"$f":"データ一覧!K565","v":0},null,null,null,{"$f":"データ一覧!K578","v":0},null,null,null,null,null,"指定相談支援事業所",null,null,null,null,null,null,null,{"$f":"データ一覧!K571","v":0},null,null,null,{"$f":"データ一覧!K584","v":0}]
["階","元","  分",null,null,null,"14歳",null,null,"24歳",null,null,"34歳",null,null,"44歳",null,null,"54歳",null,null,"64歳",null,null,"以上","    林     野     の     構     成",null,null,null,null,null,null,"保     有     形     態     別",null,null,null,null,null,null,null,"     電気機械","業務用機械",null,null,null,null,null,null,null,null,{"$f":"データ一覧!K358","v":0},null,null,null,{"$f":"+データ一覧!K383","v":0},null,null,null,null,null,null,{"$f":"データ一覧!K408","v":0},null,null,null,null,null,null,"老人福祉施設",null,null,null,null,null,null,null,{"$f":"データ一覧!K566","v":5},null,null,null,{"$f":"データ一覧!K579","v":76},null,null,null,null,null,"児童福祉施設",null,null,null,null,null,null,null,{"$f":"データ一覧!K572","v":14},null,null,null,{"$f":"データ一覧!K585","v":874}]
["級","・",null,null,null,null,"人",null,null,"人",null,"    人",null,null,"    人",null,null,"    人",null,null,"    人",null,null,"    人",null,null,null,null,null,null,null,"ha",null,null,null,null,null,"       ha",null,null,null,"電子・デバイス",null,null,null,null,null,null,null,null,{"$f":"データ一覧!K359","v":2},null,null,null,{"$f":"+データ一覧!K384","v":53},null,null,null,null,null,null,{"$f":"データ一覧!K409","v":"x"},null,null,null,null,null,null,"介護保険施設",null,null,null,null,null,null,null,{"$f":"データ一覧!K567","v":35},null,null,null,{"$f":"データ一覧!K580","v":785},null,null,null,null,null,"母子福祉施設",null,null,null,null,null,null,null,{"$f":"データ一覧!K573","v":0},null,null,null,{"$f":"データ一覧!K586","v":0}]
["別","10","総 数",null,{"$f":"+E42+E43","v":2407},null,null,{"$f":"+H42+H43","v":1871},null,null,{"$f":"+K42+K43","v":1535},null,null,{"$f":"+N42+N43","v":2333},null,null,{"$f":"+Q42+Q43","v":2569},null,null,{"$f":"+T42+T43","v":3058},null,null,{"$f":"+W42+W43","v":8385},null,null," 無立木地   伐採跡地",null,null,null,{"$f":"データ一覧!K278","v":27.17},null,null,"国   　　　 　 有",null,null,null,{"$f":"データ一覧!K280","v":2002.03},null,null,null,null,"電気機械",null,null,null,null,null,null,null,null,{"$f":"データ一覧!K360","v":3},null,null,null,{"$f":"+データ一覧!K385","v":147},null,null,null,null,null,null,{"$f":"データ一覧!K410","v":148028},null,null,null,null,null,null,"障害者自立支援法施行前からの身体障害者福祉施設",null,null,null,null,null,null,null,{"$f":"データ一覧!K568","v":0},null,null,null,{"$f":"データ一覧!K581","v":0},null,null,null,null,null,"婦人保護施設",null,null,null,null,null,null,null,{"$f":"データ一覧!K574","v":0},null,null,null,{"$f":"データ一覧!K587","v":0}]
["人","・","  男",null,{"$f":"データ一覧!K79","v":1253},null,null,{"$f":"データ一覧!K80","v":901},null,null,{"$f":"データ一覧!K81","v":827},null,null,{"$f":"データ一覧!K82","v":1189},null,null,{"$f":"データ一覧!K83","v":1258},null,null,{"$f":"データ一覧!K84","v":1471},null,null,{"$f":"データ一覧!K85","v":3637},null,null," 無立木地   未立木地",null,null,null,{"$f":"データ一覧!K279","v":731.65},null,null,"公       　　  有",null,null,null,{"$f":"データ一覧!K281","v":4145.0700000000006},null,null,null,"     輸送機械","情報通信機械",null,null,null,null,null,null,null,null,{"$f":"データ一覧!K361","v":1},null,null,null,{"$f":"+データ一覧!K386","v":19},null,null,null,null,null,null,{"$f":"データ一覧!K411","v":"x"},null,null,null,null,null,null,null,null,null,null,null,null,null,null,null,null,null,null,null,null,null,null,null,null,"その他の社会福祉施設",null,null,null,null,null,null,null,{"$f":"データ一覧!K575+データ一覧!K576","v":0},null,null,null,{"$f":"データ一覧!K588+データ一覧!K589","v":0}]
["口","1","  女",null,{"$f":"データ一覧!K87","v":1154},null,null,{"$f":"データ一覧!K88","v":970},null,null,{"$f":"データ一覧!K89","v":708},null,null,{"$f":"データ一覧!K90","v":1144},null,null,{"$f":"データ一覧!K91","v":1311},null,null,{"$f":"データ一覧!K92","v":1587},null,null,{"$f":"データ一覧!K93","v":4748},null,null,null,null,null,null,null,null,null,"私          　 有",null,null,null,{"$f":"データ一覧!K282","v":14033.079999999998},null,null,null,"     精密機械","輸送機械",null,null,null,null,null,null,null,null,{"$f":"データ一覧!K362","v":4},null,null,null,{"$f":"+データ一覧!K387","v":55},null,null,null,null,null,null,{"$f":"データ一覧!K412","v":14811},null,null,null,null,null,null,"障害福祉サービス事業所",null,null,null,null,null,null,null,{"$f":"データ一覧!K569","v":19},null,null,null,{"$f":"データ一覧!K582","v":233}]
[null,null,null,null,null,null,null,null,null,null,null,null,null,null,null,null,null,null,null,null,null,null,null,null,null,"            林     産     物     生     産     量 ",null,null,null,null,null,null,null,null,null,{"$f":"データ一覧!$A$283","v":"元年中"},null,null,null,null,"     その他","その他",null,null,null,null,null,null,null,null,{"$f":"データ一覧!K363","v":2},null,null,null,{"$f":"+データ一覧!K388","v":23},null,null,null,null,null,null,{"$f":"データ一覧!K413","v":"x"},null,null,null,null,null,null," １７  教　　　　　　　育",null,null,null,null,null,null,null,null,null,null,null,null,null,null,null,{"$f":"データ一覧!$A$590","v":"2.5.1"}]
["人口動態",null,null,null,null,null,null,"   自　然　動　態",null,null,null,null,null,"   社  会  動  態",null,null,null,null,null,{"$f":"データ一覧!$A74","v":"31.1.1～元.12.31"},null,null,null,null,null,"生椎茸",null,null,null,{"$f":"データ一覧!K283","v":375},null,"㎏","乾椎茸",null,null,null,{"$f":"データ一覧!K284","v":"-"},null,"㎏"]
[null,null,"   区       分",null,null,null,null," 出   生",null,null," 死   亡",null,null," 転   入",null,null," 転   出",null,null," 婚   姻",null,null," 離   婚",null,null,"えのきだけ",null,null,null,{"$f":"データ一覧!K286","v":"-"},null,"㎏","なめこ",null,null,null,{"$f":"データ一覧!K285","v":"-"},null,"㎏",null,"    ","工　業　用　水　量",null,null,null,null,null,"（従業者30人以上の事業所）",null,null,null,null,null,null,null,null,null,null,{"$f":"データ一覧!K414","v":8157},null,null,null,null,"㎥／日",null,null,null,null,null,null,null,null,null,null,null,null,null,null,"学校数（校）",null,null,null,null,null,null,"教員数（人）",null,null,null,null,null,null,null,"学生・生徒・児童数（人）"]
[{"$f":"LEFT(データ一覧!$A70,7)","v":"元.10.1～"},null,null,null,null,null,null,"       人",null,null,"       人",null,null,"       人",null,null,"       人",null,null,null,"    件",null,null,"    件",null,"ひらたけ",null,null,null,{"$f":"+データ一覧!K287","v":"-"},null,"㎏","まいたけ",null,null,null,{"$f":"+データ一覧!K288","v":"-"},null,"㎏",null,null,null,null,null,null,null,null,null,null,null,null,null,null,null,null,null,null,null,null,null,null,null,null,null,null,null,null,null,null,"　","区分",null,null,null,null,null,null,null," 本 校",null,null," 分 校",null,null," 本   務",null,null,null," 兼   務",null,null,null," 総   数",null,null,null,"男",null,null,null,"女"]
["～",null," 実          数",null,null,null,null,{"$f":"データ一覧!K70","v":131},null,null,{"$f":"データ一覧!K71","v":365},null,null,{"$f":"データ一覧!K72","v":384},null,null,{"$f":"データ一覧!K73","v":530},null,null,{"$f":"データ一覧!K74","v":77},null,null,{"$f":"データ一覧!K75","v":31},null,null,null,null,null,null,null,null,null,null,null,null,null,null,null,null,null," １１ 　上　・　下　水　道",null,null,null,null,null,null,null,null,null,null,null,null,null,null,null,null,null,null,null,null,null,null,null,null,null,null,null,null,"小学校",null,null,null,null,null,null,null,null,{"$f":"データ一覧!K591","v":10},null,null,{"$f":"データ一覧!K592","v":0},null,null,{"$f":"データ一覧!K593","v":112},null,null,null,{"$f":"データ一覧!K594","v":21},null,null,null,{"$f":"データ一覧!K595","v":1063},null,null,null,{"$f":"データ一覧!K596","v":551},null,null,null,{"$f":"データ一覧!K597","v":512}]
[{"$f":"RIGHT(データ一覧!$A72,7)","v":"～2.9.30"},null,"比率(対1,000人)",null,null,null,null,{"$f":"+H48/I35*1000","v":5.4300518134715032},null,null,{"$f":"+K48/I35*1000","v":15.129533678756477},null,null,"- ",null,null,"- ",null,null,{"$f":"+T48/I35*1000","v":3.1917098445595853},null,null,{"$f":"+W48/I35*1000","v":1.2849740932642486},null,null,"  ６  漁               業",null,null,null,null,null,null,null,null,null,null,null,null,null,null,null,null,null,null,null,null,null,null,null,null,null,null,null,null,null,null,null,null,null,null,null,null,null,null,null,null,null,null,"  ","中学校",null,null,null,null,null,null,null,null,{"$f":"データ一覧!K599","v":4},null,null,{"$f":"データ一覧!K600","v":0},null,null,{"$f":"データ一覧!K601","v":67},null,null,null,{"$f":"データ一覧!K602","v":9},null,null,null,{"$f":"データ一覧!K603","v":594},null,null,null,{"$f":"データ一覧!K604","v":308},null,null,null,{"$f":"データ一覧!K605","v":286}]
[null,null,null,null,null,null,null,null,null,null,null,null,null,null,null,null,null,null,null,null,null,null,null,null,null,null,null,null,null,null,null,null,null,null,null,null,null,null,null,null,"水 道 供 給 人 口",null,null,null,null,null,null,"上 水 道",null,null,null,"簡易水道",null,null,null,"専用水道",null,null,null,"飲料水供給施設",null,null,null,"下水道処理人口",null,null,null,null,"  ","高等学校",null,null,null,null,null,null,null,null,{"$f":"データ一覧!K607","v":1},null,null,{"$f":"データ一覧!K608","v":0},null,null,{"$f":"データ一覧!K609","v":34},null,null,null,{"$f":"データ一覧!K610","v":10},null,null,null,{"$f":"データ一覧!K611","v":311},null,null,null,{"$f":"データ一覧!K612","v":156},null,null,null,{"$f":"データ一覧!K613","v":155}]
["  ３  事　　業　　所（民　　営）    （平 28.6.1）",null,null,null,null,null,null,null,null,null,null,null,null,null,null,null,null,null,null,null,null,null,null,null,null,"漁船隻数・トン数",null,null,null,{"$f":"データ一覧!$A$289","v":"元.12.31"},null,null,null,"動　力　船",null,null,null,null,null,null,{"$f":"データ一覧!$A$415","v":"2.3.31"},null,null,null,null,null,"人",null,{"$f":"データ一覧!K415","v":21781},null,null,{"$f":"データ一覧!K416","v":0},null,null,null,null,{"$f":"データ一覧!K417","v":135},null,null,null,{"$f":"データ一覧!K418","v":0},null,null,null,{"$f":"データ一覧!K419","v":19516},null,null,null,"  ","大学・短期大学",null,null,null,null,null,null,null,null,{"$f":"データ一覧!K614","v":0},null,null,{"$f":"データ一覧!K615","v":0},null,null,{"$f":"データ一覧!K616","v":0},null,null,null,{"$f":"データ一覧!K617","v":0},null,null,null,{"$f":"データ一覧!K618","v":0},null,null,null,{"$f":"データ一覧!K619","v":0},null,null,null,{"$f":"データ一覧!K620","v":0}]
[null,null,null,null,null,null,null,null,null,null,null,null,null,null,null,null,null,null,null,null,null,null,null,null,null,"無動力船隻数",null,null,null,"船外機付漁船隻数",null,null,null,"隻　数",null,null,"総 ト ン 数",null,null,null,null,null,null,null,null,null,null,null,null,null,null,null,null,null,null,null,null,null,null,null,null,null,null,null,null,null,null,null,"  ","高等専門学校",null,null,null,null,null,null,null,null,{"$f":"データ一覧!K621","v":0},null,null,{"$f":"データ一覧!K622","v":0},null,null,{"$f":"データ一覧!K623","v":0},null,null,null,{"$f":"データ一覧!K624","v":0},null,null,null,{"$f":"データ一覧!K625","v":0},null,null,null,{"$f":"データ一覧!K626","v":0},null,null,null,{"$f":"データ一覧!K627","v":0}]
[null,null,null,null,null,null,null,"    総　　　　　数",null,null,null,null,null,"    民　　　　　営",null,null,null,null,null,"  国 ･ 地方公共団体",null,null,null,null,null,null,null,null,"隻",null,null,null,"隻",null,null,"隻",null,null,"t",null," １２  交   通　・　通   信",null,null,null,null,null,null,null,null,null,null,null,null,null,null,null,null,null,null,null,null,null,null,null,null,null,null,null,"  ","特別支援学校",null,null,null,null,null,null,null,null,{"$f":"データ一覧!K629","v":1},null,null,{"$f":"データ一覧!K630","v":0},null,null,{"$f":"+データ一覧!K631","v":57},null,null,null,{"$f":"+データ一覧!K632","v":3},null,null,null,{"$f":"+データ一覧!K633","v":57},null,null,null,{"$f":"+データ一覧!K634","v":32},null,null,null,{"$f":"+データ一覧!K635","v":25}]
["  　区　　　　　　分",null,null,null,null,null,null," 事業所数",null,null," 従業者数",null,null," 事業所数",null,null," 従業者数",null,null," 事業所数",null,null," 従業者数",null,null,{"$f":"データ一覧!$K$289","v":0},null,null,null,{"$f":"データ一覧!$K$290","v":0},null,null,null,{"$f":"データ一覧!K291","v":0},null,null,{"$f":"データ一覧!K292","v":0},null,null,null,null,null,null,null,null,null,null,null,null,null,null,null,null,null,null,null,null,null,null,null,null,null,null,null,null,null,null,null,"  ","幼稚園",null,null,null,null,null,null,null,null,{"$f":"データ一覧!K637","v":1},null,null,{"$f":"データ一覧!K638","v":0},null,null,{"$f":"データ一覧!K639","v":4},null,null,null,{"$f":"データ一覧!K640","v":0},null,null,null,{"$f":"データ一覧!K641","v":20},null,null,null,{"$f":"データ一覧!K642","v":7},null,null,null,{"$f":"データ一覧!K643","v":13}]
[null,null,null,null,null,null,null,null,null,null,"       人",null,null,null,null,null,"       人",null,null,null,null,null,"       人",null,null,"  男女別就業者数",null,null,null,null,null,null,null,{"$f":"データ一覧!$A$293","v":"30.11.1"},null,null,null,null,null,null,"道     路",null,null,null,"実 延 長",null,null,null,"国     道",null,null,null,"県     道",null,null,null,"市町道",null,null,null," 鉄 道 営 業 キ ロ 数",null,null,null,null,null,null,null,"  ","幼保連携認定こども園",null,null,null,null,null,null,null,null,{"$f":"データ一覧!K645","v":7},null,null,{"$f":"データ一覧!K646","v":0},null,null,{"$f":"データ一覧!K647","v":125},null,null,null,{"$f":"データ一覧!K648","v":8},null,null,null,{"$f":"データ一覧!K649","v":534},null,null,null,{"$f":"データ一覧!K650","v":279},null,null,null,{"$f":"データ一覧!K651","v":255}]
["総数",null,null,null,null,null,null,{"$f":"データ一覧!K95","v":"…"},null,null,{"$f":"データ一覧!K152","v":"…"},null,null,{"$f":"データ一覧!K96","v":1212},null,null,{"$f":"データ一覧!K153","v":9260},null,null,{"$f":"データ一覧!K97","v":"…"},null,null,{"$f":"データ一覧!K154","v":"…"},null,null,"総　　数",null,null,null,null,null,"男",null,null,null,"女",null,null,null,null,{"$f":"データ一覧!$A$420","v":"31.4.1"},null,null,null,{"$f":"データ一覧!K420","v":568.41999999999996},null,null,"㎞",{"$f":"データ一覧!K421","v":39.700000000000003},null,null,"㎞",{"$f":"データ一覧!K422","v":82.7},null,null,"㎞",{"$f":"データ一覧!K423","v":446.02},null,null,"km",{"$f":"データ一覧!$A$424","v":"2.4.1"},null,null,null,{"$f":"データ一覧!K424","v":6.6},null,null,"㎞","  ","各種学校",null,null,null,null,null,null,null,null,{"$f":"データ一覧!K653","v":1},null,null,{"$f":"データ一覧!K654","v":0},null,null,{"$f":"データ一覧!K655","v":20},null,null,null,{"$f":"データ一覧!K656","v":0},null,null,null,{"$f":"データ一覧!K657","v":54},null,null,null,{"$f":"データ一覧!K658","v":40},null,null,null,{"$f":"データ一覧!K659","v":14}]
["農林漁業",null,null,null,null,null,null,{"$f":"データ一覧!K98","v":"…"},null,null,{"$f":"データ一覧!K155","v":"…"},null,null,{"$f":"データ一覧!K99","v":18},null,null,{"$f":"データ一覧!K156","v":323},null,null,{"$f":"データ一覧!K100","v":"…"},null,null,{"$f":"データ一覧!K157","v":"…"},null,null,null,null,null,null,null,"人",null,null,"　　　　人",null,null,null,null,"  人",null,"自動車",null,null,null,null,null,null,null,null,"乗用車",null,null,null,null,null,null,null,null,null,null,null,null,null,null,null,null,null,null,"  ","専修学校",null,null,null,null,null,null,null,null,{"$f":"データ一覧!K661","v":0},null,null,{"$f":"データ一覧!K662","v":0},null,null,{"$f":"データ一覧!K663","v":0},null,null,null,{"$f":"データ一覧!K664","v":0},null,null,null,{"$f":"データ一覧!K665","v":0},null,null,null,{"$f":"データ一覧!K666","v":0},null,null,null,{"$f":"データ一覧!K667","v":0}]
["鉱業",null,null,null,null,null,null,{"$f":"データ一覧!K101","v":"…"},null,null,{"$f":"データ一覧!K158","v":"…"},null,null,{"$f":"データ一覧!K102","v":0},null,null,{"$f":"データ一覧!K159","v":0},null,null,{"$f":"データ一覧!K103","v":"…"},null,null,{"$f":"データ一覧!K160","v":"…"},null,null,{"$f":"SUM(AF58,AJ58)","v":0},null,null,null,null,null,{"$f":"データ一覧!$K$294","v":0},null,null,null,{"$f":"データ一覧!K295","v":0},null,null,null,null,"台  数",null,null,null,"貨    物",null,null,null,"普     通",null,null,null,"小     型",null,null,null,"乗  合",null,null,"特  種",null,null,"小型二輪",null,null,"軽自動車",null,null," １８  衛　　　　　　　生"]
["建設業",null,null,null,null,null,null,{"$f":"データ一覧!K104","v":"…"},null,null,{"$f":"データ一覧!K161","v":"…"},null,null,{"$f":"データ一覧!K105","v":167},null,null,{"$f":"データ一覧!K162","v":814},null,null,{"$f":"データ一覧!K106","v":"…"},null,null,{"$f":"データ一覧!K163","v":"…"},null,null,"　　　　海 面 漁 業 漁 獲 量 （属人）",null,null,null,null,null,null,null,{"$f":"データ一覧!$A$296","v":"30年中"},null,null,null,null,null,null,{"$f":"データ一覧!$A$425","v":"2.3.31"},null,null,null,null,{"$f":"データ一覧!K425","v":951},null,null,null,{"$f":"データ一覧!K427","v":3947},null,null,null,{"$f":"データ一覧!K428","v":4478},null,null,{"$f":"データ一覧!K426","v":67},null,null,{"$f":"データ一覧!K429","v":494},null,null,{"$f":"データ一覧!K430","v":223},null,null,{"$f":"データ一覧!K431","v":9234}]
["製造業",null,null,null,null,null,null,{"$f":"データ一覧!K107","v":"…"},null,null,{"$f":"データ一覧!K164","v":"…"},null,null,{"$f":"データ一覧!K108","v":172},null,null,{"$f":"データ一覧!K165","v":2909},null,null,{"$f":"データ一覧!K109","v":"…"},null,null,{"$f":"データ一覧!K166","v":"…"},null,null,null,null,null,null,null,"       ","ｔ",null,null,null,null,null,null,"t",null,null,null,"     ",null,"郵　便　局　数",null,null,null,null,null,null,null,null,null,null,null,null,null,null,null,"一般加入",null,null,null,"ＩＮＳネット",null,null,null,null,null,null,null,"医療関係施設",null,null,null,null,null,{"$f":"データ一覧!$A$668","v":"元.10.1"},null,null,null,null,null,null,"および医療関係者数",null,null,null,null,null,null,null,{"$f":"データ一覧!$A$673","v":"30.12.31"}]
["電気・ｶﾞ ｽ・熱供給・水道業",null,null,null,null,null,null,{"$f":"データ一覧!K110","v":"…"},null,null,{"$f":"データ一覧!K167","v":"…"},null,null,{"$f":"データ一覧!K111","v":2},null,null,{"$f":"データ一覧!K168","v":15},null,null,{"$f":"データ一覧!K112","v":"…"},null,null,{"$f":"データ一覧!K169","v":"…"},null,null,"   総　　　　　　数",null,null,null,{"$f":"データ一覧!K296","v":0},null,null,"   藻　　　　　　類",null,null,null,{"$f":"データ一覧!K299","v":0},null,null,null,"通  信",null,null,null," 総     数",null,null,null,null,null," 郵 便 局",null,null,null,null," 簡 易 局",null,null,null,null,"電話数",null,null,null,"加入数",null,null,null,null,null,null,null,null,null,"　","病",null,null,"院",null,"　",null,null,null,null," ","一般診療所",null,null,null,null,null,null,null,null,null,null,null,"歯科診療所"]
["情報通信業",null,null,null,null,null,null,{"$f":"データ一覧!K113","v":"…"},null,null,{"$f":"データ一覧!K170","v":"…"},null,null,{"$f":"データ一覧!K114","v":6},null,null,{"$f":"データ一覧!K171","v":43},null,null,{"$f":"データ一覧!K115","v":"…"},null,null,{"$f":"データ一覧!K172","v":"…"},null,null,"   魚　　　　　　類",null,null,null,{"$f":"データ一覧!K297","v":0},null,null,"   そ　   の　　 他",null,null,null,{"$f":"データ一覧!K300","v":0},null,null,null,{"$f":"データ一覧!$A$435","v":"2.3.31"},null,null,null,{"$f":"データ一覧!K432","v":10},null,null,null,null,null,{"$f":"データ一覧!K433","v":9},null,null,null,null,{"$f":"データ一覧!K434","v":1},null,null,null,null,{"$f":"データ一覧!K435","v":2917},null,null,null,{"$f":"データ一覧!K436","v":262},null,null,null," ","医療関係",null,null,null,null,null,null,null,null,null,null,null,"一般病院",null,null,null,null,null,null,null,null,null,null,null,"有",null,null,"床"]
["運輸業、郵便業",null,null,null,null,null,null,{"$f":"データ一覧!K116","v":"…"},null,null,{"$f":"データ一覧!K173","v":"…"},null,null,{"$f":"データ一覧!K117","v":16},null,null,{"$f":"データ一覧!K174","v":345},null,null,{"$f":"データ一覧!K118","v":"…"},null,null,{"$f":"データ一覧!K175","v":"…"},null,null,"   貝　　　　　　類",null,null,null,{"$f":"データ一覧!K298","v":0},null,null,null,null,null,null,null,null,null,null,null,null,null,null,null,null,null,null,null,null,null,null,null,null,null,null,null,null,null,null,null,null,null,null,null,null,null,null,null,"施設数",null,null,null,null,null,null,{"$f":"データ一覧!K668","v":2},null,null,null,null,null,{"$f":"データ一覧!K669","v":1},null,null,null,null,null,{"$f":"データ一覧!K670","v":13},null,null,null,null,null,{"$f":"データ一覧!K671","v":3},null,null,null,null,null,{"$f":"データ一覧!K672","v":8}]
["卸売業、小売業",null,null,null,null,null,null,{"$f":"データ一覧!K119","v":"…"},null,null,{"$f":"データ一覧!K176","v":"…"},null,null,{"$f":"データ一覧!K120","v":285},null,null,{"$f":"データ一覧!K177","v":1379},null,null,{"$f":"データ一覧!K121","v":"…"},null,null,{"$f":"データ一覧!K178","v":"…"},null,null,null,null,null,null,null,null,null,null,null,null,null,null,null,null,null," １３  税　　・　　財　　政",null,null,null,null,null,null,null,null,null,null,null,null,null,null,null,null,null,null,null,null,null,null,null,null,null,null,null,null,null,null,null,null,null,null,"医師",null,null,null,null,"歯科医師",null,null,null,null,"薬剤師",null,null,null,null,"保健師",null,null,null,null,"助産師",null,null," ",null,"看護師",null,null," "]
["金融業、保険業",null,null,null,null,null,null,{"$f":"データ一覧!K122","v":"…"},null,null,{"$f":"データ一覧!K179","v":"…"},null,null,{"$f":"データ一覧!K123","v":17},null,null,{"$f":"データ一覧!K180","v":118},null,null,{"$f":"データ一覧!K124","v":"…"},null,null,{"$f":"データ一覧!K181","v":"…"},null,null,"  ７  商        　　　業 ",null,null,null,null,null,null,{"$f":"データ一覧!$A$301","v":"28.6.1(平成27年実績）"},null,null,null,null,null,null,null,null,null,null,null,null,null,null,null,null,null,null,null,null,null,null,null,null,null,null,null,null,null,null,null,null,null,null,null," ","医療",null,null,null,null,null,null,null,null,"人",null,null,null,null,"人",null,null,null,null,"人",null,null,null,null,"人",null,null,null,null,"人",null,null,null,null,"人"]
["不動産業、物品賃貸業",null,null,null,null,null,null,{"$f":"データ一覧!K125","v":"…"},null,null,{"$f":"データ一覧!K182","v":"…"},null,null,{"$f":"データ一覧!K126","v":14},null,null,{"$f":"データ一覧!K183","v":31},null,null,{"$f":"データ一覧!K127","v":"…"},null,null,{"$f":"データ一覧!K184","v":"…"},null,null,null,null,null,null,null,null,null,null,null,null,null,null,null,null,null,"           ",null,null,null,"歳入",null,null,null,null,null,null,null,null,"(千円）"," ",null,null,null,"歳出",null,null,null,null,null,null,null,null,"(千円）",null,"関係者",null,null,null,null,{"$f":"データ一覧!K673","v":43},null,null,null,null,{"$f":"データ一覧!K674","v":13},null,null,null,null,{"$f":"データ一覧!K675","v":44},null,null,null,null,{"$f":"データ一覧!K676","v":20},null,null,null,null,{"$f":"データ一覧!K677","v":1},null,null,null,null,{"$f":"データ一覧!K678","v":357}]
["学術研究、専門・技術ｻｰﾋﾞｽ業",null,null,null,null,null,null,{"$f":"データ一覧!K128","v":"…"},null,null,{"$f":"データ一覧!K185","v":"…"},null,null,{"$f":"データ一覧!K129","v":32},null,null,{"$f":"データ一覧!K186","v":97},null,null,{"$f":"データ一覧!K130","v":"…"},null,null,{"$f":"データ一覧!K187","v":"…"},null,null,"  産   業　 分　 類",null,null,null,"  商　 店 　数",null,null," 従　業　者　数",null,null,"年　間　販　売　額",null,null,null,null,"一人当たり歳入歳出予算決算額",null,null,null,null,null,null,null,null,null,null,null,null,null,null,null,null,null,null,null,null,null,null,null,null,null,null,null,"                   ",null,null,null,null,null,null,null,null,"死因別死亡数　　　　　    ",null,null,null,null,null,null,null,null,null,null,null,null,null,null,null,{"$f":"データ一覧!$A$679","v":"元年中"},null,null,null,null,null,null,null,null,"      単 位：人"]
["宿泊業、飲食サービス業",null,null,null,null,null,null,{"$f":"データ一覧!K131","v":"…"},null,null,{"$f":"データ一覧!K188","v":"…"},null,null,{"$f":"データ一覧!K132","v":151},null,null,{"$f":"データ一覧!K189","v":645},null,null,{"$f":"データ一覧!K133","v":"…"},null,null,{"$f":"データ一覧!K190","v":"…"},null,null,null,null,null,null,null,"        店",null,null,null,"　人",null,"         百万円",null,null,null,"区分",null,null,null,{"$f":"データ一覧!$A$445","v":"2年度"},null,null,null,null,{"$f":"データ一覧!$A$459","v":"元年度"},null,null,null,null,"区分",null,null,null,{"$f":"+AS68","v":"2年度"},null,null,null,null,{"$f":"データ一覧!$A$459","v":"元年度"},null,null,null,null," 死     因",null,null,null,null,null,null,null,null,null,null,null,"悪  性",null,null,"高血圧",null,null,null,null,null,"脳血管",null,null,null,null,null," ",null,null,"不慮の事故"]
["生活関連サービス業、娯楽業",null,null,null,null,null,null,{"$f":"データ一覧!K134","v":"…"},null,null,{"$f":"データ一覧!K191","v":"…"},null,null,{"$f":"データ一覧!K135","v":128},null,null,{"$f":"データ一覧!K192","v":317},null,null,{"$f":"データ一覧!K136","v":"…"},null,null,{"$f":"データ一覧!K193","v":"…"},null,null,"総　　　　　　計",null,null,null,{"$f":"データ一覧!K301","v":240},null,null,{"$f":"データ一覧!K310","v":1163},null,null,{"$f":"データ一覧!K319","v":22697},null,null,null,null,null,null,null,null,{"$f":"データ一覧!K441","v":529990.12668500061},null,null,null,null,{"$f":"データ一覧!K442","v":550836},null,null,null,null,null,null,null,null,{"$f":"データ一覧!K443","v":529990.12668500061},null,null,null,null,{"$f":"データ一覧!K444","v":537332.25477594079},null,null,null,null,null,null,null,null,null,"全 死 因",null,null,null,"結 核",null,null,"新生物",null,null,"性疾患",null,null,"心疾患",null,null,"疾  患",null,null,"肺  炎",null,null,"老  衰",null,null,null,null," ","交通事故"]
["教育、学習支援業",null,null,null,null,null,null,{"$f":"データ一覧!K137","v":"…"},null,null,{"$f":"データ一覧!K194","v":"…"},null,null,{"$f":"データ一覧!K138","v":30},null,null,{"$f":"データ一覧!K195","v":149},null,null,{"$f":"データ一覧!K139","v":"…"},null,null,{"$f":"データ一覧!K196","v":"…"},null,null,"卸売業",null,null,null,{"$f":"データ一覧!K302","v":28},null,null,{"$f":"データ一覧!K311","v":99},null,null,{"$f":"データ一覧!K320","v":6386},null,null,null,null,"項目別歳入歳出予算決算額"]
["医療、福祉",null,null,null,null,null,null,{"$f":"データ一覧!K140","v":"…"},null,null,{"$f":"データ一覧!K197","v":"…"},null,null,{"$f":"データ一覧!K141","v":75},null,null,{"$f":"データ一覧!K198","v":1671},null,null,{"$f":"データ一覧!K142","v":"…"},null,null,{"$f":"データ一覧!K199","v":"…"},null,null,"小売業",null,null,null,{"$f":"データ一覧!K303","v":212},null,null,{"$f":"データ一覧!K312","v":1064},null,null,{"$f":"データ一覧!K321","v":16311},null,null,null,null,"区分",null,null,null,{"$f":"データ一覧!$A$445","v":"2年度"},null,null,null,null,{"$f":"データ一覧!$A$459","v":"元年度"},null,null,null,null,"区分",null,null,null,{"$f":"+AS71","v":"2年度"},null,null,null,null,{"$f":"データ一覧!$A$459","v":"元年度"},null,null,null,null,null,null,null,null,null,{"$f":"データ一覧!K679","v":369},null,null,null,"   －",{"$f":"データ一覧!K680","v":0},null,{"$f":"データ一覧!K681","v":74},null,null,null,{"$f":"データ一覧!K682","v":5},null,{"$f":"データ一覧!K683","v":57},null,null,{"$f":"データ一覧!K684","v":41},null,null,{"$f":"データ一覧!K685","v":23},null,null,{"$f":"データ一覧!K686","v":37},null,null,{"$f":"データ一覧!K687","v":12},null,null,null,{"$f":"データ一覧!K688","v":0}]
["複合サービス事業",null,null,null,null,null,null,{"$f":"データ一覧!K143","v":"…"},null,null,{"$f":"データ一覧!K200","v":"…"},null,null,{"$f":"データ一覧!K144","v":13},null,null,{"$f":"データ一覧!K201","v":133},null,null,{"$f":"データ一覧!K145","v":"…"},null,null,{"$f":"データ一覧!K202","v":"…"},null,null,"各種商品",null,null,null,{"$f":"データ一覧!K304","v":0},null,null,{"$f":"データ一覧!K313","v":0},null,null,{"$f":"データ一覧!K322","v":0},null,null,null,null,"総額",null,null,null,{"$f":"SUM(AS73:AW85)","v":11755711},null,null,null,null,{"$f":"SUM(AX73:BB85)","v":12427406},null,null,null,null,"総額",null,null,null,{"$f":"SUM(BG73:BK85)","v":11755711},null,null,null,null,{"$f":"SUM(BL73:BP85)","v":12122753},null,null,null,null," １９  警　察　・　消　防  ",null,null,null,null,null,null,null,null,null,null,null,null,null,null,null,{"$f":"+データ一覧!$A689","v":"2.4.1"}]
["サービス業",null,null,null,null,null,null,{"$f":"データ一覧!K146","v":"…"},null,null,{"$f":"データ一覧!K203","v":"…"},null,null,{"$f":"データ一覧!K147","v":86},null,null,{"$f":"データ一覧!K204","v":271},null,null,{"$f":"データ一覧!K148","v":"…"},null,null,{"$f":"データ一覧!K205","v":"…"},null,null,"織物・衣服・身の回り品",null,null,null,{"$f":"データ一覧!K305","v":26},null,null,{"$f":"データ一覧!K314","v":69},null,null,{"$f":"データ一覧!K323","v":743},null,null,null,null,"地方税",null,null,null,{"$f":"データ一覧!K446","v":2772629},null,null,null,null,{"$f":"データ一覧!K460","v":2819324},null,null,null,null,"議会費",null,null,null,{"$f":"データ一覧!K474","v":162079},null,null,null,null,{"$f":"データ一覧!K488","v":154690}]
["公務",null,null,null,null,null,null,{"$f":"データ一覧!K149","v":"…"},null,null,{"$f":"データ一覧!K206","v":"…"},null,null,{"$f":"データ一覧!K150","v":"…"},null,null,{"$f":"データ一覧!K207","v":"…"},null,null,{"$f":"データ一覧!K151","v":"…"},null,null,{"$f":"データ一覧!K208","v":"…"},null,null,"飲食料品",null,null,null,{"$f":"データ一覧!K306","v":63},null,null,{"$f":"データ一覧!K315","v":373},null,null,{"$f":"データ一覧!K324","v":6094},null,null,null,null,"地方譲与税",null,null,null,{"$f":"データ一覧!K447","v":163019},null,null,null,null,{"$f":"データ一覧!K461","v":154654},null,null,null,null,"総務費",null,null,null,{"$f":"データ一覧!K475","v":1392665},null,null,null,null,{"$f":"データ一覧!K489","v":1739684},null,null,null,null,null,null,null,null,null,null,null,null,null,null,"交番・駐在所",null,null,null,null,null,null,null,null,"刑法犯認知件数",null,null,null,null,null,null,null,null,"交通人身事故発生件数"]
["  ４  農        　　　業 ",null,null,null,null,null,null,null,null,null,null,null,null,null,null,null,null,null,null,null,null,null,null,null,null,"機械器具",null,null,null,{"$f":"データ一覧!K307","v":40},null,null,{"$f":"データ一覧!K316","v":164},null,null,{"$f":"データ一覧!K325","v":2691},null,null,null,null,"各種交付金",null,null,null,{"$f":"データ一覧!K448","v":526006},null,null,null,null,{"$f":"データ一覧!K462","v":458072},null,null,null,null,"民生費",null,null,null,{"$f":"データ一覧!K476","v":3648115},null,null,null,null,{"$f":"データ一覧!K490","v":3752387},null,null,null,null,null,"警察署数",null,null,null,null,null,null,null,null,"検問所数",null,null,null,null,null,null,null,null,null,{"$f":"データ一覧!$A$691","v":"元年中"},null,null,null,null,null,null,null,null,{"$f":"データ一覧!$A$691","v":"元年中"}]
[null,null,null,null,null,null,null,null,null,null,null,null,null,null,null,null,null,null,null,null,null,null,null,null,null,"その他",null,null,null,{"$f":"データ一覧!K308","v":76},null,null,{"$f":"データ一覧!K317","v":402},null,null,{"$f":"データ一覧!K326","v":6072},null,null,null,null,"地方特例交付金",null,null,null,{"$f":"データ一覧!K449","v":14000},null,null,null,null,{"$f":"データ一覧!K463","v":39388},null,null,null,null,"衛生費",null,null,null,{"$f":"データ一覧!K477","v":925185},null,null,null,null,{"$f":"データ一覧!K491","v":775906},null,null,null,null,null,null,null,null,null,null,null,null,null,null,null,null,null,null,null,null,null,null,null,null,null,null,null,null," 件",null,null,null,null,null,null,null,null,"　件"]
[null,null,"農家人口と世帯員数(販売農家)",null,null,null,null,null,null,null,"農家世帯の就業状態（販売農家）",null,null,null,null,null,null,null,null,null,null,null,null,null,null,"無店舗",null,null,null,{"$f":"データ一覧!K309","v":7},null,null,{"$f":"データ一覧!K318","v":56},null,null,{"$f":"データ一覧!K327","v":711},null,null,null,null,"地方交付税",null,null,null,{"$f":"データ一覧!K450","v":4050000},null,null,null,null,{"$f":"データ一覧!K464","v":4210348},null,null,null,null,"労働費",null,null,null,{"$f":"データ一覧!K478","v":114534},null,null,null,null,{"$f":"データ一覧!K492","v":113876},null,null,null,null,null,null,{"$f":"データ一覧!K689","v":1},null,null,null,null,null,null,null,null,{"$f":"データ一覧!K690","v":5},null,null,null,null,null,null,null,null,{"$f":"データ一覧!K691","v":38},null,null,null,null,null,null,null,null,{"$f":"データ一覧!K692","v":13}]
["農","平",null,null,null,null,null,null,null,null,"農業従事者",null,null,null,null,null,null,null,null,"非農業従事",null,null,"農業従事者",null,null,null,null,null,null,null,null,null,null,null,null,null,null,null,null,null,"分担金および負担金",null,null,null,{"$f":"データ一覧!K451","v":17845},null,null,null,null,{"$f":"データ一覧!K465","v":87179},null,null,null,null,"農林水産業費",null,null,null,{"$f":"データ一覧!K479","v":833536},null,null,null,null,{"$f":"データ一覧!K493","v":687097},null,null,null,null,"火災発生件数",null,null,null,null,null,null,null,null,null,"林野焼損",null,null,null,null,"損      害",null,null,null,null,"消 防 自",null,null,null,"その他の",null,null,null," ",null,null,null,null," "]
["家",{"$f":"+LEFT(データ一覧!$A$209,2)","v":"27"},"区分",null,"農家人口",null,null,"15歳以上の",null,null,null,null,null,"農業就業人口",null,null,null,null,null,"者",null,null,"の平均年齢",null,null,"  ８  住　　　　　　 　宅",null,null,null,null,null,null,null,null,null,null,null,null,null,null,"使用料および手数料",null,null,null,{"$f":"データ一覧!K452","v":146503},null,null,null,null,{"$f":"データ一覧!K466","v":126984},null,null,null,null,"商工費",null,null,null,{"$f":"データ一覧!K480","v":803390},null,null,null,null,{"$f":"データ一覧!K494","v":608560},null,null,null,null,{"$f":"+データ一覧!$A$693","v":"元年中"},null,null,null,null,"焼損棟数",null,null,null,null,"面    積",null,null,null,null,"見  積  額",null,null,null,null,"動 車 数",null,null,null,"ﾎﾟﾝﾌﾟ数",null,null,null," 消防吏員",null,null,null," 消防団員"]
["人就 ","・",null,null,null,null,null,"世帯員数",null,null,null,null,null,null,null,null,"基幹的農業",null,null,null,null,null,null,null,null,null,null,null,null,null,null,null,null,null,null,null,null,null,null,null,"国庫支出金",null,null,null,{"$f":"データ一覧!K453","v":1346111},null,null,null,null,{"$f":"データ一覧!K467","v":1526522},null,null,null,null,"土木費",null,null,null,{"$f":"データ一覧!K481","v":1004200},null,null,null,null,{"$f":"データ一覧!K495","v":1568639},null,null,null,null,"         件",null,null,null,null,null,"      棟",null,null,null,null,null,null,"  ａ",null,null,null,"  千円",null,null,"        ",null,null,null,null,null,null,null,null,null,"  人",null,null,null,"  人"]
["口業 ",{"$f":"+MID(データ一覧!$A$209,4,1)","v":"2"},null,null,null,null,"人",null,null,"人",null,null,"人",null,null,"人","従事者",null,"人",null,null,"人",null,null,"歳",{"$f":"+データ一覧!$A$328","v":"30年"},null,null,null,null,{"$f":"データ一覧!$A$331","v":"元年"},"中の増減",null,null,null,{"$f":"+データ一覧!$A$331","v":"元年"},null,null,null,null,"県支出金",null,null,null,{"$f":"データ一覧!K454","v":1219306},null,null,null,null,{"$f":"データ一覧!K468","v":1147460},null,null,null,null,"消防費",null,null,null,{"$f":"データ一覧!K482","v":468644},null,null,null,null,{"$f":"データ一覧!K496","v":392834},null,null,null,null,null,{"$f":"データ一覧!K693","v":6},null,null,null,null,{"$f":"データ一覧!K694","v":5},null,null,null,null,{"$f":"データ一覧!K695","v":4},null,null,null,{"$f":"データ一覧!K696","v":15007},null,null,null,null,null,{"$f":"データ一覧!K697","v":7},null,null,null,{"$f":"データ一覧!K698","v":37},null,null,null,{"$f":"データ一覧!K699","v":38},null,null,null,{"$f":"データ一覧!K700","v":295}]
["と状 ","・"," 総数",null,{"$f":"データ一覧!K209","v":3509},null,null,{"$f":"データ一覧!K212","v":3156},null,null,{"$f":"データ一覧!K215","v":2410},null,null,{"$f":"データ一覧!K218","v":1092},null,null,{"$f":"データ一覧!K221","v":924},null,null,{"$f":"データ一覧!K224","v":746},null,null,{"$f":"データ一覧!K227","v":58.8},null,null,null,null,null,null,"建設した住宅",null,null,"消失した住宅",null,null,null,null,null,null,null,"財産収入",null,null,null,{"$f":"データ一覧!K455","v":21450},null,null,null,null,{"$f":"データ一覧!K469","v":66057},null,null,null,null,"教育費",null,null,null,{"$f":"データ一覧!K483","v":1267692},null,null,null,null,{"$f":"データ一覧!K497","v":1211759},null,null,null,null," ２０  そ　　　の　　　他　"]
["  況 ",{"$f":"+RIGHT(データ一覧!$A$209,1)","v":"1"},"　男",null,{"$f":"データ一覧!K210","v":1746},null,null,{"$f":"データ一覧!K213","v":1565},null,null,{"$f":"データ一覧!K216","v":1334},null,null,{"$f":"データ一覧!K219","v":568},null,null,{"$f":"データ一覧!K222","v":523},null,null,{"$f":"データ一覧!K225","v":231},null,null,{"$f":"データ一覧!K228","v":57.2},null,null,null,null,null,null,null,null,null,null,null,null,null,null,null,null,null,"繰入金",null,null,null,{"$f":"データ一覧!K456","v":119042},null,null,null,null,{"$f":"データ一覧!K470","v":92522},null,null,null,null,"災害復旧費",null,null,null,{"$f":"データ一覧!K484","v":0},null,null,null,null,{"$f":"データ一覧!K498","v":0}]
[null,null,"　女",null,{"$f":"データ一覧!K211","v":1763},null,null,{"$f":"データ一覧!K214","v":1591},null,null,{"$f":"データ一覧!K217","v":1076},null,null,{"$f":"データ一覧!K220","v":524},null,null,{"$f":"データ一覧!K223","v":401},null,null,{"$f":"データ一覧!K226","v":515},null,null,{"$f":"データ一覧!K229","v":60.7},null,null,null,{"$f":"データ一覧!K328","v":8407},null,"戸",{"$f":"データ一覧!K329","v":77},null,"戸",{"$f":"データ一覧!K330","v":114},null,"戸",null,{"$f":"データ一覧!K331","v":8370},null,"戸",null,"地方債",null,null,null,{"$f":"データ一覧!K457","v":769300},null,null,null,null,{"$f":"データ一覧!K471","v":982668},null,null,null,null,"公債費",null,null,null,{"$f":"データ一覧!K485","v":1127571},null,null,null,null,{"$f":"データ一覧!K499","v":1117321},null,null,null,null,null,null,null,null,null,"越前大仏、勝山温泉センター｢水芭蕉｣、平泉寺白山神社、弁天桜、県立恐竜博物館、"]
[null,null,null,null,null,null,null,null,null,null,null,null,null,null,null,null,null,null,null,null,null,null,null,null,null,null,null,null,null,null,null,null,null,null,null,null,null,null,null,null,"その他",null,null,null,{"$f":"データ一覧!K458","v":590500},null,null,null,null,{"$f":"データ一覧!K472","v":716228},null,null,null,null,"その他",null,null,null,{"$f":"データ一覧!K486","v":8100},null,null,null,null,{"$f":"データ一覧!K500","v":0},null,null,null,null,"　名所・旧跡",null,null,null,null,"道の駅 恐竜渓谷かつやま、東山いこいの森、勝山城博物館、弁ヶ滝、岩屋観音、"]
[null,null,"総農家数等",null,null,null,null,null,null,"専兼業別（販売農家）",null,null,null,null,null,null,null,"経営面積規模別（販売農家）",null,null,null,null,null,null,null,null,null,null,null,null,null,null,null,null,null,null,null,null,null,null,null,null,null,null,null,null,null,null,null,null,null,null,null,null,null,null,null,null,null,null,null,null,null,null,null,null,null,null,"  文化財等",null,null,null,null,"スキージャム勝山、はたや記念館 ゆめおーれ勝山、加越国境と取立山「水芭蕉群生地」、"]
[null,"平","区　分",null,null,null,"戸数（戸）",null,null,"区　分",null,null,null,null,"戸数（戸）",null,null,"区　　分",null,null,null,null,"戸数（戸）",null,null,"  ９  議　 員　・　職 　員",null,null,null,null,null,null,null,null,null,null,null,null,null,null," １４  文　　　　　　化",null,null,null,null,null,null,null,null,null," ( ",{"$f":"データ一覧!$A$507","v":"2.3.31"},null,null,null,"ただし図書館・公民館・児童館",null,null,null,null,null,null,null,{"$f":"データ一覧!$A$501","v":"2.4.1"},null,null,null,null,null,null,null,null,null,"史跡白山平泉寺旧境内、旧木下家住宅、藩校｢旧成器堂講堂」外３棟、"]
["農",{"$f":"+LEFT(データ一覧!$A$230,2)","v":"27"},"総農家",null,null,null,{"$f":"データ一覧!K230","v":1217},null,null,"総数",null,null,null,null,{"$f":"データ一覧!K236","v":850},null,null,"総数",null,null,null,null,{"$f":"データ一覧!K241","v":850},null,null,null,null,null,null,null,null,null,null,null,null,null,null,null,null,null,null,null,null,null,null,null,null,null,null,null,null,null,null,null,null,null,"　宗教法人数 ",null,null,null,null,null,null,{"$f":"データ一覧!$A$509","v":"元.12.31"},null,null,null,"）",null,null,null,null,null,"えちぜん鉄道勝山駅本屋・ホーム待合所、白山平泉寺歴史探遊館まほろば"]
["家","・","販売農家",null,null,null,{"$f":"データ一覧!K231","v":850},null,null,"専業農家",null,null,null,null,{"$f":"データ一覧!K237","v":141},null,null,"0.5 ha 未満",null,null,null,null,{"$f":"データ一覧!K242","v":174},null,null," 市 町 村 議 会",null,null,"有権者数",null,{"$f":"データ一覧!$A$335","v":"2.9.1"},null,"市 町 村 議 会",null,null,"  職      員      数",null,null,null,null,null,null,null,null,null,"図書館",null,null,null,null,null,"公　民　館",null,null,null,null,null,null,null,null,null,null," 社会教育学級講座",null,null,null,null,null,"　　特産物",null,null,null,null,"繊維製品、勝ち山おろしそば、勝ち山ボッカケ、勝ち山おやき、勝山水菜、鯖の熟れ鮨し、若猪野メロン、のむきのエゴマ、西ヶ原にんにく、九頭竜勝山あゆ"]
["数",{"$f":"+MID(データ一覧!$A$230,4,1)","v":"2"},null,"主業",null,null,{"$f":"データ一覧!K232","v":61},null,null,"兼業農家",null,null,null,null,{"$f":"データ一覧!K238","v":709},null,null,"0.5 ha ～ 1.0 ha",null,null,null,null,{"$f":"データ一覧!K243","v":327},null,null," 議  員  定  数",null,null,"    男",null,"    女",null,"選 挙 投 票 率",null,null," 総     数",null,"一般行政職",null,null,"公    共",null,null,null," 館  数",null,null," 図書数",null,null," 本  館",null,null," 分  館",null,null," 公  園",null,null," 児童館",null,null,"学級講座数",null,null,"受講者数"]
[null,"・",null,"準主業",null,null,{"$f":"データ一覧!K233","v":222},null,null,null,"第１種兼業",null,null,null,{"$f":"データ一覧!K239","v":75},null,null,"1.0 ha ～ 1.5 ha",null,null,null,null,{"$f":"データ一覧!K244","v":170},null,null,null,null,"人",null,"人",null,"人",null,null,"　％",null,"人",null,"人",null,"施 設 数",null,null,null,null,{"$f":"データ一覧!K501","v":1},null,{"$f":"データ一覧!K502","v":144701},null,null,null,{"$f":"データ一覧!K503","v":10},null,{"$f":"データ一覧!K504","v":0},null,null,{"$f":"データ一覧!K505","v":33},null,null,{"$f":"データ一覧!K506","v":1},null,null,{"$f":"データ一覧!K507","v":526},null,null,{"$f":"データ一覧!K508","v":10545},null,null," 　年中行事",null,null,null,null,"勝山年の市、勝山左義長まつり、弁天桜まつり、"]
[null,{"$f":"+RIGHT(データ一覧!$A$230,1)","v":"1"},null,"副業的",null,null,{"$f":"データ一覧!K234","v":567},null,null,null,"第２種兼業",null,null,null,{"$f":"データ一覧!K240","v":634},null,null,"1.5 ha ～ 2.0 ha",null,null,null,null,{"$f":"データ一覧!K245","v":80},null,null,null,{"$f":"データ一覧!K332","v":16},null,{"$f":"データ一覧!K335","v":9228},null,{"$f":"データ一覧!K336","v":10200},null,{"$f":"データ一覧!K334","v":63.7},null,null,{"$f":"データ一覧!K337","v":264},null,{"$f":"データ一覧!K338","v":157},null,null,"宗    教",null,null,null," 仏教系",null,null,"ｷﾘｽﾄ教系",null,null,"神道諸派",null,null,"公会堂・市民会館",null,null,null,null,null," テレビ",null,null,"衛星放送契約数",null,null,null,null,null,null,null,null,null,null,"顕如講、神明神社祭礼、走りやんこ、勝山恐竜クロカンマラソン"]
[null,null,"自給的農家",null,null,null,{"$f":"データ一覧!K235","v":367},null,null,null,null,null,null,null,null,null,null,"2.0 ha 以上",null,null,null,null,{"$f":"データ一覧!K246","v":99},null,null,null,null,null,null,null,null,null,{"$f":"データ一覧!K333","v":"元.8.4"},null,null,null,null,null,null,null,"法 人 数",null,null,null,{"$f":"データ一覧!K509","v":46},null,null,{"$f":"データ一覧!K510","v":2},null,null,{"$f":"データ一覧!K511","v":83},null,null,{"$f":"データ一覧!K512","v":2},null,null,null,null,null,"      等",null,null,{"$f":"データ一覧!K513","v":5095}]

{"sheet":"鯖江市","index":10,"n_rows":93,"n_cols":104,"rows_kept":93,"cut":false,"hidden":false,"merged":[[17,25,17,27],[18,25,18,27],[29,87,29,91],[31,92,31,95],[38,68,38,74],[37,68,37,74],[32,92,32,95],[33,84,34,97],[37,76,37,78],[36,50,36,52],[38,50,38,52],[48,78,48,80],[47,69,47,76],[47,78,47,80],[51,88,51,91],[45,78,45,83],[27,50,27,52],[27,35,27,36],[27,41,27,47],[27,54,27,57],[27,61,27,65],[28,61,28,65],[27,74,27,77],[28,74,28,77],[28,69,28,73],[28,50,28,52],[19,54,19,57],[26,74,26,77],[28,87,28,91],[27,78,27,81],[27,82,27,85],[27,87,27,91],[35,87,35,91],[35,94,35,96],[37,61,37,65],[37,50,37,52],[37,54,37,57],[36,54,36,57],[36,61,36,65],[35,29,35,30],[38,54,38,57],[36,36,36,37],[40,50,40,52],[39,61,39,65],[30,74,30,77],[31,74,31,77],[32,78,32,81],[31,78,31,81],[35,50,35,52],[35,36,35,37],[35,76,35,78],[37,80,37,83],[38,94,38,96],[37,94,37,96],[38,76,38,78],[38,80,38,83],[37,86,37,92],[38,86,38,92],[36,76,36,78],[35,61,35,65],[33,68,34,81],[34,54,34,57],[35,41,35,47],[35,54,35,57],[35,69,35,73],[33,11,33,13],[46,70,46,75],[40,68,41,74],[48,81,48,83],[30,69,30,73],[32,50,32,52],[29,82,29,85],[32,18,32,19],[29,78,29,81],[29,54,29,57],[29,61,29,65],[29,41,29,47],[29,50,29,52],[29,14,29,16],[40,13,40,15],[41,16,41,18],[30,18,30,19],[32,11,32,13],[34,22,34,24],[41,29,41,30],[35,18,35,19],[29,20,29,21],[29,74,29,77],[31,22,31,24],[29,22,29,24],[30,20,30,21],[45,36,45,37],[28,82,28,85],[28,78,28,81],[22,87,22,91],[21,87,21,91],[23,78,23,81],[23,82,23,85],[23,87,23,91],[26,82,26,85],[24,78,24,81],[24,82,24,85],[24,87,24,91],[25,87,25,91],[26,87,26,91],[70,0,70,6],[66,0,66,6],[67,0,67,6],[68,0,68,6],[40,2,40,3],[48,13,48,15],[48,16,48,18],[47,19,47,21],[48,19,48,21],[57,0,57,6],[55,10,55,12],[57,10,57,12],[55,0,55,6],[55,13,55,15],[26,22,26,24],[32,22,32,24],[33,22,33,24],[30,22,30,24],[29,5,29,7],[27,0,27,4],[27,5,27,7],[27,22,27,24],[29,18,29,19],[30,8,30,10],[35,5,35,7],[35,8,35,10],[35,11,35,13],[35,14,35,16],[72,22,72,24],[71,22,71,24],[74,0,75,24],[74,29,74,30],[73,22,73,24],[72,16,72,18],[73,10,73,12],[67,22,67,24],[63,19,63,21],[73,13,73,15],[72,13,72,15],[60,16,60,18],[64,16,64,18],[61,16,61,18],[61,19,61,21],[65,16,65,18],[65,13,65,15],[70,22,70,24],[68,10,68,12],[68,13,68,15],[29,8,29,10],[29,11,29,13],[71,7,71,9],[70,10,70,12],[69,22,69,24],[71,16,71,18],[69,0,69,6],[69,10,69,12],[70,7,70,9],[73,16,73,18],[70,16,70,18],[67,7,67,9],[72,0,72,6],[73,19,73,21],[5,0,5,9],[19,50,19,52],[20,11,20,13],[20,16,20,18],[20,21,20,23],[19,3,19,5],[20,41,20,47],[14,26,15,28],[20,50,20,52],[19,41,19,47],[30,5,30,7],[31,5,31,7],[31,8,31,10],[31,11,31,13],[31,14,31,16],[40,19,40,21],[30,11,30,13],[30,14,30,16],[32,5,32,7],[31,18,31,19],[22,32,22,34],[21,32,21,34],[21,35,21,38],[23,50,23,52],[23,54,23,57],[25,35,26,36],[25,37,26,38],[23,41,23,47],[25,41,25,47],[25,54,25,57],[26,41,26,47],[26,50,26,52],[28,54,28,57],[25,50,25,52],[28,41,28,47],[41,50,41,52],[36,41,36,47],[38,41,38,47],[37,41,37,47],[17,54,17,58],[6,0,8,9],[17,41,17,47],[17,49,17,53],[15,29,15,30],[17,60,17,66],[15,32,15,33],[16,32,16,33],[16,36,16,37],[17,32,17,34],[14,83,15,96],[16,75,16,96],[19,74,19,77],[19,78,19,81],[22,7,22,8],[14,25,15,25],[15,35,15,37],[21,54,21,57],[21,41,21,47],[21,25,21,28],[21,50,21,52],[20,54,20,57],[22,69,22,73],[20,78,20,81],[20,74,20,77],[21,74,21,77],[22,35,22,38],[19,82,19,85],[22,74,22,77],[22,78,22,81],[22,82,22,85],[21,78,21,81],[21,100,21,103],[19,100,19,103],[21,61,21,65],[20,92,20,95],[20,96,20,99],[21,96,21,99],[19,92,19,95],[21,92,21,95],[20,61,20,65],[21,82,21,85],[17,101,17,102],[20,100,20,103],[17,69,17,72],[17,74,17,77],[17,83,17,84],[20,82,20,85],[20,87,20,91],[17,87,17,90],[17,92,17,95],[19,96,19,99],[19,61,19,65],[22,92,22,95],[24,100,24,103],[24,96,24,99],[24,92,24,95],[23,100,23,103],[22,61,22,65],[23,92,23,95],[23,96,23,99],[22,96,22,99],[22,100,22,103],[24,35,24,36],[24,50,24,52],[24,54,24,57],[23,74,23,77],[23,69,23,73],[24,69,24,73],[24,74,24,77],[23,61,23,65],[24,37,24,38],[24,61,24,65],[22,50,22,52],[22,41,22,47],[22,54,22,57],[26,69,26,73],[27,69,27,73],[25,61,25,65],[26,61,26,65],[27,92,27,95],[27,96,27,99],[27,100,27,103],[23,11,23,13],[23,16,23,18],[23,21,23,23],[24,41,24,47],[23,25,23,28],[23,29,23,31],[23,32,23,34],[23,35,23,38],[24,27,24,28],[24,33,24,34],[27,31,27,32],[27,33,27,34],[24,29,24,30],[27,27,27,28],[26,25,26,26],[27,29,27,30],[27,25,27,26],[27,37,27,38],[26,78,26,81],[26,54,26,57],[32,100,32,103],[30,41,30,47],[30,54,30,57],[31,41,31,47],[31,54,31,57],[32,61,32,65],[30,92,30,95],[30,61,30,65],[31,69,31,73],[30,50,30,52],[31,82,31,85],[31,61,31,65],[30,87,30,91],[30,82,30,85],[31,50,31,52],[30,78,30,81],[34,41,34,47],[34,50,34,52],[34,61,34,65],[33,50,33,52],[33,41,33,47],[32,96,32,99],[32,41,32,47],[33,54,33,57],[32,69,32,73],[32,74,32,77],[32,54,32,57],[33,61,33,65],[34,5,34,7],[42,10,42,12],[42,13,42,15],[40,7,40,9],[40,10,40,12],[42,19,42,21],[42,7,42,9],[32,14,32,16],[41,13,41,15],[34,20,34,21],[41,19,41,21],[31,20,31,21],[34,18,34,19],[41,22,41,24],[40,22,40,24],[35,20,35,21],[35,22,35,24],[41,4,41,6],[33,14,33,16],[33,18,33,19],[33,20,33,21],[34,11,34,13],[34,14,34,16],[32,8,32,10],[34,8,34,10],[41,7,41,9],[42,22,42,24],[55,96,55,99],[41,61,41,65],[41,54,41,57],[40,54,40,57],[49,81,49,83],[49,63,49,67],[40,61,40,65],[39,76,39,78],[50,60,50,62],[41,10,41,12],[39,68,39,74],[40,76,41,78],[42,94,42,96],[42,80,42,83],[42,76,42,78],[45,85,45,90],[45,93,45,102],[55,52,55,54],[41,98,41,101],[55,100,55,103],[53,100,53,103],[53,92,53,95],[53,88,53,91],[41,86,41,92],[42,98,42,101],[43,84,44,103],[40,94,40,96],[39,41,39,47],[41,32,41,35],[41,41,41,47],[40,16,40,18],[52,69,52,76],[47,0,47,1],[48,0,48,1],[50,0,51,24],[47,16,47,18],[59,22,59,24],[57,13,57,15],[58,0,58,6],[56,0,56,6],[39,54,39,57],[49,47,49,50],[45,29,45,30],[46,25,46,28],[40,41,40,47],[39,50,39,52],[40,32,40,35],[41,36,41,37],[47,10,47,12],[47,13,47,15],[55,25,55,30],[55,35,55,38],[50,29,50,32],[49,40,49,46],[42,36,42,37],[48,22,48,24],[47,22,47,24],[44,36,44,37],[44,32,44,35],[55,7,55,9],[58,53,58,55],[56,10,56,12],[59,10,59,12],[57,7,57,9],[58,10,58,12],[56,22,56,24],[48,7,48,9],[40,4,40,6],[48,10,48,12],[47,7,47,9],[44,25,44,28],[38,61,38,65],[42,16,42,18],[42,50,42,52],[42,54,42,57],[42,41,42,47],[49,59,49,62],[49,51,49,54],[42,61,42,65],[48,63,48,66],[49,55,49,58],[43,41,43,47],[43,50,43,52],[43,61,43,65],[43,54,43,57],[48,57,48,60],[48,51,48,54],[50,51,50,54],[55,31,55,34],[56,40,56,43],[57,40,57,43],[59,0,59,6],[42,4,42,6],[44,0,45,1],[46,0,46,1],[56,92,56,95],[54,92,54,95],[40,36,40,37],[46,29,46,30],[40,80,41,83],[45,58,45,62],[55,81,55,83],[55,48,55,50],[55,40,55,43],[59,16,59,18],[58,59,58,61],[56,49,56,54],[55,56,55,58],[55,44,55,46],[55,92,55,95],[56,16,56,18],[58,40,58,43],[55,78,55,80],[53,33,53,34],[51,29,51,32],[50,78,50,80],[51,81,51,83],[51,78,51,80],[56,81,56,83],[57,56,57,58],[56,69,56,76],[49,78,49,80],[54,48,54,51],[55,69,55,76],[55,88,55,91],[56,78,56,80],[50,88,50,91],[54,40,54,43],[53,36,53,37],[58,62,58,64],[55,64,55,66],[50,48,50,50],[54,52,54,55],[54,60,54,67],[65,44,65,50],[65,54,65,57],[67,44,67,48],[61,40,61,43],[58,45,58,47],[59,60,59,63],[58,49,58,51],[57,35,57,37],[60,55,60,59],[63,85,63,87],[62,76,62,78],[56,88,56,91],[54,88,54,91],[53,84,53,87],[52,81,52,83],[54,44,54,47],[50,33,50,38],[50,56,50,58],[50,64,50,67],[54,56,54,59],[53,81,53,83],[68,40,68,43],[60,13,60,15],[58,13,58,15],[56,13,56,15],[55,22,55,24],[60,44,60,49],[57,44,57,47],[57,59,57,61],[55,16,55,18],[56,19,56,21],[55,19,55,21],[57,16,57,18],[57,19,57,21],[55,60,55,63],[57,48,57,51],[58,56,58,58],[68,58,68,62],[68,44,68,48],[61,50,61,54],[60,40,60,43],[59,44,59,59],[57,62,57,64],[68,73,68,76],[61,64,61,67],[62,69,62,72],[65,89,65,92],[57,68,58,103],[70,92,70,94],[65,99,65,102],[63,100,63,102],[62,100,62,102],[60,98,60,103],[60,64,60,67],[68,89,68,91],[63,90,63,92],[57,52,57,55],[67,49,67,53],[67,54,67,57],[67,58,67,62],[67,63,67,67],[67,80,67,82],[67,83,67,85],[67,89,67,91],[68,49,68,53],[68,54,68,57],[68,101,68,103],[67,98,67,103],[68,95,68,97],[63,75,63,77],[62,88,62,90],[65,79,65,82],[61,44,61,49],[78,73,78,77],[77,78,77,82],[77,58,77,62],[77,63,77,67],[76,79,76,82],[77,54,77,57],[72,63,72,67],[72,44,72,48],[73,44,73,48],[72,40,72,43],[73,49,73,53],[73,54,73,57],[73,58,73,62],[70,40,70,43],[65,58,65,64],[68,86,68,88],[68,77,68,79],[66,40,66,67],[65,40,65,43],[73,87,73,93],[74,58,74,62],[74,63,74,67],[67,68,70,72],[65,69,65,72],[66,77,66,91],[68,80,68,82],[68,92,68,94],[71,44,71,48],[71,49,71,53],[71,63,71,67],[73,63,73,67],[72,54,72,57],[69,32,69,33],[69,35,69,37],[68,83,68,85],[63,95,63,97],[61,55,61,59],[60,60,60,63],[78,49,78,53],[78,54,78,57],[76,35,76,37],[76,32,76,33],[72,35,72,37],[78,63,78,67],[78,78,78,82],[78,88,78,91],[78,68,78,72],[78,83,78,87],[77,88,77,91],[76,63,76,67],[77,83,77,87],[76,70,76,73],[76,54,76,57],[76,58,76,62],[68,63,68,67],[65,84,65,87],[65,94,65,97],[69,40,69,67],[67,40,67,43],[61,60,61,63],[64,69,64,72],[65,74,65,77],[77,92,77,95],[71,40,71,43],[90,40,90,43],[90,45,90,46],[91,50,91,52],[90,47,90,49],[91,35,91,36],[91,37,91,38],[91,40,91,43],[84,44,84,48],[84,40,84,43],[88,51,88,54],[89,32,89,34],[89,40,89,43],[89,62,89,64],[88,32,88,34],[88,45,88,48],[84,54,84,57],[84,58,84,62],[84,63,84,67],[91,32,91,34],[91,44,91,46],[91,47,91,49],[84,49,84,53],[73,78,73,84],[70,49,70,53],[71,68,72,83],[71,84,72,103],[70,84,70,85],[71,54,71,57],[73,40,73,43],[76,44,76,48],[75,40,75,43],[70,44,70,48],[70,101,70,103],[70,98,70,100],[74,97,74,101],[74,54,74,57],[74,88,74,92],[70,58,70,62],[70,63,70,67],[70,80,70,82],[70,86,70,88],[70,89,70,91],[73,96,73,102],[74,69,74,75],[74,78,74,84],[70,95,70,97],[70,54,70,57],[70,73,70,76],[70,78,70,79],[92,53,92,58],[92,62,92,67],[92,40,92,43],[92,44,92,46],[92,47,92,49],[92,50,92,52],[83,54,83,57],[83,58,83,62],[82,54,82,57],[75,54,75,57],[80,83,80,87],[79,58,79,62],[79,63,79,67],[80,89,80,91],[76,97,76,100],[80,93,80,95],[80,97,80,99],[78,92,78,95],[78,96,78,99],[79,98,79,99],[78,100,78,103],[76,88,76,91],[79,102,79,103],[81,68,82,103],[80,101,80,103],[80,58,80,62],[80,69,80,71],[90,59,90,61],[80,79,80,81],[80,74,80,76],[91,53,91,58],[91,62,91,67],[39,98,39,101],[41,94,41,96],[47,88,47,91],[47,92,47,95],[49,92,49,95],[50,84,50,87],[51,84,51,87],[49,96,49,99],[50,96,50,99],[52,96,52,99],[49,100,49,103],[48,92,48,95],[48,96,48,99],[51,96,51,99],[52,84,52,87],[50,92,50,95],[46,100,46,103],[52,88,52,91],[48,100,48,103],[47,96,47,99],[47,100,47,103],[47,84,47,87],[42,86,42,92],[46,96,46,99],[49,84,49,87],[49,88,49,91],[48,84,48,87],[48,88,48,91],[60,10,60,12],[59,13,59,15],[59,19,59,21],[58,19,58,21],[60,19,60,21],[61,22,61,24],[60,36,60,37],[57,31,57,33],[60,29,60,30],[57,25,57,29],[63,22,63,24],[62,13,62,15],[58,16,58,18],[61,13,61,15],[52,100,52,103],[52,92,52,95],[50,100,50,103],[51,100,51,103],[51,92,51,95],[58,65,58,67],[60,86,60,91],[60,22,60,24],[57,22,57,24],[61,81,61,84],[62,94,62,96],[61,69,61,72],[62,82,62,84],[60,50,60,54],[60,92,60,97],[55,84,55,87],[57,65,57,67],[56,84,56,87],[56,100,56,103],[54,78,54,80],[56,96,56,99],[54,96,54,99],[53,96,53,99],[14,68,15,82],[35,81,35,84],[50,81,50,83],[32,82,32,85],[47,81,47,83],[54,69,54,76],[36,68,36,74],[40,98,40,101],[54,81,54,83],[53,69,53,76],[53,78,53,80],[52,78,52,80],[39,86,39,92],[54,84,54,87],[40,86,40,92],[54,100,54,103],[31,96,31,99],[31,100,31,103],[42,68,42,74],[49,69,49,76],[48,69,48,76],[51,69,51,76],[50,69,50,76],[30,96,30,99],[36,98,36,101],[30,100,30,103],[35,99,35,102],[38,98,38,101],[36,80,36,83],[36,86,36,92],[36,94,36,96],[39,94,39,96],[25,33,26,34],[24,31,24,32],[22,29,22,31],[45,25,45,28],[40,29,40,30],[44,29,44,30],[45,32,45,35],[25,27,25,28],[42,32,42,35],[37,98,37,101],[43,68,44,83],[26,100,26,103],[25,96,25,99],[26,96,26,99],[25,74,25,77],[25,78,25,81],[25,82,25,85],[25,100,25,103],[26,92,26,95],[25,92,25,95],[29,100,29,103],[28,92,28,95],[28,96,28,99],[29,92,29,95],[28,100,28,103],[29,96,29,99],[39,80,39,83],[81,22,81,24],[51,33,51,35],[51,36,51,38],[46,32,46,35],[54,25,54,32],[53,25,53,27],[17,36,17,38],[18,31,18,34],[18,35,18,38],[19,35,19,38],[46,36,46,37],[20,35,20,38],[25,31,26,32],[19,29,19,31],[19,32,19,34],[20,29,20,31],[18,28,18,30],[34,36,34,37],[36,29,36,30],[22,25,22,28],[26,27,26,28],[25,25,25,26],[25,29,26,30],[20,32,20,34],[19,25,19,28],[20,25,20,28],[34,29,34,30],[50,25,50,28],[51,25,51,28],[44,19,44,24],[32,20,32,21],[74,25,74,28],[83,40,83,43],[82,44,82,48],[82,49,82,53],[83,44,83,48],[83,32,83,33],[75,32,75,33],[70,29,70,30],[68,25,68,28],[66,35,66,38],[80,44,80,48],[82,40,82,43],[82,63,82,67],[80,63,80,67],[83,26,83,27],[83,29,83,30],[80,25,81,28],[81,29,81,31],[83,36,83,37],[83,49,83,53],[81,40,81,43],[81,32,81,34],[80,35,81,38],[81,49,81,53],[73,25,73,28],[71,25,71,28],[69,29,69,30],[69,25,69,28],[68,32,68,33],[71,29,71,30],[70,35,70,37],[70,32,70,33],[75,44,75,48],[82,16,82,18],[82,19,82,21],[81,63,81,67],[80,40,80,43],[83,63,83,67],[64,7,64,9],[66,7,66,9],[65,19,65,21],[65,7,65,9],[63,10,63,12],[66,19,66,21],[85,2,85,8],[85,9,85,16],[85,17,85,24],[76,49,76,53],[71,35,71,37],[68,29,68,30],[78,58,78,62],[75,25,75,28],[75,29,75,30],[76,25,76,28],[76,29,76,30],[75,49,75,53],[77,49,77,53],[78,40,78,43],[71,58,71,62],[70,25,70,28],[68,35,68,37],[83,22,83,24],[75,63,75,67],[72,25,72,28],[66,32,66,34],[86,2,86,5],[86,6,86,8],[86,9,86,13],[86,14,86,16],[86,17,86,21],[86,22,86,24],[83,4,83,6],[83,7,83,9],[83,10,83,12],[83,13,83,15],[63,13,63,15],[65,10,65,12],[78,2,78,3],[72,19,72,21],[73,7,73,9],[70,13,70,15],[70,19,70,21],[69,13,69,15],[71,10,71,12],[73,0,73,6],[71,0,71,6],[72,7,72,9],[71,19,71,21],[68,19,68,21],[68,22,68,24],[76,2,76,9],[76,10,76,24],[78,4,78,6],[82,4,82,6],[82,7,82,9],[82,10,82,12],[82,13,82,15],[73,29,73,30],[73,32,73,33],[73,35,73,37],[74,32,74,33],[74,35,74,37],[67,19,67,21],[53,29,53,31],[33,5,33,7],[33,8,33,10],[71,13,71,15],[67,16,67,18],[72,10,72,12],[61,0,61,6],[66,13,66,15],[64,13,64,15],[64,10,64,12],[63,0,63,6],[71,32,71,33],[72,29,72,30],[72,32,72,33],[66,22,66,24],[65,22,65,24],[58,7,58,9],[64,19,64,21],[64,22,64,24],[63,16,63,18],[63,7,63,9],[61,10,61,12],[62,22,62,24],[61,36,61,37],[62,10,62,12],[62,16,62,18]],"merged_total":1085,"flags":["merged_cut"]}
[{"$f":"+データ一覧!L5","v":0}]
[{"$f":"+データ一覧!L8","v":0},null,null,null,null,null,null,null,null,null,null,null,null,null,null,null,null,null,null,null,null,null,null,null,null,null,null,null,null,null,null,null,null,null,null,null,null,null,null,null,0]
[null,null,null,null,null,null,null,null,null,null,null,null,null,null,null,null,null,null,null,null,null,null,null,null,null,null,null,null,null,null,null,null,null,null,null,null,null,null,null,null,0]
[null,null,null,null,null,null,null,null,null,null,null,null,null,null,null,null,null,null,null,null,null,null,null,null,null,null,null,"【市章とそのいわれ】　サの図案化にて飛鳥の上昇を形象し、                     ",null,null,null,null,null,null,null,null,null,null,null,null,"  【位置および地勢】鯖江市は福井県のほぼ中央、福井平野の南に位置し、",null,null,null,null,null,null,null,null,null,null,null,null,null,null,null,null,null,null,null,null,null,null,null,null,null,null,null,null,null,null,"所在地",null,null,null,null,null,null,null,"〒916-8666"]
[null,null,null,null,null,null,null,null,null,null,null,null,null,null,null,null,null,null,null,null,null,null,null,null,null,null,null,"                  市将来の向上発展を意味づけたもの。                                                      ",null,null,null,null,null,null,null,null,null,null,null,null,"                 ","北は福井市、南は越前市に接している。東西約19.2㎞南北約 8.3㎞に",null,null,null,null,null,null,null,null,null,null,null,null,null,null,null,null,null,null,null,null,null,null,null,null,null,null,null,null,null,null,null,null,null,null,null,null,null,"鯖江市西山町１３番１号"]
[{"$f":"+データ一覧!L6","v":"さばえし"},null,null,null,null,null,null,null,null,null,null,null,null,null,null,null,null,null,null,null,null,null,null,null,null,null,null,0,null,null,null,null,null,null,null,null,null,null,null,null,"  ","わたる地域のうち、その多くが平坦地であり、東部及び南西の一部が山地と"]
[{"$f":"データ一覧!L9","v":"鯖江市"},null,null,null,null,null,null,null,null,null,null,null,null,null,null,null,null,null,null,null,null,null,null,null,null,null,null,0,null,null,null,null,null,null,null,null,null,null,null,null," ","なっている。市の中央を低い丘陵が南北に細長く延び、これに沿って市街地が",null,null,null,null,null,null,null,null,null,null,null,null,null,null,null,null,null,null,null,null,null,null,null,null,null,null,null,null,null,"電話番号",null,null,null,null,null,null,null,"（０７７８）５１－２２００"]
[null,null,null,null,null,null,null,null,null,null,null,null,null,null,null,null,null,null,null,null,null,null,null,null,null,null,null,0,null,null,null,null,null,null,null,null,null,null,null,null," ","形成されている。この丘陵に沿って国道８号、東側を北陸自動車道が走り、",null,null,null,null,null,null,null,null,null,null,null,null,null,null,null,null,null,null,null,null,null,null,null,null,null,null,null,null,null,"FAX番号",null,null,null,null,null,null,null,"     〃     ５１－８１５０"]
[null,null,null,null,null,null,null,null,null,null,null,null,null,null,null,null,null,null,null,null,null,null,null,null,null,null,null,0,null,null,null,null,null,null,null,null,null,null,null,null," ","また日野川が北方に向かって流れている。"]
[null,null,null,null,null,null,null,null,null,null,null,null,null,null,null,null,null,null,null,null,null,null,null,null,null,null,null,0,null,null,null,null,null,null,null,null,null,null,null,null,0,null,null,null,null,null,null,null,null,null,null,null,null,null,null,null,null,null,null,null,null,null,null,null,null,null,null,null,null,null,null,"最寄駅および距離",null,null,null,null,null,null,null,"福井鉄道福武線西山公園駅  下車５００ｍ"]
[null,null,null,null,null,null,null,null,null,null,null,null,null,null,null,null,null,null,null,null,null,null,null,null,null,null,null,null,null,null,null,null,null,null,null,null,null,null,null,null,0]
[]
[null,null,null,null,null,null,null,null,null,null,null,null,null,null,null,null,null,null,null,null,null,null,null,null,null,null,null,"【市が掲げる標語】若者が住みたくなる・住み続けたくなるまち鯖江",null,null,null,null,null,null,null,null,null,null,null,null,null,null,null,null,null,null,null,null,null,null,null,null,null,null,null,null,null,null,null,null,null,null,null,null,null,null,null,null,null,null,null,"ホームページ",null,null,null,null,null,null,null,"http://www.city.sabae.fukui.jp/"]
[]
["  １  土            　　地",null,null,null,null,null,null,null,null,null,null,null,null,null,null,null,null,null,null,null,null,null,null,null,null,{"$f":"データ一覧!$A$247","v":"元年"},"産米収穫量",null,null,"　 収　穫　量",null,null," 　作 付 面 積",null,null,"   10a当たり収量",null,null,null,null,null,null,null,null,null,null,null,null,null,null,null,null,null,null,null,null,null,null,null,null,null,null,null,null,null,null,null,null," １５  労　　　　　　　働",null,null,null,null,null,null,null,null,null,null,null,null,null,null,"27.10.1"]
[null,null,null,null,null,null,null,null,null,null,null,null,null,null,null,null,null,null,null,null,null,null,null,null,null,null,null,null,null,{"$f":"データ一覧!$L$247","v":7730},null,"t",{"$f":"データ一覧!$L$248","v":1470},null,"ha",{"$f":"データ一覧!L249","v":526},null,null,"kg",null," １０  工　　　　　　業 ",null,null,null,null,null,null,null,null,null,null,null,null,null,{"$f":"データ一覧!$A$339","v":"元.6.1（平成30年実績）"}]
["   総          面           積",null,null,null,null,null,null,null,null,null," 固 定 資 産 概 要 調 書 に よ る 地 目 別 面 積",null,null,null,null,null,null,null,null,null,null,null,null,null,null,null,null,null,"   総　　　数",null,null,null,"うち　　田",null,null,null,"うち　　畑",null,null,null,null,null,null,null,null,null,null,null,null,null,null,null,null,null,null,null,null,null,null,null,null,null,null,null,null,null,null,null,null,null,null,null,null,null,null,"産業別就業者数   "]
[null,null,{"$f":"データ一覧!$A$10","v":"2.10.1"},null,null,null,null,null,null,null,null,null,null,null,null,null,{"$f":"データ一覧!$A$12","v":"2.1.1"},null,null,null,null,null,null,null,null," 耕  地  面  積",null,null,null,"       ha",null,null,"ha ",null,null,null,"ha ",null,null,null,"      ","産業分類",null,null,null,null,null,null,null,"事業所数",null,null,null,null,"従業者数",null,null,null,null,null,"年間製造品出荷額等",null,null,null,null,null,null,null,null,"区  分",null,null,null,null,"総    数",null,null,null,null,"男",null,null,null,"女",null,null,"  ","区  分",null,null,null,null,"総    数",null,null,null,null,"男",null,null,null,"女"]
[null,null,null,null,null,null,"㎢",null,null,null,"   総       数",null,null,null,null,"  う ち     田",null,null,null,null,"  う ち     畑",null,null,null,null,{"$f":"データ一覧!$A$250","v":"元.7.15"},null,null,{"$f":"データ一覧!$L$250","v":2060},null,null,{"$f":"データ一覧!$L$251","v":1990},null,null,null,{"$f":"データ一覧!$L$252","v":71},null,null,null,null,null,null,null,null,null,null,null,null,null,"　　   ",null,null,"事業所",null,"　　　　　　　 人",null,null,"人",null,"　　　　　　　　　　　　　　万円",null,null,null,null,null,null,"万円",null,null,null,null,null,null,null,"      人",null,null,null,null,null," 人",null,null,null," 人",null,null,null,null,null,null,null,"      人",null,null,null,"      人",null,null,null,"      人"]
[null,null,null,{"$f":"データ一覧!L10","v":84.59},null,null,null,null,null,null,null,null,null,null,"ha",null,null,null,null,"ha",null,null,null,null,"ha","農 業 生 産 物",null,null,null,"作 付 面 積",null,null,"収 穫 量",null,null,"10a当たり収量",null,null,null,null,"     ","総数",null,null,null,null,null,null,null,null,{"$f":"データ一覧!L339","v":348},null,null,null,{"$f":"+データ一覧!L364","v":9540},null,null,null,null,null,null,{"$f":"データ一覧!L389","v":18544882},null,null,null,null,null,null," 総　　　数",null,null,null,null,null,{"$f":"CA20+CE20","v":34919},null,null,null,{"$f":"データ一覧!L514","v":18777},null,null,null,{"$f":"データ一覧!L539","v":16142}]
[null,null,null,null,null,null,null,null,null,null,null,{"$f":"データ一覧!L12","v":5989.5},null,null,null,null,{"$f":"データ一覧!L13","v":2022.3},null,null,null,null,{"$f":"データ一覧!L14","v":124.5},null,null,null,{"$f":"データ一覧!$A$253","v":"元年中"},null,null,null,"ha",null,null,"t",null,null,"kg",null,null,null,null,"     食料品","食料品",null,null,null,null,null,null,null,null,{"$f":"データ一覧!L340","v":7},null,null,null,{"$f":"+データ一覧!L365","v":124},null,null,null,null,null,null,{"$f":"データ一覧!L390","v":106965},null,null,null,null,null,null,null,null,null,null,null,null,null,null,null,null,null,null,null,null,null,null,null,null,null,"卸売業,小売業",null,null,null,null,{"$f":"CS21+CW21","v":5016},null,null,null,{"$f":"データ一覧!L527","v":2397},null,null,null,{"$f":"データ一覧!L552","v":2619}]
["  町 ･ 丁 ･ 大 字",null,null,null,null,null,null,null,null,null,"  う ち  宅 地",null,null,null,null,"  う ち  山 林",null,null,null,null,"  う ち  原 野",null,null,null,null,"水　　　　　稲",null,null,null,{"$f":"データ一覧!L253","v":1470},null,null,{"$f":"データ一覧!L254","v":7730},null,null,{"$f":"データ一覧!L255","v":526},null,null,null,null,"     飲料・飼料","飲料・飼料",null,null,null,null,null,null,null,null,{"$f":"データ一覧!L341","v":0},null,null,null,{"$f":"+データ一覧!L366","v":0},null,null,null,null,null,null,{"$f":"データ一覧!L391","v":0},null,null,null,null,null,null," 第１次産業",null,null,null,null,null,{"$f":"CA22+CE22","v":622},null,null,null,{"$f":"データ一覧!L515","v":443},null,null,null,{"$f":"データ一覧!L540","v":179},null,null,null,null,"金融業,保険業",null,null,null,null,{"$f":"CS22+CW22","v":798},null,null,null,{"$f":"データ一覧!L528","v":307},null,null,null,{"$f":"データ一覧!L553","v":491}]
["  区    画    数",null,null,null,null,null,null,{"$f":"データ一覧!L11","v":153},null,null,null,null,null,null,"ha",null,null,null,null,"ha",null,null,null,null,"ha","六　条　大　麦",null,null,null,{"$f":"データ一覧!L256","v":271},null,null,{"$f":"データ一覧!L257","v":694},null,null,{"$f":"データ一覧!L258","v":256},null,null,null,null,"     繊維","繊維",null,null,null,null,null,null,null,null,{"$f":"データ一覧!L342","v":59},null,null,null,{"$f":"+データ一覧!L367","v":2019},null,null,null,null,null,null,{"$f":"データ一覧!L392","v":4455884},null,null,null,null,null,null,"  ","農業",null,null,null,null,{"$f":"CA23+CE23","v":587},null,null,null,{"$f":"データ一覧!L516","v":413},null,null,null,{"$f":"データ一覧!L541","v":174},null,null,null,"  ","不動産業",null,null,null,null,278,null,null,null,{"$f":"データ一覧!L529","v":164},null,null,null,{"$f":"データ一覧!L554","v":114}]
[{"$f":"データ一覧!$A$11","v":"31.4.1"},null,null,null,null,null,null,null,null,null,null,{"$f":"データ一覧!L15","v":1471.6},null,null,null,null,{"$f":"データ一覧!L16","v":1162.2},null,null,null,null,{"$f":"データ一覧!L17","v":0},null,null,null,"大　　      豆",null,null,null,{"$f":"データ一覧!L259","v":112},null,null,{"$f":"データ一覧!L260","v":162},null,null,{"$f":"データ一覧!L261","v":145},null,null,null,null,"     衣服","木材",null,null,null,null,null,null,null,null,{"$f":"データ一覧!L343","v":4},null,null,null,{"$f":"+データ一覧!L368","v":109},null,null,null,null,null,null,{"$f":"データ一覧!L393","v":157556},null,null,null,null,null,null,"  ","林業",null,null,null,null,27,null,null,null,{"$f":"データ一覧!L517","v":24},null,null,null,{"$f":"データ一覧!L542","v":3},null,null,null,"  ","学術研究",null,null,null,null,719,null,null,null,{"$f":"データ一覧!L530","v":438},null,null,null,{"$f":"データ一覧!L555","v":281}]
["  ２  世　帯　数　と　人　口",null,null,null,null,null,null,null,null,null,null,null,null,null,null,null,null,null,null,null,null,null,null,null,null,null,null,"  区　分",null," 乳 用 牛",null," 肉 用 牛",null,"豚",null,"採卵鶏",null,"ブロイラー",null,null,"     木材","家具",null,null,null,null,null,null,null,null,{"$f":"データ一覧!L344","v":3},null,null,null,{"$f":"+データ一覧!L369","v":42},null,null,null,null,null,null,{"$f":"データ一覧!L394","v":50395},null,null,null,null,null,null,"  ","漁業",null,null,null,null,8,null,null,null,{"$f":"データ一覧!L518","v":6},null,null,null,{"$f":"データ一覧!L543","v":2},null,null,null,"  ","宿泊業,飲食ｻｰﾋﾞｽ",null,null,null,null,1346,null,null,null,{"$f":"データ一覧!L531","v":506},null,null,null,{"$f":"データ一覧!L556","v":840}]
[null,null,null,null,null,null,null,null,null,null,null,null,null,null,null,null,null,null,null,null,null,null,null,null,null,"畜　産",null," 飼養農家",null,{"$f":"データ一覧!$L$262","v":"-"},null,{"$f":"データ一覧!$L$264","v":"-"},null,{"$f":"データ一覧!$L$266","v":"-"},null,{"$f":"データ一覧!$L$268","v":"x"},null,{"$f":"データ一覧!$L$270","v":"-"},null,null,"     家具","パルプ・紙",null,null,null,null,null,null,null,null,{"$f":"データ一覧!L345","v":2},null,null,null,{"$f":"+データ一覧!L370","v":66},null,null,null,null,null,null,{"$f":"データ一覧!L395","v":"x"},null,null,null,null,null,null," 第２次産業",null,null,null,null,null,13630,null,null,null,{"$f":"データ一覧!L519","v":8919},null,null,null,{"$f":"データ一覧!L544","v":4711},null,null,null,"  ","生活関連ｻｰﾋﾞｽ業",null,null,null,null,1054,null,null,null,{"$f":"データ一覧!L532","v":404},null,null,null,{"$f":"データ一覧!L557","v":650}]
[null,null,null,null,null,null,null,null,"        人　　　　　　　　　　口",null,null,null,null,null,null,null,null,null,null,null,"１世帯当",null,"人    口",null,null,{"$f":"データ一覧!$A$262","v":"2.3.31"},null,"（戸）",null,null,null,null,null,null,null,null,null,null,null,null,"     パルプ・紙","印刷",null,null,null,null,null,null,null,null,{"$f":"データ一覧!L346","v":11},null,null,null,{"$f":"+データ一覧!L371","v":203},null,null,null,null,null,null,{"$f":"データ一覧!L396","v":423879},null,null,null,null,null,null,null,"鉱業，採石業",null,null,null,null,4,null,null,null,{"$f":"データ一覧!L520","v":4},null,null,null,{"$f":"データ一覧!L545","v":0},null,null,null,"  ","教育,学習支援業",null,null,null,null,1423,null,null,null,{"$f":"データ一覧!L533","v":556},null,null,null,{"$f":"データ一覧!L558","v":867}]
[" 区　　　　分",null,null,null,null,"世帯数",null,null," 総   数",null,null,"    男",null,null,"    女",null,null,"  男／女",null,null,"たり人員",null,"密    度",null,null,null,null," 頭 羽",null,{"$f":"データ一覧!$L$263","v":"-"},null,{"$f":"データ一覧!$L$265","v":"-"},null,{"$f":"データ一覧!$L$267","v":"-"},null,{"$f":"データ一覧!$L$269","v":200},null,{"$f":"データ一覧!$L$271","v":"-"},null,null,"     出版・印刷","化学",null,null,null,null,null,null,null,null,{"$f":"データ一覧!L347","v":3},null,null,null,{"$f":"+データ一覧!L372","v":103},null,null,null,null,null,null,{"$f":"データ一覧!L397","v":689834},null,null,null,null,null,null,"  ","建設業",null,null,null,null,2181,null,null,null,{"$f":"データ一覧!L521","v":1824},null,null,null,{"$f":"データ一覧!L546","v":357},null,null,null,null,"医療，福祉",null,null,null,null,4372,null,null,null,{"$f":"データ一覧!L534","v":777},null,null,null,{"$f":"データ一覧!L559","v":3595}]
[null,null,null,null,null,"    世 帯",null,null,"       人",null,null,"       人",null,null,"       人",null,null,null,"　　％",null,"    人",null,"    人/㎢",null,null,null,null,null,null,null,null,null,null,null,null,null,null,null,null,null,"     化学","石油・石炭",null,null,null,null,null,null,null,null,{"$f":"データ一覧!L348","v":1},null,null,null,{"$f":"+データ一覧!L373","v":5},null,null,null,null,null,null,{"$f":"データ一覧!L398","v":"x"},null,null,null,null,null,null,null,"製造業",null,null,null,null,11445,null,null,null,{"$f":"データ一覧!L522","v":7091},null,null,null,{"$f":"データ一覧!L547","v":4354},null,null,null,null,"複合サービス事業",null,null,null,null,373,null,null,null,{"$f":"データ一覧!L535","v":211},null,null,null,{"$f":"データ一覧!L560","v":162}]
[{"$f":"データ一覧!$A$25","v":" 2.10.1"},null,null,null,null,{"$f":"データ一覧!L25","v":16053},null,null,{"$f":"+L30+O30","v":62283},null,null,{"$f":"データ一覧!L27","v":30164},null,null,{"$f":"データ一覧!L28","v":32119},null,null,null,{"$f":"+L30/O30*100","v":93.913260064136495},null,{"$f":"データ一覧!L30","v":3.88},null,{"$f":"データ一覧!L31","v":734.9},null,null,"  ５  林               業",null,null,null,null,null,null,null,null,null,null,null,null,null,null,"     石油・石炭","プラスチック",null,null,null,null,null,null,null,null,{"$f":"データ一覧!L349","v":16},null,null,null,{"$f":"+データ一覧!L374","v":458},null,null,null,null,null,null,{"$f":"データ一覧!L399","v":1391539},null,null,null,null,null,null," 第３次産業",null,null,null,null,null,19721,null,null,null,{"$f":"データ一覧!L523","v":8898},null,null,null,{"$f":"データ一覧!L548","v":10823},null,null,null,null,"サービス業",null,null,null,null,1533,null,null,null,{"$f":"データ一覧!L536","v":981},null,null,null,{"$f":"データ一覧!L561","v":552}]
[{"$f":"データ一覧!$A$32","v":" 7.10.1"},null,null,null,null,{"$f":"データ一覧!L32","v":16919},null,null,{"$f":"+L31+O31","v":62890},null,null,{"$f":"データ一覧!L34","v":30376},null,null,{"$f":"データ一覧!L35","v":32514},null,null,null,93.424371040167316,null,{"$f":"データ一覧!L37","v":3.72},null,{"$f":"データ一覧!L38","v":742.1},null,null,null,null,null,null,null,null,null,null,null,null,null,null,null,null,null,"     プラスチック","ゴム",null,null,null,null,null,null,null,null,{"$f":"データ一覧!L350","v":0},null,null,null,{"$f":"+データ一覧!L375","v":0},null,null,null,null,null,null,{"$f":"データ一覧!L400","v":0},null,null,null,null,null,null,null,"電気･ｶﾞｽ･水道業",null,null,null,null,123,null,null,null,{"$f":"データ一覧!L524","v":106},null,null,null,{"$f":"データ一覧!L549","v":17},null,null,null,null,"公務",null,null,null,null,999,null,null,null,{"$f":"データ一覧!L537","v":691},null,null,null,{"$f":"データ一覧!L562","v":308}]
[{"$f":"データ一覧!$A$39","v":"12.10.1"},null,null,null,null,{"$f":"データ一覧!L39","v":18598},null,null,{"$f":"+L32+O32","v":64898},null,null,{"$f":"データ一覧!L41","v":31448},null,null,{"$f":"データ一覧!L42","v":33450},null,null,null,94.014947683109114,null,{"$f":"データ一覧!L44","v":3.49},null,{"$f":"データ一覧!L45","v":765.8},null,null,"    　森　　　林　　　総　　　面　　　積   ",null,null,null,null,null,null,null,{"$f":"データ一覧!$A$272","v":"2.3.31"},null,null,null,null,null,null,"     ゴム","皮革",null,null,null,null,null,null,null,null,{"$f":"データ一覧!L351","v":0},null,null,null,{"$f":"+データ一覧!L376","v":0},null,null,null,null,null,null,{"$f":"データ一覧!L401","v":0},null,null,null,null,null,null,null,"情報通信業",null,null,null,null,498,null,null,null,{"$f":"データ一覧!L525","v":361},null,null,null,{"$f":"データ一覧!L550","v":137},null,null,null," 分類不能の産業",null,null,null,null,null,946,null,null,null,{"$f":"データ一覧!L538","v":517},null,null,null,{"$f":"データ一覧!L563","v":429}]
[{"$f":"+データ一覧!$A$46","v":"17.10.1"},null,null,null,null,{"$f":"データ一覧!L46","v":20177},null,null,{"$f":"+L33+O33","v":66831},null,null,{"$f":"データ一覧!L48","v":32263},null,null,{"$f":"データ一覧!L49","v":34568},null,null,null,93.331983337190465,null,{"$f":"データ一覧!L51","v":3.31},null,{"$f":"データ一覧!L52","v":788.6},null,null,"　　　森　　　　　　　林　　　　　　　の　　　　　　　構　　　　　　　成",null,null,null,null,null,null,null,null,null,null,null,null,null,null,"     皮革","窯業・土石",null,null,null,null,null,null,null,null,{"$f":"データ一覧!L352","v":5},null,null,null,{"$f":"+データ一覧!L377","v":134},null,null,null,null,null,null,{"$f":"データ一覧!L402","v":455925},null,null,null,null,null,null,"  ","運輸業,郵便業",null,null,null,null,{"$f":"CA33+CE33","v":1189},null,null,null,{"$f":"データ一覧!L526","v":999},null,null,null,{"$f":"データ一覧!L551","v":190}]
[{"$f":"+データ一覧!$A$53","v":"22.10.1"},null,null,null,null,{"$f":"+データ一覧!L53","v":21028},null,null,{"$f":"+L34+O34","v":67450},null,null,{"$f":"+データ一覧!L55","v":32507},null,null,{"$f":"+データ一覧!L56","v":34943},null,null,null,93.028646653120788,null,{"$f":"+データ一覧!L58","v":3.21},null,{"$f":"+データ一覧!L59","v":795.9},null,null,null,null,null,null,null,"       ha",null,null,null,null,null,null,"       ha",null,null,"     窯業・土石","鉄鋼",null,null,null,null,null,null,null,null,{"$f":"データ一覧!L353","v":3},null,null,null,{"$f":"+データ一覧!L378","v":37},null,null,null,null,null,null,{"$f":"データ一覧!L403","v":"x"},null,null,null,null,null,null," １６  社　 会 　福　 祉",null,null,null,null,null,null,null,null,null,null,null,null,null,null,null,{"$f":"データ一覧!$A$564","v":"2.4.1"}]
[{"$f":"データ一覧!$A$60","v":"27.10.1"},null,null,null,null,{"$f":"データ一覧!L60","v":22335},null,null,{"$f":"データ一覧!L61","v":68284},null,null,{"$f":"データ一覧!L62","v":33105},null,null,{"$f":"データ一覧!L63","v":35179},null,null,null,94.104437306347535,null,{"$f":"データ一覧!L65","v":3.0572643832549811},null,{"$f":"データ一覧!L66","v":807.2},null,null,"  総　　　　　   数",null,null,null,{"$f":"データ一覧!L272","v":3147.5099999999843},null,null," 天然林       針葉樹",null,null,null,{"$f":"データ一覧!L275","v":72.22999999999999},null,null,null,"     鉄鋼","非鉄金属",null,null,null,null,null,null,null,null,{"$f":"データ一覧!L354","v":2},null,null,null,{"$f":"+データ一覧!L379","v":43},null,null,null,null,null,null,{"$f":"データ一覧!L404","v":"x"}]
[{"$f":"+データ一覧!$A$67","v":"2.10.1"},null,null,null,null,{"$f":"データ一覧!L67","v":24080},null,null,{"$f":"データ一覧!L76","v":68548},null,null,{"$f":"データ一覧!L77","v":33334},null,null,{"$f":"データ一覧!L78","v":35214},null,null,null,{"$f":"+L36/O36*100","v":94.66121428977111},null,{"$f":"データ一覧!L68","v":2.85},null,{"$f":"データ一覧!L69","v":810.35583402293412},null,null,"  人工林     針葉樹",null,null,null,{"$f":"データ一覧!L273","v":2093.1499999999996},null,null," 天然林       広葉樹",null,null,null,{"$f":"データ一覧!L276","v":899.77999999998497},null,null,null,"     非鉄金属","金属",null,null,null,null,null,null,null,null,{"$f":"データ一覧!L355","v":19},null,null,null,{"$f":"+データ一覧!L380","v":715},null,null,null,null,null,null,{"$f":"データ一覧!L405","v":1339143},null,null,null,null,null,null,"    ","区分",null,null,null,null,null,null,"施設数",null,null,null,null,"収容定員",null,null,null,null,null,"区分",null,null,null,null,null,null,"施設数",null,null,null,null,"収容定員"]
["年",null,"  区",null," 0歳",null,null,"15歳",null,null,"25歳",null,null,"35歳",null,null,"45歳",null,null,"55歳",null,null,"65歳",null,null,"  人工林     広葉樹",null,null,null,{"$f":"データ一覧!L274","v":40.33},null,null," 竹               林",null,null,null,{"$f":"データ一覧!L277","v":18.62},null,null,null,"     金属","はん用機械",null,null,null,null,null,null,null,null,{"$f":"データ一覧!L356","v":2},null,null,null,{"$f":"+データ一覧!L381","v":31},null,null,null,null,null,null,{"$f":"データ一覧!L406","v":"x"},null,null,null,null,null,null,"生活保護施設",null,null,null,null,null,null,null,{"$f":"データ一覧!L564","v":0},null,null,null,{"$f":"データ一覧!L577","v":0},null,null,null,"人",null,"指定障害者支援施設",null,null,null,null,null,null,null,{"$f":"データ一覧!L570","v":2},null,null,null,{"$f":"データ一覧!L583","v":190},null,null,null,"人"]
["齢","令",null,null,null,"～",null,null,"～",null,null,"～",null,null,"～",null,null,"～",null,null,"～",null,null,null,null,null,null,null,null,null,null,null,null,null,null,null,null,null,null,null,"     一般機械","生産用機械",null,null,null,null,null,null,null,null,{"$f":"データ一覧!L357","v":27},null,null,null,{"$f":"+データ一覧!L382","v":429},null,null,null,null,null,null,{"$f":"データ一覧!L407","v":1026790},null,null,null,null,null,null,"地域福祉施設",null,null,null,null,null,null,null,{"$f":"データ一覧!L565","v":0},null,null,null,{"$f":"データ一覧!L578","v":0},null,null,null,null,null,"指定相談支援事業所",null,null,null,null,null,null,null,{"$f":"データ一覧!L571","v":3},null,null,null,{"$f":"データ一覧!L584","v":0}]
["階","元","  分",null,null,null,"14歳",null,null,"24歳",null,null,"34歳",null,null,"44歳",null,null,"54歳",null,null,"64歳",null,null,"以上","    林     野     の     構     成",null,null,null,null,null,null,"保     有     形     態     別",null,null,null,null,null,null,null,"     電気機械","業務用機械",null,null,null,null,null,null,null,null,{"$f":"データ一覧!L358","v":3},null,null,null,{"$f":"+データ一覧!L383","v":153},null,null,null,null,null,null,{"$f":"データ一覧!L408","v":243813},null,null,null,null,null,null,"老人福祉施設",null,null,null,null,null,null,null,{"$f":"データ一覧!L566","v":10},null,null,null,{"$f":"データ一覧!L579","v":143},null,null,null,null,null,"児童福祉施設",null,null,null,null,null,null,null,{"$f":"データ一覧!L572","v":45},null,null,null,{"$f":"データ一覧!L585","v":2885}]
["級","・",null,null,null,null,"人",null,null,"人",null,"    人",null,null,"    人",null,null,"    人",null,null,"    人",null,null,"    人",null,null,null,null,null,null,null,"ha",null,null,null,null,null,"       ha",null,null,null,"電子・デバイス",null,null,null,null,null,null,null,null,{"$f":"データ一覧!L359","v":4},null,null,null,{"$f":"+データ一覧!L384","v":877},null,null,null,null,null,null,{"$f":"データ一覧!L409","v":1859618},null,null,null,null,null,null,"介護保険施設",null,null,null,null,null,null,null,{"$f":"データ一覧!L567","v":81},null,null,null,{"$f":"データ一覧!L580","v":1619},null,null,null,null,null,"母子福祉施設",null,null,null,null,null,null,null,{"$f":"データ一覧!L573","v":0},null,null,null,{"$f":"データ一覧!L586","v":0}]
["別","10","総 数",null,{"$f":"+E42+E43","v":9621},null,null,{"$f":"+H42+H43","v":7032},null,null,{"$f":"+K42+K43","v":6198},null,null,{"$f":"+N42+N43","v":8814},null,null,{"$f":"+Q42+Q43","v":9877},null,null,{"$f":"+T42+T43","v":7764},null,null,{"$f":"+W42+W43","v":19020},null,null," 無立木地   伐採跡地",null,null,null,{"$f":"データ一覧!L278","v":0},null,null,"国   　　　 　 有",null,null,null,{"$f":"データ一覧!L280","v":16.05},null,null,null,null,"電気機械",null,null,null,null,null,null,null,null,{"$f":"データ一覧!L360","v":3},null,null,null,{"$f":"+データ一覧!L385","v":31},null,null,null,null,null,null,{"$f":"データ一覧!L410","v":62323},null,null,null,null,null,null,"障害者自立支援法施行前からの身体障害者福祉施設",null,null,null,null,null,null,null,{"$f":"データ一覧!L568","v":0},null,null,null,{"$f":"データ一覧!L581","v":0},null,null,null,null,null,"婦人保護施設",null,null,null,null,null,null,null,{"$f":"データ一覧!L574","v":0},null,null,null,{"$f":"データ一覧!L587","v":0}]
["人","・","  男",null,{"$f":"データ一覧!L79","v":4900},null,null,{"$f":"データ一覧!L80","v":3604},null,null,{"$f":"データ一覧!L81","v":3167},null,null,{"$f":"データ一覧!L82","v":4461},null,null,{"$f":"データ一覧!L83","v":5011},null,null,{"$f":"データ一覧!L84","v":3792},null,null,{"$f":"データ一覧!L85","v":8274},null,null," 無立木地   未立木地",null,null,null,{"$f":"データ一覧!L279","v":23.399999999999967},null,null,"公       　　  有",null,null,null,{"$f":"データ一覧!L281","v":126.77},null,null,null,"     輸送機械","情報通信機械",null,null,null,null,null,null,null,null,{"$f":"データ一覧!L361","v":1},null,null,null,{"$f":"+データ一覧!L386","v":5},null,null,null,null,null,null,{"$f":"データ一覧!L411","v":"x"},null,null,null,null,null,null,null,null,null,null,null,null,null,null,null,null,null,null,null,null,null,null,null,null,"その他の社会福祉施設",null,null,null,null,null,null,null,{"$f":"データ一覧!L575+データ一覧!L576","v":0},null,null,null,{"$f":"データ一覧!L588+データ一覧!L589","v":0}]
["口","1","  女",null,{"$f":"データ一覧!L87","v":4721},null,null,{"$f":"データ一覧!L88","v":3428},null,null,{"$f":"データ一覧!L89","v":3031},null,null,{"$f":"データ一覧!L90","v":4353},null,null,{"$f":"データ一覧!L91","v":4866},null,null,{"$f":"データ一覧!L92","v":3972},null,null,{"$f":"データ一覧!L93","v":10746},null,null,null,null,null,null,null,null,null,"私          　 有",null,null,null,{"$f":"データ一覧!L282","v":3004.689999999985},null,null,null,"     精密機械","輸送機械",null,null,null,null,null,null,null,null,{"$f":"データ一覧!L362","v":1},null,null,null,{"$f":"+データ一覧!L387","v":14},null,null,null,null,null,null,{"$f":"データ一覧!L412","v":"x"},null,null,null,null,null,null,"障害福祉サービス事業所",null,null,null,null,null,null,null,{"$f":"データ一覧!L569","v":41},null,null,null,{"$f":"データ一覧!L582","v":480}]
[null,null,null,null,null,null,null,null,null,null,null,null,null,null,null,null,null,null,null,null,null,null,null,null,null,"            林     産     物     生     産     量 ",null,null,null,null,null,null,null,null,null,{"$f":"データ一覧!$A$283","v":"元年中"},null,null,null,null,"     その他","その他",null,null,null,null,null,null,null,null,{"$f":"データ一覧!L363","v":172},null,null,null,{"$f":"+データ一覧!L388","v":3942},null,null,null,null,null,null,{"$f":"データ一覧!L413","v":5799968},null,null,null,null,null,null," １７  教　　　　　　　育",null,null,null,null,null,null,null,null,null,null,null,null,null,null,null,{"$f":"データ一覧!$A$590","v":"2.5.1"}]
["人口動態",null,null,null,null,null,null,"   自　然　動　態",null,null,null,null,null,"   社  会  動  態",null,null,null,null,null,{"$f":"データ一覧!$A74","v":"31.1.1～元.12.31"},null,null,null,null,null,"生椎茸",null,null,null,{"$f":"データ一覧!L283","v":631},null,"㎏","乾椎茸",null,null,null,{"$f":"データ一覧!L284","v":53},null,"㎏"]
[null,null,"   区       分",null,null,null,null," 出   生",null,null," 死   亡",null,null," 転   入",null,null," 転   出",null,null," 婚   姻",null,null," 離   婚",null,null,"えのきだけ",null,null,null,{"$f":"データ一覧!L286","v":"-"},null,"㎏","なめこ",null,null,null,{"$f":"データ一覧!L285","v":"-"},null,"㎏",null,"    ","工　業　用　水　量",null,null,null,null,null,"（従業者30人以上の事業所）",null,null,null,null,null,null,null,null,null,null,{"$f":"データ一覧!L414","v":40376},null,null,null,null,"㎥／日",null,null,null,null,null,null,null,null,null,null,null,null,null,null,"学校数（校）",null,null,null,null,null,null,"教員数（人）",null,null,null,null,null,null,null,"学生・生徒・児童数（人）"]
[{"$f":"LEFT(データ一覧!$A70,7)","v":"元.10.1～"},null,null,null,null,null,null,"       人",null,null,"       人",null,null,"       人",null,null,"       人",null,null,null,"    件",null,null,"    件",null,"ひらたけ",null,null,null,{"$f":"+データ一覧!L287","v":"-"},null,"㎏","まいたけ",null,null,null,{"$f":"+データ一覧!L288","v":"-"},null,"㎏",null,null,null,null,null,null,null,null,null,null,null,null,null,null,null,null,null,null,null,null,null,null,null,null,null,null,null,null,null,null,"　","区分",null,null,null,null,null,null,null," 本 校",null,null," 分 校",null,null," 本   務",null,null,null," 兼   務",null,null,null," 総   数",null,null,null,"男",null,null,null,"女"]
["～",null," 実          数",null,null,null,null,{"$f":"データ一覧!L70","v":555},null,null,{"$f":"データ一覧!L71","v":749},null,null,{"$f":"データ一覧!L72","v":2088},null,null,{"$f":"データ一覧!L73","v":1879},null,null,{"$f":"データ一覧!L74","v":293},null,null,{"$f":"データ一覧!L75","v":100},null,null,null,null,null,null,null,null,null,null,null,null,null,null,null,null,null," １１ 　上　・　下　水　道",null,null,null,null,null,null,null,null,null,null,null,null,null,null,null,null,null,null,null,null,null,null,null,null,null,null,null,null,"小学校",null,null,null,null,null,null,null,null,{"$f":"データ一覧!L591","v":12},null,null,{"$f":"データ一覧!L592","v":0},null,null,{"$f":"データ一覧!L593","v":260},null,null,null,{"$f":"データ一覧!L594","v":37},null,null,null,{"$f":"データ一覧!L595","v":4098},null,null,null,{"$f":"データ一覧!L596","v":2098},null,null,null,{"$f":"データ一覧!L597","v":2000}]
[{"$f":"RIGHT(データ一覧!$A72,7)","v":"～2.9.30"},null,"比率(対1,000人)",null,null,null,null,{"$f":"+H48/I35*1000","v":8.1278191084295006},null,null,{"$f":"+K48/I35*1000","v":10.968894616601254},null,null,"- ",null,null,"- ",null,null,{"$f":"+T48/I35*1000","v":4.290902700486205},null,null,{"$f":"+W48/I35*1000","v":1.4644719114287388},null,null,"  ６  漁               業",null,null,null,null,null,null,null,null,null,null,null,null,null,null,null,null,null,null,null,null,null,null,null,null,null,null,null,null,null,null,null,null,null,null,null,null,null,null,null,null,null,null,"  ","中学校",null,null,null,null,null,null,null,null,{"$f":"データ一覧!L599","v":3},null,null,{"$f":"データ一覧!L600","v":0},null,null,{"$f":"データ一覧!L601","v":140},null,null,null,{"$f":"データ一覧!L602","v":9},null,null,null,{"$f":"データ一覧!L603","v":2077},null,null,null,{"$f":"データ一覧!L604","v":1070},null,null,null,{"$f":"データ一覧!L605","v":1007}]
[null,null,null,null,null,null,null,null,null,null,null,null,null,null,null,null,null,null,null,null,null,null,null,null,null,null,null,null,null,null,null,null,null,null,null,null,null,null,null,null,"水 道 供 給 人 口",null,null,null,null,null,null,"上 水 道",null,null,null,"簡易水道",null,null,null,"専用水道",null,null,null,"飲料水供給施設",null,null,null,"下水道処理人口",null,null,null,null,"  ","高等学校",null,null,null,null,null,null,null,null,{"$f":"データ一覧!L607","v":2},null,null,{"$f":"データ一覧!L608","v":0},null,null,{"$f":"データ一覧!L609","v":85},null,null,null,{"$f":"データ一覧!L610","v":54},null,null,null,{"$f":"データ一覧!L611","v":883},null,null,null,{"$f":"データ一覧!L612","v":450},null,null,null,{"$f":"データ一覧!L613","v":433}]
["  ３  事　　業　　所（民　　営）    （平 28.6.1）",null,null,null,null,null,null,null,null,null,null,null,null,null,null,null,null,null,null,null,null,null,null,null,null,"漁船隻数・トン数",null,null,null,{"$f":"データ一覧!$A$289","v":"元.12.31"},null,null,null,"動　力　船",null,null,null,null,null,null,{"$f":"データ一覧!$A$415","v":"2.3.31"},null,null,null,null,null,"人",null,{"$f":"データ一覧!L415","v":69339},null,null,{"$f":"データ一覧!L416","v":0},null,null,null,null,{"$f":"データ一覧!L417","v":0},null,null,null,{"$f":"データ一覧!L418","v":0},null,null,null,{"$f":"データ一覧!L419","v":50504},null,null,null,"  ","大学・短期大学",null,null,null,null,null,null,null,null,{"$f":"データ一覧!L614","v":0},null,null,{"$f":"データ一覧!L615","v":0},null,null,{"$f":"データ一覧!L616","v":0},null,null,null,{"$f":"データ一覧!L617","v":0},null,null,null,{"$f":"データ一覧!L618","v":0},null,null,null,{"$f":"データ一覧!L619","v":0},null,null,null,{"$f":"データ一覧!L620","v":0}]
[null,null,null,null,null,null,null,null,null,null,null,null,null,null,null,null,null,null,null,null,null,null,null,null,null,"無動力船隻数",null,null,null,"船外機付漁船隻数",null,null,null,"隻　数",null,null,"総 ト ン 数",null,null,null,null,null,null,null,null,null,null,null,null,null,null,null,null,null,null,null,null,null,null,null,null,null,null,null,null,null,null,null,"  ","高等専門学校",null,null,null,null,null,null,null,null,{"$f":"データ一覧!L621","v":1},null,null,{"$f":"データ一覧!L622","v":0},null,null,{"$f":"データ一覧!L623","v":77},null,null,null,{"$f":"データ一覧!L624","v":41},null,null,null,{"$f":"データ一覧!L625","v":991},null,null,null,{"$f":"データ一覧!L626","v":785},null,null,null,{"$f":"データ一覧!L627","v":206}]
[null,null,null,null,null,null,null,"    総　　　　　数",null,null,null,null,null,"    民　　　　　営",null,null,null,null,null,"  国 ･ 地方公共団体",null,null,null,null,null,null,null,null,"隻",null,null,null,"隻",null,null,"隻",null,null,"t",null," １２  交   通　・　通   信",null,null,null,null,null,null,null,null,null,null,null,null,null,null,null,null,null,null,null,null,null,null,null,null,null,null,null,"  ","特別支援学校",null,null,null,null,null,null,null,null,{"$f":"データ一覧!L629","v":0},null,null,{"$f":"データ一覧!L630","v":0},null,null,{"$f":"データ一覧!L631","v":0},null,null,null,{"$f":"データ一覧!L632","v":0},null,null,null,{"$f":"データ一覧!L633","v":0},null,null,null,{"$f":"データ一覧!L634","v":0},null,null,null,{"$f":"データ一覧!L635","v":0}]
["  　区　　　　　　分",null,null,null,null,null,null," 事業所数",null,null," 従業者数",null,null," 事業所数",null,null," 従業者数",null,null," 事業所数",null,null," 従業者数",null,null,{"$f":"データ一覧!$L$289","v":0},null,null,null,{"$f":"データ一覧!$L$290","v":0},null,null,null,{"$f":"データ一覧!L291","v":0},null,null,{"$f":"データ一覧!L292","v":0},null,null,null,null,null,null,null,null,null,null,null,null,null,null,null,null,null,null,null,null,null,null,null,null,null,null,null,null,null,null,null,"  ","幼稚園",null,null,null,null,null,null,null,null,{"$f":"データ一覧!L637","v":4},null,null,{"$f":"データ一覧!L638","v":0},null,null,{"$f":"データ一覧!L639","v":17},null,null,null,{"$f":"データ一覧!L640","v":3},null,null,null,{"$f":"データ一覧!L641","v":124},null,null,null,{"$f":"データ一覧!L642","v":72},null,null,null,{"$f":"データ一覧!L643","v":52}]
[null,null,null,null,null,null,null,null,null,null,"       人",null,null,null,null,null,"       人",null,null,null,null,null,"       人",null,null,"  男女別就業者数",null,null,null,null,null,null,null,{"$f":"データ一覧!$A$293","v":"30.11.1"},null,null,null,null,null,null,"道     路",null,null,null,"実 延 長",null,null,null,"国     道",null,null,null,"県     道",null,null,null,"市町道",null,null,null," 鉄 道 営 業 キ ロ 数",null,null,null,null,null,null,null,"  ","幼保連携認定こども園",null,null,null,null,null,null,null,null,{"$f":"データ一覧!L645","v":5},null,null,{"$f":"データ一覧!L646","v":0},null,null,{"$f":"データ一覧!L647","v":113},null,null,null,{"$f":"データ一覧!L648","v":26},null,null,null,{"$f":"データ一覧!L649","v":747},null,null,null,{"$f":"データ一覧!L650","v":359},null,null,null,{"$f":"データ一覧!L651","v":388}]
["総数",null,null,null,null,null,null,{"$f":"データ一覧!L95","v":"…"},null,null,{"$f":"データ一覧!L152","v":"…"},null,null,{"$f":"データ一覧!L96","v":3520},null,null,{"$f":"データ一覧!L153","v":29663},null,null,{"$f":"データ一覧!L97","v":"…"},null,null,{"$f":"データ一覧!L154","v":"…"},null,null,"総　　数",null,null,null,null,null,"男",null,null,null,"女",null,null,null,null,{"$f":"データ一覧!$A$420","v":"31.4.1"},null,null,null,{"$f":"データ一覧!L420","v":709.62099999999998},null,null,"㎞",{"$f":"データ一覧!L421","v":11.1},null,null,"㎞",{"$f":"データ一覧!L422","v":66.900000000000006},null,null,"㎞",{"$f":"データ一覧!L423","v":631.62099999999998},null,null,"km",{"$f":"データ一覧!$A$424","v":"2.4.1"},null,null,null,{"$f":"データ一覧!L424","v":13.725999999999999},null,null,"㎞","  ","各種学校",null,null,null,null,null,null,null,null,{"$f":"データ一覧!L653","v":"-"},null,null,{"$f":"データ一覧!L654","v":0},null,null,{"$f":"データ一覧!L655","v":"-"},null,null,null,{"$f":"データ一覧!L656","v":0},null,null,null,{"$f":"データ一覧!L657","v":"-"},null,null,null,{"$f":"データ一覧!L658","v":"-"},null,null,null,{"$f":"データ一覧!L659","v":"-"}]
["農林漁業",null,null,null,null,null,null,{"$f":"データ一覧!L98","v":"…"},null,null,{"$f":"データ一覧!L155","v":"…"},null,null,{"$f":"データ一覧!L99","v":15},null,null,{"$f":"データ一覧!L156","v":177},null,null,{"$f":"データ一覧!L100","v":"…"},null,null,{"$f":"データ一覧!L157","v":"…"},null,null,null,null,null,null,null,"人",null,null,"　　　　人",null,null,null,null,"  人",null,"自動車",null,null,null,null,null,null,null,null,"乗用車",null,null,null,null,null,null,null,null,null,null,null,null,null,null,null,null,null,null,"  ","専修学校",null,null,null,null,null,null,null,null,{"$f":"データ一覧!L661","v":0},null,null,{"$f":"データ一覧!L662","v":0},null,null,{"$f":"データ一覧!L663","v":0},null,null,null,{"$f":"データ一覧!L664","v":0},null,null,null,{"$f":"データ一覧!L665","v":0},null,null,null,{"$f":"データ一覧!L666","v":0},null,null,null,{"$f":"データ一覧!L667","v":0}]
["鉱業",null,null,null,null,null,null,{"$f":"データ一覧!L101","v":"…"},null,null,{"$f":"データ一覧!L158","v":"…"},null,null,{"$f":"データ一覧!L102","v":0},null,null,{"$f":"データ一覧!L159","v":0},null,null,{"$f":"データ一覧!L103","v":"…"},null,null,{"$f":"データ一覧!L160","v":"…"},null,null,{"$f":"SUM(AF58,AJ58)","v":0},null,null,null,null,null,{"$f":"データ一覧!$L$294","v":0},null,null,null,{"$f":"データ一覧!L295","v":0},null,null,null,null,"台  数",null,null,null,"貨    物",null,null,null,"普     通",null,null,null,"小     型",null,null,null,"乗  合",null,null,"特  種",null,null,"小型二輪",null,null,"軽自動車",null,null," １８  衛　　　　　　　生"]
["建設業",null,null,null,null,null,null,{"$f":"データ一覧!L104","v":"…"},null,null,{"$f":"データ一覧!L161","v":"…"},null,null,{"$f":"データ一覧!L105","v":265},null,null,{"$f":"データ一覧!L162","v":1510},null,null,{"$f":"データ一覧!L106","v":"…"},null,null,{"$f":"データ一覧!L163","v":"…"},null,null,"　　　　海 面 漁 業 漁 獲 量 （属人）",null,null,null,null,null,null,null,{"$f":"データ一覧!$A$296","v":"30年中"},null,null,null,null,null,null,{"$f":"データ一覧!$A$425","v":"2.3.31"},null,null,null,null,{"$f":"データ一覧!L425","v":2658},null,null,null,{"$f":"データ一覧!L427","v":12683},null,null,null,{"$f":"データ一覧!L428","v":13148},null,null,{"$f":"データ一覧!L426","v":101},null,null,{"$f":"データ一覧!L429","v":826},null,null,{"$f":"データ一覧!L430","v":740},null,null,{"$f":"データ一覧!L431","v":24496}]
["製造業",null,null,null,null,null,null,{"$f":"データ一覧!L107","v":"…"},null,null,{"$f":"データ一覧!L164","v":"…"},null,null,{"$f":"データ一覧!L108","v":1056},null,null,{"$f":"データ一覧!L165","v":10659},null,null,{"$f":"データ一覧!L109","v":"…"},null,null,{"$f":"データ一覧!L166","v":"…"},null,null,null,null,null,null,null,"       ","ｔ",null,null,null,null,null,null,"t",null,null,null,"     ",null,"郵　便　局　数",null,null,null,null,null,null,null,null,null,null,null,null,null,null,null,"一般加入",null,null,null,"ＩＮＳネット",null,null,null,null,null,null,null,"医療関係施設",null,null,null,null,null,{"$f":"データ一覧!$A$668","v":"元.10.1"},null,null,null,null,null,null,"および医療関係者数",null,null,null,null,null,null,null,{"$f":"データ一覧!$A$673","v":"30.12.31"}]
["電気・ｶﾞ ｽ・熱供給・水道業",null,null,null,null,null,null,{"$f":"データ一覧!L110","v":"…"},null,null,{"$f":"データ一覧!L167","v":"…"},null,null,{"$f":"データ一覧!L111","v":0},null,null,{"$f":"データ一覧!L168","v":0},null,null,{"$f":"データ一覧!L112","v":"…"},null,null,{"$f":"データ一覧!L169","v":"…"},null,null,"   総　　　　　　数",null,null,null,{"$f":"データ一覧!L296","v":0},null,null,"   藻　　　　　　類",null,null,null,{"$f":"データ一覧!L299","v":0},null,null,null,"通  信",null,null,null," 総     数",null,null,null,null,null," 郵 便 局",null,null,null,null," 簡 易 局",null,null,null,null,"電話数",null,null,null,"加入数",null,null,null,null,null,null,null,null,null,"　","病",null,null,"院",null,"　",null,null,null,null," ","一般診療所",null,null,null,null,null,null,null,null,null,null,null,"歯科診療所"]
["情報通信業",null,null,null,null,null,null,{"$f":"データ一覧!L113","v":"…"},null,null,{"$f":"データ一覧!L170","v":"…"},null,null,{"$f":"データ一覧!L114","v":17},null,null,{"$f":"データ一覧!L171","v":265},null,null,{"$f":"データ一覧!L115","v":"…"},null,null,{"$f":"データ一覧!L172","v":"…"},null,null,"   魚　　　　　　類",null,null,null,{"$f":"データ一覧!L297","v":0},null,null,"   そ　   の　　 他",null,null,null,{"$f":"データ一覧!L300","v":0},null,null,null,{"$f":"データ一覧!$A$435","v":"2.3.31"},null,null,null,{"$f":"データ一覧!L432","v":14},null,null,null,null,null,{"$f":"データ一覧!L433","v":12},null,null,null,null,{"$f":"データ一覧!L434","v":2},null,null,null,null,{"$f":"データ一覧!L435","v":5390},null,null,null,{"$f":"データ一覧!L436","v":678},null,null,null," ","医療関係",null,null,null,null,null,null,null,null,null,null,null,"一般病院",null,null,null,null,null,null,null,null,null,null,null,"有",null,null,"床"]
["運輸業、郵便業",null,null,null,null,null,null,{"$f":"データ一覧!L116","v":"…"},null,null,{"$f":"データ一覧!L173","v":"…"},null,null,{"$f":"データ一覧!L117","v":48},null,null,{"$f":"データ一覧!L174","v":677},null,null,{"$f":"データ一覧!L118","v":"…"},null,null,{"$f":"データ一覧!L175","v":"…"},null,null,"   貝　　　　　　類",null,null,null,{"$f":"データ一覧!L298","v":0},null,null,null,null,null,null,null,null,null,null,null,null,null,null,null,null,null,null,null,null,null,null,null,null,null,null,null,null,null,null,null,null,null,null,null,null,null,null,null,"施設数",null,null,null,null,null,null,{"$f":"データ一覧!L668","v":7},null,null,null,null,null,{"$f":"データ一覧!L669","v":6},null,null,null,null,null,{"$f":"データ一覧!L670","v":40},null,null,null,null,null,{"$f":"データ一覧!L671","v":4},null,null,null,null,null,{"$f":"データ一覧!L672","v":23}]
["卸売業、小売業",null,null,null,null,null,null,{"$f":"データ一覧!L119","v":"…"},null,null,{"$f":"データ一覧!L176","v":"…"},null,null,{"$f":"データ一覧!L120","v":797},null,null,{"$f":"データ一覧!L177","v":5638},null,null,{"$f":"データ一覧!L121","v":"…"},null,null,{"$f":"データ一覧!L178","v":"…"},null,null,null,null,null,null,null,null,null,null,null,null,null,null,null,null,null," １３  税　　・　　財　　政",null,null,null,null,null,null,null,null,null,null,null,null,null,null,null,null,null,null,null,null,null,null,null,null,null,null,null,null,null,null,null,null,null,null,"医師",null,null,null,null,"歯科医師",null,null,null,null,"薬剤師",null,null,null,null,"保健師",null,null,null,null,"助産師",null,null," ",null,"看護師",null,null," "]
["金融業、保険業",null,null,null,null,null,null,{"$f":"データ一覧!L122","v":"…"},null,null,{"$f":"データ一覧!L179","v":"…"},null,null,{"$f":"データ一覧!L123","v":51},null,null,{"$f":"データ一覧!L180","v":650},null,null,{"$f":"データ一覧!L124","v":"…"},null,null,{"$f":"データ一覧!L181","v":"…"},null,null,"  ７  商        　　　業 ",null,null,null,null,null,null,{"$f":"データ一覧!$A$301","v":"28.6.1(平成27年実績）"},null,null,null,null,null,null,null,null,null,null,null,null,null,null,null,null,null,null,null,null,null,null,null,null,null,null,null,null,null,null,null,null,null,null,null," ","医療",null,null,null,null,null,null,null,null,"人",null,null,null,null,"人",null,null,null,null,"人",null,null,null,null,"人",null,null,null,null,"人",null,null,null,null,"人"]
["不動産業、物品賃貸業",null,null,null,null,null,null,{"$f":"データ一覧!L125","v":"…"},null,null,{"$f":"データ一覧!L182","v":"…"},null,null,{"$f":"データ一覧!L126","v":74},null,null,{"$f":"データ一覧!L183","v":243},null,null,{"$f":"データ一覧!L127","v":"…"},null,null,{"$f":"データ一覧!L184","v":"…"},null,null,null,null,null,null,null,null,null,null,null,null,null,null,null,null,null,"           ",null,null,null,"歳入",null,null,null,null,null,null,null,null,"(千円）"," ",null,null,null,"歳出",null,null,null,null,null,null,null,null,"(千円）",null,"関係者",null,null,null,null,{"$f":"データ一覧!L673","v":110},null,null,null,null,{"$f":"データ一覧!L674","v":35},null,null,null,null,{"$f":"データ一覧!L675","v":95},null,null,null,null,{"$f":"データ一覧!L676","v":35},null,null,null,null,{"$f":"データ一覧!L677","v":10},null,null,null,null,{"$f":"データ一覧!L678","v":877}]
["学術研究、専門・技術ｻｰﾋﾞｽ業",null,null,null,null,null,null,{"$f":"データ一覧!L128","v":"…"},null,null,{"$f":"データ一覧!L185","v":"…"},null,null,{"$f":"データ一覧!L129","v":89},null,null,{"$f":"データ一覧!L186","v":397},null,null,{"$f":"データ一覧!L130","v":"…"},null,null,{"$f":"データ一覧!L187","v":"…"},null,null,"  産   業　 分　 類",null,null,null,"  商　 店 　数",null,null," 従　業　者　数",null,null,"年　間　販　売　額",null,null,null,null,"一人当たり歳入歳出予算決算額",null,null,null,null,null,null,null,null,null,null,null,null,null,null,null,null,null,null,null,null,null,null,null,null,null,null,null,"                   ",null,null,null,null,null,null,null,null,"死因別死亡数　　　　　　    ",null,null,null,null,null,null,null,null,null,null,null,null,null,null,null,{"$f":"データ一覧!$A$679","v":"元年中"},null,null,null,null,null,null,null,null,"      単 位：人"]
["宿泊業、飲食サービス業",null,null,null,null,null,null,{"$f":"データ一覧!L131","v":"…"},null,null,{"$f":"データ一覧!L188","v":"…"},null,null,{"$f":"データ一覧!L132","v":338},null,null,{"$f":"データ一覧!L189","v":2542},null,null,{"$f":"データ一覧!L133","v":"…"},null,null,{"$f":"データ一覧!L190","v":"…"},null,null,null,null,null,null,null,"        店",null,null,null,"　人",null,"         百万円",null,null,null,"区分",null,null,null,{"$f":"データ一覧!$A$445","v":"2年度"},null,null,null,null,{"$f":"データ一覧!$A$459","v":"元年度"},null,null,null,null,"区分",null,null,null,{"$f":"+AS68","v":"2年度"},null,null,null,null,{"$f":"データ一覧!$A$459","v":"元年度"},null,null,null,null," 死     因",null,null,null,null,null,null,null,null,null,null,null,"悪  性",null,null,"高血圧",null,null,null,null,null,"脳血管",null,null,null,null,null," ",null,null,"不慮の事故"]
["生活関連サービス業、娯楽業",null,null,null,null,null,null,{"$f":"データ一覧!L134","v":"…"},null,null,{"$f":"データ一覧!L191","v":"…"},null,null,{"$f":"データ一覧!L135","v":296},null,null,{"$f":"データ一覧!L192","v":1069},null,null,{"$f":"データ一覧!L136","v":"…"},null,null,{"$f":"データ一覧!L193","v":"…"},null,null,"総　　　　　　計",null,null,null,{"$f":"データ一覧!L301","v":681},null,null,{"$f":"データ一覧!L310","v":4817},null,null,{"$f":"データ一覧!L319","v":115279},null,null,null,null,null,null,null,null,{"$f":"データ一覧!L441","v":391154.41734259209},null,null,null,null,{"$f":"データ一覧!L442","v":388786},null,null,null,null,null,null,null,null,{"$f":"データ一覧!L443","v":391154.41734259209},null,null,null,null,{"$f":"データ一覧!L444","v":377256.40202530165},null,null,null,null,null,null,null,null,null,"全 死 因",null,null,null,"結 核",null,null,"新生物",null,null,"性疾患",null,null,"心疾患",null,null,"疾  患",null,null,"肺  炎",null,null,"老  衰",null,null,null,null," ","交通事故"]
["教育、学習支援業",null,null,null,null,null,null,{"$f":"データ一覧!L137","v":"…"},null,null,{"$f":"データ一覧!L194","v":"…"},null,null,{"$f":"データ一覧!L138","v":85},null,null,{"$f":"データ一覧!L195","v":490},null,null,{"$f":"データ一覧!L139","v":"…"},null,null,{"$f":"データ一覧!L196","v":"…"},null,null,"卸売業",null,null,null,{"$f":"データ一覧!L302","v":178},null,null,{"$f":"データ一覧!L311","v":1486},null,null,{"$f":"データ一覧!L320","v":57280},null,null,null,null,"項目別歳入歳出予算決算額"]
["医療、福祉",null,null,null,null,null,null,{"$f":"データ一覧!L140","v":"…"},null,null,{"$f":"データ一覧!L197","v":"…"},null,null,{"$f":"データ一覧!L141","v":195},null,null,{"$f":"データ一覧!L198","v":3700},null,null,{"$f":"データ一覧!L142","v":"…"},null,null,{"$f":"データ一覧!L199","v":"…"},null,null,"小売業",null,null,null,{"$f":"データ一覧!L303","v":503},null,null,{"$f":"データ一覧!L312","v":3331},null,null,{"$f":"データ一覧!L321","v":57999},null,null,null,null,"区分",null,null,null,{"$f":"データ一覧!$A$445","v":"2年度"},null,null,null,null,{"$f":"データ一覧!$A$459","v":"元年度"},null,null,null,null,"区分",null,null,null,{"$f":"+AS71","v":"2年度"},null,null,null,null,{"$f":"データ一覧!$A$459","v":"元年度"},null,null,null,null,null,null,null,null,null,{"$f":"データ一覧!L679","v":685},null,null,null,"   －",{"$f":"データ一覧!L680","v":0},null,{"$f":"データ一覧!L681","v":183},null,null,null,{"$f":"データ一覧!L682","v":5},null,{"$f":"データ一覧!L683","v":90},null,null,{"$f":"データ一覧!L684","v":62},null,null,{"$f":"データ一覧!L685","v":73},null,null,{"$f":"データ一覧!L686","v":36},null,null,{"$f":"データ一覧!L687","v":29},null,null,{"$f":"データ一覧!L688","v":4}]
["複合サービス事業",null,null,null,null,null,null,{"$f":"データ一覧!L143","v":"…"},null,null,{"$f":"データ一覧!L200","v":"…"},null,null,{"$f":"データ一覧!L144","v":24},null,null,{"$f":"データ一覧!L201","v":557},null,null,{"$f":"データ一覧!L145","v":"…"},null,null,{"$f":"データ一覧!L202","v":"…"},null,null,"各種商品",null,null,null,{"$f":"データ一覧!L304","v":2},null,null,{"$f":"データ一覧!L313","v":198},null,null,{"$f":"データ一覧!L322","v":"x"},null,null,null,null,"総額",null,null,null,{"$f":"SUM(AS73:AW85)","v":26812853},null,null,null,null,{"$f":"SUM(AX73:BB85)","v":26644702},null,null,null,null,"総額",null,null,null,{"$f":"SUM(BG73:BK85)","v":26812853},null,null,null,null,{"$f":"SUM(BL73:BP85)","v":25854513},null,null,null,null," １９  警　察　・　消　防  ",null,null,null,null,null,null,null,null,null,null,null,null,null,null,null,{"$f":"+データ一覧!$A689","v":"2.4.1"}]
["サービス業",null,null,null,null,null,null,{"$f":"データ一覧!L146","v":"…"},null,null,{"$f":"データ一覧!L203","v":"…"},null,null,{"$f":"データ一覧!L147","v":170},null,null,{"$f":"データ一覧!L204","v":1089},null,null,{"$f":"データ一覧!L148","v":"…"},null,null,{"$f":"データ一覧!L205","v":"…"},null,null,"織物・衣服・身の回り品",null,null,null,{"$f":"データ一覧!L305","v":79},null,null,{"$f":"データ一覧!L314","v":270},null,null,{"$f":"データ一覧!L323","v":3492},null,null,null,null,"地方税",null,null,null,{"$f":"データ一覧!L446","v":9438000},null,null,null,null,{"$f":"データ一覧!L460","v":9367226},null,null,null,null,"議会費",null,null,null,{"$f":"データ一覧!L474","v":248870},null,null,null,null,{"$f":"データ一覧!L488","v":243241}]
["公務",null,null,null,null,null,null,{"$f":"データ一覧!L149","v":"…"},null,null,{"$f":"データ一覧!L206","v":"…"},null,null,{"$f":"データ一覧!L150","v":"…"},null,null,{"$f":"データ一覧!L207","v":"…"},null,null,{"$f":"データ一覧!L151","v":"…"},null,null,{"$f":"データ一覧!L208","v":"…"},null,null,"飲食料品",null,null,null,{"$f":"データ一覧!L306","v":154},null,null,{"$f":"データ一覧!L315","v":1271},null,null,{"$f":"データ一覧!L324","v":22395},null,null,null,null,"地方譲与税",null,null,null,{"$f":"データ一覧!L447","v":251600},null,null,null,null,{"$f":"データ一覧!L461","v":249620},null,null,null,null,"総務費",null,null,null,{"$f":"データ一覧!L475","v":2616454},null,null,null,null,{"$f":"データ一覧!L489","v":2548947},null,null,null,null,null,null,null,null,null,null,null,null,null,null,"交番・駐在所",null,null,null,null,null,null,null,null,"刑法犯認知件数",null,null,null,null,null,null,null,null,"交通人身事故発生件数"]
["  ４  農        　　　業 ",null,null,null,null,null,null,null,null,null,null,null,null,null,null,null,null,null,null,null,null,null,null,null,null,"機械器具",null,null,null,{"$f":"データ一覧!L307","v":71},null,null,{"$f":"データ一覧!L316","v":359},null,null,{"$f":"データ一覧!L325","v":8600},null,null,null,null,"各種交付金",null,null,null,{"$f":"データ一覧!L448","v":1559000},null,null,null,null,{"$f":"データ一覧!L462","v":1322789},null,null,null,null,"民生費",null,null,null,{"$f":"データ一覧!L476","v":9613136},null,null,null,null,{"$f":"データ一覧!L490","v":9986195},null,null,null,null,null,"警察署数",null,null,null,null,null,null,null,null,"検問所数",null,null,null,null,null,null,null,null,null,{"$f":"データ一覧!$A$691","v":"元年中"},null,null,null,null,null,null,null,null,{"$f":"データ一覧!$A$691","v":"元年中"}]
[null,null,null,null,null,null,null,null,null,null,null,null,null,null,null,null,null,null,null,null,null,null,null,null,null,"その他",null,null,null,{"$f":"データ一覧!L308","v":175},null,null,{"$f":"データ一覧!L317","v":1005},null,null,{"$f":"データ一覧!L326","v":"x"},null,null,null,null,"地方特例交付金",null,null,null,{"$f":"データ一覧!L449","v":25000},null,null,null,null,{"$f":"データ一覧!L463","v":241666},null,null,null,null,"衛生費",null,null,null,{"$f":"データ一覧!L477","v":2349728},null,null,null,null,{"$f":"データ一覧!L491","v":1832719},null,null,null,null,null,null,null,null,null,null,null,null,null,null,null,null,null,null,null,null,null,null,null,null,null,null,null,null," 件",null,null,null,null,null,null,null,null,"　件"]
[null,null,"農家人口と世帯員数(販売農家)",null,null,null,null,null,null,null,"農家世帯の就業状態（販売農家）",null,null,null,null,null,null,null,null,null,null,null,null,null,null,"無店舗",null,null,null,{"$f":"データ一覧!L309","v":22},null,null,{"$f":"データ一覧!L318","v":228},null,null,{"$f":"データ一覧!L327","v":5362},null,null,null,null,"地方交付税",null,null,null,{"$f":"データ一覧!L450","v":4560000},null,null,null,null,{"$f":"データ一覧!L464","v":4485127},null,null,null,null,"労働費",null,null,null,{"$f":"データ一覧!L478","v":89275},null,null,null,null,{"$f":"データ一覧!L492","v":119270},null,null,null,null,null,null,{"$f":"データ一覧!L689","v":1},null,null,null,null,null,null,null,null,{"$f":"データ一覧!L690","v":8},null,null,null,null,null,null,null,null,{"$f":"データ一覧!L691","v":253},null,null,null,null,null,null,null,null,{"$f":"データ一覧!L692","v":106}]
["農","平",null,null,null,null,null,null,null,null,"農業従事者",null,null,null,null,null,null,null,null,"非農業従事",null,null,"農業従事者",null,null,null,null,null,null,null,null,null,null,null,null,null,null,null,null,null,"分担金および負担金",null,null,null,{"$f":"データ一覧!L451","v":171222},null,null,null,null,{"$f":"データ一覧!L465","v":283886},null,null,null,null,"農林水産業費",null,null,null,{"$f":"データ一覧!L479","v":1168491},null,null,null,null,{"$f":"データ一覧!L493","v":1208089},null,null,null,null,"火災発生件数",null,null,null,null,null,null,null,null,null,"林野焼損",null,null,null,null,"損      害",null,null,null,null,"消 防 自",null,null,null,"その他の",null,null,null," ",null,null,null,null," "]
["家",{"$f":"+LEFT(データ一覧!$A$209,2)","v":"27"},"区分",null,"農家人口",null,null,"15歳以上の",null,null,null,null,null,"農業就業人口",null,null,null,null,null,"者",null,null,"の平均年齢",null,null,"  ８  住　　　　　　 　宅",null,null,null,null,null,null,null,null,null,null,null,null,null,null,"使用料および手数料",null,null,null,{"$f":"データ一覧!L452","v":329677},null,null,null,null,{"$f":"データ一覧!L466","v":322818},null,null,null,null,"商工費",null,null,null,{"$f":"データ一覧!L480","v":1046319},null,null,null,null,{"$f":"データ一覧!L494","v":1105054},null,null,null,null,{"$f":"+データ一覧!$A$693","v":"元年中"},null,null,null,null,"焼損棟数",null,null,null,null,"面    積",null,null,null,null,"見  積  額",null,null,null,null,"動 車 数",null,null,null,"ﾎﾟﾝﾌﾟ数",null,null,null," 消防吏員",null,null,null," 消防団員"]
["人就 ","・",null,null,null,null,null,"世帯員数",null,null,null,null,null,null,null,null,"基幹的農業",null,null,null,null,null,null,null,null,null,null,null,null,null,null,null,null,null,null,null,null,null,null,null,"国庫支出金",null,null,null,{"$f":"データ一覧!L453","v":3708970},null,null,null,null,{"$f":"データ一覧!L467","v":3737172},null,null,null,null,"土木費",null,null,null,{"$f":"データ一覧!L481","v":2529489},null,null,null,null,{"$f":"データ一覧!L495","v":2589093},null,null,null,null,"         件",null,null,null,null,null,"      棟",null,null,null,null,null,null,"  ａ",null,null,null,"  千円",null,null,"        ",null,null,null,null,null,null,null,null,null,"  人",null,null,null,"  人"]
["口業 ",{"$f":"+MID(データ一覧!$A$209,4,1)","v":"2"},null,null,null,null,"人",null,null,"人",null,null,"人",null,null,"人","従事者",null,"人",null,null,"人",null,null,"歳",{"$f":"+データ一覧!$A$328","v":"30年"},null,null,null,null,{"$f":"データ一覧!$A$331","v":"元年"},"中の増減",null,null,null,{"$f":"+データ一覧!$A$331","v":"元年"},null,null,null,null,"県支出金",null,null,null,{"$f":"データ一覧!L454","v":2278003},null,null,null,null,{"$f":"データ一覧!L468","v":2211546},null,null,null,null,"消防費",null,null,null,{"$f":"データ一覧!L482","v":852208},null,null,null,null,{"$f":"データ一覧!L496","v":853044},null,null,null,null,null,{"$f":"データ一覧!L693","v":18},null,null,null,null,{"$f":"データ一覧!L694","v":15},null,null,null,null,{"$f":"データ一覧!L695","v":0},null,null,null,{"$f":"データ一覧!L696","v":8459},null,null,null,null,null,{"$f":"データ一覧!L697","v":20},null,null,null,{"$f":"データ一覧!L698","v":2},null,null,null,{"$f":"データ一覧!L699","v":84},null,null,null,{"$f":"データ一覧!L700","v":223}]
["と状 ","・"," 総数",null,{"$f":"データ一覧!L209","v":3164},null,null,{"$f":"データ一覧!L212","v":2791},null,null,{"$f":"データ一覧!L215","v":1862},null,null,{"$f":"データ一覧!L218","v":805},null,null,{"$f":"データ一覧!L221","v":580},null,null,{"$f":"データ一覧!L224","v":929},null,null,{"$f":"データ一覧!L227","v":58.3},null,null,null,null,null,null,"建設した住宅",null,null,"消失した住宅",null,null,null,null,null,null,null,"財産収入",null,null,null,{"$f":"データ一覧!L455","v":59548},null,null,null,null,{"$f":"データ一覧!L469","v":66722},null,null,null,null,"教育費",null,null,null,{"$f":"データ一覧!L483","v":3310924},null,null,null,null,{"$f":"データ一覧!L497","v":2572454},null,null,null,null," ２０  そ　　　の　　　他　"]
["  況 ",{"$f":"+RIGHT(データ一覧!$A$209,1)","v":"1"},"　男",null,{"$f":"データ一覧!L210","v":1590},null,null,{"$f":"データ一覧!L213","v":1402},null,null,{"$f":"データ一覧!L216","v":1116},null,null,{"$f":"データ一覧!L219","v":460},null,null,{"$f":"データ一覧!L222","v":395},null,null,{"$f":"データ一覧!L225","v":286},null,null,{"$f":"データ一覧!L228","v":57.4},null,null,null,null,null,null,null,null,null,null,null,null,null,null,null,null,null,"繰入金",null,null,null,{"$f":"データ一覧!L456","v":541680},null,null,null,null,{"$f":"データ一覧!L470","v":371749},null,null,null,null,"災害復旧費",null,null,null,{"$f":"データ一覧!L484","v":0},null,null,null,null,{"$f":"データ一覧!L498","v":4064}]
[null,null,"　女",null,{"$f":"データ一覧!L211","v":1574},null,null,{"$f":"データ一覧!L214","v":1389},null,null,{"$f":"データ一覧!L217","v":746},null,null,{"$f":"データ一覧!L220","v":345},null,null,{"$f":"データ一覧!L223","v":185},null,null,{"$f":"データ一覧!L226","v":643},null,null,{"$f":"データ一覧!L229","v":59.6},null,null,null,{"$f":"データ一覧!L328","v":22359},null,"戸",{"$f":"データ一覧!L329","v":507},null,"戸",{"$f":"データ一覧!L330","v":151},null,"戸",null,{"$f":"データ一覧!L331","v":22715},null,"戸",null,"地方債",null,null,null,{"$f":"データ一覧!L457","v":2737300},null,null,null,null,{"$f":"データ一覧!L471","v":2273700},null,null,null,null,"公債費",null,null,null,{"$f":"データ一覧!L485","v":2967959},null,null,null,null,{"$f":"データ一覧!L499","v":2792343},null,null,null,null,null,null,null,null,null,"西山公園、本山誠照寺、本山證誠寺、王山古墳群、兜山古墳、木地屋資料、旧瓜生家住宅、"]
[null,null,null,null,null,null,null,null,null,null,null,null,null,null,null,null,null,null,null,null,null,null,null,null,null,null,null,null,null,null,null,null,null,null,null,null,null,null,null,null,"その他",null,null,null,{"$f":"データ一覧!L458","v":1152853},null,null,null,null,{"$f":"データ一覧!L472","v":1710681},null,null,null,null,"その他",null,null,null,{"$f":"データ一覧!L486","v":20000},null,null,null,null,{"$f":"データ一覧!L500","v":0},null,null,null,null,"　名所・旧跡",null,null,null,null,"春日神社本殿、鳥ヶ森社叢、三六の桜、加多志波神社の追儺面、木造聖観音菩薩立像、"]
[null,null,"総農家数等",null,null,null,null,null,null,"専兼業別（販売農家）",null,null,null,null,null,null,null,"経営面積規模別（販売農家）",null,null,null,null,null,null,null,null,null,null,null,null,null,null,null,null,null,null,null,null,null,null,null,null,null,null,null,null,null,null,null,null,null,null,null,null,null,null,null,null,null,null,null,null,null,null,null,null,null,null,"  文化財等",null,null,null,null,"日吉神社の相生の大杉、鯖江藩家老植田家長屋門、舟津神社本殿、神明社中雀門、"]
[null,"平","区　分",null,null,null,"戸数（戸）",null,null,"区　分",null,null,null,null,"戸数（戸）",null,null,"区　　分",null,null,null,null,"戸数（戸）",null,null,"  ９  議　 員　・　職 　員",null,null,null,null,null,null,null,null,null,null,null,null,null,null," １４  文　　　　　　化",null,null,null,null,null,null,null,null,null," ( ",{"$f":"データ一覧!$A$507","v":"2.3.31"},null,null,null,"ただし図書館・公民館・児童館",null,null,null,null,null,null,null,{"$f":"データ一覧!$A$501","v":"2.4.1"},null,null,null,null,null,null,null,null,null,"上河内の薄墨桜、薬師堂古樹林、三峯城跡、萬慶寺本堂天井絵"]
["農",{"$f":"+LEFT(データ一覧!$A$230,2)","v":"27"},"総農家",null,null,null,{"$f":"データ一覧!L230","v":1048},null,null,"総数",null,null,null,null,{"$f":"データ一覧!L236","v":677},null,null,"総数",null,null,null,null,{"$f":"データ一覧!L241","v":716},null,null,null,null,null,null,null,null,null,null,null,null,null,null,null,null,null,null,null,null,null,null,null,null,null,null,null,null,null,null,null,null,null,"　宗教法人数 ",null,null,null,null,null,null,{"$f":"データ一覧!$A$509","v":"元.12.31"},null,null,null,"）","　　特産物",null,null,null,null,"眼鏡枠、織物、漆器、吉川ナス、ブロッコリー、マルセイユメロン、さばえ菜花、"]
["家","・","販売農家",null,null,null,{"$f":"データ一覧!L231","v":716},null,null,"専業農家",null,null,null,null,{"$f":"データ一覧!L237","v":95},null,null,"0.5 ha 未満",null,null,null,null,{"$f":"データ一覧!L242","v":117},null,null," 市 町 村 議 会",null,null,"有権者数",null,{"$f":"データ一覧!$A$335","v":"2.9.1"},null,"市 町 村 議 会",null,null,"  職      員      数",null,null,null,null,null,null,null,null,null,"図書館",null,null,null,null,null,"公　民　館",null,null,null,null,null,null,null,null,null,null," 社会教育学級講座",null,null,null,null,null,null,null,null,null,null,"ミディトマト、山うに、さばえ菜花米、川島ごぼう"]
["数",{"$f":"+MID(データ一覧!$A$230,4,1)","v":"2"},null,"主業",null,null,{"$f":"データ一覧!L232","v":39},null,null,"兼業農家",null,null,null,null,{"$f":"データ一覧!L238","v":621},null,null,"0.5 ha ～ 1.0 ha",null,null,null,null,{"$f":"データ一覧!L243","v":251},null,null," 議  員  定  数",null,null,"    男",null,"    女",null,"選 挙 投 票 率",null,null," 総     数",null,"一般行政職",null,null,"公    共",null,null,null," 館  数",null,null," 図書数",null,null," 本  館",null,null," 分  館",null,null," 公  園",null,null," 児童館",null,null,"学級講座数",null,null,"受講者数",null,null," 　年中行事",null,null,null,null,"すりばちやいと(2月20日・3月2日)、誠市(3月～12月第2日曜)、\nさばえ菜花まつり(4月中旬)､かたかみ春たんぼ(4月29日)､越前漆器まつり(5月3･4日)､\nさばえつつじまつり(5月上旬)、つつじマラソン(5月第2日曜)、\nやっしきまつり(7月下旬)、じゃぼんこう(11月17日)"]
[null,"・",null,"準主業",null,null,{"$f":"データ一覧!L233","v":93},null,null,null,"第１種兼業",null,null,null,{"$f":"データ一覧!L239","v":67},null,null,"1.0 ha ～ 1.5 ha",null,null,null,null,{"$f":"データ一覧!L244","v":168},null,null,null,null,"人",null,"人",null,"人",null,null,"　％",null,"人",null,"人",null,"施 設 数",null,null,null,null,{"$f":"データ一覧!L501","v":1},null,{"$f":"データ一覧!L502","v":352207},null,null,null,{"$f":"データ一覧!L503","v":10},null,{"$f":"データ一覧!L504","v":0},null,null,{"$f":"データ一覧!L505","v":190},null,null,{"$f":"データ一覧!L506","v":15},null,null,{"$f":"データ一覧!L507","v":362},null,null,{"$f":"データ一覧!L508","v":32026}]
[null,{"$f":"+RIGHT(データ一覧!$A$230,1)","v":"1"},null,"副業的",null,null,{"$f":"データ一覧!L234","v":584},null,null,null,"第２種兼業",null,null,null,{"$f":"データ一覧!L240","v":554},null,null,"1.5 ha ～ 2.0 ha",null,null,null,null,{"$f":"データ一覧!L245","v":73},null,null,null,{"$f":"データ一覧!L332","v":20},null,{"$f":"データ一覧!L335","v":27298},null,{"$f":"データ一覧!L336","v":29133},null,{"$f":"データ一覧!L334","v":53.07},null,null,{"$f":"データ一覧!L337","v":397},null,{"$f":"データ一覧!L338","v":259},null,null,"宗    教",null,null,null," 仏教系",null,null,"ｷﾘｽﾄ教系",null,null,"神道諸派",null,null,"公会堂・市民会館",null,null,null,null,null," テレビ",null,null,"衛星放送契約数"]
[null,null,"自給的農家",null,null,null,{"$f":"データ一覧!L235","v":332},null,null,null,null,null,null,null,null,null,null,"2.0 ha 以上",null,null,null,null,{"$f":"データ一覧!L246","v":106},null,null,null,null,null,null,null,null,null,{"$f":"データ一覧!L333","v":"元.6.30"},null,null,null,null,null,null,null,"法 人 数",null,null,null,{"$f":"データ一覧!L509","v":111},null,null,{"$f":"データ一覧!L510","v":3},null,null,{"$f":"データ一覧!L511","v":63},null,null,{"$f":"データ一覧!L512","v":5},null,null,null,null,null,"      等",null,null,{"$f":"データ一覧!L513","v":15453}]

{"sheet":"あわら市","index":11,"n_rows":93,"n_cols":104,"rows_kept":93,"cut":false,"hidden":false,"merged":[[23,78,23,81],[40,2,40,3],[28,78,28,81],[28,82,28,85],[31,69,31,73],[31,74,31,77],[35,36,35,37],[35,29,35,30],[30,22,30,24],[33,14,33,16],[34,11,34,13],[35,22,35,24],[35,5,35,7],[35,8,35,10],[35,11,35,13],[35,14,35,16],[35,18,35,19],[35,20,35,21],[31,5,31,7],[33,84,34,97],[32,92,32,95],[32,41,32,47],[32,54,32,57],[31,54,31,57],[32,96,32,99],[32,61,32,65],[32,5,32,7],[31,8,31,10],[33,68,34,81],[31,61,31,65],[35,61,35,65],[33,61,33,65],[19,35,19,38],[24,35,24,36],[24,37,24,38],[22,35,22,38],[23,29,23,31],[20,29,20,31],[23,32,23,34],[24,33,24,34],[23,35,23,38],[23,25,23,28],[24,27,24,28],[21,35,21,38],[20,35,20,38],[15,35,15,37],[16,36,16,37],[17,36,17,38],[18,35,18,38],[17,25,17,27],[18,25,18,27],[19,32,19,34],[21,29,21,31],[18,28,18,30],[24,31,24,32],[91,26,91,27],[91,28,91,29],[91,30,91,31],[60,29,60,30],[61,29,61,30],[79,58,79,62],[56,22,56,24],[88,62,88,67],[79,63,79,67],[83,58,83,62],[68,54,68,57],[68,58,68,62],[91,44,91,46],[15,32,15,33],[91,35,91,36],[91,37,91,38],[83,49,83,53],[83,40,83,43],[49,47,49,50],[37,50,37,52],[38,41,38,47],[41,50,41,52],[91,32,91,34],[90,47,90,49],[91,53,91,58],[30,54,30,57],[38,50,38,52],[40,22,40,24],[34,54,34,57],[23,54,23,57],[22,41,22,47],[22,50,22,52],[91,62,91,67],[92,53,92,58],[92,62,92,67],[92,40,92,43],[92,44,92,46],[92,47,92,49],[92,50,92,52],[91,47,91,49],[91,40,91,43],[84,63,84,67],[83,63,83,67],[88,30,88,31],[88,32,88,34],[90,40,90,43],[90,45,90,46],[89,32,89,34],[89,40,89,43],[90,56,90,58],[90,59,90,61],[84,58,84,62],[88,45,88,48],[92,32,92,34],[83,44,83,48],[53,29,53,31],[5,0,5,9],[6,0,8,9],[19,3,19,5],[19,25,19,28],[19,29,19,31],[20,41,20,47],[16,32,16,33],[17,32,17,34],[15,29,15,30],[14,0,15,24],[33,18,33,19],[31,18,31,19],[32,20,32,21],[27,27,27,28],[27,0,27,4],[33,8,33,10],[23,41,23,47],[18,31,18,34],[22,32,22,34],[27,35,27,36],[25,37,26,38],[28,41,28,47],[23,16,23,18],[23,21,23,23],[30,18,30,19],[33,22,33,24],[33,11,33,13],[27,31,27,32],[14,25,15,25],[14,26,15,28],[22,25,22,28],[25,61,25,65],[26,61,26,65],[27,61,27,65],[25,50,25,52],[26,41,26,47],[39,41,39,47],[48,63,48,66],[27,5,27,7],[27,22,27,24],[27,25,27,26],[27,37,27,38],[27,33,27,34],[33,41,33,47],[34,36,34,37],[32,8,32,10],[32,11,32,13],[32,14,32,16],[32,18,32,19],[34,29,34,30],[33,20,33,21],[33,5,33,7],[32,50,32,52],[33,50,33,52],[29,61,29,65],[30,61,30,65],[32,22,32,24],[26,22,26,24],[29,22,29,24],[31,22,31,24],[25,29,26,30],[29,5,29,7],[29,8,29,10],[73,63,73,67],[67,44,67,48],[21,100,21,103],[23,100,23,103],[22,54,22,57],[22,61,22,65],[22,92,22,95],[22,69,22,73],[22,74,22,77],[30,50,30,52],[31,50,31,52],[24,54,24,57],[29,54,29,57],[28,54,28,57],[25,41,25,47],[27,41,27,47],[26,54,26,57],[35,54,35,57],[23,61,23,65],[23,92,23,95],[25,100,25,103],[24,92,24,95],[22,96,22,99],[22,100,22,103],[22,78,22,81],[22,82,22,85],[22,87,22,91],[23,82,23,85],[23,96,23,99],[31,41,31,47],[23,69,23,73],[23,74,23,77],[19,41,19,47],[19,50,19,52],[19,54,19,57],[19,61,19,65],[17,41,17,47],[17,49,17,53],[19,92,19,95],[19,96,19,99],[19,100,19,103],[20,92,20,95],[21,61,21,65],[21,92,21,95],[20,61,20,65],[21,74,21,77],[17,69,17,72],[17,74,17,77],[17,83,17,84],[20,78,20,81],[21,78,21,81],[17,60,17,66],[21,41,21,47],[21,50,21,52],[21,54,21,57],[20,54,20,57],[20,50,20,52],[17,87,17,90],[19,74,19,77],[19,78,19,81],[19,82,19,85],[20,74,20,77],[17,54,17,58],[20,82,20,85],[29,11,29,13],[29,14,29,16],[30,11,30,13],[30,14,30,16],[29,41,29,47],[24,96,24,99],[25,92,25,95],[29,92,29,95],[28,61,28,65],[24,69,24,73],[26,74,26,77],[25,87,25,91],[29,74,29,77],[27,29,27,30],[20,100,20,103],[22,7,22,8],[20,11,20,13],[22,29,22,31],[20,16,20,18],[20,21,20,23],[20,25,20,28],[26,25,26,26],[24,29,24,30],[25,25,25,26],[25,27,25,28],[25,31,26,32],[21,25,21,28],[21,32,21,34],[20,32,20,34],[20,87,20,91],[23,50,23,52],[25,54,25,57],[28,50,28,52],[27,54,27,57],[29,50,29,52],[29,20,29,21],[30,20,30,21],[23,11,23,13],[26,27,26,28],[29,18,29,19],[39,68,39,74],[34,50,34,52],[34,41,34,47],[36,41,36,47],[36,29,36,30],[36,76,36,78],[40,13,40,15],[37,76,37,78],[40,16,40,18],[39,50,39,52],[40,29,40,30],[38,68,38,74],[24,50,24,52],[30,78,30,81],[26,78,26,81],[30,69,30,73],[25,74,25,77],[25,78,25,81],[27,69,27,73],[27,74,27,77],[28,69,28,73],[28,74,28,77],[40,32,40,35],[39,61,39,65],[41,16,41,18],[41,19,41,21],[42,16,42,18],[24,100,24,103],[25,96,25,99],[24,61,24,65],[24,74,24,77],[24,78,24,81],[25,33,26,34],[26,82,26,85],[25,35,26,36],[24,41,24,47],[26,50,26,52],[27,50,27,52],[33,54,33,57],[34,18,34,19],[34,61,34,65],[31,14,31,16],[31,20,31,21],[30,82,30,85],[29,82,29,85],[29,87,29,91],[30,87,30,91],[27,82,27,85],[24,87,24,91],[25,82,25,85],[26,69,26,73],[30,74,30,77],[27,78,27,81],[27,87,27,91],[24,82,24,85],[29,78,29,81],[39,54,39,57],[40,4,40,6],[40,7,40,9],[40,10,40,12],[40,19,40,21],[35,41,35,47],[34,20,34,21],[34,14,34,16],[34,22,34,24],[37,41,37,47],[36,36,36,37],[30,41,30,47],[38,61,38,65],[36,50,36,52],[36,54,36,57],[37,54,37,57],[37,61,37,65],[38,54,38,57],[34,5,34,7],[34,8,34,10],[31,11,31,13],[30,5,30,7],[30,8,30,10],[36,61,36,65],[55,35,55,38],[56,7,56,9],[58,0,58,6],[40,54,40,57],[40,41,40,47],[40,50,40,52],[35,50,35,52],[41,61,41,65],[41,41,41,47],[42,22,42,24],[40,36,40,37],[40,76,41,78],[43,68,44,83],[43,61,43,65],[39,80,39,83],[40,80,41,83],[42,80,42,83],[40,68,41,74],[42,68,42,74],[40,61,40,65],[42,54,42,57],[42,41,42,47],[41,36,41,37],[41,32,41,35],[44,19,44,24],[43,50,43,52],[43,41,43,47],[42,36,42,37],[42,19,42,21],[41,22,41,24],[42,32,42,35],[41,54,41,57],[41,29,41,30],[45,25,45,28],[56,0,56,6],[56,10,56,12],[57,7,57,9],[64,22,64,24],[63,22,63,24],[63,7,63,9],[51,25,51,28],[53,33,53,34],[60,22,60,24],[57,25,57,29],[57,31,57,33],[46,32,46,35],[53,25,53,27],[50,25,50,28],[48,22,48,24],[46,25,46,28],[55,13,55,15],[55,31,55,34],[61,19,61,21],[58,13,58,15],[61,7,61,9],[57,16,57,18],[55,19,55,21],[55,22,55,24],[45,29,45,30],[48,10,48,12],[47,10,47,12],[55,16,55,18],[62,22,62,24],[56,13,56,15],[49,40,49,46],[44,36,44,37],[49,51,49,54],[45,36,45,37],[42,50,42,52],[41,4,41,6],[41,7,41,9],[41,10,41,12],[46,29,46,30],[47,16,47,18],[44,25,44,28],[42,4,42,6],[42,7,42,9],[55,0,55,6],[47,7,47,9],[55,10,55,12],[48,0,48,1],[48,7,48,9],[55,7,55,9],[44,0,45,1],[42,10,42,12],[44,32,44,35],[42,13,42,15],[44,29,44,30],[41,13,41,15],[47,22,47,24],[45,32,45,35],[46,0,46,1],[54,25,54,32],[51,33,51,35],[47,19,47,21],[47,0,47,1],[51,29,51,32],[46,36,46,37],[55,40,55,43],[54,48,54,51],[55,48,55,50],[55,44,55,46],[54,44,54,47],[45,85,45,90],[50,88,50,91],[42,76,42,78],[43,54,43,57],[52,81,52,83],[50,51,50,54],[48,81,48,83],[45,58,45,62],[42,61,42,65],[49,78,49,80],[49,69,49,76],[48,57,48,60],[50,69,50,76],[55,25,55,30],[50,60,50,62],[50,78,50,80],[52,78,52,80],[53,81,53,83],[52,69,52,76],[51,81,51,83],[51,78,51,80],[49,88,49,91],[49,63,49,67],[50,56,50,58],[50,48,50,50],[47,13,47,15],[48,51,48,54],[50,64,50,67],[48,13,48,15],[48,16,48,18],[48,19,48,21],[50,0,51,24],[48,69,48,76],[49,55,49,58],[54,92,54,95],[58,62,58,64],[51,36,51,38],[53,36,53,37],[50,29,50,32],[50,33,50,38],[52,88,52,91],[51,92,51,95],[53,69,53,76],[56,84,56,87],[56,69,56,76],[55,69,55,76],[54,81,54,83],[55,81,55,83],[53,84,53,87],[56,78,56,80],[56,81,56,83],[54,78,54,80],[50,81,50,83],[51,84,51,87],[53,78,53,80],[50,84,50,87],[52,84,52,87],[56,40,56,43],[57,40,57,43],[57,59,57,61],[58,59,58,61],[57,10,57,12],[58,22,58,24],[57,22,57,24],[56,16,56,18],[58,19,58,21],[58,53,58,55],[58,45,58,47],[57,13,57,15],[60,10,60,12],[57,35,57,37],[58,56,58,58],[60,44,60,49],[58,49,58,51],[60,50,60,54],[57,56,57,58],[57,19,57,21],[60,40,60,43],[59,44,59,59],[59,19,59,21],[59,16,59,18],[59,22,59,24],[60,13,60,15],[56,19,56,21],[60,55,60,59],[60,0,60,6],[62,16,62,18],[57,52,57,55],[57,44,57,47],[57,48,57,51],[58,10,58,12],[59,13,59,15],[59,7,59,9],[62,7,62,9],[58,7,58,9],[60,7,60,9],[62,10,62,12],[61,0,61,6],[61,22,61,24],[61,16,61,18],[61,50,61,54],[61,44,61,49],[58,40,58,43],[60,19,60,21],[62,0,62,6],[57,0,57,6],[60,16,60,18],[58,16,58,18],[59,0,59,6],[61,40,61,43],[68,0,68,6],[65,7,65,9],[66,7,66,9],[67,0,67,6],[66,0,66,6],[65,0,65,6],[67,7,67,9],[66,10,66,12],[68,35,68,37],[68,19,68,21],[63,19,63,21],[65,19,65,21],[64,0,64,6],[64,10,64,12],[64,7,64,9],[63,0,63,6],[68,25,68,28],[68,10,68,12],[68,22,68,24],[68,16,68,18],[67,16,67,18],[67,13,67,15],[66,13,66,15],[64,19,64,21],[63,13,63,15],[65,10,65,12],[65,22,65,24],[68,7,68,9],[68,86,68,88],[65,74,65,77],[62,69,62,72],[67,10,67,12],[67,40,67,43],[59,60,59,63],[60,60,60,63],[70,78,70,79],[61,64,61,67],[60,86,60,91],[62,13,62,15],[65,84,65,87],[66,35,66,38],[67,63,67,67],[67,49,67,53],[67,54,67,57],[68,49,68,53],[61,13,61,15],[62,19,62,21],[59,10,59,12],[61,10,61,12],[68,13,68,15],[67,19,67,21],[72,29,72,30],[72,32,72,33],[68,32,68,33],[68,29,68,30],[55,84,55,87],[55,88,55,91],[54,96,54,99],[60,36,60,37],[61,36,61,37],[70,63,70,67],[56,49,56,54],[54,52,54,55],[68,44,68,48],[70,44,70,48],[61,60,61,63],[61,55,61,59],[64,69,64,72],[62,29,62,30],[65,58,65,64],[61,69,61,72],[70,49,70,53],[67,68,70,72],[69,29,69,30],[71,84,72,103],[54,60,54,67],[70,80,70,82],[70,101,70,103],[70,95,70,97],[62,76,62,78],[66,77,66,91],[65,89,65,92],[65,79,65,82],[78,73,78,77],[73,96,73,102],[61,81,61,84],[53,92,53,95],[54,88,54,91],[53,88,53,91],[55,56,55,58],[76,97,76,100],[73,87,73,93],[74,88,74,92],[68,92,68,94],[68,80,68,82],[70,54,70,57],[55,100,55,103],[57,62,57,64],[76,58,76,62],[77,58,77,62],[71,63,71,67],[68,63,68,67],[69,40,69,67],[68,40,68,43],[77,40,77,43],[76,70,76,73],[67,89,67,91],[68,95,68,97],[67,83,67,85],[68,77,68,79],[67,80,67,82],[67,58,67,62],[65,69,65,72],[68,73,68,76],[68,83,68,85],[14,68,15,82],[14,83,15,96],[16,75,16,96],[20,96,20,99],[30,92,30,95],[47,84,47,87],[47,88,47,91],[26,96,26,99],[39,98,39,101],[36,98,36,101],[27,100,27,103],[29,100,29,103],[41,98,41,101],[40,94,40,96],[37,94,37,96],[26,100,26,103],[28,100,28,103],[29,96,29,99],[30,100,30,103],[46,100,46,103],[35,99,35,102],[36,94,36,96],[37,98,37,101],[28,96,28,99],[26,92,26,95],[30,96,30,99],[32,74,32,77],[32,78,32,81],[47,96,47,99],[47,100,47,103],[31,78,31,81],[31,82,31,85],[21,96,21,99],[17,92,17,95],[21,82,21,85],[26,87,26,91],[28,87,28,91],[27,92,27,95],[27,96,27,99],[28,92,28,95],[36,80,36,83],[38,76,38,78],[48,96,48,99],[48,84,48,87],[45,78,45,83],[47,69,47,76],[47,78,47,80],[47,81,47,83],[48,78,48,80],[38,98,38,101],[39,94,39,96],[38,80,38,83],[32,69,32,73],[35,69,35,73],[35,76,35,78],[31,92,31,95],[35,81,35,84],[47,92,47,95],[39,76,39,78],[37,68,37,74],[36,68,36,74],[17,101,17,102],[21,87,21,91],[23,87,23,91],[57,65,57,67],[77,49,77,53],[52,96,52,99],[53,100,53,103],[51,88,51,91],[48,88,48,91],[49,59,49,62],[49,100,49,103],[46,70,46,75],[32,82,32,85],[42,98,42,101],[49,96,49,99],[49,84,49,87],[48,100,48,103],[41,94,41,96],[42,94,42,96],[48,92,48,95],[49,92,49,95],[50,100,50,103],[51,100,51,103],[51,96,51,99],[50,96,50,99],[53,96,53,99],[52,100,52,103],[50,92,50,95],[52,92,52,95],[45,93,45,102],[40,86,40,92],[42,86,42,92],[63,90,63,92],[62,88,62,90],[68,89,68,91],[46,96,46,99],[80,63,80,67],[78,83,78,87],[80,74,80,76],[80,79,80,81],[78,58,78,62],[77,78,77,82],[49,81,49,83],[51,69,51,76],[65,99,65,102],[73,78,73,84],[70,84,70,85],[70,73,70,76],[74,69,74,75],[74,78,74,84],[70,86,70,88],[60,64,60,67],[72,63,72,67],[78,68,78,72],[78,63,78,67],[63,75,63,77],[55,64,55,66],[55,60,55,63],[54,56,54,59],[78,96,78,99],[78,54,78,57],[78,88,78,91],[78,92,78,95],[56,96,56,99],[56,88,56,91],[63,95,63,97],[55,52,55,54],[60,92,60,97],[56,92,56,95],[70,98,70,100],[67,98,67,103],[70,92,70,94],[54,69,54,76],[55,78,55,80],[31,96,31,99],[37,80,37,83],[70,89,70,91],[60,98,60,103],[62,100,62,102],[56,100,56,103],[62,94,62,96],[63,100,63,102],[55,92,55,95],[55,96,55,99],[68,101,68,103],[31,100,31,103],[41,86,41,92],[32,100,32,103],[39,86,39,92],[35,87,35,91],[35,94,35,96],[38,94,38,96],[37,86,37,92],[38,86,38,92],[36,86,36,92],[54,100,54,103],[54,84,54,87],[43,84,44,103],[40,98,40,101],[79,102,79,103],[83,73,86,103],[80,89,80,91],[80,83,80,87],[82,49,82,53],[82,54,82,57],[81,54,81,57],[71,68,72,83],[70,58,70,62],[65,44,65,50],[81,68,82,103],[80,97,80,99],[65,54,65,57],[58,65,58,67],[71,54,71,57],[62,82,62,84],[63,85,63,87],[84,49,84,53],[77,92,77,95],[76,88,76,91],[65,94,65,97],[66,40,66,67],[80,44,80,48],[70,40,70,43],[82,44,82,48],[78,100,78,103],[77,88,77,91],[76,79,76,82],[71,58,71,62],[74,44,74,48],[72,40,72,43],[57,68,58,103],[80,40,80,43],[80,49,80,53],[75,40,75,43],[80,58,80,62],[81,63,81,67],[89,73,92,103],[80,54,80,57],[91,50,91,52],[90,62,90,64],[90,65,90,67],[89,62,89,64],[84,54,84,57],[79,49,79,53],[75,54,75,57],[75,63,75,67],[74,63,74,67],[80,101,80,103],[82,63,82,67],[80,69,80,71],[90,51,90,52],[90,53,90,55],[88,51,88,54],[77,63,77,67],[77,83,77,87],[78,78,78,82],[76,63,76,67],[83,54,83,57],[77,54,77,57],[80,93,80,95],[79,98,79,99],[81,44,81,48],[74,97,74,101],[71,44,71,48],[82,40,82,43],[71,25,71,28],[80,35,81,38],[73,49,73,53],[76,44,76,48],[72,44,72,48],[79,40,79,43],[70,32,70,33],[71,40,71,43],[81,58,81,62],[74,58,74,62],[75,58,75,62],[72,54,72,57],[82,58,82,62],[75,44,75,48],[73,44,73,48],[77,44,77,48],[73,54,73,57],[72,58,72,62],[73,58,73,62],[76,54,76,57],[74,54,74,57],[81,40,81,43],[75,49,75,53],[72,49,72,53],[74,49,74,53],[71,49,71,53],[78,49,78,53],[79,54,79,57],[73,29,73,30],[73,40,73,43],[24,0,25,24],[63,16,63,18],[64,13,64,15],[64,16,64,18],[87,6,87,8],[87,14,87,16],[63,10,63,12],[81,10,81,12],[81,13,81,15],[81,7,81,9],[72,13,72,15],[81,32,81,34],[70,13,70,15],[71,13,71,15],[54,40,54,43],[69,13,69,15],[66,16,66,18],[65,16,65,18],[65,13,65,15],[67,22,67,24],[72,7,72,9],[65,40,65,43],[66,19,66,21],[66,22,66,24],[66,32,66,34],[72,16,72,18],[69,25,69,28],[85,17,85,24],[84,40,84,43],[86,17,86,21],[73,35,73,37],[71,35,71,37],[88,28,88,29],[87,22,87,24],[86,6,86,8],[86,9,86,13],[86,22,86,24],[83,16,83,18],[86,14,86,16],[88,6,88,8],[88,14,88,16],[88,22,88,24],[90,22,90,24],[73,13,73,15],[83,29,83,30],[82,7,82,9],[82,16,82,18],[74,0,75,24],[73,16,73,18],[82,10,82,12],[82,13,82,15],[85,2,85,8],[85,9,85,16],[83,19,83,21],[86,2,86,5],[83,4,83,6],[81,16,81,18],[74,29,74,30]],"merged_total":1086,"flags":["merged_cut"]}
[{"$f":"+データ一覧!M5","v":0}]
[{"$f":"+データ一覧!M8","v":0}]
[null,null,null,null,null,null,null,null,null,null,null,null,null,null,null,null,null,null,null,null,null,null,null,null,null,null,null,null,null,null,null,null,null,null,null,null,null,null,null,null,0]
[null,null,null,null,null,null,null,null,null,null,null,null,null,null,null,null,null,null,null,null,null,null,null,null,null,null,null,"【市章とそのいわれ】あわら市の頭文字である、アルファベット",null,null,null,null,null,null,null,null,null,null,null,null," 【位置および地勢】あわら市は、福井県の最北端に位置し、西および南は",null,null,null,null,null,null,null,null,null,null,null,null,null,null,null,null,null,null,null,null,null,null,null,null,null,null,null,null,null,null,"所在地",null,null,null,null,null,null,null,"〒919-0692"]
[null,null,null,null,null,null,null,null,null,null,null,null,null,null,null,null,null,null,null,null,null,null,null,null,null,null,null," 　　　　　　　  小文字の「a」をモチーフにデザイン化した。",null,null,null,null,null,null,null,null,null,null,null,null,null,"坂井市、北東は石川県加賀市に隣接し、北西は日本海に面している。",null,null,null,null,null,null,null,null,null,null,null,null,null,null,null,null,null,null,null,null,null,null,null,null,null,null,null,null,null,null,null,null,null,null,null,null,null,"あわら市市姫三丁目１番１号"]
[{"$f":"+データ一覧!M6","v":"あわらし"},null,null,null,null,null,null,null,null,null,null,null,null,null,null,null,null,null,null,null,null,null,null,null,null,null,null," 　　　　　　　　緑の山並みをバックに、自然に囲まれ、黄色く",null,null,null,null,null,null,null,null,null,null,null,null,null,"面積は、116.98ｋ㎡で、地形は北部の丘陵地、南西部の平坦地、東部の"]
[{"$f":"データ一覧!M9","v":"あわら市"},null,null,null,null,null,null,null,null,null,null,null,null,null,null,null,null,null,null,null,null,null,null,null,null,null,null," 　　　　　　　  輝くあわら市を表現している。 ",null,null,null,null,null,null,null,null,null,null,null,null,null,"山岳地帯と大きく３つに分かれており、南北に北潟湖が横たわり、東西には",null,null,null,null,null,null,null,null,null,null,null,null,null,null,null,null,null,null,null,null,null,null,null,null,null,null,null,null,null,"電話番号",null,null,null,null,null,null,null,"（０７７６）７３－１２２１"]
[null,null,null,null,null,null,null,null,null,null,null,null,null,null,null,null,null,null,null,null,null,null,null,null,null,null,null,null,null,null,null,null,null,null,null,null,null,null,null,null,null,"竹田川が流れている。美しい日本海と静かな湖や川、優れた泉質の温泉、",null,null,null,null,null,null,null,null,null,null,null,null,null,null,null,null,null,null,null,null,null,null,null,null,null,null,null,null,null,"FAX番号",null,null,null,null,null,null,null,"     〃     ７３－１３５０"]
[null,null,null,null,null,null,null,null,null,null,null,null,null,null,null,null,null,null,null,null,null,null,null,null,null,null,null,null,null,null,null,null,null,null,null,null,null,null,null,null,null,"太陽をいっぱいあびた農作物など、自然の恵みにあふれたところである。"]
[null,null,null,null,null,null,null,null,null,null,null,null,null,null,null,null,null,null,null,null,null,null,null,null,null,null,null,0,null,null,null,null,null,null,null,null,null,null,null,null,null,"気候は、北陸地方の中でも比較的温暖で、気象環境は過ごしやすいものと",null,null,null,null,null,null,null,null,null,null,null,null,null,null,null,null,null,null,null,null,null,null,null,null,null,null,null,null,null,"最寄駅および距離",null,null,null,null,null,null,null,"ＪＲ北陸本線芦原温泉駅　下車８００ｍ"]
[null,null,null,null,null,null,null,null,null,null,null,null,null,null,null,null,null,null,null,null,null,null,null,null,null,null,null,0,null,null,null,null,null,null,null,null,null,null,null,null,null,"なっている。"]
[]
[null,null,null,null,null,null,null,null,null,null,null,null,null,null,null,null,null,null,null,null,null,null,null,null,null,null,null,"【市が掲げる標語】暮らしやすくて　幸せを実感できるまち",null,null,null,null,null,null,null,null,null,null,null,null,null,null,null,null,null,null,null,null,null,null,null,null,null,null,null,null,null,null,null,null,null,null,null,null,null,null,null,null,null,null,null,"ホームページ",null,null,null,null,null,null,null,"http://www.city.awara.lg.jp/"]
[]
["  １  土            　　地",null,null,null,null,null,null,null,null,null,null,null,null,null,null,null,null,null,null,null,null,null,null,null,null,{"$f":"データ一覧!$A$247","v":"元年"},"産米収穫量",null,null,"　 収　穫　量",null,null," 　作 付 面 積",null,null,"   10a当たり収量",null,null,null,null,null,null,null,null,null,null,null,null,null,null,null,null,null,null,null,null,null,null,null,null,null,null,null,null,null,null,null,null," １５  労　　　　　　　働",null,null,null,null,null,null,null,null,null,null,null,null,null,null,"27.10.1"]
[null,null,null,null,null,null,null,null,null,null,null,null,null,null,null,null,null,null,null,null,null,null,null,null,null,null,null,null,null,{"$f":"データ一覧!$M$247","v":9440},null,"t",{"$f":"データ一覧!$M$248","v":1770},null,"ha",{"$f":"データ一覧!M249","v":532},null,null,"kg",null," １０  工　　　　　　業 ",null,null,null,null,null,null,null,null,null,null,null,null,null,{"$f":"データ一覧!$A$339","v":"元.6.1（平成30年実績）"}]
["   総          面           積",null,null,null,null,null,null,null,null,null," 固 定 資 産 概 要 調 書 に よ る 地 目 別 面 積",null,null,null,null,null,null,null,null,null,null,null,null,null,null,null,null,null,"   総　　　数",null,null,null,"うち　　田",null,null,null,"うち　　畑",null,null,null,null,null,null,null,null,null,null,null,null,null,null,null,null,null,null,null,null,null,null,null,null,null,null,null,null,null,null,null,null,null,null,null,null,null,null,"産業別就業者数   "]
[null,null,{"$f":"データ一覧!$A$10","v":"2.10.1"},null,null,null,null,null,null,null,null,null,null,null,null,null,{"$f":"データ一覧!$A$12","v":"2.1.1"},null,null,null,null,null,null,null,null," 耕  地  面  積",null,null,null,"       ha",null,null,"ha ",null,null,null,"ha ",null,null,null,"      ","産業分類",null,null,null,null,null,null,null,"事業所数",null,null,null,null,"従業者数",null,null,null,null,null,"年間製造品出荷額等",null,null,null,null,null,null,null,null,"区  分",null,null,null,null,"総    数",null,null,null,null,"男",null,null,null,"女",null,null,"  ","区  分",null,null,null,null,"総    数",null,null,null,null,"男",null,null,null,"女"]
[null,null,null,null,null,null,"㎢",null,null,null,"   総       数",null,null,null,null,"  う ち     田",null,null,null,null,"  う ち     畑",null,null,null,null,{"$f":"データ一覧!$A$250","v":"元.7.15"},null,null,{"$f":"データ一覧!$M$250","v":3420},null,null,{"$f":"データ一覧!$M$251","v":2600},null,null,null,{"$f":"データ一覧!$M$252","v":822},null,null,null,null,null,null,null,null,null,null,null,null,null,"　　   ",null,null,"事業所",null,"　　　　　　　 人",null,null,"人",null,"　　　　　　　　　　　　　　万円",null,null,null,null,null,null,"万円",null,null,null,null,null,null,null,"      人",null,null,null,null,null," 人",null,null,null," 人",null,null,null,null,null,null,null,"      人",null,null,null,"      人",null,null,null,"      人"]
[null,null,null,{"$f":"データ一覧!M10","v":116.98},null,null,null,null,null,null,null,null,null,null,"ha",null,null,null,null,"ha",null,null,null,null,"ha","農 業 生 産 物",null,null,null,"作 付 面 積",null,null,"収 穫 量",null,null,"10a当たり収量",null,null,null,null,"     ","総数",null,null,null,null,null,null,null,null,{"$f":"データ一覧!M339","v":79},null,null,null,{"$f":"+データ一覧!M364","v":4441},null,null,null,null,null,null,{"$f":"データ一覧!M389","v":19569663},null,null,null,null,null,null," 総　　　数",null,null,null,null,null,{"$f":"CA20+CE20","v":15132},null,null,null,{"$f":"データ一覧!M514","v":8033},null,null,null,{"$f":"データ一覧!M539","v":7099}]
[null,null,null,null,null,null,null,null,null,null,null,{"$f":"データ一覧!M12","v":8972.1},null,null,null,null,{"$f":"データ一覧!M13","v":2680.7},null,null,null,null,{"$f":"データ一覧!M14","v":894.1},null,null,null,{"$f":"データ一覧!$A$253","v":"元年中"},null,null,null,"ha",null,null,"t",null,null,"kg",null,null,null,null,"     食料品","食料品",null,null,null,null,null,null,null,null,{"$f":"データ一覧!M340","v":2},null,null,null,{"$f":"+データ一覧!M365","v":41},null,null,null,null,null,null,{"$f":"データ一覧!M390","v":"x"},null,null,null,null,null,null,null,null,null,null,null,null,null,null,null,null,null,null,null,null,null,null,null,null,null,"卸売業,小売業",null,null,null,null,{"$f":"CS21+CW21","v":2070},null,null,null,{"$f":"データ一覧!M527","v":912},null,null,null,{"$f":"データ一覧!M552","v":1158}]
["  町 ･ 丁 ･ 大 字",null,null,null,null,null,null,null,null,null,"  う ち  宅 地",null,null,null,null,"  う ち  山 林",null,null,null,null,"  う ち  原 野",null,null,null,null,"水　　　　　稲",null,null,null,{"$f":"データ一覧!M253","v":1770},null,null,{"$f":"データ一覧!M254","v":9440},null,null,{"$f":"データ一覧!M255","v":532},null,null,null,null,"     飲料・飼料","飲料・飼料",null,null,null,null,null,null,null,null,{"$f":"データ一覧!M341","v":0},null,null,null,{"$f":"+データ一覧!M366","v":0},null,null,null,null,null,null,{"$f":"データ一覧!M391","v":0},null,null,null,null,null,null," 第１次産業",null,null,null,null,null,{"$f":"CA22+CE22","v":923},null,null,null,{"$f":"データ一覧!M515","v":610},null,null,null,{"$f":"データ一覧!M540","v":313},null,null,null,null,"金融業,保険業",null,null,null,null,{"$f":"CS22+CW22","v":314},null,null,null,{"$f":"データ一覧!M528","v":130},null,null,null,{"$f":"データ一覧!M553","v":184}]
["  区    画    数",null,null,null,null,null,null,{"$f":"データ一覧!M11","v":125},null,null,null,null,null,null,"ha",null,null,null,null,"ha",null,null,null,null,"ha","六　条　大　麦",null,null,null,{"$f":"データ一覧!M256","v":572},null,null,{"$f":"データ一覧!M257","v":1730},null,null,{"$f":"データ一覧!M258","v":302},null,null,null,null,"     繊維","繊維",null,null,null,null,null,null,null,null,{"$f":"データ一覧!M342","v":21},null,null,null,{"$f":"+データ一覧!M367","v":477},null,null,null,null,null,null,{"$f":"データ一覧!M392","v":588554},null,null,null,null,null,null,"  ","農業",null,null,null,null,{"$f":"CA23+CE23","v":893},null,null,null,{"$f":"データ一覧!M516","v":583},null,null,null,{"$f":"データ一覧!M541","v":310},null,null,null,"  ","不動産業",null,null,null,null,90,null,null,null,{"$f":"データ一覧!M529","v":55},null,null,null,{"$f":"データ一覧!M554","v":35}]
[{"$f":"データ一覧!$A$11","v":"31.4.1"},null,null,null,null,null,null,null,null,null,null,{"$f":"データ一覧!M15","v":870.8},null,null,null,null,{"$f":"データ一覧!M16","v":2171.6},null,null,null,null,{"$f":"データ一覧!M17","v":94.9},null,null,null,"大　　      豆",null,null,null,{"$f":"データ一覧!M259","v":347},null,null,{"$f":"データ一覧!M260","v":448},null,null,{"$f":"データ一覧!M261","v":129},null,null,null,null,"     衣服","木材",null,null,null,null,null,null,null,null,{"$f":"データ一覧!M343","v":0},null,null,null,{"$f":"+データ一覧!M368","v":0},null,null,null,null,null,null,{"$f":"データ一覧!M393","v":0},null,null,null,null,null,null,"  ","林業",null,null,null,null,24,null,null,null,{"$f":"データ一覧!M517","v":21},null,null,null,{"$f":"データ一覧!M542","v":3},null,null,null,"  ","学術研究",null,null,null,null,322,null,null,null,{"$f":"データ一覧!M530","v":209},null,null,null,{"$f":"データ一覧!M555","v":113}]
["  ２  世　帯　数　と　人　口",null,null,null,null,null,null,null,null,null,null,null,null,null,null,null,null,null,null,null,null,null,null,null,null,null,null,"  区　分",null," 乳 用 牛",null," 肉 用 牛",null,"豚",null,"採卵鶏",null,"ブロイラー",null,null,"     木材","家具",null,null,null,null,null,null,null,null,{"$f":"データ一覧!M344","v":2},null,null,null,{"$f":"+データ一覧!M369","v":31},null,null,null,null,null,null,{"$f":"データ一覧!M394","v":"x"},null,null,null,null,null,null,"  ","漁業",null,null,null,null,6,null,null,null,{"$f":"データ一覧!M518","v":6},null,null,null,{"$f":"データ一覧!M543","v":0},null,null,null,"  ","宿泊業,飲食ｻｰﾋﾞｽ",null,null,null,null,1238,null,null,null,{"$f":"データ一覧!M531","v":447},null,null,null,{"$f":"データ一覧!M556","v":791}]
[null,null,null,null,null,null,null,null,null,null,null,null,null,null,null,null,null,null,null,null,null,null,null,null,null,"畜　産",null," 飼養農家",null,{"$f":"データ一覧!$M$262","v":2},null,{"$f":"データ一覧!$M$264","v":"-"},null,{"$f":"データ一覧!$M$266","v":"-"},null,{"$f":"データ一覧!$M$268","v":3},null,{"$f":"データ一覧!$M$270","v":"-"},null,null,"     家具","パルプ・紙",null,null,null,null,null,null,null,null,{"$f":"データ一覧!M345","v":3},null,null,null,{"$f":"+データ一覧!M370","v":180},null,null,null,null,null,null,{"$f":"データ一覧!M395","v":2347653},null,null,null,null,null,null," 第２次産業",null,null,null,null,null,4711,null,null,null,{"$f":"データ一覧!M519","v":3153},null,null,null,{"$f":"データ一覧!M544","v":1558},null,null,null,"  ","生活関連ｻｰﾋﾞｽ業",null,null,null,null,593,null,null,null,{"$f":"データ一覧!M532","v":212},null,null,null,{"$f":"データ一覧!M557","v":381}]
[null,null,null,null,null,null,null,null,"        人　　　　　　　　　　口",null,null,null,null,null,null,null,null,null,null,null,"１世帯当",null,"人    口",null,null,{"$f":"データ一覧!$A$262","v":"2.3.31"},null,"（戸）",null,null,null,null,null,null,null,null,null,null,null,null,"     パルプ・紙","印刷",null,null,null,null,null,null,null,null,{"$f":"データ一覧!M346","v":2},null,null,null,{"$f":"+データ一覧!M371","v":14},null,null,null,null,null,null,{"$f":"データ一覧!M396","v":"x"},null,null,null,null,null,null,null,"鉱業，採石業",null,null,null,null,1,null,null,null,{"$f":"データ一覧!M520","v":1},null,null,null,{"$f":"データ一覧!M545","v":0},null,null,null,"  ","教育,学習支援業",null,null,null,null,685,null,null,null,{"$f":"データ一覧!M533","v":268},null,null,null,{"$f":"データ一覧!M558","v":417}]
[" 区　　　　分",null,null,null,null,"世帯数",null,null," 総   数",null,null,"    男",null,null,"    女",null,null,"  男／女",null,null,"たり人員",null,"密    度",null,null,null,null," 頭 羽",null,{"$f":"データ一覧!$M$263","v":125},null,{"$f":"データ一覧!$M$265","v":"-"},null,{"$f":"データ一覧!$M$267","v":"-"},null,{"$f":"データ一覧!$M$269","v":198625},null,{"$f":"データ一覧!$M$271","v":"-"},null,null,"     出版・印刷","化学",null,null,null,null,null,null,null,null,{"$f":"データ一覧!M347","v":2},null,null,null,{"$f":"+データ一覧!M372","v":935},null,null,null,null,null,null,{"$f":"データ一覧!M397","v":"x"},null,null,null,null,null,null,"  ","建設業",null,null,null,null,1032,null,null,null,{"$f":"データ一覧!M521","v":863},null,null,null,{"$f":"データ一覧!M546","v":169},null,null,null,null,"医療，福祉",null,null,null,null,1697,null,null,null,{"$f":"データ一覧!M534","v":365},null,null,null,{"$f":"データ一覧!M559","v":1332}]
[null,null,null,null,null,"    世 帯",null,null,"       人",null,null,"       人",null,null,"       人",null,null,null,"　　％",null,"    人",null,"    人/㎢",null,null,null,null,null,null,null,null,null,null,null,null,null,null,null,null,null,"     化学","石油・石炭",null,null,null,null,null,null,null,null,{"$f":"データ一覧!M348","v":0},null,null,null,{"$f":"+データ一覧!M373","v":0},null,null,null,null,null,null,{"$f":"データ一覧!M398","v":0},null,null,null,null,null,null,null,"製造業",null,null,null,null,3678,null,null,null,{"$f":"データ一覧!M522","v":2289},null,null,null,{"$f":"データ一覧!M547","v":1389},null,null,null,null,"複合サービス事業",null,null,null,null,232,null,null,null,{"$f":"データ一覧!M535","v":146},null,null,null,{"$f":"データ一覧!M560","v":86}]
[{"$f":"データ一覧!$A$25","v":" 2.10.1"},null,null,null,null,{"$f":"データ一覧!M25","v":8708},null,null,{"$f":"+L30+O30","v":31743},null,null,{"$f":"データ一覧!M27","v":14885},null,null,{"$f":"データ一覧!M28","v":16858},null,null,null,{"$f":"+L30/O30*100","v":88.296357812314625},null,{"$f":"データ一覧!M30","v":3.65},null,{"$f":"データ一覧!M24","v":0},null,null,"  ５  林               業",null,null,null,null,null,null,null,null,null,null,null,null,null,null,"     石油・石炭","プラスチック",null,null,null,null,null,null,null,null,{"$f":"データ一覧!M349","v":5},null,null,null,{"$f":"+データ一覧!M374","v":100},null,null,null,null,null,null,{"$f":"データ一覧!M399","v":109988},null,null,null,null,null,null," 第３次産業",null,null,null,null,null,9345,null,null,null,{"$f":"データ一覧!M523","v":4190},null,null,null,{"$f":"データ一覧!M548","v":5155},null,null,null,null,"サービス業",null,null,null,null,699,null,null,null,{"$f":"データ一覧!M536","v":418},null,null,null,{"$f":"データ一覧!M561","v":281}]
[{"$f":"データ一覧!$A$32","v":" 7.10.1"},null,null,null,null,{"$f":"データ一覧!M32","v":9327},null,null,{"$f":"+L31+O31","v":32432},null,null,{"$f":"データ一覧!M34","v":15174},null,null,{"$f":"データ一覧!M35","v":17258},null,null,null,87.924440839031178,null,{"$f":"データ一覧!M37","v":3.48},null,{"$f":"データ一覧!M31","v":0},null,null,null,null,null,null,null,null,null,null,null,null,null,null,null,null,null,"     プラスチック","ゴム",null,null,null,null,null,null,null,null,{"$f":"データ一覧!M350","v":0},null,null,null,{"$f":"+データ一覧!M375","v":0},null,null,null,null,null,null,{"$f":"データ一覧!M400","v":0},null,null,null,null,null,null,null,"電気･ｶﾞｽ･水道業",null,null,null,null,50,null,null,null,{"$f":"データ一覧!M524","v":40},null,null,null,{"$f":"データ一覧!M549","v":10},null,null,null,null,"公務",null,null,null,null,493,null,null,null,{"$f":"データ一覧!M537","v":346},null,null,null,{"$f":"データ一覧!M562","v":147}]
[{"$f":"データ一覧!$A$39","v":"12.10.1"},null,null,null,null,{"$f":"データ一覧!M39","v":9562},null,null,{"$f":"+L32+O32","v":32178},null,null,{"$f":"データ一覧!M41","v":15072},null,null,{"$f":"データ一覧!M42","v":17106},null,null,null,88.109435285864606,null,{"$f":"データ一覧!M44","v":3.37},null,{"$f":"データ一覧!M38","v":0},null,null,"    　森　　　林　　　総　　　面　　　積   ",null,null,null,null,null,null,null,{"$f":"データ一覧!$A$272","v":"2.3.31"},null,null,null,null,null,null,"     ゴム","皮革",null,null,null,null,null,null,null,null,{"$f":"データ一覧!M351","v":0},null,null,null,{"$f":"+データ一覧!M376","v":0},null,null,null,null,null,null,{"$f":"データ一覧!M401","v":0},null,null,null,null,null,null,null,"情報通信業",null,null,null,null,208,null,null,null,{"$f":"データ一覧!M525","v":157},null,null,null,{"$f":"データ一覧!M550","v":51},null,null,null," 分類不能の産業",null,null,null,null,null,153,null,null,null,{"$f":"データ一覧!M538","v":80},null,null,null,{"$f":"データ一覧!M563","v":73}]
[{"$f":"+データ一覧!$A$46","v":"17.10.1"},null,null,null,null,{"$f":"データ一覧!M46","v":9658},null,null,{"$f":"+L33+O33","v":31081},null,null,{"$f":"データ一覧!M48","v":14498},null,null,{"$f":"データ一覧!M49","v":16583},null,null,null,87.426882952421153,null,{"$f":"データ一覧!M51","v":3.22},null,{"$f":"データ一覧!M52","v":265.7},null,null,"　　　森　　　　　　　林　　　　　　　の　　　　　　　構　　　　　　　成",null,null,null,null,null,null,null,null,null,null,null,null,null,null,"     皮革","窯業・土石",null,null,null,null,null,null,null,null,{"$f":"データ一覧!M352","v":7},null,null,null,{"$f":"+データ一覧!M377","v":109},null,null,null,null,null,null,{"$f":"データ一覧!M402","v":489734},null,null,null,null,null,null,"  ","運輸業,郵便業",null,null,null,null,{"$f":"CA33+CE33","v":654},null,null,null,{"$f":"データ一覧!M526","v":485},null,null,null,{"$f":"データ一覧!M551","v":169}]
[{"$f":"+データ一覧!$A$53","v":"22.10.1"},null,null,null,null,{"$f":"+データ一覧!M53","v":9735},null,null,{"$f":"+L34+O34","v":29989},null,null,{"$f":"+データ一覧!M55","v":14081},null,null,{"$f":"+データ一覧!M56","v":15908},null,null,null,88.515212471712346,null,{"$f":"+データ一覧!M58","v":3.08},null,{"$f":"+データ一覧!M59","v":256.3},null,null,null,null,null,null,null,"       ha",null,null,null,null,null,null,"       ha",null,null,"     窯業・土石","鉄鋼",null,null,null,null,null,null,null,null,{"$f":"データ一覧!M353","v":0},null,null,null,{"$f":"+データ一覧!M378","v":0},null,null,null,null,null,null,{"$f":"データ一覧!M403","v":0},null,null,null,null,null,null," １６  社　 会 　福　 祉",null,null,null,null,null,null,null,null,null,null,null,null,null,null,null,{"$f":"データ一覧!$A$564","v":"2.4.1"}]
[{"$f":"データ一覧!$A$60","v":"27.10.1"},null,null,null,null,{"$f":"データ一覧!M60","v":9697},null,null,{"$f":"データ一覧!M61","v":28729},null,null,{"$f":"データ一覧!M62","v":13555},null,null,{"$f":"データ一覧!M63","v":15174},null,null,null,89.330433636483463,null,{"$f":"データ一覧!M65","v":2.9626688666597918},null,{"$f":"データ一覧!M66","v":245.6},null,null,"  総　　　　　   数",null,null,null,{"$f":"データ一覧!M272","v":4441.1299999999992},null,null," 天然林       針葉樹",null,null,null,{"$f":"データ一覧!M275","v":281.75},null,null,null,"     鉄鋼","非鉄金属",null,null,null,null,null,null,null,null,{"$f":"データ一覧!M354","v":1},null,null,null,{"$f":"+データ一覧!M379","v":13},null,null,null,null,null,null,{"$f":"データ一覧!M404","v":"x"}]
[{"$f":"+データ一覧!$A$67","v":"2.10.1"},null,null,null,null,{"$f":"データ一覧!M67","v":9909},null,null,{"$f":"データ一覧!M76","v":27271},null,null,{"$f":"データ一覧!M77","v":12926},null,null,{"$f":"データ一覧!M78","v":14345},null,null,null,{"$f":"+L36/O36*100","v":90.108051585918432},null,{"$f":"データ一覧!M68","v":2.75},null,{"$f":"データ一覧!M69","v":233.12532056761839},null,null,"  人工林     針葉樹",null,null,null,{"$f":"データ一覧!M273","v":3176.3100000000004},null,null," 天然林       広葉樹",null,null,null,{"$f":"データ一覧!M276","v":862.90999999999985},null,null,null,"     非鉄金属","金属",null,null,null,null,null,null,null,null,{"$f":"データ一覧!M355","v":7},null,null,null,{"$f":"+データ一覧!M380","v":412},null,null,null,null,null,null,{"$f":"データ一覧!M405","v":826353},null,null,null,null,null,null,"    ","区分",null,null,null,null,null,null,"施設数",null,null,null,null,"収容定員",null,null,null,null,null,"区分",null,null,null,null,null,null,"施設数",null,null,null,null,"収容定員"]
["年",null,"  区",null," 0歳",null,null,"15歳",null,null,"25歳",null,null,"35歳",null,null,"45歳",null,null,"55歳",null,null,"65歳",null,null,"  人工林     広葉樹",null,null,null,{"$f":"データ一覧!M274","v":25.61},null,null," 竹               林",null,null,null,{"$f":"データ一覧!M277","v":15.75},null,null,null,"     金属","はん用機械",null,null,null,null,null,null,null,null,{"$f":"データ一覧!M356","v":3},null,null,null,{"$f":"+データ一覧!M381","v":37},null,null,null,null,null,null,{"$f":"データ一覧!M406","v":55268},null,null,null,null,null,null,"生活保護施設",null,null,null,null,null,null,null,{"$f":"データ一覧!M564","v":0},null,null,null,{"$f":"データ一覧!M577","v":0},null,null,null,"人",null,"指定障害者支援施設",null,null,null,null,null,null,null,{"$f":"データ一覧!M570","v":1},null,null,null,{"$f":"データ一覧!M583","v":50},null,null,null,"人"]
["齢","令",null,null,null,"～",null,null,"～",null,null,"～",null,null,"～",null,null,"～",null,null,"～",null,null,null,null,null,null,null,null,null,null,null,null,null,null,null,null,null,null,null,"     一般機械","生産用機械",null,null,null,null,null,null,null,null,{"$f":"データ一覧!M357","v":11},null,null,null,{"$f":"+データ一覧!M382","v":653},null,null,null,null,null,null,{"$f":"データ一覧!M407","v":3230013},null,null,null,null,null,null,"地域福祉施設",null,null,null,null,null,null,null,{"$f":"データ一覧!M565","v":0},null,null,null,{"$f":"データ一覧!M578","v":0},null,null,null,null,null,"指定相談支援事業所",null,null,null,null,null,null,null,{"$f":"データ一覧!M571","v":3},null,null,null,{"$f":"データ一覧!M584","v":0}]
["階","元","  分",null,null,null,"14歳",null,null,"24歳",null,null,"34歳",null,null,"44歳",null,null,"54歳",null,null,"64歳",null,null,"以上","    林     野     の     構     成",null,null,null,null,null,null,"保     有     形     態     別",null,null,null,null,null,null,null,"     電気機械","業務用機械",null,null,null,null,null,null,null,null,{"$f":"データ一覧!M358","v":0},null,null,null,{"$f":"+データ一覧!M383","v":0},null,null,null,null,null,null,{"$f":"データ一覧!M408","v":0},null,null,null,null,null,null,"老人福祉施設",null,null,null,null,null,null,null,{"$f":"データ一覧!M566","v":7},null,null,null,{"$f":"データ一覧!M579","v":658},null,null,null,null,null,"児童福祉施設",null,null,null,null,null,null,null,{"$f":"データ一覧!M572","v":18},null,null,null,{"$f":"データ一覧!M585","v":1118}]
["級","・",null,null,null,null,"人",null,null,"人",null,"    人",null,null,"    人",null,null,"    人",null,null,"    人",null,null,"    人",null,null,null,null,null,null,null,"ha",null,null,null,null,null,"       ha",null,null,null,"電子・デバイス",null,null,null,null,null,null,null,null,{"$f":"データ一覧!M359","v":7},null,null,null,{"$f":"+データ一覧!M384","v":1341},null,null,null,null,null,null,{"$f":"データ一覧!M409","v":5077393},null,null,null,null,null,null,"介護保険施設",null,null,null,null,null,null,null,{"$f":"データ一覧!M567","v":48},null,null,null,{"$f":"データ一覧!M580","v":973},null,null,null,null,null,"母子福祉施設",null,null,null,null,null,null,null,{"$f":"データ一覧!M573","v":0},null,null,null,{"$f":"データ一覧!M586","v":0}]
["別","10","総 数",null,{"$f":"+E42+E43","v":2981},null,null,{"$f":"+H42+H43","v":2410},null,null,{"$f":"+K42+K43","v":2208},null,null,{"$f":"+N42+N43","v":2910},null,null,{"$f":"+Q42+Q43","v":3541},null,null,{"$f":"+T42+T43","v":3834},null,null,{"$f":"+W42+W43","v":9370},null,null," 無立木地   伐採跡地",null,null,null,{"$f":"データ一覧!M278","v":7.61},null,null,"国   　　　 　 有",null,null,null,{"$f":"データ一覧!M280","v":44.33},null,null,null,null,"電気機械",null,null,null,null,null,null,null,null,{"$f":"データ一覧!M360","v":3},null,null,null,{"$f":"+データ一覧!M385","v":24},null,null,null,null,null,null,{"$f":"データ一覧!M410","v":29960},null,null,null,null,null,null,"障害者自立支援法施行前からの身体障害者福祉施設",null,null,null,null,null,null,null,{"$f":"データ一覧!M568","v":0},null,null,null,{"$f":"データ一覧!M581","v":0},null,null,null,null,null,"婦人保護施設",null,null,null,null,null,null,null,{"$f":"データ一覧!M574","v":0},null,null,null,{"$f":"データ一覧!M587","v":0}]
["人","・","  男",null,{"$f":"データ一覧!M79","v":1507},null,null,{"$f":"データ一覧!M80","v":1212},null,null,{"$f":"データ一覧!M81","v":1152},null,null,{"$f":"データ一覧!M82","v":1485},null,null,{"$f":"データ一覧!M83","v":1761},null,null,{"$f":"データ一覧!M84","v":1839},null,null,{"$f":"データ一覧!M85","v":3956},null,null," 無立木地   未立木地",null,null,null,{"$f":"データ一覧!M279","v":71.19},null,null,"公       　　  有",null,null,null,{"$f":"データ一覧!M281","v":571.91},null,null,null,"     輸送機械","情報通信機械",null,null,null,null,null,null,null,null,{"$f":"データ一覧!M361","v":0},null,null,null,{"$f":"+データ一覧!M386","v":0},null,null,null,null,null,null,{"$f":"データ一覧!M411","v":0},null,null,null,null,null,null,null,null,null,null,null,null,null,null,null,null,null,null,null,null,null,null,null,null,"その他の社会福祉施設",null,null,null,null,null,null,null,{"$f":"データ一覧!M575+データ一覧!M576","v":0},null,null,null,{"$f":"データ一覧!M588+データ一覧!M589","v":0}]
["口","1","  女",null,{"$f":"データ一覧!M87","v":1474},null,null,{"$f":"データ一覧!M88","v":1198},null,null,{"$f":"データ一覧!M89","v":1056},null,null,{"$f":"データ一覧!M90","v":1425},null,null,{"$f":"データ一覧!M91","v":1780},null,null,{"$f":"データ一覧!M92","v":1995},null,null,{"$f":"データ一覧!M93","v":5414},null,null,null,null,null,null,null,null,null,"私          　 有",null,null,null,{"$f":"データ一覧!M282","v":3824.8900000000003},null,null,null,"     精密機械","輸送機械",null,null,null,null,null,null,null,null,{"$f":"データ一覧!M362","v":2},null,null,null,{"$f":"+データ一覧!M387","v":67},null,null,null,null,null,null,{"$f":"データ一覧!M412","v":"x"},null,null,null,null,null,null,"障害福祉サービス事業所",null,null,null,null,null,null,null,{"$f":"データ一覧!M569","v":34},null,null,null,{"$f":"データ一覧!M582","v":430}]
[null,null,null,null,null,null,null,null,null,null,null,null,null,null,null,null,null,null,null,null,null,null,null,null,null,"            林     産     物     生     産     量 ",null,null,null,null,null,null,null,null,null,{"$f":"データ一覧!$A$283","v":"元年中"},null,null,null,null,"     その他","その他",null,null,null,null,null,null,null,null,{"$f":"データ一覧!M363","v":1},null,null,null,{"$f":"+データ一覧!M388","v":7},null,null,null,null,null,null,{"$f":"データ一覧!M413","v":"x"},null,null,null,null,null,null," １７  教　　　　　　　育",null,null,null,null,null,null,null,null,null,null,null,null,null,null,null,{"$f":"データ一覧!$A$590","v":"2.5.1"}]
["人口動態",null,null,null,null,null,null,"   自　然　動　態",null,null,null,null,null,"   社  会  動  態",null,null,null,null,null,{"$f":"データ一覧!$A74","v":"31.1.1～元.12.31"},null,null,null,null,null,"生椎茸",null,null,null,{"$f":"データ一覧!M283","v":"-"},null,"㎏","乾椎茸",null,null,null,{"$f":"データ一覧!M284","v":"-"},null,"㎏"]
[null,null,"   区       分",null,null,null,null," 出   生",null,null," 死   亡",null,null," 転   入",null,null," 転   出",null,null," 婚   姻",null,null," 離   婚",null,null,"えのきだけ",null,null,null,{"$f":"データ一覧!M286","v":"-"},null,"㎏","なめこ",null,null,null,{"$f":"データ一覧!M285","v":"-"},null,"㎏",null,"    ","工　業　用　水　量",null,null,null,null,null,"（従業者30人以上の事業所）",null,null,null,null,null,null,null,null,null,null,{"$f":"データ一覧!M414","v":16012},null,null,null,null,"㎥／日",null,null,null,null,null,null,null,null,null,null,null,null,null,null,"学校数（校）",null,null,null,null,null,null,"教員数（人）",null,null,null,null,null,null,null,"学生・生徒・児童数（人）"]
[{"$f":"LEFT(データ一覧!$A70,7)","v":"元.10.1～"},null,null,null,null,null,null,"       人",null,null,"       人",null,null,"       人",null,null,"       人",null,null,null,"    件",null,null,"    件",null,"ひらたけ",null,null,null,{"$f":"+データ一覧!M287","v":"-"},null,"㎏","まいたけ",null,null,null,{"$f":"+データ一覧!M288","v":"-"},null,"㎏",null,null,null,null,null,null,null,null,null,null,null,null,null,null,null,null,null,null,null,null,null,null,null,null,null,null,null,null,null,null,"　","区分",null,null,null,null,null,null,null," 本 校",null,null," 分 校",null,null," 本   務",null,null,null," 兼   務",null,null,null," 総   数",null,null,null,"男",null,null,null,"女"]
["～",null," 実          数",null,null,null,null,{"$f":"データ一覧!M70","v":164},null,null,{"$f":"データ一覧!M71","v":385},null,null,{"$f":"データ一覧!M72","v":765},null,null,{"$f":"データ一覧!M73","v":850},null,null,{"$f":"データ一覧!M74","v":98},null,null,{"$f":"データ一覧!M75","v":26},null,null,null,null,null,null,null,null,null,null,null,null,null,null,null,null,null," １１ 　上　・　下　水　道",null,null,null,null,null,null,null,null,null,null,null,null,null,null,null,null,null,null,null,null,null,null,null,null,null,null,null,null,"小学校",null,null,null,null,null,null,null,null,{"$f":"データ一覧!M591","v":10},null,null,{"$f":"データ一覧!M592","v":0},null,null,{"$f":"データ一覧!M593","v":110},null,null,null,{"$f":"データ一覧!M594","v":20},null,null,null,{"$f":"データ一覧!M595","v":1239},null,null,null,{"$f":"データ一覧!M596","v":618},null,null,null,{"$f":"データ一覧!M597","v":621}]
[{"$f":"RIGHT(データ一覧!$A72,7)","v":"～2.9.30"},null,"比率(対1,000人)",null,null,null,null,{"$f":"+H48/I35*1000","v":5.7085175258449654},null,null,{"$f":"+K48/I35*1000","v":13.401092972257999},null,null,"- ",null,null,"- ",null,null,{"$f":"+T48/I35*1000","v":3.4111873020293082},null,null,{"$f":"+W48/I35*1000","v":0.90500887604859193},null,null,"  ６  漁               業",null,null,null,null,null,null,null,null,null,null,null,null,null,null,null,null,null,null,null,null,null,null,null,null,null,null,null,null,null,null,null,null,null,null,null,null,null,null,null,null,null,null,"  ","中学校",null,null,null,null,null,null,null,null,{"$f":"データ一覧!M599","v":2},null,null,{"$f":"データ一覧!M600","v":0},null,null,{"$f":"データ一覧!M601","v":60},null,null,null,{"$f":"データ一覧!M602","v":3},null,null,null,{"$f":"データ一覧!M603","v":665},null,null,null,{"$f":"データ一覧!M604","v":338},null,null,null,{"$f":"データ一覧!M605","v":327}]
[null,null,null,null,null,null,null,null,null,null,null,null,null,null,null,null,null,null,null,null,null,null,null,null,null,null,null,null,null,null,null,null,null,null,null,null,null,null,null,null,"水 道 供 給 人 口",null,null,null,null,null,null,"上 水 道",null,null,null,"簡易水道",null,null,null,"専用水道",null,null,null,"飲料水供給施設",null,null,null,"下水道処理人口",null,null,null,null,"  ","高等学校",null,null,null,null,null,null,null,null,{"$f":"データ一覧!M607","v":1},null,null,{"$f":"データ一覧!M608","v":0},null,null,{"$f":"データ一覧!M609","v":50},null,null,null,{"$f":"データ一覧!M610","v":10},null,null,null,{"$f":"データ一覧!M611","v":637},null,null,null,{"$f":"データ一覧!M612","v":364},null,null,null,{"$f":"データ一覧!M613","v":273}]
["  ３  事　　業　　所（民　　営）    （平 28.6.1）",null,null,null,null,null,null,null,null,null,null,null,null,null,null,null,null,null,null,null,null,null,null,null,null,"漁船隻数・トン数",null,null,null,{"$f":"データ一覧!$A$289","v":"元.12.31"},null,null,null,"動　力　船",null,null,null,null,null,null,{"$f":"データ一覧!$A$415","v":"2.3.31"},null,null,null,null,null,"人",null,{"$f":"データ一覧!M415","v":25019},null,null,{"$f":"データ一覧!M416","v":2784},null,null,null,null,{"$f":"データ一覧!M417","v":0},null,null,null,{"$f":"データ一覧!M418","v":0},null,null,null,{"$f":"データ一覧!M419","v":26851},null,null,null,"  ","大学・短期大学",null,null,null,null,null,null,null,null,{"$f":"データ一覧!M614","v":0},null,null,{"$f":"データ一覧!M615","v":"-"},null,null,{"$f":"データ一覧!M616","v":"-"},null,null,null,{"$f":"データ一覧!M617","v":0},null,null,null,{"$f":"データ一覧!M618","v":0},null,null,null,{"$f":"データ一覧!M619","v":0},null,null,null,{"$f":"データ一覧!M620","v":0}]
[null,null,null,null,null,null,null,null,null,null,null,null,null,null,null,null,null,null,null,null,null,null,null,null,null,"無動力船隻数",null,null,null,"船外機付漁船隻数",null,null,null,"隻　数",null,null,"総 ト ン 数",null,null,null,null,null,null,null,null,null,null,null,null,null,null,null,null,null,null,null,null,null,null,null,null,null,null,null,null,null,null,null,"  ","高等専門学校",null,null,null,null,null,null,null,null,{"$f":"データ一覧!M621","v":0},null,null,{"$f":"データ一覧!M622","v":0},null,null,{"$f":"データ一覧!M623","v":0},null,null,null,{"$f":"データ一覧!M624","v":0},null,null,null,{"$f":"データ一覧!M625","v":0},null,null,null,{"$f":"データ一覧!M626","v":0},null,null,null,{"$f":"データ一覧!M627","v":0}]
[null,null,null,null,null,null,null,"    総　　　　　数",null,null,null,null,null,"    民　　　　　営",null,null,null,null,null,"  国 ･ 地方公共団体",null,null,null,null,null,null,null,null,"隻",null,null,null,"隻",null,null,"隻",null,null,"t",null," １２  交   通　・　通   信",null,null,null,null,null,null,null,null,null,null,null,null,null,null,null,null,null,null,null,null,null,null,null,null,null,null,null,"  ","特別支援学校",null,null,null,null,null,null,null,null,{"$f":"データ一覧!M629","v":0},null,null,{"$f":"データ一覧!M630","v":0},null,null,{"$f":"+データ一覧!M631","v":0},null,null,null,{"$f":"+データ一覧!M632","v":0},null,null,null,{"$f":"+データ一覧!M633","v":0},null,null,null,{"$f":"+データ一覧!M634","v":0},null,null,null,{"$f":"+データ一覧!M635","v":0}]
["  　区　　　　　　分",null,null,null,null,null,null," 事業所数",null,null," 従業者数",null,null," 事業所数",null,null," 従業者数",null,null," 事業所数",null,null," 従業者数",null,null,{"$f":"データ一覧!$M$289","v":0},null,null,null,{"$f":"データ一覧!$M$290","v":27},null,null,null,{"$f":"データ一覧!M291","v":12},null,null,{"$f":"データ一覧!M292","v":20.82},null,null,null,null,null,null,null,null,null,null,null,null,null,null,null,null,null,null,null,null,null,null,null,null,null,null,null,null,null,null,null,"  ","幼稚園",null,null,null,null,null,null,null,null,{"$f":"データ一覧!M637","v":0},null,null,{"$f":"データ一覧!M638","v":0},null,null,{"$f":"データ一覧!M639","v":0},null,null,null,{"$f":"データ一覧!M640","v":0},null,null,null,{"$f":"データ一覧!M641","v":0},null,null,null,{"$f":"データ一覧!M642","v":0},null,null,null,{"$f":"データ一覧!M643","v":0}]
[null,null,null,null,null,null,null,null,null,null,"       人",null,null,null,null,null,"       人",null,null,null,null,null,"       人",null,null,"  男女別就業者数",null,null,null,null,null,null,null,{"$f":"データ一覧!$A$293","v":"30.11.1"},null,null,null,null,null,null,"道     路",null,null,null,"実 延 長",null,null,null,"国     道",null,null,null,"県     道",null,null,null,"市町道",null,null,null," 鉄 道 営 業 キ ロ 数",null,null,null,null,null,null,null,"  ","幼保連携認定こども園",null,null,null,null,null,null,null,null,{"$f":"データ一覧!M645","v":12},null,null,{"$f":"データ一覧!M646","v":0},null,null,{"$f":"データ一覧!M647","v":213},null,null,null,{"$f":"データ一覧!M648","v":4},null,null,null,{"$f":"データ一覧!M649","v":891},null,null,null,{"$f":"データ一覧!M650","v":455},null,null,null,{"$f":"データ一覧!M651","v":436}]
["総数",null,null,null,null,null,null,{"$f":"データ一覧!M95","v":"…"},null,null,{"$f":"データ一覧!M152","v":"…"},null,null,{"$f":"データ一覧!M96","v":1282},null,null,{"$f":"データ一覧!M153","v":13756},null,null,{"$f":"データ一覧!M97","v":"…"},null,null,{"$f":"データ一覧!M154","v":"…"},null,null,"総　　数",null,null,null,null,null,"男",null,null,null,"女",null,null,null,null,{"$f":"データ一覧!$A$420","v":"31.4.1"},null,null,null,{"$f":"データ一覧!M420","v":415.43899999999996},null,null,"㎞",{"$f":"データ一覧!M421","v":11.2},null,null,"㎞",{"$f":"データ一覧!M422","v":70.900000000000006},null,null,"㎞",{"$f":"データ一覧!M423","v":333.33899999999994},null,null,"km",{"$f":"データ一覧!$A$424","v":"2.4.1"},null,null,null,{"$f":"データ一覧!M424","v":14.772},null,null,"㎞","  ","各種学校",null,null,null,null,null,null,null,null,{"$f":"データ一覧!M653","v":"-"},null,null,{"$f":"データ一覧!M654","v":0},null,null,{"$f":"データ一覧!M655","v":"-"},null,null,null,{"$f":"データ一覧!M656","v":0},null,null,null,{"$f":"データ一覧!M657","v":"-"},null,null,null,{"$f":"データ一覧!M658","v":"-"},null,null,null,{"$f":"データ一覧!M659","v":"-"}]
["農林漁業",null,null,null,null,null,null,{"$f":"データ一覧!M98","v":"…"},null,null,{"$f":"データ一覧!M155","v":"…"},null,null,{"$f":"データ一覧!M99","v":24},null,null,{"$f":"データ一覧!M156","v":285},null,null,{"$f":"データ一覧!M100","v":"…"},null,null,{"$f":"データ一覧!M157","v":"…"},null,null,null,null,null,null,null,"人",null,null,"　　　　人",null,null,null,null,"  人",null,"自動車",null,null,null,null,null,null,null,null,"乗用車",null,null,null,null,null,null,null,null,null,null,null,null,null,null,null,null,null,null,"  ","専修学校",null,null,null,null,null,null,null,null,{"$f":"データ一覧!M661","v":0},null,null,{"$f":"データ一覧!M662","v":0},null,null,{"$f":"データ一覧!M663","v":0},null,null,null,{"$f":"データ一覧!M664","v":0},null,null,null,{"$f":"データ一覧!M665","v":0},null,null,null,{"$f":"データ一覧!M666","v":0},null,null,null,{"$f":"データ一覧!M667","v":0}]
["鉱業",null,null,null,null,null,null,{"$f":"データ一覧!M101","v":"…"},null,null,{"$f":"データ一覧!M158","v":"…"},null,null,{"$f":"データ一覧!M102","v":1},null,null,{"$f":"データ一覧!M159","v":4},null,null,{"$f":"データ一覧!M103","v":"…"},null,null,{"$f":"データ一覧!M160","v":"…"},null,null,{"$f":"SUM(AF58,AJ58)","v":42},null,null,null,null,null,{"$f":"データ一覧!$M$294","v":41},null,null,null,{"$f":"データ一覧!M295","v":1},null,null,null,null,"台  数",null,null,null,"貨    物",null,null,null,"普     通",null,null,null,"小     型",null,null,null,"乗  合",null,null,"特  種",null,null,"小型二輪",null,null,"軽自動車",null,null," １８  衛　　　　　　　生"]
["建設業",null,null,null,null,null,null,{"$f":"データ一覧!M104","v":"…"},null,null,{"$f":"データ一覧!M161","v":"…"},null,null,{"$f":"データ一覧!M105","v":142},null,null,{"$f":"データ一覧!M162","v":686},null,null,{"$f":"データ一覧!M106","v":"…"},null,null,{"$f":"データ一覧!M163","v":"…"},null,null,"　　　　海 面 漁 業 漁 獲 量 （属人）",null,null,null,null,null,null,null,{"$f":"データ一覧!$A$296","v":"30年中"},null,null,null,null,null,null,{"$f":"データ一覧!$A$425","v":"2.3.31"},null,null,null,null,{"$f":"データ一覧!M425","v":1393},null,null,null,{"$f":"データ一覧!M427","v":5482},null,null,null,{"$f":"データ一覧!M428","v":6050},null,null,{"$f":"データ一覧!M426","v":119},null,null,{"$f":"データ一覧!M429","v":488},null,null,{"$f":"データ一覧!M430","v":274},null,null,{"$f":"データ一覧!M431","v":11105}]
["製造業",null,null,null,null,null,null,{"$f":"データ一覧!M107","v":"…"},null,null,{"$f":"データ一覧!M164","v":"…"},null,null,{"$f":"データ一覧!M108","v":166},null,null,{"$f":"データ一覧!M165","v":4684},null,null,{"$f":"データ一覧!M109","v":"…"},null,null,{"$f":"データ一覧!M166","v":"…"},null,null,null,null,null,null,null,"       ","ｔ",null,null,null,null,null,null,"t",null,null,null,"     ",null,"郵　便　局　数",null,null,null,null,null,null,null,null,null,null,null,null,null,null,null,"一般加入",null,null,null,"ＩＮＳネット",null,null,null,null,null,null,null,"医療関係施設",null,null,null,null,null,{"$f":"データ一覧!$A$668","v":"元.10.1"},null,null,null,null,null,null,"および医療関係者数",null,null,null,null,null,null,null,{"$f":"データ一覧!$A$673","v":"30.12.31"}]
["電気・ｶﾞ ｽ・熱供給・水道業",null,null,null,null,null,null,{"$f":"データ一覧!M110","v":"…"},null,null,{"$f":"データ一覧!M167","v":"…"},null,null,{"$f":"データ一覧!M111","v":0},null,null,{"$f":"データ一覧!M168","v":0},null,null,{"$f":"データ一覧!M112","v":"…"},null,null,{"$f":"データ一覧!M169","v":"…"},null,null,"   総　　　　　　数",null,null,null,{"$f":"データ一覧!M296","v":3},null,null,"   藻　　　　　　類",null,null,null,{"$f":"データ一覧!M299","v":1},null,null,null,"通  信",null,null,null," 総     数",null,null,null,null,null," 郵 便 局",null,null,null,null," 簡 易 局",null,null,null,null,"電話数",null,null,null,"加入数",null,null,null,null,null,null,null,null,null,"　","病",null,null,"院",null,"　",null,null,null,null," ","一般診療所",null,null,null,null,null,null,null,null,null,null,null,"歯科診療所"]
["情報通信業",null,null,null,null,null,null,{"$f":"データ一覧!M113","v":"…"},null,null,{"$f":"データ一覧!M170","v":"…"},null,null,{"$f":"データ一覧!M114","v":2},null,null,{"$f":"データ一覧!M171","v":10},null,null,{"$f":"データ一覧!M115","v":"…"},null,null,{"$f":"データ一覧!M172","v":"…"},null,null,"   魚　　　　　　類",null,null,null,{"$f":"データ一覧!M297","v":2},null,null,"   そ　   の　　 他",null,null,null,{"$f":"データ一覧!M300","v":0},null,null,null,{"$f":"データ一覧!$A$435","v":"2.3.31"},null,null,null,{"$f":"データ一覧!M432","v":9},null,null,null,null,null,{"$f":"データ一覧!M433","v":7},null,null,null,null,{"$f":"データ一覧!M434","v":2},null,null,null,null,{"$f":"データ一覧!M435","v":2548},null,null,null,{"$f":"データ一覧!M436","v":485},null,null,null," ","医療関係",null,null,null,null,null,null,null,null,null,null,null,"一般病院",null,null,null,null,null,null,null,null,null,null,null,"有",null,null,"床"]
["運輸業、郵便業",null,null,null,null,null,null,{"$f":"データ一覧!M116","v":"…"},null,null,{"$f":"データ一覧!M173","v":"…"},null,null,{"$f":"データ一覧!M117","v":32},null,null,{"$f":"データ一覧!M174","v":1199},null,null,{"$f":"データ一覧!M118","v":"…"},null,null,{"$f":"データ一覧!M175","v":"…"},null,null,"   貝　　　　　　類",null,null,null,{"$f":"データ一覧!M298","v":1},null,null,null,null,null,null,null,null,null,null,null,null,null,null,null,null,null,null,null,null,null,null,null,null,null,null,null,null,null,null,null,null,null,null,null,null,null,null,null,"施設数",null,null,null,null,null,null,{"$f":"データ一覧!M668","v":3},null,null,null,null,null,{"$f":"データ一覧!M669","v":3},null,null,null,null,null,{"$f":"データ一覧!M670","v":15},null,null,null,null,null,{"$f":"データ一覧!M671","v":0},null,null,null,null,null,{"$f":"データ一覧!M672","v":9}]
["卸売業、小売業",null,null,null,null,null,null,{"$f":"データ一覧!M119","v":"…"},null,null,{"$f":"データ一覧!M176","v":"…"},null,null,{"$f":"データ一覧!M120","v":291},null,null,{"$f":"データ一覧!M177","v":1655},null,null,{"$f":"データ一覧!M121","v":"…"},null,null,{"$f":"データ一覧!M178","v":"…"},null,null,null,null,null,null,null,null,null,null,null,null,null,null,null,null,null," １３  税　　・　　財　　政",null,null,null,null,null,null,null,null,null,null,null,null,null,null,null,null,null,null,null,null,null,null,null,null,null,null,null,null,null,null,null,null,null,null,"医師",null,null,null,null,"歯科医師",null,null,null,null,"薬剤師",null,null,null,null,"保健師",null,null,null,null,"助産師",null,null," ",null,"看護師",null,null," "]
["金融業、保険業",null,null,null,null,null,null,{"$f":"データ一覧!M122","v":"…"},null,null,{"$f":"データ一覧!M179","v":"…"},null,null,{"$f":"データ一覧!M123","v":15},null,null,{"$f":"データ一覧!M180","v":143},null,null,{"$f":"データ一覧!M124","v":"…"},null,null,{"$f":"データ一覧!M181","v":"…"},null,null,"  ７  商        　　　業 ",null,null,null,null,null,null,{"$f":"データ一覧!$A$301","v":"28.6.1(平成27年実績）"},null,null,null,null,null,null,null,null,null,null,null,null,null,null,null,null,null,null,null,null,null,null,null,null,null,null,null,null,null,null,null,null,null,null,null," ","医療",null,null,null,null,null,null,null,null,"人",null,null,null,null,"人",null,null,null,null,"人",null,null,null,null,"人",null,null,null,null,"人",null,null,null,null,"人"]
["不動産業、物品賃貸業",null,null,null,null,null,null,{"$f":"データ一覧!M125","v":"…"},null,null,{"$f":"データ一覧!M182","v":"…"},null,null,{"$f":"データ一覧!M126","v":19},null,null,{"$f":"データ一覧!M183","v":37},null,null,{"$f":"データ一覧!M127","v":"…"},null,null,{"$f":"データ一覧!M184","v":"…"},null,null,null,null,null,null,null,null,null,null,null,null,null,null,null,null,null,"           ",null,null,null,"歳入",null,null,null,null,null,null,null,null,"(千円）"," ",null,null,null,"歳出",null,null,null,null,null,null,null,null,"(千円）",null,"関係者",null,null,null,null,{"$f":"データ一覧!M673","v":39},null,null,null,null,{"$f":"データ一覧!M674","v":16},null,null,null,null,{"$f":"データ一覧!M675","v":52},null,null,null,null,{"$f":"データ一覧!M676","v":22},null,null,null,null,{"$f":"データ一覧!M677","v":3},null,null,null,null,{"$f":"データ一覧!M678","v":312}]
["学術研究、専門・技術ｻｰﾋﾞｽ業",null,null,null,null,null,null,{"$f":"データ一覧!M128","v":"…"},null,null,{"$f":"データ一覧!M185","v":"…"},null,null,{"$f":"データ一覧!M129","v":33},null,null,{"$f":"データ一覧!M186","v":116},null,null,{"$f":"データ一覧!M130","v":"…"},null,null,{"$f":"データ一覧!M187","v":"…"},null,null,"  産   業　 分　 類",null,null,null,"  商　 店 　数",null,null," 従　業　者　数",null,null,"年　間　販　売　額",null,null,null,null,"一人当たり歳入歳出予算決算額",null,null,null,null,null,null,null,null,null,null,null,null,null,null,null,null,null,null,null,null,null,null,null,null,null,null,null,"                   ",null,null,null,null,null,null,null,null,"死因別死亡数　　　　　　    ",null,null,null,null,null,null,null,null,null,null,null,null,null,null,null,{"$f":"データ一覧!$A$679","v":"元年中"},null,null,null,null,null,null,null,null,"      単 位：人"]
["宿泊業、飲食サービス業",null,null,null,null,null,null,{"$f":"データ一覧!M131","v":"…"},null,null,{"$f":"データ一覧!M188","v":"…"},null,null,{"$f":"データ一覧!M132","v":202},null,null,{"$f":"データ一覧!M189","v":1686},null,null,{"$f":"データ一覧!M133","v":"…"},null,null,{"$f":"データ一覧!M190","v":"…"},null,null,null,null,null,null,null,"        店",null,null,null,"　人",null,"         百万円",null,null,null,"区分",null,null,null,{"$f":"データ一覧!$A$445","v":"2年度"},null,null,null,null,{"$f":"データ一覧!$A$459","v":"元年度"},null,null,null,null,"区分",null,null,null,{"$f":"+AS68","v":"2年度"},null,null,null,null,{"$f":"データ一覧!$A$459","v":"元年度"},null,null,null,null," 死     因",null,null,null,null,null,null,null,null,null,null,null,"悪  性",null,null,"高血圧",null,null,null,null,null,"脳血管",null,null,null,null,null," ",null,null,"不慮の事故"]
["生活関連サービス業、娯楽業",null,null,null,null,null,null,{"$f":"データ一覧!M134","v":"…"},null,null,{"$f":"データ一覧!M191","v":"…"},null,null,{"$f":"データ一覧!M135","v":127},null,null,{"$f":"データ一覧!M192","v":564},null,null,{"$f":"データ一覧!M136","v":"…"},null,null,{"$f":"データ一覧!M193","v":"…"},null,null,"総　　　　　　計",null,null,null,{"$f":"データ一覧!M301","v":253},null,null,{"$f":"データ一覧!M310","v":1390},null,null,{"$f":"データ一覧!M319","v":24938},null,null,null,null,null,null,null,null,{"$f":"データ一覧!M441","v":563789.48333394458},null,null,null,null,{"$f":"データ一覧!M442","v":553672},null,null,null,null,null,null,null,null,{"$f":"データ一覧!M443","v":563789.48333394458},null,null,null,null,{"$f":"データ一覧!M444","v":533824.6002103202},null,null,null,null,null,null,null,null,null,"全 死 因",null,null,null,"結 核",null,null,"新生物",null,null,"性疾患",null,null,"心疾患",null,null,"疾  患",null,null,"肺  炎",null,null,"老  衰",null,null,null,null," ","交通事故"]
["教育、学習支援業",null,null,null,null,null,null,{"$f":"データ一覧!M137","v":"…"},null,null,{"$f":"データ一覧!M194","v":"…"},null,null,{"$f":"データ一覧!M138","v":32},null,null,{"$f":"データ一覧!M195","v":205},null,null,{"$f":"データ一覧!M139","v":"…"},null,null,{"$f":"データ一覧!M196","v":"…"},null,null,"卸売業",null,null,null,{"$f":"データ一覧!M302","v":32},null,null,{"$f":"データ一覧!M311","v":232},null,null,{"$f":"データ一覧!M320","v":8458},null,null,null,null,"項目別歳入歳出予算決算額"]
["医療、福祉",null,null,null,null,null,null,{"$f":"データ一覧!M140","v":"…"},null,null,{"$f":"データ一覧!M197","v":"…"},null,null,{"$f":"データ一覧!M141","v":81},null,null,{"$f":"データ一覧!M198","v":1484},null,null,{"$f":"データ一覧!M142","v":"…"},null,null,{"$f":"データ一覧!M199","v":"…"},null,null,"小売業",null,null,null,{"$f":"データ一覧!M303","v":221},null,null,{"$f":"データ一覧!M312","v":1158},null,null,{"$f":"データ一覧!M321","v":16481},null,null,null,null,"区分",null,null,null,{"$f":"データ一覧!$A$445","v":"2年度"},null,null,null,null,{"$f":"データ一覧!$A$459","v":"元年度"},null,null,null,null,"区分",null,null,null,{"$f":"+AS71","v":"2年度"},null,null,null,null,{"$f":"データ一覧!$A$459","v":"元年度"},null,null,null,null,null,null,null,null,null,{"$f":"データ一覧!M679","v":402},null,null,null,"   －",{"$f":"データ一覧!M680","v":0},null,{"$f":"データ一覧!M681","v":109},null,null,null,{"$f":"データ一覧!M682","v":2},null,{"$f":"データ一覧!M683","v":64},null,null,{"$f":"データ一覧!M684","v":30},null,null,{"$f":"データ一覧!M685","v":31},null,null,{"$f":"データ一覧!M686","v":18},null,null,{"$f":"データ一覧!M687","v":16},null,null,{"$f":"データ一覧!M688","v":1}]
["複合サービス事業",null,null,null,null,null,null,{"$f":"データ一覧!M143","v":"…"},null,null,{"$f":"データ一覧!M200","v":"…"},null,null,{"$f":"データ一覧!M144","v":13},null,null,{"$f":"データ一覧!M201","v":128},null,null,{"$f":"データ一覧!M145","v":"…"},null,null,{"$f":"データ一覧!M202","v":"…"},null,null,"各種商品",null,null,null,{"$f":"データ一覧!M304","v":0},null,null,{"$f":"データ一覧!M313","v":0},null,null,{"$f":"データ一覧!M322","v":0},null,null,null,null,"総額",null,null,null,{"$f":"SUM(AS73:AW85)","v":15375103},null,null,null,null,{"$f":"SUM(AX73:BB85)","v":15268626},null,null,null,null,"総額",null,null,null,{"$f":"SUM(BG73:BK85)","v":15375103},null,null,null,null,{"$f":"SUM(BL73:BP85)","v":14721281},null,null,null,null," １９  警　察　・　消　防  ",null,null,null,null,null,null,null,null,null,null,null,null,null,null,null,{"$f":"+データ一覧!$A689","v":"2.4.1"}]
["サービス業",null,null,null,null,null,null,{"$f":"データ一覧!M146","v":"…"},null,null,{"$f":"データ一覧!M203","v":"…"},null,null,{"$f":"データ一覧!M147","v":102},null,null,{"$f":"データ一覧!M204","v":870},null,null,{"$f":"データ一覧!M148","v":"…"},null,null,{"$f":"データ一覧!M205","v":"…"},null,null,"織物・衣服・身の回り品",null,null,null,{"$f":"データ一覧!M305","v":23},null,null,{"$f":"データ一覧!M314","v":78},null,null,{"$f":"データ一覧!M323","v":764},null,null,null,null,"地方税",null,null,null,{"$f":"データ一覧!M446","v":4584837},null,null,null,null,{"$f":"データ一覧!M460","v":4746079},null,null,null,null,"議会費",null,null,null,{"$f":"データ一覧!M474","v":161545},null,null,null,null,{"$f":"データ一覧!M488","v":159466}]
["公務",null,null,null,null,null,null,{"$f":"データ一覧!M149","v":"…"},null,null,{"$f":"データ一覧!M206","v":"…"},null,null,{"$f":"データ一覧!M150","v":"…"},null,null,{"$f":"データ一覧!M207","v":"…"},null,null,{"$f":"データ一覧!M151","v":"…"},null,null,{"$f":"データ一覧!M208","v":"…"},null,null,"飲食料品",null,null,null,{"$f":"データ一覧!M306","v":89},null,null,{"$f":"データ一覧!M315","v":525},null,null,{"$f":"データ一覧!M324","v":6676},null,null,null,null,"地方譲与税",null,null,null,{"$f":"データ一覧!M447","v":129500},null,null,null,null,{"$f":"データ一覧!M461","v":125360},null,null,null,null,"総務費",null,null,null,{"$f":"データ一覧!M475","v":1532571},null,null,null,null,{"$f":"データ一覧!M489","v":1720682},null,null,null,null,null,null,null,null,null,null,null,null,null,null,"交番・駐在所",null,null,null,null,null,null,null,null,"刑法犯認知件数",null,null,null,null,null,null,null,null,"交通人身事故発生件数"]
["  ４  農        　　　業 ",null,null,null,null,null,null,null,null,null,null,null,null,null,null,null,null,null,null,null,null,null,null,null,null,"機械器具",null,null,null,{"$f":"データ一覧!M307","v":31},null,null,{"$f":"データ一覧!M316","v":122},null,null,{"$f":"データ一覧!M325","v":1820},null,null,null,null,"各種交付金",null,null,null,{"$f":"データ一覧!M448","v":804500},null,null,null,null,{"$f":"データ一覧!M462","v":630112},null,null,null,null,"民生費",null,null,null,{"$f":"データ一覧!M476","v":4785037},null,null,null,null,{"$f":"データ一覧!M490","v":4511236},null,null,null,null,null,"警察署数",null,null,null,null,null,null,null,null,"検問所数",null,null,null,null,null,null,null,null,null,{"$f":"データ一覧!$A$691","v":"元年中"},null,null,null,null,null,null,null,null,{"$f":"データ一覧!$A$691","v":"元年中"}]
[null,null,null,null,null,null,null,null,null,null,null,null,null,null,null,null,null,null,null,null,null,null,null,null,null,"その他",null,null,null,{"$f":"データ一覧!M308","v":75},null,null,{"$f":"データ一覧!M317","v":391},null,null,{"$f":"データ一覧!M326","v":"x"},null,null,null,null,"地方特例交付金",null,null,null,{"$f":"データ一覧!M449","v":14000},null,null,null,null,{"$f":"データ一覧!M463","v":67391},null,null,null,null,"衛生費",null,null,null,{"$f":"データ一覧!M477","v":833334},null,null,null,null,{"$f":"データ一覧!M491","v":741843},null,null,null,null,null,null,null,null,null,null,null,null,null,null,null,null,null,null,null,null,null,null,null,null,null,null,null,null," 件",null,null,null,null,null,null,null,null,"　件"]
[null,null,"農家人口と世帯員数(販売農家)",null,null,null,null,null,null,null,"農家世帯の就業状態（販売農家）",null,null,null,null,null,null,null,null,null,null,null,null,null,null,"無店舗",null,null,null,{"$f":"データ一覧!M309","v":3},null,null,{"$f":"データ一覧!M318","v":42},null,null,{"$f":"データ一覧!M327","v":"x"},null,null,null,null,"地方交付税",null,null,null,{"$f":"データ一覧!M450","v":2780000},null,null,null,null,{"$f":"データ一覧!M464","v":3100448},null,null,null,null,"労働費",null,null,null,{"$f":"データ一覧!M478","v":40923},null,null,null,null,{"$f":"データ一覧!M492","v":52305},null,null,null,null,null,null,{"$f":"データ一覧!M689","v":1},null,null,null,null,null,null,null,null,{"$f":"データ一覧!M690","v":6},null,null,null,null,null,null,null,null,{"$f":"データ一覧!M691","v":80},null,null,null,null,null,null,null,null,{"$f":"データ一覧!M692","v":33}]
["農","平",null,null,null,null,null,null,null,null,"農業従事者",null,null,null,null,null,null,null,null,"非農業従事",null,null,"農業従事者",null,null,null,null,null,null,null,null,null,null,null,null,null,null,null,null,null,"分担金および負担金",null,null,null,{"$f":"データ一覧!M451","v":115689},null,null,null,null,{"$f":"データ一覧!M465","v":249900},null,null,null,null,"農林水産業費",null,null,null,{"$f":"データ一覧!M479","v":698207},null,null,null,null,{"$f":"データ一覧!M493","v":1419297},null,null,null,null,"火災発生件数",null,null,null,null,null,null,null,null,null,"林野焼損",null,null,null,null,"損      害",null,null,null,null,"消 防 自",null,null,null,"その他の",null,null,null," ",null,null,null,null," "]
["家",{"$f":"+LEFT(データ一覧!$A$209,2)","v":"27"},"区分",null,"農家人口",null,null,"15歳以上の",null,null,null,null,null,"農業就業人口",null,null,null,null,null,"者",null,null,"の平均年齢",null,null,"  ８  住　　　　　　 　宅",null,null,null,null,null,null,null,null,null,null,null,null,null,null,"使用料および手数料",null,null,null,{"$f":"データ一覧!M452","v":185182},null,null,null,null,{"$f":"データ一覧!M466","v":200375},null,null,null,null,"商工費",null,null,null,{"$f":"データ一覧!M480","v":424393},null,null,null,null,{"$f":"データ一覧!M494","v":594998},null,null,null,null,{"$f":"+データ一覧!$A$693","v":"元年中"},null,null,null,null,"焼損棟数",null,null,null,null,"面    積",null,null,null,null,"見  積  額",null,null,null,null,"動 車 数",null,null,null,"ﾎﾟﾝﾌﾟ数",null,null,null," 消防吏員",null,null,null," 消防団員"]
["人就 ","・",null,null,null,null,null,"世帯員数",null,null,null,null,null,null,null,null,"基幹的農業",null,null,null,null,null,null,null,null,null,null,null,null,null,null,null,null,null,null,null,null,null,null,null,"国庫支出金",null,null,null,{"$f":"データ一覧!M453","v":2026807},null,null,null,null,{"$f":"データ一覧!M467","v":1669857},null,null,null,null,"土木費",null,null,null,{"$f":"データ一覧!M481","v":3439673},null,null,null,null,{"$f":"データ一覧!M495","v":1839051},null,null,null,null,"         件",null,null,null,null,null,"      棟",null,null,null,null,null,null,"  ａ",null,null,null,"  千円",null,null,"        ",null,null,null,null,null,null,null,null,null,"  人",null,null,null,"  人"]
["口業 ",{"$f":"+MID(データ一覧!$A$209,4,1)","v":"2"},null,null,null,null,"人",null,null,"人",null,null,"人",null,null,"人","従事者",null,"人",null,null,"人",null,null,"歳",{"$f":"+データ一覧!$A$328","v":"30年"},null,null,null,null,{"$f":"データ一覧!$A$331","v":"元年"},"中の増減",null,null,null,{"$f":"+データ一覧!$A$331","v":"元年"},null,null,null,null,"県支出金",null,null,null,{"$f":"データ一覧!M454","v":1288832},null,null,null,null,{"$f":"データ一覧!M468","v":1320702},null,null,null,null,"消防費",null,null,null,{"$f":"データ一覧!M482","v":587747},null,null,null,null,{"$f":"データ一覧!M496","v":667843},null,null,null,null,null,{"$f":"データ一覧!M693","v":3},null,null,null,null,{"$f":"データ一覧!M694","v":11},null,null,null,null,{"$f":"データ一覧!M695","v":0},null,null,null,{"$f":"データ一覧!M696","v":94031},null,null,null,null,null,{"$f":"データ一覧!M697","v":16},null,null,null,{"$f":"データ一覧!M698","v":3},null,null,null,{"$f":"データ一覧!M699","v":46},null,null,null,{"$f":"データ一覧!M700","v":248}]
["と状 ","・"," 総数",null,{"$f":"データ一覧!M209","v":2922},null,null,{"$f":"データ一覧!M212","v":2633},null,null,{"$f":"データ一覧!M215","v":1826},null,null,{"$f":"データ一覧!M218","v":834},null,null,{"$f":"データ一覧!M221","v":671},null,null,{"$f":"データ一覧!M224","v":807},null,null,{"$f":"データ一覧!M227","v":58.8},null,null,null,null,null,null,"建設した住宅",null,null,"消失した住宅",null,null,null,null,null,null,null,"財産収入",null,null,null,{"$f":"データ一覧!M455","v":41791},null,null,null,null,{"$f":"データ一覧!M469","v":44467},null,null,null,null,"教育費",null,null,null,{"$f":"データ一覧!M483","v":1370548},null,null,null,null,{"$f":"データ一覧!M497","v":1516221},null,null,null,null," ２０  そ　　　の　　　他　"]
["  況 ",{"$f":"+RIGHT(データ一覧!$A$209,1)","v":"1"},"　男",null,{"$f":"データ一覧!M210","v":1426},null,null,{"$f":"データ一覧!M213","v":1282},null,null,{"$f":"データ一覧!M216","v":1026},null,null,{"$f":"データ一覧!M219","v":454},null,null,{"$f":"データ一覧!M222","v":408},null,null,{"$f":"データ一覧!M225","v":256},null,null,{"$f":"データ一覧!M228","v":57.3},null,null,null,null,null,null,null,null,null,null,null,null,null,null,null,null,null,"繰入金",null,null,null,{"$f":"データ一覧!M456","v":799192},null,null,null,null,{"$f":"データ一覧!M470","v":411627},null,null,null,null,"災害復旧費",null,null,null,{"$f":"データ一覧!M484","v":1300},null,null,null,null,{"$f":"データ一覧!M498","v":10757}]
[null,null,"　女",null,{"$f":"データ一覧!M211","v":1496},null,null,{"$f":"データ一覧!M214","v":1351},null,null,{"$f":"データ一覧!M217","v":800},null,null,{"$f":"データ一覧!M220","v":380},null,null,{"$f":"データ一覧!M223","v":263},null,null,{"$f":"データ一覧!M226","v":551},null,null,{"$f":"データ一覧!M229","v":60.6},null,null,null,{"$f":"データ一覧!M328","v":12995},null,"戸",{"$f":"データ一覧!M329","v":119},null,"戸",{"$f":"データ一覧!M330","v":132},null,"戸",null,{"$f":"データ一覧!M331","v":12982},null,"戸",null,"地方債",null,null,null,{"$f":"データ一覧!M457","v":1773600},null,null,null,null,{"$f":"データ一覧!M471","v":1539224},null,null,null,null,"公債費",null,null,null,{"$f":"データ一覧!M485","v":1476397},null,null,null,null,{"$f":"データ一覧!M499","v":1487582},null,null,null,null,null,null,null,null,null,"あわら温泉、芦湯（足湯）、セントピアあわら、あわら温泉屋台村　湯けむり横丁、藤野厳九郎記念館、越前加賀海岸国定公園、あわら北潟湖畔花菖蒲園、北潟湖畔公園、夢ぐるま公園、刈安山森林自然公園、金津創作の森美術館、あわら市郷土歴史資料館、桑野遺跡出土品、吉崎御坊跡、越前加賀県境の館、横山古墳群、椚古墳（石室）、千束一里塚、本荘春日神社本殿、紙本著色法然上人図像（福円寺）絹本著色梅山聞本禅師像（龍澤寺）、絹本著色龍澤寺三祖像（龍澤寺）木造執金剛神像（安楽寺）、石造狛犬（永正十二年銘）、どっしゃどっしゃ踊り、多賀谷左近三経公墓所"]
[null,null,null,null,null,null,null,null,null,null,null,null,null,null,null,null,null,null,null,null,null,null,null,null,null,null,null,null,null,null,null,null,null,null,null,null,null,null,null,null,"その他",null,null,null,{"$f":"データ一覧!M458","v":831173},null,null,null,null,{"$f":"データ一覧!M472","v":1163084},null,null,null,null,"その他",null,null,null,{"$f":"データ一覧!M486","v":23428},null,null,null,null,{"$f":"データ一覧!M500","v":0},null,null,null,null,"　名所・旧跡"]
[null,null,"総農家数等",null,null,null,null,null,null,"専兼業別（販売農家）",null,null,null,null,null,null,null,"経営面積規模別（販売農家）",null,null,null,null,null,null,null,null,null,null,null,null,null,null,null,null,null,null,null,null,null,null,null,null,null,null,null,null,null,null,null,null,null,null,null,null,null,null,null,null,null,null,null,null,null,null,null,null,null,null,"  文化財等"]
[null,"平","区　分",null,null,null,"戸数（戸）",null,null,"区　分",null,null,null,null,"戸数（戸）",null,null,"区　　分",null,null,null,null,"戸数（戸）",null,null,"  ９  議　 員　・　職 　員",null,null,null,null,null,null,null,null,null,null,null,null,null,null," １４  文　　　　　　化",null,null,null,null,null,null,null,null,null," ( ",{"$f":"データ一覧!$A$507","v":"2.3.31"},null,null,null,"ただし図書館・公民館・児童館",null,null,null,null,null,null,null,{"$f":"データ一覧!$A$501","v":"2.4.1"}]
["農",{"$f":"+LEFT(データ一覧!$A$230,2)","v":"27"},"総農家",null,null,null,{"$f":"データ一覧!M230","v":956},null,null,"総数",null,null,null,null,{"$f":"データ一覧!M236","v":689},null,null,"総数",null,null,null,null,{"$f":"データ一覧!M241","v":689},null,null,null,null,null,null,null,null,null,null,null,null,null,null,null,null,null,null,null,null,null,null,null,null,null,null,null,null,null,null,null,null,null,"　宗教法人数 ",null,null,null,null,null,null,{"$f":"データ一覧!$A$509","v":"元.12.31"},null,null,null,"）","　特産物",null,null,null,null,"メロン、スイカ、とみつ金時（サツマイモ）、越のルビー、越前柿、芦原梨、剱岳そば"]
["家","・","販売農家",null,null,null,{"$f":"データ一覧!M231","v":689},null,null,"専業農家",null,null,null,null,{"$f":"データ一覧!M237","v":87},null,null,"0.5 ha 未満",null,null,null,null,{"$f":"データ一覧!M242","v":91},null,null," 市 町 村 議 会",null,null,"有権者数",null,{"$f":"データ一覧!$A$335","v":"2.9.1"},null,"市 町 村 議 会",null,null,"  職      員      数",null,null,null,null,null,null,null,null,null,"図書館",null,null,null,null,null,"公　民　館",null,null,null,null,null,null,null,null,null,null," 社会教育学級講座"]
["数",{"$f":"+MID(データ一覧!$A$230,4,1)","v":"2"},null,"主業",null,null,{"$f":"データ一覧!M232","v":73},null,null,"兼業農家",null,null,null,null,{"$f":"データ一覧!M238","v":602},null,null,"0.5 ha ～ 1.0 ha",null,null,null,null,{"$f":"データ一覧!M243","v":158},null,null," 議  員  定  数",null,null,"    男",null,"    女",null,"選 挙 投 票 率",null,null," 総     数",null,"一般行政職",null,null,"公    共",null,null,null," 館  数",null,null," 図書数",null,null," 本  館",null,null," 分  館",null,null," 公  園",null,null," 児童館",null,null,"学級講座数",null,null,"受講者数",null,null,null,null,null,null,null,"芦原温泉春まつり、蓮如忌、あわら市トリムマラソン、あわら北潟湖畔花菖蒲まつり、\n金津祭、あわら湯かけまつり、あわらカップカヌーポロ大会、あわら観月の夕べ、\n越前・加賀県境綱引き、あわら湯けむり映画祭、あわら灯源郷、剱岳かりんて祭、芦原芸妓新春舞踊"]
[null,"・",null,"準主業",null,null,{"$f":"データ一覧!M233","v":132},null,null,null,"第１種兼業",null,null,null,{"$f":"データ一覧!M239","v":94},null,null,"1.0 ha ～ 1.5 ha",null,null,null,null,{"$f":"データ一覧!M244","v":160},null,null,null,null,"人",null,"人",null,"人",null,null,"　％",null,"人",null,"人",null,"施 設 数",null,null,null,null,{"$f":"データ一覧!M501","v":2},null,{"$f":"データ一覧!M502","v":163941},null,null,null,{"$f":"データ一覧!M503","v":9},null,{"$f":"データ一覧!M504","v":0},null,null,{"$f":"データ一覧!M505","v":24},null,null,{"$f":"データ一覧!M506","v":"-"},null,null,{"$f":"データ一覧!M507","v":571},null,null,{"$f":"データ一覧!M508","v":6632},null,null,"　年中行事"]
[null,{"$f":"+RIGHT(データ一覧!$A$230,1)","v":"1"},null,"副業的",null,null,{"$f":"データ一覧!M234","v":484},null,null,null,"第２種兼業",null,null,null,{"$f":"データ一覧!M240","v":508},null,null,"1.5 ha ～ 2.0 ha",null,null,null,null,{"$f":"データ一覧!M245","v":118},null,null,null,{"$f":"データ一覧!M332","v":18},null,{"$f":"データ一覧!M335","v":11140},null,{"$f":"データ一覧!M336","v":12496},null,{"$f":"データ一覧!M334","v":69.05},null,null,{"$f":"データ一覧!M337","v":291},null,{"$f":"データ一覧!M338","v":198},null,null,"宗    教",null,null,null," 仏教系",null,null,"ｷﾘｽﾄ教系",null,null,"神道諸派",null,null,"公会堂・市民会館",null,null,null,null,null," テレビ",null,null,"衛星放送契約数"]
[null,null,"自給的農家",null,null,null,{"$f":"データ一覧!M235","v":267},null,null,null,null,null,null,null,null,null,null,"2.0 ha 以上",null,null,null,null,{"$f":"データ一覧!M246","v":161},null,null,null,null,null,null,null,null,null,{"$f":"データ一覧!M333","v":"29.6.18"},null,null,null,null,null,null,null,"法 人 数",null,null,null,{"$f":"データ一覧!M509","v":65},null,null,{"$f":"データ一覧!M510","v":2},null,null,{"$f":"データ一覧!M511","v":95},null,null,{"$f":"データ一覧!M512","v":1},null,null,null,null,null,"      等",null,null,{"$f":"データ一覧!M513","v":6853}]

{"sheet":"越前市","index":12,"n_rows":93,"n_cols":104,"rows_kept":93,"cut":false,"hidden":false,"merged":[[56,40,56,43],[57,40,57,43],[60,40,60,43],[59,44,59,59],[17,25,17,27],[18,25,18,27],[25,78,25,81],[27,87,27,91],[35,76,35,78],[35,81,35,84],[36,76,36,78],[28,82,28,85],[28,87,28,91],[27,82,27,85],[30,78,30,81],[30,82,30,85],[30,87,30,91],[24,54,24,57],[24,41,24,47],[23,61,23,65],[24,61,24,65],[25,41,25,47],[25,50,25,52],[25,54,25,57],[25,61,25,65],[25,82,25,85],[25,87,25,91],[25,74,25,77],[28,74,28,77],[28,78,28,81],[49,59,49,62],[32,69,32,73],[29,87,29,91],[30,69,30,73],[31,69,31,73],[31,74,31,77],[31,78,31,81],[31,82,31,85],[29,74,29,77],[29,82,29,85],[30,74,30,77],[35,22,35,24],[35,5,35,7],[35,8,35,10],[35,11,35,13],[35,14,35,16],[35,18,35,19],[35,20,35,21],[40,80,41,83],[40,76,41,78],[40,61,40,65],[40,19,40,21],[40,22,40,24],[29,11,29,13],[34,20,34,21],[41,22,41,24],[40,10,40,12],[31,18,31,19],[30,18,30,19],[40,13,40,15],[29,22,29,24],[41,19,41,21],[31,8,31,10],[31,11,31,13],[47,7,47,9],[55,31,55,34],[46,0,46,1],[47,10,47,12],[47,13,47,15],[47,16,47,18],[47,22,47,24],[47,0,47,1],[41,4,41,6],[41,7,41,9],[41,10,41,12],[33,8,33,10],[33,11,33,13],[33,14,33,16],[40,16,40,18],[33,5,33,7],[41,13,41,15],[41,16,41,18],[48,10,48,12],[34,5,34,7],[40,2,40,3],[67,0,67,6],[71,10,71,12],[70,10,70,12],[66,0,66,6],[65,0,65,6],[64,0,64,6],[56,0,56,6],[48,0,48,1],[55,0,55,6],[44,0,45,1],[69,16,69,18],[40,4,40,6],[40,7,40,9],[48,7,48,9],[50,0,51,24],[48,13,48,15],[48,16,48,18],[63,13,63,15],[69,10,69,12],[70,16,70,18],[42,4,42,6],[42,7,42,9],[42,10,42,12],[42,13,42,15],[63,0,63,6],[62,0,62,6],[61,0,61,6],[68,7,68,9],[69,13,69,15],[69,7,69,9],[70,13,70,15],[71,0,71,6],[16,75,16,96],[5,0,5,9],[6,0,8,9],[22,7,22,8],[23,11,23,13],[23,16,23,18],[20,11,20,13],[20,16,20,18],[19,32,19,34],[17,54,17,58],[17,92,17,95],[17,60,17,66],[29,20,29,21],[20,41,20,47],[20,50,20,52],[20,54,20,57],[17,69,17,72],[21,54,21,57],[21,50,21,52],[24,50,24,52],[26,22,26,24],[24,27,24,28],[20,21,20,23],[23,21,23,23],[20,25,20,28],[21,25,21,28],[21,29,21,31],[22,25,22,28],[23,25,23,28],[25,27,25,28],[26,25,26,26],[21,32,21,34],[19,100,19,103],[19,92,19,95],[21,61,21,65],[21,96,21,99],[20,61,20,65],[22,41,22,47],[22,50,22,52],[22,54,22,57],[22,61,22,65],[21,41,21,47],[19,96,19,99],[20,92,20,95],[19,3,19,5],[17,101,17,102],[19,41,19,47],[19,50,19,52],[19,54,19,57],[19,61,19,65],[17,41,17,47],[17,49,17,53],[17,87,17,90],[19,74,19,77],[19,78,19,81],[19,82,19,85],[20,74,20,77],[20,78,20,81],[20,82,20,85],[20,87,20,91],[17,74,17,77],[17,83,17,84],[22,69,22,73],[22,74,22,77],[22,96,22,99],[23,41,23,47],[23,50,23,52],[23,54,23,57],[21,74,21,77],[21,78,21,81],[21,82,21,85],[21,87,21,91],[23,69,23,73],[23,74,23,77],[22,78,22,81],[22,82,22,85],[22,87,22,91],[23,78,23,81],[23,82,23,85],[23,87,23,91],[24,69,24,73],[24,74,24,77],[24,78,24,81],[24,82,24,85],[24,87,24,91],[28,92,28,95],[27,92,27,95],[27,96,27,99],[27,100,27,103],[28,100,28,103],[28,96,28,99],[26,41,26,47],[26,50,26,52],[26,54,26,57],[26,61,26,65],[27,69,27,73],[27,74,27,77],[27,41,27,47],[27,50,27,52],[27,54,27,57],[27,61,27,65],[26,100,26,103],[26,92,26,95],[26,96,26,99],[26,69,26,73],[26,74,26,77],[26,78,26,81],[26,82,26,85],[26,87,26,91],[27,0,27,4],[27,5,27,7],[27,22,27,24],[29,41,29,47],[29,50,29,52],[29,54,29,57],[29,5,29,7],[29,8,29,10],[29,14,29,16],[29,18,29,19],[30,61,30,65],[30,41,30,47],[31,20,31,21],[30,54,30,57],[31,50,31,52],[31,54,31,57],[31,61,31,65],[31,22,31,24],[31,41,31,47],[30,22,30,24],[29,61,29,65],[28,41,28,47],[28,50,28,52],[28,54,28,57],[28,61,28,65],[30,20,30,21],[27,29,27,30],[30,5,30,7],[30,8,30,10],[30,11,30,13],[30,14,30,16],[31,5,31,7],[32,5,32,7],[32,8,32,10],[34,8,34,10],[33,61,33,65],[33,41,33,47],[32,11,32,13],[34,50,34,52],[34,41,34,47],[34,22,34,24],[34,18,34,19],[34,61,34,65],[32,18,32,19],[34,54,34,57],[32,54,32,57],[32,41,32,47],[33,50,33,52],[34,36,34,37],[32,22,32,24],[34,11,34,13],[34,14,34,16],[34,29,34,30],[33,20,33,21],[32,14,32,16],[32,20,32,21],[32,50,32,52],[33,18,33,19],[33,22,33,24],[31,14,31,16],[39,61,39,65],[35,61,35,65],[36,50,36,52],[37,50,37,52],[37,54,37,57],[36,61,36,65],[35,50,35,52],[35,54,35,57],[36,54,36,57],[36,68,36,74],[35,41,35,47],[36,41,36,47],[38,80,38,83],[37,68,37,74],[37,76,37,78],[37,80,37,83],[38,68,38,74],[37,41,37,47],[37,61,37,65],[35,69,35,73],[43,41,43,47],[43,54,43,57],[42,50,42,52],[42,54,42,57],[42,16,42,18],[42,19,42,21],[42,22,42,24],[42,41,42,47],[42,80,42,83],[42,36,42,37],[42,68,42,74],[42,61,42,65],[42,76,42,78],[43,50,43,52],[43,61,43,65],[48,19,48,21],[48,22,48,24],[44,19,44,24],[47,19,47,21],[45,93,45,102],[45,58,45,62],[46,96,46,99],[48,100,48,103],[47,92,47,95],[50,78,50,80],[50,69,50,76],[46,70,46,75],[51,69,51,76],[49,100,49,103],[48,81,48,83],[50,88,50,91],[49,88,49,91],[51,81,51,83],[48,88,48,91],[51,88,51,91],[51,84,51,87],[49,81,49,83],[50,100,50,103],[48,69,48,76],[50,96,50,99],[49,84,49,87],[48,92,48,95],[50,92,50,95],[47,100,47,103],[47,84,47,87],[47,88,47,91],[48,84,48,87],[49,92,49,95],[49,96,49,99],[51,92,51,95],[51,100,51,103],[50,81,50,83],[50,84,50,87],[58,53,58,55],[61,64,61,67],[57,68,58,103],[62,69,62,72],[62,76,62,78],[57,56,57,58],[60,98,60,103],[60,92,60,97],[61,60,61,63],[54,56,54,59],[55,64,55,66],[60,86,60,91],[58,62,58,64],[56,69,56,76],[54,84,54,87],[57,59,57,61],[56,78,56,80],[55,69,55,76],[55,78,55,80],[54,81,54,83],[54,69,54,76],[54,78,54,80],[55,96,55,99],[56,84,56,87],[55,60,55,63],[54,60,54,67],[55,56,55,58],[58,65,58,67],[58,59,58,61],[54,92,54,95],[54,96,54,99],[61,44,61,49],[63,100,63,102],[63,75,63,77],[62,100,62,102],[61,69,61,72],[61,81,61,84],[62,88,62,90],[63,95,63,97],[65,74,65,77],[66,77,66,91],[65,89,65,92],[64,69,64,72],[63,90,63,92],[63,85,63,87],[65,69,65,72],[61,55,61,59],[60,50,60,54],[61,50,61,54],[59,60,59,63],[57,65,57,67],[65,7,65,9],[63,22,63,24],[59,0,59,6],[58,0,58,6],[57,0,57,6],[59,7,59,9],[55,10,55,12],[56,13,56,15],[58,7,58,9],[57,10,57,12],[58,13,58,15],[55,13,55,15],[60,0,60,6],[60,13,60,15],[58,16,58,18],[57,16,57,18],[57,13,57,15],[60,10,60,12],[60,22,60,24],[56,16,56,18],[57,19,57,21],[57,22,57,24],[55,16,55,18],[55,19,55,21],[61,22,61,24],[59,19,59,21],[58,19,58,21],[56,19,56,21],[56,22,56,24],[59,16,59,18],[59,13,59,15],[68,10,68,12],[69,40,69,67],[68,40,68,43],[68,44,68,48],[67,68,70,72],[70,58,70,62],[70,54,70,57],[73,63,73,67],[72,35,72,37],[70,63,70,67],[71,63,71,67],[72,63,72,67],[69,35,69,37],[73,40,73,43],[73,7,73,9],[67,54,67,57],[67,58,67,62],[67,63,67,67],[68,49,68,53],[68,54,68,57],[68,58,68,62],[68,63,68,67],[67,44,67,48],[67,49,67,53],[71,40,71,43],[71,32,71,33],[73,10,73,12],[70,40,70,43],[72,10,72,12],[72,32,72,33],[70,7,70,9],[73,49,73,53],[76,35,76,37],[74,40,74,43],[75,29,75,30],[69,19,69,21],[73,87,73,93],[74,78,74,84],[74,88,74,92],[73,78,73,84],[80,35,81,38],[81,40,81,43],[81,68,82,103],[79,102,79,103],[80,97,80,99],[79,98,79,99],[78,92,78,95],[78,68,78,72],[74,69,74,75],[81,58,81,62],[80,63,80,67],[80,79,80,81],[80,58,80,62],[79,58,79,62],[78,78,78,82],[70,44,70,48],[80,54,80,57],[81,44,81,48],[75,54,75,57],[77,78,77,82],[76,70,76,73],[77,83,77,87],[78,83,78,87],[74,97,74,101],[66,35,66,38],[73,32,73,33],[62,13,62,15],[61,16,61,18],[67,40,67,43],[72,29,72,30],[77,44,77,48],[73,35,73,37],[61,13,61,15],[76,29,76,30],[68,22,68,24],[76,10,76,24],[75,40,75,43],[62,29,62,30],[62,22,62,24],[72,44,72,48],[68,35,68,37],[70,32,70,33],[73,25,73,28],[75,44,75,48],[72,40,72,43],[75,35,75,37],[73,44,73,48],[74,35,74,37],[71,44,71,48],[71,25,71,28],[73,16,73,18],[70,35,70,37],[69,32,69,33],[70,19,70,21],[73,13,73,15],[68,13,68,15],[72,22,72,24],[72,19,72,21],[73,19,73,21],[61,7,61,9],[58,10,58,12],[67,19,67,21],[66,22,66,24],[62,19,62,21],[64,19,64,21],[64,22,64,24],[60,7,60,9],[62,10,62,12],[62,7,62,9],[63,7,63,9],[67,22,67,24],[65,16,65,18],[67,13,67,15],[63,16,63,18],[64,16,64,18],[65,10,65,12],[67,10,67,12],[64,7,64,9],[67,16,67,18],[63,10,63,12],[64,10,64,12],[64,13,64,15],[65,19,65,21],[65,22,65,24],[66,13,66,15],[60,19,60,21],[60,16,60,18],[73,22,73,24],[83,26,83,27],[81,16,81,18],[83,19,83,21],[82,19,82,21],[81,19,81,21],[82,22,82,24],[80,25,81,28],[92,32,92,34],[91,28,91,29],[91,30,91,31],[83,29,83,30],[89,32,89,34],[91,26,91,27],[88,28,88,29],[88,32,88,34],[83,32,83,33],[81,22,81,24],[68,32,68,33],[61,19,61,21],[63,19,63,21],[62,16,62,18],[91,35,91,36],[91,32,91,34],[91,44,91,46],[67,7,67,9],[68,29,68,30],[73,29,73,30],[72,25,72,28],[88,30,88,31],[91,37,91,38],[91,40,91,43],[69,0,69,6],[73,0,73,6],[68,16,68,18],[71,7,71,9],[72,0,72,6],[68,0,68,6],[70,0,70,6],[71,16,71,18],[69,29,69,30],[70,29,70,30],[71,29,71,30],[71,22,71,24],[71,35,71,37],[81,32,81,34],[81,29,81,31],[76,25,76,28],[74,29,74,30],[83,22,83,24],[76,32,76,33],[75,32,75,33],[74,32,74,33],[92,40,92,43],[92,44,92,46],[92,47,92,49],[91,53,91,58],[88,45,88,48],[89,40,89,43],[84,40,84,43],[83,36,83,37],[82,40,82,43],[84,49,84,53],[90,40,90,43],[90,62,90,64],[83,49,83,53],[84,54,84,57],[90,45,90,46],[90,56,90,58],[89,62,89,64],[83,44,83,48],[88,51,88,54],[82,58,82,62],[82,63,82,67],[82,44,82,48],[83,40,83,43],[90,65,90,67],[91,50,91,52],[83,58,83,62],[92,62,92,67],[84,63,84,67],[92,53,92,58],[90,53,90,55],[83,63,83,67],[92,50,92,52],[91,62,91,67],[74,54,74,57],[82,49,82,53],[81,54,81,57],[83,54,83,57],[74,49,74,53],[88,62,88,67],[74,58,74,62],[74,63,74,67],[78,49,78,53],[79,54,79,57],[77,49,77,53],[91,47,91,49],[82,54,82,57],[84,44,84,48],[81,49,81,53],[90,47,90,49],[79,44,79,48],[78,54,78,57],[90,51,90,52],[80,44,80,48],[84,58,84,62],[90,59,90,61],[81,63,81,67],[79,63,79,67],[75,58,75,62],[76,63,76,67],[78,58,78,62],[76,58,76,62],[77,63,77,67],[78,63,78,67],[77,58,77,62],[80,93,80,95],[78,100,78,103],[77,88,77,91],[80,74,80,76],[78,73,78,77],[80,101,80,103],[80,83,80,87],[78,96,78,99],[78,88,78,91],[80,89,80,91],[80,69,80,71],[68,92,68,94],[68,83,68,85],[68,80,68,82],[70,80,70,82],[70,78,70,79],[68,73,68,76],[71,84,72,103],[68,95,68,97],[77,92,77,95],[73,96,73,102],[70,73,70,76],[71,68,72,83],[76,79,76,82],[67,83,67,85],[70,95,70,97],[68,86,68,88],[68,89,68,91],[62,82,62,84],[65,79,65,82],[62,94,62,96],[70,89,70,91],[68,77,68,79],[67,80,67,82],[55,100,55,103],[53,100,53,103],[56,92,56,95],[52,96,52,99],[54,100,54,103],[67,89,67,91],[68,101,68,103],[56,96,56,99],[56,81,56,83],[52,81,52,83],[53,96,53,99],[70,101,70,103],[70,98,70,100],[70,92,70,94],[70,86,70,88],[52,78,52,80],[53,81,53,83],[53,84,53,87],[53,88,53,91],[52,100,52,103],[56,88,56,91],[55,92,55,95],[20,100,20,103],[25,92,25,95],[23,92,23,95],[23,96,23,99],[22,100,22,103],[20,96,20,99],[23,100,23,103],[22,92,22,95],[21,100,21,103],[21,92,21,95],[76,88,76,91],[76,97,76,100],[54,88,54,91],[42,94,42,96],[40,86,40,92],[40,94,40,96],[24,92,24,95],[24,96,24,99],[24,100,24,103],[25,96,25,99],[25,100,25,103],[56,100,56,103],[52,92,52,95],[51,96,51,99],[48,96,48,99],[46,100,46,103],[65,99,65,102],[67,98,67,103],[65,94,65,97],[65,84,65,87],[53,92,53,95],[52,88,52,91],[14,83,15,96],[55,81,55,83],[55,84,55,87],[55,88,55,91],[42,86,42,92],[36,94,36,96],[30,96,30,99],[38,86,38,92],[35,94,35,96],[14,68,15,82],[29,96,29,99],[41,98,41,101],[37,94,37,96],[29,100,29,103],[30,100,30,103],[29,92,29,95],[35,99,35,102],[36,98,36,101],[36,86,36,92],[39,98,39,101],[38,98,38,101],[37,98,37,101],[38,94,38,96],[39,94,39,96],[31,100,31,103],[40,98,40,101],[37,86,37,92],[35,87,35,91],[32,100,32,103],[41,86,41,92],[45,85,45,90],[43,84,44,103],[19,25,19,28],[19,29,19,31],[20,29,20,31],[22,29,22,31],[22,32,22,34],[23,29,23,31],[23,32,23,34],[23,35,23,38],[17,36,17,38],[49,40,49,46],[14,25,15,25],[14,26,15,28],[15,29,15,30],[15,32,15,33],[18,28,18,30],[16,32,16,33],[17,32,17,34],[18,31,18,34],[15,35,15,37],[20,35,20,38],[45,36,45,37],[16,36,16,37],[40,41,40,47],[41,36,41,37],[41,41,41,47],[39,41,39,47],[38,41,38,47],[35,36,35,37],[36,29,36,30],[24,29,24,30],[24,31,24,32],[24,33,24,34],[24,37,24,38],[25,25,25,26],[42,98,42,101],[41,32,41,35],[42,32,42,35],[40,50,40,52],[40,36,40,37],[45,32,45,35],[44,25,44,28],[45,25,45,28],[27,33,27,34],[40,29,40,30],[44,29,44,30],[35,29,35,30],[40,32,40,35],[26,27,26,28],[27,25,27,26],[24,35,24,36],[30,50,30,52],[33,54,33,57],[43,68,44,83],[31,96,31,99],[31,92,31,95],[32,61,32,65],[32,92,32,95],[33,84,34,97],[33,68,34,81],[32,96,32,99],[30,92,30,95],[27,78,27,81],[29,78,29,81],[28,69,28,73],[25,29,26,30],[25,31,26,32],[46,25,46,28],[25,35,26,36],[44,36,44,37],[41,29,41,30],[45,29,45,30],[27,35,27,36],[46,29,46,30],[46,32,46,35],[27,27,27,28],[25,33,26,34],[53,69,53,76],[53,78,53,80],[52,69,52,76],[50,56,50,58],[49,47,49,50],[49,51,49,54],[49,55,49,58],[48,63,48,66],[49,63,49,67],[50,25,50,28],[38,50,38,52],[38,54,38,57],[38,61,38,65],[38,76,38,78],[51,25,51,28],[51,29,51,32],[50,29,50,32],[51,36,51,38],[50,60,50,62],[51,78,51,80],[54,40,54,43],[27,31,27,32],[44,32,44,35],[48,57,48,60],[48,78,48,80],[49,78,49,80],[49,69,49,76],[52,84,52,87],[55,44,55,46],[57,62,57,64],[47,96,47,99],[40,68,41,74],[39,80,39,83],[39,50,39,52],[41,61,41,65],[39,68,39,74],[39,76,39,78],[41,54,41,57],[39,54,39,57],[40,54,40,57],[41,50,41,52],[45,78,45,83],[47,69,47,76],[47,78,47,80],[47,81,47,83],[57,44,57,47],[55,40,55,43],[50,48,50,50],[50,51,50,54],[48,51,48,54],[54,44,54,47],[50,64,50,67],[60,36,60,37],[55,35,55,38],[58,40,58,43],[75,25,75,28],[61,40,61,43],[65,40,65,43],[61,36,61,37],[61,29,61,30],[60,29,60,30],[58,49,58,51],[57,52,57,55],[60,55,60,59],[60,44,60,49],[18,35,18,38],[41,94,41,96],[22,35,22,38],[21,35,21,38],[19,35,19,38],[46,36,46,37],[32,74,32,77],[32,78,32,81],[32,82,32,85],[39,86,39,92],[50,33,50,38],[25,37,26,38],[27,37,27,38],[36,36,36,37],[36,80,36,83],[20,32,20,34],[54,48,54,51],[54,52,54,55],[51,33,51,35],[78,44,78,48],[79,49,79,53],[58,45,58,47],[58,56,58,58],[60,60,60,63],[65,44,65,50],[65,54,65,57],[65,58,65,64],[66,40,66,67],[76,54,76,57],[75,63,75,67],[57,48,57,51],[75,49,75,53],[71,58,71,62],[73,58,73,62],[72,58,72,62],[54,25,54,32],[55,48,55,50],[55,52,55,54],[74,25,74,28],[70,25,70,28],[68,25,68,28],[69,25,69,28],[66,32,66,34],[76,40,76,43],[74,44,74,48],[71,49,71,53],[72,49,72,53],[70,49,70,53],[71,54,71,57],[72,54,72,57],[73,54,73,57],[78,2,78,3],[78,4,78,6],[72,7,72,9]],"merged_total":1084,"flags":["merged_cut"]}
[{"$f":"+データ一覧!N5","v":0}]
[{"$f":"+データ一覧!N8","v":0}]
[]
[null,null,null,null,null,null,null,null,null,null,null,null,null,null,null,null,null,null,null,null,null,null,null,null,null,null,null,null,"【市章とそのいわれ】","越前（ECHIZEN）市の頭文字である「Ｅ」をモチーフに",null,null,null,null,null,null,null,null,null,null,"　【位置および地勢】越前市は、福井県のほぼ中央に位置し、市の中央を北陸自動車道と",null,null,null,null,null,null,null,null,null,null,null,null,null,null,null,null,null,null,null,null,null,null,null,null,null,null,null,null,null,null,"所在地",null,null,null,null,null,null,null,"〒915-8530"]
[null,null,null,null,null,null,null,null,null,null,null,null,null,null,null,null,null,null,null,null,null,null,null,null,null,null,null,null,null,"デザイン化しています。",null,null,null,null,null,null,null,null,null,null,null,"国道８号が縦断し、関西・中央圏などの主要都市や福井市・敦賀市など周辺都市との",null,null,null,null,null,null,null,null,null,null,null,null,null,null,null,null,null,null,null,null,null,null,null,null,null,null,null,null,null,null,null,null,null,null,null,null,null,"越前市府中一丁目１３番７号"]
[{"$f":"+データ一覧!N6","v":"えちぜんし"},null,null,null,null,null,null,null,null,null,null,null,null,null,null,null,null,null,null,null,null,null,null,null,null,null,null,null,null,"３つの太く流れるようなラインは、かつて越前の国府が",null,null,null,null,null,null,null,null,null,null,null,"交通の動脈となっている。"]
[{"$f":"データ一覧!N9","v":"越前市"},null,null,null,null,null,null,null,null,null,null,null,null,null,null,null,null,null,null,null,null,null,null,null,null,null,null,null,null,"置かれて以来連綿と積み重ねられてきた歴史、伝統、",null,null,null,null,null,null,null,null,null,null,null,"また、両路線に交差するように国道417号や県道、主要地方道が横断している。",null,null,null,null,null,null,null,null,null,null,null,null,null,null,null,null,null,null,null,null,null,null,null,null,null,null,null,null,null,"電話番号",null,null,null,null,null,null,null,"（０７７８）２２－３０００"]
[null,null,null,null,null,null,null,null,null,null,null,null,null,null,null,null,null,null,null,null,null,null,null,null,null,null,null,null,null,"文化そして豊かな自然を、また、越前市の将来像である",null,null,null,null,null,null,null,null,null,null,null,"地形は、東部の越前中央山脈、西部の丹生山地、南部の「越前冨士」と呼ばれる"]
[null,null,null,null,null,null,null,null,null,null,null,null,null,null,null,null,null,null,null,null,null,null,null,null,null,null,null,null,null,"「交流拠点都市」、「生活快適都市」、「伝統文化都市」",null,null,null,null,null,null,null,null,null,null,null,"日野山など、４００～７００メートル級の山々に囲まれ、武生盆地を作っている。"]
[null,null,null,null,null,null,null,null,null,null,null,null,null,null,null,null,null,null,null,null,null,null,null,null,null,null,null,null,null,"を表現している。",null,null,null,null,null,null,null,null,null,null,null,"武生盆地の中央を、県内三大河川のひとつ日野川が南北に貫流し、九頭竜川と名を",null,null,null,null,null,null,null,null,null,null,null,null,null,null,null,null,null,null,null,null,null,null,null,null,null,null,null,null,null,"最寄駅および距離",null,null,null,null,null,null,null,"ＪＲ北陸本線武生駅  下車１００ｍ"]
[null,null,null,null,null,null,null,null,null,null,null,null,null,null,null,null,null,null,null,null,null,null,null,null,null,null,null,null,null,null,null,null,null,null,null,null,null,null,null,null,null,"変えて日本海に注いでいる。旧今立町内に流れる五つの川は、鞍谷川に合流した後、"]
[null,null,null,null,null,null,null,null,null,null,null,null,null,null,null,null,null,null,null,null,null,null,null,null,null,"【市が掲げる標語】　　環境・文化創造都市",null,null,null,null,null,null,null,null,null,null,null,null,null,null,null,"福井市内で日野川に合流している。"]
[null,null,null,null,null,null,null,null,null,null,null,null,null,null,null,null,null,null,null,null,null,null,null,null,null,null,null,null,null,null,null,null,null,null,null,null,null,null,null,null,null,null,null,null,null,null,null,null,null,null,null,null,null,null,null,null,null,null,null,null,null,null,null,null,null,null,null,null,null,null,null,"ホームページ",null,null,null,null,null,null,null,"http://www.city.echizen.lg.jp/"]
[]
["  １  土            　　地",null,null,null,null,null,null,null,null,null,null,null,null,null,null,null,null,null,null,null,null,null,null,null,null,{"$f":"データ一覧!$A$247","v":"元年"},"産米収穫量",null,null,"　 収　穫　量",null,null," 　作 付 面 積",null,null,"   10a当たり収量",null,null,null,null,null,null,null,null,null,null,null,null,null,null,null,null,null,null,null,null,null,null,null,null,null,null,null,null,null,null,null,null," １５  労　　　　　　　働",null,null,null,null,null,null,null,null,null,null,null,null,null,null,"27.10.1"]
[null,null,null,null,null,null,null,null,null,null,null,null,null,null,null,null,null,null,null,null,null,null,null,null,null,null,null,null,null,{"$f":"データ一覧!$N$247","v":13400},null,"t",{"$f":"データ一覧!$N$248","v":2550},null,"ha",{"$f":"データ一覧!N249","v":525},null,null,"kg",null," １０  工　　　　　　業 ",null,null,null,null,null,null,null,null,null,null,null,null,null,{"$f":"データ一覧!$A$339","v":"元.6.1（平成30年実績）"}]
["   総          面           積",null,null,null,null,null,null,null,null,null," 固 定 資 産 概 要 調 書 に よ る 地 目 別 面 積",null,null,null,null,null,null,null,null,null,null,null,null,null,null,null,null,null,"   総　　　数",null,null,null,"うち　　田",null,null,null,"うち　　畑",null,null,null,null,null,null,null,null,null,null,null,null,null,null,null,null,null,null,null,null,null,null,null,null,null,null,null,null,null,null,null,null,null,null,null,null,null,null,"産業別就業者数   "]
[null,null,{"$f":"データ一覧!$A$10","v":"2.10.1"},null,null,null,null,null,null,null,null,null,null,null,null,null,{"$f":"データ一覧!$A$12","v":"2.1.1"},null,null,null,null,null,null,null,null," 耕  地  面  積",null,null,null,"       ha",null,null,"ha ",null,null,null,"ha ",null,null,null,"      ","産業分類",null,null,null,null,null,null,null,"事業所数",null,null,null,null,"従業者数",null,null,null,null,null,"年間製造品出荷額等",null,null,null,null,null,null,null,null,"区  分",null,null,null,null,"総    数",null,null,null,null,"男",null,null,null,"女",null,null,"  ","区  分",null,null,null,null,"総    数",null,null,null,null,"男",null,null,null,"女"]
[null,null,null,null,null,null,"㎢",null,null,null,"   総       数",null,null,null,null,"  う ち     田",null,null,null,null,"  う ち     畑",null,null,null,null,{"$f":"データ一覧!$A$250","v":"元.7.15"},null,null,{"$f":"データ一覧!$N$250","v":3640},null,null,{"$f":"データ一覧!$N$251","v":3460},null,null,null,{"$f":"データ一覧!$N$252","v":181},null,null,null,null,null,null,null,null,null,null,null,null,null,"　　   ",null,null,"事業所",null,"　　　　　　　 人",null,null,"人",null,"　　　　　　　　　　　　　　万円",null,null,null,null,null,null,"万円",null,null,null,null,null,null,null,"      人",null,null,null,null,null," 人",null,null,null," 人",null,null,null,null,null,null,null,"      人",null,null,null,"      人",null,null,null,"      人"]
[null,null,null,{"$f":"データ一覧!N10","v":230.7},null,null,null,null,null,null,null,null,null,null,"ha",null,null,null,null,"ha",null,null,null,null,"ha","農 業 生 産 物",null,null,null,"作 付 面 積",null,null,"収 穫 量",null,null,"10a当たり収量",null,null,null,null,"     ","総数",null,null,null,null,null,null,null,null,{"$f":"データ一覧!N339","v":292},null,null,null,{"$f":"+データ一覧!N364","v":16730},null,null,null,null,null,null,{"$f":"データ一覧!N389","v":66568700},null,null,null,null,null,null," 総　　　数",null,null,null,null,null,{"$f":"CA20+CE20","v":41593},null,null,null,{"$f":"データ一覧!N514","v":22823},null,null,null,{"$f":"データ一覧!N539","v":18770}]
[null,null,null,null,null,null,null,null,null,null,null,{"$f":"データ一覧!N12","v":13154.8},null,null,null,null,{"$f":"データ一覧!N13","v":3723},null,null,null,null,{"$f":"データ一覧!N14","v":335},null,null,null,{"$f":"データ一覧!$A$253","v":"元年中"},null,null,null,"ha",null,null,"t",null,null,"kg",null,null,null,null,"     食料品","食料品",null,null,null,null,null,null,null,null,{"$f":"データ一覧!N340","v":30},null,null,null,{"$f":"+データ一覧!N365","v":905},null,null,null,null,null,null,{"$f":"データ一覧!N390","v":1365283},null,null,null,null,null,null,null,null,null,null,null,null,null,null,null,null,null,null,null,null,null,null,null,null,null,"卸売業,小売業",null,null,null,null,{"$f":"CS21+CW21","v":6078},null,null,null,{"$f":"データ一覧!N527","v":2788},null,null,null,{"$f":"データ一覧!N552","v":3290}]
["  町 ･ 丁 ･ 大 字",null,null,null,null,null,null,null,null,null,"  う ち  宅 地",null,null,null,null,"  う ち  山 林",null,null,null,null,"  う ち  原 野",null,null,null,null,"水　　　　　稲",null,null,null,{"$f":"データ一覧!N253","v":2550},null,null,{"$f":"データ一覧!N254","v":13400},null,null,{"$f":"データ一覧!N255","v":525},null,null,null,null,"     飲料・飼料","飲料・飼料",null,null,null,null,null,null,null,null,{"$f":"データ一覧!N341","v":1},null,null,null,{"$f":"+データ一覧!N366","v":6},null,null,null,null,null,null,{"$f":"データ一覧!N391","v":"x"},null,null,null,null,null,null," 第１次産業",null,null,null,null,null,{"$f":"CA22+CE22","v":1153},null,null,null,{"$f":"データ一覧!N515","v":821},null,null,null,{"$f":"データ一覧!N540","v":332},null,null,null,null,"金融業,保険業",null,null,null,null,{"$f":"CS22+CW22","v":758},null,null,null,{"$f":"データ一覧!N528","v":315},null,null,null,{"$f":"データ一覧!N553","v":443}]
["  区    画    数",null,null,null,null,null,null,{"$f":"データ一覧!N11","v":253},null,null,null,null,null,null,"ha",null,null,null,null,"ha",null,null,null,null,"ha","六　条　大　麦",null,null,null,{"$f":"データ一覧!N256","v":224},null,null,{"$f":"データ一覧!N257","v":598},null,null,{"$f":"データ一覧!N258","v":267},null,null,null,null,"     繊維","繊維",null,null,null,null,null,null,null,null,{"$f":"データ一覧!N342","v":66},null,null,null,{"$f":"+データ一覧!N367","v":1599},null,null,null,null,null,null,{"$f":"データ一覧!N392","v":2481746},null,null,null,null,null,null,"  ","農業",null,null,null,null,{"$f":"CA23+CE23","v":1097},null,null,null,{"$f":"データ一覧!N516","v":769},null,null,null,{"$f":"データ一覧!N541","v":328},null,null,null,"  ","不動産業",null,null,null,null,307,null,null,null,{"$f":"データ一覧!N529","v":155},null,null,null,{"$f":"データ一覧!N554","v":152}]
[{"$f":"データ一覧!$A$11","v":"31.4.1"},null,null,null,null,null,null,null,null,null,null,{"$f":"データ一覧!N15","v":1923.2},null,null,null,null,{"$f":"データ一覧!N16","v":4839},null,null,null,null,{"$f":"データ一覧!N17","v":111.5},null,null,null,"大　　      豆",null,null,null,{"$f":"データ一覧!N259","v":70},null,null,{"$f":"データ一覧!N260","v":72},null,null,{"$f":"データ一覧!N261","v":103},null,null,null,null,"     衣服","木材",null,null,null,null,null,null,null,null,{"$f":"データ一覧!N343","v":10},null,null,null,{"$f":"+データ一覧!N368","v":153},null,null,null,null,null,null,{"$f":"データ一覧!N393","v":268155},null,null,null,null,null,null,"  ","林業",null,null,null,null,48,null,null,null,{"$f":"データ一覧!N517","v":45},null,null,null,{"$f":"データ一覧!N542","v":3},null,null,null,"  ","学術研究",null,null,null,null,897,null,null,null,{"$f":"データ一覧!N530","v":554},null,null,null,{"$f":"データ一覧!N555","v":343}]
["  ２  世　帯　数　と　人　口",null,null,null,null,null,null,null,null,null,null,null,null,null,null,null,null,null,null,null,null,null,null,null,null,null,null,"  区　分",null," 乳 用 牛",null," 肉 用 牛",null,"豚",null,"採卵鶏",null,"ブロイラー",null,null,"     木材","家具",null,null,null,null,null,null,null,null,{"$f":"データ一覧!N344","v":4},null,null,null,{"$f":"+データ一覧!N369","v":132},null,null,null,null,null,null,{"$f":"データ一覧!N394","v":303490},null,null,null,null,null,null,"  ","漁業",null,null,null,null,8,null,null,null,{"$f":"データ一覧!N518","v":7},null,null,null,{"$f":"データ一覧!N543","v":1},null,null,null,"  ","宿泊業,飲食ｻｰﾋﾞｽ",null,null,null,null,1711,null,null,null,{"$f":"データ一覧!N531","v":619},null,null,null,{"$f":"データ一覧!N556","v":1092}]
[null,null,null,null,null,null,null,null,null,null,null,null,null,null,null,null,null,null,null,null,null,null,null,null,null,"畜　産",null," 飼養農家",null,{"$f":"データ一覧!$N$262","v":"-"},null,{"$f":"データ一覧!$N$264","v":"x"},null,{"$f":"データ一覧!$N$266","v":"x"},null,{"$f":"データ一覧!$N$268","v":4},null,{"$f":"データ一覧!$N$270","v":"-"},null,null,"     家具","パルプ・紙",null,null,null,null,null,null,null,null,{"$f":"データ一覧!N345","v":39},null,null,null,{"$f":"+データ一覧!N370","v":648},null,null,null,null,null,null,{"$f":"データ一覧!N395","v":1484730},null,null,null,null,null,null," 第２次産業",null,null,null,null,null,17417,null,null,null,{"$f":"データ一覧!N519","v":11673},null,null,null,{"$f":"データ一覧!N544","v":5744},null,null,null,"  ","生活関連ｻｰﾋﾞｽ業",null,null,null,null,1214,null,null,null,{"$f":"データ一覧!N532","v":435},null,null,null,{"$f":"データ一覧!N557","v":779}]
[null,null,null,null,null,null,null,null,"        人　　　　　　　　　　口",null,null,null,null,null,null,null,null,null,null,null,"１世帯当",null,"人    口",null,null,{"$f":"データ一覧!$A$262","v":"2.3.31"},null,"（戸）",null,null,null,null,null,null,null,null,null,null,null,null,"     パルプ・紙","印刷",null,null,null,null,null,null,null,null,{"$f":"データ一覧!N346","v":9},null,null,null,{"$f":"+データ一覧!N371","v":106},null,null,null,null,null,null,{"$f":"データ一覧!N396","v":139391},null,null,null,null,null,null,null,"鉱業，採石業",null,null,null,null,10,null,null,null,{"$f":"データ一覧!N520","v":10},null,null,null,{"$f":"データ一覧!N545","v":0},null,null,null,"  ","教育,学習支援業",null,null,null,null,1642,null,null,null,{"$f":"データ一覧!N533","v":640},null,null,null,{"$f":"データ一覧!N558","v":1002}]
[" 区　　　　分",null,null,null,null,"世帯数",null,null," 総   数",null,null,"    男",null,null,"    女",null,null,"  男／女",null,null,"たり人員",null,"密    度",null,null,null,null," 頭 羽",null,{"$f":"データ一覧!$N$263","v":"-"},null,{"$f":"データ一覧!$N$265","v":10},null,{"$f":"データ一覧!$N$267","v":1225},null,{"$f":"データ一覧!$N$269","v":49690},null,{"$f":"データ一覧!$N$271","v":"-"},null,null,"     出版・印刷","化学",null,null,null,null,null,null,null,null,{"$f":"データ一覧!N347","v":5},null,null,null,{"$f":"+データ一覧!N372","v":446},null,null,null,null,null,null,{"$f":"データ一覧!N397","v":2749396},null,null,null,null,null,null,"  ","建設業",null,null,null,null,3147,null,null,null,{"$f":"データ一覧!N521","v":2623},null,null,null,{"$f":"データ一覧!N546","v":524},null,null,null,null,"医療，福祉",null,null,null,null,4460,null,null,null,{"$f":"データ一覧!N534","v":787},null,null,null,{"$f":"データ一覧!N559","v":3673}]
[null,null,null,null,null,"    世 帯",null,null,"       人",null,null,"       人",null,null,"       人",null,null,null,"　　％",null,"    人",null,"    人/㎢",null,null,null,null,null,null,null,null,null,null,null,null,null,null,null,null,null,"     化学","石油・石炭",null,null,null,null,null,null,null,null,{"$f":"データ一覧!N348","v":1},null,null,null,{"$f":"+データ一覧!N373","v":5},null,null,null,null,null,null,{"$f":"データ一覧!N398","v":"x"},null,null,null,null,null,null,null,"製造業",null,null,null,null,14260,null,null,null,{"$f":"データ一覧!N522","v":9040},null,null,null,{"$f":"データ一覧!N547","v":5220},null,null,null,null,"複合サービス事業",null,null,null,null,430,null,null,null,{"$f":"データ一覧!N535","v":252},null,null,null,{"$f":"データ一覧!N560","v":178}]
[{"$f":"データ一覧!$A$25","v":" 2.10.1"},null,null,null,null,{"$f":"データ一覧!N25","v":22678},null,null,{"$f":"+L30+O30","v":84897},null,null,{"$f":"データ一覧!N27","v":41272},null,null,{"$f":"データ一覧!N28","v":43625},null,null,null,{"$f":"+L30/O30*100","v":94.606303724928367},null,{"$f":"データ一覧!N30","v":3.74},null,{"$f":"データ一覧!N24","v":0},null,null,"  ５  林               業",null,null,null,null,null,null,null,null,null,null,null,null,null,null,"     石油・石炭","プラスチック",null,null,null,null,null,null,null,null,{"$f":"データ一覧!N349","v":28},null,null,null,{"$f":"+データ一覧!N374","v":1148},null,null,null,null,null,null,{"$f":"データ一覧!N399","v":2965187},null,null,null,null,null,null," 第３次産業",null,null,null,null,null,22259,null,null,null,{"$f":"データ一覧!N523","v":9904},null,null,null,{"$f":"データ一覧!N548","v":12355},null,null,null,null,"サービス業",null,null,null,null,1747,null,null,null,{"$f":"データ一覧!N536","v":1109},null,null,null,{"$f":"データ一覧!N561","v":638}]
[{"$f":"データ一覧!$A$32","v":" 7.10.1"},null,null,null,null,{"$f":"データ一覧!N32","v":24233},null,null,{"$f":"+L31+O31","v":85533},null,null,{"$f":"データ一覧!N34","v":41641},null,null,{"$f":"データ一覧!N35","v":43892},null,null,null,94.8715027795498,null,{"$f":"データ一覧!N37","v":3.53},null,{"$f":"データ一覧!N31","v":0},null,null,null,null,null,null,null,null,null,null,null,null,null,null,null,null,null,"     プラスチック","ゴム",null,null,null,null,null,null,null,null,{"$f":"データ一覧!N350","v":1},null,null,null,{"$f":"+データ一覧!N375","v":116},null,null,null,null,null,null,{"$f":"データ一覧!N400","v":"x"},null,null,null,null,null,null,null,"電気･ｶﾞｽ･水道業",null,null,null,null,153,null,null,null,{"$f":"データ一覧!N524","v":129},null,null,null,{"$f":"データ一覧!N549","v":24},null,null,null,null,"公務",null,null,null,null,1100,null,null,null,{"$f":"データ一覧!N537","v":719},null,null,null,{"$f":"データ一覧!N562","v":381}]
[{"$f":"データ一覧!$A$39","v":"12.10.1"},null,null,null,null,{"$f":"データ一覧!N39","v":26461},null,null,{"$f":"+L32+O32","v":87699},null,null,{"$f":"データ一覧!N41","v":42858},null,null,{"$f":"データ一覧!N42","v":44841},null,null,null,95.577707901251088,null,{"$f":"データ一覧!N44","v":3.31},null,{"$f":"データ一覧!N38","v":0},null,null,"    　森　　　林　　　総　　　面　　　積   ",null,null,null,null,null,null,null,{"$f":"データ一覧!$A$272","v":"2.3.31"},null,null,null,null,null,null,"     ゴム","皮革",null,null,null,null,null,null,null,null,{"$f":"データ一覧!N351","v":0},null,null,null,{"$f":"+データ一覧!N376","v":0},null,null,null,null,null,null,{"$f":"データ一覧!N401","v":0},null,null,null,null,null,null,null,"情報通信業",null,null,null,null,367,null,null,null,{"$f":"データ一覧!N525","v":262},null,null,null,{"$f":"データ一覧!N550","v":105},null,null,null," 分類不能の産業",null,null,null,null,null,764,null,null,null,{"$f":"データ一覧!N538","v":425},null,null,null,{"$f":"データ一覧!N563","v":339}]
[{"$f":"+データ一覧!$A$46","v":"17.10.1"},null,null,null,null,{"$f":"データ一覧!N46","v":27916},null,null,{"$f":"+L33+O33","v":87742},null,null,{"$f":"データ一覧!N48","v":42706},null,null,{"$f":"データ一覧!N49","v":45036},null,null,null,94.826361133315572,null,{"$f":"データ一覧!N51","v":3.14},null,{"$f":"データ一覧!N52","v":380.2},null,null,"　　　森　　　　　　　林　　　　　　　の　　　　　　　構　　　　　　　成",null,null,null,null,null,null,null,null,null,null,null,null,null,null,"     皮革","窯業・土石",null,null,null,null,null,null,null,null,{"$f":"データ一覧!N352","v":14},null,null,null,{"$f":"+データ一覧!N377","v":482},null,null,null,null,null,null,{"$f":"データ一覧!N402","v":1503573},null,null,null,null,null,null,"  ","運輸業,郵便業",null,null,null,null,{"$f":"CA33+CE33","v":1395},null,null,null,{"$f":"データ一覧!N526","v":1140},null,null,null,{"$f":"データ一覧!N551","v":255}]
[{"$f":"+データ一覧!$A$53","v":"22.10.1"},null,null,null,null,{"$f":"+データ一覧!N53","v":27601},null,null,{"$f":"+L34+O34","v":85614},null,null,{"$f":"+データ一覧!N55","v":41762},null,null,{"$f":"+データ一覧!N56","v":43852},null,null,null,95.233968804159446,null,{"$f":"+データ一覧!N58","v":3.1},null,{"$f":"+データ一覧!N59","v":371},null,null,null,null,null,null,null,"       ha",null,null,null,null,null,null,"       ha",null,null,"     窯業・土石","鉄鋼",null,null,null,null,null,null,null,null,{"$f":"データ一覧!N353","v":4},null,null,null,{"$f":"+データ一覧!N378","v":91},null,null,null,null,null,null,{"$f":"データ一覧!N403","v":625723},null,null,null,null,null,null," １６  社　 会 　福　 祉",null,null,null,null,null,null,null,null,null,null,null,null,null,null,null,{"$f":"データ一覧!$A$564","v":"2.4.1"}]
[{"$f":"データ一覧!$A$60","v":"27.10.1"},null,null,null,null,{"$f":"データ一覧!N60","v":27889},null,null,{"$f":"データ一覧!N61","v":81524},null,null,{"$f":"データ一覧!N62","v":39859},null,null,{"$f":"データ一覧!N63","v":41665},null,null,null,95.665426617064682,null,{"$f":"データ一覧!N65","v":2.9231596686865791},null,{"$f":"データ一覧!N66","v":353.4},null,null,"  総　　　　　   数",null,null,null,{"$f":"データ一覧!N272","v":14185.619999999997},null,null," 天然林       針葉樹",null,null,null,{"$f":"データ一覧!N275","v":627.94999999999698},null,null,null,"     鉄鋼","非鉄金属",null,null,null,null,null,null,null,null,{"$f":"データ一覧!N354","v":4},null,null,null,{"$f":"+データ一覧!N379","v":298},null,null,null,null,null,null,{"$f":"データ一覧!N404","v":2653106}]
[{"$f":"+データ一覧!$A$67","v":"2.10.1"},null,null,null,null,{"$f":"データ一覧!N67","v":29757},null,null,{"$f":"データ一覧!N76","v":80268},null,null,{"$f":"データ一覧!N77","v":39485},null,null,{"$f":"データ一覧!N78","v":40783},null,null,null,{"$f":"+L36/O36*100","v":96.817301326533112},null,{"$f":"データ一覧!N68","v":2.7},null,{"$f":"データ一覧!N69","v":347.9323797139142},null,null,"  人工林     針葉樹",null,null,null,{"$f":"データ一覧!N273","v":7775.7800000000007},null,null," 天然林       広葉樹",null,null,null,{"$f":"データ一覧!N276","v":5465.82},null,null,null,"     非鉄金属","金属",null,null,null,null,null,null,null,null,{"$f":"データ一覧!N355","v":23},null,null,null,{"$f":"+データ一覧!N380","v":322},null,null,null,null,null,null,{"$f":"データ一覧!N405","v":757109},null,null,null,null,null,null,"    ","区分",null,null,null,null,null,null,"施設数",null,null,null,null,"収容定員",null,null,null,null,null,"区分",null,null,null,null,null,null,"施設数",null,null,null,null,"収容定員"]
["年",null,"  区",null," 0歳",null,null,"15歳",null,null,"25歳",null,null,"35歳",null,null,"45歳",null,null,"55歳",null,null,"65歳",null,null,"  人工林     広葉樹",null,null,null,{"$f":"データ一覧!N274","v":59.060000000000201},null,null," 竹               林",null,null,null,{"$f":"データ一覧!N277","v":135.77000000000001},null,null,null,"     金属","はん用機械",null,null,null,null,null,null,null,null,{"$f":"データ一覧!N356","v":2},null,null,null,{"$f":"+データ一覧!N381","v":28},null,null,null,null,null,null,{"$f":"データ一覧!N406","v":"x"},null,null,null,null,null,null,"生活保護施設",null,null,null,null,null,null,null,{"$f":"データ一覧!N564","v":0},null,null,null,{"$f":"データ一覧!N577","v":0},null,null,null,"人",null,"指定障害者支援施設",null,null,null,null,null,null,null,{"$f":"データ一覧!N570","v":2},null,null,null,{"$f":"データ一覧!N583","v":138},null,null,null,"人"]
["齢","令",null,null,null,"～",null,null,"～",null,null,"～",null,null,"～",null,null,"～",null,null,"～",null,null,null,null,null,null,null,null,null,null,null,null,null,null,null,null,null,null,null,"     一般機械","生産用機械",null,null,null,null,null,null,null,null,{"$f":"データ一覧!N357","v":9},null,null,null,{"$f":"+データ一覧!N382","v":170},null,null,null,null,null,null,{"$f":"データ一覧!N407","v":218167},null,null,null,null,null,null,"地域福祉施設",null,null,null,null,null,null,null,{"$f":"データ一覧!N565","v":0},null,null,null,{"$f":"データ一覧!N578","v":0},null,null,null,null,null,"指定相談支援事業所",null,null,null,null,null,null,null,{"$f":"データ一覧!N571","v":2},null,null,null,{"$f":"データ一覧!N584","v":0}]
["階","元","  分",null,null,null,"14歳",null,null,"24歳",null,null,"34歳",null,null,"44歳",null,null,"54歳",null,null,"64歳",null,null,"以上","    林     野     の     構     成",null,null,null,null,null,null,"保     有     形     態     別",null,null,null,null,null,null,null,"     電気機械","業務用機械",null,null,null,null,null,null,null,null,{"$f":"データ一覧!N358","v":3},null,null,null,{"$f":"+データ一覧!N383","v":351},null,null,null,null,null,null,{"$f":"データ一覧!N408","v":383917},null,null,null,null,null,null,"老人福祉施設",null,null,null,null,null,null,null,{"$f":"データ一覧!N566","v":21},null,null,null,{"$f":"データ一覧!N579","v":642},null,null,null,null,null,"児童福祉施設",null,null,null,null,null,null,null,{"$f":"データ一覧!N572","v":54},null,null,null,{"$f":"データ一覧!N585","v":3224}]
["級","・",null,null,null,null,"人",null,null,"人",null,"    人",null,null,"    人",null,null,"    人",null,null,"    人",null,null,"    人",null,null,null,null,null,null,null,"ha",null,null,null,null,null,"       ha",null,null,null,"電子・デバイス",null,null,null,null,null,null,null,null,{"$f":"データ一覧!N359","v":5},null,null,null,{"$f":"+データ一覧!N384","v":3897},null,null,null,null,null,null,{"$f":"データ一覧!N409","v":15046409},null,null,null,null,null,null,"介護保険施設",null,null,null,null,null,null,null,{"$f":"データ一覧!N567","v":107},null,null,null,{"$f":"データ一覧!N580","v":2276},null,null,null,null,null,"母子福祉施設",null,null,null,null,null,null,null,{"$f":"データ一覧!N573","v":0},null,null,null,{"$f":"データ一覧!N586","v":0}]
["別","10","総 数",null,{"$f":"+E42+E43","v":10127},null,null,{"$f":"+H42+H43","v":7956},null,null,{"$f":"+K42+K43","v":7969},null,null,{"$f":"+N42+N43","v":9634},null,null,{"$f":"+Q42+Q43","v":10738},null,null,{"$f":"+T42+T43","v":9660},null,null,{"$f":"+W42+W43","v":23579},null,null," 無立木地   伐採跡地",null,null,null,{"$f":"データ一覧!N278","v":0},null,null,"国   　　　 　 有",null,null,null,{"$f":"データ一覧!N280","v":54.83},null,null,null,null,"電気機械",null,null,null,null,null,null,null,null,{"$f":"データ一覧!N360","v":15},null,null,null,{"$f":"+データ一覧!N385","v":1451},null,null,null,null,null,null,{"$f":"データ一覧!N410","v":13874956},null,null,null,null,null,null,"障害者自立支援法施行前からの身体障害者福祉施設",null,null,null,null,null,null,null,{"$f":"データ一覧!N568","v":0},null,null,null,{"$f":"データ一覧!N581","v":0},null,null,null,null,null,"婦人保護施設",null,null,null,null,null,null,null,{"$f":"データ一覧!N574","v":0},null,null,null,{"$f":"データ一覧!N587","v":0}]
["人","・","  男",null,{"$f":"データ一覧!N79","v":5242},null,null,{"$f":"データ一覧!N80","v":4081},null,null,{"$f":"データ一覧!N81","v":4081},null,null,{"$f":"データ一覧!N82","v":5006},null,null,{"$f":"データ一覧!N83","v":5544},null,null,{"$f":"データ一覧!N84","v":4772},null,null,{"$f":"データ一覧!N85","v":10388},null,null," 無立木地   未立木地",null,null,null,{"$f":"データ一覧!N279","v":121.2399999999999},null,null,"公       　　  有",null,null,null,{"$f":"データ一覧!N281","v":996.81},null,null,null,"     輸送機械","情報通信機械",null,null,null,null,null,null,null,null,{"$f":"データ一覧!N361","v":1},null,null,null,{"$f":"+データ一覧!N386","v":188},null,null,null,null,null,null,{"$f":"データ一覧!N411","v":"x"},null,null,null,null,null,null,null,null,null,null,null,null,null,null,null,null,null,null,null,null,null,null,null,null,"その他の社会福祉施設",null,null,null,null,null,null,null,{"$f":"データ一覧!N575+データ一覧!N576","v":1},null,null,null,{"$f":"データ一覧!N588+データ一覧!N589","v":0}]
["口","1","  女",null,{"$f":"データ一覧!N87","v":4885},null,null,{"$f":"データ一覧!N88","v":3875},null,null,{"$f":"データ一覧!N89","v":3888},null,null,{"$f":"データ一覧!N90","v":4628},null,null,{"$f":"データ一覧!N91","v":5194},null,null,{"$f":"データ一覧!N92","v":4888},null,null,{"$f":"データ一覧!N93","v":13191},null,null,null,null,null,null,null,null,null,"私          　 有",null,null,null,{"$f":"データ一覧!N282","v":13133.98},null,null,null,"     精密機械","輸送機械",null,null,null,null,null,null,null,null,{"$f":"データ一覧!N362","v":3},null,null,null,{"$f":"+データ一覧!N387","v":4003},null,null,null,null,null,null,{"$f":"データ一覧!N412","v":18760598},null,null,null,null,null,null,"障害福祉サービス事業所",null,null,null,null,null,null,null,{"$f":"データ一覧!N569","v":54},null,null,null,{"$f":"データ一覧!N582","v":649}]
[null,null,null,null,null,null,null,null,null,null,null,null,null,null,null,null,null,null,null,null,null,null,null,null,null,"            林     産     物     生     産     量 ",null,null,null,null,null,null,null,null,null,{"$f":"データ一覧!$A$283","v":"元年中"},null,null,null,null,"     その他","その他",null,null,null,null,null,null,null,null,{"$f":"データ一覧!N363","v":15},null,null,null,{"$f":"+データ一覧!N388","v":185},null,null,null,null,null,null,{"$f":"データ一覧!N413","v":230556},null,null,null,null,null,null," １７  教　　　　　　　育",null,null,null,null,null,null,null,null,null,null,null,null,null,null,null,{"$f":"データ一覧!$A$590","v":"2.5.1"}]
["人口動態",null,null,null,null,null,null,"   自　然　動　態",null,null,null,null,null,"   社  会  動  態",null,null,null,null,null,{"$f":"データ一覧!$A74","v":"31.1.1～元.12.31"},null,null,null,null,null,"生椎茸",null,null,null,{"$f":"データ一覧!N283","v":15531},null,"㎏","乾椎茸",null,null,null,{"$f":"データ一覧!N284","v":"-"},null,"㎏"]
[null,null,"   区       分",null,null,null,null," 出   生",null,null," 死   亡",null,null," 転   入",null,null," 転   出",null,null," 婚   姻",null,null," 離   婚",null,null,"えのきだけ",null,null,null,{"$f":"データ一覧!N286","v":"-"},null,"㎏","なめこ",null,null,null,{"$f":"データ一覧!N285","v":"-"},null,"㎏",null,"    ","工　業　用　水　量",null,null,null,null,null,"（従業者30人以上の事業所）",null,null,null,null,null,null,null,null,null,null,{"$f":"データ一覧!N414","v":48860},null,null,null,null,"㎥／日",null,null,null,null,null,null,null,null,null,null,null,null,null,null,"学校数（校）",null,null,null,null,null,null,"教員数（人）",null,null,null,null,null,null,null,"学生・生徒・児童数（人）"]
[{"$f":"LEFT(データ一覧!$A70,7)","v":"元.10.1～"},null,null,null,null,null,null,"       人",null,null,"       人",null,null,"       人",null,null,"       人",null,null,null,"    件",null,null,"    件",null,"ひらたけ",null,null,null,{"$f":"+データ一覧!N287","v":"-"},null,"㎏","まいたけ",null,null,null,{"$f":"+データ一覧!N288","v":"-"},null,"㎏",null,null,null,null,null,null,null,null,null,null,null,null,null,null,null,null,null,null,null,null,null,null,null,null,null,null,null,null,null,null,"　","区分",null,null,null,null,null,null,null," 本 校",null,null," 分 校",null,null," 本   務",null,null,null," 兼   務",null,null,null," 総   数",null,null,null,"男",null,null,null,"女"]
["～",null," 実          数",null,null,null,null,{"$f":"データ一覧!N70","v":618},null,null,{"$f":"データ一覧!N71","v":960},null,null,{"$f":"データ一覧!N72","v":3655},null,null,{"$f":"データ一覧!N73","v":2934},null,null,{"$f":"データ一覧!N74","v":326},null,null,{"$f":"データ一覧!N75","v":108},null,null,null,null,null,null,null,null,null,null,null,null,null,null,null,null,null," １１ 　上　・　下　水　道",null,null,null,null,null,null,null,null,null,null,null,null,null,null,null,null,null,null,null,null,null,null,null,null,null,null,null,null,"小学校",null,null,null,null,null,null,null,null,{"$f":"データ一覧!N591","v":17},null,null,{"$f":"データ一覧!N592","v":0},null,null,{"$f":"データ一覧!N593","v":296},null,null,null,{"$f":"データ一覧!N594","v":53},null,null,null,{"$f":"データ一覧!N595","v":4190},null,null,null,{"$f":"データ一覧!N596","v":2181},null,null,null,{"$f":"データ一覧!N597","v":2009}]
[{"$f":"RIGHT(データ一覧!$A72,7)","v":"～2.9.30"},null,"比率(対1,000人)",null,null,null,null,{"$f":"+H48/I35*1000","v":7.5805897649771845},null,null,{"$f":"+K48/I35*1000","v":11.775673421323782},null,null,"- ",null,null,"- ",null,null,{"$f":"+T48/I35*1000","v":3.9988224326578679},null,null,{"$f":"+W48/I35*1000","v":1.3247632598989254},null,null,"  ６  漁               業",null,null,null,null,null,null,null,null,null,null,null,null,null,null,null,null,null,null,null,null,null,null,null,null,null,null,null,null,null,null,null,null,null,null,null,null,null,null,null,null,null,null,"  ","中学校",null,null,null,null,null,null,null,null,{"$f":"データ一覧!N599","v":7},null,null,{"$f":"データ一覧!N600","v":1},null,null,{"$f":"データ一覧!N601","v":184},null,null,null,{"$f":"データ一覧!N602","v":29},null,null,null,{"$f":"データ一覧!N603","v":2269},null,null,null,{"$f":"データ一覧!N604","v":1165},null,null,null,{"$f":"データ一覧!N605","v":1104}]
[null,null,null,null,null,null,null,null,null,null,null,null,null,null,null,null,null,null,null,null,null,null,null,null,null,null,null,null,null,null,null,null,null,null,null,null,null,null,null,null,"水 道 供 給 人 口",null,null,null,null,null,null,"上 水 道",null,null,null,"簡易水道",null,null,null,"専用水道",null,null,null,"飲料水供給施設",null,null,null,"下水道処理人口",null,null,null,null,"  ","高等学校",null,null,null,null,null,null,null,null,{"$f":"データ一覧!N607","v":5},null,null,{"$f":"データ一覧!N608","v":0},null,null,{"$f":"データ一覧!N609","v":198},null,null,null,{"$f":"データ一覧!N610","v":174},null,null,null,{"$f":"データ一覧!N611","v":2337},null,null,null,{"$f":"データ一覧!N612","v":1200},null,null,null,{"$f":"データ一覧!N613","v":1137}]
["  ３  事　　業　　所（民　　営）    （平 28.6.1）",null,null,null,null,null,null,null,null,null,null,null,null,null,null,null,null,null,null,null,null,null,null,null,null,"漁船隻数・トン数",null,null,null,{"$f":"データ一覧!$A$289","v":"元.12.31"},null,null,null,"動　力　船",null,null,null,null,null,null,{"$f":"データ一覧!$A$415","v":"2.3.31"},null,null,null,null,null,"人",null,{"$f":"データ一覧!N415","v":80571},null,null,{"$f":"データ一覧!N416","v":291},null,null,null,null,{"$f":"データ一覧!N417","v":0},null,null,null,{"$f":"データ一覧!N418","v":0},null,null,null,{"$f":"データ一覧!N419","v":63520},null,null,null,"  ","大学・短期大学",null,null,null,null,null,null,null,null,{"$f":"データ一覧!N614","v":1},null,null,{"$f":"データ一覧!N615","v":0},null,null,{"$f":"データ一覧!N616","v":61},null,null,null,{"$f":"データ一覧!N617","v":84},null,null,null,{"$f":"データ一覧!N618","v":1220},null,null,null,{"$f":"データ一覧!N619","v":338},null,null,null,{"$f":"データ一覧!N620","v":882}]
[null,null,null,null,null,null,null,null,null,null,null,null,null,null,null,null,null,null,null,null,null,null,null,null,null,"無動力船隻数",null,null,null,"船外機付漁船隻数",null,null,null,"隻　数",null,null,"総 ト ン 数",null,null,null,null,null,null,null,null,null,null,null,null,null,null,null,null,null,null,null,null,null,null,null,null,null,null,null,null,null,null,null,"  ","高等専門学校",null,null,null,null,null,null,null,null,{"$f":"データ一覧!N621","v":0},null,null,{"$f":"データ一覧!N622","v":0},null,null,{"$f":"データ一覧!N623","v":0},null,null,null,{"$f":"データ一覧!N624","v":0},null,null,null,{"$f":"データ一覧!N625","v":0},null,null,null,{"$f":"データ一覧!N626","v":0},null,null,null,{"$f":"データ一覧!N627","v":0}]
[null,null,null,null,null,null,null,"    総　　　　　数",null,null,null,null,null,"    民　　　　　営",null,null,null,null,null,"  国 ･ 地方公共団体",null,null,null,null,null,null,null,null,"隻",null,null,null,"隻",null,null,"隻",null,null,"t",null," １２  交   通　・　通   信",null,null,null,null,null,null,null,null,null,null,null,null,null,null,null,null,null,null,null,null,null,null,null,null,null,null,null,"  ","特別支援学校",null,null,null,null,null,null,null,null,{"$f":"+データ一覧!N629","v":1},null,null,{"$f":"+データ一覧!N630","v":0},null,null,{"$f":"+データ一覧!N631","v":79},null,null,null,{"$f":"+データ一覧!N632","v":3},null,null,null,{"$f":"+データ一覧!N633","v":132},null,null,null,{"$f":"+データ一覧!N634","v":79},null,null,null,{"$f":"+データ一覧!N635","v":53}]
["  　区　　　　　　分",null,null,null,null,null,null," 事業所数",null,null," 従業者数",null,null," 事業所数",null,null," 従業者数",null,null," 事業所数",null,null," 従業者数",null,null,{"$f":"データ一覧!$N$289","v":0},null,null,null,{"$f":"データ一覧!$N$290","v":0},null,null,null,{"$f":"データ一覧!N291","v":0},null,null,{"$f":"データ一覧!N292","v":0},null,null,null,null,null,null,null,null,null,null,null,null,null,null,null,null,null,null,null,null,null,null,null,null,null,null,null,null,null,null,null,"  ","幼稚園",null,null,null,null,null,null,null,null,{"$f":"データ一覧!N637","v":11},null,null,{"$f":"データ一覧!N638","v":0},null,null,{"$f":"データ一覧!N639","v":39},null,null,null,{"$f":"データ一覧!N640","v":23},null,null,null,{"$f":"データ一覧!N641","v":265},null,null,null,{"$f":"データ一覧!N642","v":147},null,null,null,{"$f":"データ一覧!N643","v":118}]
[null,null,null,null,null,null,null,null,null,null,"       人",null,null,null,null,null,"       人",null,null,null,null,null,"       人",null,null,"  男女別就業者数",null,null,null,null,null,null,null,{"$f":"データ一覧!$A$293","v":"30.11.1"},null,null,null,null,null,null,"道     路",null,null,null,"実 延 長",null,null,null,"国     道",null,null,null,"県     道",null,null,null,"市町道",null,null,null," 鉄 道 営 業 キ ロ 数",null,null,null,null,null,null,null,"  ","幼保連携認定こども園",null,null,null,null,null,null,null,null,{"$f":"データ一覧!N645","v":15},null,null,{"$f":"データ一覧!N646","v":0},null,null,{"$f":"データ一覧!N647","v":246},null,null,null,{"$f":"データ一覧!N648","v":28},null,null,null,{"$f":"データ一覧!N649","v":1533},null,null,null,{"$f":"データ一覧!N650","v":809},null,null,null,{"$f":"データ一覧!N651","v":724}]
["総数",null,null,null,null,null,null,{"$f":"データ一覧!N95","v":"…"},null,null,{"$f":"データ一覧!N152","v":"…"},null,null,{"$f":"データ一覧!N96","v":4369},null,null,{"$f":"データ一覧!N153","v":42447},null,null,{"$f":"データ一覧!N97","v":"…"},null,null,{"$f":"データ一覧!N154","v":"…"},null,null,"総　　数",null,null,null,null,null,"男",null,null,null,"女",null,null,null,null,{"$f":"データ一覧!$A$420","v":"31.4.1"},null,null,null,{"$f":"データ一覧!N420","v":1061.788},null,null,"㎞",{"$f":"データ一覧!N421","v":25.2},null,null,"㎞",{"$f":"データ一覧!N422","v":149.6},null,null,"㎞",{"$f":"データ一覧!N423","v":886.98799999999994},null,null,"km",{"$f":"データ一覧!$A$424","v":"2.4.1"},null,null,null,{"$f":"データ一覧!N424","v":13.010999999999999},null,null,"㎞","  ","各種学校",null,null,null,null,null,null,null,null,{"$f":"データ一覧!N653","v":1},null,null,{"$f":"データ一覧!N654","v":0},null,null,{"$f":"データ一覧!N655","v":25},null,null,null,{"$f":"データ一覧!N656","v":2},null,null,null,{"$f":"データ一覧!N657","v":180},null,null,null,{"$f":"データ一覧!N658","v":108},null,null,null,{"$f":"データ一覧!N659","v":72}]
["農林漁業",null,null,null,null,null,null,{"$f":"データ一覧!N98","v":"…"},null,null,{"$f":"データ一覧!N155","v":"…"},null,null,{"$f":"データ一覧!N99","v":30},null,null,{"$f":"データ一覧!N156","v":384},null,null,{"$f":"データ一覧!N100","v":"…"},null,null,{"$f":"データ一覧!N157","v":"…"},null,null,null,null,null,null,null,"人",null,null,"　　　　人",null,null,null,null,"  人",null,"自動車",null,null,null,null,null,null,null,null,"乗用車",null,null,null,null,null,null,null,null,null,null,null,null,null,null,null,null,null,null,"  ","専修学校",null,null,null,null,null,null,null,null,{"$f":"データ一覧!N661","v":1},null,null,{"$f":"データ一覧!N662","v":0},null,null,{"$f":"データ一覧!N663","v":10},null,null,null,{"$f":"データ一覧!N664","v":0},null,null,null,{"$f":"データ一覧!N665","v":102},null,null,null,{"$f":"データ一覧!N666","v":16},null,null,null,{"$f":"データ一覧!N667","v":86}]
["鉱業",null,null,null,null,null,null,{"$f":"データ一覧!N101","v":"…"},null,null,{"$f":"データ一覧!N158","v":"…"},null,null,{"$f":"データ一覧!N102","v":1},null,null,{"$f":"データ一覧!N159","v":12},null,null,{"$f":"データ一覧!N103","v":"…"},null,null,{"$f":"データ一覧!N160","v":"…"},null,null,{"$f":"SUM(AF58,AJ58)","v":0},null,null,null,null,null,{"$f":"データ一覧!$N$294","v":0},null,null,null,{"$f":"データ一覧!N295","v":0},null,null,null,null,"台  数",null,null,null,"貨    物",null,null,null,"普     通",null,null,null,"小     型",null,null,null,"乗  合",null,null,"特  種",null,null,"小型二輪",null,null,"軽自動車",null,null," １８  衛　　　　　　　生"]
["建設業",null,null,null,null,null,null,{"$f":"データ一覧!N104","v":"…"},null,null,{"$f":"データ一覧!N161","v":"…"},null,null,{"$f":"データ一覧!N105","v":486},null,null,{"$f":"データ一覧!N162","v":2574},null,null,{"$f":"データ一覧!N106","v":"…"},null,null,{"$f":"データ一覧!N163","v":"…"},null,null,"　　　　海 面 漁 業 漁 獲 量 （属人）",null,null,null,null,null,null,null,{"$f":"データ一覧!$A$296","v":"30年中"},null,null,null,null,null,null,{"$f":"データ一覧!$A$425","v":"2.3.31"},null,null,null,null,{"$f":"データ一覧!N425","v":4763},null,null,null,{"$f":"データ一覧!N427","v":15264},null,null,null,{"$f":"データ一覧!N428","v":16130},null,null,{"$f":"データ一覧!N426","v":189},null,null,{"$f":"データ一覧!N429","v":1377},null,null,{"$f":"データ一覧!N430","v":864},null,null,{"$f":"データ一覧!N431","v":30230}]
["製造業",null,null,null,null,null,null,{"$f":"データ一覧!N107","v":"…"},null,null,{"$f":"データ一覧!N164","v":"…"},null,null,{"$f":"データ一覧!N108","v":707},null,null,{"$f":"データ一覧!N165","v":17247},null,null,{"$f":"データ一覧!N109","v":"…"},null,null,{"$f":"データ一覧!N166","v":"…"},null,null,null,null,null,null,null,"       ","ｔ",null,null,null,null,null,null,"t",null,null,null,"     ",null,"郵　便　局　数",null,null,null,null,null,null,null,null,null,null,null,null,null,null,null,"一般加入",null,null,null,"ＩＮＳネット",null,null,null,null,null,null,null,"医療関係施設",null,null,null,null,null,{"$f":"データ一覧!$A$668","v":"元.10.1"},null,null,null,null,null,null,"および医療関係者数",null,null,null,null,null,null,null,{"$f":"データ一覧!$A$673","v":"30.12.31"}]
["電気・ｶﾞ ｽ・熱供給・水道業",null,null,null,null,null,null,{"$f":"データ一覧!N110","v":"…"},null,null,{"$f":"データ一覧!N167","v":"…"},null,null,{"$f":"データ一覧!N111","v":5},null,null,{"$f":"データ一覧!N168","v":193},null,null,{"$f":"データ一覧!N112","v":"…"},null,null,{"$f":"データ一覧!N169","v":"…"},null,null,"   総　　　　　　数",null,null,null,{"$f":"データ一覧!N296","v":0},null,null,"   藻　　　　　　類",null,null,null,{"$f":"データ一覧!N299","v":0},null,null,null,"通  信",null,null,null," 総     数",null,null,null,null,null," 郵 便 局",null,null,null,null," 簡 易 局",null,null,null,null,"電話数",null,null,null,"加入数",null,null,null,null,null,null,null,null,null,"　","病",null,null,"院",null,"　",null,null,null,null," ","一般診療所",null,null,null,null,null,null,null,null,null,null,null,"歯科診療所"]
["情報通信業",null,null,null,null,null,null,{"$f":"データ一覧!N113","v":"…"},null,null,{"$f":"データ一覧!N170","v":"…"},null,null,{"$f":"データ一覧!N114","v":16},null,null,{"$f":"データ一覧!N171","v":120},null,null,{"$f":"データ一覧!N115","v":"…"},null,null,{"$f":"データ一覧!N172","v":"…"},null,null,"   魚　　　　　　類",null,null,null,{"$f":"データ一覧!N297","v":0},null,null,"   そ　   の　　 他",null,null,null,{"$f":"データ一覧!N300","v":0},null,null,null,{"$f":"データ一覧!$A$435","v":"2.3.31"},null,null,null,{"$f":"データ一覧!N432","v":24},null,null,null,null,null,{"$f":"データ一覧!N433","v":21},null,null,null,null,{"$f":"データ一覧!N434","v":3},null,null,null,null,{"$f":"データ一覧!N435","v":6483},null,null,null,{"$f":"データ一覧!N436","v":853},null,null,null," ","医療関係",null,null,null,null,null,null,null,null,null,null,null,"一般病院",null,null,null,null,null,null,null,null,null,null,null,"有",null,null,"床"]
["運輸業、郵便業",null,null,null,null,null,null,{"$f":"データ一覧!N116","v":"…"},null,null,{"$f":"データ一覧!N173","v":"…"},null,null,{"$f":"データ一覧!N117","v":76},null,null,{"$f":"データ一覧!N174","v":1567},null,null,{"$f":"データ一覧!N118","v":"…"},null,null,{"$f":"データ一覧!N175","v":"…"},null,null,"   貝　　　　　　類",null,null,null,{"$f":"データ一覧!N298","v":0},null,null,null,null,null,null,null,null,null,null,null,null,null,null,null,null,null,null,null,null,null,null,null,null,null,null,null,null,null,null,null,null,null,null,null,null,null,null,null,"施設数",null,null,null,null,null,null,{"$f":"データ一覧!N668","v":7},null,null,null,null,null,{"$f":"データ一覧!N669","v":6},null,null,null,null,null,{"$f":"データ一覧!N670","v":46},null,null,null,null,null,{"$f":"データ一覧!N671","v":8},null,null,null,null,null,{"$f":"データ一覧!N672","v":31}]
["卸売業、小売業",null,null,null,null,null,null,{"$f":"データ一覧!N119","v":"…"},null,null,{"$f":"データ一覧!N176","v":"…"},null,null,{"$f":"データ一覧!N120","v":1142},null,null,{"$f":"データ一覧!N177","v":7217},null,null,{"$f":"データ一覧!N121","v":"…"},null,null,{"$f":"データ一覧!N178","v":"…"},null,null,null,null,null,null,null,null,null,null,null,null,null,null,null,null,null," １３  税　　・　　財　　政",null,null,null,null,null,null,null,null,null,null,null,null,null,null,null,null,null,null,null,null,null,null,null,null,null,null,null,null,null,null,null,null,null,null,"医師",null,null,null,null,"歯科医師",null,null,null,null,"薬剤師",null,null,null,null,"保健師",null,null,null,null,"助産師",null,null," ",null,"看護師",null,null," "]
["金融業、保険業",null,null,null,null,null,null,{"$f":"データ一覧!N122","v":"…"},null,null,{"$f":"データ一覧!N179","v":"…"},null,null,{"$f":"データ一覧!N123","v":66},null,null,{"$f":"データ一覧!N180","v":684},null,null,{"$f":"データ一覧!N124","v":"…"},null,null,{"$f":"データ一覧!N181","v":"…"},null,null,"  ７  商        　　　業 ",null,null,null,null,null,null,{"$f":"データ一覧!$A$301","v":"28.6.1(平成27年実績）"},null,null,null,null,null,null,null,null,null,null,null,null,null,null,null,null,null,null,null,null,null,null,null,null,null,null,null,null,null,null,null,null,null,null,null," ","医療",null,null,null,null,null,null,null,null,"人",null,null,null,null,"人",null,null,null,null,"人",null,null,null,null,"人",null,null,null,null,"人",null,null,null,null,"人"]
["不動産業、物品賃貸業",null,null,null,null,null,null,{"$f":"データ一覧!N125","v":"…"},null,null,{"$f":"データ一覧!N182","v":"…"},null,null,{"$f":"データ一覧!N126","v":123},null,null,{"$f":"データ一覧!N183","v":483},null,null,{"$f":"データ一覧!N127","v":"…"},null,null,{"$f":"データ一覧!N184","v":"…"},null,null,null,null,null,null,null,null,null,null,null,null,null,null,null,null,null,"           ",null,null,null,"歳入",null,null,null,null,null,null,null,null,"(千円）"," ",null,null,null,"歳出",null,null,null,null,null,null,null,null,"(千円）",null,"関係者",null,null,null,null,{"$f":"データ一覧!N673","v":97},null,null,null,null,{"$f":"データ一覧!N674","v":38},null,null,null,null,{"$f":"データ一覧!N675","v":115},null,null,null,null,{"$f":"データ一覧!N676","v":40},null,null,null,null,{"$f":"データ一覧!N677","v":9},null,null,null,null,{"$f":"データ一覧!N678","v":839}]
["学術研究、専門・技術ｻｰﾋﾞｽ業",null,null,null,null,null,null,{"$f":"データ一覧!N128","v":"…"},null,null,{"$f":"データ一覧!N185","v":"…"},null,null,{"$f":"データ一覧!N129","v":130},null,null,{"$f":"データ一覧!N186","v":728},null,null,{"$f":"データ一覧!N130","v":"…"},null,null,{"$f":"データ一覧!N187","v":"…"},null,null,"  産   業　 分　 類",null,null,null,"  商　 店 　数",null,null," 従　業　者　数",null,null,"年　間　販　売　額",null,null,null,null,"一人当たり歳入歳出予算決算額",null,null,null,null,null,null,null,null,null,null,null,null,null,null,null,null,null,null,null,null,null,null,null,null,null,null,null,"                   ",null,null,null,null,null,null,null,null,"死因別死亡数　　　　　　    ",null,null,null,null,null,null,null,null,null,null,null,null,null,null,null,{"$f":"データ一覧!$A$679","v":"元年中"},null,null,null,null,null,null,null,null,"      単 位：人"]
["宿泊業、飲食サービス業",null,null,null,null,null,null,{"$f":"データ一覧!N131","v":"…"},null,null,{"$f":"データ一覧!N188","v":"…"},null,null,{"$f":"データ一覧!N132","v":425},null,null,{"$f":"データ一覧!N189","v":2415},null,null,{"$f":"データ一覧!N133","v":"…"},null,null,{"$f":"データ一覧!N190","v":"…"},null,null,null,null,null,null,null,"        店",null,null,null,"　人",null,"         百万円",null,null,null,"区分",null,null,null,{"$f":"データ一覧!$A$445","v":"2年度"},null,null,null,null,{"$f":"データ一覧!$A$459","v":"元年度"},null,null,null,null,"区分",null,null,null,{"$f":"+AS68","v":"2年度"},null,null,null,null,{"$f":"データ一覧!$A$459","v":"元年度"},null,null,null,null," 死     因",null,null,null,null,null,null,null,null,null,null,null,"悪  性",null,null,"高血圧",null,null,null,null,null,"脳血管",null,null,null,null,null," ",null,null,"不慮の事故"]
["生活関連サービス業、娯楽業",null,null,null,null,null,null,{"$f":"データ一覧!N134","v":"…"},null,null,{"$f":"データ一覧!N191","v":"…"},null,null,{"$f":"データ一覧!N135","v":374},null,null,{"$f":"データ一覧!N192","v":1276},null,null,{"$f":"データ一覧!N136","v":"…"},null,null,{"$f":"データ一覧!N193","v":"…"},null,null,"総　　　　　　計",null,null,null,{"$f":"データ一覧!N301","v":992},null,null,{"$f":"データ一覧!N310","v":5847},null,null,{"$f":"データ一覧!N319","v":137281},null,null,null,null,null,null,null,null,{"$f":"データ一覧!N441","v":437546.71849304828},null,null,null,null,{"$f":"データ一覧!N442","v":493891},null,null,null,null,null,null,null,null,{"$f":"データ一覧!N443","v":437546.71849304828},null,null,null,null,{"$f":"データ一覧!N444","v":479811.77633967128},null,null,null,null,null,null,null,null,null,"全 死 因",null,null,null,"結 核",null,null,"新生物",null,null,"性疾患",null,null,"心疾患",null,null,"疾  患",null,null,"肺  炎",null,null,"老  衰",null,null,null,null," ","交通事故"]
["教育、学習支援業",null,null,null,null,null,null,{"$f":"データ一覧!N137","v":"…"},null,null,{"$f":"データ一覧!N194","v":"…"},null,null,{"$f":"データ一覧!N138","v":116},null,null,{"$f":"データ一覧!N195","v":748},null,null,{"$f":"データ一覧!N139","v":"…"},null,null,{"$f":"データ一覧!N196","v":"…"},null,null,"卸売業",null,null,null,{"$f":"データ一覧!N302","v":254},null,null,{"$f":"データ一覧!N311","v":1483},null,null,{"$f":"データ一覧!N320","v":56166},null,null,null,null,"項目別歳入歳出予算決算額"]
["医療、福祉",null,null,null,null,null,null,{"$f":"データ一覧!N140","v":"…"},null,null,{"$f":"データ一覧!N197","v":"…"},null,null,{"$f":"データ一覧!N141","v":262},null,null,{"$f":"データ一覧!N198","v":4288},null,null,{"$f":"データ一覧!N142","v":"…"},null,null,{"$f":"データ一覧!N199","v":"…"},null,null,"小売業",null,null,null,{"$f":"データ一覧!N303","v":738},null,null,{"$f":"データ一覧!N312","v":4364},null,null,{"$f":"データ一覧!N321","v":81115},null,null,null,null,"区分",null,null,null,{"$f":"データ一覧!$A$445","v":"2年度"},null,null,null,null,{"$f":"データ一覧!$A$459","v":"元年度"},null,null,null,null,"区分",null,null,null,{"$f":"+AS71","v":"2年度"},null,null,null,null,{"$f":"データ一覧!$A$459","v":"元年度"},null,null,null,null,null,null,null,null,null,{"$f":"データ一覧!N679","v":1018},null,null,null,"   －",{"$f":"データ一覧!N680","v":0},null,{"$f":"データ一覧!N681","v":239},null,null,null,{"$f":"データ一覧!N682","v":3},null,{"$f":"データ一覧!N683","v":212},null,null,{"$f":"データ一覧!N684","v":83},null,null,{"$f":"データ一覧!N685","v":105},null,null,{"$f":"データ一覧!N686","v":78},null,null,{"$f":"データ一覧!N687","v":44},null,null,{"$f":"データ一覧!N688","v":6}]
["複合サービス事業",null,null,null,null,null,null,{"$f":"データ一覧!N143","v":"…"},null,null,{"$f":"データ一覧!N200","v":"…"},null,null,{"$f":"データ一覧!N144","v":34},null,null,{"$f":"データ一覧!N201","v":552},null,null,{"$f":"データ一覧!N145","v":"…"},null,null,{"$f":"データ一覧!N202","v":"…"},null,null,"各種商品",null,null,null,{"$f":"データ一覧!N304","v":3},null,null,{"$f":"データ一覧!N313","v":118},null,null,{"$f":"データ一覧!N322","v":1930},null,null,null,null,"総額",null,null,null,{"$f":"SUM(AS73:AW85)","v":35121000},null,null,null,null,{"$f":"SUM(AX73:BB85)","v":39456462},null,null,null,null,"総額",null,null,null,{"$f":"SUM(BG73:BK85)","v":35121000},null,null,null,null,{"$f":"SUM(BL73:BP85)","v":38331683},null,null,null,null," １９  警　察　・　消　防  ",null,null,null,null,null,null,null,null,null,null,null,null,null,null,null,{"$f":"+データ一覧!$A689","v":"2.4.1"}]
["サービス業",null,null,null,null,null,null,{"$f":"データ一覧!N146","v":"…"},null,null,{"$f":"データ一覧!N203","v":"…"},null,null,{"$f":"データ一覧!N147","v":376},null,null,{"$f":"データ一覧!N204","v":1959},null,null,{"$f":"データ一覧!N148","v":"…"},null,null,{"$f":"データ一覧!N205","v":"…"},null,null,"織物・衣服・身の回り品",null,null,null,{"$f":"データ一覧!N305","v":99},null,null,{"$f":"データ一覧!N314","v":299},null,null,{"$f":"データ一覧!N323","v":3665},null,null,null,null,"地方税",null,null,null,{"$f":"データ一覧!N446","v":12350000},null,null,null,null,{"$f":"データ一覧!N460","v":13815985},null,null,null,null,"議会費",null,null,null,{"$f":"データ一覧!N474","v":268930},null,null,null,null,{"$f":"データ一覧!N488","v":257576}]
["公務",null,null,null,null,null,null,{"$f":"データ一覧!N149","v":"…"},null,null,{"$f":"データ一覧!N206","v":"…"},null,null,{"$f":"データ一覧!N150","v":"…"},null,null,{"$f":"データ一覧!N207","v":"…"},null,null,{"$f":"データ一覧!N151","v":"…"},null,null,{"$f":"データ一覧!N208","v":"…"},null,null,"飲食料品",null,null,null,{"$f":"データ一覧!N306","v":232},null,null,{"$f":"データ一覧!N315","v":1574},null,null,{"$f":"データ一覧!N324","v":25845},null,null,null,null,"地方譲与税",null,null,null,{"$f":"データ一覧!N447","v":317068},null,null,null,null,{"$f":"データ一覧!N461","v":321464},null,null,null,null,"総務費",null,null,null,{"$f":"データ一覧!N475","v":4653019},null,null,null,null,{"$f":"データ一覧!N489","v":8853260},null,null,null,null,null,null,null,null,null,null,null,null,null,null,"交番・駐在所",null,null,null,null,null,null,null,null,"刑法犯認知件数",null,null,null,null,null,null,null,null,"交通人身事故発生件数"]
["  ４  農        　　　業 ",null,null,null,null,null,null,null,null,null,null,null,null,null,null,null,null,null,null,null,null,null,null,null,null,"機械器具",null,null,null,{"$f":"データ一覧!N307","v":128},null,null,{"$f":"データ一覧!N316","v":818},null,null,{"$f":"データ一覧!N325","v":20616},null,null,null,null,"各種交付金",null,null,null,{"$f":"データ一覧!N448","v":2263400},null,null,null,null,{"$f":"データ一覧!N462","v":1659536},null,null,null,null,"民生費",null,null,null,{"$f":"データ一覧!N476","v":11719684},null,null,null,null,{"$f":"データ一覧!N490","v":11847367},null,null,null,null,null,"警察署数",null,null,null,null,null,null,null,null,"検問所数",null,null,null,null,null,null,null,null,null,{"$f":"データ一覧!$A$691","v":"元年中"},null,null,null,null,null,null,null,null,{"$f":"データ一覧!$A$691","v":"元年中"}]
[null,null,null,null,null,null,null,null,null,null,null,null,null,null,null,null,null,null,null,null,null,null,null,null,null,"その他",null,null,null,{"$f":"データ一覧!N308","v":262},null,null,{"$f":"データ一覧!N317","v":1507},null,null,{"$f":"データ一覧!N326","v":28111},null,null,null,null,"地方特例交付金",null,null,null,{"$f":"データ一覧!N449","v":33000},null,null,null,null,{"$f":"データ一覧!N463","v":220605},null,null,null,null,"衛生費",null,null,null,{"$f":"データ一覧!N477","v":2211065},null,null,null,null,{"$f":"データ一覧!N491","v":2123374},null,null,null,null,null,null,null,null,null,null,null,null,null,null,null,null,null,null,null,null,null,null,null,null,null,null,null,null," 件",null,null,null,null,null,null,null,null,"　件"]
[null,null,"農家人口と世帯員数(販売農家)",null,null,null,null,null,null,null,"農家世帯の就業状態（販売農家）",null,null,null,null,null,null,null,null,null,null,null,null,null,null,"無店舗",null,null,null,{"$f":"データ一覧!N309","v":14},null,null,{"$f":"データ一覧!N318","v":48},null,null,{"$f":"データ一覧!N327","v":948},null,null,null,null,"地方交付税",null,null,null,{"$f":"データ一覧!N450","v":5380000},null,null,null,null,{"$f":"データ一覧!N464","v":5075502},null,null,null,null,"労働費",null,null,null,{"$f":"データ一覧!N478","v":161157},null,null,null,null,{"$f":"データ一覧!N492","v":247736},null,null,null,null,null,null,{"$f":"データ一覧!N689","v":1},null,null,null,null,null,null,null,null,{"$f":"データ一覧!N690","v":15},null,null,null,null,null,null,null,null,{"$f":"データ一覧!N691","v":259},null,null,null,null,null,null,null,null,{"$f":"データ一覧!N692","v":71}]
["農","平",null,null,null,null,null,null,null,null,"農業従事者",null,null,null,null,null,null,null,null,"非農業従事",null,null,"農業従事者",null,null,null,null,null,null,null,null,null,null,null,null,null,null,null,null,null,"分担金および負担金",null,null,null,{"$f":"データ一覧!N451","v":110908},null,null,null,null,{"$f":"データ一覧!N465","v":244751},null,null,null,null,"農林水産業費",null,null,null,{"$f":"データ一覧!N479","v":1340862},null,null,null,null,{"$f":"データ一覧!N493","v":1538606},null,null,null,null,"火災発生件数",null,null,null,null,null,null,null,null,null,"林野焼損",null,null,null,null,"損      害",null,null,null,null,"消 防 自",null,null,null,"その他の",null,null,null," ",null,null,null,null," "]
["家",{"$f":"+LEFT(データ一覧!$A$209,2)","v":"27"},"区分",null,"農家人口",null,null,"15歳以上の",null,null,null,null,null,"農業就業人口",null,null,null,null,null,"者",null,null,"の平均年齢",null,null,"  ８  住　　　　　　 　宅",null,null,null,null,null,null,null,null,null,null,null,null,null,null,"使用料および手数料",null,null,null,{"$f":"データ一覧!N452","v":472345},null,null,null,null,{"$f":"データ一覧!N466","v":479909},null,null,null,null,"商工費",null,null,null,{"$f":"データ一覧!N480","v":1882168},null,null,null,null,{"$f":"データ一覧!N494","v":1540292},null,null,null,null,{"$f":"+データ一覧!$A$693","v":"元年中"},null,null,null,null,"焼損棟数",null,null,null,null,"面    積",null,null,null,null,"見  積  額",null,null,null,null,"動 車 数",null,null,null,"ﾎﾟﾝﾌﾟ数",null,null,null," 消防吏員",null,null,null," 消防団員"]
["人就 ","・",null,null,null,null,null,"世帯員数",null,null,null,null,null,null,null,null,"基幹的農業",null,null,null,null,null,null,null,null,null,null,null,null,null,null,null,null,null,null,null,null,null,null,null,"国庫支出金",null,null,null,{"$f":"データ一覧!N453","v":4842604},null,null,null,null,{"$f":"データ一覧!N467","v":4454287},null,null,null,null,"土木費",null,null,null,{"$f":"データ一覧!N481","v":2574612},null,null,null,null,{"$f":"データ一覧!N495","v":3256254},null,null,null,null,"         件",null,null,null,null,null,"      棟",null,null,null,null,null,null,"  ａ",null,null,null,"  千円",null,null,"        ",null,null,null,null,null,null,null,null,null,"  人",null,null,null,"  人"]
["口業 ",{"$f":"+MID(データ一覧!$A$209,4,1)","v":"2"},null,null,null,null,"人",null,null,"人",null,null,"人",null,null,"人","従事者",null,"人",null,null,"人",null,null,"歳",{"$f":"+データ一覧!$A$328","v":"30年"},null,null,null,null,{"$f":"データ一覧!$A$331","v":"元年"},"中の増減",null,null,null,{"$f":"+データ一覧!$A$331","v":"元年"},null,null,null,null,"県支出金",null,null,null,{"$f":"データ一覧!N454","v":3070258},null,null,null,null,{"$f":"データ一覧!N468","v":2882253},null,null,null,null,"消防費",null,null,null,{"$f":"データ一覧!N482","v":1383755},null,null,null,null,{"$f":"データ一覧!N496","v":1374461},null,null,null,null,null,{"$f":"データ一覧!N693","v":18},null,null,null,null,{"$f":"データ一覧!N694","v":20},null,null,null,null,{"$f":"データ一覧!N695","v":25},null,null,null,{"$f":"データ一覧!N696","v":33638},null,null,null,null,null,{"$f":"データ一覧!N697","v":14},null,null,null,{"$f":"データ一覧!N698","v":20},null,null,null,{"$f":"データ一覧!N699","v":105},null,null,null,{"$f":"データ一覧!N700","v":540}]
["と状 ","・"," 総数",null,{"$f":"データ一覧!N209","v":7412},null,null,{"$f":"データ一覧!N212","v":6699},null,null,{"$f":"データ一覧!N215","v":4742},null,null,{"$f":"データ一覧!N218","v":2055},null,null,{"$f":"データ一覧!N221","v":1407},null,null,{"$f":"データ一覧!N224","v":1957},null,null,{"$f":"データ一覧!N227","v":58.8},null,null,null,null,null,null,"建設した住宅",null,null,"消失した住宅",null,null,null,null,null,null,null,"財産収入",null,null,null,{"$f":"データ一覧!N455","v":260772},null,null,null,null,{"$f":"データ一覧!N469","v":347157},null,null,null,null,"教育費",null,null,null,{"$f":"データ一覧!N483","v":3483219},null,null,null,null,{"$f":"データ一覧!N497","v":3277237},null,null,null,null," ２０  そ　　　の　　　他　"]
["  況 ",{"$f":"+RIGHT(データ一覧!$A$209,1)","v":"1"},"　男",null,{"$f":"データ一覧!N210","v":3682},null,null,{"$f":"データ一覧!N213","v":3325},null,null,{"$f":"データ一覧!N216","v":2708},null,null,{"$f":"データ一覧!N219","v":1068},null,null,{"$f":"データ一覧!N222","v":899},null,null,{"$f":"データ一覧!N225","v":617},null,null,{"$f":"データ一覧!N228","v":57.5},null,null,null,null,null,null,null,null,null,null,null,null,null,null,null,null,null,"繰入金",null,null,null,{"$f":"データ一覧!N456","v":1754321},null,null,null,null,{"$f":"データ一覧!N470","v":2303693},null,null,null,null,"災害復旧費",null,null,null,{"$f":"データ一覧!N484","v":14000},null,null,null,null,{"$f":"データ一覧!N498","v":64090}]
[null,null,"　女",null,{"$f":"データ一覧!N211","v":3730},null,null,{"$f":"データ一覧!N214","v":3374},null,null,{"$f":"データ一覧!N217","v":2034},null,null,{"$f":"データ一覧!N220","v":987},null,null,{"$f":"データ一覧!N223","v":508},null,null,{"$f":"データ一覧!N226","v":1340},null,null,{"$f":"データ一覧!N229","v":60.5},null,null,null,{"$f":"データ一覧!N328","v":31468},null,"戸",{"$f":"データ一覧!N329","v":718},null,"戸",{"$f":"データ一覧!N330","v":276},null,"戸",null,{"$f":"データ一覧!N331","v":31910},null,"戸",null,"地方債",null,null,null,{"$f":"データ一覧!N457","v":3341800},null,null,null,null,{"$f":"データ一覧!N471","v":5604900},null,null,null,null,"公債費",null,null,null,{"$f":"データ一覧!N485","v":4001793},null,null,null,null,{"$f":"データ一覧!N499","v":3951430},null,null,null,null,null,null,null,null,null,"毫摂寺、龍泉寺、引接寺、正覚寺、龍門寺、大塩八幡宮、大虫神社、大滝神社、成願寺"]
[null,null,null,null,null,null,null,null,null,null,null,null,null,null,null,null,null,null,null,null,null,null,null,null,null,null,null,null,null,null,null,null,null,null,null,null,null,null,null,null,"その他",null,null,null,{"$f":"データ一覧!N458","v":924524},null,null,null,null,{"$f":"データ一覧!N472","v":2046420},null,null,null,null,"その他",null,null,null,{"$f":"データ一覧!N486","v":1426736},null,null,null,null,{"$f":"データ一覧!N500","v":0},null,null,null,null,"　名所・旧跡",null,null,null,null,"旧谷口家住宅、越前和紙の里(紙の文化博物館・卯立の工芸館)、パピルス館、城福寺、小丸城跡"]
[null,null,"総農家数等",null,null,null,null,null,null,"専兼業別（販売農家）",null,null,null,null,null,null,null,"経営面積規模別（販売農家）",null,null,null,null,null,null,null,null,null,null,null,null,null,null,null,null,null,null,null,null,null,null,null,null,null,null,null,null,null,null,null,null,null,null,null,null,null,null,null,null,null,null,null,null,null,null,null,null,null,null,"  文化財等",null,null,null,null,"野々宮廃寺跡、茶臼山古墳群、大虫廃寺塔跡、越前の里味真野苑、紫式部公園、花筐公園"]
[null,"平","区　分",null,null,null,"戸数（戸）",null,null,"区　分",null,null,null,null,"戸数（戸）",null,null,"区　　分",null,null,null,null,"戸数（戸）",null,null,"  ９  議　 員　・　職 　員",null,null,null,null,null,null,null,null,null,null,null,null,null,null," １４  文　　　　　　化",null,null,null,null,null,null,null,null,null," ( ",{"$f":"データ一覧!$A$507","v":"2.3.31"},null,null,null,"ただし図書館・公民館・児童館",null,null,null,null,null,null,null,{"$f":"データ一覧!$A$501","v":"2.4.1"},null,null,null,null,null,null,null,null,null,"小次郎公園、八ッ杉自然公園、岡太神社、聖徳太子堂、武生公会堂記念館、蔵の辻、万葉菊花園"]
["農",{"$f":"+LEFT(データ一覧!$A$230,2)","v":"27"},"総農家",null,null,null,{"$f":"データ一覧!N230","v":2549},null,null,"総数",null,null,null,null,{"$f":"データ一覧!N236","v":1773},null,null,"総数",null,null,null,null,{"$f":"データ一覧!N241","v":1773},null,null,null,null,null,null,null,null,null,null,null,null,null,null,null,null,null,null,null,null,null,null,null,null,null,null,null,null,null,null,null,null,null,"　宗教法人数 ",null,null,null,null,null,null,{"$f":"データ一覧!$A$509","v":"元.12.31"},null,null,null,"）",null,null,null,null,null,"タケフナイフビレッジ、蓑脇の時水、コウノトリ、アベサンショウウオ"]
["家","・","販売農家",null,null,null,{"$f":"データ一覧!N231","v":1773},null,null,"専業農家",null,null,null,null,{"$f":"データ一覧!N237","v":274},null,null,"0.5 ha 未満",null,null,null,null,{"$f":"データ一覧!N242","v":335},null,null," 市 町 村 議 会",null,null,"有権者数",null,{"$f":"データ一覧!$A$335","v":"2.9.1"},null,"市 町 村 議 会",null,null,"  職      員      数",null,null,null,null,null,null,null,null,null,"図書館",null,null,null,null,null,"公　民　館",null,null,null,null,null,null,null,null,null,null," 社会教育学級講座",null,null,null,null,null,"　　特産物",null,null,null,null,"越前和紙、越前打刃物、野球バット、スポーツウェア、家具建具、白山スイカ、"]
["数",{"$f":"+MID(データ一覧!$A$230,4,1)","v":"2"},null,"主業",null,null,{"$f":"データ一覧!N232","v":78},null,null,"兼業農家",null,null,null,null,{"$f":"データ一覧!N238","v":1499},null,null,"0.5 ha ～ 1.0 ha",null,null,null,null,{"$f":"データ一覧!N243","v":691},null,null," 議  員  定  数",null,null,"    男",null,"    女",null,"選 挙 投 票 率",null,null," 総     数",null,"一般行政職",null,null,"公    共",null,null,null," 館  数",null,null," 図書数",null,null," 本  館",null,null," 分  館",null,null," 公  園",null,null," 児童館",null,null,"学級講座数",null,null,"受講者数",null,null,null,null,null,null,null,"越前おろしそば、ボルガライス"]
[null,"・",null,"準主業",null,null,{"$f":"データ一覧!N233","v":268},null,null,null,"第１種兼業",null,null,null,{"$f":"データ一覧!N239","v":130},null,null,"1.0 ha ～ 1.5 ha",null,null,null,null,{"$f":"データ一覧!N244","v":392},null,null,null,null,"人",null,"人",null,"人",null,null,"　％",null,"人",null,"人",null,"施 設 数",null,null,null,null,{"$f":"データ一覧!N501","v":2},null,{"$f":"データ一覧!N502","v":548625},null,null,null,{"$f":"データ一覧!N503","v":17},null,{"$f":"データ一覧!N504","v":0},null,null,{"$f":"データ一覧!N505","v":94},null,null,{"$f":"データ一覧!N506","v":15},null,null,{"$f":"データ一覧!N507","v":2261},null,null,{"$f":"データ一覧!N508","v":27575},null,null," 　年中行事",null,null,null,null,"たけふ菊人形（10月初旬から11月中旬）、"]
[null,{"$f":"+RIGHT(データ一覧!$A$230,1)","v":"1"},null,"副業的",null,null,{"$f":"データ一覧!N234","v":1427},null,null,null,"第２種兼業",null,null,null,{"$f":"データ一覧!N240","v":1369},null,null,"1.5 ha ～ 2.0 ha",null,null,null,null,{"$f":"データ一覧!N245","v":166},null,null,null,{"$f":"データ一覧!N332","v":22},null,{"$f":"データ一覧!N335","v":31875},null,{"$f":"データ一覧!N336","v":33647},null,{"$f":"データ一覧!N334","v":57.39},null,null,{"$f":"データ一覧!N337","v":564},null,{"$f":"データ一覧!N338","v":348},null,null,"宗    教",null,null,null," 仏教系",null,null,"ｷﾘｽﾄ教系",null,null,"神道諸派",null,null,"公会堂・市民会館",null,null,null,null,null," テレビ",null,null,"衛星放送契約数",null,null,null,null,null,null,null,null,null,null,"越前市サマーフェスティバル（8月中旬）、"]
[null,null,"自給的農家",null,null,null,{"$f":"データ一覧!N235","v":776},null,null,null,null,null,null,null,null,null,null,"2.0 ha 以上",null,null,null,null,{"$f":"データ一覧!N246","v":188},null,null,null,null,null,null,null,null,null,{"$f":"データ一覧!$N$333","v":"30.7.8"},null,null,null,null,null,null,null,"法 人 数",null,null,null,{"$f":"データ一覧!N509","v":223},null,null,{"$f":"データ一覧!N510","v":3},null,null,{"$f":"データ一覧!N511","v":167},null,null,{"$f":"データ一覧!N512","v":3},null,null,null,null,null,"      等",null,null,{"$f":"データ一覧!N513","v":18092},null,null,null,null,null,null,null,null,null,null,"神と紙のまつり（5月3日～5日）"]

{"sheet":"坂井市","index":13,"n_rows":93,"n_cols":104,"rows_kept":93,"cut":false,"hidden":false,"merged":[[73,87,73,93],[73,78,73,84],[69,40,69,67],[67,44,67,48],[67,49,67,53],[67,54,67,57],[67,58,67,62],[67,63,67,67],[68,40,68,43],[68,44,68,48],[68,49,68,53],[67,40,67,43],[17,83,17,84],[17,87,17,90],[19,74,19,77],[19,78,19,81],[19,82,19,85],[20,74,20,77],[21,82,21,85],[21,87,21,91],[24,78,24,81],[24,82,24,85],[24,87,24,91],[29,74,29,77],[29,87,29,91],[26,74,26,77],[26,78,26,81],[25,74,25,77],[29,82,29,85],[24,41,24,47],[25,41,25,47],[32,92,32,95],[42,13,42,15],[46,36,46,37],[53,33,53,34],[53,36,53,37],[45,25,45,28],[46,32,46,35],[45,32,45,35],[48,7,48,9],[48,10,48,12],[48,13,48,15],[46,25,46,28],[50,0,51,24],[46,0,46,1],[48,0,48,1],[47,0,47,1],[48,16,48,18],[48,19,48,21],[51,36,51,38],[47,10,47,12],[47,13,47,15],[42,10,42,12],[46,29,46,30],[51,29,51,32],[47,16,47,18],[47,19,47,21],[47,22,47,24],[44,0,45,1],[42,19,42,21],[48,22,48,24],[41,4,41,6],[41,7,41,9],[41,10,41,12],[41,13,41,15],[25,37,26,38],[44,32,44,35],[27,31,27,32],[27,33,27,34],[34,36,34,37],[51,25,51,28],[51,33,51,35],[50,33,50,38],[55,25,55,30],[55,31,55,34],[50,25,50,28],[50,29,50,32],[54,25,54,32],[53,25,53,27],[53,29,53,31],[36,36,36,37],[27,29,27,30],[27,27,27,28],[27,35,27,36],[27,37,27,38],[25,35,26,36],[32,20,32,21],[35,36,35,37],[34,20,34,21],[35,22,35,24],[41,29,41,30],[27,22,27,24],[42,16,42,18],[24,31,24,32],[42,4,42,6],[21,25,21,28],[25,29,26,30],[25,25,25,26],[34,11,34,13],[27,25,27,26],[31,5,31,7],[21,29,21,31],[26,25,26,26],[26,27,26,28],[23,32,23,34],[25,33,26,34],[23,25,23,28],[22,32,22,34],[23,29,23,31],[22,29,22,31],[24,29,24,30],[42,7,42,9],[41,16,41,18],[35,5,35,7],[35,8,35,10],[35,11,35,13],[35,14,35,16],[35,18,35,19],[35,20,35,21],[27,0,27,4],[27,5,27,7],[29,18,29,19],[29,20,29,21],[33,20,33,21],[33,11,33,13],[40,2,40,3],[33,8,33,10],[34,22,34,24],[34,18,34,19],[30,5,30,7],[29,5,29,7],[29,8,29,10],[29,11,29,13],[29,14,29,16],[24,33,24,34],[25,31,26,32],[34,14,34,16],[5,0,5,9],[6,0,8,9],[30,8,30,10],[30,11,30,13],[30,14,30,16],[30,22,30,24],[23,16,23,18],[20,11,20,13],[20,16,20,18],[40,4,40,6],[40,7,40,9],[40,10,40,12],[40,13,40,15],[34,8,34,10],[31,8,31,10],[31,11,31,13],[22,7,22,8],[23,11,23,13],[33,14,33,16],[33,18,33,19],[15,29,15,30],[15,32,15,33],[25,27,25,28],[17,41,17,47],[17,49,17,53],[24,27,24,28],[20,54,20,57],[17,54,17,58],[19,29,19,31],[19,32,19,34],[23,41,23,47],[23,50,23,52],[21,50,21,52],[20,50,20,52],[21,32,21,34],[20,35,20,38],[22,54,22,57],[22,25,22,28],[16,36,16,37],[17,32,17,34],[17,36,17,38],[19,35,19,38],[20,29,20,31],[18,35,18,38],[16,32,16,33],[18,28,18,30],[20,32,20,34],[14,25,15,25],[14,26,15,28],[15,35,15,37],[18,31,18,34],[20,25,20,28],[16,75,16,96],[19,3,19,5],[21,96,21,99],[20,92,20,95],[20,61,20,65],[22,41,22,47],[20,41,20,47],[22,50,22,52],[17,60,17,66],[23,21,23,23],[20,21,20,23],[21,35,21,38],[23,35,23,38],[24,37,24,38],[24,35,24,36],[22,35,22,38],[20,78,20,81],[20,82,20,85],[20,87,20,91],[22,74,22,77],[23,61,23,65],[23,54,23,57],[19,25,19,28],[17,25,17,27],[18,25,18,27],[19,41,19,47],[19,50,19,52],[19,54,19,57],[19,61,19,65],[21,41,21,47],[24,54,24,57],[21,54,21,57],[19,100,19,103],[19,92,19,95],[19,96,19,99],[17,69,17,72],[17,74,17,77],[24,50,24,52],[17,92,17,95],[25,87,25,91],[24,100,24,103],[25,96,25,99],[25,100,25,103],[25,92,25,95],[21,61,21,65],[21,74,21,77],[21,78,21,81],[22,69,22,73],[23,96,23,99],[25,50,25,52],[25,54,25,57],[23,92,23,95],[23,69,23,73],[23,74,23,77],[23,78,23,81],[24,92,24,95],[24,96,24,99],[24,69,24,73],[24,61,24,65],[22,96,22,99],[22,92,22,95],[22,78,22,81],[22,82,22,85],[22,87,22,91],[28,100,28,103],[26,22,26,24],[28,41,28,47],[28,50,28,52],[28,54,28,57],[28,61,28,65],[28,96,28,99],[27,41,27,47],[27,50,27,52],[27,54,27,57],[27,61,27,65],[28,92,28,95],[28,69,28,73],[28,74,28,77],[28,78,28,81],[28,82,28,85],[27,78,27,81],[27,82,27,85],[27,87,27,91],[27,92,27,95],[27,96,27,99],[27,100,27,103],[26,61,26,65],[26,69,26,73],[21,100,21,103],[34,5,34,7],[33,68,34,81],[32,18,32,19],[26,100,26,103],[26,92,26,95],[27,69,27,73],[27,74,27,77],[26,82,26,85],[26,87,26,91],[26,96,26,99],[26,41,26,47],[26,50,26,52],[26,54,26,57],[30,18,30,19],[30,20,30,21],[30,41,30,47],[30,50,30,52],[30,54,30,57],[30,61,30,65],[32,100,32,103],[29,61,29,65],[30,87,30,91],[31,74,31,77],[31,78,31,81],[31,61,31,65],[30,69,30,73],[30,74,30,77],[30,78,30,81],[30,82,30,85],[31,96,31,99],[31,92,31,95],[39,41,39,47],[40,22,40,24],[45,36,45,37],[42,32,42,35],[45,29,45,30],[43,61,43,65],[40,68,41,74],[42,36,42,37],[29,41,29,47],[29,50,29,52],[29,54,29,57],[29,22,29,24],[29,78,29,81],[32,5,32,7],[32,11,32,13],[32,8,32,10],[33,5,33,7],[31,18,31,19],[31,20,31,21],[31,54,31,57],[36,29,36,30],[32,14,32,16],[35,54,35,57],[35,61,35,65],[32,22,32,24],[34,29,34,30],[35,29,35,30],[33,22,33,24],[32,41,32,47],[33,61,33,65],[31,14,31,16],[40,16,40,18],[31,50,31,52],[31,22,31,24],[38,50,38,52],[38,41,38,47],[34,50,34,52],[34,54,34,57],[34,61,34,65],[32,50,32,52],[33,41,33,47],[31,41,31,47],[33,50,33,52],[32,69,32,73],[32,74,32,77],[32,78,32,81],[40,29,40,30],[41,36,41,37],[41,32,41,35],[40,32,40,35],[35,50,35,52],[32,54,32,57],[34,41,34,47],[33,54,33,57],[35,41,35,47],[32,61,32,65],[41,50,41,52],[37,54,37,57],[36,54,36,57],[36,41,36,47],[37,41,37,47],[37,50,37,52],[39,50,39,52],[35,76,35,78],[42,41,42,47],[41,19,41,21],[41,61,41,65],[40,19,40,21],[40,36,40,37],[41,54,41,57],[41,22,41,24],[40,50,40,52],[41,41,41,47],[42,22,42,24],[49,100,49,103],[49,96,49,99],[48,96,48,99],[48,84,48,87],[48,69,48,76],[48,78,48,80],[40,41,40,47],[49,59,49,62],[44,36,44,37],[47,78,47,80],[47,81,47,83],[46,96,46,99],[44,25,44,28],[45,85,45,90],[44,29,44,30],[42,94,42,96],[44,19,44,24],[45,93,45,102],[42,76,42,78],[46,100,46,103],[42,98,42,101],[46,70,46,75],[67,0,67,6],[68,7,68,9],[66,22,66,24],[49,40,49,46],[54,52,54,55],[50,51,50,54],[50,56,50,58],[49,47,49,50],[43,41,43,47],[43,50,43,52],[48,57,48,60],[51,100,51,103],[55,100,55,103],[54,44,54,47],[54,100,54,103],[50,100,50,103],[50,88,50,91],[51,84,51,87],[50,92,50,95],[49,84,49,87],[49,92,49,95],[49,88,49,91],[54,48,54,51],[52,92,52,95],[48,100,48,103],[48,88,48,91],[51,81,51,83],[53,88,53,91],[51,96,51,99],[51,88,51,91],[51,92,51,95],[54,78,54,80],[66,32,66,34],[65,44,65,50],[57,44,57,47],[57,48,57,51],[57,31,57,33],[64,69,64,72],[63,90,63,92],[63,95,63,97],[65,79,65,82],[65,69,65,72],[65,84,65,87],[65,94,65,97],[62,76,62,78],[62,82,62,84],[60,92,60,97],[61,69,61,72],[61,40,61,43],[66,35,66,38],[62,69,62,72],[57,40,57,43],[60,40,60,43],[59,44,59,59],[61,81,61,84],[65,40,65,43],[60,86,60,91],[59,60,59,63],[63,85,63,87],[69,10,69,12],[67,7,67,9],[64,10,64,12],[66,0,66,6],[65,0,65,6],[65,13,65,15],[65,16,65,18],[64,0,64,6],[66,7,66,9],[62,19,62,21],[64,19,64,21],[64,22,64,24],[65,19,65,21],[63,13,63,15],[68,13,68,15],[63,19,63,21],[62,16,62,18],[67,10,67,12],[67,13,67,15],[66,19,66,21],[68,19,68,21],[67,16,67,18],[63,0,63,6],[62,0,62,6],[63,10,63,12],[68,16,68,18],[68,10,68,12],[62,10,62,12],[62,13,62,15],[67,19,67,21],[69,0,69,6],[68,0,68,6],[63,100,63,102],[63,75,63,77],[68,101,68,103],[68,95,68,97],[68,92,68,94],[67,83,67,85],[57,68,58,103],[68,77,68,79],[67,68,70,72],[70,54,70,57],[70,44,70,48],[65,74,65,77],[70,78,70,79],[70,73,70,76],[68,54,68,57],[68,58,68,62],[68,63,68,67],[60,98,60,103],[61,55,61,59],[70,84,70,85],[70,63,70,67],[67,80,67,82],[58,62,58,64],[61,64,61,67],[70,58,70,62],[58,59,58,61],[57,56,57,58],[58,65,58,67],[60,64,60,67],[58,56,58,58],[60,60,60,63],[70,98,70,100],[57,13,57,15],[55,0,55,6],[55,19,55,21],[55,40,55,43],[55,10,55,12],[55,35,55,38],[56,49,56,54],[55,48,55,50],[56,40,56,43],[61,44,61,49],[58,49,58,51],[60,50,60,54],[56,7,56,9],[61,10,61,12],[57,0,57,6],[57,52,57,55],[57,59,57,61],[55,44,55,46],[74,58,74,62],[56,0,56,6],[58,19,58,21],[58,40,58,43],[58,45,58,47],[60,36,60,37],[59,19,59,21],[60,29,60,30],[60,22,60,24],[59,22,59,24],[58,22,58,24],[57,22,57,24],[62,29,62,30],[62,22,62,24],[56,22,56,24],[57,16,57,18],[60,13,60,15],[60,16,60,18],[61,60,61,63],[61,16,61,18],[59,16,59,18],[61,22,61,24],[61,19,61,21],[60,19,60,21],[61,29,61,30],[61,36,61,37],[60,44,60,49],[57,35,57,37],[57,19,57,21],[56,10,56,12],[59,7,59,9],[62,7,62,9],[81,68,82,103],[79,102,79,103],[80,97,80,99],[80,69,80,71],[80,74,80,76],[73,63,73,67],[75,58,75,62],[71,49,71,53],[71,44,71,48],[73,35,73,37],[70,25,70,28],[74,32,74,33],[72,35,72,37],[73,44,73,48],[70,49,70,53],[71,40,71,43],[73,40,73,43],[73,49,73,53],[72,63,72,67],[74,63,74,67],[72,54,72,57],[72,58,72,62],[71,68,72,83],[71,54,71,57],[71,63,71,67],[73,58,73,62],[74,49,74,53],[80,25,81,28],[73,96,73,102],[70,29,70,30],[71,58,71,62],[71,35,71,37],[80,101,80,103],[80,83,80,87],[77,63,77,67],[77,78,77,82],[78,63,78,67],[75,54,75,57],[76,79,76,82],[76,88,76,91],[76,97,76,100],[76,70,76,73],[76,54,76,57],[77,54,77,57],[79,49,79,53],[78,100,78,103],[78,78,78,82],[80,79,80,81],[79,98,79,99],[78,96,78,99],[78,92,78,95],[78,68,78,72],[78,73,78,77],[80,93,80,95],[77,58,77,62],[76,58,76,62],[75,63,75,67],[76,63,76,67],[75,49,75,53],[78,83,78,87],[78,88,78,91],[77,92,77,95],[80,63,80,67],[78,58,78,62],[80,89,80,91],[79,58,79,62],[83,40,83,43],[82,49,82,53],[81,40,81,43],[81,54,81,57],[81,49,81,53],[82,58,82,62],[83,49,83,53],[81,13,81,15],[81,16,81,18],[73,19,73,21],[73,16,73,18],[79,40,79,43],[79,54,79,57],[77,49,77,53],[76,49,76,53],[76,40,76,43],[74,40,74,43],[76,25,76,28],[76,29,76,30],[75,29,75,30],[75,32,75,33],[76,32,76,33],[75,35,75,37],[78,49,78,53],[78,54,78,57],[73,54,73,57],[74,69,74,75],[77,88,77,91],[77,83,77,87],[73,22,73,24],[74,78,74,84],[74,88,74,92],[67,22,67,24],[68,35,68,37],[68,73,68,76],[66,40,66,67],[63,22,63,24],[65,54,65,57],[65,58,65,64],[68,29,68,30],[68,25,68,28],[68,32,68,33],[68,22,68,24],[65,22,65,24],[71,22,71,24],[68,83,68,85],[71,32,71,33],[72,22,72,24],[74,25,74,28],[73,29,73,30],[71,29,71,30],[73,25,73,28],[71,84,72,103],[70,86,70,88],[65,99,65,102],[65,89,65,92],[67,98,67,103],[74,97,74,101],[69,25,69,28],[70,32,70,33],[70,22,70,24],[69,32,69,33],[74,0,75,24],[61,50,61,54],[71,7,71,9],[71,10,71,12],[64,13,64,15],[64,16,64,18],[66,16,66,18],[63,16,63,18],[61,0,61,6],[60,0,60,6],[59,0,59,6],[58,0,58,6],[72,49,72,53],[58,53,58,55],[60,55,60,59],[71,19,71,21],[73,13,73,15],[71,16,71,18],[72,25,72,28],[71,25,71,28],[70,13,70,15],[70,19,70,21],[73,32,73,33],[58,7,58,9],[72,10,72,12],[73,7,73,9],[69,13,69,15],[71,13,71,15],[69,16,69,18],[70,16,70,18],[69,29,69,30],[69,35,69,37],[79,63,79,67],[74,35,74,37],[72,32,72,33],[81,22,81,24],[82,16,82,18],[81,10,81,12],[82,10,82,12],[82,4,82,6],[70,10,70,12],[66,10,66,12],[66,13,66,15],[65,10,65,12],[59,10,59,12],[65,7,65,9],[64,7,64,9],[63,7,63,9],[61,7,61,9],[78,40,78,43],[78,44,78,48],[76,44,76,48],[69,22,69,24],[72,7,72,9],[76,2,76,9],[70,0,70,6],[72,40,72,43],[72,44,72,48],[70,40,70,43],[72,29,72,30],[72,16,72,18],[70,35,70,37],[72,13,72,15],[74,44,74,48],[81,19,81,21],[72,0,72,6],[73,0,73,6],[71,0,71,6],[69,7,69,9],[70,7,70,9],[79,44,79,48],[80,58,80,62],[80,40,80,43],[80,35,81,38],[81,44,81,48],[80,44,80,48],[74,29,74,30],[72,19,72,21],[81,4,81,6],[81,7,81,9],[82,13,82,15],[75,44,75,48],[77,40,77,43],[77,44,77,48],[80,49,80,53],[80,54,80,57],[74,54,74,57],[75,40,75,43],[78,2,78,3],[81,29,81,31],[69,19,69,21],[76,35,76,37],[75,25,75,28],[78,4,78,6],[73,10,73,12],[76,10,76,24],[92,32,92,34],[88,28,88,29],[88,30,88,31],[91,28,91,29],[83,16,83,18],[88,32,88,34],[89,40,89,43],[84,49,84,53],[81,63,81,67],[91,32,91,34],[91,22,91,24],[92,53,92,58],[92,62,92,67],[92,40,92,43],[92,44,92,46],[92,47,92,49],[92,50,92,52],[82,22,82,24],[83,22,83,24],[86,22,86,24],[83,29,83,30],[81,32,81,34],[91,40,91,43],[82,40,82,43],[91,53,91,58],[91,62,91,67],[90,40,90,43],[91,44,91,46],[91,47,91,49],[91,50,91,52],[84,63,84,67],[89,62,89,64],[90,53,90,55],[91,37,91,38],[90,51,90,52],[90,45,90,46],[90,47,90,49],[91,30,91,31],[90,59,90,61],[81,58,81,62],[84,54,84,57],[84,58,84,62],[88,45,88,48],[82,44,82,48],[84,44,84,48],[82,54,82,57],[83,58,83,62],[83,44,83,48],[88,62,88,67],[83,54,83,57],[83,63,83,67],[90,62,90,64],[90,65,90,67],[90,56,90,58],[88,51,88,54],[84,40,84,43],[83,32,83,33],[83,36,83,37],[91,35,91,36],[82,63,82,67],[89,32,89,34],[42,54,42,57],[40,54,40,57],[42,61,42,65],[43,54,43,57],[39,61,39,65],[49,51,49,54],[50,60,50,62],[45,58,45,62],[40,61,40,65],[48,92,48,95],[48,81,48,83],[48,63,48,66],[49,69,49,76],[50,96,50,99],[50,64,50,67],[42,80,42,83],[42,86,42,92],[43,84,44,103],[42,50,42,52],[42,68,42,74],[39,98,39,101],[43,68,44,83],[39,76,39,78],[45,78,45,83],[47,69,47,76],[41,98,41,101],[40,94,40,96],[39,86,39,92],[40,86,40,92],[41,86,41,92],[40,80,41,83],[40,76,41,78],[70,80,70,82],[68,80,68,82],[70,95,70,97],[70,89,70,91],[56,81,56,83],[70,92,70,94],[68,89,68,91],[67,89,67,91],[62,100,62,102],[49,78,49,80],[68,86,68,88],[66,77,66,91],[62,94,62,96],[50,78,50,80],[50,69,50,76],[56,100,56,103],[55,96,55,99],[54,88,54,91],[70,101,70,103],[55,69,55,76],[56,69,56,76],[56,96,56,99],[56,92,56,95],[54,92,54,95],[52,100,52,103],[53,100,53,103],[55,88,55,91],[52,96,52,99],[53,96,53,99],[56,84,56,87],[55,78,55,80],[62,88,62,90],[54,96,54,99],[51,78,51,80],[55,81,55,83],[55,84,55,87],[53,81,53,83],[47,84,47,87],[47,88,47,91],[38,80,38,83],[49,81,49,83],[36,68,36,74],[36,61,36,65],[37,76,37,78],[33,84,34,97],[54,69,54,76],[54,84,54,87],[53,92,53,95],[50,81,50,83],[52,88,52,91],[50,84,50,87],[54,81,54,83],[53,78,53,80],[52,78,52,80],[52,81,52,83],[38,98,38,101],[52,84,52,87],[38,86,38,92],[47,92,47,95],[47,96,47,99],[47,100,47,103],[14,83,15,96],[56,88,56,91],[55,92,55,95],[31,82,31,85],[32,96,32,99],[31,69,31,73],[23,82,23,85],[23,87,23,91],[24,74,24,77],[22,61,22,65],[17,101,17,102],[21,92,21,95],[25,61,25,65],[25,78,25,81],[25,82,25,85],[28,87,28,91],[54,60,54,67],[36,94,36,96],[35,69,35,73],[37,80,37,83],[30,96,30,99],[29,92,29,95],[36,98,36,101],[14,68,15,82],[35,81,35,84],[35,94,35,96],[38,94,38,96],[36,80,36,83],[55,64,55,66],[53,84,53,87],[56,78,56,80],[41,94,41,96],[48,51,48,54],[47,7,47,9],[49,55,49,58],[20,100,20,103],[36,86,36,92],[35,87,35,91],[29,96,29,99],[37,94,37,96],[37,86,37,92],[29,100,29,103],[30,100,30,103],[30,92,30,95]],"merged_total":1084,"flags":["merged_cut"]}
[{"$f":"+データ一覧!O5","v":0}]
[{"$f":"+データ一覧!O8","v":0}]
[null,null,null,null,null,null,null,null,null,null,null,null,null,null,null,null,null,null,null,null,null,null,null,null,null,null,null,null,null,"【市章とそのいわれ】",null,"坂井市のイニシャル「S」と日本海をモチーフに",null,null,null,null,null,null,null,null,"　【位置および地勢】坂井市は、福井県の北部に位置し、南北約17km、東西約31kmに",null,null,null,null,null,null,null,null,null,null,null,null,null,null,null,null,null,null,null,null,null,null,null,null,null,null,null,null,null,null,0]
[null,null,null,null,null,null,null,null,null,null,null,null,null,null,null,null,null,null,null,null,null,null,null,null,null,null,null,null,null,null,null,"デザイン化している。",null,null,null,null,null,null,null,null,null,"およぶ東西に長い行政区域で、面積は約210ｋ㎡となっている。",null,null,null,null,null,null,null,null,null,null,null,null,null,null,null,null,null,null,null,null,null,null,null,null,null,null,null,null,null,"所在地",null,null,null,null,null,null,null,"〒919-0592"]
[null,null,null,null,null,null,null,null,null,null,null,null,null,null,null,null,null,null,null,null,null,null,null,null,null,null,null,null,null,null,null,"豊かな自然の緑を基調として、坂井平野と",null,null,null,null,null,null,null,null,null,"西は日本海に面し、東は勝山市、北はあわら市および石川県、南は福井市、",null,null,null,null,null,null,null,null,null,null,null,null,null,null,null,null,null,null,null,null,null,null,null,null,null,null,null,null,null,null,null,null,null,null,null,null,null,"坂井市坂井町下新庄第1号1番地"]
[{"$f":"+データ一覧!O6","v":"さかいし"},null,null,null,null,null,null,null,null,null,null,null,null,null,null,null,null,null,null,null,null,null,null,null,null,null,null,null,null,null,null,"日本海を照らし出す太陽に明日への情熱を重ねて",null,null,null,null,null,null,null,null,null,"永平寺町に接している。"]
[{"$f":"データ一覧!O9","v":"坂井市"},null,null,null,null,null,null,null,null,null,null,null,null,null,null,null,null,null,null,null,null,null,null,null,null,null,null,null,null,null,null,"いる。",null,null,null,null,null,null,null,null,null,"坂井市の南部を九頭竜川が、東部の森林地域を源流とする竹田川が北部を流れ、",null,null,null,null,null,null,null,null,null,null,null,null,null,null,null,null,null,null,null,null,null,null,null,null,null,null,null,null,null,"電話番号",null,null,null,null,null,null,null,"（０７７６）６６－１５００"]
[null,null,null,null,null,null,null,null,null,null,null,null,null,null,null,null,null,null,null,null,null,null,null,null,null,null,null,null,null,null,null,"主役である市民と市が一緒になって「輝く",null,null,null,null,null,null,null,null,null,"西部で合流し日本海に注ぎ込んでいます。中部には福井県随一の穀倉地帯である",null,null,null,null,null,null,null,null,null,null,null,null,null,null,null,null,null,null,null,null,null,null,null,null,null,null,null,null,null,"FAX番号",null,null,null,null,null,null,null,"　　〃　　　６６－４８３７"]
[null,null,null,null,null,null,null,null,null,null,null,null,null,null,null,null,null,null,null,null,null,null,null,null,null,null,null,null,null,null,null,"未来へ・・・みんなで創る希望の都市（まち）」",null,null,null,null,null,null,null,null,null,"広大な坂井平野が広がり、西部には砂丘地および丘陵地が広がっている。"]
[null,null,null,null,null,null,null,null,null,null,null,null,null,null,null,null,null,null,null,null,null,null,null,null,null,null,null,null,null,null,null,"を目指します。",null,null,null,null,null,null,null,null,null,"道路網は、東部に北陸自動車道・丸岡インターチェンジや国道３６４号、西部に",null,null,null,null,null,null,null,null,null,null,null,null,null,null,null,null,null,null,null,null,null,null,null,null,null,null,null,null,null,"最寄駅および距離",null,null,null,null,null,null,null,"ＪＲ北陸本線丸岡駅　下車４００ｍ"]
[null,null,null,null,null,null,null,null,null,null,null,null,null,null,null,null,null,null,null,null,null,null,null,null,null,null,null,null,null,null,null,"躍動感と力強さを表現した。",null,null,null,null,null,null,null,null,null,"国道３０５号、中部に国道８号、主要地方道福井金津線（嶺北縦貫線）および"]
[null,null,null,null,null,null,null,null,null,null,null,null,null,null,null,null,null,null,null,null,null,null,null,null,null,null,null,null,null,null,null,null,null,null,null,null,null,null,null,null,null,"主要地方道福井加賀線（芦原街道）が走るなど、主要な基幹道路は南北方向を中心に",null,null,null,null,null,null,null,null,null,null,null,null,null,null,null,null,null,null,null,null,null,null,null,null,null,null,null,null,null,"ホームページ",null,null,null,null,null,null,null,"http://www.city.fukui-sakai.lg.jp"]
[null,null,null,null,null,null,null,null,null,null,null,null,null,null,null,null,null,null,null,null,null,null,null,null,null,null,"【市が掲げる標語】 みんなが笑顔で暮らせるまち",null,null,null,null,null,null,null,null,null,null,null,null,null,null,"発達している。また、鉄道網も坂井市の中央を南北に走り、ＪＲ北陸本線が２駅、"]
[null,null,null,null,null,null,null,null,null,null,null,null,null,null,null,null,null,null,null,null,null,null,null,null,null,null,null,null,null,null,null,null,null,null,null,null,null,null,null,null,null,"えちぜん鉄道三国芦原線が９駅設置されている。"]
["  １  土            　　地",null,null,null,null,null,null,null,null,null,null,null,null,null,null,null,null,null,null,null,null,null,null,null,null,{"$f":"データ一覧!$A$247","v":"元年"},"産米収穫量",null,null,"　 収　穫　量",null,null," 　作 付 面 積",null,null,"   10a当たり収量",null,null,null,null,null,null,null,null,null,null,null,null,null,null,null,null,null,null,null,null,null,null,null,null,null,null,null,null,null,null,null,null," １５  労　　　　　　　働",null,null,null,null,null,null,null,null,null,null,null,null,null,null,"27.10.1"]
[null,null,null,null,null,null,null,null,null,null,null,null,null,null,null,null,null,null,null,null,null,null,null,null,null,null,null,null,null,{"$f":"データ一覧!$O$247","v":22100},null,"t",{"$f":"データ一覧!$O$248","v":4140},null,"ha",{"$f":"データ一覧!O249","v":535},null,null,"kg",null," １０  工　　　　　　業 ",null,null,null,null,null,null,null,null,null,null,null,null,null,{"$f":"データ一覧!$A$339","v":"元.6.1（平成30年実績）"}]
["   総          面           積",null,null,null,null,null,null,null,null,null," 固 定 資 産 概 要 調 書 に よ る 地 目 別 面 積",null,null,null,null,null,null,null,null,null,null,null,null,null,null,null,null,null,"   総　　　数",null,null,null,"うち　　田",null,null,null,"うち　　畑",null,null,null,null,null,null,null,null,null,null,null,null,null,null,null,null,null,null,null,null,null,null,null,null,null,null,null,null,null,null,null,null,null,null,null,null,null,null,"産業別就業者数   "]
[null,null,{"$f":"データ一覧!$A$10","v":"2.10.1"},null,null,null,null,null,null,null,null,null,null,null,null,null,{"$f":"データ一覧!$A$12","v":"2.1.1"},null,null,null,null,null,null,null,null," 耕  地  面  積",null,null,null,"       ha",null,null,"ha ",null,null,null,"ha ",null,null,null,"      ","産業分類",null,null,null,null,null,null,null,"事業所数",null,null,null,null,"従業者数",null,null,null,null,null,"年間製造品出荷額等",null,null,null,null,null,null,null,null,"区  分",null,null,null,null,"総    数",null,null,null,null,"男",null,null,null,"女",null,null,"  ","区  分",null,null,null,null,"総    数",null,null,null,null,"男",null,null,null,"女"]
[null,null,null,null,null,null,"㎢",null,null,null,"   総       数",null,null,null,null,"  う ち     田",null,null,null,null,"  う ち     畑",null,null,null,null,{"$f":"データ一覧!$A$250","v":"元.7.15"},null,null,{"$f":"データ一覧!$O$250","v":6630},null,null,{"$f":"データ一覧!$O$251","v":5890},null,null,null,{"$f":"データ一覧!$O$252","v":738},null,null,null,null,null,null,null,null,null,null,null,null,null,"　　   ",null,null,"事業所",null,"　　　　　　　 人",null,null,"人",null,"　　　　　　　　　　　　　　万円",null,null,null,null,null,null,"万円",null,null,null,null,null,null,null,"      人",null,null,null,null,null," 人",null,null,null," 人",null,null,null,null,null,null,null,"      人",null,null,null,"      人",null,null,null,"      人"]
[null,null,null,{"$f":"データ一覧!O10","v":209.67},null,null,null,null,null,null,null,null,null,null,"ha",null,null,null,null,"ha",null,null,null,null,"ha","農 業 生 産 物",null,null,null,"作 付 面 積",null,null,"収 穫 量",null,null,"10a当たり収量",null,null,null,null,"     ","総数",null,null,null,null,null,null,null,null,{"$f":"データ一覧!O339","v":321},null,null,null,{"$f":"+データ一覧!O364","v":9814},null,null,null,null,null,null,{"$f":"データ一覧!O389","v":30894754},null,null,null,null,null,null," 総　　　数",null,null,null,null,null,{"$f":"CA20+CE20","v":47726},null,null,null,{"$f":"データ一覧!O514","v":25751},null,null,null,{"$f":"データ一覧!O539","v":21975}]
[null,null,null,null,null,null,null,null,null,null,null,{"$f":"データ一覧!O12","v":20308.099999999999},null,null,null,null,{"$f":"データ一覧!O13","v":6058.5},null,null,null,null,{"$f":"データ一覧!O14","v":902.8},null,null,null,{"$f":"データ一覧!$A$253","v":"元年中"},null,null,null,"ha",null,null,"t",null,null,"kg",null,null,null,null,"     食料品","食料品",null,null,null,null,null,null,null,null,{"$f":"データ一覧!O340","v":18},null,null,null,{"$f":"+データ一覧!O365","v":437},null,null,null,null,null,null,{"$f":"データ一覧!O390","v":479196},null,null,null,null,null,null,null,null,null,null,null,null,null,null,null,null,null,null,null,null,null,null,null,null,null,"卸売業,小売業",null,null,null,null,{"$f":"CS21+CW21","v":7285},null,null,null,{"$f":"データ一覧!O527","v":3485},null,null,null,{"$f":"データ一覧!O552","v":3800}]
["  町 ･ 丁 ･ 大 字",null,null,null,null,null,null,null,null,null,"  う ち  宅 地",null,null,null,null,"  う ち  山 林",null,null,null,null,"  う ち  原 野",null,null,null,null,"水　　　　　稲",null,null,null,{"$f":"データ一覧!O253","v":4140},null,null,{"$f":"データ一覧!O254","v":22100},null,null,{"$f":"データ一覧!O255","v":535},null,null,null,null,"     飲料・飼料","飲料・飼料",null,null,null,null,null,null,null,null,{"$f":"データ一覧!O341","v":2},null,null,null,{"$f":"+データ一覧!O366","v":35},null,null,null,null,null,null,{"$f":"データ一覧!O391","v":"x"},null,null,null,null,null,null," 第１次産業",null,null,null,null,null,{"$f":"CA22+CE22","v":2050},null,null,null,{"$f":"データ一覧!O515","v":1333},null,null,null,{"$f":"データ一覧!O540","v":717},null,null,null,null,"金融業,保険業",null,null,null,null,{"$f":"CS22+CW22","v":1016},null,null,null,{"$f":"データ一覧!O528","v":393},null,null,null,{"$f":"データ一覧!O553","v":623}]
["  区    画    数",null,null,null,null,null,null,{"$f":"データ一覧!O11","v":368},null,null,null,null,null,null,"ha",null,null,null,null,"ha",null,null,null,null,"ha","六　条　大　麦",null,null,null,{"$f":"データ一覧!O256","v":1400},null,null,{"$f":"データ一覧!O257","v":4200},null,null,{"$f":"データ一覧!O258","v":301},null,null,null,null,"     繊維","繊維",null,null,null,null,null,null,null,null,{"$f":"データ一覧!O342","v":110},null,null,null,{"$f":"+データ一覧!O367","v":3070},null,null,null,null,null,null,{"$f":"データ一覧!O392","v":3760722},null,null,null,null,null,null,"  ","農業",null,null,null,null,{"$f":"CA23+CE23","v":1920},null,null,null,{"$f":"データ一覧!O516","v":1219},null,null,null,{"$f":"データ一覧!O541","v":701},null,null,null,"  ","不動産業",null,null,null,null,413,null,null,null,{"$f":"データ一覧!O529","v":248},null,null,null,{"$f":"データ一覧!O554","v":165}]
[{"$f":"データ一覧!$A$11","v":"31.4.1"},null,null,null,null,null,null,null,null,null,null,{"$f":"データ一覧!O15","v":2373.8000000000002},null,null,null,null,{"$f":"データ一覧!O16","v":5986.7},null,null,null,null,{"$f":"データ一覧!O17","v":98},null,null,null,"大　　      豆",null,null,null,{"$f":"データ一覧!O259","v":658},null,null,{"$f":"データ一覧!O260","v":835},null,null,{"$f":"データ一覧!O261","v":127},null,null,null,null,"     衣服","木材",null,null,null,null,null,null,null,null,{"$f":"データ一覧!O343","v":3},null,null,null,{"$f":"+データ一覧!O368","v":125},null,null,null,null,null,null,{"$f":"データ一覧!O393","v":490932},null,null,null,null,null,null,"  ","林業",null,null,null,null,34,null,null,null,{"$f":"データ一覧!O517","v":32},null,null,null,{"$f":"データ一覧!O542","v":2},null,null,null,"  ","学術研究",null,null,null,null,1102,null,null,null,{"$f":"データ一覧!O530","v":677},null,null,null,{"$f":"データ一覧!O555","v":425}]
["  ２  世　帯　数　と　人　口",null,null,null,null,null,null,null,null,null,null,null,null,null,null,null,null,null,null,null,null,null,null,null,null,null,null,"  区　分",null," 乳 用 牛",null," 肉 用 牛",null,"豚",null,"採卵鶏",null,"ブロイラー",null,null,"     木材","家具",null,null,null,null,null,null,null,null,{"$f":"データ一覧!O344","v":6},null,null,null,{"$f":"+データ一覧!O369","v":84},null,null,null,null,null,null,{"$f":"データ一覧!O394","v":107928},null,null,null,null,null,null,"  ","漁業",null,null,null,null,96,null,null,null,{"$f":"データ一覧!O518","v":82},null,null,null,{"$f":"データ一覧!O543","v":14},null,null,null,"  ","宿泊業,飲食ｻｰﾋﾞｽ",null,null,null,null,2295,null,null,null,{"$f":"データ一覧!O531","v":837},null,null,null,{"$f":"データ一覧!O556","v":1458}]
[null,null,null,null,null,null,null,null,null,null,null,null,null,null,null,null,null,null,null,null,null,null,null,null,null,"畜　産",null," 飼養農家",null,{"$f":"データ一覧!$O$262","v":4},null,{"$f":"データ一覧!$O$264","v":18},null,{"$f":"データ一覧!$O$266","v":"-"},null,{"$f":"データ一覧!$O$268","v":5},null,{"$f":"データ一覧!$O$270","v":"x"},null,null,"     家具","パルプ・紙",null,null,null,null,null,null,null,null,{"$f":"データ一覧!O345","v":7},null,null,null,{"$f":"+データ一覧!O370","v":322},null,null,null,null,null,null,{"$f":"データ一覧!O395","v":1561840},null,null,null,null,null,null," 第２次産業",null,null,null,null,null,16003,null,null,null,{"$f":"データ一覧!O519","v":10687},null,null,null,{"$f":"データ一覧!O544","v":5316},null,null,null,"  ","生活関連ｻｰﾋﾞｽ業",null,null,null,null,1693,null,null,null,{"$f":"データ一覧!O532","v":675},null,null,null,{"$f":"データ一覧!O557","v":1018}]
[null,null,null,null,null,null,null,null,"        人　　　　　　　　　　口",null,null,null,null,null,null,null,null,null,null,null,"１世帯当",null,"人    口",null,null,{"$f":"データ一覧!$A$262","v":"2.3.31"},null,"（戸）",null,null,null,null,null,null,null,null,null,null,null,null,"     パルプ・紙","印刷",null,null,null,null,null,null,null,null,{"$f":"データ一覧!O346","v":17},null,null,null,{"$f":"+データ一覧!O371","v":362},null,null,null,null,null,null,{"$f":"データ一覧!O396","v":305298},null,null,null,null,null,null,null,"鉱業，採石業",null,null,null,null,4,null,null,null,{"$f":"データ一覧!O520","v":3},null,null,null,{"$f":"データ一覧!O545","v":1},null,null,null,"  ","教育,学習支援業",null,null,null,null,2006,null,null,null,{"$f":"データ一覧!O533","v":804},null,null,null,{"$f":"データ一覧!O558","v":1202}]
[" 区　　　　分",null,null,null,null,"世帯数",null,null," 総   数",null,null,"    男",null,null,"    女",null,null,"  男／女",null,null,"たり人員",null,"密    度",null,null,null,null," 頭 羽",null,{"$f":"データ一覧!$O$263","v":123},null,{"$f":"データ一覧!$O$265","v":1228},null,{"$f":"データ一覧!$O$267","v":"-"},null,{"$f":"データ一覧!$O$269","v":511788},null,{"$f":"データ一覧!$O$271","v":33000},null,null,"     出版・印刷","化学",null,null,null,null,null,null,null,null,{"$f":"データ一覧!O347","v":19},null,null,null,{"$f":"+データ一覧!O372","v":621},null,null,null,null,null,null,{"$f":"データ一覧!O397","v":3602673},null,null,null,null,null,null,"  ","建設業",null,null,null,null,3967,null,null,null,{"$f":"データ一覧!O521","v":3327},null,null,null,{"$f":"データ一覧!O546","v":640},null,null,null,null,"医療，福祉",null,null,null,null,5978,null,null,null,{"$f":"データ一覧!O534","v":1180},null,null,null,{"$f":"データ一覧!O559","v":4798}]
[null,null,null,null,null,"    世 帯",null,null,"       人",null,null,"       人",null,null,"       人",null,null,null,"　　％",null,"    人",null,"    人/㎢",null,null,null,null,null,null,null,null,null,null,null,null,null,null,null,null,null,"     化学","石油・石炭",null,null,null,null,null,null,null,null,{"$f":"データ一覧!O348","v":1},null,null,null,{"$f":"+データ一覧!O373","v":11},null,null,null,null,null,null,{"$f":"データ一覧!O398","v":"x"},null,null,null,null,null,null,null,"製造業",null,null,null,null,12032,null,null,null,{"$f":"データ一覧!O522","v":7357},null,null,null,{"$f":"データ一覧!O547","v":4675},null,null,null,null,"複合サービス事業",null,null,null,null,595,null,null,null,{"$f":"データ一覧!O535","v":354},null,null,null,{"$f":"データ一覧!O560","v":241}]
[{"$f":"データ一覧!$A$25","v":" 2.10.1"},null,null,null,null,{"$f":"データ一覧!O25","v":21981},null,null,{"$f":"+L30+O30","v":83372},null,null,{"$f":"データ一覧!O27","v":40152},null,null,{"$f":"データ一覧!O28","v":43220},null,null,null,{"$f":"+L30/O30*100","v":92.901434521055066},null,{"$f":"データ一覧!O30","v":3.79},null,{"$f":"データ一覧!O24","v":0},null,null,"  ５  林               業",null,null,null,null,null,null,null,null,null,null,null,null,null,null,"     石油・石炭","プラスチック",null,null,null,null,null,null,null,null,{"$f":"データ一覧!O349","v":14},null,null,null,{"$f":"+データ一覧!O374","v":891},null,null,null,null,null,null,{"$f":"データ一覧!O399","v":2792726},null,null,null,null,null,null," 第３次産業",null,null,null,null,null,29388,null,null,null,{"$f":"データ一覧!O523","v":13575},null,null,null,{"$f":"データ一覧!O548","v":15813},null,null,null,null,"サービス業",null,null,null,null,2278,null,null,null,{"$f":"データ一覧!O536","v":1385},null,null,null,{"$f":"データ一覧!O561","v":893}]
[{"$f":"データ一覧!$A$32","v":" 7.10.1"},null,null,null,null,{"$f":"データ一覧!O32","v":23882},null,null,{"$f":"+L31+O31","v":86870},null,null,{"$f":"データ一覧!O34","v":41942},null,null,{"$f":"データ一覧!O35","v":44928},null,null,null,93.353810541310551,null,{"$f":"データ一覧!O37","v":3.64},null,{"$f":"データ一覧!O31","v":0},null,null,null,null,null,null,null,null,null,null,null,null,null,null,null,null,null,"     プラスチック","ゴム",null,null,null,null,null,null,null,null,{"$f":"データ一覧!O350","v":0},null,null,null,{"$f":"+データ一覧!O375","v":0},null,null,null,null,null,null,{"$f":"データ一覧!O400","v":0},null,null,null,null,null,null,null,"電気･ｶﾞｽ･水道業",null,null,null,null,211,null,null,null,{"$f":"データ一覧!O524","v":178},null,null,null,{"$f":"データ一覧!O549","v":33},null,null,null,null,"公務",null,null,null,null,1447,null,null,null,{"$f":"データ一覧!O537","v":1040},null,null,null,{"$f":"データ一覧!O562","v":407}]
[{"$f":"データ一覧!$A$39","v":"12.10.1"},null,null,null,null,{"$f":"データ一覧!O39","v":26278},null,null,{"$f":"+L32+O32","v":91173},null,null,{"$f":"データ一覧!O41","v":43972},null,null,{"$f":"データ一覧!O42","v":47201},null,null,null,93.159043240609307,null,{"$f":"データ一覧!O44","v":3.47},null,{"$f":"データ一覧!O38","v":0},null,null,"    　森　　　林　　　総　　　面　　　積   ",null,null,null,null,null,null,null,{"$f":"データ一覧!$A$272","v":"2.3.31"},null,null,null,null,null,null,"     ゴム","皮革",null,null,null,null,null,null,null,null,{"$f":"データ一覧!O351","v":1},null,null,null,{"$f":"+データ一覧!O376","v":5},null,null,null,null,null,null,{"$f":"データ一覧!O401","v":"x"},null,null,null,null,null,null,null,"情報通信業",null,null,null,null,724,null,null,null,{"$f":"データ一覧!O525","v":500},null,null,null,{"$f":"データ一覧!O550","v":224},null,null,null," 分類不能の産業",null,null,null,null,null,285,null,null,null,{"$f":"データ一覧!O538","v":156},null,null,null,{"$f":"データ一覧!O563","v":129}]
[{"$f":"+データ一覧!$A$46","v":"17.10.1"},null,null,null,null,{"$f":"データ一覧!O46","v":28035},null,null,{"$f":"+L33+O33","v":92318},null,null,{"$f":"データ一覧!O48","v":44349},null,null,{"$f":"データ一覧!O49","v":47969},null,null,null,92.453459525943842,null,{"$f":"データ一覧!O51","v":3.29},null,{"$f":"データ一覧!O52","v":439.8},null,null,"　　　森　　　　　　　林　　　　　　　の　　　　　　　構　　　　　　　成",null,null,null,null,null,null,null,null,null,null,null,null,null,null,"     皮革","窯業・土石",null,null,null,null,null,null,null,null,{"$f":"データ一覧!O352","v":12},null,null,null,{"$f":"+データ一覧!O377","v":332},null,null,null,null,null,null,{"$f":"データ一覧!O402","v":684936},null,null,null,null,null,null,"  ","運輸業,郵便業",null,null,null,null,{"$f":"CA33+CE33","v":2345},null,null,null,{"$f":"データ一覧!O526","v":1819},null,null,null,{"$f":"データ一覧!O551","v":526}]
[{"$f":"+データ一覧!$A$53","v":"22.10.1"},null,null,null,null,{"$f":"データ一覧!O53","v":28744},null,null,{"$f":"+L34+O34","v":91900},null,null,{"$f":"+データ一覧!O55","v":44235},null,null,{"$f":"+データ一覧!O56","v":47665},null,null,null,92.803944193852928,null,{"$f":"+データ一覧!O58","v":3.2},null,{"$f":"+データ一覧!O59","v":437.8},null,null,null,null,null,null,null,"       ha",null,null,null,null,null,null,"       ha",null,null,"     窯業・土石","鉄鋼",null,null,null,null,null,null,null,null,{"$f":"データ一覧!O353","v":3},null,null,null,{"$f":"+データ一覧!O378","v":53},null,null,null,null,null,null,{"$f":"データ一覧!O403","v":163901},null,null,null,null,null,null," １６  社　 会 　福　 祉",null,null,null,null,null,null,null,null,null,null,null,null,null,null,null,{"$f":"データ一覧!$A$564","v":"2.4.1"}]
[{"$f":"データ一覧!$A$60","v":"27.10.1"},null,null,null,null,{"$f":"データ一覧!O60","v":29454},null,null,{"$f":"データ一覧!O61","v":90280},null,null,{"$f":"データ一覧!O62","v":43526},null,null,{"$f":"データ一覧!O63","v":46754},null,null,null,93.09577790135603,null,{"$f":"データ一覧!O65","v":3.0651184898485773},null,{"$f":"データ一覧!O66","v":430.6},null,null,"  総　　　　　   数",null,null,null,{"$f":"データ一覧!O272","v":7361.97},null,null," 天然林       針葉樹",null,null,null,{"$f":"データ一覧!O275","v":149.07},null,null,null,"     鉄鋼","非鉄金属",null,null,null,null,null,null,null,null,{"$f":"データ一覧!O354","v":2},null,null,null,{"$f":"+データ一覧!O379","v":858},null,null,null,null,null,null,{"$f":"データ一覧!O404","v":"x"}]
[{"$f":"+データ一覧!$A$67","v":"2.10.1"},null,null,null,null,{"$f":"データ一覧!O67","v":31044},null,null,{"$f":"データ一覧!O76","v":88176},null,null,{"$f":"データ一覧!O77","v":42551},null,null,{"$f":"データ一覧!O78","v":45625},null,null,null,{"$f":"+L36/O36*100","v":93.262465753424664},null,{"$f":"データ一覧!O68","v":2.84},null,{"$f":"データ一覧!O69","v":420.54657318643586},null,null,"  人工林     針葉樹",null,null,null,{"$f":"データ一覧!O273","v":3968.53},null,null," 天然林       広葉樹",null,null,null,{"$f":"データ一覧!O276","v":3076.86},null,null,null,"     非鉄金属","金属",null,null,null,null,null,null,null,null,{"$f":"データ一覧!O355","v":39},null,null,null,{"$f":"+データ一覧!O380","v":777},null,null,null,null,null,null,{"$f":"データ一覧!O405","v":2457825},null,null,null,null,null,null,"    ","区分",null,null,null,null,null,null,"施設数",null,null,null,null,"収容定員",null,null,null,null,null,"区分",null,null,null,null,null,null,"施設数",null,null,null,null,"収容定員"]
["年",null,"  区",null," 0歳",null,null,"15歳",null,null,"25歳",null,null,"35歳",null,null,"45歳",null,null,"55歳",null,null,"65歳",null,null,"  人工林     広葉樹",null,null,null,{"$f":"データ一覧!O274","v":29.37},null,null," 竹               林",null,null,null,{"$f":"データ一覧!O277","v":2.6399999999999997},null,null,null,"     金属","はん用機械",null,null,null,null,null,null,null,null,{"$f":"データ一覧!O356","v":9},null,null,null,{"$f":"+データ一覧!O381","v":349},null,null,null,null,null,null,{"$f":"データ一覧!O406","v":909435},null,null,null,null,null,null,"生活保護施設",null,null,null,null,null,null,null,{"$f":"データ一覧!O564","v":0},null,null,null,{"$f":"データ一覧!O577","v":0},null,null,null,"人",null,"指定障害者支援施設",null,null,null,null,null,null,null,{"$f":"データ一覧!O570","v":1},null,null,null,{"$f":"データ一覧!O583","v":125},null,null,null,"人"]
["齢","令",null,null,null,"～",null,null,"～",null,null,"～",null,null,"～",null,null,"～",null,null,"～",null,null,null,null,null,null,null,null,null,null,null,null,null,null,null,null,null,null,null,"     一般機械","生産用機械",null,null,null,null,null,null,null,null,{"$f":"データ一覧!O357","v":38},null,null,null,{"$f":"+データ一覧!O382","v":547},null,null,null,null,null,null,{"$f":"データ一覧!O407","v":1335139},null,null,null,null,null,null,"地域福祉施設",null,null,null,null,null,null,null,{"$f":"データ一覧!O565","v":0},null,null,null,{"$f":"データ一覧!O578","v":0},null,null,null,null,null,"指定相談支援事業所",null,null,null,null,null,null,null,{"$f":"データ一覧!O571","v":3},null,null,null,{"$f":"データ一覧!O584","v":0}]
["階","元","  分",null,null,null,"14歳",null,null,"24歳",null,null,"34歳",null,null,"44歳",null,null,"54歳",null,null,"64歳",null,null,"以上","    林     野     の     構     成",null,null,null,null,null,null,"保     有     形     態     別",null,null,null,null,null,null,null,"     電気機械","業務用機械",null,null,null,null,null,null,null,null,{"$f":"データ一覧!O358","v":2},null,null,null,{"$f":"+データ一覧!O383","v":31},null,null,null,null,null,null,{"$f":"データ一覧!O408","v":"x"},null,null,null,null,null,null,"老人福祉施設",null,null,null,null,null,null,null,{"$f":"データ一覧!O566","v":21},null,null,null,{"$f":"データ一覧!O579","v":690},null,null,null,null,null,"児童福祉施設",null,null,null,null,null,null,null,{"$f":"データ一覧!O572","v":53},null,null,null,{"$f":"データ一覧!O585","v":3910}]
["級","・",null,null,null,null,"人",null,null,"人",null,"    人",null,null,"    人",null,null,"    人",null,null,"    人",null,null,"    人",null,null,null,null,null,null,null,"ha",null,null,null,null,null,"       ha",null,null,null,"電子・デバイス",null,null,null,null,null,null,null,null,{"$f":"データ一覧!O359","v":5},null,null,null,{"$f":"+データ一覧!O384","v":390},null,null,null,null,null,null,{"$f":"データ一覧!O409","v":730515},null,null,null,null,null,null,"介護保険施設",null,null,null,null,null,null,null,{"$f":"データ一覧!O567","v":125},null,null,null,{"$f":"データ一覧!O580","v":2426},null,null,null,null,null,"母子福祉施設",null,null,null,null,null,null,null,{"$f":"データ一覧!O573","v":0},null,null,null,{"$f":"データ一覧!O586","v":0}]
["別","10","総 数",null,{"$f":"+E42+E43","v":11597},null,null,{"$f":"+H42+H43","v":9122},null,null,{"$f":"+K42+K43","v":7462},null,null,{"$f":"+N42+N43","v":10275},null,null,{"$f":"+Q42+Q43","v":12503},null,null,{"$f":"+T42+T43","v":11294},null,null,{"$f":"+W42+W43","v":25342},null,null," 無立木地   伐採跡地",null,null,null,{"$f":"データ一覧!O278","v":2.1},null,null,"国   　　　 　 有",null,null,null,{"$f":"データ一覧!O280","v":46.34},null,null,null,null,"電気機械",null,null,null,null,null,null,null,null,{"$f":"データ一覧!O360","v":7},null,null,null,{"$f":"+データ一覧!O385","v":307},null,null,null,null,null,null,{"$f":"データ一覧!O410","v":824827},null,null,null,null,null,null,"障害者自立支援法施行前からの身体障害者福祉施設",null,null,null,null,null,null,null,{"$f":"データ一覧!O568","v":0},null,null,null,{"$f":"データ一覧!O581","v":0},null,null,null,null,null,"婦人保護施設",null,null,null,null,null,null,null,{"$f":"データ一覧!O574","v":0},null,null,null,{"$f":"データ一覧!O587","v":0}]
["人","・","  男",null,{"$f":"データ一覧!O79","v":5892},null,null,{"$f":"データ一覧!O80","v":4670},null,null,{"$f":"データ一覧!O81","v":3780},null,null,{"$f":"データ一覧!O82","v":5147},null,null,{"$f":"データ一覧!O83","v":6164},null,null,{"$f":"データ一覧!O84","v":5490},null,null,{"$f":"データ一覧!O85","v":11091},null,null," 無立木地   未立木地",null,null,null,{"$f":"データ一覧!O279","v":133.4},null,null,"公       　　  有",null,null,null,{"$f":"データ一覧!O281","v":1451.54},null,null,null,"     輸送機械","情報通信機械",null,null,null,null,null,null,null,null,{"$f":"データ一覧!O361","v":0},null,null,null,{"$f":"+データ一覧!O386","v":0},null,null,null,null,null,null,{"$f":"データ一覧!O411","v":0},null,null,null,null,null,null,null,null,null,null,null,null,null,null,null,null,null,null,null,null,null,null,null,null,"その他の社会福祉施設",null,null,null,null,null,null,null,{"$f":"データ一覧!O575+データ一覧!O576","v":1},null,null,null,{"$f":"データ一覧!O588+データ一覧!O589","v":0}]
["口","1","  女",null,{"$f":"データ一覧!O87","v":5705},null,null,{"$f":"データ一覧!O88","v":4452},null,null,{"$f":"データ一覧!O89","v":3682},null,null,{"$f":"データ一覧!O90","v":5128},null,null,{"$f":"データ一覧!O91","v":6339},null,null,{"$f":"データ一覧!O92","v":5804},null,null,{"$f":"データ一覧!O93","v":14251},null,null,null,null,null,null,null,null,null,"私          　 有",null,null,null,{"$f":"データ一覧!O282","v":5864.09},null,null,null,"     精密機械","輸送機械",null,null,null,null,null,null,null,null,{"$f":"データ一覧!O362","v":2},null,null,null,{"$f":"+データ一覧!O387","v":17},null,null,null,null,null,null,{"$f":"データ一覧!O412","v":"x"},null,null,null,null,null,null,"障害福祉サービス事業所",null,null,null,null,null,null,null,{"$f":"データ一覧!O569","v":48},null,null,null,{"$f":"データ一覧!O582","v":596}]
[null,null,null,null,null,null,null,null,null,null,null,null,null,null,null,null,null,null,null,null,null,null,null,null,null,"            林     産     物     生     産     量 ",null,null,null,null,null,null,null,null,null,{"$f":"データ一覧!$A$283","v":"元年中"},null,null,null,null,"     その他","その他",null,null,null,null,null,null,null,null,{"$f":"データ一覧!O363","v":4},null,null,null,{"$f":"+データ一覧!O388","v":190},null,null,null,null,null,null,{"$f":"データ一覧!O413","v":218353},null,null,null,null,null,null," １７  教　　　　　　　育",null,null,null,null,null,null,null,null,null,null,null,null,null,null,null,{"$f":"データ一覧!$A$590","v":"2.5.1"}]
["人口動態",null,null,null,null,null,null,"   自　然　動　態",null,null,null,null,null,"   社  会  動  態",null,null,null,null,null,{"$f":"データ一覧!$A74","v":"31.1.1～元.12.31"},null,null,null,null,null,"生椎茸",null,null,null,{"$f":"データ一覧!O283","v":1630},null,"㎏","乾椎茸",null,null,null,{"$f":"データ一覧!O284","v":"-"},null,"㎏"]
[null,null,"   区       分",null,null,null,null," 出   生",null,null," 死   亡",null,null," 転   入",null,null," 転   出",null,null," 婚   姻",null,null," 離   婚",null,null,"えのきだけ",null,null,null,{"$f":"データ一覧!O286","v":"-"},null,"㎏","なめこ",null,null,null,{"$f":"データ一覧!O285","v":29000},null,"㎏",null,"    ","工　業　用　水　量",null,null,null,null,null,"（従業者30人以上の事業所）",null,null,null,null,null,null,null,null,null,null,{"$f":"データ一覧!O414","v":25660},null,null,null,null,"㎥／日",null,null,null,null,null,null,null,null,null,null,null,null,null,null,"学校数（校）",null,null,null,null,null,null,"教員数（人）",null,null,null,null,null,null,null,"学生・生徒・児童数（人）"]
[{"$f":"LEFT(データ一覧!$A70,7)","v":"元.10.1～"},null,null,null,null,null,null,"       人",null,null,"       人",null,null,"       人",null,null,"       人",null,null,null,"    件",null,null,"    件",null,"ひらたけ",null,null,null,{"$f":"+データ一覧!O287","v":"-"},null,"㎏","まいたけ",null,null,null,{"$f":"+データ一覧!O288","v":"-"},null,"㎏",null,null,null,null,null,null,null,null,null,null,null,null,null,null,null,null,null,null,null,null,null,null,null,null,null,null,null,null,null,null,"　","区分",null,null,null,null,null,null,null," 本 校",null,null," 分 校",null,null," 本   務",null,null,null," 兼   務",null,null,null," 総   数",null,null,null,"男",null,null,null,"女"]
["～",null," 実          数",null,null,null,null,{"$f":"データ一覧!O70","v":579},null,null,{"$f":"データ一覧!O71","v":976},null,null,{"$f":"データ一覧!O72","v":2478},null,null,{"$f":"データ一覧!O73","v":2700},null,null,{"$f":"データ一覧!O74","v":396},null,null,{"$f":"データ一覧!O75","v":123},null,null,null,null,null,null,null,null,null,null,null,null,null,null,null,null,null," １１ 　上　・　下　水　道",null,null,null,null,null,null,null,null,null,null,null,null,null,null,null,null,null,null,null,null,null,null,null,null,null,null,null,null,"小学校",null,null,null,null,null,null,null,null,{"$f":"データ一覧!O591","v":19},null,null,{"$f":"データ一覧!O592","v":0},null,null,{"$f":"データ一覧!O593","v":351},null,null,null,{"$f":"データ一覧!O594","v":51},null,null,null,{"$f":"データ一覧!O595","v":5033},null,null,null,{"$f":"データ一覧!O596","v":2551},null,null,null,{"$f":"データ一覧!O597","v":2482}]
[{"$f":"RIGHT(データ一覧!$A72,7)","v":"～2.9.30"},null,"比率(対1,000人)",null,null,null,null,{"$f":"+H48/I35*1000","v":6.413380593708462},null,null,{"$f":"+K48/I35*1000","v":10.810810810810811},null,null,"- ",null,null,"- ",null,null,{"$f":"+T48/I35*1000","v":4.3863535666814348},null,null,{"$f":"+W48/I35*1000","v":1.3624280017722641},null,null,"  ６  漁               業",null,null,null,null,null,null,null,null,null,null,null,null,null,null,null,null,null,null,null,null,null,null,null,null,null,null,null,null,null,null,null,null,null,null,null,null,null,null,null,null,null,null,"  ","中学校",null,null,null,null,null,null,null,null,{"$f":"データ一覧!O599","v":5},null,null,{"$f":"データ一覧!O600","v":0},null,null,{"$f":"データ一覧!O601","v":193},null,null,null,{"$f":"データ一覧!O602","v":13},null,null,null,{"$f":"データ一覧!O603","v":2575},null,null,null,{"$f":"データ一覧!O604","v":1355},null,null,null,{"$f":"データ一覧!O605","v":1220}]
[null,null,null,null,null,null,null,null,null,null,null,null,null,null,null,null,null,null,null,null,null,null,null,null,null,null,null,null,null,null,null,null,null,null,null,null,null,null,null,null,"水 道 供 給 人 口",null,null,null,null,null,null,"上 水 道",null,null,null,"簡易水道",null,null,null,"専用水道",null,null,null,"飲料水供給施設",null,null,null,"下水道処理人口",null,null,null,null,"  ","高等学校",null,null,null,null,null,null,null,null,{"$f":"データ一覧!O607","v":3},null,null,{"$f":"データ一覧!O608","v":0},null,null,{"$f":"データ一覧!O609","v":155},null,null,null,{"$f":"データ一覧!O610","v":41},null,null,null,{"$f":"データ一覧!O611","v":1611},null,null,null,{"$f":"データ一覧!O612","v":918},null,null,null,{"$f":"データ一覧!O613","v":693}]
["  ３  事　　業　　所（民　　営）    （平 28.6.1）",null,null,null,null,null,null,null,null,null,null,null,null,null,null,null,null,null,null,null,null,null,null,null,null,"漁船隻数・トン数",null,null,null,{"$f":"データ一覧!$A$289","v":"元.12.31"},null,null,null,"動　力　船",null,null,null,null,null,null,{"$f":"データ一覧!$A$415","v":"2.3.31"},null,null,null,null,null,"人",null,{"$f":"データ一覧!O415","v":91040},null,null,{"$f":"データ一覧!O416","v":0},null,null,null,null,{"$f":"データ一覧!O417","v":0},null,null,null,{"$f":"データ一覧!O418","v":0},null,null,null,{"$f":"データ一覧!O419","v":89869},null,null,null,"  ","大学・短期大学",null,null,null,null,null,null,null,null,{"$f":"データ一覧!O614","v":0},null,null,{"$f":"データ一覧!O615","v":0},null,null,{"$f":"データ一覧!O616","v":0},null,null,null,{"$f":"データ一覧!O617","v":0},null,null,null,{"$f":"データ一覧!O618","v":0},null,null,null,{"$f":"データ一覧!O619","v":0},null,null,null,{"$f":"データ一覧!O620","v":0}]
[null,null,null,null,null,null,null,null,null,null,null,null,null,null,null,null,null,null,null,null,null,null,null,null,null,"無動力船隻数",null,null,null,"船外機付漁船隻数",null,null,null,"隻　数",null,null,"総 ト ン 数",null,null,null,null,null,null,null,null,null,null,null,null,null,null,null,null,null,null,null,null,null,null,null,null,null,null,null,null,null,null,null,"  ","高等専門学校",null,null,null,null,null,null,null,null,{"$f":"データ一覧!O621","v":0},null,null,{"$f":"データ一覧!O622","v":0},null,null,{"$f":"データ一覧!O623","v":0},null,null,null,{"$f":"データ一覧!O624","v":0},null,null,null,{"$f":"データ一覧!O625","v":0},null,null,null,{"$f":"データ一覧!O626","v":0},null,null,null,{"$f":"データ一覧!O627","v":0}]
[null,null,null,null,null,null,null,"    総　　　　　数",null,null,null,null,null,"    民　　　　　営",null,null,null,null,null,"  国 ･ 地方公共団体",null,null,null,null,null,null,null,null,"隻",null,null,null,"隻",null,null,"隻",null,null,"t",null," １２  交   通　・　通   信",null,null,null,null,null,null,null,null,null,null,null,null,null,null,null,null,null,null,null,null,null,null,null,null,null,null,null,"  ","特別支援学校",null,null,null,null,null,null,null,null,{"$f":"+データ一覧!O629","v":1},null,null,{"$f":"+データ一覧!O630","v":0},null,null,{"$f":"+データ一覧!O631","v":110},null,null,null,{"$f":"+データ一覧!O632","v":5},null,null,null,{"$f":"+データ一覧!O633","v":184},null,null,null,{"$f":"+データ一覧!O634","v":121},null,null,null,{"$f":"+データ一覧!O635","v":63}]
["  　区　　　　　　分",null,null,null,null,null,null," 事業所数",null,null," 従業者数",null,null," 事業所数",null,null," 従業者数",null,null," 事業所数",null,null," 従業者数",null,null,{"$f":"データ一覧!$O$289","v":7},null,null,null,{"$f":"データ一覧!$O$290","v":67},null,null,null,{"$f":"データ一覧!O291","v":63},null,null,{"$f":"データ一覧!O292","v":649.5},null,null,null,null,null,null,null,null,null,null,null,null,null,null,null,null,null,null,null,null,null,null,null,null,null,null,null,null,null,null,null,"  ","幼稚園",null,null,null,null,null,null,null,null,{"$f":"データ一覧!O637","v":12},null,null,{"$f":"データ一覧!O638","v":0},null,null,{"$f":"データ一覧!O639","v":37},null,null,null,{"$f":"データ一覧!O640","v":0},null,null,null,{"$f":"データ一覧!O641","v":74},null,null,null,{"$f":"データ一覧!O642","v":38},null,null,null,{"$f":"データ一覧!O643","v":36}]
[null,null,null,null,null,null,null,null,null,null,"       人",null,null,null,null,null,"       人",null,null,null,null,null,"       人",null,null,"  男女別就業者数",null,null,null,null,null,null,null,{"$f":"データ一覧!$A$293","v":"30.11.1"},null,null,null,null,null,null,"道     路",null,null,null,"実 延 長",null,null,null,"国     道",null,null,null,"県     道",null,null,null,"市町道",null,null,null," 鉄 道 営 業 キ ロ 数",null,null,null,null,null,null,null,"  ","幼保連携認定こども園",null,null,null,null,null,null,null,null,{"$f":"データ一覧!O645","v":5},null,null,{"$f":"データ一覧!O646","v":0},null,null,{"$f":"データ一覧!O647","v":103},null,null,null,{"$f":"データ一覧!O648","v":15},null,null,null,{"$f":"データ一覧!O649","v":624},null,null,null,{"$f":"データ一覧!O650","v":293},null,null,null,{"$f":"データ一覧!O651","v":331}]
["総数",null,null,null,null,null,null,{"$f":"データ一覧!O95","v":"…"},null,null,{"$f":"データ一覧!O152","v":"…"},null,null,{"$f":"データ一覧!O96","v":3754},null,null,{"$f":"データ一覧!O153","v":34682},null,null,{"$f":"データ一覧!O97","v":"…"},null,null,{"$f":"データ一覧!O154","v":"…"},null,null,"総　　数",null,null,null,null,null,"男",null,null,null,"女",null,null,null,null,{"$f":"データ一覧!$A$420","v":"31.4.1"},null,null,null,{"$f":"データ一覧!O420","v":997.29499999999985},null,null,"㎞",{"$f":"データ一覧!O421","v":25.3},null,null,"㎞",{"$f":"データ一覧!O422","v":183.6},null,null,"㎞",{"$f":"データ一覧!O423","v":788.39499999999987},null,null,"km",{"$f":"データ一覧!$A$424","v":"2.4.1"},null,null,null,{"$f":"データ一覧!O424","v":20.47},null,null,"㎞","  ","各種学校",null,null,null,null,null,null,null,null,{"$f":"データ一覧!O653","v":1},null,null,{"$f":"データ一覧!O654","v":0},null,null,{"$f":"データ一覧!O655","v":11},null,null,null,{"$f":"データ一覧!O656","v":0},null,null,null,{"$f":"データ一覧!O657","v":90},null,null,null,{"$f":"データ一覧!O658","v":60},null,null,null,{"$f":"データ一覧!O659","v":30}]
["農林漁業",null,null,null,null,null,null,{"$f":"データ一覧!O98","v":"…"},null,null,{"$f":"データ一覧!O155","v":"…"},null,null,{"$f":"データ一覧!O99","v":37},null,null,{"$f":"データ一覧!O156","v":330},null,null,{"$f":"データ一覧!O100","v":"…"},null,null,{"$f":"データ一覧!O157","v":"…"},null,null,null,null,null,null,null,"人",null,null,"　　　　人",null,null,null,null,"  人",null,"自動車",null,null,null,null,null,null,null,null,"乗用車",null,null,null,null,null,null,null,null,null,null,null,null,null,null,null,null,null,null,"  ","専修学校",null,null,null,null,null,null,null,null,{"$f":"データ一覧!O661","v":1},null,null,{"$f":"データ一覧!O662","v":0},null,null,{"$f":"データ一覧!O663","v":6},null,null,null,{"$f":"データ一覧!O664","v":4},null,null,null,{"$f":"データ一覧!O665","v":76},null,null,null,{"$f":"データ一覧!O666","v":11},null,null,null,{"$f":"データ一覧!O667","v":65}]
["鉱業",null,null,null,null,null,null,{"$f":"データ一覧!O101","v":"…"},null,null,{"$f":"データ一覧!O158","v":"…"},null,null,{"$f":"データ一覧!O102","v":0},null,null,{"$f":"データ一覧!O159","v":0},null,null,{"$f":"データ一覧!O103","v":"…"},null,null,{"$f":"データ一覧!O160","v":"…"},null,null,{"$f":"AF58+AJ58","v":122},null,null,null,null,null,{"$f":"データ一覧!$O$294","v":93},null,null,null,{"$f":"データ一覧!O295","v":29},null,null,null,null,"台  数",null,null,null,"貨    物",null,null,null,"普     通",null,null,null,"小     型",null,null,null,"乗  合",null,null,"特  種",null,null,"小型二輪",null,null,"軽自動車",null,null," １８  衛　　　　　　　生"]
["建設業",null,null,null,null,null,null,{"$f":"データ一覧!O104","v":"…"},null,null,{"$f":"データ一覧!O161","v":"…"},null,null,{"$f":"データ一覧!O105","v":448},null,null,{"$f":"データ一覧!O162","v":2674},null,null,{"$f":"データ一覧!O106","v":"…"},null,null,{"$f":"データ一覧!O163","v":"…"},null,null,"　　　　海 面 漁 業 漁 獲 量 （属人）",null,null,null,null,null,null,null,{"$f":"データ一覧!$A$296","v":"30年中"},null,null,null,null,null,null,{"$f":"データ一覧!$A$425","v":"2.3.31"},null,null,null,null,{"$f":"データ一覧!O425","v":4818},null,null,null,{"$f":"データ一覧!O427","v":17832},null,null,null,{"$f":"データ一覧!O428","v":18950},null,null,{"$f":"データ一覧!O426","v":139},null,null,{"$f":"データ一覧!O429","v":1460},null,null,{"$f":"データ一覧!O430","v":1038},null,null,{"$f":"データ一覧!O431","v":33245}]
["製造業",null,null,null,null,null,null,{"$f":"データ一覧!O107","v":"…"},null,null,{"$f":"データ一覧!O164","v":"…"},null,null,{"$f":"データ一覧!O108","v":651},null,null,{"$f":"データ一覧!O165","v":10661},null,null,{"$f":"データ一覧!O109","v":"…"},null,null,{"$f":"データ一覧!O166","v":"…"},null,null,null,null,null,null,null,"       ","ｔ",null,null,null,null,null,null,"t",null,null,null,"     ",null,"郵　便　局　数",null,null,null,null,null,null,null,null,null,null,null,null,null,null,null,"一般加入",null,null,null,"ＩＮＳネット",null,null,null,null,null,null,null,"医療関係施設",null,null,null,null,null,{"$f":"データ一覧!$A$668","v":"元.10.1"},null,null,null,null,null,null,"および医療関係者数",null,null,null,null,null,null,null,{"$f":"データ一覧!$A$673","v":"30.12.31"}]
["電気・ｶﾞ ｽ・熱供給・水道業",null,null,null,null,null,null,{"$f":"データ一覧!O110","v":"…"},null,null,{"$f":"データ一覧!O167","v":"…"},null,null,{"$f":"データ一覧!O111","v":7},null,null,{"$f":"データ一覧!O168","v":162},null,null,{"$f":"データ一覧!O112","v":"…"},null,null,{"$f":"データ一覧!O169","v":"…"},null,null,"   総　　　　　　数",null,null,null,{"$f":"データ一覧!O296","v":507},null,null,"   藻　　　　　　類",null,null,null,{"$f":"データ一覧!O299","v":4},null,null,null,"通  信",null,null,null," 総     数",null,null,null,null,null," 郵 便 局",null,null,null,null," 簡 易 局",null,null,null,null,"電話数",null,null,null,"加入数",null,null,null,null,null,null,null,null,null,"　","病",null,null,"院",null,"　",null,null,null,null," ","一般診療所",null,null,null,null,null,null,null,null,null,null,null,"歯科診療所"]
["情報通信業",null,null,null,null,null,null,{"$f":"データ一覧!O113","v":"…"},null,null,{"$f":"データ一覧!O170","v":"…"},null,null,{"$f":"データ一覧!O114","v":37},null,null,{"$f":"データ一覧!O171","v":825},null,null,{"$f":"データ一覧!O115","v":"…"},null,null,{"$f":"データ一覧!O172","v":"…"},null,null,"   魚　　　　　　類",null,null,null,{"$f":"データ一覧!O297","v":94},null,null,"   そ　   の　　 他",null,null,null,{"$f":"データ一覧!O300","v":389},null,null,null,{"$f":"データ一覧!$A$435","v":"2.3.31"},null,null,null,{"$f":"データ一覧!O432","v":22},null,null,null,null,null,{"$f":"データ一覧!O433","v":17},null,null,null,null,{"$f":"データ一覧!O434","v":5},null,null,null,null,{"$f":"データ一覧!O435","v":6304},null,null,null,{"$f":"データ一覧!O436","v":940},null,null,null," ","医療関係",null,null,null,null,null,null,null,null,null,null,null,"一般病院",null,null,null,null,null,null,null,null,null,null,null,"有",null,null,"床"]
["運輸業、郵便業",null,null,null,null,null,null,{"$f":"データ一覧!O116","v":"…"},null,null,{"$f":"データ一覧!O173","v":"…"},null,null,{"$f":"データ一覧!O117","v":106},null,null,{"$f":"データ一覧!O174","v":1677},null,null,{"$f":"データ一覧!O118","v":"…"},null,null,{"$f":"データ一覧!O175","v":"…"},null,null,"   貝　　　　　　類",null,null,null,{"$f":"データ一覧!O298","v":20},null,null,null,null,null,null,null,null,null,null,null,null,null,null,null,null,null,null,null,null,null,null,null,null,null,null,null,null,null,null,null,null,null,null,null,null,null,null,null,"施設数",null,null,null,null,null,null,{"$f":"データ一覧!O668","v":4},null,null,null,null,null,{"$f":"データ一覧!O669","v":4},null,null,null,null,null,{"$f":"データ一覧!O670","v":47},null,null,null,null,null,{"$f":"データ一覧!O671","v":3},null,null,null,null,null,{"$f":"データ一覧!O672","v":24}]
["卸売業、小売業",null,null,null,null,null,null,{"$f":"データ一覧!O119","v":"…"},null,null,{"$f":"データ一覧!O176","v":"…"},null,null,{"$f":"データ一覧!O120","v":930},null,null,{"$f":"データ一覧!O177","v":6702},null,null,{"$f":"データ一覧!O121","v":"…"},null,null,{"$f":"データ一覧!O178","v":"…"},null,null,null,null,null,null,null,null,null,null,null,null,null,null,null,null,null," １３  税　　・　　財　　政",null,null,null,null,null,null,null,null,null,null,null,null,null,null,null,null,null,null,null,null,null,null,null,null,null,null,null,null,null,null,null,null,null,null,"医師",null,null,null,null,"歯科医師",null,null,null,null,"薬剤師",null,null,null,null,"保健師",null,null,null,null,"助産師",null,null," ",null,"看護師",null,null," "]
["金融業、保険業",null,null,null,null,null,null,{"$f":"データ一覧!O122","v":"…"},null,null,{"$f":"データ一覧!O179","v":"…"},null,null,{"$f":"データ一覧!O123","v":41},null,null,{"$f":"データ一覧!O180","v":481},null,null,{"$f":"データ一覧!O124","v":"…"},null,null,{"$f":"データ一覧!O181","v":"…"},null,null,"  ７  商        　　　業 ",null,null,null,null,null,null,{"$f":"データ一覧!$A$301","v":"28.6.1(平成27年実績）"},null,null,null,null,null,null,null,null,null,null,null,null,null,null,null,null,null,null,null,null,null,null,null,null,null,null,null,null,null,null,null,null,null,null,null," ","医療",null,null,null,null,null,null,null,null,"人",null,null,null,null,"人",null,null,null,null,"人",null,null,null,null,"人",null,null,null,null,"人",null,null,null,null,"人"]
["不動産業、物品賃貸業",null,null,null,null,null,null,{"$f":"データ一覧!O125","v":"…"},null,null,{"$f":"データ一覧!O182","v":"…"},null,null,{"$f":"データ一覧!O126","v":72},null,null,{"$f":"データ一覧!O183","v":445},null,null,{"$f":"データ一覧!O127","v":"…"},null,null,{"$f":"データ一覧!O184","v":"…"},null,null,null,null,null,null,null,null,null,null,null,null,null,null,null,null,null,"           ",null,null,null,"歳入",null,null,null,null,null,null,null,null,"(千円）"," ",null,null,null,"歳出",null,null,null,null,null,null,null,null,"(千円）",null,"関係者",null,null,null,null,{"$f":"データ一覧!O673","v":77},null,null,null,null,{"$f":"データ一覧!O674","v":31},null,null,null,null,{"$f":"データ一覧!O675","v":122},null,null,null,null,{"$f":"データ一覧!O676","v":34},null,null,null,null,{"$f":"データ一覧!O677","v":5},null,null,null,null,{"$f":"データ一覧!O678","v":675}]
["学術研究、専門・技術ｻｰﾋﾞｽ業",null,null,null,null,null,null,{"$f":"データ一覧!O128","v":"…"},null,null,{"$f":"データ一覧!O185","v":"…"},null,null,{"$f":"データ一覧!O129","v":115},null,null,{"$f":"データ一覧!O186","v":668},null,null,{"$f":"データ一覧!O130","v":"…"},null,null,{"$f":"データ一覧!O187","v":"…"},null,null,"  産   業　 分　 類",null,null,null,"  商　 店 　数",null,null," 従　業　者　数",null,null,"年　間　販　売　額",null,null,null,null,"一人当たり歳入歳出予算決算額",null,null,null,null,null,null,null,null,null,null,null,null,null,null,null,null,null,null,null,null,null,null,null,null,null,null,null,"                   ",null,null,null,null,null,null,null,null,"死因別死亡数　　　　　　    ",null,null,null,null,null,null,null,null,null,null,null,null,null,null,null,{"$f":"データ一覧!$A$679","v":"元年中"},null,null,null,null,null,null,null,null,"      単 位：人"]
["宿泊業、飲食サービス業",null,null,null,null,null,null,{"$f":"データ一覧!O131","v":"…"},null,null,{"$f":"データ一覧!O188","v":"…"},null,null,{"$f":"データ一覧!O132","v":376},null,null,{"$f":"データ一覧!O189","v":2523},null,null,{"$f":"データ一覧!O133","v":"…"},null,null,{"$f":"データ一覧!O190","v":"…"},null,null,null,null,null,null,null,"        店",null,null,null,"　人",null,"         百万円",null,null,null,"区分",null,null,null,{"$f":"データ一覧!$A$445","v":"2年度"},null,null,null,null,{"$f":"データ一覧!$A$459","v":"元年度"},null,null,null,null,"区分",null,null,null,{"$f":"+AS68","v":"2年度"},null,null,null,null,{"$f":"データ一覧!$A$459","v":"元年度"},null,null,null,null," 死     因",null,null,null,null,null,null,null,null,null,null,null,"悪  性",null,null,"高血圧",null,null,null,null,null,"脳血管",null,null,null,null,null," ",null,null,"不慮の事故"]
["生活関連サービス業、娯楽業",null,null,null,null,null,null,{"$f":"データ一覧!O134","v":"…"},null,null,{"$f":"データ一覧!O191","v":"…"},null,null,{"$f":"データ一覧!O135","v":330},null,null,{"$f":"データ一覧!O192","v":1246},null,null,{"$f":"データ一覧!O136","v":"…"},null,null,{"$f":"データ一覧!O193","v":"…"},null,null,"総　　　　　　計",null,null,null,{"$f":"データ一覧!O301","v":797},null,null,{"$f":"データ一覧!O310","v":5510},null,null,{"$f":"データ一覧!O319","v":133270},null,null,null,null,null,null,null,null,{"$f":"データ一覧!O441","v":482329.36399927415},null,null,null,null,{"$f":"データ一覧!O442","v":533461},null,null,null,null,null,null,null,null,{"$f":"データ一覧!O443","v":482329.36399927415},null,null,null,null,{"$f":"データ一覧!O444","v":516179.12044597109},null,null,null,null,null,null,null,null,null,"全 死 因",null,null,null,"結 核",null,null,"新生物",null,null,"性疾患",null,null,"心疾患",null,null,"疾  患",null,null,"肺  炎",null,null,"老  衰",null,null,null,null," ","交通事故"]
["教育、学習支援業",null,null,null,null,null,null,{"$f":"データ一覧!O137","v":"…"},null,null,{"$f":"データ一覧!O194","v":"…"},null,null,{"$f":"データ一覧!O138","v":95},null,null,{"$f":"データ一覧!O195","v":253},null,null,{"$f":"データ一覧!O139","v":"…"},null,null,{"$f":"データ一覧!O196","v":"…"},null,null,"卸売業",null,null,null,{"$f":"データ一覧!O302","v":142},null,null,{"$f":"データ一覧!O311","v":1203},null,null,{"$f":"データ一覧!O320","v":56203},null,null,null,null,"項目別歳入歳出予算決算額"]
["医療、福祉",null,null,null,null,null,null,{"$f":"データ一覧!O140","v":"…"},null,null,{"$f":"データ一覧!O197","v":"…"},null,null,{"$f":"データ一覧!O141","v":200},null,null,{"$f":"データ一覧!O198","v":3530},null,null,{"$f":"データ一覧!O142","v":"…"},null,null,{"$f":"データ一覧!O199","v":"…"},null,null,"小売業",null,null,null,{"$f":"データ一覧!O303","v":655},null,null,{"$f":"データ一覧!O312","v":4307},null,null,{"$f":"データ一覧!O321","v":77067},null,null,null,null,"区分",null,null,null,{"$f":"データ一覧!$A$445","v":"2年度"},null,null,null,null,{"$f":"データ一覧!$A$459","v":"元年度"},null,null,null,null,"区分",null,null,null,{"$f":"+AS71","v":"2年度"},null,null,null,null,{"$f":"データ一覧!$A$459","v":"元年度"},null,null,null,null,null,null,null,null,null,{"$f":"データ一覧!O679","v":948},null,null,null,"   －",{"$f":"データ一覧!O680","v":1},null,{"$f":"データ一覧!O681","v":234},null,null,null,{"$f":"データ一覧!O682","v":8},null,{"$f":"データ一覧!O683","v":156},null,null,{"$f":"データ一覧!O684","v":75},null,null,{"$f":"データ一覧!O685","v":54},null,null,{"$f":"データ一覧!O686","v":99},null,null,{"$f":"データ一覧!O687","v":30},null,null,{"$f":"データ一覧!O688","v":1}]
["複合サービス事業",null,null,null,null,null,null,{"$f":"データ一覧!O143","v":"…"},null,null,{"$f":"データ一覧!O200","v":"…"},null,null,{"$f":"データ一覧!O144","v":36},null,null,{"$f":"データ一覧!O201","v":624},null,null,{"$f":"データ一覧!O145","v":"…"},null,null,{"$f":"データ一覧!O202","v":"…"},null,null,"各種商品",null,null,null,{"$f":"データ一覧!O304","v":2},null,null,{"$f":"データ一覧!O313","v":317},null,null,{"$f":"データ一覧!O322","v":"x"},null,null,null,null,"総額",null,null,null,{"$f":"SUM(AS73:AW85)","v":42529874},null,null,null,null,{"$f":"SUM(AX73:BB85)","v":47368637},null,null,null,null,"総額",null,null,null,{"$f":"SUM(BG73:BK85)","v":42529874},null,null,null,null,{"$f":"SUM(BL73:BP85)","v":45834125},null,null,null,null," １９  警　察　・　消　防  ",null,null,null,null,null,null,null,null,null,null,null,null,null,null,null,{"$f":"+データ一覧!$A689","v":"2.4.1"}]
["サービス業",null,null,null,null,null,null,{"$f":"データ一覧!O146","v":"…"},null,null,{"$f":"データ一覧!O203","v":"…"},null,null,{"$f":"データ一覧!O147","v":273},null,null,{"$f":"データ一覧!O204","v":1881},null,null,{"$f":"データ一覧!O148","v":"…"},null,null,{"$f":"データ一覧!O205","v":"…"},null,null,"織物・衣服・身の回り品",null,null,null,{"$f":"データ一覧!O305","v":73},null,null,{"$f":"データ一覧!O314","v":214},null,null,{"$f":"データ一覧!O323","v":2581},null,null,null,null,"地方税",null,null,null,{"$f":"データ一覧!O446","v":12432800},null,null,null,null,{"$f":"データ一覧!O460","v":12639713},null,null,null,null,"議会費",null,null,null,{"$f":"データ一覧!O474","v":304196},null,null,null,null,{"$f":"データ一覧!O488","v":341403}]
["公務",null,null,null,null,null,null,{"$f":"データ一覧!O149","v":"…"},null,null,{"$f":"データ一覧!O206","v":"…"},null,null,{"$f":"データ一覧!O150","v":"…"},null,null,{"$f":"データ一覧!O207","v":"…"},null,null,{"$f":"データ一覧!O151","v":"…"},null,null,{"$f":"データ一覧!O208","v":"…"},null,null,"飲食料品",null,null,null,{"$f":"データ一覧!O306","v":221},null,null,{"$f":"データ一覧!O315","v":1786},null,null,{"$f":"データ一覧!O324","v":25739},null,null,null,null,"地方譲与税",null,null,null,{"$f":"データ一覧!O447","v":337800},null,null,null,null,{"$f":"データ一覧!O461","v":328614},null,null,null,null,"総務費",null,null,null,{"$f":"データ一覧!O475","v":9629186},null,null,null,null,{"$f":"データ一覧!O489","v":8061785},null,null,null,null,null,null,null,null,null,null,null,null,null,null,"交番・駐在所",null,null,null,null,null,null,null,null,"刑法犯認知件数",null,null,null,null,null,null,null,null,"交通人身事故発生件数"]
["  ４  農        　　　業 ",null,null,null,null,null,null,null,null,null,null,null,null,null,null,null,null,null,null,null,null,null,null,null,null,"機械器具",null,null,null,{"$f":"データ一覧!O307","v":89},null,null,{"$f":"データ一覧!O316","v":493},null,null,{"$f":"データ一覧!O325","v":12373},null,null,null,null,"各種交付金",null,null,null,{"$f":"データ一覧!O448","v":2130400},null,null,null,null,{"$f":"データ一覧!O462","v":1734099},null,null,null,null,"民生費",null,null,null,{"$f":"データ一覧!O476","v":14394966},null,null,null,null,{"$f":"データ一覧!O490","v":13930908},null,null,null,null,null,"警察署数",null,null,null,null,null,null,null,null,"検問所数",null,null,null,null,null,null,null,null,null,{"$f":"データ一覧!$A$691","v":"元年中"},null,null,null,null,null,null,null,null,{"$f":"データ一覧!$A$691","v":"元年中"}]
[null,null,null,null,null,null,null,null,null,null,null,null,null,null,null,null,null,null,null,null,null,null,null,null,null,"その他",null,null,null,{"$f":"データ一覧!O308","v":242},null,null,{"$f":"データ一覧!O317","v":1366},null,null,{"$f":"データ一覧!O326","v":"x"},null,null,null,null,"地方特例交付金",null,null,null,{"$f":"データ一覧!O449","v":89300},null,null,null,null,{"$f":"データ一覧!O463","v":336809},null,null,null,null,"衛生費",null,null,null,{"$f":"データ一覧!O477","v":2360007},null,null,null,null,{"$f":"データ一覧!O491","v":2207057},null,null,null,null,null,null,null,null,null,null,null,null,null,null,null,null,null,null,null,null,null,null,null,null,null,null,null,null," 件",null,null,null,null,null,null,null,null,"　件"]
[null,null,"農家人口と世帯員数(販売農家)",null,null,null,null,null,null,null,"農家世帯の就業状態（販売農家）",null,null,null,null,null,null,null,null,null,null,null,null,null,null,"無店舗",null,null,null,{"$f":"データ一覧!O309","v":28},null,null,{"$f":"データ一覧!O318","v":131},null,null,{"$f":"データ一覧!O327","v":1894},null,null,null,null,"地方交付税",null,null,null,{"$f":"データ一覧!O450","v":7299000},null,null,null,null,{"$f":"データ一覧!O464","v":7352525},null,null,null,null,"労働費",null,null,null,{"$f":"データ一覧!O478","v":78223},null,null,null,null,{"$f":"データ一覧!O492","v":80088},null,null,null,null,null,null,{"$f":"データ一覧!O689","v":2},null,null,null,null,null,null,null,null,{"$f":"データ一覧!O690","v":12},null,null,null,null,null,null,null,null,{"$f":"データ一覧!O691","v":277},null,null,null,null,null,null,null,null,{"$f":"データ一覧!O692","v":138}]
["農","平",null,null,null,null,null,null,null,null,"農業従事者",null,null,null,null,null,null,null,null,"非農業従事",null,null,"農業従事者",null,null,null,null,null,null,null,null,null,null,null,null,null,null,null,null,null,"分担金および負担金",null,null,null,{"$f":"データ一覧!O451","v":499181},null,null,null,null,{"$f":"データ一覧!O465","v":589447},null,null,null,null,"農林水産業費",null,null,null,{"$f":"データ一覧!O479","v":1854676},null,null,null,null,{"$f":"データ一覧!O493","v":7189758},null,null,null,null,"火災発生件数",null,null,null,null,null,null,null,null,null,"林野焼損",null,null,null,null,"損      害",null,null,null,null,"消 防 自",null,null,null,"その他の",null,null,null," ",null,null,null,null," "]
["家",{"$f":"+LEFT(データ一覧!$A$209,2)","v":"27"},"区分",null,"農家人口",null,null,"15歳以上の",null,null,null,null,null,"農業就業人口",null,null,null,null,null,"者",null,null,"の平均年齢",null,null,"  ８  住　　　　　　 　宅",null,null,null,null,null,null,null,null,null,null,null,null,null,null,"使用料および手数料",null,null,null,{"$f":"データ一覧!O452","v":541494},null,null,null,null,{"$f":"データ一覧!O466","v":632469},null,null,null,null,"商工費",null,null,null,{"$f":"データ一覧!O480","v":863127},null,null,null,null,{"$f":"データ一覧!O494","v":919503},null,null,null,null,{"$f":"+データ一覧!$A$693","v":"元年中"},null,null,null,null,"焼損棟数",null,null,null,null,"面    積",null,null,null,null,"見  積  額",null,null,null,null,"動 車 数",null,null,null,"ﾎﾟﾝﾌﾟ数",null,null,null," 消防吏員",null,null,null," 消防団員"]
["人就 ","・",null,null,null,null,null,"世帯員数",null,null,null,null,null,null,null,null,"基幹的農業",null,null,null,null,null,null,null,null,null,null,null,null,null,null,null,null,null,null,null,null,null,null,null,"国庫支出金",null,null,null,{"$f":"データ一覧!O453","v":4052914},null,null,null,null,{"$f":"データ一覧!O467","v":4445044},null,null,null,null,"土木費",null,null,null,{"$f":"データ一覧!O481","v":2518651},null,null,null,null,{"$f":"データ一覧!O495","v":2658852},null,null,null,null,"         件",null,null,null,null,null,"      棟",null,null,null,null,null,null,"  ａ",null,null,null,"  千円",null,null,"        ",null,null,null,null,null,null,null,null,null,"  人",null,null,null,"  人"]
["口業 ",{"$f":"+MID(データ一覧!$A$209,4,1)","v":"2"},null,null,null,null,"人",null,null,"人",null,null,"人",null,null,"人","従事者",null,"人",null,null,"人",null,null,"歳",{"$f":"+データ一覧!$A$328","v":"30年"},null,null,null,null,{"$f":"データ一覧!$A$331","v":"元年"},"中の増減",null,null,null,{"$f":"+データ一覧!$A$331","v":"元年"},null,null,null,null,"県支出金",null,null,null,{"$f":"データ一覧!O454","v":3372226},null,null,null,null,{"$f":"データ一覧!O468","v":4235970},null,null,null,null,"消防費",null,null,null,{"$f":"データ一覧!O482","v":1647846},null,null,null,null,{"$f":"データ一覧!O496","v":1526925},null,null,null,null,null,{"$f":"データ一覧!O693","v":23},null,null,null,null,{"$f":"データ一覧!O694","v":22},null,null,null,null,{"$f":"データ一覧!O695","v":0},null,null,null,{"$f":"データ一覧!O696","v":66325},null,null,null,null,null,{"$f":"データ一覧!O697","v":41},null,null,null,{"$f":"データ一覧!O698","v":10},null,null,null,{"$f":"データ一覧!O699","v":154},null,null,null,{"$f":"データ一覧!O700","v":462}]
["と状 ","・"," 総数",null,{"$f":"データ一覧!O209","v":8980},null,null,{"$f":"データ一覧!O212","v":7983},null,null,{"$f":"データ一覧!O215","v":5780},null,null,{"$f":"データ一覧!O218","v":2492},null,null,{"$f":"データ一覧!O221","v":1909},null,null,{"$f":"データ一覧!O224","v":2203},null,null,{"$f":"データ一覧!O227","v":57.4},null,null,null,null,null,null,"建設した住宅",null,null,"消失した住宅",null,null,null,null,null,null,null,"財産収入",null,null,null,{"$f":"データ一覧!O455","v":77145},null,null,null,null,{"$f":"データ一覧!O469","v":72033},null,null,null,null,"教育費",null,null,null,{"$f":"データ一覧!O483","v":4891284},null,null,null,null,{"$f":"データ一覧!O497","v":5264629},null,null,null,null," ２０  そ　　　の　　　他　"]
["  況 ",{"$f":"+RIGHT(データ一覧!$A$209,1)","v":"1"},"　男",null,{"$f":"データ一覧!O210","v":4411},null,null,{"$f":"データ一覧!O213","v":3903},null,null,{"$f":"データ一覧!O216","v":3227},null,null,{"$f":"データ一覧!O219","v":1310},null,null,{"$f":"データ一覧!O222","v":1177},null,null,{"$f":"データ一覧!O225","v":676},null,null,{"$f":"データ一覧!O228","v":56.1},null,null,null,null,null,null,null,null,null,null,null,null,null,null,null,null,null,"繰入金",null,null,null,{"$f":"データ一覧!O456","v":2796120},null,null,null,null,{"$f":"データ一覧!O470","v":1721686},null,null,null,null,"災害復旧費",null,null,null,{"$f":"データ一覧!O484","v":0},null,null,null,null,{"$f":"データ一覧!O498","v":26180}]
[null,null,"　女",null,{"$f":"データ一覧!O211","v":4569},null,null,{"$f":"データ一覧!O214","v":4080},null,null,{"$f":"データ一覧!O217","v":2553},null,null,{"$f":"データ一覧!O220","v":1182},null,null,{"$f":"データ一覧!O223","v":732},null,null,{"$f":"データ一覧!O226","v":1527},null,null,{"$f":"データ一覧!O229","v":58.9},null,null,null,{"$f":"データ一覧!O328","v":32343},null,"戸",{"$f":"データ一覧!O329","v":409},null,"戸",{"$f":"データ一覧!O330","v":346},null,"戸",null,{"$f":"データ一覧!O331","v":32406},null,"戸",null,"地方債",null,null,null,{"$f":"データ一覧!O457","v":6171900},null,null,null,null,{"$f":"データ一覧!O471","v":8781145},null,null,null,null,"公債費",null,null,null,{"$f":"データ一覧!O485","v":3977712},null,null,null,null,{"$f":"データ一覧!O499","v":3627037},null,null,null,null,null,null,null,null,null,"越前加賀海岸国定公園（東尋坊、雄島、越前松島）、三國神社、"]
[null,null,null,null,null,null,null,null,null,null,null,null,null,null,null,null,null,null,null,null,null,null,null,null,null,null,null,null,null,null,null,null,null,null,null,null,null,null,null,null,"その他",null,null,null,{"$f":"データ一覧!O458","v":2729594},null,null,null,null,{"$f":"データ一覧!O472","v":4499083},null,null,null,null,"その他",null,null,null,{"$f":"データ一覧!O486","v":10000},null,null,null,null,{"$f":"データ一覧!O500","v":0},null,null,null,null,"　名所・旧跡",null,null,null,null,"みくに龍翔館、三国港突堤、瀧谷寺の金銅毛彫宝相華唐草文磬、丸岡城、"]
[null,null,"総農家数等",null,null,null,null,null,null,"専兼業別（販売農家）",null,null,null,null,null,null,null,"経営面積規模別（販売農家）",null,null,null,null,null,null,null,null,null,null,null,null,null,null,null,null,null,null,null,null,null,null,null,null,null,null,null,null,null,null,null,null,null,null,null,null,null,null,null,null,null,null,null,null,null,null,null,null,null,null,"  文化財等",null,null,null,null,"坪川家住宅、六呂瀬山古墳群、中野重治記念文庫、エンゼルランドふくい、"]
[null,"平","区　分",null,null,null,"戸数（戸）",null,null,"区　分",null,null,null,null,"戸数（戸）",null,null,"区　　分",null,null,null,null,"戸数（戸）",null,null,"  ９  議　 員　・　職 　員",null,null,null,null,null,null,null,null,null,null,null,null,null,null," １４  文　　　　　　化",null,null,null,null,null,null,null,null,null," ( ",{"$f":"データ一覧!$A$507","v":"2.3.31"},null,null,null,"ただし図書館・公民館・児童館",null,null,null,null,null,null,null,{"$f":"データ一覧!$A$501","v":"2.4.1"},null,null,null,null,null,null,null,null,null,"藤鷲塚のフジ、大善寺の金剛孔雀文磬、春日神社の黒仏、新田義貞公墓所"]
["農",{"$f":"+LEFT(データ一覧!$A$230,2)","v":"27"},"総農家",null,null,null,{"$f":"データ一覧!O230","v":2581},null,null,"総数",null,null,null,null,{"$f":"データ一覧!O236","v":2042},null,null,"総数",null,null,null,null,{"$f":"データ一覧!O241","v":2042},null,null,null,null,null,null,null,null,null,null,null,null,null,null,null,null,null,null,null,null,null,null,null,null,null,null,null,null,null,null,null,null,null,"　宗教法人数 ",null,null,null,null,null,null,{"$f":"データ一覧!$A$509","v":"元.12.31"},null,null,null,"）",null,null,null,null,null,"文化の森、ゆりの里公園、竹田水車メロディパーク、一筆啓上 日本一短い手紙の館"]
["家","・","販売農家",null,null,null,{"$f":"データ一覧!O231","v":2042},null,null,"専業農家",null,null,null,null,{"$f":"データ一覧!O237","v":277},null,null,"0.5 ha 未満",null,null,null,null,{"$f":"データ一覧!O242","v":225},null,null," 市 町 村 議 会",null,null,"有権者数",null,{"$f":"データ一覧!$A$335","v":"2.9.1"},null,"市 町 村 議 会",null,null,"  職      員      数",null,null,null,null,null,null,null,null,null,"図書館",null,null,null,null,null,"公　民　館",null,null,null,null,null,null,null,null,null,null," 社会教育学級講座",null,null,null,null,null,"　　特産物",null,null,null,null,"越前がに、甘えび、もみわかめ、酒まんじゅう、焼き鯖寿司、花らっきょ、若狭牛、"]
["数",{"$f":"+MID(データ一覧!$A$230,4,1)","v":"2"},null,"主業",null,null,{"$f":"データ一覧!O232","v":187},null,null,"兼業農家",null,null,null,null,{"$f":"データ一覧!O238","v":1765},null,null,"0.5 ha ～ 1.0 ha",null,null,null,null,{"$f":"データ一覧!O243","v":500},null,null," 議  員  定  数",null,null,"    男",null,"    女",null,"選 挙 投 票 率",null,null," 総     数",null,"一般行政職",null,null,"公    共",null,null,null," 館  数",null,null," 図書数",null,null," 本  館",null,null," 分  館",null,null," 公  園",null,null," 児童館",null,null,"学級講座数",null,null,"受講者数",null,null,null,null,null,null,null,"丸岡産おろしそば、地酒、竹田の油揚げ、コシヒカリ、織ネーム、越前竹人形"]
[null,"・",null,"準主業",null,null,{"$f":"データ一覧!O233","v":383},null,null,null,"第１種兼業",null,null,null,{"$f":"データ一覧!O239","v":227},null,null,"1.0 ha ～ 1.5 ha",null,null,null,null,{"$f":"データ一覧!O244","v":469},null,null,null,null,"人",null,"人",null,"人",null,null,"　％",null,"人",null,"人",null,"施 設 数",null,null,null,null,{"$f":"データ一覧!O501","v":4},null,{"$f":"データ一覧!O502","v":640662},null,null,null,{"$f":"データ一覧!O503","v":23},null,{"$f":"データ一覧!O504","v":3},null,null,{"$f":"データ一覧!O505","v":81},null,null,{"$f":"データ一覧!O506","v":12},null,null,{"$f":"データ一覧!O507","v":311},null,null,{"$f":"データ一覧!O508","v":20466},null,null," 　年中行事",null,null,null,null,"三國祭、三国花火大会、三国湊帯のまち流し、丸岡城桜まつり、丸岡古城まつり、"]
[null,{"$f":"+RIGHT(データ一覧!$A$230,1)","v":"1"},null,"副業的",null,null,{"$f":"データ一覧!O234","v":1472},null,null,null,"第２種兼業",null,null,null,{"$f":"データ一覧!O240","v":1538},null,null,"1.5 ha ～ 2.0 ha",null,null,null,null,{"$f":"データ一覧!O245","v":355},null,null,null,{"$f":"データ一覧!O332","v":26},null,{"$f":"データ一覧!O335","v":36038},null,{"$f":"データ一覧!O336","v":38909},null,{"$f":"データ一覧!O334","v":52.39},null,null,{"$f":"データ一覧!O337","v":833},null,{"$f":"データ一覧!O338","v":381},null,null,"宗    教",null,null,null," 仏教系",null,null,"ｷﾘｽﾄ教系",null,null,"神道諸派",null,null,"公会堂・市民会館",null,null,null,null,null," テレビ",null,null,"衛星放送契約数",null,null,null,null,null,null,null,null,null,null,"丸岡新そばまつり、ゆりフェスタ、はるえイッチョライでんすけ祭り、"]
[null,null,"自給的農家",null,null,null,{"$f":"データ一覧!O235","v":539},null,null,null,null,null,null,null,null,null,null,"2.0 ha 以上",null,null,null,null,{"$f":"データ一覧!O246","v":490},null,null,null,null,null,null,null,null,null,{"$f":"データ一覧!O333","v":"30.4.15"},null,null,null,null,null,null,null,"法 人 数",null,null,null,{"$f":"データ一覧!O509","v":121},null,null,{"$f":"データ一覧!O510","v":3},null,null,{"$f":"データ一覧!O511","v":205},null,null,{"$f":"データ一覧!O512","v":2},null,null,null,null,null,"      等",null,null,{"$f":"データ一覧!O513","v":19822},null,null,null,null,null,null,null,null,null,null,"さかい夏まつり、坂井市古城マラソン"]

{"sheet":"永平寺町","index":14,"n_rows":93,"n_cols":104,"rows_kept":93,"cut":false,"hidden":false,"merged":[[58,13,58,15],[61,19,61,21],[63,16,63,18],[55,7,55,9],[74,88,74,92],[76,88,76,91],[38,80,38,83],[39,61,39,65],[40,54,40,57],[40,50,40,52],[41,50,41,52],[67,49,67,53],[23,82,23,85],[23,87,23,91],[26,87,26,91],[23,78,23,81],[59,44,59,59],[66,7,66,9],[61,22,61,24],[62,22,62,24],[56,19,56,21],[56,22,56,24],[60,7,60,9],[48,10,48,12],[59,22,59,24],[64,13,64,15],[65,10,65,12],[68,13,68,15],[68,19,68,21],[55,16,55,18],[47,16,47,18],[58,22,58,24],[17,25,17,27],[18,25,18,27],[89,73,92,103],[40,80,41,83],[40,76,41,78],[31,74,31,77],[31,78,31,81],[42,19,42,21],[67,19,67,21],[47,19,47,21],[35,22,35,24],[67,22,67,24],[35,14,35,16],[35,18,35,19],[35,20,35,21],[76,97,76,100],[73,78,73,84],[73,87,73,93],[73,96,73,102],[74,78,74,84],[55,22,55,24],[20,74,20,77],[56,40,56,43],[60,40,60,43],[31,20,31,21],[34,18,34,19],[55,19,55,21],[50,0,51,24],[41,16,41,18],[61,0,61,6],[66,0,66,6],[65,0,65,6],[57,13,57,15],[60,10,60,12],[57,16,57,18],[58,16,58,18],[60,19,60,21],[59,19,59,21],[59,13,59,15],[59,16,59,18],[44,19,44,24],[63,0,63,6],[62,0,62,6],[48,22,48,24],[61,16,61,18],[60,16,60,18],[62,19,62,21],[47,13,47,15],[48,13,48,15],[48,16,48,18],[48,19,48,21],[57,19,57,21],[59,10,59,12],[58,10,58,12],[57,10,57,12],[55,13,55,15],[47,10,47,12],[56,13,56,15],[56,16,56,18],[65,16,65,18],[47,22,47,24],[63,13,63,15],[40,2,40,3],[22,7,22,8],[23,11,23,13],[29,5,29,7],[20,21,20,23],[23,21,23,23],[23,16,23,18],[29,8,29,10],[30,5,30,7],[20,16,20,18],[30,18,30,19],[20,11,20,13],[30,14,30,16],[29,11,29,13],[29,14,29,16],[29,22,29,24],[30,22,30,24],[30,20,30,21],[30,11,30,13],[34,20,34,21],[29,20,29,21],[40,7,40,9],[26,22,26,24],[40,22,40,24],[42,10,42,12],[56,10,56,12],[41,22,41,24],[42,22,42,24],[56,0,56,6],[47,7,47,9],[58,19,58,21],[40,19,40,21],[41,29,41,30],[42,32,42,35],[40,32,40,35],[57,22,57,24],[33,18,33,19],[27,0,27,4],[41,19,41,21],[64,0,64,6],[48,0,48,1],[47,0,47,1],[46,0,46,1],[55,0,55,6],[60,0,60,6],[59,0,59,6],[33,8,33,10],[40,10,40,12],[34,11,34,13],[34,8,34,10],[60,13,60,15],[62,7,62,9],[63,10,63,12],[61,13,61,15],[62,13,62,15],[32,22,32,24],[56,7,56,9],[20,100,20,103],[23,92,23,95],[23,96,23,99],[23,100,23,103],[44,0,45,1],[58,0,58,6],[57,0,57,6],[33,14,33,16],[62,16,62,18],[55,10,55,12],[58,7,58,9],[57,7,57,9],[59,7,59,9],[48,7,48,9],[42,13,42,15],[33,11,33,13],[42,7,42,9],[42,4,42,6],[40,4,40,6],[41,4,41,6],[41,7,41,9],[35,5,35,7],[35,8,35,10],[35,11,35,13],[34,14,34,16],[40,16,40,18],[40,13,40,15],[34,5,34,7],[33,5,33,7],[42,16,42,18],[41,10,41,12],[41,13,41,15],[19,74,19,77],[21,54,21,57],[20,54,20,57],[22,41,22,47],[19,100,19,103],[17,92,17,95],[19,96,19,99],[19,92,19,95],[17,101,17,102],[14,83,15,96],[17,87,17,90],[19,82,19,85],[16,75,16,96],[20,41,20,47],[20,50,20,52],[23,61,23,65],[14,68,15,82],[21,74,21,77],[21,78,21,81],[21,82,21,85],[17,83,17,84],[19,78,19,81],[23,69,23,73],[23,74,23,77],[21,87,21,91],[17,69,17,72],[17,74,17,77],[21,50,21,52],[20,78,20,81],[23,41,23,47],[22,50,22,52],[22,54,22,57],[26,41,26,47],[5,0,5,9],[6,0,8,9],[17,41,17,47],[17,49,17,53],[19,3,19,5],[17,54,17,58],[15,32,15,33],[15,35,15,37],[14,26,15,28],[15,29,15,30],[17,60,17,66],[19,41,19,47],[19,50,19,52],[19,54,19,57],[18,28,18,30],[16,32,16,33],[17,32,17,34],[19,61,19,65],[17,36,17,38],[18,35,18,38],[18,31,18,34],[19,25,19,28],[19,29,19,31],[19,32,19,34],[20,29,20,31],[20,32,20,34],[24,27,24,28],[25,25,25,26],[24,33,24,34],[24,35,24,36],[24,69,24,73],[24,61,24,65],[23,54,23,57],[23,50,23,52],[24,74,24,77],[22,61,22,65],[29,74,29,77],[24,41,24,47],[25,41,25,47],[25,50,25,52],[27,41,27,47],[26,78,26,81],[24,96,24,99],[24,82,24,85],[24,87,24,91],[21,41,21,47],[20,82,20,85],[22,82,22,85],[20,87,20,91],[22,69,22,73],[22,74,22,77],[22,78,22,81],[22,87,22,91],[20,61,20,65],[21,61,21,65],[24,50,24,52],[24,54,24,57],[26,54,26,57],[27,50,27,52],[25,74,25,77],[22,96,22,99],[25,54,25,57],[26,61,26,65],[27,54,27,57],[25,37,26,38],[29,50,29,52],[29,54,29,57],[34,22,34,24],[35,36,35,37],[25,27,25,28],[25,29,26,30],[27,25,27,26],[27,27,27,28],[27,29,27,30],[27,33,27,34],[29,61,29,65],[33,68,34,81],[33,41,33,47],[27,31,27,32],[28,61,28,65],[27,61,27,65],[30,50,30,52],[35,41,35,47],[27,69,27,73],[27,74,27,77],[27,78,27,81],[28,69,28,73],[28,74,28,77],[28,78,28,81],[25,61,25,65],[26,69,26,73],[26,74,26,77],[26,50,26,52],[31,41,31,47],[24,37,24,38],[28,41,28,47],[28,50,28,52],[28,54,28,57],[31,22,31,24],[33,20,33,21],[30,61,30,65],[33,22,33,24],[32,20,32,21],[33,50,33,52],[32,61,32,65],[31,50,31,52],[34,29,34,30],[34,41,34,47],[27,5,27,7],[27,22,27,24],[29,41,29,47],[29,18,29,19],[32,14,32,16],[31,11,31,13],[31,5,31,7],[31,14,31,16],[32,11,32,13],[31,18,31,19],[32,18,32,19],[31,8,31,10],[32,8,32,10],[32,5,32,7],[32,41,32,47],[30,8,30,10],[27,35,27,36],[34,36,34,37],[34,61,34,65],[33,61,33,65],[34,54,34,57],[34,50,34,52],[32,78,32,81],[29,78,29,81],[36,94,36,96],[35,61,35,65],[36,68,36,74],[32,54,32,57],[33,54,33,57],[31,61,31,65],[30,41,30,47],[30,69,30,73],[30,82,30,85],[30,74,30,77],[30,78,30,81],[31,82,31,85],[30,87,30,91],[36,50,36,52],[36,41,36,47],[36,54,36,57],[36,61,36,65],[32,69,32,73],[32,50,32,52],[32,74,32,77],[30,54,30,57],[36,76,36,78],[36,80,36,83],[38,68,38,74],[37,50,37,52],[37,61,37,65],[38,61,38,65],[42,86,42,92],[40,94,40,96],[42,94,42,96],[41,94,41,96],[41,86,41,92],[35,54,35,57],[35,50,35,52],[35,87,35,91],[35,94,35,96],[31,54,31,57],[70,73,70,76],[62,29,62,30],[66,32,66,34],[55,56,55,58],[55,60,55,63],[54,56,54,59],[54,48,54,51],[49,59,49,62],[49,63,49,67],[50,64,50,67],[48,57,48,60],[50,51,50,54],[50,56,50,58],[50,60,50,62],[49,81,49,83],[57,40,57,43],[51,69,51,76],[54,69,54,76],[55,69,55,76],[41,54,41,57],[56,49,56,54],[54,52,54,55],[49,47,49,50],[49,51,49,54],[49,55,49,58],[55,52,55,54],[55,25,55,30],[55,31,55,34],[53,29,53,31],[55,64,55,66],[49,40,49,46],[58,59,58,61],[60,60,60,63],[61,40,61,43],[60,86,60,91],[61,81,61,84],[55,81,55,83],[55,84,55,87],[45,78,45,83],[47,69,47,76],[49,78,49,80],[54,60,54,67],[45,25,45,28],[46,25,46,28],[44,25,44,28],[45,36,45,37],[54,40,54,43],[55,44,55,46],[54,44,54,47],[55,48,55,50],[67,58,67,62],[65,54,65,57],[65,58,65,64],[66,40,66,67],[67,44,67,48],[64,69,64,72],[58,40,58,43],[56,69,56,76],[58,45,58,47],[65,22,65,24],[66,22,66,24],[66,35,66,38],[57,25,57,29],[60,22,60,24],[62,94,62,96],[66,77,66,91],[65,79,65,82],[65,84,65,87],[65,44,65,50],[57,62,57,64],[60,50,60,54],[60,64,60,67],[60,44,60,49],[57,31,57,33],[57,48,57,51],[67,68,70,72],[70,86,70,88],[70,29,70,30],[68,29,68,30],[69,29,69,30],[61,69,61,72],[63,22,63,24],[64,22,64,24],[79,58,79,62],[78,54,78,57],[71,32,71,33],[71,29,71,30],[71,40,71,43],[72,49,72,53],[71,44,71,48],[77,58,77,62],[76,49,76,53],[76,58,76,62],[76,44,76,48],[72,54,72,57],[72,58,72,62],[78,58,78,62],[76,40,76,43],[72,35,72,37],[70,25,70,28],[68,58,68,62],[68,63,68,67],[69,40,69,67],[61,29,61,30],[61,60,61,63],[61,55,61,59],[68,49,68,53],[68,54,68,57],[73,63,73,67],[75,63,75,67],[70,32,70,33],[68,44,68,48],[68,83,68,85],[68,80,68,82],[70,44,70,48],[90,56,90,58],[78,63,78,67],[78,92,78,95],[78,68,78,72],[68,40,68,43],[78,83,78,87],[78,88,78,91],[77,83,77,87],[77,88,77,91],[77,92,77,95],[78,78,78,82],[70,95,70,97],[76,70,76,73],[74,63,74,67],[77,78,77,82],[74,69,74,75],[68,73,68,76],[70,84,70,85],[70,58,70,62],[77,54,77,57],[73,49,73,53],[75,44,75,48],[75,54,75,57],[76,63,76,67],[79,40,79,43],[83,32,83,33],[90,53,90,55],[92,32,92,34],[91,40,91,43],[91,32,91,34],[91,47,91,49],[91,50,91,52],[92,62,92,67],[76,25,76,28],[71,25,71,28],[89,32,89,34],[90,47,90,49],[59,60,59,63],[58,56,58,58],[57,59,57,61],[57,65,57,67],[61,64,61,67],[60,55,60,59],[91,22,91,24],[77,63,77,67],[78,40,78,43],[71,63,71,67],[71,35,71,37],[72,63,72,67],[69,22,69,24],[68,22,68,24],[65,40,65,43],[69,35,69,37],[68,35,68,37],[74,32,74,33],[75,29,75,30],[73,22,73,24],[83,29,83,30],[75,32,75,33],[83,26,83,27],[73,25,73,28],[84,49,84,53],[83,54,83,57],[81,54,81,57],[81,58,81,62],[80,49,80,53],[79,54,79,57],[81,49,81,53],[78,49,78,53],[73,32,73,33],[76,29,76,30],[75,25,75,28],[76,32,76,33],[76,35,76,37],[74,35,74,37],[75,58,75,62],[75,49,75,53],[74,58,74,62],[74,44,74,48],[74,25,74,28],[80,54,80,57],[80,58,80,62],[77,40,77,43],[78,44,78,48],[80,35,81,38],[84,58,84,62],[80,25,81,28],[83,36,83,37],[81,29,81,31],[88,28,88,29],[88,30,88,31],[88,32,88,34],[91,53,91,58],[91,62,91,67],[90,59,90,61],[58,49,58,51],[91,26,91,27],[90,40,90,43],[60,29,60,30],[81,32,81,34],[68,25,68,28],[68,32,68,33],[69,32,69,33],[58,62,58,64],[58,65,58,67],[90,51,90,52],[88,51,88,54],[84,54,84,57],[84,40,84,43],[81,40,81,43],[82,40,82,43],[73,58,73,62],[71,49,71,53],[74,40,74,43],[70,63,70,67],[74,29,74,30],[82,54,82,57],[67,40,67,43],[67,54,67,57],[70,40,70,43],[71,54,71,57],[20,35,20,38],[23,25,23,28],[21,25,21,28],[21,29,21,31],[21,32,21,34],[21,35,21,38],[22,25,22,28],[23,29,23,31],[23,32,23,34],[23,35,23,38],[24,29,24,30],[58,53,58,55],[83,58,83,62],[60,36,60,37],[57,52,57,55],[57,56,57,58],[57,35,57,37],[70,54,70,57],[83,44,83,48],[83,49,83,53],[83,40,83,43],[76,54,76,57],[77,44,77,48],[77,49,77,53],[80,40,80,43],[70,49,70,53],[82,44,82,48],[81,44,81,48],[74,49,74,53],[75,35,75,37],[80,44,80,48],[20,25,20,28],[0,0,0,9],[1,0,3,9],[92,40,92,43],[92,44,92,46],[92,47,92,49],[16,36,16,37],[14,25,15,25],[22,29,22,31],[22,32,22,34],[69,10,69,12],[66,10,66,12],[66,16,66,18],[67,13,67,15],[73,0,73,6],[72,13,72,15],[25,31,26,32],[25,33,26,34],[25,35,26,36],[26,25,26,26],[26,27,26,28],[27,37,27,38],[43,41,43,47],[38,41,38,47],[53,33,53,34],[53,36,53,37],[51,29,51,32],[46,29,46,30],[24,31,24,32],[73,35,73,37],[79,44,79,48],[79,49,79,53],[14,0,15,24],[92,53,92,58],[72,25,72,28],[73,29,73,30],[72,32,72,33],[69,25,69,28],[71,13,71,15],[89,40,89,43],[88,45,88,48],[82,49,82,53],[92,50,92,52],[91,35,91,36],[91,44,91,46],[90,45,90,46],[91,28,91,29],[91,30,91,31],[91,37,91,38],[84,44,84,48],[74,0,75,24],[70,19,70,21],[72,19,72,21],[70,0,70,6],[69,0,69,6],[72,7,72,9],[70,13,70,15],[86,2,86,5],[86,6,86,8],[86,9,86,13],[86,14,86,16],[72,44,72,48],[70,35,70,37],[76,2,76,9],[76,10,76,24],[20,96,20,99],[20,92,20,95],[21,96,21,99],[90,65,90,67],[83,63,83,67],[56,88,56,91],[56,92,56,95],[81,68,82,103],[70,98,70,100],[81,63,81,67],[80,93,80,95],[70,92,70,94],[70,89,70,91],[84,63,84,67],[82,63,82,67],[89,62,89,64],[90,62,90,64],[80,97,80,99],[79,63,79,67],[80,69,80,71],[80,74,80,76],[80,79,80,81],[80,89,80,91],[80,63,80,67],[78,73,78,77],[22,92,22,95],[22,100,22,103],[26,96,26,99],[82,58,82,62],[88,62,88,67],[71,58,71,62],[67,63,67,67],[29,100,29,103],[29,92,29,95],[29,96,29,99],[25,78,25,81],[26,82,26,85],[27,82,27,85],[27,87,27,91],[24,78,24,81],[52,84,52,87],[53,100,53,103],[54,88,54,91],[52,88,52,91],[51,100,51,103],[40,86,40,92],[30,100,30,103],[53,81,53,83],[53,84,53,87],[52,92,52,95],[54,84,54,87],[30,92,30,95],[48,84,48,87],[48,88,48,91],[24,100,24,103],[25,96,25,99],[25,100,25,103],[26,100,26,103],[24,92,24,95],[30,96,30,99],[32,92,32,95],[36,86,36,92],[37,80,37,83],[37,76,37,78],[79,102,79,103],[78,100,78,103],[79,98,79,99],[50,78,50,80],[74,97,74,101],[76,79,76,82],[68,101,68,103],[68,95,68,97],[67,98,67,103],[68,92,68,94],[54,100,54,103],[54,96,54,99],[65,94,65,97],[63,100,63,102],[62,100,62,102],[65,99,65,102],[55,88,55,91],[55,96,55,99],[55,92,55,95],[55,100,55,103],[53,88,53,91],[60,92,60,97],[54,81,54,83],[54,92,54,95],[51,96,51,99],[50,84,50,87],[67,89,67,91],[50,92,50,95],[52,81,52,83],[78,96,78,99],[63,95,63,97],[71,84,72,103],[70,101,70,103],[21,100,21,103],[21,92,21,95],[27,100,27,103],[28,100,28,103],[28,96,28,99],[26,92,26,95],[28,92,28,95],[27,92,27,95],[38,94,38,96],[38,76,38,78],[29,82,29,85],[29,87,29,91],[27,96,27,99],[25,92,25,95],[28,87,28,91],[28,82,28,85],[25,82,25,85],[25,87,25,91],[67,83,67,85],[53,69,53,76],[47,78,47,80],[68,86,68,88],[68,89,68,91],[70,78,70,79],[50,81,50,83],[54,78,54,80],[50,69,50,76],[49,69,49,76],[68,77,68,79],[52,100,52,103],[53,92,53,95],[48,69,48,76],[48,81,48,83],[53,96,53,99],[50,88,50,91],[51,84,51,87],[51,81,51,83],[51,78,51,80],[51,88,51,91],[51,92,51,95],[40,68,41,74],[46,70,46,75],[42,98,42,101],[65,89,65,92],[55,78,55,80],[62,88,62,90],[63,75,63,77],[62,69,62,72],[63,85,63,87],[63,90,63,92],[65,74,65,77],[62,76,62,78],[62,82,62,84],[60,98,60,103],[45,85,45,90],[43,84,44,103],[40,98,40,101],[57,68,58,103],[56,100,56,103],[56,96,56,99],[56,78,56,80],[56,81,56,83],[56,84,56,87],[48,63,48,66],[44,32,44,35],[45,29,45,30],[46,32,46,35],[42,36,42,37],[37,68,37,74],[39,68,39,74],[39,76,39,78],[39,41,39,47],[40,41,40,47],[80,101,80,103],[80,83,80,87],[48,78,48,80],[47,81,47,83],[47,84,47,87],[48,96,48,99],[49,96,49,99],[48,100,48,103],[49,92,49,95],[49,88,49,91],[47,88,47,91],[47,92,47,95],[47,96,47,99],[47,100,47,103],[53,78,53,80],[52,78,52,80],[70,80,70,82],[71,68,72,83],[65,69,65,72],[67,80,67,82],[46,96,46,99],[52,96,52,99],[45,32,45,35],[44,29,44,30],[42,68,42,74],[43,61,43,65],[43,68,44,83],[39,54,39,57],[37,54,37,57],[40,61,40,65],[40,29,40,30],[42,41,42,47],[36,36,36,37],[35,29,35,30],[36,29,36,30],[48,92,48,95],[46,100,46,103],[42,76,42,78],[52,69,52,76],[50,96,50,99],[39,50,39,52],[42,50,42,52],[38,50,38,52],[38,54,38,57],[42,54,42,57],[42,80,42,83],[41,98,41,101],[50,100,50,103],[45,93,45,102],[49,100,49,103],[49,84,49,87],[51,33,51,35],[41,32,41,35],[41,61,41,65],[51,36,51,38],[35,99,35,102],[31,96,31,99],[31,92,31,95],[33,84,34,97],[32,96,32,99],[32,82,32,85],[32,100,32,103],[36,98,36,101],[35,69,35,73],[35,76,35,78],[35,81,35,84],[39,86,39,92],[39,98,39,101],[39,80,39,83],[37,86,37,92],[37,94,37,96],[38,98,38,101],[37,98,37,101],[38,86,38,92],[39,94,39,96],[31,69,31,73],[31,100,31,103],[37,41,37,47],[42,61,42,65],[45,58,45,62],[40,36,40,37],[43,54,43,57],[43,50,43,52],[41,36,41,37],[41,41,41,47],[44,36,44,37],[22,35,22,38],[19,35,19,38],[50,48,50,50],[51,25,51,28],[50,29,50,32],[50,25,50,28],[50,33,50,38],[61,50,61,54],[67,7,67,9],[67,10,67,12],[63,7,63,9],[61,44,61,49],[61,36,61,37],[75,40,75,43],[73,54,73,57],[74,54,74,57],[73,40,73,43],[72,40,72,43],[72,29,72,30],[73,44,73,48],[73,7,73,9],[73,10,73,12],[73,13,73,15],[73,19,73,21],[24,0,25,24],[55,40,55,43],[55,35,55,38]],"merged_total":1087,"flags":["merged_cut"]}
[{"$f":"+データ一覧!P5","v":"よしだぐん"}]
[{"$f":"+データ一覧!P8","v":"吉田郡"}]
[null,null,null,null,null,null,null,null,null,null,null,null,null,null,null,null,null,null,null,null,null,null,null,null,null,null,null,null,null,"【町章とそのいわれ】",null,"将来に向かって波紋が広がっていくように、",null,null,null,null,null,null,null,null,null,"【位置および地勢】永平寺町は、福井県の北部に位置し、町土の中央には"]
[null,null,null,null,null,null,null,null,null,null,null,null,null,null,null,null,null,null,null,null,null,null,null,null,null,null,null,null,null,null,null,"人々が両手を広げて豊かな未来をつかもうと",null,null,null,null,null,null,null,null,null,null,"九頭竜川に平行して国道４１６号とえちぜん鉄道（勝山永平寺線）",null,null,null,null,null,null,null,null,null,null,null,null,null,null,null,null,null,null,null,null,null,null,null,null,null,null,null,null,"所在地",null,null,null,null,null,null,null,"〒910-1192"]
[null,null,null,null,null,null,null,null,null,null,null,null,null,null,null,null,null,null,null,null,null,null,null,null,null,null,null,null,null,null,null,"している様子をイメージし、町の発展と人の",null,null,null,null,null,null,null,null,null,null,"が走っており、西部の福井北ジャンクションでは、南北に走る北陸",null,null,null,null,null,null,null,null,null,null,null,null,null,null,null,null,null,null,null,null,null,null,null,null,null,null,null,null,null,null,null,null,null,null,null,null,"吉田郡永平寺町松岡春日１－４"]
[{"$f":"+データ一覧!P6","v":"えいへいじちょう"},null,null,null,null,null,null,null,null,null,null,null,null,null,null,null,null,null,null,null,null,null,null,null,null,null,null,null,null,null,null,"つながりへの願いが込められている。",null,null,null,null,null,null,null,null,null,null,"自動車道と東西に走る中部縦貫自動車道が結節し、広域交通の要衝と"]
[{"$f":"データ一覧!P9","v":"永平寺町"},null,null,null,null,null,null,null,null,null,null,null,null,null,null,null,null,null,null,null,null,null,null,null,null,null,null,null,null,null,null,null,null,null,null,null,null,null,null,null,null,null,"なっている。",null,null,null,null,null,null,null,null,null,null,null,null,null,null,null,null,null,null,null,null,null,null,null,null,null,null,null,null,"電話番号",null,null,null,null,null,null,null,"（０７７６）６１－１１１１"]
[null,null,null,null,null,null,null,null,null,null,null,null,null,null,null,null,null,null,null,null,null,null,null,null,null,null,null,null,null,null,null,null,null,null,null,null,null,null,null,null,null,null,null,null,null,null,null,null,null,null,null,null,null,null,null,null,null,null,null,null,null,null,null,null,null,null,null,null,null,null,null,"FAX番号",null,null,null,null,null,null,null,"　　〃　　　６１－２４３４"]
[]
[null,null,null,null,null,null,null,null,null,null,null,null,null,null,null,null,null,null,null,null,null,null,null,null,null,null,null,null,null,null,null,null,null,null,null,null,null,null,null,null,null,null,null,null,null,null,null,null,null,null,null,null,null,null,null,null,null,null,null,null,null,null,null,null,null,null,null,null,null,null,null,"最寄駅および距離",null,null,null,null,null,null,null,"えちぜん鉄道勝山永平寺線松岡駅　下車４００ｍ"]
[]
[null,null,null,null,null,null,null,null,null,null,null,null,null,null,null,null,null,null,null,null,null,null,null,null,null,null,null,null,null,null,null,null,null,null,null,null,null,null,null,null,null,null,null,null,null,null,null,null,null,null,null,null,null,null,null,null,null,null,null,null,null,null,null,null,null,null,null,null,null,null,null,"ホームページ",null,null,null,null,null,null,null,"http://www.town.eiheiji.lg.jp/"]
[null,null,null,null,null,null,null,null,null,null,null,null,null,null,null,null,null,null,null,null,null,null,null,null,null,null,"【町が掲げる標語】めぐる感動　心つながる清流のまち　えいへいじ"]
[]
["  １  土            　　地",null,null,null,null,null,null,null,null,null,null,null,null,null,null,null,null,null,null,null,null,null,null,null,null,{"$f":"データ一覧!$A$247","v":"元年"},"産米収穫量",null,null,"　 収　穫　量",null,null," 　作 付 面 積",null,null,"   10a当たり収量",null,null,null,null,null,null,null,null,null,null,null,null,null,null,null,null,null,null,null,null,null,null,null,null,null,null,null,null,null,null,null,null," １５  労　　　　　　　働",null,null,null,null,null,null,null,null,null,null,null,null,null,null,"27.10.1"]
[null,null,null,null,null,null,null,null,null,null,null,null,null,null,null,null,null,null,null,null,null,null,null,null,null,null,null,null,null,{"$f":"データ一覧!$P$247","v":3440},null,"t",{"$f":"データ一覧!$P$248","v":687},null,"ha",{"$f":"データ一覧!P249","v":500},null,null,"kg",null," １０  工　　　　　　業 ",null,null,null,null,null,null,null,null,null,null,null,null,null,{"$f":"データ一覧!$A$339","v":"元.6.1（平成30年実績）"}]
["   総          面           積",null,null,null,null,null,null,null,null,null," 固 定 資 産 概 要 調 書 に よ る 地 目 別 面 積",null,null,null,null,null,null,null,null,null,null,null,null,null,null,null,null,null,"   総　　　数",null,null,null,"うち　　田",null,null,null,"うち　　畑",null,null,null,null,null,null,null,null,null,null,null,null,null,null,null,null,null,null,null,null,null,null,null,null,null,null,null,null,null,null,null,null,null,null,null,null,null,null,"産業別就業者数   "]
[null,null,{"$f":"データ一覧!$A$10","v":"2.10.1"},null,null,null,null,null,null,null,null,null,null,null,null,null,{"$f":"データ一覧!$A$12","v":"2.1.1"},null,null,null,null,null,null,null,null," 耕  地  面  積",null,null,null,"       ha",null,null,"ha ",null,null,null,"ha ",null,null,null,"      ","産業分類",null,null,null,null,null,null,null,"事業所数",null,null,null,null,"従業者数",null,null,null,null,null,"年間製造品出荷額等",null,null,null,null,null,null,null,null,"区  分",null,null,null,null,"総    数",null,null,null,null,"男",null,null,null,"女",null,null,"  ","区  分",null,null,null,null,"総    数",null,null,null,null,"男",null,null,null,"女"]
[null,null,null,null,null,null,"㎢",null,null,null,"   総       数",null,null,null,null,"  う ち     田",null,null,null,null,"  う ち     畑",null,null,null,null,{"$f":"データ一覧!$A$250","v":"元.7.15"},null,null,{"$f":"データ一覧!$P$250","v":1000},null,null,{"$f":"データ一覧!$P$251","v":938},null,null,null,{"$f":"データ一覧!$P$252","v":64},null,null,null,null,null,null,null,null,null,null,null,null,null,"　　   ",null,null,"事業所",null,"　　　　　　　 人",null,null,"人",null,"　　　　　　　　　　　　　　万円",null,null,null,null,null,null,"万円",null,null,null,null,null,null,null,"      人",null,null,null,null,null," 人",null,null,null," 人",null,null,null,null,null,null,null,"      人",null,null,null,"      人",null,null,null,"      人"]
[null,null,null,{"$f":"データ一覧!P10","v":94.43},null,null,null,null,null,null,null,null,null,null,"ha",null,null,null,null,"ha",null,null,null,null,"ha","農 業 生 産 物",null,null,null,"作 付 面 積",null,null,"収 穫 量",null,null,"10a当たり収量",null,null,null,null,"     ","総数",null,null,null,null,null,null,null,null,{"$f":"データ一覧!P339","v":49},null,null,null,{"$f":"+データ一覧!P364","v":1057},null,null,null,null,null,null,{"$f":"データ一覧!P389","v":1688500},null,null,null,null,null,null," 総　　　数",null,null,null,null,null,{"$f":"CA20+CE20","v":10414},null,null,null,{"$f":"データ一覧!P514","v":5512},null,null,null,{"$f":"データ一覧!P539","v":4902}]
[null,null,null,null,null,null,null,null,null,null,null,{"$f":"データ一覧!P12","v":6145.6},null,null,null,null,{"$f":"データ一覧!P13","v":1021.4},null,null,null,null,{"$f":"データ一覧!P14","v":85.3},null,null,null,{"$f":"データ一覧!$A$253","v":"元年中"},null,null,null,"ha",null,null,"t",null,null,"kg",null,null,null,null,"     食料品","食料品",null,null,null,null,null,null,null,null,{"$f":"データ一覧!P340","v":7},null,null,null,{"$f":"+データ一覧!P365","v":130},null,null,null,null,null,null,{"$f":"データ一覧!P390","v":200971},null,null,null,null,null,null,null,null,null,null,null,null,null,null,null,null,null,null,null,null,null,null,null,null,null,"卸売業,小売業",null,null,null,null,{"$f":"CS21+CW21","v":1602},null,null,null,{"$f":"データ一覧!P527","v":852},null,null,null,{"$f":"データ一覧!P552","v":750}]
["  町 ･ 丁 ･ 大 字",null,null,null,null,null,null,null,null,null,"  う ち  宅 地",null,null,null,null,"  う ち  山 林",null,null,null,null,"  う ち  原 野",null,null,null,null,"水　　　　　稲",null,null,null,{"$f":"データ一覧!P253","v":687},null,null,{"$f":"データ一覧!P254","v":3440},null,null,{"$f":"データ一覧!P255","v":500},null,null,null,null,"     飲料・飼料","飲料・飼料",null,null,null,null,null,null,null,null,{"$f":"データ一覧!P341","v":4},null,null,null,{"$f":"+データ一覧!P366","v":71},null,null,null,null,null,null,{"$f":"データ一覧!P391","v":232008},null,null,null,null,null,null," 第１次産業",null,null,null,null,null,{"$f":"CA22+CE22","v":358},null,null,null,{"$f":"データ一覧!P515","v":237},null,null,null,{"$f":"データ一覧!P540","v":121},null,null,null,null,"金融業,保険業",null,null,null,null,{"$f":"CS22+CW22","v":240},null,null,null,{"$f":"データ一覧!P528","v":96},null,null,null,{"$f":"データ一覧!P553","v":144}]
["  区    画    数",null,null,null,null,null,null,{"$f":"データ一覧!P11","v":93},null,null,null,null,null,null,"ha",null,null,null,null,"ha",null,null,null,null,"ha","六　条　大　麦",null,null,null,{"$f":"データ一覧!P256","v":"x "},null,null,{"$f":"データ一覧!P257","v":"x "},null,null,{"$f":"データ一覧!P258","v":"x "},null,null,null,null,"     繊維","繊維",null,null,null,null,null,null,null,null,{"$f":"データ一覧!P342","v":22},null,null,null,{"$f":"+データ一覧!P367","v":421},null,null,null,null,null,null,{"$f":"データ一覧!P392","v":500857},null,null,null,null,null,null,"  ","農業",null,null,null,null,{"$f":"CA23+CE23","v":343},null,null,null,{"$f":"データ一覧!P516","v":227},null,null,null,{"$f":"データ一覧!P541","v":116},null,null,null,"  ","不動産業",null,null,null,null,100,null,null,null,{"$f":"データ一覧!P529","v":64},null,null,null,{"$f":"データ一覧!P554","v":36}]
[{"$f":"データ一覧!$A$11","v":"31.4.1"},null,null,null,null,null,null,null,null,null,null,{"$f":"データ一覧!P15","v":405.1},null,null,null,null,{"$f":"データ一覧!P16","v":4015.4},null,null,null,null,{"$f":"データ一覧!P17","v":48.1},null,null,null,"大　　      豆",null,null,null,{"$f":"データ一覧!P259","v":4},null,null,{"$f":"データ一覧!P260","v":2},null,null,{"$f":"データ一覧!P261","v":45},null,null,null,null,"     衣服","木材",null,null,null,null,null,null,null,null,{"$f":"データ一覧!P343","v":3},null,null,null,{"$f":"+データ一覧!P368","v":94},null,null,null,null,null,null,{"$f":"データ一覧!P393","v":139003},null,null,null,null,null,null,"  ","林業",null,null,null,null,13,null,null,null,{"$f":"データ一覧!P517","v":9},null,null,null,{"$f":"データ一覧!P542","v":4},null,null,null,"  ","学術研究",null,null,null,null,272,null,null,null,{"$f":"データ一覧!P530","v":175},null,null,null,{"$f":"データ一覧!P555","v":97}]
["  ２  世　帯　数　と　人　口",null,null,null,null,null,null,null,null,null,null,null,null,null,null,null,null,null,null,null,null,null,null,null,null,null,null,"  区　分",null," 乳 用 牛",null," 肉 用 牛",null,"豚",null,"採卵鶏",null,"ブロイラー",null,null,"     木材","家具",null,null,null,null,null,null,null,null,{"$f":"データ一覧!P344","v":0},null,null,null,{"$f":"+データ一覧!P369","v":0},null,null,null,null,null,null,{"$f":"データ一覧!P394","v":0},null,null,null,null,null,null,"  ","漁業",null,null,null,null,2,null,null,null,{"$f":"データ一覧!P518","v":1},null,null,null,{"$f":"データ一覧!P543","v":1},null,null,null,"  ","宿泊業,飲食ｻｰﾋﾞｽ",null,null,null,null,501,null,null,null,{"$f":"データ一覧!P531","v":190},null,null,null,{"$f":"データ一覧!P556","v":311}]
[null,null,null,null,null,null,null,null,null,null,null,null,null,null,null,null,null,null,null,null,null,null,null,null,null,"畜　産",null," 飼養農家",null,{"$f":"データ一覧!$P$262","v":"-"},null,{"$f":"データ一覧!$P$264","v":"-"},null,{"$f":"データ一覧!$P$266","v":"-"},null,{"$f":"データ一覧!$P$268","v":"-"},null,{"$f":"データ一覧!$P$270","v":"-"},null,null,"     家具","パルプ・紙",null,null,null,null,null,null,null,null,{"$f":"データ一覧!P345","v":0},null,null,null,{"$f":"+データ一覧!P370","v":0},null,null,null,null,null,null,{"$f":"データ一覧!P395","v":0},null,null,null,null,null,null," 第２次産業",null,null,null,null,null,2734,null,null,null,{"$f":"データ一覧!P519","v":1791},null,null,null,{"$f":"データ一覧!P544","v":943},null,null,null,"  ","生活関連ｻｰﾋﾞｽ業",null,null,null,null,274,null,null,null,{"$f":"データ一覧!P532","v":94},null,null,null,{"$f":"データ一覧!P557","v":180}]
[null,null,null,null,null,null,null,null,"        人　　　　　　　　　　口",null,null,null,null,null,null,null,null,null,null,null,"１世帯当",null,"人    口",null,null,{"$f":"データ一覧!$A$262","v":"2.3.31"},null,"（戸）",null,null,null,null,null,null,null,null,null,null,null,null,"     パルプ・紙","印刷",null,null,null,null,null,null,null,null,{"$f":"データ一覧!P346","v":2},null,null,null,{"$f":"+データ一覧!P371","v":38},null,null,null,null,null,null,{"$f":"データ一覧!P396","v":"x"},null,null,null,null,null,null,null,"鉱業，採石業",null,null,null,null,3,null,null,null,{"$f":"データ一覧!P520","v":2},null,null,null,{"$f":"データ一覧!P545","v":1},null,null,null,"  ","教育,学習支援業",null,null,null,null,661,null,null,null,{"$f":"データ一覧!P533","v":278},null,null,null,{"$f":"データ一覧!P558","v":383}]
[" 区　　　　分",null,null,null,null,"世帯数",null,null," 総   数",null,null,"    男",null,null,"    女",null,null,"  男／女",null,null,"たり人員",null,"密    度",null,null,null,null," 頭 羽",null,{"$f":"データ一覧!$P$263","v":"-"},null,{"$f":"データ一覧!$P$265","v":"-"},null,{"$f":"データ一覧!$P$267","v":"-"},null,{"$f":"データ一覧!$P$269","v":"-"},null,{"$f":"データ一覧!$P$271","v":"-"},null,null,"     出版・印刷","化学",null,null,null,null,null,null,null,null,{"$f":"データ一覧!P347","v":0},null,null,null,{"$f":"+データ一覧!P372","v":0},null,null,null,null,null,null,{"$f":"データ一覧!P397","v":0},null,null,null,null,null,null,"  ","建設業",null,null,null,null,882,null,null,null,{"$f":"データ一覧!P521","v":729},null,null,null,{"$f":"データ一覧!P546","v":153},null,null,null,null,"医療，福祉",null,null,null,null,1638,null,null,null,{"$f":"データ一覧!P534","v":326},null,null,null,{"$f":"データ一覧!P559","v":1312}]
[null,null,null,null,null,"    世 帯",null,null,"       人",null,null,"       人",null,null,"       人",null,null,null,"　　％",null,"    人",null,"    人/㎢",null,null,null,null,null,null,null,null,null,null,null,null,null,null,null,null,null,"     化学","石油・石炭",null,null,null,null,null,null,null,null,{"$f":"データ一覧!P348","v":0},null,null,null,{"$f":"+データ一覧!P373","v":0},null,null,null,null,null,null,{"$f":"データ一覧!P398","v":0},null,null,null,null,null,null,null,"製造業",null,null,null,null,1849,null,null,null,{"$f":"データ一覧!P522","v":1060},null,null,null,{"$f":"データ一覧!P547","v":789},null,null,null,null,"複合サービス事業",null,null,null,null,123,null,null,null,{"$f":"データ一覧!P535","v":73},null,null,null,{"$f":"データ一覧!P560","v":50}]
[{"$f":"データ一覧!$A$25","v":" 2.10.1"},null,null,null,null,{"$f":"データ一覧!P25","v":5159},null,null,{"$f":"+L30+O30","v":19387},null,null,{"$f":"データ一覧!P27","v":9427},null,null,{"$f":"データ一覧!P28","v":9960},null,null,null,{"$f":"+L30/O30*100","v":94.648594377510037},null,{"$f":"データ一覧!P30","v":3.76},null,{"$f":"データ一覧!P24","v":0},null,null,"  ５  林               業",null,null,null,null,null,null,null,null,null,null,null,null,null,null,"     石油・石炭","プラスチック",null,null,null,null,null,null,null,null,{"$f":"データ一覧!P349","v":2},null,null,null,{"$f":"+データ一覧!P374","v":22},null,null,null,null,null,null,{"$f":"データ一覧!P399","v":"x"},null,null,null,null,null,null," 第３次産業",null,null,null,null,null,7064,null,null,null,{"$f":"データ一覧!P523","v":3362},null,null,null,{"$f":"データ一覧!P548","v":3702},null,null,null,null,"サービス業",null,null,null,null,650,null,null,null,{"$f":"データ一覧!P536","v":451},null,null,null,{"$f":"データ一覧!P561","v":199}]
[{"$f":"データ一覧!$A$32","v":" 7.10.1"},null,null,null,null,{"$f":"データ一覧!P32","v":6049},null,null,{"$f":"+L31+O31","v":20183},null,null,{"$f":"データ一覧!P34","v":9907},null,null,{"$f":"データ一覧!P35","v":10276},null,null,null,96.409108602569091,null,{"$f":"データ一覧!P37","v":3.34},null,{"$f":"データ一覧!P31","v":0},null,null,null,null,null,null,null,null,null,null,null,null,null,null,null,null,null,"     プラスチック","ゴム",null,null,null,null,null,null,null,null,{"$f":"データ一覧!P350","v":0},null,null,null,{"$f":"+データ一覧!P375","v":0},null,null,null,null,null,null,{"$f":"データ一覧!P400","v":0},null,null,null,null,null,null,null,"電気･ｶﾞｽ･水道業",null,null,null,null,67,null,null,null,{"$f":"データ一覧!P524","v":58},null,null,null,{"$f":"データ一覧!P549","v":9},null,null,null,null,"公務",null,null,null,null,370,null,null,null,{"$f":"データ一覧!P537","v":273},null,null,null,{"$f":"データ一覧!P562","v":97}]
[{"$f":"データ一覧!$A$39","v":"12.10.1"},null,null,null,null,{"$f":"データ一覧!P39","v":6781},null,null,{"$f":"+L32+O32","v":21182},null,null,{"$f":"データ一覧!P41","v":10225},null,null,{"$f":"データ一覧!P42","v":10957},null,null,null,93.319339235192118,null,{"$f":"データ一覧!P44","v":3.12},null,{"$f":"データ一覧!P38","v":0},null,null,"    　森　　　林　　　総　　　面　　　積   ",null,null,null,null,null,null,null,{"$f":"データ一覧!$A$272","v":"2.3.31"},null,null,null,null,null,null,"     ゴム","皮革",null,null,null,null,null,null,null,null,{"$f":"データ一覧!P351","v":0},null,null,null,{"$f":"+データ一覧!P376","v":0},null,null,null,null,null,null,{"$f":"データ一覧!P401","v":0},null,null,null,null,null,null,null,"情報通信業",null,null,null,null,151,null,null,null,{"$f":"データ一覧!P525","v":101},null,null,null,{"$f":"データ一覧!P550","v":50},null,null,null," 分類不能の産業",null,null,null,null,null,258,null,null,null,{"$f":"データ一覧!P538","v":122},null,null,null,{"$f":"データ一覧!P563","v":136}]
[{"$f":"+データ一覧!$A$46","v":"17.10.1"},null,null,null,null,{"$f":"データ一覧!P46","v":6868},null,null,{"$f":"+L33+O33","v":20764},null,null,{"$f":"データ一覧!P48","v":10085},null,null,{"$f":"データ一覧!P49","v":10679},null,null,null,94.437681430845586,null,{"$f":"データ一覧!P51","v":3.02},null,{"$f":"データ一覧!P52","v":220.1},null,null,"　　　森　　　　　　　林　　　　　　　の　　　　　　　構　　　　　　　成",null,null,null,null,null,null,null,null,null,null,null,null,null,null,"     皮革","窯業・土石",null,null,null,null,null,null,null,null,{"$f":"データ一覧!P352","v":1},null,null,null,{"$f":"+データ一覧!P377","v":8},null,null,null,null,null,null,{"$f":"データ一覧!P402","v":"x"},null,null,null,null,null,null,"  ","運輸業,郵便業",null,null,null,null,{"$f":"CA33+CE33","v":415},null,null,null,{"$f":"データ一覧!P526","v":331},null,null,null,{"$f":"データ一覧!P551","v":84}]
[{"$f":"+データ一覧!$A$53","v":"22.10.1"},null,null,null,null,{"$f":"+データ一覧!P53","v":7217},null,null,{"$f":"+L34+O34","v":20647},null,null,{"$f":"+データ一覧!P55","v":10026},null,null,{"$f":"+データ一覧!P56","v":10621},null,null,null,94.397890970718393,null,{"$f":"+データ一覧!P58","v":2.86},null,{"$f":"+データ一覧!P59","v":218.9},null,null,null,null,null,null,null,"       ha",null,null,null,null,null,null,"       ha",null,null,"     窯業・土石","鉄鋼",null,null,null,null,null,null,null,null,{"$f":"データ一覧!P353","v":0},null,null,null,{"$f":"+データ一覧!P378","v":0},null,null,null,null,null,null,{"$f":"データ一覧!P403","v":0},null,null,null,null,null,null," １６  社　 会 　福　 祉",null,null,null,null,null,null,null,null,null,null,null,null,null,null,null,{"$f":"データ一覧!$A$564","v":"2.4.1"}]
[{"$f":"データ一覧!$A$60","v":"27.10.1"},null,null,null,null,{"$f":"データ一覧!P60","v":7276},null,null,{"$f":"データ一覧!P61","v":19883},null,null,{"$f":"データ一覧!P62","v":9621},null,null,{"$f":"データ一覧!P63","v":10262},null,null,null,93.753654258429151,null,{"$f":"データ一覧!P65","v":2.7326827927432653},null,{"$f":"データ一覧!P66","v":210.6},null,null,"  総　　　　　   数",null,null,null,{"$f":"データ一覧!P272","v":6865.21},null,null," 天然林       針葉樹",null,null,null,{"$f":"データ一覧!P275","v":68.23},null,null,null,"     鉄鋼","非鉄金属",null,null,null,null,null,null,null,null,{"$f":"データ一覧!P354","v":0},null,null,null,{"$f":"+データ一覧!P379","v":0},null,null,null,null,null,null,{"$f":"データ一覧!P404","v":0}]
[{"$f":"+データ一覧!$A$67","v":"2.10.1"},null,null,null,null,{"$f":"データ一覧!P67","v":7486},null,null,{"$f":"データ一覧!P76","v":18992},null,null,{"$f":"データ一覧!P77","v":9226},null,null,{"$f":"データ一覧!P78","v":9766},null,null,null,{"$f":"+L36/O36*100","v":94.470612328486581},null,{"$f":"データ一覧!P68","v":2.54},null,{"$f":"データ一覧!P69","v":201.12252462141268},null,null,"  人工林     針葉樹",null,null,null,{"$f":"データ一覧!P273","v":3102.87},null,null," 天然林       広葉樹",null,null,null,{"$f":"データ一覧!P276","v":3606.7599999999998},null,null,null,"     非鉄金属","金属",null,null,null,null,null,null,null,null,{"$f":"データ一覧!P355","v":1},null,null,null,{"$f":"+データ一覧!P380","v":7},null,null,null,null,null,null,{"$f":"データ一覧!P405","v":"x"},null,null,null,null,null,null,"    ","区分",null,null,null,null,null,null,"施設数",null,null,null,null,"収容定員",null,null,null,null,null,"区分",null,null,null,null,null,null,"施設数",null,null,null,null,"収容定員"]
["年",null,"  区",null," 0歳",null,null,"15歳",null,null,"25歳",null,null,"35歳",null,null,"45歳",null,null,"55歳",null,null,"65歳",null,null,"  人工林     広葉樹",null,null,null,{"$f":"データ一覧!P274","v":14.309999999999999},null,null," 竹               林",null,null,null,{"$f":"データ一覧!P277","v":18.34},null,null,null,"     金属","はん用機械",null,null,null,null,null,null,null,null,{"$f":"データ一覧!P356","v":1},null,null,null,{"$f":"+データ一覧!P381","v":67},null,null,null,null,null,null,{"$f":"データ一覧!P406","v":"x"},null,null,null,null,null,null,"生活保護施設",null,null,null,null,null,null,null,{"$f":"データ一覧!P564","v":0},null,null,null,{"$f":"データ一覧!P577","v":0},null,null,null,"人",null,"指定障害者支援施設",null,null,null,null,null,null,null,{"$f":"データ一覧!P570","v":0},null,null,null,{"$f":"データ一覧!P583","v":0},null,null,null,"人"]
["齢","令",null,null,null,"～",null,null,"～",null,null,"～",null,null,"～",null,null,"～",null,null,"～",null,null,null,null,null,null,null,null,null,null,null,null,null,null,null,null,null,null,null,"     一般機械","生産用機械",null,null,null,null,null,null,null,null,{"$f":"データ一覧!P357","v":0},null,null,null,{"$f":"+データ一覧!P382","v":0},null,null,null,null,null,null,{"$f":"データ一覧!P407","v":0},null,null,null,null,null,null,"地域福祉施設",null,null,null,null,null,null,null,{"$f":"データ一覧!P565","v":0},null,null,null,{"$f":"データ一覧!P578","v":0},null,null,null,null,null,"指定相談支援事業所",null,null,null,null,null,null,null,{"$f":"データ一覧!P571","v":0},null,null,null,{"$f":"データ一覧!P584","v":0}]
["階","元","  分",null,null,null,"14歳",null,null,"24歳",null,null,"34歳",null,null,"44歳",null,null,"54歳",null,null,"64歳",null,null,"以上","    林     野     の     構     成",null,null,null,null,null,null,"保     有     形     態     別",null,null,null,null,null,null,null,"     電気機械","業務用機械",null,null,null,null,null,null,null,null,{"$f":"データ一覧!P358","v":0},null,null,null,{"$f":"+データ一覧!P383","v":0},null,null,null,null,null,null,{"$f":"データ一覧!P408","v":0},null,null,null,null,null,null,"老人福祉施設",null,null,null,null,null,null,null,{"$f":"データ一覧!P566","v":4},null,null,null,{"$f":"データ一覧!P579","v":525},null,null,null,null,null,"児童福祉施設",null,null,null,null,null,null,null,{"$f":"データ一覧!P572","v":13},null,null,null,{"$f":"データ一覧!P585","v":746}]
["級","・",null,null,null,null,"人",null,null,"人",null,"    人",null,null,"    人",null,null,"    人",null,null,"    人",null,null,"    人",null,null,null,null,null,null,null,"ha",null,null,null,null,null,"       ha",null,null,null,"電子・デバイス",null,null,null,null,null,null,null,null,{"$f":"データ一覧!P359","v":0},null,null,null,{"$f":"+データ一覧!P384","v":0},null,null,null,null,null,null,{"$f":"データ一覧!P409","v":0},null,null,null,null,null,null,"介護保険施設",null,null,null,null,null,null,null,{"$f":"データ一覧!P567","v":22},null,null,null,{"$f":"データ一覧!P580","v":567},null,null,null,null,null,"母子福祉施設",null,null,null,null,null,null,null,{"$f":"データ一覧!P573","v":0},null,null,null,{"$f":"データ一覧!P586","v":0}]
["別","10","総 数",null,{"$f":"+E42+E43","v":2111},null,null,{"$f":"+H42+H43","v":2083},null,null,{"$f":"+K42+K43","v":2293},null,null,{"$f":"+N42+N43","v":1939},null,null,{"$f":"+Q42+Q43","v":2417},null,null,{"$f":"+T42+T43","v":2344},null,null,{"$f":"+W42+W43","v":5639},null,null," 無立木地   伐採跡地",null,null,null,{"$f":"データ一覧!P278","v":0},null,null,"国   　　　 　 有",null,null,null,{"$f":"データ一覧!P280","v":41.63},null,null,null,null,"電気機械",null,null,null,null,null,null,null,null,{"$f":"データ一覧!P360","v":2},null,null,null,{"$f":"+データ一覧!P385","v":133},null,null,null,null,null,null,{"$f":"データ一覧!P410","v":"x"},null,null,null,null,null,null,"障害者自立支援法施行前からの身体障害者福祉施設",null,null,null,null,null,null,null,{"$f":"データ一覧!P568","v":0},null,null,null,{"$f":"データ一覧!P581","v":0},null,null,null,null,null,"婦人保護施設",null,null,null,null,null,null,null,{"$f":"データ一覧!P574","v":0},null,null,null,{"$f":"データ一覧!P587","v":0}]
["人","・","  男",null,{"$f":"データ一覧!P79","v":1060},null,null,{"$f":"データ一覧!P80","v":1086},null,null,{"$f":"データ一覧!P81","v":1206},null,null,{"$f":"データ一覧!P82","v":987},null,null,{"$f":"データ一覧!P83","v":1180},null,null,{"$f":"データ一覧!P84","v":1155},null,null,{"$f":"データ一覧!P85","v":2465},null,null," 無立木地   未立木地",null,null,null,{"$f":"データ一覧!P279","v":54.7},null,null,"公       　　  有",null,null,null,{"$f":"データ一覧!P281","v":393.91},null,null,null,"     輸送機械","情報通信機械",null,null,null,null,null,null,null,null,{"$f":"データ一覧!P361","v":0},null,null,null,{"$f":"+データ一覧!P386","v":0},null,null,null,null,null,null,{"$f":"データ一覧!P411","v":0},null,null,null,null,null,null,null,null,null,null,null,null,null,null,null,null,null,null,null,null,null,null,null,null,"その他の社会福祉施設",null,null,null,null,null,null,null,{"$f":"データ一覧!P575+データ一覧!P576","v":0},null,null,null,{"$f":"データ一覧!P588+データ一覧!P589","v":0}]
["口","1","  女",null,{"$f":"データ一覧!P87","v":1051},null,null,{"$f":"データ一覧!P88","v":997},null,null,{"$f":"データ一覧!P89","v":1087},null,null,{"$f":"データ一覧!P90","v":952},null,null,{"$f":"データ一覧!P91","v":1237},null,null,{"$f":"データ一覧!P92","v":1189},null,null,{"$f":"データ一覧!P93","v":3174},null,null,null,null,null,null,null,null,null,"私          　 有",null,null,null,{"$f":"データ一覧!P282","v":6429.67},null,null,null,"     精密機械","輸送機械",null,null,null,null,null,null,null,null,{"$f":"データ一覧!P362","v":1},null,null,null,{"$f":"+データ一覧!P387","v":21},null,null,null,null,null,null,{"$f":"データ一覧!P412","v":"x"},null,null,null,null,null,null,"障害福祉サービス事業所",null,null,null,null,null,null,null,{"$f":"データ一覧!P569","v":6},null,null,null,{"$f":"データ一覧!P582","v":45}]
[null,null,null,null,null,null,null,null,null,null,null,null,null,null,null,null,null,null,null,null,null,null,null,null,null,"            林     産     物     生     産     量 ",null,null,null,null,null,null,null,null,null,{"$f":"データ一覧!$A$283","v":"元年中"},null,null,null,null,"     その他","その他",null,null,null,null,null,null,null,null,{"$f":"データ一覧!P363","v":3},null,null,null,{"$f":"+データ一覧!P388","v":45},null,null,null,null,null,null,{"$f":"データ一覧!P413","v":43887},null,null,null,null,null,null," １７  教　　　　　　　育",null,null,null,null,null,null,null,null,null,null,null,null,null,null,null,{"$f":"データ一覧!$A$590","v":"2.5.1"}]
["人口動態",null,null,null,null,null,null,"   自　然　動　態",null,null,null,null,null,"   社  会  動  態",null,null,null,null,null,{"$f":"データ一覧!$A74","v":"31.1.1～元.12.31"},null,null,null,null,null,"生椎茸",null,null,null,{"$f":"データ一覧!P283","v":780},null,"㎏","乾椎茸",null,null,null,{"$f":"データ一覧!P284","v":"-"},null,"㎏"]
[null,null,"   区       分",null,null,null,null," 出   生",null,null," 死   亡",null,null," 転   入",null,null," 転   出",null,null," 婚   姻",null,null," 離   婚",null,null,"えのきだけ",null,null,null,{"$f":"データ一覧!P286","v":"-"},null,"㎏","なめこ",null,null,null,{"$f":"データ一覧!P285","v":"-"},null,"㎏",null,"    ","工　業　用　水　量",null,null,null,null,null,"（従業者30人以上の事業所）",null,null,null,null,null,null,null,null,null,null,{"$f":"データ一覧!P414","v":872},null,null,null,null,"㎥／日",null,null,null,null,null,null,null,null,null,null,null,null,null,null,"学校数（校）",null,null,null,null,null,null,"教員数（人）",null,null,null,null,null,null,null,"学生・生徒・児童数（人）"]
[{"$f":"LEFT(データ一覧!$A70,7)","v":"元.10.1～"},null,null,null,null,null,null,"       人",null,null,"       人",null,null,"       人",null,null,"       人",null,null,null,"    件",null,null,"    件",null,"ひらたけ",null,null,null,{"$f":"+データ一覧!P287","v":"-"},null,"㎏","まいたけ",null,null,null,{"$f":"+データ一覧!P288","v":"-"},null,"㎏",null,null,null,null,null,null,null,null,null,null,null,null,null,null,null,null,null,null,null,null,null,null,null,null,null,null,null,null,null,null,"　","区分",null,null,null,null,null,null,null," 本 校",null,null," 分 校",null,null," 本   務",null,null,null," 兼   務",null,null,null," 総   数",null,null,null,"男",null,null,null,"女"]
["～",null," 実          数",null,null,null,null,{"$f":"データ一覧!P70","v":100},null,null,{"$f":"データ一覧!P71","v":235},null,null,{"$f":"データ一覧!P72","v":564},null,null,{"$f":"データ一覧!P73","v":557},null,null,{"$f":"データ一覧!P74","v":67},null,null,{"$f":"データ一覧!P75","v":16},null,null,null,null,null,null,null,null,null,null,null,null,null,null,null,null,null," １１ 　上　・　下　水　道",null,null,null,null,null,null,null,null,null,null,null,null,null,null,null,null,null,null,null,null,null,null,null,null,null,null,null,null,"小学校",null,null,null,null,null,null,null,null,{"$f":"データ一覧!P591","v":7},null,null,{"$f":"データ一覧!P592","v":0},null,null,{"$f":"データ一覧!P593","v":91},null,null,null,{"$f":"データ一覧!P594","v":15},null,null,null,{"$f":"データ一覧!P595","v":941},null,null,null,{"$f":"データ一覧!P596","v":470},null,null,null,{"$f":"データ一覧!P597","v":471}]
[{"$f":"RIGHT(データ一覧!$A72,7)","v":"～2.9.30"},null,"比率(対1,000人)",null,null,null,null,{"$f":"+H48/I35*1000","v":5.0294221193984807},null,null,{"$f":"+K48/I35*1000","v":11.81914198058643},null,null,"- ",null,null,"- ",null,null,{"$f":"+T48/I35*1000","v":3.3697128199969821},null,null,{"$f":"+W48/I35*1000","v":0.80470753910375692},null,null,"  ６  漁               業",null,null,null,null,null,null,null,null,null,null,null,null,null,null,null,null,null,null,null,null,null,null,null,null,null,null,null,null,null,null,null,null,null,null,null,null,null,null,null,null,null,null,"  ","中学校",null,null,null,null,null,null,null,null,{"$f":"データ一覧!P599","v":3},null,null,{"$f":"データ一覧!P600","v":0},null,null,{"$f":"データ一覧!P601","v":54},null,null,null,{"$f":"データ一覧!P602","v":6},null,null,null,{"$f":"データ一覧!P603","v":497},null,null,null,{"$f":"データ一覧!P604","v":246},null,null,null,{"$f":"データ一覧!P605","v":251}]
[null,null,null,null,null,null,null,null,null,null,null,null,null,null,null,null,null,null,null,null,null,null,null,null,null,null,null,null,null,null,null,null,null,null,null,null,null,null,null,null,"水 道 供 給 人 口",null,null,null,null,null,null,"上 水 道",null,null,null,"簡易水道",null,null,null,"専用水道",null,null,null,"飲料水供給施設",null,null,null,"下水道処理人口",null,null,null,null,"  ","高等学校",null,null,null,null,null,null,null,null,{"$f":"データ一覧!P607","v":0},null,null,{"$f":"データ一覧!P608","v":0},null,null,{"$f":"データ一覧!P609","v":0},null,null,null,{"$f":"データ一覧!P610","v":0},null,null,null,{"$f":"データ一覧!P611","v":0},null,null,null,{"$f":"データ一覧!P612","v":0},null,null,null,{"$f":"データ一覧!P613","v":0}]
["  ３  事　　業　　所（民　　営）    （平 28.6.1）",null,null,null,null,null,null,null,null,null,null,null,null,null,null,null,null,null,null,null,null,null,null,null,null,"漁船隻数・トン数",null,null,null,{"$f":"データ一覧!$A$289","v":"元.12.31"},null,null,null,"動　力　船",null,null,null,null,null,null,{"$f":"データ一覧!$A$415","v":"2.3.31"},null,null,null,null,null,"人",null,{"$f":"データ一覧!P415","v":18286},null,null,{"$f":"データ一覧!P416","v":0},null,null,null,null,{"$f":"データ一覧!P417","v":0},null,null,null,{"$f":"データ一覧!P418","v":0},null,null,null,{"$f":"データ一覧!P419","v":14044},null,null,null,"  ","大学・短期大学",null,null,null,null,null,null,null,null,{"$f":"データ一覧!P614","v":2},null,null,{"$f":"データ一覧!P615","v":0},null,null,{"$f":"データ一覧!P616","v":460},null,null,null,{"$f":"データ一覧!P617","v":337},null,null,null,{"$f":"データ一覧!P618","v":2714},null,null,null,{"$f":"データ一覧!P619","v":1286},null,null,null,{"$f":"データ一覧!P620","v":1428}]
[null,null,null,null,null,null,null,null,null,null,null,null,null,null,null,null,null,null,null,null,null,null,null,null,null,"無動力船隻数",null,null,null,"船外機付漁船隻数",null,null,null,"隻　数",null,null,"総 ト ン 数",null,null,null,null,null,null,null,null,null,null,null,null,null,null,null,null,null,null,null,null,null,null,null,null,null,null,null,null,null,null,null,"  ","高等専門学校",null,null,null,null,null,null,null,null,{"$f":"データ一覧!P621","v":0},null,null,{"$f":"データ一覧!P622","v":0},null,null,{"$f":"データ一覧!P623","v":0},null,null,null,{"$f":"データ一覧!P624","v":0},null,null,null,{"$f":"データ一覧!P625","v":0},null,null,null,{"$f":"データ一覧!P626","v":0},null,null,null,{"$f":"データ一覧!P627","v":0}]
[null,null,null,null,null,null,null,"    総　　　　　数",null,null,null,null,null,"    民　　　　　営",null,null,null,null,null,"  国 ･ 地方公共団体",null,null,null,null,null,null,null,null,"隻",null,null,null,"隻",null,null,"隻",null,null,"t",null," １２  交   通　・　通   信",null,null,null,null,null,null,null,null,null,null,null,null,null,null,null,null,null,null,null,null,null,null,null,null,null,null,null,"  ","特別支援学校",null,null,null,null,null,null,null,null,{"$f":"+データ一覧!P629","v":0},null,null,{"$f":"+データ一覧!P630","v":0},null,null,{"$f":"+データ一覧!P631","v":0},null,null,null,{"$f":"+データ一覧!P632","v":0},null,null,null,{"$f":"+データ一覧!P633","v":0},null,null,null,{"$f":"+データ一覧!P634","v":0},null,null,null,{"$f":"+データ一覧!P635","v":0}]
["  　区　　　　　　分",null,null,null,null,null,null," 事業所数",null,null," 従業者数",null,null," 事業所数",null,null," 従業者数",null,null," 事業所数",null,null," 従業者数",null,null,{"$f":"データ一覧!$P$289","v":12},null,null,null,{"$f":"データ一覧!$P$290","v":0},null,null,null,{"$f":"データ一覧!P291","v":0},null,null,{"$f":"データ一覧!P292","v":0},null,null,null,null,null,null,null,null,null,null,null,null,null,null,null,null,null,null,null,null,null,null,null,null,null,null,null,null,null,null,null,"  ","幼稚園",null,null,null,null,null,null,null,null,{"$f":"データ一覧!P637","v":3},null,null,{"$f":"データ一覧!P638","v":0},null,null,{"$f":"データ一覧!P639","v":9},null,null,null,{"$f":"データ一覧!P640","v":0},null,null,null,{"$f":"データ一覧!P641","v":56},null,null,null,{"$f":"データ一覧!P642","v":27},null,null,null,{"$f":"データ一覧!P643","v":29}]
[null,null,null,null,null,null,null,null,null,null,"       人",null,null,null,null,null,"       人",null,null,null,null,null,"       人",null,null,"  男女別就業者数",null,null,null,null,null,null,null,{"$f":"データ一覧!$A$293","v":"30.11.1"},null,null,null,null,null,null,"道     路",null,null,null,"実 延 長",null,null,null,"国     道",null,null,null,"県     道",null,null,null,"市町道",null,null,null," 鉄 道 営 業 キ ロ 数",null,null,null,null,null,null,null,"  ","幼保連携認定こども園",null,null,null,null,null,null,null,null,{"$f":"データ一覧!P645","v":0},null,null,{"$f":"データ一覧!P646","v":0},null,null,{"$f":"データ一覧!P647","v":0},null,null,null,{"$f":"データ一覧!P648","v":0},null,null,null,{"$f":"データ一覧!P649","v":0},null,null,null,{"$f":"データ一覧!P650","v":0},null,null,null,{"$f":"データ一覧!P651","v":0}]
["総数",null,null,null,null,null,null,{"$f":"データ一覧!P95","v":"…"},null,null,{"$f":"データ一覧!P152","v":"…"},null,null,{"$f":"データ一覧!P96","v":797},null,null,{"$f":"データ一覧!P153","v":9454},null,null,{"$f":"データ一覧!P97","v":"…"},null,null,{"$f":"データ一覧!P154","v":"…"},null,null,"総　　数",null,null,null,null,null,"男",null,null,null,"女",null,null,null,null,{"$f":"データ一覧!$A$420","v":"31.4.1"},null,null,null,{"$f":"データ一覧!P420","v":264.93939999999998},null,null,"㎞",{"$f":"データ一覧!P421","v":27.3},null,null,"㎞",{"$f":"データ一覧!P422","v":25.9},null,null,"㎞",{"$f":"データ一覧!P423","v":211.73939999999999},null,null,"km",{"$f":"データ一覧!$A$424","v":"2.4.1"},null,null,null,{"$f":"データ一覧!P424","v":15.2},null,null,"㎞","  ","各種学校",null,null,null,null,null,null,null,null,{"$f":"データ一覧!P653","v":0},null,null,{"$f":"データ一覧!P654","v":0},null,null,{"$f":"データ一覧!P655","v":0},null,null,null,{"$f":"データ一覧!P656","v":0},null,null,null,{"$f":"データ一覧!P657","v":0},null,null,null,{"$f":"データ一覧!P658","v":0},null,null,null,{"$f":"データ一覧!P659","v":0}]
["農林漁業",null,null,null,null,null,null,{"$f":"データ一覧!P98","v":"…"},null,null,{"$f":"データ一覧!P155","v":"…"},null,null,{"$f":"データ一覧!P99","v":13},null,null,{"$f":"データ一覧!P156","v":334},null,null,{"$f":"データ一覧!P100","v":"…"},null,null,{"$f":"データ一覧!P157","v":"…"},null,null,null,null,null,null,null,"人",null,null,"　　　　人",null,null,null,null,"  人",null,"自動車",null,null,null,null,null,null,null,null,"乗用車",null,null,null,null,null,null,null,null,null,null,null,null,null,null,null,null,null,null,"  ","専修学校",null,null,null,null,null,null,null,null,{"$f":"データ一覧!P661","v":2},null,null,{"$f":"データ一覧!P662","v":0},null,null,{"$f":"データ一覧!P663","v":20},null,null,null,{"$f":"データ一覧!P664","v":18},null,null,null,{"$f":"データ一覧!P665","v":125},null,null,null,{"$f":"データ一覧!P666","v":45},null,null,null,{"$f":"データ一覧!P667","v":80}]
["鉱業",null,null,null,null,null,null,{"$f":"データ一覧!P101","v":"…"},null,null,{"$f":"データ一覧!P158","v":"…"},null,null,{"$f":"データ一覧!P102","v":1},null,null,{"$f":"データ一覧!P159","v":8},null,null,{"$f":"データ一覧!P103","v":"…"},null,null,{"$f":"データ一覧!P160","v":"…"},null,null,{"$f":"SUM(AF58,AJ58)","v":0},null,null,null,null,null,{"$f":"データ一覧!$P$294","v":0},null,null,null,{"$f":"データ一覧!P295","v":0},null,null,null,null,"台  数",null,null,null,"貨    物",null,null,null,"普     通",null,null,null,"小     型",null,null,null,"乗  合",null,null,"特  種",null,null,"小型二輪",null,null,"軽自動車",null,null," １８  衛　　　　　　　生"]
["建設業",null,null,null,null,null,null,{"$f":"データ一覧!P104","v":"…"},null,null,{"$f":"データ一覧!P161","v":"…"},null,null,{"$f":"データ一覧!P105","v":106},null,null,{"$f":"データ一覧!P162","v":620},null,null,{"$f":"データ一覧!P106","v":"…"},null,null,{"$f":"データ一覧!P163","v":"…"},null,null,"　　　　海 面 漁 業 漁 獲 量 （属人）",null,null,null,null,null,null,null,{"$f":"データ一覧!$A$296","v":"30年中"},null,null,null,null,null,null,{"$f":"データ一覧!$A$425","v":"2.3.31"},null,null,null,null,{"$f":"データ一覧!P425","v":840},null,null,null,{"$f":"データ一覧!P427","v":3651},null,null,null,{"$f":"データ一覧!P428","v":3834},null,null,{"$f":"データ一覧!P426","v":18},null,null,{"$f":"データ一覧!P429","v":286},null,null,{"$f":"データ一覧!P430","v":163},null,null,{"$f":"データ一覧!P431","v":6404}]
["製造業",null,null,null,null,null,null,{"$f":"データ一覧!P107","v":"…"},null,null,{"$f":"データ一覧!P164","v":"…"},null,null,{"$f":"データ一覧!P108","v":142},null,null,{"$f":"データ一覧!P165","v":1312},null,null,{"$f":"データ一覧!P109","v":"…"},null,null,{"$f":"データ一覧!P166","v":"…"},null,null,null,null,null,null,null,"       ","ｔ",null,null,null,null,null,null,"t",null,null,null,"     ",null,"郵　便　局　数",null,null,null,null,null,null,null,null,null,null,null,null,null,null,null,"一般加入",null,null,null,"ＩＮＳネット",null,null,null,null,null,null,null,"医療関係施設",null,null,null,null,null,{"$f":"データ一覧!$A$668","v":"元.10.1"},null,null,null,null,null,null,"および医療関係者数",null,null,null,null,null,null,null,{"$f":"データ一覧!$A$673","v":"30.12.31"}]
["電気・ｶﾞ ｽ・熱供給・水道業",null,null,null,null,null,null,{"$f":"データ一覧!P110","v":"…"},null,null,{"$f":"データ一覧!P167","v":"…"},null,null,{"$f":"データ一覧!P111","v":2},null,null,{"$f":"データ一覧!P168","v":92},null,null,{"$f":"データ一覧!P112","v":"…"},null,null,{"$f":"データ一覧!P169","v":"…"},null,null,"   総　　　　　　数",null,null,null,{"$f":"データ一覧!P296","v":0},null,null,"   藻　　　　　　類",null,null,null,{"$f":"データ一覧!P299","v":0},null,null,null,"通  信",null,null,null," 総     数",null,null,null,null,null," 郵 便 局",null,null,null,null," 簡 易 局",null,null,null,null,"電話数",null,null,null,"加入数",null,null,null,null,null,null,null,null,null,"　","病",null,null,"院",null,"　",null,null,null,null," ","一般診療所",null,null,null,null,null,null,null,null,null,null,null,"歯科診療所"]
["情報通信業",null,null,null,null,null,null,{"$f":"データ一覧!P113","v":"…"},null,null,{"$f":"データ一覧!P170","v":"…"},null,null,{"$f":"データ一覧!P114","v":3},null,null,{"$f":"データ一覧!P171","v":20},null,null,{"$f":"データ一覧!P115","v":"…"},null,null,{"$f":"データ一覧!P172","v":"…"},null,null,"   魚　　　　　　類",null,null,null,{"$f":"データ一覧!P297","v":0},null,null,"   そ　   の　　 他",null,null,null,{"$f":"データ一覧!P300","v":0},null,null,null,{"$f":"データ一覧!$A$435","v":"2.3.31"},null,null,null,{"$f":"データ一覧!P432","v":6},null,null,null,null,null,{"$f":"データ一覧!P433","v":6},null,null,null,null,{"$f":"データ一覧!P434","v":0},null,null,null,null,{"$f":"データ一覧!P435","v":2008},null,null,null,{"$f":"データ一覧!P436","v":258},null,null,null," ","医療関係",null,null,null,null,null,null,null,null,null,null,null,"一般病院",null,null,null,null,null,null,null,null,null,null,null,"有",null,null,"床"]
["運輸業、郵便業",null,null,null,null,null,null,{"$f":"データ一覧!P116","v":"…"},null,null,{"$f":"データ一覧!P173","v":"…"},null,null,{"$f":"データ一覧!P117","v":17},null,null,{"$f":"データ一覧!P174","v":254},null,null,{"$f":"データ一覧!P118","v":"…"},null,null,{"$f":"データ一覧!P175","v":"…"},null,null,"   貝　　　　　　類",null,null,null,{"$f":"データ一覧!P298","v":0},null,null,null,null,null,null,null,null,null,null,null,null,null,null,null,null,null,null,null,null,null,null,null,null,null,null,null,null,null,null,null,null,null,null,null,null,null,null,null,"施設数",null,null,null,null,null,null,{"$f":"データ一覧!P668","v":1},null,null,null,null,null,{"$f":"データ一覧!P669","v":1},null,null,null,null,null,{"$f":"データ一覧!P670","v":11},null,null,null,null,null,{"$f":"データ一覧!P671","v":0},null,null,null,null,null,{"$f":"データ一覧!P672","v":7}]
["卸売業、小売業",null,null,null,null,null,null,{"$f":"データ一覧!P119","v":"…"},null,null,{"$f":"データ一覧!P176","v":"…"},null,null,{"$f":"データ一覧!P120","v":174},null,null,{"$f":"データ一覧!P177","v":922},null,null,{"$f":"データ一覧!P121","v":"…"},null,null,{"$f":"データ一覧!P178","v":"…"},null,null,null,null,null,null,null,null,null,null,null,null,null,null,null,null,null," １３  税　　・　　財　　政",null,null,null,null,null,null,null,null,null,null,null,null,null,null,null,null,null,null,null,null,null,null,null,null,null,null,null,null,null,null,null,null,null,null,"医師",null,null,null,null,"歯科医師",null,null,null,null,"薬剤師",null,null,null,null,"保健師",null,null,null,null,"助産師",null,null," ",null,"看護師",null,null," "]
["金融業、保険業",null,null,null,null,null,null,{"$f":"データ一覧!P122","v":"…"},null,null,{"$f":"データ一覧!P179","v":"…"},null,null,{"$f":"データ一覧!P123","v":7},null,null,{"$f":"データ一覧!P180","v":62},null,null,{"$f":"データ一覧!P124","v":"…"},null,null,{"$f":"データ一覧!P181","v":"…"},null,null,"  ７  商        　　　業 ",null,null,null,null,null,null,{"$f":"データ一覧!$A$301","v":"28.6.1(平成27年実績）"},null,null,null,null,null,null,null,null,null,null,null,null,null,null,null,null,null,null,null,null,null,null,null,null,null,null,null,null,null,null,null,null,null,null,null," ","医療",null,null,null,null,null,null,null,null,"人",null,null,null,null,"人",null,null,null,null,"人",null,null,null,null,"人",null,null,null,null,"人",null,null,null,null,"人"]
["不動産業、物品賃貸業",null,null,null,null,null,null,{"$f":"データ一覧!P125","v":"…"},null,null,{"$f":"データ一覧!P182","v":"…"},null,null,{"$f":"データ一覧!P126","v":47},null,null,{"$f":"データ一覧!P183","v":88},null,null,{"$f":"データ一覧!P127","v":"…"},null,null,{"$f":"データ一覧!P184","v":"…"},null,null,null,null,null,null,null,null,null,null,null,null,null,null,null,null,null,"           ",null,null,null,"歳入",null,null,null,null,null,null,null,null,"(千円）"," ",null,null,null,"歳出",null,null,null,null,null,null,null,null,"(千円）",null,"関係者",null,null,null,null,{"$f":"データ一覧!P673","v":418},null,null,null,null,{"$f":"データ一覧!P674","v":19},null,null,null,null,{"$f":"データ一覧!P675","v":88},null,null,null,null,{"$f":"データ一覧!P676","v":17},null,null,null,null,{"$f":"データ一覧!P677","v":19},null,null,null,null,{"$f":"データ一覧!P678","v":869}]
["学術研究、専門・技術ｻｰﾋﾞｽ業",null,null,null,null,null,null,{"$f":"データ一覧!P128","v":"…"},null,null,{"$f":"データ一覧!P185","v":"…"},null,null,{"$f":"データ一覧!P129","v":22},null,null,{"$f":"データ一覧!P186","v":74},null,null,{"$f":"データ一覧!P130","v":"…"},null,null,{"$f":"データ一覧!P187","v":"…"},null,null,"  産   業　 分　 類",null,null,null,"  商　 店 　数",null,null," 従　業　者　数",null,null,"年　間　販　売　額",null,null,null,null,"一人当たり歳入歳出予算決算額",null,null,null,null,null,null,null,null,null,null,null,null,null,null,null,null,null,null,null,null,null,null,null,null,null,null,null,"                   ",null,null,null,null,null,null,null,null,"死因別死亡数　　　　　　    ",null,null,null,null,null,null,null,null,null,null,null,null,null,null,null,{"$f":"データ一覧!$A$679","v":"元年中"},null,null,null,null,null,null,null,null,"      単 位：人"]
["宿泊業、飲食サービス業",null,null,null,null,null,null,{"$f":"データ一覧!P131","v":"…"},null,null,{"$f":"データ一覧!P188","v":"…"},null,null,{"$f":"データ一覧!P132","v":69},null,null,{"$f":"データ一覧!P189","v":364},null,null,{"$f":"データ一覧!P133","v":"…"},null,null,{"$f":"データ一覧!P190","v":"…"},null,null,null,null,null,null,null,"        店",null,null,null,"　人",null,"         百万円",null,null,null,"区分",null,null,null,{"$f":"データ一覧!$A$445","v":"2年度"},null,null,null,null,{"$f":"データ一覧!$A$459","v":"元年度"},null,null,null,null,"区分",null,null,null,{"$f":"+AS68","v":"2年度"},null,null,null,null,{"$f":"データ一覧!$A$459","v":"元年度"},null,null,null,null," 死     因",null,null,null,null,null,null,null,null,null,null,null,"悪  性",null,null,"高血圧",null,null,null,null,null,"脳血管",null,null,null,null,null," ",null,null,"不慮の事故"]
["生活関連サービス業、娯楽業",null,null,null,null,null,null,{"$f":"データ一覧!P134","v":"…"},null,null,{"$f":"データ一覧!P191","v":"…"},null,null,{"$f":"データ一覧!P135","v":68},null,null,{"$f":"データ一覧!P192","v":143},null,null,{"$f":"データ一覧!P136","v":"…"},null,null,{"$f":"データ一覧!P193","v":"…"},null,null,"総　　　　　　計",null,null,null,{"$f":"データ一覧!P301","v":149},null,null,{"$f":"データ一覧!P310","v":755},null,null,{"$f":"データ一覧!P319","v":16280},null,null,null,null,null,null,null,null,{"$f":"データ一覧!P441","v":439144.48188711039},null,null,null,null,{"$f":"データ一覧!P442","v":465388},null,null,null,null,null,null,null,null,{"$f":"データ一覧!P443","v":439144.48188711039},null,null,null,null,{"$f":"データ一覧!P444","v":451057.47907949792},null,null,null,null,null,null,null,null,null,"全 死 因",null,null,null,"結 核",null,null,"新生物",null,null,"性疾患",null,null,"心疾患",null,null,"疾  患",null,null,"肺  炎",null,null,"老  衰",null,null,null,null," ","交通事故"]
["教育、学習支援業",null,null,null,null,null,null,{"$f":"データ一覧!P137","v":"…"},null,null,{"$f":"データ一覧!P194","v":"…"},null,null,{"$f":"データ一覧!P138","v":25},null,null,{"$f":"データ一覧!P195","v":2643},null,null,{"$f":"データ一覧!P139","v":"…"},null,null,{"$f":"データ一覧!P196","v":"…"},null,null,"卸売業",null,null,null,{"$f":"データ一覧!P302","v":17},null,null,{"$f":"データ一覧!P311","v":150},null,null,{"$f":"データ一覧!P320","v":7075},null,null,null,null,"項目別歳入歳出予算決算額"]
["医療、福祉",null,null,null,null,null,null,{"$f":"データ一覧!P140","v":"…"},null,null,{"$f":"データ一覧!P197","v":"…"},null,null,{"$f":"データ一覧!P141","v":36},null,null,{"$f":"データ一覧!P198","v":2124},null,null,{"$f":"データ一覧!P142","v":"…"},null,null,{"$f":"データ一覧!P199","v":"…"},null,null,"小売業",null,null,null,{"$f":"データ一覧!P303","v":132},null,null,{"$f":"データ一覧!P312","v":605},null,null,{"$f":"データ一覧!P321","v":9205},null,null,null,null,"区分",null,null,null,{"$f":"データ一覧!$A$445","v":"2年度"},null,null,null,null,{"$f":"データ一覧!$A$459","v":"元年度"},null,null,null,null,"区分",null,null,null,{"$f":"+AS71","v":"2年度"},null,null,null,null,{"$f":"データ一覧!$A$459","v":"元年度"},null,null,null,null,null,null,null,null,null,{"$f":"データ一覧!P679","v":213},null,null,null,"   －",{"$f":"データ一覧!P680","v":0},null,{"$f":"データ一覧!P681","v":47},null,null,null,{"$f":"データ一覧!P682","v":1},null,{"$f":"データ一覧!P683","v":38},null,null,{"$f":"データ一覧!P684","v":22},null,null,{"$f":"データ一覧!P685","v":25},null,null,{"$f":"データ一覧!P686","v":20},null,null,{"$f":"データ一覧!P687","v":4},null,null,{"$f":"データ一覧!P688","v":0}]
["複合サービス事業",null,null,null,null,null,null,{"$f":"データ一覧!P143","v":"…"},null,null,{"$f":"データ一覧!P200","v":"…"},null,null,{"$f":"データ一覧!P144","v":11},null,null,{"$f":"データ一覧!P201","v":94},null,null,{"$f":"データ一覧!P145","v":"…"},null,null,{"$f":"データ一覧!P202","v":"…"},null,null,"各種商品",null,null,null,{"$f":"データ一覧!P304","v":0},null,null,{"$f":"データ一覧!P313","v":0},null,null,{"$f":"データ一覧!P322","v":0},null,null,null,null,"総額",null,null,null,{"$f":"SUM(AS73:AW85)","v":8340232},null,null,null,null,{"$f":"SUM(AX73:BB85)","v":8898228},null,null,null,null,"総額",null,null,null,{"$f":"SUM(BG73:BK85)","v":8340232},null,null,null,null,{"$f":"SUM(BL73:BP85)","v":8624219},null,null,null,null," １９  警　察　・　消　防  ",null,null,null,null,null,null,null,null,null,null,null,null,null,null,null,{"$f":"+データ一覧!$A689","v":"2.4.1"}]
["サービス業",null,null,null,null,null,null,{"$f":"データ一覧!P146","v":"…"},null,null,{"$f":"データ一覧!P203","v":"…"},null,null,{"$f":"データ一覧!P147","v":54},null,null,{"$f":"データ一覧!P204","v":300},null,null,{"$f":"データ一覧!P148","v":"…"},null,null,{"$f":"データ一覧!P205","v":"…"},null,null,"織物・衣服・身の回り品",null,null,null,{"$f":"データ一覧!P305","v":10},null,null,{"$f":"データ一覧!P314","v":21},null,null,{"$f":"データ一覧!P323","v":162},null,null,null,null,"地方税",null,null,null,{"$f":"データ一覧!P446","v":2001112},null,null,null,null,{"$f":"データ一覧!P460","v":2064263},null,null,null,null,"議会費",null,null,null,{"$f":"データ一覧!P474","v":122422},null,null,null,null,{"$f":"データ一覧!P488","v":97644}]
["公務",null,null,null,null,null,null,{"$f":"データ一覧!P149","v":"…"},null,null,{"$f":"データ一覧!P206","v":"…"},null,null,{"$f":"データ一覧!P150","v":"…"},null,null,{"$f":"データ一覧!P207","v":"…"},null,null,{"$f":"データ一覧!P151","v":"…"},null,null,{"$f":"データ一覧!P208","v":"…"},null,null,"飲食料品",null,null,null,{"$f":"データ一覧!P306","v":48},null,null,{"$f":"データ一覧!P315","v":241},null,null,{"$f":"データ一覧!P324","v":3511},null,null,null,null,"地方譲与税",null,null,null,{"$f":"データ一覧!P447","v":79600},null,null,null,null,{"$f":"データ一覧!P461","v":77261},null,null,null,null,"総務費",null,null,null,{"$f":"データ一覧!P475","v":1049414},null,null,null,null,{"$f":"データ一覧!P489","v":1217007},null,null,null,null,null,null,null,null,null,null,null,null,null,null,"交番・駐在所",null,null,null,null,null,null,null,null,"刑法犯認知件数",null,null,null,null,null,null,null,null,"交通人身事故発生件数"]
["  ４  農        　　　業 ",null,null,null,null,null,null,null,null,null,null,null,null,null,null,null,null,null,null,null,null,null,null,null,null,"機械器具",null,null,null,{"$f":"データ一覧!P307","v":12},null,null,{"$f":"データ一覧!P316","v":39},null,null,{"$f":"データ一覧!P325","v":392},null,null,null,null,"各種交付金",null,null,null,{"$f":"データ一覧!P448","v":481800},null,null,null,null,{"$f":"データ一覧!P462","v":381690},null,null,null,null,"民生費",null,null,null,{"$f":"データ一覧!P476","v":2601378},null,null,null,null,{"$f":"データ一覧!P490","v":2682531},null,null,null,null,null,"警察署数",null,null,null,null,null,null,null,null,"検問所数",null,null,null,null,null,null,null,null,null,{"$f":"データ一覧!$A$691","v":"元年中"},null,null,null,null,null,null,null,null,{"$f":"データ一覧!$A$691","v":"元年中"}]
[null,null,null,null,null,null,null,null,null,null,null,null,null,null,null,null,null,null,null,null,null,null,null,null,null,"その他",null,null,null,{"$f":"データ一覧!P308","v":58},null,null,{"$f":"データ一覧!P317","v":299},null,null,{"$f":"データ一覧!P326","v":5118},null,null,null,null,"地方特例交付金",null,null,null,{"$f":"データ一覧!P449","v":10000},null,null,null,null,{"$f":"データ一覧!P463","v":82396},null,null,null,null,"衛生費",null,null,null,{"$f":"データ一覧!P477","v":503060},null,null,null,null,{"$f":"データ一覧!P491","v":505348},null,null,null,null,null,null,null,null,null,null,null,null,null,null,null,null,null,null,null,null,null,null,null,null,null,null,null,null," 件",null,null,null,null,null,null,null,null,"　件"]
[null,null,"農家人口と世帯員数(販売農家)",null,null,null,null,null,null,null,"農家世帯の就業状態（販売農家）",null,null,null,null,null,null,null,null,null,null,null,null,null,null,"無店舗",null,null,null,{"$f":"データ一覧!P309","v":4},null,null,{"$f":"データ一覧!P318","v":5},null,null,{"$f":"データ一覧!P327","v":23},null,null,null,null,"地方交付税",null,null,null,{"$f":"データ一覧!P450","v":3560000},null,null,null,null,{"$f":"データ一覧!P464","v":3846685},null,null,null,null,"労働費",null,null,null,{"$f":"データ一覧!P478","v":28137},null,null,null,null,{"$f":"データ一覧!P492","v":38183},null,null,null,null,null,null,{"$f":"データ一覧!P689","v":0},null,null,null,null,null,null,null,null,{"$f":"データ一覧!P690","v":4},null,null,null,null,null,null,null,null,{"$f":"データ一覧!P691","v":43},null,null,null,null,null,null,null,null,{"$f":"データ一覧!P692","v":10}]
["農","平",null,null,null,null,null,null,null,null,"農業従事者",null,null,null,null,null,null,null,null,"非農業従事",null,null,"農業従事者",null,null,null,null,null,null,null,null,null,null,null,null,null,null,null,null,null,"分担金および負担金",null,null,null,{"$f":"データ一覧!P451","v":55074},null,null,null,null,{"$f":"データ一覧!P465","v":13170},null,null,null,null,"農林水産業費",null,null,null,{"$f":"データ一覧!P479","v":536143},null,null,null,null,{"$f":"データ一覧!P493","v":542460},null,null,null,null,"火災発生件数",null,null,null,null,null,null,null,null,null,"林野焼損",null,null,null,null,"損      害",null,null,null,null,"消 防 自",null,null,null,"その他の",null,null,null," ",null,null,null,null," "]
["家",{"$f":"+LEFT(データ一覧!$A$209,2)","v":"27"},"区分",null,"農家人口",null,null,"15歳以上の",null,null,null,null,null,"農業就業人口",null,null,null,null,null,"者",null,null,"の平均年齢",null,null,"  ８  住　　　　　　 　宅",null,null,null,null,null,null,null,null,null,null,null,null,null,null,"使用料および手数料",null,null,null,{"$f":"データ一覧!P452","v":60834},null,null,null,null,{"$f":"データ一覧!P466","v":161419},null,null,null,null,"商工費",null,null,null,{"$f":"データ一覧!P480","v":194049},null,null,null,null,{"$f":"データ一覧!P494","v":184675},null,null,null,null,{"$f":"+データ一覧!$A$693","v":"元年中"},null,null,null,null,"焼損棟数",null,null,null,null,"面    積",null,null,null,null,"見  積  額",null,null,null,null,"動 車 数",null,null,null,"ﾎﾟﾝﾌﾟ数",null,null,null," 消防吏員",null,null,null," 消防団員"]
["人就 ","・",null,null,null,null,null,"世帯員数",null,null,null,null,null,null,null,null,"基幹的農業",null,null,null,null,null,null,null,null,null,null,null,null,null,null,null,null,null,null,null,null,null,null,null,"国庫支出金",null,null,null,{"$f":"データ一覧!P453","v":552574},null,null,null,null,{"$f":"データ一覧!P467","v":599561},null,null,null,null,"土木費",null,null,null,{"$f":"データ一覧!P481","v":1033941},null,null,null,null,{"$f":"データ一覧!P495","v":997614},null,null,null,null,"         件",null,null,null,null,null,"      棟",null,null,null,null,null,null,"  ａ",null,null,null,"  千円",null,null,"        ",null,null,null,null,null,null,null,null,null,"  人",null,null,null,"  人"]
["口業 ",{"$f":"+MID(データ一覧!$A$209,4,1)","v":"2"},null,null,null,null,"人",null,null,"人",null,null,"人",null,null,"人","従事者",null,"人",null,null,"人",null,null,"歳",{"$f":"+データ一覧!$A$328","v":"30年"},null,null,null,null,{"$f":"データ一覧!$A$331","v":"元年"},"中の増減",null,null,null,{"$f":"+データ一覧!$A$331","v":"元年"},null,null,null,null,"県支出金",null,null,null,{"$f":"データ一覧!P454","v":516585},null,null,null,null,{"$f":"データ一覧!P468","v":613014},null,null,null,null,"消防費",null,null,null,{"$f":"データ一覧!P482","v":346352},null,null,null,null,{"$f":"データ一覧!P496","v":419458},null,null,null,null,null,{"$f":"データ一覧!P693","v":4},null,null,null,null,{"$f":"データ一覧!P694","v":5},null,null,null,null,{"$f":"データ一覧!P695","v":0},null,null,null,{"$f":"データ一覧!P696","v":565556},null,null,null,null,null,{"$f":"データ一覧!P697","v":14},null,null,null,{"$f":"データ一覧!P698","v":15},null,null,null,{"$f":"データ一覧!P699","v":41},null,null,null,{"$f":"データ一覧!P700","v":262}]
["と状 ","・"," 総数",null,{"$f":"データ一覧!P209","v":2079},null,null,{"$f":"データ一覧!P212","v":1852},null,null,{"$f":"データ一覧!P215","v":1341},null,null,{"$f":"データ一覧!P218","v":605},null,null,{"$f":"データ一覧!P221","v":479},null,null,{"$f":"データ一覧!P224","v":511},null,null,{"$f":"データ一覧!P227","v":59.1},null,null,null,null,null,null,"建設した住宅",null,null,"消失した住宅",null,null,null,null,null,null,null,"財産収入",null,null,null,{"$f":"データ一覧!P455","v":9141},null,null,null,null,{"$f":"データ一覧!P469","v":10310},null,null,null,null,"教育費",null,null,null,{"$f":"データ一覧!P483","v":1057982},null,null,null,null,{"$f":"データ一覧!P497","v":1139193},null,null,null,null," ２０  そ　　　の　　　他　"]
["  況 ",{"$f":"+RIGHT(データ一覧!$A$209,1)","v":"1"},"　男",null,{"$f":"データ一覧!P210","v":1020},null,null,{"$f":"データ一覧!P213","v":905},null,null,{"$f":"データ一覧!P216","v":751},null,null,{"$f":"データ一覧!P219","v":309},null,null,{"$f":"データ一覧!P222","v":285},null,null,{"$f":"データ一覧!P225","v":154},null,null,{"$f":"データ一覧!P228","v":57.4},null,null,null,null,null,null,null,null,null,null,null,null,null,null,null,null,null,"繰入金",null,null,null,{"$f":"データ一覧!P456","v":262856},null,null,null,null,{"$f":"データ一覧!P470","v":92700},null,null,null,null,"災害復旧費",null,null,null,{"$f":"データ一覧!P484","v":0},null,null,null,null,{"$f":"データ一覧!P498","v":0}]
[null,null,"　女",null,{"$f":"データ一覧!P211","v":1059},null,null,{"$f":"データ一覧!P214","v":947},null,null,{"$f":"データ一覧!P217","v":590},null,null,{"$f":"データ一覧!P220","v":296},null,null,{"$f":"データ一覧!P223","v":194},null,null,{"$f":"データ一覧!P226","v":357},null,null,{"$f":"データ一覧!P229","v":61.2},null,null,null,{"$f":"データ一覧!P328","v":7466},null,"戸",{"$f":"データ一覧!P329","v":67},null,"戸",{"$f":"データ一覧!P330","v":79},null,"戸",null,{"$f":"データ一覧!P331","v":7454},null,"戸",null,"地方債",null,null,null,{"$f":"データ一覧!P457","v":556000},null,null,null,null,{"$f":"データ一覧!P471","v":579000},null,null,null,null,"公債費",null,null,null,{"$f":"データ一覧!P485","v":864354},null,null,null,null,{"$f":"データ一覧!P499","v":800106},null,null,null,null,null,null,null,null,null,"曹洞宗大本山永平寺、手繰ケ城山古墳、石舟山古墳、鳥越山古墳、二本松山古墳、"]
[null,null,null,null,null,null,null,null,null,null,null,null,null,null,null,null,null,null,null,null,null,null,null,null,null,null,null,null,null,null,null,null,null,null,null,null,null,null,null,null,"その他",null,null,null,{"$f":"データ一覧!P458","v":194656},null,null,null,null,{"$f":"データ一覧!P472","v":376759},null,null,null,null,"その他",null,null,null,{"$f":"データ一覧!P486","v":3000},null,null,null,null,{"$f":"データ一覧!P500","v":0},null,null,null,null,"　名所・旧跡",null,null,null,null,"波多野城跡、春日山古墳、東諏訪間一号墳、志比線刻磨崖仏、芭蕉塚、"]
[null,null,"総農家数等",null,null,null,null,null,null,"専兼業別（販売農家）",null,null,null,null,null,null,null,"経営面積規模別（販売農家）",null,null,null,null,null,null,null,null,null,null,null,null,null,null,null,null,null,null,null,null,null,null,null,null,null,null,null,null,null,null,null,null,null,null,null,null,null,null,null,null,null,null,null,null,null,null,null,null,null,null,"  文化財等",null,null,null,null,"島の宝篋印塔、吉峰寺、白山遙拝松と舟渡跡、火薬局跡碑、大廻り史跡、"]
[null,"平","区　分",null,null,null,"戸数（戸）",null,null,"区　分",null,null,null,null,"戸数（戸）",null,null,"区　　分",null,null,null,null,"戸数（戸）",null,null,"  ９  議　 員　・　職 　員",null,null,null,null,null,null,null,null,null,null,null,null,null,null," １４  文　　　　　　化",null,null,null,null,null,null,null,null,null," ( ",{"$f":"データ一覧!$A$507","v":"2.3.31"},null,null,null,"ただし図書館・公民館・児童館",null,null,null,null,null,null,null,{"$f":"データ一覧!$A$501","v":"2.4.1"},null,null,null,null,null,null,null,null,null,"天龍寺、赤井家高麗門"]
["農",{"$f":"+LEFT(データ一覧!$A$230,2)","v":"27"},"総農家",null,null,null,{"$f":"データ一覧!P230","v":764},null,null,"総数",null,null,null,null,{"$f":"データ一覧!P236","v":499},null,null,"総数",null,null,null,null,{"$f":"データ一覧!P241","v":499},null,null,null,null,null,null,null,null,null,null,null,null,null,null,null,null,null,null,null,null,null,null,null,null,null,null,null,null,null,null,null,null,null,"　宗教法人数 ",null,null,null,null,null,null,{"$f":"データ一覧!$A$509","v":"元.12.31"},null,null,null,"）","　　特産物",null,null,null,null,"鮎、ごまどうふ、精進料理、永平寺そば、サクラマス、日本酒"]
["家","・","販売農家",null,null,null,{"$f":"データ一覧!P231","v":499},null,null,"専業農家",null,null,null,null,{"$f":"データ一覧!P237","v":65},null,null,"0.5 ha 未満",null,null,null,null,{"$f":"データ一覧!P242","v":128},null,null," 市 町 村 議 会",null,null,"有権者数",null,{"$f":"データ一覧!$A$335","v":"2.9.1"},null,"市 町 村 議 会",null,null,"  職      員      数",null,null,null,null,null,null,null,null,null,"図書館",null,null,null,null,null,"公　民　館",null,null,null,null,null,null,null,null,null,null," 社会教育学級講座",null,null,null,null,null,null,null,null,null,null,"油桐の葉っぱ寿し、れんげ米、にんにく、たまねぎ、スイートコーン"]
["数",{"$f":"+MID(データ一覧!$A$230,4,1)","v":"2"},null,"主業",null,null,{"$f":"データ一覧!P232","v":23},null,null,"兼業農家",null,null,null,null,{"$f":"データ一覧!P238","v":434},null,null,"0.5 ha ～ 1.0 ha",null,null,null,null,{"$f":"データ一覧!P243","v":190},null,null," 議  員  定  数",null,null,"    男",null,"    女",null,"選 挙 投 票 率",null,null," 総     数",null,"一般行政職",null,null,"公    共",null,null,null," 館  数",null,null," 図書数",null,null," 本  館",null,null," 分  館",null,null," 公  園",null,null," 児童館",null,null,"学級講座数",null,null,"受講者数",null,null," 　年中行事",null,null,null,null,"九頭竜フェスティバル永平寺大燈籠ながし、御像まつり、\n永平寺参ろーど禅ウォーキング、\n永平寺除夜の鐘とライトアップ、永平寺花祭り"]
[null,"・",null,"準主業",null,null,{"$f":"データ一覧!P233","v":105},null,null,null,"第１種兼業",null,null,null,{"$f":"データ一覧!P239","v":39},null,null,"1.0 ha ～ 1.5 ha",null,null,null,null,{"$f":"データ一覧!P244","v":94},null,null,null,null,"人",null,"人",null,"人",null,null,"　％",null,"人",null,"人",null,"施 設 数",null,null,null,null,{"$f":"データ一覧!P501","v":3},null,{"$f":"データ一覧!P502","v":177011},null,null,null,{"$f":"データ一覧!P503","v":7},null,{"$f":"データ一覧!P504","v":1},null,null,{"$f":"データ一覧!P505","v":1},null,null,{"$f":"データ一覧!P506","v":6},null,null,{"$f":"データ一覧!P507","v":150},null,null,{"$f":"データ一覧!P508","v":2220}]
[null,{"$f":"+RIGHT(データ一覧!$A$230,1)","v":"1"},null,"副業的",null,null,{"$f":"データ一覧!P234","v":371},null,null,null,"第２種兼業",null,null,null,{"$f":"データ一覧!P240","v":395},null,null,"1.5 ha ～ 2.0 ha",null,null,null,null,{"$f":"データ一覧!P245","v":39},null,null,null,{"$f":"データ一覧!P332","v":14},null,{"$f":"データ一覧!P335","v":7487},null,{"$f":"データ一覧!P336","v":7943},null,{"$f":"データ一覧!P334","v":61.59},null,null,{"$f":"データ一覧!P337","v":246},null,{"$f":"データ一覧!P338","v":104},null,null,"宗    教",null,null,null," 仏教系",null,null,"ｷﾘｽﾄ教系",null,null,"神道諸派",null,null,"公会堂・市民会館",null,null,null,null,null," テレビ",null,null,"衛星放送契約数"]
[null,null,"自給的農家",null,null,null,{"$f":"データ一覧!P235","v":265},null,null,null,null,null,null,null,null,null,null,"2.0 ha 以上",null,null,null,null,{"$f":"データ一覧!P246","v":48},null,null,null,null,null,null,null,null,null,{"$f":"データ一覧!P333","v":"30.7.8"},null,null,null,null,null,null,null,"法 人 数",null,null,null,{"$f":"データ一覧!P509","v":35},null,null,{"$f":"データ一覧!P510","v":0},null,null,{"$f":"データ一覧!P511","v":55},null,null,{"$f":"データ一覧!P512","v":3},null,null,null,null,null,"      等",null,null,{"$f":"データ一覧!P513","v":4624}]

{"sheet":"池田町","index":15,"n_rows":93,"n_cols":104,"rows_kept":93,"cut":false,"hidden":false,"merged":[[17,25,17,27],[18,25,18,27],[70,95,70,97],[70,80,70,82],[74,69,74,75],[72,63,72,67],[74,58,74,62],[74,63,74,67],[73,58,73,62],[68,101,68,103],[70,98,70,100],[68,95,68,97],[67,98,67,103],[27,82,27,85],[27,87,27,91],[28,69,28,73],[28,74,28,77],[28,78,28,81],[28,82,28,85],[28,87,28,91],[29,74,29,77],[29,78,29,81],[29,82,29,85],[29,87,29,91],[57,68,58,103],[71,68,72,83],[71,84,72,103],[28,92,28,95],[38,98,38,101],[32,100,32,103],[40,76,41,78],[45,58,45,62],[29,20,29,21],[35,76,35,78],[40,2,40,3],[30,69,30,73],[30,74,30,77],[30,78,30,81],[30,82,30,85],[30,87,30,91],[31,69,31,73],[31,74,31,77],[31,78,31,81],[31,82,31,85],[35,22,35,24],[35,5,35,7],[35,8,35,10],[35,11,35,13],[35,14,35,16],[35,18,35,19],[35,20,35,21],[33,84,34,97],[31,61,31,65],[30,50,30,52],[32,5,32,7],[32,8,32,10],[35,87,35,91],[35,94,35,96],[36,41,36,47],[38,61,38,65],[30,20,30,21],[31,18,31,19],[31,20,31,21],[34,18,34,19],[31,50,31,52],[31,54,31,57],[40,36,40,37],[36,29,36,30],[29,41,29,47],[28,50,28,52],[27,50,27,52],[27,54,27,57],[27,61,27,65],[35,54,35,57],[35,50,35,52],[35,61,35,65],[34,54,34,57],[39,54,39,57],[39,50,39,52],[39,41,39,47],[34,41,34,47],[34,29,34,30],[33,54,33,57],[36,50,36,52],[36,54,36,57],[36,61,36,65],[28,100,28,103],[32,92,32,95],[28,54,28,57],[30,96,30,99],[23,96,23,99],[24,92,24,95],[27,25,27,26],[27,27,27,28],[34,61,34,65],[32,96,32,99],[32,41,32,47],[31,41,31,47],[30,41,30,47],[26,74,26,77],[26,78,26,81],[26,82,26,85],[26,87,26,91],[27,69,27,73],[27,74,27,77],[27,78,27,81],[29,54,29,57],[27,35,27,36],[30,92,30,95],[28,41,28,47],[33,68,34,81],[28,61,28,65],[30,54,30,57],[27,41,27,47],[30,61,30,65],[24,37,24,38],[24,29,24,30],[27,33,27,34],[24,33,24,34],[27,31,27,32],[29,61,29,65],[29,50,29,52],[70,35,70,37],[27,100,27,103],[20,92,20,95],[21,100,21,103],[26,100,26,103],[24,96,24,99],[25,96,25,99],[21,96,21,99],[29,92,29,95],[29,96,29,99],[29,100,29,103],[26,92,26,95],[25,92,25,95],[27,96,27,99],[27,92,27,95],[22,100,22,103],[26,96,26,99],[28,96,28,99],[30,100,30,103],[31,92,31,95],[34,36,34,37],[33,41,33,47],[31,96,31,99],[31,100,31,103],[22,96,22,99],[25,100,25,103],[24,100,24,103],[25,41,25,47],[25,50,25,52],[25,54,25,57],[24,74,24,77],[23,100,23,103],[81,68,82,103],[70,32,70,33],[75,35,75,37],[70,49,70,53],[71,63,71,67],[72,54,72,57],[71,54,71,57],[73,63,73,67],[68,25,68,28],[69,25,69,28],[70,25,70,28],[38,76,38,78],[38,80,38,83],[38,68,38,74],[39,61,39,65],[39,68,39,74],[39,80,39,83],[39,76,39,78],[37,54,37,57],[37,68,37,74],[37,50,37,52],[42,76,42,78],[40,68,41,74],[40,80,41,83],[33,61,33,65],[35,69,35,73],[35,81,35,84],[37,61,37,65],[46,0,46,1],[47,0,47,1],[48,16,48,18],[48,19,48,21],[48,13,48,15],[48,0,48,1],[48,7,48,9],[49,40,49,46],[50,0,51,24],[48,10,48,12],[71,58,71,62],[71,44,71,48],[71,0,71,6],[69,35,69,37],[50,25,50,28],[62,0,62,6],[72,58,72,62],[61,60,61,63],[60,50,60,54],[60,55,60,59],[47,19,47,21],[51,25,51,28],[50,33,50,38],[71,29,71,30],[72,19,72,21],[69,32,69,33],[72,35,72,37],[71,32,71,33],[60,0,60,6],[55,22,55,24],[55,35,55,38],[49,55,49,58],[0,0,0,9],[1,0,3,9],[5,0,5,9],[14,25,15,25],[19,3,19,5],[29,5,29,7],[31,5,31,7],[31,8,31,10],[29,8,29,10],[41,16,41,18],[42,13,42,15],[47,13,47,15],[56,0,56,6],[56,16,56,18],[22,7,22,8],[42,4,42,6],[42,7,42,9],[44,0,45,1],[42,16,42,18],[22,25,22,28],[18,28,18,30],[40,29,40,30],[30,22,30,24],[31,22,31,24],[32,18,32,19],[32,20,32,21],[32,22,32,24],[54,25,54,32],[53,25,53,27],[53,29,53,31],[48,22,48,24],[33,22,33,24],[19,100,19,103],[19,82,19,85],[17,92,17,95],[17,87,17,90],[19,78,19,81],[19,25,19,28],[19,29,19,31],[21,25,21,28],[40,4,40,6],[41,4,41,6],[41,7,41,9],[29,18,29,19],[31,11,31,13],[25,31,26,32],[35,29,35,30],[21,29,21,31],[17,83,17,84],[17,101,17,102],[19,41,19,47],[19,50,19,52],[19,54,19,57],[19,61,19,65],[19,92,19,95],[19,96,19,99],[20,11,20,13],[20,16,20,18],[20,21,20,23],[20,96,20,99],[20,100,20,103],[20,25,20,28],[27,29,27,30],[21,87,21,91],[14,26,15,28],[15,29,15,30],[14,0,15,24],[16,75,16,96],[17,60,17,66],[6,0,8,9],[17,41,17,47],[17,49,17,53],[17,54,17,58],[15,32,15,33],[19,32,19,34],[15,35,15,37],[17,69,17,72],[17,74,17,77],[19,74,19,77],[19,35,19,38],[21,41,21,47],[21,50,21,52],[21,54,21,57],[21,61,21,65],[20,41,20,47],[16,32,16,33],[16,36,16,37],[21,92,21,95],[21,35,21,38],[20,74,20,77],[20,78,20,81],[20,82,20,85],[20,87,20,91],[21,74,21,77],[21,78,21,81],[21,82,21,85],[17,32,17,34],[17,36,17,38],[18,31,18,34],[18,35,18,38],[22,69,22,73],[22,74,22,77],[22,92,22,95],[22,78,22,81],[22,82,22,85],[22,87,22,91],[23,78,23,81],[20,29,20,31],[20,32,20,34],[22,41,22,47],[22,50,22,52],[22,54,22,57],[22,61,22,65],[20,35,20,38],[22,35,22,38],[22,29,22,31],[22,32,22,34],[23,29,23,31],[23,32,23,34],[23,69,23,73],[23,74,23,77],[20,61,20,65],[20,50,20,52],[20,54,20,57],[21,32,21,34],[23,92,23,95],[23,11,23,13],[23,16,23,18],[23,21,23,23],[23,25,23,28],[23,35,23,38],[23,82,23,85],[23,87,23,91],[23,41,23,47],[23,50,23,52],[23,54,23,57],[23,61,23,65],[24,69,24,73],[24,78,24,81],[24,82,24,85],[24,87,24,91],[25,74,25,77],[25,78,25,81],[25,82,25,85],[25,87,25,91],[25,25,25,26],[25,33,26,34],[26,61,26,65],[25,27,25,28],[25,37,26,38],[26,41,26,47],[26,50,26,52],[26,54,26,57],[24,41,24,47],[24,50,24,52],[24,54,24,57],[24,61,24,65],[26,69,26,73],[30,5,30,7],[30,8,30,10],[30,11,30,13],[30,14,30,16],[32,54,32,57],[32,61,32,65],[33,50,33,52],[34,50,34,52],[47,10,47,12],[34,14,34,16],[36,36,36,37],[46,25,46,28],[45,25,45,28],[41,36,41,37],[41,29,41,30],[45,29,45,30],[35,36,35,37],[41,32,41,35],[40,16,40,18],[41,19,41,21],[41,22,41,24],[32,14,32,16],[43,61,43,65],[32,11,32,13],[30,18,30,19],[33,5,33,7],[33,8,33,10],[33,11,33,13],[34,20,34,21],[34,22,34,24],[33,14,33,16],[32,50,32,52],[27,0,27,4],[27,5,27,7],[27,22,27,24],[26,22,26,24],[26,25,26,26],[26,27,26,28],[25,35,26,36],[25,61,25,65],[40,32,40,35],[42,22,42,24],[44,19,44,24],[42,19,42,21],[31,14,31,16],[24,0,25,24],[29,22,29,24],[24,31,24,32],[27,37,27,38],[24,35,24,36],[25,29,26,30],[24,27,24,28],[40,22,40,24],[40,19,40,21],[29,11,29,13],[29,14,29,16],[42,10,42,12],[40,7,40,9],[40,10,40,12],[34,8,34,10],[34,11,34,13],[41,10,41,12],[41,13,41,15],[40,13,40,15],[34,5,34,7],[33,18,33,19],[33,20,33,21],[44,25,44,28],[44,29,44,30],[44,36,44,37],[42,32,42,35],[48,51,48,54],[48,57,48,60],[43,41,43,47],[43,50,43,52],[47,22,47,24],[43,54,43,57],[40,41,40,47],[46,29,46,30],[42,36,42,37],[35,41,35,47],[37,41,37,47],[38,41,38,47],[47,7,47,9],[47,16,47,18],[38,54,38,57],[38,50,38,52],[45,32,45,35],[46,32,46,35],[45,36,45,37],[44,32,44,35],[46,36,46,37],[41,54,41,57],[60,92,60,97],[54,56,54,59],[49,63,49,67],[49,69,49,76],[49,59,49,62],[50,56,50,58],[48,96,48,99],[48,69,48,76],[48,81,48,83],[42,68,42,74],[45,93,45,102],[45,85,45,90],[48,100,48,103],[46,100,46,103],[48,84,48,87],[41,41,41,47],[42,41,42,47],[41,50,41,52],[42,50,42,52],[41,61,41,65],[42,80,42,83],[48,63,48,66],[48,78,48,80],[42,94,42,96],[42,54,42,57],[50,69,50,76],[50,78,50,80],[49,78,49,80],[50,60,50,62],[50,64,50,67],[49,51,49,54],[41,86,41,92],[68,86,68,88],[56,69,56,76],[56,78,56,80],[68,89,68,91],[56,84,56,87],[54,100,54,103],[55,69,55,76],[55,78,55,80],[55,81,55,83],[55,84,55,87],[55,100,55,103],[54,78,54,80],[54,84,54,87],[54,88,54,91],[54,92,54,95],[54,96,54,99],[67,58,67,62],[67,63,67,67],[60,98,60,103],[60,60,60,63],[60,64,60,67],[59,60,59,63],[60,86,60,91],[59,44,59,59],[55,44,55,46],[55,96,55,99],[56,96,56,99],[55,60,55,63],[54,60,54,67],[56,49,56,54],[57,59,57,61],[57,62,57,64],[55,31,55,34],[59,0,59,6],[61,55,61,59],[60,40,60,43],[55,0,55,6],[62,29,62,30],[60,29,60,30],[55,25,55,30],[63,90,63,92],[65,74,65,77],[68,16,68,18],[68,19,68,21],[66,16,66,18],[66,32,66,34],[68,22,68,24],[66,35,66,38],[68,83,68,85],[67,83,67,85],[68,29,68,30],[65,19,65,21],[65,22,65,24],[62,16,62,18],[60,19,60,21],[63,75,63,77],[66,77,66,91],[67,89,67,91],[67,80,67,82],[68,92,68,94],[68,44,68,48],[68,73,68,76],[68,77,68,79],[68,80,68,82],[58,0,58,6],[57,0,57,6],[61,81,61,84],[59,16,59,18],[58,16,58,18],[57,16,57,18],[60,16,60,18],[61,10,61,12],[61,64,61,67],[61,40,61,43],[56,10,56,12],[57,13,57,15],[60,44,60,49],[56,13,56,15],[60,13,60,15],[59,13,59,15],[57,7,57,9],[60,36,60,37],[57,22,57,24],[58,22,58,24],[60,22,60,24],[58,53,58,55],[57,48,57,51],[57,52,57,55],[59,22,59,24],[61,29,61,30],[61,0,61,6],[56,22,56,24],[64,10,64,12],[65,44,65,50],[61,69,61,72],[62,94,62,96],[62,69,62,72],[65,94,65,97],[63,19,63,21],[64,69,64,72],[65,69,65,72],[63,95,63,97],[65,84,65,87],[65,89,65,92],[63,100,63,102],[64,16,64,18],[64,19,64,21],[64,22,64,24],[63,85,63,87],[62,100,62,102],[63,22,63,24],[62,88,62,90],[62,82,62,84],[62,76,62,78],[61,13,61,15],[61,16,61,18],[61,22,61,24],[63,16,63,18],[62,22,62,24],[61,19,61,21],[65,99,65,102],[65,79,65,82],[65,13,65,15],[65,16,65,18],[70,58,70,62],[70,54,70,57],[70,73,70,76],[70,78,70,79],[67,68,70,72],[69,40,69,67],[68,40,68,43],[65,58,65,64],[66,40,66,67],[67,44,67,48],[67,49,67,53],[68,32,68,33],[69,19,69,21],[66,19,66,21],[68,54,68,57],[68,58,68,62],[68,63,68,67],[65,54,65,57],[70,63,70,67],[69,22,69,24],[68,49,68,53],[70,101,70,103],[70,84,70,85],[76,88,76,91],[76,70,76,73],[76,58,76,62],[75,63,75,67],[76,63,76,67],[76,40,76,43],[75,32,75,33],[74,44,74,48],[74,54,74,57],[74,35,74,37],[74,40,74,43],[74,32,74,33],[74,49,74,53],[73,44,73,48],[73,40,73,43],[75,58,75,62],[73,32,73,33],[73,35,73,37],[76,54,76,57],[76,97,76,100],[73,78,73,84],[73,87,73,93],[73,96,73,102],[74,78,74,84],[74,88,74,92],[74,97,74,101],[76,79,76,82],[70,89,70,91],[70,86,70,88],[70,92,70,94],[79,102,79,103],[79,40,79,43],[79,44,79,48],[79,49,79,53],[79,54,79,57],[79,58,79,62],[79,63,79,67],[78,96,78,99],[80,79,80,81],[80,83,80,87],[78,83,78,87],[78,88,78,91],[80,69,80,71],[80,74,80,76],[80,89,80,91],[77,92,77,95],[78,68,78,72],[79,98,79,99],[78,73,78,77],[78,78,78,82],[80,101,80,103],[78,100,78,103],[80,93,80,95],[80,97,80,99],[78,92,78,95],[77,58,77,62],[77,63,77,67],[77,83,77,87],[77,88,77,91],[77,78,77,82],[78,54,78,57],[78,63,78,67],[55,7,55,9],[72,10,72,12],[71,10,71,12],[70,10,70,12],[62,10,62,12],[60,10,60,12],[59,10,59,12],[69,10,69,12],[58,10,58,12],[55,10,55,12],[63,10,63,12],[63,13,63,15],[55,16,55,18],[59,19,59,21],[58,19,58,21],[57,19,57,21],[56,19,56,21],[55,13,55,15],[57,10,57,12],[62,19,62,21],[62,13,62,15],[65,10,65,12],[68,7,68,9],[68,10,68,12],[69,7,69,9],[67,7,67,9],[70,7,70,9],[67,10,67,12],[55,19,55,21],[68,13,68,15],[70,13,70,15],[70,16,70,18],[80,35,81,38],[80,40,80,43],[80,44,80,48],[80,49,80,53],[80,54,80,57],[81,54,81,57],[78,58,78,62],[73,54,73,57],[75,54,75,57],[56,7,56,9],[59,7,59,9],[58,7,58,9],[60,7,60,9],[64,7,64,9],[61,7,61,9],[62,7,62,9],[63,7,63,9],[67,54,67,57],[67,40,67,43],[67,22,67,24],[68,35,68,37],[65,40,65,43],[72,44,72,48],[71,49,71,53],[76,10,76,24],[72,7,72,9],[78,40,78,43],[78,44,78,48],[78,49,78,53],[66,7,66,9],[70,22,70,24],[69,13,69,15],[92,53,92,58],[92,62,92,67],[92,40,92,43],[92,44,92,46],[92,47,92,49],[92,50,92,52],[91,53,91,58],[91,44,91,46],[89,40,89,43],[84,58,84,62],[91,62,91,67],[90,47,90,49],[90,65,90,67],[90,62,90,64],[89,62,89,64],[88,45,88,48],[84,63,84,67],[88,62,88,67],[88,51,88,54],[91,40,91,43],[90,59,90,61],[91,50,91,52],[84,49,84,53],[84,54,84,57],[84,40,84,43],[84,44,84,48],[82,44,82,48],[80,63,80,67],[90,51,90,52],[70,40,70,43],[69,29,69,30],[70,29,70,30],[83,26,83,27],[83,32,83,33],[77,40,77,43],[75,40,75,43],[72,32,72,33],[83,40,83,43],[73,29,73,30],[73,25,73,28],[74,29,74,30],[82,54,82,57],[90,56,90,58],[88,32,88,34],[83,49,83,53],[83,44,83,48],[90,53,90,55],[82,40,82,43],[80,25,81,28],[83,36,83,37],[89,32,89,34],[75,44,75,48],[75,49,75,53],[75,25,75,28],[75,29,75,30],[81,44,81,48],[78,2,78,3],[71,35,71,37],[72,40,72,43],[71,25,71,28],[83,29,83,30],[73,19,73,21],[73,49,73,53],[72,49,72,53],[71,19,71,21],[72,13,72,15],[72,25,72,28],[72,29,72,30],[74,25,74,28],[81,32,81,34],[76,32,76,33],[76,35,76,37],[76,25,76,28],[73,0,73,6],[83,13,83,15],[83,16,83,18],[82,49,82,53],[83,19,83,21],[82,4,82,6],[82,7,82,9],[82,10,82,12],[82,13,82,15],[82,16,82,18],[71,7,71,9],[71,13,71,15],[71,16,71,18],[72,16,72,18],[73,7,73,9],[37,76,37,78],[37,80,37,83],[37,86,37,92],[37,98,37,101],[37,94,37,96],[50,51,50,54],[43,68,44,83],[43,84,44,103],[41,94,41,96],[49,92,49,95],[51,96,51,99],[50,96,50,99],[49,96,49,99],[52,81,52,83],[39,98,39,101],[40,98,40,101],[41,98,41,101],[42,98,42,101],[46,70,46,75],[46,96,46,99],[51,84,51,87],[52,69,52,76],[52,78,52,80],[51,69,51,76],[49,81,49,83],[49,84,49,87],[40,50,40,52],[40,61,40,65],[40,54,40,57],[38,86,38,92],[39,86,39,92],[40,86,40,92],[14,68,15,82],[14,83,15,96],[39,94,39,96],[38,94,38,96],[52,88,52,91],[52,92,52,95],[40,94,40,96],[35,99,35,102],[36,68,36,74],[56,88,56,91],[56,92,56,95],[48,88,48,91],[48,92,48,95],[50,92,50,95],[50,88,50,91],[49,88,49,91],[51,92,51,95],[53,92,53,95],[52,100,52,103],[50,100,50,103],[50,81,50,83],[49,100,49,103],[42,86,42,92],[51,100,51,103],[51,88,51,91],[52,84,52,87],[36,80,36,83],[36,86,36,92],[53,100,53,103],[53,84,53,87],[56,100,56,103],[56,81,56,83],[51,29,51,32],[51,33,51,35],[42,61,42,65],[56,40,56,43],[57,40,57,43],[51,36,51,38],[50,29,50,32],[53,33,53,34],[49,47,49,50],[83,63,83,67],[81,58,81,62],[82,58,82,62],[83,58,83,62],[81,63,81,67],[82,63,82,67],[58,65,58,67],[58,59,58,61],[61,50,61,54],[58,62,58,64],[58,56,58,58],[58,49,58,51],[61,44,61,49],[57,44,57,47],[77,44,77,48],[77,49,77,53],[76,44,76,48],[76,49,76,53],[77,54,77,57],[80,58,80,62],[81,40,81,43],[83,54,83,57],[81,49,81,53],[92,32,92,34],[58,45,58,47],[81,29,81,31],[90,45,90,46],[88,30,88,31],[90,40,90,43],[81,13,81,15],[81,16,81,18],[88,28,88,29],[74,0,75,24],[76,2,76,9],[65,7,65,9],[64,13,64,15],[58,13,58,15],[65,0,65,6],[61,36,61,37],[63,0,63,6],[64,0,64,6],[71,40,71,43],[70,44,70,48],[83,22,83,24],[76,29,76,30],[83,10,83,12],[91,26,91,27],[91,28,91,29],[91,30,91,31],[91,32,91,34],[91,35,91,36],[91,37,91,38],[91,47,91,49],[82,19,82,21],[58,40,58,43],[73,10,73,12],[73,13,73,15],[73,16,73,18],[66,0,66,6],[72,0,72,6],[70,19,70,21],[70,0,70,6],[68,0,68,6],[67,0,67,6],[66,10,66,12],[66,13,66,15],[66,22,66,24],[69,0,69,6],[72,22,72,24]],"merged_total":1087,"flags":["merged_cut"]}
[{"$f":"+データ一覧!Q5","v":"いまだてぐん"}]
[{"$f":"+データ一覧!Q8","v":"今立郡"}]
[null,null,null,null,null,null,null,null,null,null,null,null,null,null,null,null,null,null,null,null,null,null,null,null,null,null,null,null,null,null,null,null,null,null,null,null,null,null,null,null,0]
[null,null,null,null,null,null,null,null,null,null,null,null,null,null,null,null,null,null,null,null,null,null,null,null,null,null,null,"【町章とそのいわれ】「イケダ」の「イ」を簡潔明瞭に図案化し、",null,null,null,null,null,null,null,null,null,null,null,null,"【位置および地勢】池田町の南東は、部子山から冠山を経て岩谷山に結ぶ",null,null,null,null,null,null,null,null,null,null,null,null,null,null,null,null,null,null,null,null,null,null,null,null,null,null,null,null,null,null,"所在地",null,null,null,null,null,null,null,"〒910-2512"]
[null,null,null,null,null,null,null,null,null,null,null,null,null,null,null,null,null,null,null,null,null,null,null,null,null,null,null,"   　　　        上方に伸びるのは将来の躍進を意味し、円は和",null,null,null,null,null,null,null,null,null,null,null,null,"　山岳地帯で大野市、岐阜県の一部及び南条郡に接している。",null,null,null,null,null,null,null,null,null,null,null,null,null,null,null,null,null,null,null,null,null,null,null,null,null,null,null,null,null,null,null,null,null,null,null,null,null,null,"今立郡池田町稲荷第３５号４番地"]
[{"$f":"+データ一覧!Q6","v":"いけだちょう"},null,null,null,null,null,null,null,null,null,null,null,null,null,null,null,null,null,null,null,null,null,null,null,null,null,null,"   　　          と団結円満なる発展を印象づけたもの。",null,null,null,null,null,null,null,null,null,null,null,null,"  また北は福井市、西は越前市と連なる。  四囲山が入り組み、森林面積が"]
[{"$f":"データ一覧!Q9","v":"池田町"},null,null,null,null,null,null,null,null,null,null,null,null,null,null,null,null,null,null,null,null,null,null,null,null,null,null,0,null,null,null,null,null,null,null,null,null,null,null,null,"  91.7％を占める山間の地である。県境よりその源を発する足羽川は南北に",null,null,null,null,null,null,null,null,null,null,null,null,null,null,null,null,null,null,null,null,null,null,null,null,null,null,null,null,null,null,"電話番号",null,null,null,null,null,null,null,"（０７７８）４４－６０００"]
[null,null,null,null,null,null,null,null,null,null,null,null,null,null,null,null,null,null,null,null,null,null,null,null,null,null,null,0,null,null,null,null,null,null,null,null,null,null,null,null,"  流れ、その清流は岩をかんで渓谷をなし風光明媚である。魚見川、水海川、",null,null,null,null,null,null,null,null,null,null,null,null,null,null,null,null,null,null,null,null,null,null,null,null,null,null,null,null,null,null,"FAX番号",null,null,null,null,null,null,null,"     〃     ４４－６２９６"]
[null,null,null,null,null,null,null,null,null,null,null,null,null,null,null,null,null,null,null,null,null,null,null,null,null,null,null,0,null,null,null,null,null,null,null,null,null,null,null,null,"  部子川が合流する足羽川の流域に集落が点在しており、中央部は盆地を"]
[null,null,null,null,null,null,null,null,null,null,null,null,null,null,null,null,null,null,null,null,null,null,null,null,null,null,null,null,null,null,null,null,null,null,null,null,null,null,null,null,"  形成し560ha余りの肥沃な水田を有している。",null,null,null,null,null,null,null,null,null,null,null,null,null,null,null,null,null,null,null,null,null,null,null,null,null,null,null,null,null,null,"最寄駅および距離",null,null,null,null,null,null,null,"福鉄バス池田線稲荷　下車１００ｍ"]
[null,null,null,null,null,null,null,null,null,null,null,null,null,null,null,null,null,null,null,null,null,null,null,null,null,null,null,null,null,null,null,null,null,null,null,null,null,null,null,null,0,null,null,null,null,null,null,null,null,null,null,null,null,null,null,null,null,null,null,null,null,null,null,null,null,null,null,null,null,null,null,null,null,null,null,null,null,null,null,"池田町町民協働バス「マイバス」役場玄関前　下車"]
[]
[null,null,null,null,null,null,null,null,null,null,null,null,null,null,null,null,null,null,null,null,null,null,null,null,null,null,null,"【町が掲げる標語】あたりまえがふつうにあるまち 池田町",null,null,null,null,null,null,null,null,null,null,null,null,null,null,null,null,null,null,null,null,null,null,null,null,null,null,null,null,null,null,null,null,null,null,null,null,null,null,null,null,null,null,null,"ホームページ",null,null,null,null,null,null,null,"http://www.town.ikeda.fukui.jp/"]
[]
["  １  土            　　地",null,null,null,null,null,null,null,null,null,null,null,null,null,null,null,null,null,null,null,null,null,null,null,null,{"$f":"データ一覧!$A$247","v":"元年"},"産米収穫量",null,null,"　 収　穫　量",null,null," 　作 付 面 積",null,null,"   10a当たり収量",null,null,null,null,null,null,null,null,null,null,null,null,null,null,null,null,null,null,null,null,null,null,null,null,null,null,null,null,null,null,null,null," １５  労　　　　　　　働",null,null,null,null,null,null,null,null,null,null,null,null,null,null,"27.10.1"]
[null,null,null,null,null,null,null,null,null,null,null,null,null,null,null,null,null,null,null,null,null,null,null,null,null,null,null,null,null,{"$f":"データ一覧!$Q$247","v":1230},null,"t",{"$f":"データ一覧!$Q$248","v":281},null,"ha",{"$f":"データ一覧!Q249","v":439},null,null,"kg",null," １０  工　　　　　　業 ",null,null,null,null,null,null,null,null,null,null,null,null,null,{"$f":"データ一覧!$A$339","v":"元.6.1（平成30年実績）"}]
["   総          面           積",null,null,null,null,null,null,null,null,null," 固 定 資 産 概 要 調 書 に よ る 地 目 別 面 積",null,null,null,null,null,null,null,null,null,null,null,null,null,null,null,null,null,"   総　　　数",null,null,null,"うち　　田",null,null,null,"うち　　畑",null,null,null,null,null,null,null,null,null,null,null,null,null,null,null,null,null,null,null,null,null,null,null,null,null,null,null,null,null,null,null,null,null,null,null,null,null,null,"産業別就業者数   "]
[null,null,{"$f":"データ一覧!$A$10","v":"2.10.1"},null,null,null,null,null,null,null,null,null,null,null,null,null,{"$f":"データ一覧!$A$12","v":"2.1.1"},null,null,null,null,null,null,null,null," 耕  地  面  積",null,null,null,"       ha",null,null,"ha ",null,null,null,"ha ",null,null,null,"      ","産業分類",null,null,null,null,null,null,null,"事業所数",null,null,null,null,"従業者数",null,null,null,null,null,"年間製造品出荷額等",null,null,null,null,null,null,null,null,"区  分",null,null,null,null,"総    数",null,null,null,null,"男",null,null,null,"女",null,null,"  ","区  分",null,null,null,null,"総    数",null,null,null,null,"男",null,null,null,"女"]
[null,null,null,null,null,null,"㎢",null,null,null,"   総       数",null,null,null,null,"  う ち     田",null,null,null,null,"  う ち     畑",null,null,null,null,{"$f":"データ一覧!$A$250","v":"元.7.15"},null,null,{"$f":"データ一覧!$Q$250","v":470},null,null,{"$f":"データ一覧!$Q$251","v":415},null,null,null,{"$f":"データ一覧!$Q$252","v":55},null,null,null,null,null,null,null,null,null,null,null,null,null,"　　   ",null,null,"事業所",null,"　　　　　　　 人",null,null,"人",null,"　　　　　　　　　　　　　　万円",null,null,null,null,null,null,"万円",null,null,null,null,null,null,null,"      人",null,null,null,null,null," 人",null,null,null," 人",null,null,null,null,null,null,null,"      人",null,null,null,"      人",null,null,null,"      人"]
[null,null,null,{"$f":"データ一覧!Q10","v":194.65},null,null,null,null,null,null,null,null,null,null,"ha",null,null,null,null,"ha",null,null,null,null,"ha","農 業 生 産 物",null,null,null,"作 付 面 積",null,null,"収 穫 量",null,null,"10a当たり収量",null,null,null,null,"     ","総数",null,null,null,null,null,null,null,null,{"$f":"データ一覧!Q339","v":11},null,null,null,{"$f":"+データ一覧!Q364","v":174},null,null,null,null,null,null,{"$f":"データ一覧!Q389","v":173522},null,null,null,null,null,null," 総　　　数",null,null,null,null,null,{"$f":"CA20+CE20","v":1271},null,null,null,{"$f":"データ一覧!Q514","v":689},null,null,null,{"$f":"データ一覧!Q539","v":582}]
[null,null,null,null,null,null,null,null,null,null,null,{"$f":"データ一覧!Q12","v":6545.3},null,null,null,null,{"$f":"データ一覧!Q13","v":558.4},null,null,null,null,{"$f":"データ一覧!Q14","v":118.2},null,null,null,{"$f":"データ一覧!$A$253","v":"元年中"},null,null,null,"ha",null,null,"t",null,null,"kg",null,null,null,null,"     食料品","食料品",null,null,null,null,null,null,null,null,{"$f":"データ一覧!Q340","v":4},null,null,null,{"$f":"+データ一覧!Q365","v":19},null,null,null,null,null,null,{"$f":"データ一覧!Q390","v":3968},null,null,null,null,null,null,null,null,null,null,null,null,null,null,null,null,null,null,null,null,null,null,null,null,null,"卸売業,小売業",null,null,null,null,{"$f":"CS21+CW21","v":132},null,null,null,{"$f":"データ一覧!Q527","v":63},null,null,null,{"$f":"データ一覧!Q552","v":69}]
["  町 ･ 丁 ･ 大 字",null,null,null,null,null,null,null,null,null,"  う ち  宅 地",null,null,null,null,"  う ち  山 林",null,null,null,null,"  う ち  原 野",null,null,null,null,"水　　　　　稲",null,null,null,{"$f":"データ一覧!Q253","v":281},null,null,{"$f":"データ一覧!Q254","v":1230},null,null,{"$f":"データ一覧!Q255","v":439},null,null,null,null,"     飲料・飼料","飲料・飼料",null,null,null,null,null,null,null,null,{"$f":"データ一覧!Q341","v":0},null,null,null,{"$f":"+データ一覧!Q366","v":0},null,null,null,null,null,null,{"$f":"データ一覧!Q391","v":0},null,null,null,null,null,null," 第１次産業",null,null,null,null,null,{"$f":"CA22+CE22","v":148},null,null,null,{"$f":"データ一覧!Q515","v":93},null,null,null,{"$f":"データ一覧!Q540","v":55},null,null,null,null,"金融業,保険業",null,null,null,null,{"$f":"CS22+CW22","v":12},null,null,null,{"$f":"データ一覧!Q528","v":9},null,null,null,{"$f":"データ一覧!Q553","v":3}]
["  区    画    数",null,null,null,null,null,null,{"$f":"データ一覧!Q11","v":47},null,null,null,null,null,null,"ha",null,null,null,null,"ha",null,null,null,null,"ha","六　条　大　麦",null,null,null,{"$f":"データ一覧!Q256","v":"-"},null,null,{"$f":"データ一覧!Q257","v":"- "},null,null,{"$f":"データ一覧!Q258","v":"- "},null,null,null,null,"     繊維","繊維",null,null,null,null,null,null,null,null,{"$f":"データ一覧!Q342","v":2},null,null,null,{"$f":"+データ一覧!Q367","v":35},null,null,null,null,null,null,{"$f":"データ一覧!Q392","v":"x"},null,null,null,null,null,null,"  ","農業",null,null,null,null,{"$f":"CA23+CE23","v":122},null,null,null,{"$f":"データ一覧!Q516","v":73},null,null,null,{"$f":"データ一覧!Q541","v":49},null,null,null,"  ","不動産業",null,null,null,null,5,null,null,null,{"$f":"データ一覧!Q529","v":1},null,null,null,{"$f":"データ一覧!Q554","v":4}]
[{"$f":"データ一覧!$A$11","v":"31.4.1"},null,null,null,null,null,null,null,null,null,null,{"$f":"データ一覧!Q15","v":96.3},null,null,null,null,{"$f":"データ一覧!Q16","v":2519.5},null,null,null,null,{"$f":"データ一覧!Q17","v":82},null,null,null,"大　　      豆",null,null,null,{"$f":"データ一覧!Q259","v":5},null,null,{"$f":"データ一覧!Q260","v":4},null,null,{"$f":"データ一覧!Q261","v":80},null,null,null,null,"     衣服","木材",null,null,null,null,null,null,null,null,{"$f":"データ一覧!Q343","v":0},null,null,null,{"$f":"+データ一覧!Q368","v":0},null,null,null,null,null,null,{"$f":"データ一覧!Q393","v":0},null,null,null,null,null,null,"  ","林業",null,null,null,null,23,null,null,null,{"$f":"データ一覧!Q517","v":19},null,null,null,{"$f":"データ一覧!Q542","v":4},null,null,null,"  ","学術研究",null,null,null,null,18,null,null,null,{"$f":"データ一覧!Q530","v":13},null,null,null,{"$f":"データ一覧!Q555","v":5}]
["  ２  世　帯　数　と　人　口",null,null,null,null,null,null,null,null,null,null,null,null,null,null,null,null,null,null,null,null,null,null,null,null,null,null,"  区　分",null," 乳 用 牛",null," 肉 用 牛",null,"豚",null,"採卵鶏",null,"ブロイラー",null,null,"     木材","家具",null,null,null,null,null,null,null,null,{"$f":"データ一覧!Q344","v":0},null,null,null,{"$f":"+データ一覧!Q369","v":0},null,null,null,null,null,null,{"$f":"データ一覧!Q394","v":0},null,null,null,null,null,null,"  ","漁業",null,null,null,null,3,null,null,null,{"$f":"データ一覧!Q518","v":1},null,null,null,{"$f":"データ一覧!Q543","v":2},null,null,null,"  ","宿泊業,飲食ｻｰﾋﾞｽ",null,null,null,null,80,null,null,null,{"$f":"データ一覧!Q531","v":33},null,null,null,{"$f":"データ一覧!Q556","v":47}]
[null,null,null,null,null,null,null,null,null,null,null,null,null,null,null,null,null,null,null,null,null,null,null,null,null,"畜　産",null," 飼養農家",null,{"$f":"データ一覧!$Q$262","v":"-"},null,{"$f":"データ一覧!$Q$264","v":4},null,{"$f":"データ一覧!$Q$266","v":"-"},null,{"$f":"データ一覧!$Q$268","v":"x"},null,{"$f":"データ一覧!$Q$270","v":"-"},null,null,"     家具","パルプ・紙",null,null,null,null,null,null,null,null,{"$f":"データ一覧!Q345","v":0},null,null,null,{"$f":"+データ一覧!Q370","v":0},null,null,null,null,null,null,{"$f":"データ一覧!Q395","v":0},null,null,null,null,null,null," 第２次産業",null,null,null,null,null,434,null,null,null,{"$f":"データ一覧!Q519","v":281},null,null,null,{"$f":"データ一覧!Q544","v":153},null,null,null,"  ","生活関連ｻｰﾋﾞｽ業",null,null,null,null,24,null,null,null,{"$f":"データ一覧!Q532","v":11},null,null,null,{"$f":"データ一覧!Q557","v":13}]
[null,null,null,null,null,null,null,null,"        人　　　　　　　　　　口",null,null,null,null,null,null,null,null,null,null,null,"１世帯当",null,"人    口",null,null,{"$f":"データ一覧!$A$262","v":"2.3.31"},null,"（戸）",null,null,null,null,null,null,null,null,null,null,null,null,"     パルプ・紙","印刷",null,null,null,null,null,null,null,null,{"$f":"データ一覧!Q346","v":0},null,null,null,{"$f":"+データ一覧!Q371","v":0},null,null,null,null,null,null,{"$f":"データ一覧!Q396","v":0},null,null,null,null,null,null,null,"鉱業，採石業",null,null,null,null,0,null,null,null,{"$f":"データ一覧!Q520","v":0},null,null,null,{"$f":"データ一覧!Q545","v":0},null,null,null,"  ","教育,学習支援業",null,null,null,null,50,null,null,null,{"$f":"データ一覧!Q533","v":20},null,null,null,{"$f":"データ一覧!Q558","v":30}]
[" 区　　　　分",null,null,null,null,"世帯数",null,null," 総   数",null,null,"    男",null,null,"    女",null,null,"  男／女",null,null,"たり人員",null,"密    度",null,null,null,null," 頭 羽",null,{"$f":"データ一覧!$Q$263","v":"-"},null,{"$f":"データ一覧!$Q$265","v":271},null,{"$f":"データ一覧!$Q$267","v":"-"},null,{"$f":"データ一覧!$Q$269","v":450},null,{"$f":"データ一覧!$Q$271","v":"-"},null,null,"     出版・印刷","化学",null,null,null,null,null,null,null,null,{"$f":"データ一覧!Q347","v":0},null,null,null,{"$f":"+データ一覧!Q372","v":0},null,null,null,null,null,null,{"$f":"データ一覧!Q397","v":0},null,null,null,null,null,null,"  ","建設業",null,null,null,null,131,null,null,null,{"$f":"データ一覧!Q521","v":116},null,null,null,{"$f":"データ一覧!Q546","v":15},null,null,null,null,"医療，福祉",null,null,null,null,182,null,null,null,{"$f":"データ一覧!Q534","v":28},null,null,null,{"$f":"データ一覧!Q559","v":154}]
[null,null,null,null,null,"    世 帯",null,null,"       人",null,null,"       人",null,null,"       人",null,null,null,"　　％",null,"    人",null,"    人/㎢",null,null,null,null,null,null,null,null,null,null,null,null,null,null,null,null,null,"     化学","石油・石炭",null,null,null,null,null,null,null,null,{"$f":"データ一覧!Q348","v":0},null,null,null,{"$f":"+データ一覧!Q373","v":0},null,null,null,null,null,null,{"$f":"データ一覧!Q398","v":0},null,null,null,null,null,null,null,"製造業",null,null,null,null,303,null,null,null,{"$f":"データ一覧!Q522","v":165},null,null,null,{"$f":"データ一覧!Q547","v":138},null,null,null,null,"複合サービス事業",null,null,null,null,27,null,null,null,{"$f":"データ一覧!Q535","v":14},null,null,null,{"$f":"データ一覧!Q560","v":13}]
[{"$f":"データ一覧!$A$25","v":" 2.10.1"},null,null,null,null,{"$f":"データ一覧!Q25","v":1130},null,null,{"$f":"+L30+O30","v":4203},null,null,{"$f":"データ一覧!Q27","v":2051},null,null,{"$f":"データ一覧!Q28","v":2152},null,null,null,{"$f":"+L30/O30*100","v":95.306691449814124},null,{"$f":"データ一覧!Q30","v":3.72},null,{"$f":"データ一覧!Q31","v":21.6},null,null,"  ５  林               業",null,null,null,null,null,null,null,null,null,null,null,null,null,null,"     石油・石炭","プラスチック",null,null,null,null,null,null,null,null,{"$f":"データ一覧!Q349","v":0},null,null,null,{"$f":"+データ一覧!Q374","v":0},null,null,null,null,null,null,{"$f":"データ一覧!Q399","v":0},null,null,null,null,null,null," 第３次産業",null,null,null,null,null,681,null,null,null,{"$f":"データ一覧!Q523","v":310},null,null,null,{"$f":"データ一覧!Q548","v":371},null,null,null,null,"サービス業",null,null,null,null,46,null,null,null,{"$f":"データ一覧!Q536","v":34},null,null,null,{"$f":"データ一覧!Q561","v":12}]
[{"$f":"データ一覧!$A$32","v":" 7.10.1"},null,null,null,null,{"$f":"データ一覧!Q32","v":1115},null,null,{"$f":"+L31+O31","v":4032},null,null,{"$f":"データ一覧!Q34","v":1957},null,null,{"$f":"データ一覧!Q35","v":2075},null,null,null,94.313253012048193,null,{"$f":"データ一覧!Q37","v":3.62},null,{"$f":"データ一覧!Q38","v":20.7},null,null,null,null,null,null,null,null,null,null,null,null,null,null,null,null,null,"     プラスチック","ゴム",null,null,null,null,null,null,null,null,{"$f":"データ一覧!Q350","v":0},null,null,null,{"$f":"+データ一覧!Q375","v":0},null,null,null,null,null,null,{"$f":"データ一覧!Q400","v":0},null,null,null,null,null,null,null,"電気･ｶﾞｽ･水道業",null,null,null,null,3,null,null,null,{"$f":"データ一覧!Q524","v":2},null,null,null,{"$f":"データ一覧!Q549","v":1},null,null,null,null,"公務",null,null,null,null,53,null,null,null,{"$f":"データ一覧!Q537","v":41},null,null,null,{"$f":"データ一覧!Q562","v":12}]
[{"$f":"データ一覧!$A$39","v":"12.10.1"},null,null,null,null,{"$f":"データ一覧!Q39","v":1095},null,null,{"$f":"+L32+O32","v":3759},null,null,{"$f":"データ一覧!Q41","v":1825},null,null,{"$f":"データ一覧!Q42","v":1934},null,null,null,94.364012409513961,null,{"$f":"データ一覧!Q44","v":3.43},null,{"$f":"データ一覧!Q45","v":19.3},null,null,"    　森　　　林　　　総　　　面　　　積   ",null,null,null,null,null,null,null,{"$f":"データ一覧!$A$272","v":"2.3.31"},null,null,null,null,null,null,"     ゴム","皮革",null,null,null,null,null,null,null,null,{"$f":"データ一覧!Q351","v":0},null,null,null,{"$f":"+データ一覧!Q376","v":0},null,null,null,null,null,null,{"$f":"データ一覧!Q401","v":0},null,null,null,null,null,null,null,"情報通信業",null,null,null,null,8,null,null,null,{"$f":"データ一覧!Q525","v":5},null,null,null,{"$f":"データ一覧!Q550","v":3},null,null,null," 分類不能の産業",null,null,null,null,null,8,null,null,null,{"$f":"データ一覧!Q538","v":5},null,null,null,{"$f":"データ一覧!Q563","v":3}]
[{"$f":"+データ一覧!$A$46","v":"17.10.1"},null,null,null,null,{"$f":"データ一覧!Q46","v":1060},null,null,{"$f":"+L33+O33","v":3405},null,null,{"$f":"データ一覧!Q48","v":1643},null,null,{"$f":"データ一覧!Q49","v":1762},null,null,null,93.246311010215663,null,{"$f":"データ一覧!Q51","v":3.21},null,{"$f":"データ一覧!Q52","v":17.5},null,null,"　　　森　　　　　　　林　　　　　　　の　　　　　　　構　　　　　　　成",null,null,null,null,null,null,null,null,null,null,null,null,null,null,"     皮革","窯業・土石",null,null,null,null,null,null,null,null,{"$f":"データ一覧!Q352","v":0},null,null,null,{"$f":"+データ一覧!Q377","v":0},null,null,null,null,null,null,{"$f":"データ一覧!Q402","v":0},null,null,null,null,null,null,"  ","運輸業,郵便業",null,null,null,null,{"$f":"CA33+CE33","v":41},null,null,null,{"$f":"データ一覧!Q526","v":36},null,null,null,{"$f":"データ一覧!Q551","v":5}]
[{"$f":"+データ一覧!$A$53","v":"22.10.1"},null,null,null,null,{"$f":"+データ一覧!Q53","v":1006},null,null,{"$f":"+L34+O34","v":3046},null,null,{"$f":"+データ一覧!Q55","v":1449},null,null,{"$f":"+データ一覧!Q56","v":1597},null,null,null,90.732623669380089,null,{"$f":"+データ一覧!Q58","v":3.03},null,{"$f":"+データ一覧!Q59","v":15.6},null,null,null,null,null,null,null,"       ha",null,null,null,null,null,null,"       ha",null,null,"     窯業・土石","鉄鋼",null,null,null,null,null,null,null,null,{"$f":"データ一覧!Q353","v":0},null,null,null,{"$f":"+データ一覧!Q378","v":0},null,null,null,null,null,null,{"$f":"データ一覧!Q403","v":0},null,null,null,null,null,null," １６  社　 会 　福　 祉",null,null,null,null,null,null,null,null,null,null,null,null,null,null,null,{"$f":"データ一覧!$A$564","v":"2.4.1"}]
[{"$f":"データ一覧!$A$60","v":"27.10.1"},null,null,null,null,{"$f":"データ一覧!Q60","v":902},null,null,{"$f":"データ一覧!Q61","v":2638},null,null,{"$f":"データ一覧!Q62","v":1250},null,null,{"$f":"データ一覧!Q63","v":1388},null,null,null,90.057636887608069,null,{"$f":"データ一覧!Q65","v":2.9246119733924614},null,{"$f":"データ一覧!Q66","v":13.6},null,null,"  総　　　　　   数",null,null,null,{"$f":"データ一覧!Q272","v":17852.899999999998},null,null," 天然林       針葉樹",null,null,null,{"$f":"データ一覧!Q275","v":30.63},null,null,null,"     鉄鋼","非鉄金属",null,null,null,null,null,null,null,null,{"$f":"データ一覧!Q354","v":0},null,null,null,{"$f":"+データ一覧!Q379","v":0},null,null,null,null,null,null,{"$f":"データ一覧!Q404","v":0}]
[{"$f":"+データ一覧!$A$67","v":"2.10.1"},null,null,null,null,{"$f":"データ一覧!Q67","v":843},null,null,{"$f":"データ一覧!Q76","v":2302},null,null,{"$f":"データ一覧!Q77","v":1094},null,null,{"$f":"データ一覧!Q78","v":1208},null,null,null,{"$f":"+L36/O36*100","v":90.562913907284766},null,{"$f":"データ一覧!Q68","v":2.73},null,{"$f":"データ一覧!Q69","v":11.826354996146931},null,null,"  人工林     針葉樹",null,null,null,{"$f":"データ一覧!Q273","v":7962.72},null,null," 天然林       広葉樹",null,null,null,{"$f":"データ一覧!Q276","v":9257.48},null,null,null,"     非鉄金属","金属",null,null,null,null,null,null,null,null,{"$f":"データ一覧!Q355","v":0},null,null,null,{"$f":"+データ一覧!Q380","v":0},null,null,null,null,null,null,{"$f":"データ一覧!Q405","v":0},null,null,null,null,null,null,"    ","区分",null,null,null,null,null,null,"施設数",null,null,null,null,"収容定員",null,null,null,null,null,"区分",null,null,null,null,null,null,"施設数",null,null,null,null,"収容定員"]
["年",null,"  区",null," 0歳",null,null,"15歳",null,null,"25歳",null,null,"35歳",null,null,"45歳",null,null,"55歳",null,null,"65歳",null,null,"  人工林     広葉樹",null,null,null,{"$f":"データ一覧!Q274","v":176.83999999999997},null,null," 竹               林",null,null,null,{"$f":"データ一覧!Q277","v":1.62},null,null,null,"     金属","はん用機械",null,null,null,null,null,null,null,null,{"$f":"データ一覧!Q356","v":0},null,null,null,{"$f":"+データ一覧!Q381","v":0},null,null,null,null,null,null,{"$f":"データ一覧!Q406","v":0},null,null,null,null,null,null,"生活保護施設",null,null,null,null,null,null,null,{"$f":"データ一覧!Q564","v":0},null,null,null,{"$f":"データ一覧!Q577","v":0},null,null,null,"人",null,"指定障害者支援施設",null,null,null,null,null,null,null,{"$f":"データ一覧!Q570","v":0},null,null,null,{"$f":"データ一覧!Q583","v":0},null,null,null,"人"]
["齢","令",null,null,null,"～",null,null,"～",null,null,"～",null,null,"～",null,null,"～",null,null,"～",null,null,null,null,null,null,null,null,null,null,null,null,null,null,null,null,null,null,null,"     一般機械","生産用機械",null,null,null,null,null,null,null,null,{"$f":"データ一覧!Q357","v":0},null,null,null,{"$f":"+データ一覧!Q382","v":0},null,null,null,null,null,null,{"$f":"データ一覧!Q407","v":0},null,null,null,null,null,null,"地域福祉施設",null,null,null,null,null,null,null,{"$f":"データ一覧!Q565","v":0},null,null,null,{"$f":"データ一覧!Q578","v":0},null,null,null,null,null,"指定相談支援事業所",null,null,null,null,null,null,null,{"$f":"データ一覧!Q571","v":0},null,null,null,{"$f":"データ一覧!Q584","v":0}]
["階","元","  分",null,null,null,"14歳",null,null,"24歳",null,null,"34歳",null,null,"44歳",null,null,"54歳",null,null,"64歳",null,null,"以上","    林     野     の     構     成",null,null,null,null,null,null,"保     有     形     態     別",null,null,null,null,null,null,null,"     電気機械","業務用機械",null,null,null,null,null,null,null,null,{"$f":"データ一覧!Q358","v":0},null,null,null,{"$f":"+データ一覧!Q383","v":0},null,null,null,null,null,null,{"$f":"データ一覧!Q408","v":0},null,null,null,null,null,null,"老人福祉施設",null,null,null,null,null,null,null,{"$f":"データ一覧!Q566","v":3},null,null,null,{"$f":"データ一覧!Q579","v":22},null,null,null,null,null,"児童福祉施設",null,null,null,null,null,null,null,{"$f":"データ一覧!Q572","v":2},null,null,null,{"$f":"データ一覧!Q585","v":80}]
["級","・",null,null,null,null,"人",null,null,"人",null,"    人",null,null,"    人",null,null,"    人",null,null,"    人",null,null,"    人",null,null,null,null,null,null,null,"ha",null,null,null,null,null,"       ha",null,null,null,"電子・デバイス",null,null,null,null,null,null,null,null,{"$f":"データ一覧!Q359","v":1},null,null,null,{"$f":"+データ一覧!Q384","v":6},null,null,null,null,null,null,{"$f":"データ一覧!Q409","v":"x"},null,null,null,null,null,null,"介護保険施設",null,null,null,null,null,null,null,{"$f":"データ一覧!Q567","v":6},null,null,null,{"$f":"データ一覧!Q580","v":104},null,null,null,null,null,"母子福祉施設",null,null,null,null,null,null,null,{"$f":"データ一覧!Q573","v":0},null,null,null,{"$f":"データ一覧!Q586","v":0}]
["別","10","総 数",null,{"$f":"+E42+E43","v":189},null,null,{"$f":"+H42+H43","v":157},null,null,{"$f":"+K42+K43","v":163},null,null,{"$f":"+N42+N43","v":176},null,null,{"$f":"+Q42+Q43","v":210},null,null,{"$f":"+T42+T43","v":367},null,null,{"$f":"+W42+W43","v":1040},null,null," 無立木地   伐採跡地",null,null,null,{"$f":"データ一覧!Q278","v":8.3699999999999992},null,null,"国   　　　 　 有",null,null,null,{"$f":"データ一覧!Q280","v":2270.5300000000002},null,null,null,null,"電気機械",null,null,null,null,null,null,null,null,{"$f":"データ一覧!Q360","v":2},null,null,null,{"$f":"+データ一覧!Q385","v":96},null,null,null,null,null,null,{"$f":"データ一覧!Q410","v":"x"},null,null,null,null,null,null,"障害者自立支援法施行前からの身体障害者福祉施設",null,null,null,null,null,null,null,{"$f":"データ一覧!Q568","v":0},null,null,null,{"$f":"データ一覧!Q581","v":0},null,null,null,null,null,"婦人保護施設",null,null,null,null,null,null,null,{"$f":"データ一覧!Q574","v":0},null,null,null,{"$f":"データ一覧!Q587","v":0}]
["人","・","  男",null,{"$f":"データ一覧!Q79","v":96},null,null,{"$f":"データ一覧!Q80","v":72},null,null,{"$f":"データ一覧!Q81","v":90},null,null,{"$f":"データ一覧!Q82","v":86},null,null,{"$f":"データ一覧!Q83","v":121},null,null,{"$f":"データ一覧!Q84","v":175},null,null,{"$f":"データ一覧!Q85","v":454},null,null," 無立木地   未立木地",null,null,null,{"$f":"データ一覧!Q279","v":415.24},null,null,"公       　　  有",null,null,null,{"$f":"データ一覧!Q281","v":2198.1300000000006},null,null,null,"     輸送機械","情報通信機械",null,null,null,null,null,null,null,null,{"$f":"データ一覧!Q361","v":0},null,null,null,{"$f":"+データ一覧!Q386","v":0},null,null,null,null,null,null,{"$f":"データ一覧!Q411","v":0},null,null,null,null,null,null,null,null,null,null,null,null,null,null,null,null,null,null,null,null,null,null,null,null,"その他の社会福祉施設",null,null,null,null,null,null,null,{"$f":"データ一覧!Q575+データ一覧!Q576","v":0},null,null,null,{"$f":"データ一覧!Q588+データ一覧!Q589","v":0}]
["口","1","  女",null,{"$f":"データ一覧!Q87","v":93},null,null,{"$f":"データ一覧!Q88","v":85},null,null,{"$f":"データ一覧!Q89","v":73},null,null,{"$f":"データ一覧!Q90","v":90},null,null,{"$f":"データ一覧!Q91","v":89},null,null,{"$f":"データ一覧!Q92","v":192},null,null,{"$f":"データ一覧!Q93","v":586},null,null,null,null,null,null,null,null,null,"私          　 有",null,null,null,{"$f":"データ一覧!Q282","v":13384.24},null,null,null,"     精密機械","輸送機械",null,null,null,null,null,null,null,null,{"$f":"データ一覧!Q362","v":0},null,null,null,{"$f":"+データ一覧!Q387","v":0},null,null,null,null,null,null,{"$f":"データ一覧!Q412","v":0},null,null,null,null,null,null,"障害福祉サービス事業所",null,null,null,null,null,null,null,{"$f":"データ一覧!Q569","v":3},null,null,null,{"$f":"データ一覧!Q582","v":20}]
[null,null,null,null,null,null,null,null,null,null,null,null,null,null,null,null,null,null,null,null,null,null,null,null,null,"            林     産     物     生     産     量 ",null,null,null,null,null,null,null,null,null,{"$f":"データ一覧!$A$283","v":"元年中"},null,null,null,null,"     その他","その他",null,null,null,null,null,null,null,null,{"$f":"データ一覧!Q363","v":2},null,null,null,{"$f":"+データ一覧!Q388","v":18},null,null,null,null,null,null,{"$f":"データ一覧!Q413","v":"x"},null,null,null,null,null,null," １７  教　　　　　　　育",null,null,null,null,null,null,null,null,null,null,null,null,null,null,null,{"$f":"データ一覧!$A$590","v":"2.5.1"}]
["人口動態",null,null,null,null,null,null,"   自　然　動　態",null,null,null,null,null,"   社  会  動  態",null,null,null,null,null,{"$f":"データ一覧!$A74","v":"31.1.1～元.12.31"},null,null,null,null,null,"生椎茸",null,null,null,{"$f":"データ一覧!Q283","v":"-"},null,"㎏","乾椎茸",null,null,null,{"$f":"データ一覧!Q284","v":"-"},null,"㎏"]
[null,null,"   区       分",null,null,null,null," 出   生",null,null," 死   亡",null,null," 転   入",null,null," 転   出",null,null," 婚   姻",null,null," 離   婚",null,null,"えのきだけ",null,null,null,{"$f":"データ一覧!Q286","v":265},null,"㎏","なめこ",null,null,null,{"$f":"データ一覧!Q285","v":"-"},null,"㎏",null,"    ","工　業　用　水　量",null,null,null,null,null,"（従業者30人以上の事業所）",null,null,null,null,null,null,null,null,null,null,{"$f":"データ一覧!Q414","v":"x"},null,null,null,null,"㎥／日",null,null,null,null,null,null,null,null,null,null,null,null,null,null,"学校数（校）",null,null,null,null,null,null,"教員数（人）",null,null,null,null,null,null,null,"学生・生徒・児童数（人）"]
[{"$f":"LEFT(データ一覧!$A70,7)","v":"元.10.1～"},null,null,null,null,null,null,"       人",null,null,"       人",null,null,"       人",null,null,"       人",null,null,null,"    件",null,null,"    件",null,"ひらたけ",null,null,null,{"$f":"+データ一覧!Q287","v":"-"},null,"㎏","まいたけ",null,null,null,{"$f":"+データ一覧!Q288","v":"-"},null,"㎏",null,null,null,null,null,null,null,null,null,null,null,null,null,null,null,null,null,null,null,null,null,null,null,null,null,null,null,null,null,null,"　","区分",null,null,null,null,null,null,null," 本 校",null,null," 分 校",null,null," 本   務",null,null,null," 兼   務",null,null,null," 総   数",null,null,null,"男",null,null,null,"女"]
["～",null," 実          数",null,null,null,null,{"$f":"データ一覧!Q70","v":16},null,null,{"$f":"データ一覧!Q71","v":54},null,null,{"$f":"データ一覧!Q72","v":55},null,null,{"$f":"データ一覧!Q73","v":80},null,null,{"$f":"データ一覧!Q74","v":14},null,null,{"$f":"データ一覧!Q75","v":1},null,null,null,null,null,null,null,null,null,null,null,null,null,null,null,null,null," １１ 　上　・　下　水　道",null,null,null,null,null,null,null,null,null,null,null,null,null,null,null,null,null,null,null,null,null,null,null,null,null,null,null,null,"小学校",null,null,null,null,null,null,null,null,{"$f":"データ一覧!Q591","v":1},null,null,{"$f":"データ一覧!Q592","v":0},null,null,{"$f":"データ一覧!Q593","v":12},null,null,null,{"$f":"データ一覧!Q594","v":2},null,null,null,{"$f":"データ一覧!Q595","v":69},null,null,null,{"$f":"データ一覧!Q596","v":34},null,null,null,{"$f":"データ一覧!Q597","v":35}]
[{"$f":"RIGHT(データ一覧!$A72,7)","v":"～2.9.30"},null,"比率(対1,000人)",null,null,null,null,{"$f":"+H48/I35*1000","v":6.0652009097801365},null,null,{"$f":"+K48/I35*1000","v":20.470053070507959},null,null,"- ",null,null,"- ",null,null,{"$f":"+T48/I35*1000","v":5.3070507960576201},null,null,{"$f":"+W48/I35*1000","v":0.37907505686125853},null,null,"  ６  漁               業",null,null,null,null,null,null,null,null,null,null,null,null,null,null,null,null,null,null,null,null,null,null,null,null,null,null,null,null,null,null,null,null,null,null,null,null,null,null,null,null,null,null,"  ","中学校",null,null,null,null,null,null,null,null,{"$f":"データ一覧!Q599","v":1},null,null,{"$f":"データ一覧!Q600","v":0},null,null,{"$f":"データ一覧!Q601","v":13},null,null,null,{"$f":"データ一覧!Q602","v":1},null,null,null,{"$f":"データ一覧!Q603","v":47},null,null,null,{"$f":"データ一覧!Q604","v":28},null,null,null,{"$f":"データ一覧!Q605","v":19}]
[null,null,null,null,null,null,null,null,null,null,null,null,null,null,null,null,null,null,null,null,null,null,null,null,null,null,null,null,null,null,null,null,null,null,null,null,null,null,null,null,"水 道 供 給 人 口",null,null,null,null,null,null,"上 水 道",null,null,null,"簡易水道",null,null,null,"専用水道",null,null,null,"飲料水供給施設",null,null,null,"下水道処理人口",null,null,null,null,"  ","高等学校",null,null,null,null,null,null,null,null,{"$f":"データ一覧!Q607","v":0},null,null,{"$f":"データ一覧!Q608","v":0},null,null,{"$f":"データ一覧!Q609","v":0},null,null,null,{"$f":"データ一覧!Q610","v":0},null,null,null,{"$f":"データ一覧!Q611","v":0},null,null,null,{"$f":"データ一覧!Q612","v":0},null,null,null,{"$f":"データ一覧!Q613","v":0}]
["  ３  事　　業　　所（民　　営）    （平 28.6.1）",null,null,null,null,null,null,null,null,null,null,null,null,null,null,null,null,null,null,null,null,null,null,null,null,"漁船隻数・トン数",null,null,null,{"$f":"データ一覧!$A$289","v":"元.12.31"},null,null,null,"動　力　船",null,null,null,null,null,null,{"$f":"データ一覧!$A$415","v":"2.3.31"},null,null,null,null,null,"人",null,{"$f":"データ一覧!Q415","v":0},null,null,{"$f":"データ一覧!Q416","v":2313},null,null,null,null,{"$f":"データ一覧!Q417","v":0},null,null,null,{"$f":"データ一覧!Q418","v":0},null,null,null,{"$f":"データ一覧!Q419","v":2143},null,null,null,"  ","大学・短期大学",null,null,null,null,null,null,null,null,{"$f":"データ一覧!Q614","v":0},null,null,{"$f":"データ一覧!Q615","v":0},null,null,{"$f":"データ一覧!Q616","v":0},null,null,null,{"$f":"データ一覧!Q617","v":0},null,null,null,{"$f":"データ一覧!Q618","v":0},null,null,null,{"$f":"データ一覧!Q619","v":0},null,null,null,{"$f":"データ一覧!Q620","v":0}]
[null,null,null,null,null,null,null,null,null,null,null,null,null,null,null,null,null,null,null,null,null,null,null,null,null,"無動力船隻数",null,null,null,"船外機付漁船隻数",null,null,null,"隻　数",null,null,"総 ト ン 数",null,null,null,null,null,null,null,null,null,null,null,null,null,null,null,null,null,null,null,null,null,null,null,null,null,null,null,null,null,null,null,"  ","高等専門学校",null,null,null,null,null,null,null,null,{"$f":"データ一覧!Q621","v":0},null,null,{"$f":"データ一覧!Q622","v":0},null,null,{"$f":"データ一覧!Q623","v":0},null,null,null,{"$f":"データ一覧!Q624","v":0},null,null,null,{"$f":"データ一覧!Q625","v":0},null,null,null,{"$f":"データ一覧!Q626","v":0},null,null,null,{"$f":"データ一覧!Q627","v":0}]
[null,null,null,null,null,null,null,"    総　　　　　数",null,null,null,null,null,"    民　　　　　営",null,null,null,null,null,"  国 ･ 地方公共団体",null,null,null,null,null,null,null,null,"隻",null,null,null,"隻",null,null,"隻",null,null,"t",null," １２  交   通　・　通   信",null,null,null,null,null,null,null,null,null,null,null,null,null,null,null,null,null,null,null,null,null,null,null,null,null,null,null,"  ","特別支援学校",null,null,null,null,null,null,null,null,{"$f":"+データ一覧!Q629","v":0},null,null,{"$f":"+データ一覧!Q630","v":0},null,null,{"$f":"+データ一覧!Q631","v":0},null,null,null,{"$f":"+データ一覧!Q632","v":0},null,null,null,{"$f":"+データ一覧!Q633","v":0},null,null,null,{"$f":"+データ一覧!Q634","v":0},null,null,null,{"$f":"+データ一覧!Q635","v":0}]
["  　区　　　　　　分",null,null,null,null,null,null," 事業所数",null,null," 従業者数",null,null," 事業所数",null,null," 従業者数",null,null," 事業所数",null,null," 従業者数",null,null,{"$f":"データ一覧!$Q$289","v":0},null,null,null,{"$f":"データ一覧!$Q$290","v":0},null,null,null,{"$f":"データ一覧!Q291","v":0},null,null,{"$f":"データ一覧!Q292","v":0},null,null,null,null,null,null,null,null,null,null,null,null,null,null,null,null,null,null,null,null,null,null,null,null,null,null,null,null,null,null,null,"  ","幼稚園",null,null,null,null,null,null,null,null,{"$f":"データ一覧!Q637","v":0},null,null,{"$f":"データ一覧!Q638","v":0},null,null,{"$f":"データ一覧!Q639","v":0},null,null,null,{"$f":"データ一覧!Q640","v":0},null,null,null,{"$f":"データ一覧!Q641","v":0},null,null,null,{"$f":"データ一覧!Q642","v":0},null,null,null,{"$f":"データ一覧!Q643","v":0}]
[null,null,null,null,null,null,null,null,null,null,"       人",null,null,null,null,null,"       人",null,null,null,null,null,"       人",null,null,"  男女別就業者数",null,null,null,null,null,null,null,{"$f":"データ一覧!$A$293","v":"30.11.1"},null,null,null,null,null,null,"道     路",null,null,null,"実 延 長",null,null,null,"国     道",null,null,null,"県     道",null,null,null,"市町道",null,null,null," 鉄 道 営 業 キ ロ 数",null,null,null,null,null,null,null,"  ","幼保連携認定こども園",null,null,null,null,null,null,null,null,{"$f":"データ一覧!Q645","v":1},null,null,{"$f":"データ一覧!Q646","v":0},null,null,{"$f":"データ一覧!Q647","v":12},null,null,null,{"$f":"データ一覧!Q648","v":2},null,null,null,{"$f":"データ一覧!Q649","v":61},null,null,null,{"$f":"データ一覧!Q650","v":32},null,null,null,{"$f":"データ一覧!Q651","v":29}]
["総数",null,null,null,null,null,null,{"$f":"データ一覧!Q95","v":"…"},null,null,{"$f":"データ一覧!Q152","v":"…"},null,null,{"$f":"データ一覧!Q96","v":143},null,null,{"$f":"データ一覧!Q153","v":856},null,null,{"$f":"データ一覧!Q97","v":"…"},null,null,{"$f":"データ一覧!Q154","v":"…"},null,null,"総　　数",null,null,null,null,null,"男",null,null,null,"女",null,null,null,null,{"$f":"データ一覧!$A$420","v":"31.4.1"},null,null,null,{"$f":"データ一覧!Q420","v":164.70799999999997},null,null,"㎞",{"$f":"データ一覧!Q421","v":37.6},null,null,"㎞",{"$f":"データ一覧!Q422","v":39},null,null,"㎞",{"$f":"データ一覧!Q423","v":88.10799999999999},null,null,"km",{"$f":"データ一覧!$A$424","v":"2.4.1"},null,null,null,{"$f":"データ一覧!Q424","v":0},null,null,"㎞","  ","各種学校",null,null,null,null,null,null,null,null,{"$f":"データ一覧!Q653","v":0},null,null,{"$f":"データ一覧!Q654","v":0},null,null,{"$f":"データ一覧!Q655","v":0},null,null,null,{"$f":"データ一覧!Q656","v":0},null,null,null,{"$f":"データ一覧!Q657","v":0},null,null,null,{"$f":"データ一覧!Q658","v":0},null,null,null,{"$f":"データ一覧!Q659","v":0}]
["農林漁業",null,null,null,null,null,null,{"$f":"データ一覧!Q98","v":"…"},null,null,{"$f":"データ一覧!Q155","v":"…"},null,null,{"$f":"データ一覧!Q99","v":10},null,null,{"$f":"データ一覧!Q156","v":96},null,null,{"$f":"データ一覧!Q100","v":"…"},null,null,{"$f":"データ一覧!Q157","v":"…"},null,null,null,null,null,null,null,"人",null,null,"　　　　人",null,null,null,null,"  人",null,"自動車",null,null,null,null,null,null,null,null,"乗用車",null,null,null,null,null,null,null,null,null,null,null,null,null,null,null,null,null,null,"  ","専修学校",null,null,null,null,null,null,null,null,{"$f":"データ一覧!Q661","v":0},null,null,{"$f":"データ一覧!Q662","v":0},null,null,{"$f":"データ一覧!Q663","v":0},null,null,null,{"$f":"データ一覧!Q664","v":0},null,null,null,{"$f":"データ一覧!Q665","v":0},null,null,null,{"$f":"データ一覧!Q666","v":0},null,null,null,{"$f":"データ一覧!Q667","v":0}]
["鉱業",null,null,null,null,null,null,{"$f":"データ一覧!Q101","v":"…"},null,null,{"$f":"データ一覧!Q158","v":"…"},null,null,{"$f":"データ一覧!Q102","v":0},null,null,{"$f":"データ一覧!Q159","v":0},null,null,{"$f":"データ一覧!Q103","v":"…"},null,null,{"$f":"データ一覧!Q160","v":"…"},null,null,{"$f":"SUM(AF58,AJ58)","v":0},null,null,null,null,null,{"$f":"データ一覧!$Q$294","v":0},null,null,null,{"$f":"データ一覧!Q295","v":0},null,null,null,null,"台  数",null,null,null,"貨    物",null,null,null,"普     通",null,null,null,"小     型",null,null,null,"乗  合",null,null,"特  種",null,null,"小型二輪",null,null,"軽自動車",null,null," １８  衛　　　　　　　生"]
["建設業",null,null,null,null,null,null,{"$f":"データ一覧!Q104","v":"…"},null,null,{"$f":"データ一覧!Q161","v":"…"},null,null,{"$f":"データ一覧!Q105","v":24},null,null,{"$f":"データ一覧!Q162","v":128},null,null,{"$f":"データ一覧!Q106","v":"…"},null,null,{"$f":"データ一覧!Q163","v":"…"},null,null,"　　　　海 面 漁 業 漁 獲 量 （属人）",null,null,null,null,null,null,null,{"$f":"データ一覧!$A$296","v":"30年中"},null,null,null,null,null,null,{"$f":"データ一覧!$A$425","v":"2.3.31"},null,null,null,null,{"$f":"データ一覧!Q425","v":156},null,null,null,{"$f":"データ一覧!Q427","v":452},null,null,null,{"$f":"データ一覧!Q428","v":500},null,null,{"$f":"データ一覧!Q426","v":6},null,null,{"$f":"データ一覧!Q429","v":92},null,null,{"$f":"データ一覧!Q430","v":21},null,null,{"$f":"データ一覧!Q431","v":1320}]
["製造業",null,null,null,null,null,null,{"$f":"データ一覧!Q107","v":"…"},null,null,{"$f":"データ一覧!Q164","v":"…"},null,null,{"$f":"データ一覧!Q108","v":27},null,null,{"$f":"データ一覧!Q165","v":210},null,null,{"$f":"データ一覧!Q109","v":"…"},null,null,{"$f":"データ一覧!Q166","v":"…"},null,null,null,null,null,null,null,"       ","ｔ",null,null,null,null,null,null,"t",null,null,null,"     ",null,"郵　便　局　数",null,null,null,null,null,null,null,null,null,null,null,null,null,null,null,"一般加入",null,null,null,"ＩＮＳネット",null,null,null,null,null,null,null,"医療関係施設",null,null,null,null,null,{"$f":"データ一覧!$A$668","v":"元.10.1"},null,null,null,null,null,null,"および医療関係者数",null,null,null,null,null,null,null,{"$f":"データ一覧!$A$673","v":"30.12.31"}]
["電気・ｶﾞ ｽ・熱供給・水道業",null,null,null,null,null,null,{"$f":"データ一覧!Q110","v":"…"},null,null,{"$f":"データ一覧!Q167","v":"…"},null,null,{"$f":"データ一覧!Q111","v":0},null,null,{"$f":"データ一覧!Q168","v":0},null,null,{"$f":"データ一覧!Q112","v":"…"},null,null,{"$f":"データ一覧!Q169","v":"…"},null,null,"   総　　　　　　数",null,null,null,{"$f":"データ一覧!Q296","v":0},null,null,"   藻　　　　　　類",null,null,null,{"$f":"データ一覧!Q299","v":0},null,null,null,"通  信",null,null,null," 総     数",null,null,null,null,null," 郵 便 局",null,null,null,null," 簡 易 局",null,null,null,null,"電話数",null,null,null,"加入数",null,null,null,null,null,null,null,null,null,"　","病",null,null,"院",null,"　",null,null,null,null," ","一般診療所",null,null,null,null,null,null,null,null,null,null,null,"歯科診療所"]
["情報通信業",null,null,null,null,null,null,{"$f":"データ一覧!Q113","v":"…"},null,null,{"$f":"データ一覧!Q170","v":"…"},null,null,{"$f":"データ一覧!Q114","v":1},null,null,{"$f":"データ一覧!Q171","v":1},null,null,{"$f":"データ一覧!Q115","v":"…"},null,null,{"$f":"データ一覧!Q172","v":"…"},null,null,"   魚　　　　　　類",null,null,null,{"$f":"データ一覧!Q297","v":0},null,null,"   そ　   の　　 他",null,null,null,{"$f":"データ一覧!Q300","v":0},null,null,null,{"$f":"データ一覧!$A$435","v":"2.3.31"},null,null,null,{"$f":"データ一覧!Q432","v":2},null,null,null,null,null,{"$f":"データ一覧!Q433","v":2},null,null,null,null,{"$f":"データ一覧!Q434","v":0},null,null,null,null,{"$f":"データ一覧!Q435","v":425},null,null,null,{"$f":"データ一覧!Q436","v":86},null,null,null," ","医療関係",null,null,null,null,null,null,null,null,null,null,null,"一般病院",null,null,null,null,null,null,null,null,null,null,null,"有",null,null,"床"]
["運輸業、郵便業",null,null,null,null,null,null,{"$f":"データ一覧!Q116","v":"…"},null,null,{"$f":"データ一覧!Q173","v":"…"},null,null,{"$f":"データ一覧!Q117","v":2},null,null,{"$f":"データ一覧!Q174","v":11},null,null,{"$f":"データ一覧!Q118","v":"…"},null,null,{"$f":"データ一覧!Q175","v":"…"},null,null,"   貝　　　　　　類",null,null,null,{"$f":"データ一覧!Q298","v":0},null,null,null,null,null,null,null,null,null,null,null,null,null,null,null,null,null,null,null,null,null,null,null,null,null,null,null,null,null,null,null,null,null,null,null,null,null,null,null,"施設数",null,null,null,null,null,null,{"$f":"データ一覧!Q668","v":0},null,null,null,null,null,{"$f":"データ一覧!Q669","v":0},null,null,null,null,null,{"$f":"データ一覧!Q670","v":3},null,null,null,null,null,{"$f":"データ一覧!Q671","v":0},null,null,null,null,null,{"$f":"データ一覧!Q672","v":1}]
["卸売業、小売業",null,null,null,null,null,null,{"$f":"データ一覧!Q119","v":"…"},null,null,{"$f":"データ一覧!Q176","v":"…"},null,null,{"$f":"データ一覧!Q120","v":28},null,null,{"$f":"データ一覧!Q177","v":116},null,null,{"$f":"データ一覧!Q121","v":"…"},null,null,{"$f":"データ一覧!Q178","v":"…"},null,null,null,null,null,null,null,null,null,null,null,null,null,null,null,null,null," １３  税　　・　　財　　政",null,null,null,null,null,null,null,null,null,null,null,null,null,null,null,null,null,null,null,null,null,null,null,null,null,null,null,null,null,null,null,null,null,null,"医師",null,null,null,null,"歯科医師",null,null,null,null,"薬剤師",null,null,null,null,"保健師",null,null,null,null,"助産師",null,null," ",null,"看護師",null,null," "]
["金融業、保険業",null,null,null,null,null,null,{"$f":"データ一覧!Q122","v":"…"},null,null,{"$f":"データ一覧!Q179","v":"…"},null,null,{"$f":"データ一覧!Q123","v":1},null,null,{"$f":"データ一覧!Q180","v":4},null,null,{"$f":"データ一覧!Q124","v":"…"},null,null,{"$f":"データ一覧!Q181","v":"…"},null,null,"  ７  商        　　　業 ",null,null,null,null,null,null,{"$f":"データ一覧!$A$301","v":"28.6.1(平成27年実績）"},null,null,null,null,null,null,null,null,null,null,null,null,null,null,null,null,null,null,null,null,null,null,null,null,null,null,null,null,null,null,null,null,null,null,null," ","医療",null,null,null,null,null,null,null,null,"人",null,null,null,null,"人",null,null,null,null,"人",null,null,null,null,"人",null,null,null,null,"人",null,null,null,null,"人"]
["不動産業、物品賃貸業",null,null,null,null,null,null,{"$f":"データ一覧!Q125","v":"…"},null,null,{"$f":"データ一覧!Q182","v":"…"},null,null,{"$f":"データ一覧!Q126","v":0},null,null,{"$f":"データ一覧!Q183","v":0},null,null,{"$f":"データ一覧!Q127","v":"…"},null,null,{"$f":"データ一覧!Q184","v":"…"},null,null,null,null,null,null,null,null,null,null,null,null,null,null,null,null,null,"           ",null,null,null,"歳入",null,null,null,null,null,null,null,null,"(千円）"," ",null,null,null,"歳出",null,null,null,null,null,null,null,null,"(千円）",null,"関係者",null,null,null,null,{"$f":"データ一覧!Q673","v":3},null,null,null,null,{"$f":"データ一覧!Q674","v":1},null,null,null,null,{"$f":"データ一覧!Q675","v":0},null,null,null,null,{"$f":"データ一覧!Q676","v":3},null,null,null,null,{"$f":"データ一覧!Q677","v":0},null,null,null,null,{"$f":"データ一覧!Q678","v":15}]
["学術研究、専門・技術ｻｰﾋﾞｽ業",null,null,null,null,null,null,{"$f":"データ一覧!Q128","v":"…"},null,null,{"$f":"データ一覧!Q185","v":"…"},null,null,{"$f":"データ一覧!Q129","v":4},null,null,{"$f":"データ一覧!Q186","v":4},null,null,{"$f":"データ一覧!Q130","v":"…"},null,null,{"$f":"データ一覧!Q187","v":"…"},null,null,"  産   業　 分　 類",null,null,null,"  商　 店 　数",null,null," 従　業　者　数",null,null,"年　間　販　売　額",null,null,null,null,"一人当たり歳入歳出予算決算額",null,null,null,null,null,null,null,null,null,null,null,null,null,null,null,null,null,null,null,null,null,null,null,null,null,null,null,"                   ",null,null,null,null,null,null,null,null,"死因別死亡数　　　    ",null,null,null,null,null,null,null,null,null,null,null,null,null,null,null,{"$f":"データ一覧!$A$679","v":"元年中"},null,null,null,null,null,null,null,null,"      単 位：人"]
["宿泊業、飲食サービス業",null,null,null,null,null,null,{"$f":"データ一覧!Q131","v":"…"},null,null,{"$f":"データ一覧!Q188","v":"…"},null,null,{"$f":"データ一覧!Q132","v":14},null,null,{"$f":"データ一覧!Q189","v":94},null,null,{"$f":"データ一覧!Q133","v":"…"},null,null,{"$f":"データ一覧!Q190","v":"…"},null,null,null,null,null,null,null,"        店",null,null,null,"　人",null,"         百万円",null,null,null,"区分",null,null,null,{"$f":"データ一覧!$A$445","v":"2年度"},null,null,null,null,{"$f":"データ一覧!$A$459","v":"元年度"},null,null,null,null,"区分",null,null,null,{"$f":"+AS68","v":"2年度"},null,null,null,null,{"$f":"データ一覧!$A$459","v":"元年度"},null,null,null,null," 死     因",null,null,null,null,null,null,null,null,null,null,null,"悪  性",null,null,"高血圧",null,null,null,null,null,"脳血管",null,null,null,null,null," ",null,null,"不慮の事故"]
["生活関連サービス業、娯楽業",null,null,null,null,null,null,{"$f":"データ一覧!Q134","v":"…"},null,null,{"$f":"データ一覧!Q191","v":"…"},null,null,{"$f":"データ一覧!Q135","v":10},null,null,{"$f":"データ一覧!Q192","v":14},null,null,{"$f":"データ一覧!Q136","v":"…"},null,null,{"$f":"データ一覧!Q193","v":"…"},null,null,"総　　　　　　計",null,null,null,{"$f":"データ一覧!Q301","v":24},null,null,{"$f":"データ一覧!Q310","v":72},null,null,{"$f":"データ一覧!Q319","v":705},null,null,null,null,null,null,null,null,{"$f":"データ一覧!Q441","v":1410556.038227628},null,null,null,null,{"$f":"データ一覧!Q442","v":1475340},null,null,null,null,null,null,null,null,{"$f":"データ一覧!Q443","v":1410556.038227628},null,null,null,null,{"$f":"データ一覧!Q444","v":1315313.7420718814},null,null,null,null,null,null,null,null,null,"全 死 因",null,null,null,"結 核",null,null,"新生物",null,null,"性疾患",null,null,"心疾患",null,null,"疾  患",null,null,"肺  炎",null,null,"老  衰",null,null,null,null," ","交通事故"]
["教育、学習支援業",null,null,null,null,null,null,{"$f":"データ一覧!Q137","v":"…"},null,null,{"$f":"データ一覧!Q194","v":"…"},null,null,{"$f":"データ一覧!Q138","v":1},null,null,{"$f":"データ一覧!Q195","v":1},null,null,{"$f":"データ一覧!Q139","v":"…"},null,null,{"$f":"データ一覧!Q196","v":"…"},null,null,"卸売業",null,null,null,{"$f":"データ一覧!Q302","v":3},null,null,{"$f":"データ一覧!Q311","v":5},null,null,{"$f":"データ一覧!Q320","v":63},null,null,null,null,"項目別歳入歳出予算決算額"]
["医療、福祉",null,null,null,null,null,null,{"$f":"データ一覧!Q140","v":"…"},null,null,{"$f":"データ一覧!Q197","v":"…"},null,null,{"$f":"データ一覧!Q141","v":5},null,null,{"$f":"データ一覧!Q198","v":117},null,null,{"$f":"データ一覧!Q142","v":"…"},null,null,{"$f":"データ一覧!Q199","v":"…"},null,null,"小売業",null,null,null,{"$f":"データ一覧!Q303","v":21},null,null,{"$f":"データ一覧!Q312","v":67},null,null,{"$f":"データ一覧!Q321","v":642},null,null,null,null,"区分",null,null,null,{"$f":"データ一覧!$A$445","v":"2年度"},null,null,null,null,{"$f":"データ一覧!$A$459","v":"元年度"},null,null,null,null,"区分",null,null,null,{"$f":"+AS71","v":"2年度"},null,null,null,null,{"$f":"データ一覧!$A$459","v":"元年度"},null,null,null,null,null,null,null,null,null,{"$f":"データ一覧!Q679","v":59},null,null,null,"   －",{"$f":"データ一覧!Q680","v":0},null,{"$f":"データ一覧!Q681","v":10},null,null,null,{"$f":"データ一覧!Q682","v":2},null,{"$f":"データ一覧!Q683","v":10},null,null,{"$f":"データ一覧!Q684","v":3},null,null,{"$f":"データ一覧!Q685","v":8},null,null,{"$f":"データ一覧!Q686","v":7},null,null,{"$f":"データ一覧!Q687","v":3},null,null,{"$f":"データ一覧!Q688","v":1}]
["複合サービス事業",null,null,null,null,null,null,{"$f":"データ一覧!Q143","v":"…"},null,null,{"$f":"データ一覧!Q200","v":"…"},null,null,{"$f":"データ一覧!Q144","v":4},null,null,{"$f":"データ一覧!Q201","v":40},null,null,{"$f":"データ一覧!Q145","v":"…"},null,null,{"$f":"データ一覧!Q202","v":"…"},null,null,"各種商品",null,null,null,{"$f":"データ一覧!Q304","v":0},null,null,{"$f":"データ一覧!Q313","v":0},null,null,{"$f":"データ一覧!Q322","v":0},null,null,null,null,"総額",null,null,null,{"$f":"SUM(AS73:AW85)","v":3247100},null,null,null,null,{"$f":"SUM(AX73:BB85)","v":3489178},null,null,null,null,"総額",null,null,null,{"$f":"SUM(BG73:BK85)","v":3247100},null,null,null,null,{"$f":"SUM(BL73:BP85)","v":3110717},null,null,null,null," １９  警　察　・　消　防  ",null,null,null,null,null,null,null,null,null,null,null,null,null,null,null,{"$f":"+データ一覧!$A689","v":"2.4.1"}]
["サービス業",null,null,null,null,null,null,{"$f":"データ一覧!Q146","v":"…"},null,null,{"$f":"データ一覧!Q203","v":"…"},null,null,{"$f":"データ一覧!Q147","v":12},null,null,{"$f":"データ一覧!Q204","v":20},null,null,{"$f":"データ一覧!Q148","v":"…"},null,null,{"$f":"データ一覧!Q205","v":"…"},null,null,"織物・衣服・身の回り品",null,null,null,{"$f":"データ一覧!Q305","v":2},null,null,{"$f":"データ一覧!Q314","v":5},null,null,{"$f":"データ一覧!Q323","v":"x"},null,null,null,null,"地方税",null,null,null,{"$f":"データ一覧!Q446","v":251243},null,null,null,null,{"$f":"データ一覧!Q460","v":254478},null,null,null,null,"議会費",null,null,null,{"$f":"データ一覧!Q474","v":52825},null,null,null,null,{"$f":"データ一覧!Q488","v":53927}]
["公務",null,null,null,null,null,null,{"$f":"データ一覧!Q149","v":"…"},null,null,{"$f":"データ一覧!Q206","v":"…"},null,null,{"$f":"データ一覧!Q150","v":"…"},null,null,{"$f":"データ一覧!Q207","v":"…"},null,null,{"$f":"データ一覧!Q151","v":"…"},null,null,{"$f":"データ一覧!Q208","v":"…"},null,null,"飲食料品",null,null,null,{"$f":"データ一覧!Q306","v":7},null,null,{"$f":"データ一覧!Q315","v":14},null,null,{"$f":"データ一覧!Q324","v":41},null,null,null,null,"地方譲与税",null,null,null,{"$f":"データ一覧!Q447","v":50483},null,null,null,null,{"$f":"データ一覧!Q461","v":35841},null,null,null,null,"総務費",null,null,null,{"$f":"データ一覧!Q475","v":890291},null,null,null,null,{"$f":"データ一覧!Q489","v":529105},null,null,null,null,null,null,null,null,null,null,null,null,null,null,"交番・駐在所",null,null,null,null,null,null,null,null,"刑法犯認知件数",null,null,null,null,null,null,null,null,"交通人身事故発生件数"]
["  ４  農        　　　業 ",null,null,null,null,null,null,null,null,null,null,null,null,null,null,null,null,null,null,null,null,null,null,null,null,"機械器具",null,null,null,{"$f":"データ一覧!Q307","v":4},null,null,{"$f":"データ一覧!Q316","v":18},null,null,{"$f":"データ一覧!Q325","v":183},null,null,null,null,"各種交付金",null,null,null,{"$f":"データ一覧!Q448","v":62982},null,null,null,null,{"$f":"データ一覧!Q462","v":51325},null,null,null,null,"民生費",null,null,null,{"$f":"データ一覧!Q476","v":375095},null,null,null,null,{"$f":"データ一覧!Q490","v":403587},null,null,null,null,null,"警察署数",null,null,null,null,null,null,null,null,"検問所数",null,null,null,null,null,null,null,null,null,{"$f":"データ一覧!$A$691","v":"元年中"},null,null,null,null,null,null,null,null,{"$f":"データ一覧!$A$691","v":"元年中"}]
[null,null,null,null,null,null,null,null,null,null,null,null,null,null,null,null,null,null,null,null,null,null,null,null,null,"その他",null,null,null,{"$f":"データ一覧!Q308","v":8},null,null,{"$f":"データ一覧!Q317","v":30},null,null,{"$f":"データ一覧!Q326","v":"x"},null,null,null,null,"地方特例交付金",null,null,null,{"$f":"データ一覧!Q449","v":100},null,null,null,null,{"$f":"データ一覧!Q463","v":3362},null,null,null,null,"衛生費",null,null,null,{"$f":"データ一覧!Q477","v":174925},null,null,null,null,{"$f":"データ一覧!Q491","v":132701},null,null,null,null,null,null,null,null,null,null,null,null,null,null,null,null,null,null,null,null,null,null,null,null,null,null,null,null," 件",null,null,null,null,null,null,null,null,"　件"]
[null,null,"農家人口と世帯員数(販売農家)",null,null,null,null,null,null,null,"農家世帯の就業状態（販売農家）",null,null,null,null,null,null,null,null,null,null,null,null,null,null,"無店舗",null,null,null,{"$f":"データ一覧!Q309","v":0},null,null,{"$f":"データ一覧!Q318","v":0},null,null,{"$f":"データ一覧!Q327","v":0},null,null,null,null,"地方交付税",null,null,null,{"$f":"データ一覧!Q450","v":1697000},null,null,null,null,{"$f":"データ一覧!Q464","v":1823221},null,null,null,null,"労働費",null,null,null,{"$f":"データ一覧!Q478","v":2750},null,null,null,null,{"$f":"データ一覧!Q492","v":5700},null,null,null,null,null,null,{"$f":"データ一覧!Q689","v":0},null,null,null,null,null,null,null,null,{"$f":"データ一覧!Q690","v":2},null,null,null,null,null,null,null,null,{"$f":"データ一覧!Q691","v":11},null,null,null,null,null,null,null,null,{"$f":"データ一覧!Q692","v":"-"}]
["農","平",null,null,null,null,null,null,null,null,"農業従事者",null,null,null,null,null,null,null,null,"非農業従事",null,null,"農業従事者",null,null,null,null,null,null,null,null,null,null,null,null,null,null,null,null,null,"分担金および負担金",null,null,null,{"$f":"データ一覧!Q451","v":12078},null,null,null,null,{"$f":"データ一覧!Q465","v":2764},null,null,null,null,"農林水産業費",null,null,null,{"$f":"データ一覧!Q479","v":448115},null,null,null,null,{"$f":"データ一覧!Q493","v":416711},null,null,null,null,"火災発生件数",null,null,null,null,null,null,null,null,null,"林野焼損",null,null,null,null,"損      害",null,null,null,null,"消 防 自",null,null,null,"その他の",null,null,null," ",null,null,null,null," "]
["家",{"$f":"+LEFT(データ一覧!$A$209,2)","v":"27"},"区分",null,"農家人口",null,null,"15歳以上の",null,null,null,null,null,"農業就業人口",null,null,null,null,null,"者",null,null,"の平均年齢",null,null,"  ８  住　　　　　　 　宅",null,null,null,null,null,null,null,null,null,null,null,null,null,null,"使用料および手数料",null,null,null,{"$f":"データ一覧!Q452","v":45523},null,null,null,null,{"$f":"データ一覧!Q466","v":36978},null,null,null,null,"商工費",null,null,null,{"$f":"データ一覧!Q480","v":117039},null,null,null,null,{"$f":"データ一覧!Q494","v":461625},null,null,null,null,{"$f":"+データ一覧!$A$693","v":"元年中"},null,null,null,null,"焼損棟数",null,null,null,null,"面    積",null,null,null,null,"見  積  額",null,null,null,null,"動 車 数",null,null,null,"ﾎﾟﾝﾌﾟ数",null,null,null," 消防吏員",null,null,null," 消防団員"]
["人就 ","・",null,null,null,null,null,"世帯員数",null,null,null,null,null,null,null,null,"基幹的農業",null,null,null,null,null,null,null,null,null,null,null,null,null,null,null,null,null,null,null,null,null,null,null,"国庫支出金",null,null,null,{"$f":"データ一覧!Q453","v":115813},null,null,null,null,{"$f":"データ一覧!Q467","v":149938},null,null,null,null,"土木費",null,null,null,{"$f":"データ一覧!Q481","v":302721},null,null,null,null,{"$f":"データ一覧!Q495","v":347167},null,null,null,null,"         件",null,null,null,null,null,"      棟",null,null,null,null,null,null,"  ａ",null,null,null,"  千円",null,null,"        ",null,null,null,null,null,null,null,null,null,"  人",null,null,null,"  人"]
["口業 ",{"$f":"+MID(データ一覧!$A$209,4,1)","v":"2"},null,null,null,null,"人",null,null,"人",null,null,"人",null,null,"人","従事者",null,"人",null,null,"人",null,null,"歳",{"$f":"+データ一覧!$A$328","v":"30年"},null,null,null,null,{"$f":"データ一覧!$A$331","v":"元年"},"中の増減",null,null,null,{"$f":"+データ一覧!$A$331","v":"元年"},null,null,null,null,"県支出金",null,null,null,{"$f":"データ一覧!Q454","v":300043},null,null,null,null,{"$f":"データ一覧!Q468","v":231285},null,null,null,null,"消防費",null,null,null,{"$f":"データ一覧!Q482","v":98825},null,null,null,null,{"$f":"データ一覧!Q496","v":93686},null,null,null,null,null,{"$f":"データ一覧!Q693","v":1},null,null,null,null,{"$f":"データ一覧!Q694","v":0},null,null,null,null,{"$f":"データ一覧!Q695","v":0},null,null,null,{"$f":"データ一覧!Q696","v":0},null,null,null,null,null,{"$f":"データ一覧!Q697","v":5},null,null,null,{"$f":"データ一覧!Q698","v":2},null,null,null,{"$f":"データ一覧!Q699","v":9},null,null,null,{"$f":"データ一覧!Q700","v":210}]
["と状 ","・"," 総数",null,{"$f":"データ一覧!Q209","v":612},null,null,{"$f":"データ一覧!Q212","v":563},null,null,{"$f":"データ一覧!Q215","v":402},null,null,{"$f":"データ一覧!Q218","v":200},null,null,{"$f":"データ一覧!Q221","v":135},null,null,{"$f":"データ一覧!Q224","v":161},null,null,{"$f":"データ一覧!Q227","v":62.5},null,null,null,null,null,null,"建設した住宅",null,null,"消失した住宅",null,null,null,null,null,null,null,"財産収入",null,null,null,{"$f":"データ一覧!Q455","v":9847},null,null,null,null,{"$f":"データ一覧!Q469","v":15353},null,null,null,null,"教育費",null,null,null,{"$f":"データ一覧!Q483","v":320941},null,null,null,null,{"$f":"データ一覧!Q497","v":266042},null,null,null,null," ２０  そ　　　の　　　他　"]
["  況 ",{"$f":"+RIGHT(データ一覧!$A$209,1)","v":"1"},"　男",null,{"$f":"データ一覧!Q210","v":300},null,null,{"$f":"データ一覧!Q213","v":280},null,null,{"$f":"データ一覧!Q216","v":218},null,null,{"$f":"データ一覧!Q219","v":98},null,null,{"$f":"データ一覧!Q222","v":78},null,null,{"$f":"データ一覧!Q225","v":62},null,null,{"$f":"データ一覧!Q228","v":60.3},null,null,null,null,null,null,null,null,null,null,null,null,null,null,null,null,null,"繰入金",null,null,null,{"$f":"データ一覧!Q456","v":63892},null,null,null,null,{"$f":"データ一覧!Q470","v":11877},null,null,null,null,"災害復旧費",null,null,null,{"$f":"データ一覧!Q484","v":0},null,null,null,null,{"$f":"データ一覧!Q498","v":5850}]
[null,null,"　女",null,{"$f":"データ一覧!Q211","v":312},null,null,{"$f":"データ一覧!Q214","v":283},null,null,{"$f":"データ一覧!Q217","v":184},null,null,{"$f":"データ一覧!Q220","v":102},null,null,{"$f":"データ一覧!Q223","v":57},null,null,{"$f":"データ一覧!Q226","v":99},null,null,{"$f":"データ一覧!Q229","v":65.2},null,null,null,{"$f":"データ一覧!Q328","v":1056},null,"戸",{"$f":"データ一覧!Q329","v":3},null,"戸",{"$f":"データ一覧!Q330","v":9},null,"戸",null,{"$f":"データ一覧!Q331","v":1050},null,"戸",null,"地方債",null,null,null,{"$f":"データ一覧!Q457","v":517400},null,null,null,null,{"$f":"データ一覧!Q471","v":506116},null,null,null,null,"公債費",null,null,null,{"$f":"データ一覧!Q485","v":414529},null,null,null,null,{"$f":"データ一覧!Q499","v":394616},null,null,null,null,null,null,null,null,null,"須波阿湏疑神社、冠山、部子山、龍双ヶ滝、稲荷の大杉、水海の田楽・能舞"]
[null,null,null,null,null,null,null,null,null,null,null,null,null,null,null,null,null,null,null,null,null,null,null,null,null,null,null,null,null,null,null,null,null,null,null,null,null,null,null,null,"その他",null,null,null,{"$f":"データ一覧!Q458","v":120696},null,null,null,null,{"$f":"データ一覧!Q472","v":366640},null,null,null,null,"その他",null,null,null,{"$f":"データ一覧!Q486","v":49044},null,null,null,null,{"$f":"データ一覧!Q500","v":0},null,null,null,null,"　名所・旧跡",null,null,null,null,"堀口家住宅、梅田氏庭園、かずら橋"]
[null,null,"総農家数等",null,null,null,null,null,null,"専兼業別（販売農家）",null,null,null,null,null,null,null,"経営面積規模別（販売農家）",null,null,null,null,null,null,null,null,null,null,null,null,null,null,null,null,null,null,null,null,null,null,null,null,null,null,null,null,null,null,null,null,null,null,null,null,null,null,null,null,null,null,null,null,null,null,null,null,null,null,"  文化財等",null,null,null,null,0]
[null,"平","区　分",null,null,null,"戸数（戸）",null,null,"区　分",null,null,null,null,"戸数（戸）",null,null,"区　　分",null,null,null,null,"戸数（戸）",null,null,"  ９  議　 員　・　職 　員",null,null,null,null,null,null,null,null,null,null,null,null,null,null," １４  文　　　　　　化",null,null,null,null,null,null,null,null,null," ( ",{"$f":"データ一覧!$A$507","v":"2.3.31"},null,null,null,"ただし図書館・公民館・児童館",null,null,null,null,null,null,null,{"$f":"データ一覧!$A$501","v":"2.4.1"},null,null,null,null,null,null,null,null,null,0]
["農",{"$f":"+LEFT(データ一覧!$A$230,2)","v":"27"},"総農家",null,null,null,{"$f":"データ一覧!Q230","v":319},null,null,"総数",null,null,null,null,{"$f":"データ一覧!Q236","v":162},null,null,"総数",null,null,null,null,{"$f":"データ一覧!Q241","v":162},null,null,null,null,null,null,null,null,null,null,null,null,null,null,null,null,null,null,null,null,null,null,null,null,null,null,null,null,null,null,null,null,null,"　宗教法人数 ",null,null,null,null,null,null,{"$f":"データ一覧!$A$509","v":"元.12.31"},null,null,null,"）","　　特産物",null,null,null,null,"うららの米(池田町こしひかり）、ばんこもち、きびだんご、おこもじ（漬物）、\n越のルビートマトアイス、米粉パン、ままの水、おろしそば、\n木工品（池田町産材使用）、足羽杉、しめ縄"]
["家","・","販売農家",null,null,null,{"$f":"データ一覧!Q231","v":162},null,null,"専業農家",null,null,null,null,{"$f":"データ一覧!Q237","v":33},null,null,"0.5 ha 未満",null,null,null,null,{"$f":"データ一覧!Q242","v":67},null,null," 市 町 村 議 会",null,null,"有権者数",null,{"$f":"データ一覧!$A$335","v":"2.9.1"},null,"市 町 村 議 会",null,null,"  職      員      数",null,null,null,null,null,null,null,null,null,"図書館",null,null,null,null,null,"公　民　館",null,null,null,null,null,null,null,null,null,null," 社会教育学級講座"]
["数",{"$f":"+MID(データ一覧!$A$230,4,1)","v":"2"},null,"主業",null,null,{"$f":"データ一覧!Q232","v":10},null,null,"兼業農家",null,null,null,null,{"$f":"データ一覧!Q238","v":129},null,null,"0.5 ha ～ 1.0 ha",null,null,null,null,{"$f":"データ一覧!Q243","v":58},null,null," 議  員  定  数",null,null,"    男",null,"    女",null,"選 挙 投 票 率",null,null," 総     数",null,"一般行政職",null,null,"公    共",null,null,null," 館  数",null,null," 図書数",null,null," 本  館",null,null," 分  館",null,null," 公  園",null,null," 児童館",null,null,"学級講座数",null,null,"受講者数"]
[null,"・",null,"準主業",null,null,{"$f":"データ一覧!Q233","v":12},null,null,null,"第１種兼業",null,null,null,{"$f":"データ一覧!Q239","v":17},null,null,"1.0 ha ～ 1.5 ha",null,null,null,null,{"$f":"データ一覧!Q244","v":19},null,null,null,null,"人",null,"人",null,"人",null,null,"　％",null,"人",null,"人",null,"施 設 数",null,null,null,null,{"$f":"データ一覧!Q501","v":1},null,{"$f":"データ一覧!Q502","v":44677},null,null,null,{"$f":"データ一覧!Q503","v":1},null,{"$f":"データ一覧!Q504","v":0},null,null,{"$f":"データ一覧!Q505","v":0},null,null,{"$f":"データ一覧!Q506","v":1},null,null,{"$f":"データ一覧!Q507","v":19},null,null,{"$f":"データ一覧!Q508","v":318},null,null," 　年中行事",null,null,null,null,"池田大祭（6月9日～11日）、能楽の里池田マラソン（10月第2日曜日）、"]
[null,{"$f":"+RIGHT(データ一覧!$A$230,1)","v":"1"},null,"副業的",null,null,{"$f":"データ一覧!Q234","v":140},null,null,null,"第２種兼業",null,null,null,{"$f":"データ一覧!Q240","v":112},null,null,"1.5 ha ～ 2.0 ha",null,null,null,null,{"$f":"データ一覧!Q245","v":4},null,null,null,{"$f":"データ一覧!Q332","v":8},null,{"$f":"データ一覧!Q335","v":1060},null,{"$f":"データ一覧!Q336","v":1175},null,{"$f":"データ一覧!Q334","v":85.28},null,null,{"$f":"データ一覧!Q337","v":73},null,{"$f":"データ一覧!Q338","v":50},null,null,"宗    教",null,null,null," 仏教系",null,null,"ｷﾘｽﾄ教系",null,null,"神道諸派",null,null,"公会堂・市民会館",null,null,null,null,null," テレビ",null,null,"衛星放送契約数",null,null,null,null,null,null,null,null,null,null,"いけだエコキャンドル、いけだ食の文化祭（11月中旬）、水海の田楽能舞（2月15日）"]
[null,null,"自給的農家",null,null,null,{"$f":"データ一覧!Q235","v":157},null,null,null,null,null,null,null,null,null,null,"2.0 ha 以上",null,null,null,null,{"$f":"データ一覧!Q246","v":13},null,null,null,null,null,null,null,null,null,{"$f":"データ一覧!Q333","v":"31.4.21"},null,null,null,null,null,null,null,"法 人 数",null,null,null,{"$f":"データ一覧!Q509","v":11},null,null,{"$f":"データ一覧!Q510","v":0},null,null,{"$f":"データ一覧!Q511","v":35},null,null,{"$f":"データ一覧!Q512","v":1},null,null,null,null,null,"      等",null,null,{"$f":"データ一覧!Q513","v":541},null,null,null,null,null,null,null,null,null,null,0]

{"sheet":"南越前町","index":16,"n_rows":93,"n_cols":104,"rows_kept":93,"cut":false,"hidden":false,"merged":[[68,40,68,43],[68,44,68,48],[68,49,68,53],[68,54,68,57],[68,58,68,62],[71,0,71,6],[73,7,73,9],[70,0,70,6],[70,25,70,28],[70,7,70,9],[73,10,73,12],[48,22,48,24],[48,19,48,21],[42,7,42,9],[64,22,64,24],[41,7,41,9],[48,0,48,1],[41,16,41,18],[48,16,48,18],[47,0,47,1],[47,7,47,9],[71,13,71,15],[62,0,62,6],[50,0,51,24],[61,0,61,6],[60,0,60,6],[55,19,55,21],[55,0,55,6],[57,7,57,9],[60,10,60,12],[55,40,55,43],[55,16,55,18],[17,25,17,27],[18,25,18,27],[73,0,73,6],[35,5,35,7],[35,8,35,10],[35,11,35,13],[35,14,35,16],[35,18,35,19],[35,20,35,21],[27,5,27,7],[27,22,27,24],[35,22,35,24],[41,19,41,21],[41,22,41,24],[40,22,40,24],[42,10,42,12],[41,4,41,6],[41,13,41,15],[56,22,56,24],[64,0,64,6],[63,0,63,6],[25,25,25,26],[26,25,26,26],[26,27,26,28],[67,19,67,21],[66,16,66,18],[64,19,64,21],[71,7,71,9],[19,3,19,5],[20,11,20,13],[20,16,20,18],[20,21,20,23],[31,82,31,85],[29,74,29,77],[30,74,30,77],[30,82,30,85],[26,61,26,65],[27,74,27,77],[35,50,35,52],[34,50,34,52],[54,78,54,80],[30,50,30,52],[37,61,37,65],[29,22,29,24],[32,20,32,21],[32,22,32,24],[59,0,59,6],[27,0,27,4],[44,19,44,24],[30,22,30,24],[33,20,33,21],[40,4,40,6],[29,78,29,81],[54,25,54,32],[50,25,50,28],[50,29,50,32],[50,33,50,38],[51,25,51,28],[42,36,42,37],[44,32,44,35],[25,33,26,34],[25,27,25,28],[27,31,27,32],[27,33,27,34],[27,78,27,81],[27,29,27,30],[30,54,30,57],[31,74,31,77],[31,78,31,81],[29,18,29,19],[29,20,29,21],[73,13,73,15],[72,13,72,15],[72,7,72,9],[68,25,68,28],[73,16,73,18],[71,16,71,18],[55,7,55,9],[55,10,55,12],[58,10,58,12],[57,10,57,12],[56,10,56,12],[56,13,56,15],[57,13,57,15],[55,13,55,15],[59,19,59,21],[60,19,60,21],[65,16,65,18],[65,19,65,21],[56,16,56,18],[61,16,61,18],[59,16,59,18],[64,16,64,18],[62,7,62,9],[64,10,64,12],[66,10,66,12],[0,0,0,9],[1,0,3,9],[5,0,5,9],[17,54,17,58],[6,0,8,9],[17,41,17,47],[17,49,17,53],[14,25,15,25],[14,26,15,28],[15,29,15,30],[72,10,72,12],[71,10,71,12],[74,0,75,24],[22,7,22,8],[26,22,26,24],[31,8,31,10],[31,11,31,13],[31,14,31,16],[31,18,31,19],[60,16,60,18],[73,22,73,24],[73,19,73,21],[71,29,71,30],[69,32,69,33],[70,29,70,30],[68,29,68,30],[68,32,68,33],[69,25,69,28],[70,32,70,33],[69,29,69,30],[42,19,42,21],[47,19,47,21],[17,101,17,102],[19,41,19,47],[19,50,19,52],[19,54,19,57],[19,61,19,65],[17,60,17,66],[19,92,19,95],[17,92,17,95],[19,74,19,77],[19,78,19,81],[16,75,16,96],[18,31,18,34],[18,35,18,38],[17,69,17,72],[17,74,17,77],[17,83,17,84],[17,87,17,90],[17,36,17,38],[19,82,19,85],[19,96,19,99],[19,100,19,103],[20,92,20,95],[20,96,20,99],[20,100,20,103],[20,87,20,91],[21,96,21,99],[21,35,21,38],[20,74,20,77],[20,78,20,81],[20,82,20,85],[22,29,22,31],[22,32,22,34],[22,35,22,38],[22,50,22,52],[22,69,22,73],[22,92,22,95],[21,74,21,77],[21,78,21,81],[21,82,21,85],[21,100,21,103],[21,41,21,47],[21,25,21,28],[21,29,21,31],[21,32,21,34],[20,61,20,65],[23,100,23,103],[24,54,24,57],[24,61,24,65],[24,100,24,103],[24,96,24,99],[22,54,22,57],[22,61,22,65],[24,69,24,73],[21,92,21,95],[21,87,21,91],[21,50,21,52],[21,54,21,57],[21,61,21,65],[22,87,22,91],[23,87,23,91],[24,87,24,91],[23,69,23,73],[23,74,23,77],[23,78,23,81],[23,82,23,85],[23,92,23,95],[23,96,23,99],[22,96,22,99],[22,100,22,103],[24,92,24,95],[20,41,20,47],[20,50,20,52],[20,54,20,57],[23,11,23,13],[23,16,23,18],[23,21,23,23],[24,41,24,47],[24,27,24,28],[23,41,23,47],[23,25,23,28],[23,29,23,31],[23,32,23,34],[23,35,23,38],[27,25,27,26],[27,27,27,28],[27,35,27,36],[25,29,26,30],[25,31,26,32],[25,35,26,36],[27,37,27,38],[25,37,26,38],[24,35,24,36],[24,37,24,38],[26,96,26,99],[28,100,28,103],[27,87,27,91],[28,69,28,73],[26,78,26,81],[26,82,26,85],[26,87,26,91],[28,96,28,99],[27,96,27,99],[28,61,28,65],[25,96,25,99],[28,54,28,57],[24,74,24,77],[25,87,25,91],[26,50,26,52],[24,82,24,85],[25,74,25,77],[25,78,25,81],[25,82,25,85],[24,78,24,81],[25,50,25,52],[25,54,25,57],[25,61,25,65],[24,50,24,52],[28,87,28,91],[27,82,27,85],[26,69,26,73],[26,74,26,77],[28,74,28,77],[28,78,28,81],[25,100,25,103],[28,82,28,85],[34,5,34,7],[34,8,34,10],[29,5,29,7],[29,8,29,10],[29,11,29,13],[29,14,29,16],[32,14,32,16],[31,5,31,7],[30,5,30,7],[30,8,30,10],[30,11,30,13],[30,14,30,16],[30,20,30,21],[31,22,31,24],[30,18,30,19],[26,100,26,103],[30,78,30,81],[29,100,29,103],[30,100,30,103],[26,54,26,57],[26,92,26,95],[29,92,29,95],[29,96,29,99],[27,50,27,52],[27,54,27,57],[27,61,27,65],[27,69,27,73],[28,92,28,95],[29,82,29,85],[30,61,30,65],[27,92,27,95],[29,87,29,91],[31,20,31,21],[30,87,30,91],[32,100,32,103],[44,0,45,1],[58,13,58,15],[58,7,58,9],[48,13,48,15],[48,10,48,12],[48,7,48,9],[44,25,44,28],[58,65,58,67],[55,22,55,24],[31,54,31,57],[31,61,31,65],[40,32,40,35],[40,36,40,37],[36,36,36,37],[34,36,34,37],[33,5,33,7],[33,8,33,10],[33,11,33,13],[33,14,33,16],[33,18,33,19],[34,41,34,47],[32,5,32,7],[32,8,32,10],[32,18,32,19],[32,11,32,13],[31,69,31,73],[32,92,32,95],[32,41,32,47],[40,7,40,9],[34,11,34,13],[34,14,34,16],[33,68,34,81],[33,84,34,97],[33,61,33,65],[32,50,32,52],[34,20,34,21],[33,22,33,24],[34,29,34,30],[32,54,32,57],[32,61,32,65],[36,98,36,101],[38,80,38,83],[38,68,38,74],[37,98,37,101],[38,94,38,96],[37,86,37,92],[36,86,36,92],[35,69,35,73],[37,68,37,74],[35,87,35,91],[36,68,36,74],[34,61,34,65],[35,41,35,47],[36,41,36,47],[37,41,37,47],[37,50,37,52],[36,50,36,52],[35,81,35,84],[34,22,34,24],[34,18,34,19],[36,29,36,30],[57,16,57,18],[58,0,58,6],[57,0,57,6],[56,0,56,6],[60,13,60,15],[58,40,58,43],[56,40,56,43],[57,40,57,43],[60,40,60,43],[59,44,59,59],[58,53,58,55],[60,36,60,37],[60,29,60,30],[60,55,60,59],[59,10,59,12],[51,29,51,32],[56,19,56,21],[38,98,38,101],[39,98,39,101],[41,36,41,37],[42,94,42,96],[42,80,42,83],[42,98,42,101],[40,80,41,83],[39,86,39,92],[41,86,41,92],[40,94,40,96],[37,54,37,57],[38,86,38,92],[46,0,46,1],[40,13,40,15],[41,10,41,12],[42,22,42,24],[47,13,47,15],[40,41,40,47],[47,22,47,24],[40,2,40,3],[40,16,40,18],[42,4,42,6],[42,16,42,18],[45,29,45,30],[47,10,47,12],[46,32,46,35],[47,16,47,18],[47,84,47,87],[47,78,47,80],[47,88,47,91],[42,86,42,92],[42,41,42,47],[42,13,42,15],[41,94,41,96],[39,76,39,78],[39,68,39,74],[48,88,48,91],[48,92,48,95],[48,81,48,83],[40,86,40,92],[41,41,41,47],[45,32,45,35],[39,54,39,57],[45,93,45,102],[46,96,46,99],[47,92,47,95],[43,61,43,65],[42,54,42,57],[42,61,42,65],[40,98,40,101],[40,29,40,30],[47,100,47,103],[43,41,43,47],[43,50,43,52],[43,54,43,57],[42,32,42,35],[44,36,44,37],[45,85,45,90],[40,10,40,12],[40,19,40,21],[47,96,47,99],[60,44,60,49],[54,60,54,67],[49,88,49,91],[51,100,51,103],[51,78,51,80],[51,81,51,83],[51,84,51,87],[51,96,51,99],[51,92,51,95],[51,88,51,91],[50,100,50,103],[50,78,50,80],[50,96,50,99],[50,81,50,83],[50,84,50,87],[48,100,48,103],[48,96,48,99],[49,78,49,80],[52,78,52,80],[52,81,52,83],[49,81,49,83],[49,100,49,103],[49,96,49,99],[48,78,48,80],[52,96,52,99],[48,84,48,87],[50,92,50,95],[43,84,44,103],[46,29,46,30],[62,19,62,21],[63,16,63,18],[63,19,63,21],[61,13,61,15],[61,7,61,9],[61,10,61,12],[60,7,60,9],[59,7,59,9],[59,13,59,15],[63,13,63,15],[67,16,67,18],[66,13,66,15],[66,22,66,24],[62,22,62,24],[60,22,60,24],[59,22,59,24],[54,92,54,95],[58,22,58,24],[57,22,57,24],[57,25,57,29],[55,25,55,30],[57,59,57,61],[57,62,57,64],[56,81,56,83],[58,16,58,18],[56,7,56,9],[54,52,54,55],[54,69,54,76],[61,44,61,49],[61,40,61,43],[61,50,61,54],[54,40,54,43],[71,54,71,57],[69,40,69,67],[70,54,70,57],[67,58,67,62],[67,44,67,48],[67,49,67,53],[66,32,66,34],[66,35,66,38],[67,40,67,43],[65,40,65,43],[53,100,53,103],[63,7,63,9],[64,13,64,15],[62,10,62,12],[62,13,62,15],[64,7,64,9],[67,10,67,12],[67,13,67,15],[68,10,68,12],[68,13,68,15],[69,13,69,15],[65,10,65,12],[65,13,65,15],[69,7,69,9],[61,29,61,30],[63,22,63,24],[66,19,66,21],[68,7,68,9],[68,16,68,18],[68,19,68,21],[68,22,68,24],[69,22,69,24],[73,63,73,67],[72,63,72,67],[72,54,72,57],[72,58,72,62],[73,54,73,57],[73,58,73,62],[75,29,75,30],[75,32,75,33],[75,35,75,37],[76,40,76,43],[74,58,74,62],[74,63,74,67],[74,69,74,75],[71,25,71,28],[71,32,71,33],[71,40,71,43],[71,49,71,53],[74,25,74,28],[74,29,74,30],[74,32,74,33],[74,35,74,37],[75,25,75,28],[72,29,72,30],[72,32,72,33],[72,35,72,37],[73,25,73,28],[73,29,73,30],[73,32,73,33],[73,35,73,37],[72,44,72,48],[72,49,72,53],[73,40,73,43],[73,44,73,48],[73,49,73,53],[75,40,75,43],[75,44,75,48],[75,49,75,53],[75,54,75,57],[74,40,74,43],[74,44,74,48],[74,49,74,53],[74,54,74,57],[83,32,83,33],[83,36,83,37],[81,40,81,43],[81,44,81,48],[77,40,77,43],[77,44,77,48],[77,49,77,53],[77,54,77,57],[78,40,78,43],[81,54,81,57],[76,44,76,48],[75,58,75,62],[75,63,75,67],[74,88,74,92],[76,58,76,62],[74,78,74,84],[76,79,76,82],[76,54,76,57],[81,22,81,24],[84,40,84,43],[84,44,84,48],[84,49,84,53],[84,54,84,57],[83,49,83,53],[88,62,88,67],[84,58,84,62],[84,63,84,67],[83,63,83,67],[83,26,83,27],[83,29,83,30],[83,54,83,57],[83,58,83,62],[82,54,82,57],[77,58,77,62],[78,44,78,48],[77,63,77,67],[80,35,81,38],[79,44,79,48],[80,63,80,67],[80,58,80,62],[80,49,80,53],[79,63,79,67],[76,25,76,28],[76,29,76,30],[76,32,76,33],[76,35,76,37],[88,28,88,29],[88,30,88,31],[80,25,81,28],[82,44,82,48],[82,49,82,53],[91,26,91,27],[91,28,91,29],[91,30,91,31],[91,32,91,34],[91,53,91,58],[91,62,91,67],[91,35,91,36],[91,37,91,38],[91,40,91,43],[90,59,90,61],[90,51,90,52],[90,53,90,55],[90,56,90,58],[90,40,90,43],[90,45,90,46],[91,44,91,46],[91,47,91,49],[82,58,82,62],[83,40,83,43],[83,44,83,48],[81,32,81,34],[81,29,81,31],[82,40,82,43],[89,32,89,34],[89,40,89,43],[89,62,89,64],[88,32,88,34],[25,92,25,95],[92,53,92,58],[92,62,92,67],[92,40,92,43],[92,44,92,46],[92,47,92,49],[92,50,92,52],[90,62,90,64],[90,65,90,67],[90,47,90,49],[80,101,80,103],[79,98,79,99],[81,49,81,53],[81,58,81,62],[80,54,80,57],[81,63,81,67],[80,40,80,43],[80,44,80,48],[79,40,79,43],[79,49,79,53],[79,54,79,57],[79,58,79,62],[76,63,76,67],[78,68,78,72],[78,73,78,77],[76,70,76,73],[68,101,68,103],[66,77,66,91],[49,84,49,87],[27,100,27,103],[57,68,58,103],[67,98,67,103],[67,83,67,85],[63,100,63,102],[78,100,78,103],[68,73,68,76],[67,68,70,72],[68,83,68,85],[62,69,62,72],[62,76,62,78],[61,69,61,72],[64,69,64,72],[56,78,56,80],[54,88,54,91],[53,84,53,87],[53,96,53,99],[55,100,55,103],[49,92,49,95],[65,94,65,97],[65,89,65,92],[56,92,56,95],[70,89,70,91],[30,96,30,99],[35,94,35,96],[78,96,78,99],[78,92,78,95],[76,88,76,91],[52,92,52,95],[39,94,39,96],[55,81,55,83],[55,84,55,87],[81,68,82,103],[79,102,79,103],[80,97,80,99],[80,93,80,95],[80,69,80,71],[77,88,77,91],[78,83,78,87],[80,74,80,76],[80,79,80,81],[80,83,80,87],[80,89,80,91],[78,78,78,82],[56,69,56,76],[76,97,76,100],[73,78,73,84],[73,87,73,93],[73,96,73,102],[74,97,74,101],[70,84,70,85],[70,86,70,88],[77,92,77,95],[77,78,77,82],[78,88,78,91],[77,83,77,87],[67,80,67,82],[65,69,65,72],[63,75,63,77],[68,86,68,88],[68,89,68,91],[68,77,68,79],[62,88,62,90],[68,92,68,94],[68,95,68,97],[68,80,68,82],[55,92,55,95],[55,88,55,91],[54,84,54,87],[54,96,54,99],[52,84,52,87],[52,88,52,91],[53,69,53,76],[42,76,42,78],[42,50,42,52],[50,64,50,67],[67,89,67,91],[60,98,60,103],[56,100,56,103],[60,86,60,91],[63,85,63,87],[56,88,56,91],[53,78,53,80],[53,88,53,91],[53,92,53,95],[52,100,52,103],[54,100,54,103],[50,88,50,91],[54,81,54,83],[52,69,52,76],[50,69,50,76],[51,69,51,76],[46,100,46,103],[46,70,46,75],[67,63,67,67],[70,49,70,53],[55,35,55,38],[55,31,55,34],[62,100,62,102],[62,94,62,96],[65,84,65,87],[65,99,65,102],[65,74,65,77],[65,79,65,82],[63,95,63,97],[60,92,60,97],[55,96,55,99],[56,96,56,99],[68,0,68,6],[67,0,67,6],[66,0,66,6],[65,7,65,9],[67,7,67,9],[63,90,63,92],[56,84,56,87],[65,0,65,6],[62,82,62,84],[61,81,61,84],[65,44,65,50],[65,54,65,57],[67,22,67,24],[65,22,65,24],[61,19,61,21],[62,29,62,30],[61,22,61,24],[63,10,63,12],[62,16,62,18],[69,0,69,6],[70,63,70,67],[70,19,70,21],[72,19,72,21],[71,19,71,21],[72,16,72,18],[70,16,70,18],[69,19,69,21],[70,10,70,12],[70,13,70,15],[69,16,69,18],[69,10,69,12],[70,102,70,103],[70,98,70,100],[71,22,71,24],[72,25,72,28],[71,35,71,37],[70,35,70,37],[70,22,70,24],[72,22,72,24],[72,40,72,43],[71,44,71,48],[71,68,72,83],[71,84,72,103],[70,95,70,97],[70,40,70,43],[70,73,70,76],[70,78,70,79],[70,92,70,94],[70,80,70,82],[69,35,69,37],[70,44,70,48],[18,28,18,30],[16,32,16,33],[16,36,16,37],[17,32,17,34],[24,29,24,30],[24,31,24,32],[24,33,24,34],[54,56,54,59],[55,48,55,50],[55,52,55,54],[51,33,51,35],[56,49,56,54],[54,44,54,47],[50,48,50,50],[41,32,41,35],[41,50,41,52],[28,41,28,47],[28,50,28,52],[35,29,35,30],[35,36,35,37],[54,48,54,51],[41,54,41,57],[39,50,39,52],[40,50,40,52],[51,36,51,38],[30,41,30,47],[26,41,26,47],[22,41,22,47],[22,25,22,28],[45,58,45,62],[33,41,33,47],[49,59,49,62],[31,92,31,95],[31,96,31,99],[35,99,35,102],[35,76,35,78],[49,63,49,67],[44,29,44,30],[45,36,45,37],[47,81,47,83],[49,47,49,50],[49,40,49,46],[48,57,48,60],[48,51,48,54],[45,78,45,83],[47,69,47,76],[41,98,41,101],[36,94,36,96],[38,41,38,47],[31,100,31,103],[39,80,39,83],[41,29,41,30],[39,41,39,47],[46,36,46,37],[49,51,49,54],[49,55,49,58],[31,50,31,52],[38,76,38,78],[38,61,38,65],[37,80,37,83],[38,50,38,52],[38,54,38,57],[36,61,36,65],[34,54,34,57],[15,35,15,37],[19,25,19,28],[19,29,19,31],[19,32,19,34],[19,35,19,38],[20,25,20,28],[20,29,20,31],[20,32,20,34],[20,35,20,38],[15,32,15,33],[14,68,15,82],[37,76,37,78],[36,76,36,78],[23,50,23,52],[23,54,23,57],[23,61,23,65],[25,41,25,47],[22,74,22,77],[22,78,22,81],[22,82,22,85],[14,83,15,96],[37,94,37,96],[32,96,32,99],[29,54,29,57],[29,61,29,65],[29,41,29,47],[29,50,29,52],[27,41,27,47],[33,50,33,52],[31,41,31,47],[30,69,30,73],[30,92,30,95],[32,69,32,73],[33,54,33,57],[35,61,35,65],[41,61,41,65],[40,61,40,65],[35,54,35,57],[40,68,41,74],[39,61,39,65],[49,69,49,76],[48,69,48,76],[42,68,42,74],[50,60,50,62],[50,51,50,54],[50,56,50,58],[48,63,48,66],[40,76,41,78],[55,69,55,76],[55,78,55,80],[55,64,55,66],[43,68,44,83],[53,81,53,83],[55,60,55,63],[36,54,36,57],[36,80,36,83],[40,54,40,57],[92,32,92,34],[88,51,88,54],[58,62,58,64],[70,58,70,62],[68,63,68,67],[82,63,82,67],[60,64,60,67],[71,63,71,67],[57,65,57,67],[57,56,57,58],[59,60,59,63],[71,58,71,62],[60,60,60,63],[61,60,61,63],[61,64,61,67],[66,40,66,67],[57,31,57,33],[57,35,57,37],[65,58,65,64]],"merged_total":1083,"flags":["merged_cut"]}
[{"$f":"+データ一覧!R5","v":"なんじょうぐん"}]
[{"$f":"+データ一覧!R8","v":"南条郡"},null,null,null,null,null,null,null,null,null,null,null,null,null,null,null,null,null,null,null,null,null,null,null,null,null,null,null,null,null,null,null,null,null,null,null,null,null,null,null,0]
[null,null,null,null,null,null,null,null,null,null,null,null,null,null,null,null,null,null,null,null,null,null,null,null,null,null,null,null,null,null,null,null,null,null,null,null,null,null,null,null,0]
[null,null,null,null,null,null,null,null,null,null,null,null,null,null,null,null,null,null,null,null,null,null,null,null,null,null,null,"【町章とそのいわれ】    「南越前町」の「み」をモチーフに、",null,null,null,null,null,null,null,null,null,null,null,null,"【位置および地勢 】南越前町は福井県のほぼ中央、嶺北地域の南端に位置している。",null,null,null,null,null,null,null,null,null,null,null,null,null,null,null,null,null,null,null,null,null,null,null,null,null,null,null,null,null,null,"所在地",null,null,null,null,null,null,null,"〒919-0292"]
[null,null,null,null,null,null,null,null,null,null,null,null,null,null,null,null,null,null,null,null,null,null,null,null,null,null,null,"　　　　　　　　　青・濃い緑・橙色を使用し、海と緑と歴史を",null,null,null,null,null,null,null,null,null,null,null,null,"　　　　　　　　　","越前市と接する福井平野の南端部、池田町、岐阜県、滋賀県、敦賀市と接する",null,null,null,null,null,null,null,null,null,null,null,null,null,null,null,null,null,null,null,null,null,null,null,null,null,null,null,null,null,null,null,null,null,null,null,null,null,"南条郡南越前町東大道２９-１"]
[{"$f":"+データ一覧!R6","v":"みなみえちぜんちょう"},null,null,null,null,null,null,null,null,null,null,null,null,null,null,null,null,null,null,null,null,null,null,null,null,null,null,"　　　　　　　　　イメージしている。",null,null,null,null,null,null,null,null,null,null,null,null,null,"日野川上流の山間部と越前町、敦賀市と接する日本海沿岸の海岸部からなり、"]
[{"$f":"データ一覧!R9","v":"南越前町"},null,null,null,null,null,null,null,null,null,null,null,null,null,null,null,null,null,null,null,null,null,null,null,null,null,null,0,null,null,null,null,null,null,null,null,null,null,null,null,null,"面積は343.69平方キロメートルと福井県全体の8.2％を占めている。",null,null,null,null,null,null,null,null,null,null,null,null,null,null,null,null,null,null,null,null,null,null,null,null,null,null,null,null,null,"電話番号",null,null,null,null,null,null,null,"（０７７８）４７－３０００ 　"]
[null,null,null,null,null,null,null,null,null,null,null,null,null,null,null,null,null,null,null,null,null,null,null,null,null,null,null,0,null,null,null,null,null,null,null,null,null,null,null,null,null,"日野川上流部の山間地に位置する今庄地区は、豊かな森林に恵まれ、その下流に",null,null,null,null,null,null,null,null,null,null,null,null,null,null,null,null,null,null,null,null,null,null,null,null,null,null,null,null,null,"FAX番号",null,null,null,null,null,null,null,"     〃     ４７－３２６１　"]
[null,null,null,null,null,null,null,null,null,null,null,null,null,null,null,null,null,null,null,null,null,null,null,null,null,null,null,0,null,null,null,null,null,null,null,null,null,null,null,null,null,"位置する南条地区は、日野川の両岸に整備された田園地帯が広がっている。"]
[null,null,null,null,null,null,null,null,null,null,null,null,null,null,null,null,null,null,null,null,null,null,null,null,null,null,null,0,null,null,null,null,null,null,null,null,null,null,null,null,null,"また、西側に位置する河野地区は、暖流と寒流が合流する好漁場である若狭湾に",null,null,null,null,null,null,null,null,null,null,null,null,null,null,null,null,null,null,null,null,null,null,null,null,null,null,null,null,null,"最寄駅および距離",null,null,null,null,null,null,null,"ＪＲ北陸本線南条駅　下車５００ｍ"]
[null,null,null,null,null,null,null,null,null,null,null,null,null,null,null,null,null,null,null,null,null,null,null,null,null,null,null,0,null,null,null,null,null,null,null,null,null,null,null,null,null,"面しており、河野川などの複数の河川が日本海へ注いでいる。"]
[]
[null,null,null,null,null,null,null,null,null,null,null,null,null,null,null,null,null,null,null,null,null,null,null,null,null,null,null,"【町が掲げる標語】海と緑と歴史の恵みに抱かれて、出会いから活力の花ひらく町",null,null,null,null,null,null,null,null,null,null,null,null,null,null,null,null,null,null,null,null,null,null,null,null,null,null,null,null,null,null,null,null,null,null,null,null,null,null,null,null,null,null,null,"ホームページ",null,null,null,null,null,null,null,"http://www.town.minamiechizen.lg.jp/"]
[]
["  １  土            　　地",null,null,null,null,null,null,null,null,null,null,null,null,null,null,null,null,null,null,null,null,null,null,null,null,{"$f":"データ一覧!$A$247","v":"元年"},"産米収穫量",null,null,"　 収　穫　量",null,null," 　作 付 面 積",null,null,"   10a当たり収量",null,null,null,null,null,null,null,null,null,null,null,null,null,null,null,null,null,null,null,null,null,null,null,null,null,null,null,null,null,null,null,null," １５  労　　　　　　　働",null,null,null,null,null,null,null,null,null,null,null,null,null,null,"27.10.1"]
[null,null,null,null,null,null,null,null,null,null,null,null,null,null,null,null,null,null,null,null,null,null,null,null,null,null,null,null,null,{"$f":"データ一覧!$R$247","v":3220},null,"t",{"$f":"データ一覧!$R$248","v":674},null,"ha",{"$f":"データ一覧!R249","v":477},null,null,"kg",null," １０  工　　　　　　業 ",null,null,null,null,null,null,null,null,null,null,null,null,null,{"$f":"データ一覧!$A$339","v":"元.6.1（平成30年実績）"}]
["   総          面           積",null,null,null,null,null,null,null,null,null," 固 定 資 産 概 要 調 書 に よ る 地 目 別 面 積",null,null,null,null,null,null,null,null,null,null,null,null,null,null,null,null,null,"   総　　　数",null,null,null,"うち　　田",null,null,null,"うち　　畑",null,null,null,null,null,null,null,null,null,null,null,null,null,null,null,null,null,null,null,null,null,null,null,null,null,null,null,null,null,null,null,null,null,null,null,null,null,null,"産業別就業者数   "]
[null,null,{"$f":"データ一覧!$A$10","v":"2.10.1"},null,null,null,null,null,null,null,null,null,null,null,null,null,{"$f":"データ一覧!$A$12","v":"2.1.1"},null,null,null,null,null,null,null,null," 耕  地  面  積",null,null,null,"       ha",null,null,"ha ",null,null,null,"ha ",null,null,null,"      ","産業分類",null,null,null,null,null,null,null,"事業所数",null,null,null,null,"従業者数",null,null,null,null,null,"年間製造品出荷額等",null,null,null,null,null,null,null,null,"区  分",null,null,null,null,"総    数",null,null,null,null,"男",null,null,null,"女",null,null,"  ","区  分",null,null,null,null,"総    数",null,null,null,null,"男",null,null,null,"女"]
[null,null,null,null,null,null,"㎢",null,null,null,"   総       数",null,null,null,null,"  う ち     田",null,null,null,null,"  う ち     畑",null,null,null,null,{"$f":"データ一覧!$A$250","v":"元.7.15"},null,null,{"$f":"データ一覧!$R$250","v":1060},null,null,{"$f":"データ一覧!$R$251","v":956},null,null,null,{"$f":"データ一覧!$R$252","v":103},null,null,null,null,null,null,null,null,null,null,null,null,null,"　　   ",null,null,"事業所",null,"　　　　　　　 人",null,null,"人",null,"　　　　　　　　　　　　　　万円",null,null,null,null,null,null,"万円",null,null,null,null,null,null,null,"      人",null,null,null,null,null," 人",null,null,null," 人",null,null,null,null,null,null,null,"      人",null,null,null,"      人",null,null,null,"      人"]
[null,null,null,{"$f":"データ一覧!R10","v":343.69},null,null,null,null,null,null,null,null,null,null,"ha",null,null,null,null,"ha",null,null,null,null,"ha","農 業 生 産 物",null,null,null,"作 付 面 積",null,null,"収 穫 量",null,null,"10a当たり収量",null,null,null,null,"     ","総数",null,null,null,null,null,null,null,null,{"$f":"データ一覧!R339","v":14},null,null,null,{"$f":"+データ一覧!R364","v":471},null,null,null,null,null,null,{"$f":"データ一覧!R389","v":965758},null,null,null,null,null,null," 総　　　数",null,null,null,null,null,{"$f":"CA20+CE20","v":5503},null,null,null,{"$f":"データ一覧!R514","v":2990},null,null,null,{"$f":"データ一覧!R539","v":2513}]
[null,null,null,null,null,null,null,null,null,null,null,{"$f":"データ一覧!R12","v":13159.5},null,null,null,null,{"$f":"データ一覧!R13","v":1001.9},null,null,null,null,{"$f":"データ一覧!R14","v":144.19999999999999},null,null,null,{"$f":"データ一覧!$A$253","v":"元年中"},null,null,null,"ha",null,null,"t",null,null,"kg",null,null,null,null,"     食料品","食料品",null,null,null,null,null,null,null,null,{"$f":"データ一覧!R340","v":1},null,null,null,{"$f":"+データ一覧!R365","v":10},null,null,null,null,null,null,{"$f":"データ一覧!R390","v":"x"},null,null,null,null,null,null,null,null,null,null,null,null,null,null,null,null,null,null,null,null,null,null,null,null,null,"卸売業,小売業",null,null,null,null,{"$f":"CS21+CW21","v":680},null,null,null,{"$f":"データ一覧!R527","v":305},null,null,null,{"$f":"データ一覧!R552","v":375}]
["  町 ･ 丁 ･ 大 字",null,null,null,null,null,null,null,null,null,"  う ち  宅 地",null,null,null,null,"  う ち  山 林",null,null,null,null,"  う ち  原 野",null,null,null,null,"水　　　　　稲",null,null,null,{"$f":"データ一覧!R253","v":674},null,null,{"$f":"データ一覧!R254","v":3220},null,null,{"$f":"データ一覧!R255","v":477},null,null,null,null,"     飲料・飼料","飲料・飼料",null,null,null,null,null,null,null,null,{"$f":"データ一覧!R341","v":0},null,null,null,{"$f":"+データ一覧!R366","v":0},null,null,null,null,null,null,{"$f":"データ一覧!R391","v":0},null,null,null,null,null,null," 第１次産業",null,null,null,null,null,{"$f":"CA22+CE22","v":401},null,null,null,{"$f":"データ一覧!R515","v":275},null,null,null,{"$f":"データ一覧!R540","v":126},null,null,null,null,"金融業,保険業",null,null,null,null,{"$f":"CS22+CW22","v":73},null,null,null,{"$f":"データ一覧!R528","v":23},null,null,null,{"$f":"データ一覧!R553","v":50}]
["  区    画    数",null,null,null,null,null,null,{"$f":"データ一覧!R11","v":63},null,null,null,null,null,null,"ha",null,null,null,null,"ha",null,null,null,null,"ha","六　条　大　麦",null,null,null,{"$f":"データ一覧!R256","v":30},null,null,{"$f":"データ一覧!R257","v":32},null,null,{"$f":"データ一覧!R258","v":107},null,null,null,null,"     繊維","繊維",null,null,null,null,null,null,null,null,{"$f":"データ一覧!R342","v":6},null,null,null,{"$f":"+データ一覧!R367","v":151},null,null,null,null,null,null,{"$f":"データ一覧!R392","v":138520},null,null,null,null,null,null,"  ","農業",null,null,null,null,{"$f":"CA23+CE23","v":307},null,null,null,{"$f":"データ一覧!R516","v":189},null,null,null,{"$f":"データ一覧!R541","v":118},null,null,null,"  ","不動産業",null,null,null,null,22,null,null,null,{"$f":"データ一覧!R529","v":11},null,null,null,{"$f":"データ一覧!R554","v":11}]
[{"$f":"データ一覧!$A$11","v":"31.4.1"},null,null,null,null,null,null,null,null,null,null,{"$f":"データ一覧!R15","v":280.7},null,null,null,null,{"$f":"データ一覧!R16","v":6130.1},null,null,null,null,{"$f":"データ一覧!R17","v":199.8},null,null,null,"大　　      豆",null,null,null,{"$f":"データ一覧!R259","v":"x"},null,null,{"$f":"データ一覧!R260","v":"x"},null,null,{"$f":"データ一覧!R261","v":"x"},null,null,null,null,"     衣服","木材",null,null,null,null,null,null,null,null,{"$f":"データ一覧!R343","v":0},null,null,null,{"$f":"+データ一覧!R368","v":0},null,null,null,null,null,null,{"$f":"データ一覧!R393","v":0},null,null,null,null,null,null,"  ","林業",null,null,null,null,35,null,null,null,{"$f":"データ一覧!R517","v":31},null,null,null,{"$f":"データ一覧!R542","v":4},null,null,null,"  ","学術研究",null,null,null,null,103,null,null,null,{"$f":"データ一覧!R530","v":78},null,null,null,{"$f":"データ一覧!R555","v":25}]
["  ２  世　帯　数　と　人　口",null,null,null,null,null,null,null,null,null,null,null,null,null,null,null,null,null,null,null,null,null,null,null,null,null,null,"  区　分",null," 乳 用 牛",null," 肉 用 牛",null,"豚",null,"採卵鶏",null,"ブロイラー",null,null,"     木材","家具",null,null,null,null,null,null,null,null,{"$f":"データ一覧!R344","v":0},null,null,null,{"$f":"+データ一覧!R369","v":0},null,null,null,null,null,null,{"$f":"データ一覧!R394","v":0},null,null,null,null,null,null,"  ","漁業",null,null,null,null,59,null,null,null,{"$f":"データ一覧!R518","v":55},null,null,null,{"$f":"データ一覧!R543","v":4},null,null,null,"  ","宿泊業,飲食ｻｰﾋﾞｽ",null,null,null,null,329,null,null,null,{"$f":"データ一覧!R531","v":97},null,null,null,{"$f":"データ一覧!R556","v":232}]
[null,null,null,null,null,null,null,null,null,null,null,null,null,null,null,null,null,null,null,null,null,null,null,null,null,"畜　産",null," 飼養農家",null,{"$f":"データ一覧!$R$262","v":"-"},null,{"$f":"データ一覧!$R$264","v":"-"},null,{"$f":"データ一覧!$R$266","v":"-"},null,{"$f":"データ一覧!$R$268","v":"x"},null,{"$f":"データ一覧!$R$270","v":"-"},null,null,"     家具","パルプ・紙",null,null,null,null,null,null,null,null,{"$f":"データ一覧!R345","v":0},null,null,null,{"$f":"+データ一覧!R370","v":0},null,null,null,null,null,null,{"$f":"データ一覧!R395","v":0},null,null,null,null,null,null," 第２次産業",null,null,null,null,null,1887,null,null,null,{"$f":"データ一覧!R519","v":1290},null,null,null,{"$f":"データ一覧!R544","v":597},null,null,null,"  ","生活関連ｻｰﾋﾞｽ業",null,null,null,null,124,null,null,null,{"$f":"データ一覧!R532","v":42},null,null,null,{"$f":"データ一覧!R557","v":82}]
[null,null,null,null,null,null,null,null,"        人　　　　　　　　　　口",null,null,null,null,null,null,null,null,null,null,null,"１世帯当",null,"人    口",null,null,{"$f":"データ一覧!$A$262","v":"2.3.31"},null,"（戸）",null,null,null,null,null,null,null,null,null,null,null,null,"     パルプ・紙","印刷",null,null,null,null,null,null,null,null,{"$f":"データ一覧!R346","v":0},null,null,null,{"$f":"+データ一覧!R371","v":0},null,null,null,null,null,null,{"$f":"データ一覧!R396","v":0},null,null,null,null,null,null,null,"鉱業，採石業",null,null,null,null,18,null,null,null,{"$f":"データ一覧!R520","v":14},null,null,null,{"$f":"データ一覧!R545","v":4},null,null,null,"  ","教育,学習支援業",null,null,null,null,195,null,null,null,{"$f":"データ一覧!R533","v":69},null,null,null,{"$f":"データ一覧!R558","v":126}]
[" 区　　　　分",null,null,null,null,"世帯数",null,null," 総   数",null,null,"    男",null,null,"    女",null,null,"  男／女",null,null,"たり人員",null,"密    度",null,null,null,null," 頭 羽",null,{"$f":"データ一覧!$R$263","v":"-"},null,{"$f":"データ一覧!$R$265","v":"-"},null,{"$f":"データ一覧!$R$267","v":"-"},null,{"$f":"データ一覧!$R$269","v":300},null,{"$f":"データ一覧!$R$271","v":"-"},null,null,"     出版・印刷","化学",null,null,null,null,null,null,null,null,{"$f":"データ一覧!R347","v":0},null,null,null,{"$f":"+データ一覧!R372","v":0},null,null,null,null,null,null,{"$f":"データ一覧!R397","v":0},null,null,null,null,null,null,"  ","建設業",null,null,null,null,492,null,null,null,{"$f":"データ一覧!R521","v":436},null,null,null,{"$f":"データ一覧!R546","v":56},null,null,null,null,"医療，福祉",null,null,null,null,719,null,null,null,{"$f":"データ一覧!R534","v":98},null,null,null,{"$f":"データ一覧!R559","v":621}]
[null,null,null,null,null,"    世 帯",null,null,"       人",null,null,"       人",null,null,"       人",null,null,null,"　　％",null,"    人",null,"    人/㎢",null,null,null,null,null,null,null,null,null,null,null,null,null,null,null,null,null,"     化学","石油・石炭",null,null,null,null,null,null,null,null,{"$f":"データ一覧!R348","v":0},null,null,null,{"$f":"+データ一覧!R373","v":0},null,null,null,null,null,null,{"$f":"データ一覧!R398","v":0},null,null,null,null,null,null,null,"製造業",null,null,null,null,1377,null,null,null,{"$f":"データ一覧!R522","v":840},null,null,null,{"$f":"データ一覧!R547","v":537},null,null,null,null,"複合サービス事業",null,null,null,null,106,null,null,null,{"$f":"データ一覧!R535","v":53},null,null,null,{"$f":"データ一覧!R560","v":53}]
[{"$f":"データ一覧!$A$25","v":" 2.10.1"},null,null,null,null,{"$f":"データ一覧!R25","v":3484},null,null,{"$f":"+L30+O30","v":13804},null,null,{"$f":"データ一覧!R27","v":6628},null,null,{"$f":"データ一覧!R28","v":7176},null,null,null,{"$f":"+L30/O30*100","v":92.363433667781493},null,{"$f":"データ一覧!R30","v":3.96},null,{"$f":"データ一覧!R24","v":0},null,null,"  ５  林               業",null,null,null,null,null,null,null,null,null,null,null,null,null,null,"     石油・石炭","プラスチック",null,null,null,null,null,null,null,null,{"$f":"データ一覧!R349","v":3},null,null,null,{"$f":"+データ一覧!R374","v":94},null,null,null,null,null,null,{"$f":"データ一覧!R399","v":430627},null,null,null,null,null,null," 第３次産業",null,null,null,null,null,3187,null,null,null,{"$f":"データ一覧!R523","v":1409},null,null,null,{"$f":"データ一覧!R548","v":1778},null,null,null,null,"サービス業",null,null,null,null,316,null,null,null,{"$f":"データ一覧!R536","v":202},null,null,null,{"$f":"データ一覧!R561","v":114}]
[{"$f":"データ一覧!$A$32","v":" 7.10.1"},null,null,null,null,{"$f":"データ一覧!R32","v":3634},null,null,{"$f":"+L31+O31","v":13616},null,null,{"$f":"データ一覧!R34","v":6555},null,null,{"$f":"データ一覧!R35","v":7061},null,null,null,92.833876221498372,null,{"$f":"データ一覧!R37","v":3.75},null,{"$f":"データ一覧!R31","v":0},null,null,null,null,null,null,null,null,null,null,null,null,null,null,null,null,null,"     プラスチック","ゴム",null,null,null,null,null,null,null,null,{"$f":"データ一覧!R350","v":0},null,null,null,{"$f":"+データ一覧!R375","v":0},null,null,null,null,null,null,{"$f":"データ一覧!R400","v":0},null,null,null,null,null,null,null,"電気･ｶﾞｽ･水道業",null,null,null,null,24,null,null,null,{"$f":"データ一覧!R524","v":21},null,null,null,{"$f":"データ一覧!R549","v":3},null,null,null,null,"公務",null,null,null,null,219,null,null,null,{"$f":"データ一覧!R537","v":170},null,null,null,{"$f":"データ一覧!R562","v":49}]
[{"$f":"データ一覧!$A$39","v":"12.10.1"},null,null,null,null,{"$f":"データ一覧!R39","v":3744},null,null,{"$f":"+L32+O32","v":13221},null,null,{"$f":"データ一覧!R41","v":6437},null,null,{"$f":"データ一覧!R42","v":6784},null,null,null,94.885023584905653,null,{"$f":"データ一覧!R44","v":3.53},null,{"$f":"データ一覧!R38","v":0},null,null,"    　森　　　林　　　総　　　面　　　積   ",null,null,null,null,null,null,null,{"$f":"データ一覧!$A$272","v":"2.3.31"},null,null,null,null,null,null,"     ゴム","皮革",null,null,null,null,null,null,null,null,{"$f":"データ一覧!R351","v":0},null,null,null,{"$f":"+データ一覧!R376","v":0},null,null,null,null,null,null,{"$f":"データ一覧!R401","v":0},null,null,null,null,null,null,null,"情報通信業",null,null,null,null,44,null,null,null,{"$f":"データ一覧!R525","v":36},null,null,null,{"$f":"データ一覧!R550","v":8},null,null,null," 分類不能の産業",null,null,null,null,null,28,null,null,null,{"$f":"データ一覧!R538","v":16},null,null,null,{"$f":"データ一覧!R563","v":12}]
[{"$f":"+データ一覧!$A$46","v":"17.10.1"},null,null,null,null,{"$f":"データ一覧!R46","v":3542},null,null,{"$f":"+L33+O33","v":12274},null,null,{"$f":"データ一覧!R48","v":5850},null,null,{"$f":"データ一覧!R49","v":6424},null,null,null,91.064757160647574,null,{"$f":"データ一覧!R51","v":3.47},null,{"$f":"データ一覧!R52","v":35.700000000000003},null,null,"　　　森　　　　　　　林　　　　　　　の　　　　　　　構　　　　　　　成",null,null,null,null,null,null,null,null,null,null,null,null,null,null,"     皮革","窯業・土石",null,null,null,null,null,null,null,null,{"$f":"データ一覧!R352","v":0},null,null,null,{"$f":"+データ一覧!R377","v":0},null,null,null,null,null,null,{"$f":"データ一覧!R402","v":0},null,null,null,null,null,null,"  ","運輸業,郵便業"]
[{"$f":"+データ一覧!$A$53","v":"22.10.1"},null,null,null,null,{"$f":"+データ一覧!R53","v":3483},null,null,{"$f":"+L34+O34","v":11551},null,null,{"$f":"+データ一覧!R55","v":5501},null,null,{"$f":"+データ一覧!R56","v":6050},null,null,null,90.925619834710744,null,{"$f":"+データ一覧!R58","v":3.32},null,{"$f":"+データ一覧!R59","v":33.6},null,null,null,null,null,null,null,"       ha",null,null,null,null,null,null,"       ha",null,null,"     窯業・土石","鉄鋼",null,null,null,null,null,null,null,null,{"$f":"データ一覧!R353","v":0},null,null,null,{"$f":"+データ一覧!R378","v":0},null,null,null,null,null,null,{"$f":"データ一覧!R403","v":0},null,null,null,null,null,null," １６  社　 会 　福　 祉",null,null,null,null,null,null,null,null,null,null,null,null,null,null,null,{"$f":"データ一覧!$A$564","v":"2.4.1"}]
[{"$f":"データ一覧!$A$60","v":"27.10.1"},null,null,null,null,{"$f":"データ一覧!R60","v":3353},null,null,{"$f":"データ一覧!R61","v":10799},null,null,{"$f":"データ一覧!R62","v":5173},null,null,{"$f":"データ一覧!R63","v":5626},null,null,null,91.948098115890502,null,{"$f":"データ一覧!R65","v":3.2206978824932895},null,{"$f":"データ一覧!R66","v":31.4},null,null,"  総　　　　　   数",null,null,null,{"$f":"データ一覧!R272","v":31453.72},null,null," 天然林       針葉樹",null,null,null,{"$f":"データ一覧!R275","v":340.76},null,null,null,"     鉄鋼","非鉄金属",null,null,null,null,null,null,null,null,{"$f":"データ一覧!R354","v":0},null,null,null,{"$f":"+データ一覧!R379","v":0},null,null,null,null,null,null,{"$f":"データ一覧!R404","v":0}]
[{"$f":"+データ一覧!$A$67","v":"2.10.1"},null,null,null,null,{"$f":"データ一覧!R67","v":3270},null,null,{"$f":"データ一覧!R76","v":9916},null,null,{"$f":"データ一覧!R77","v":4776},null,null,{"$f":"データ一覧!R78","v":5140},null,null,null,{"$f":"+L36/O36*100","v":92.918287937743187},null,{"$f":"データ一覧!R68","v":3.03},null,{"$f":"データ一覧!R69","v":28.851581366929501},null,null,"  人工林     針葉樹",null,null,null,{"$f":"データ一覧!R273","v":9193.6000000000022},null,null," 天然林       広葉樹",null,null,null,{"$f":"データ一覧!R276","v":20713.900000000001},null,null,null,"     非鉄金属","金属",null,null,null,null,null,null,null,null,{"$f":"データ一覧!R355","v":1},null,null,null,{"$f":"+データ一覧!R380","v":19},null,null,null,null,null,null,{"$f":"データ一覧!R405","v":"x"},null,null,null,null,null,null,"    ","区分",null,null,null,null,null,null,"施設数",null,null,null,null,"収容定員",null,null,null,null,null,"区分",null,null,null,null,null,null,"施設数",null,null,null,null,"収容定員"]
["年",null,"  区",null," 0歳",null,null,"15歳",null,null,"25歳",null,null,"35歳",null,null,"45歳",null,null,"55歳",null,null,"65歳",null,null,"  人工林     広葉樹",null,null,null,{"$f":"データ一覧!R274","v":299.35999999999996},null,null," 竹               林",null,null,null,{"$f":"データ一覧!R277","v":56.180000000000099},null,null,null,"     金属","はん用機械",null,null,null,null,null,null,null,null,{"$f":"データ一覧!R356","v":0},null,null,null,{"$f":"+データ一覧!R381","v":0},null,null,null,null,null,null,{"$f":"データ一覧!R406","v":0},null,null,null,null,null,null,"生活保護施設",null,null,null,null,null,null,null,{"$f":"データ一覧!R564","v":0},null,null,null,{"$f":"データ一覧!R577","v":0},null,null,null,"人",null,"指定障害者支援施設",null,null,null,null,null,null,null,{"$f":"データ一覧!R570","v":0},null,null,null,{"$f":"データ一覧!R583","v":0},null,null,null,"人"]
["齢","令",null,null,null,"～",null,null,"～",null,null,"～",null,null,"～",null,null,"～",null,null,"～",null,null,null,null,null,null,null,null,null,null,null,null,null,null,null,null,null,null,null,"     一般機械","生産用機械",null,null,null,null,null,null,null,null,{"$f":"データ一覧!R357","v":0},null,null,null,{"$f":"+データ一覧!R382","v":0},null,null,null,null,null,null,{"$f":"データ一覧!R407","v":0},null,null,null,null,null,null,"地域福祉施設",null,null,null,null,null,null,null,{"$f":"データ一覧!R565","v":0},null,null,null,{"$f":"データ一覧!R578","v":0},null,null,null,null,null,"指定相談支援事業所",null,null,null,null,null,null,null,{"$f":"データ一覧!R571","v":0},null,null,null,{"$f":"データ一覧!R584","v":0}]
["階","元","  分",null,null,null,"14歳",null,null,"24歳",null,null,"34歳",null,null,"44歳",null,null,"54歳",null,null,"64歳",null,null,"以上","    林     野     の     構     成",null,null,null,null,null,null,"保     有     形     態     別",null,null,null,null,null,null,null,"     電気機械","業務用機械",null,null,null,null,null,null,null,null,{"$f":"データ一覧!R358","v":0},null,null,null,{"$f":"+データ一覧!R383","v":0},null,null,null,null,null,null,{"$f":"データ一覧!R408","v":0},null,null,null,null,null,null,"老人福祉施設",null,null,null,null,null,null,null,{"$f":"データ一覧!R566","v":5},null,null,null,{"$f":"データ一覧!R579","v":75},null,null,null,null,null,"児童福祉施設",null,null,null,null,null,null,null,{"$f":"データ一覧!R572","v":8},null,null,null,{"$f":"データ一覧!R585","v":445}]
["級","・",null,null,null,null,"人",null,null,"人",null,"    人",null,null,"    人",null,null,"    人",null,null,"    人",null,null,"    人",null,null,null,null,null,null,null,"ha",null,null,null,null,null,"       ha",null,null,null,"電子・デバイス",null,null,null,null,null,null,null,null,{"$f":"データ一覧!R359","v":0},null,null,null,{"$f":"+データ一覧!R384","v":0},null,null,null,null,null,null,{"$f":"データ一覧!R409","v":0},null,null,null,null,null,null,"介護保険施設",null,null,null,null,null,null,null,{"$f":"データ一覧!R567","v":16},null,null,null,{"$f":"データ一覧!R580","v":442},null,null,null,null,null,"母子福祉施設",null,null,null,null,null,null,null,{"$f":"データ一覧!R573","v":0},null,null,null,{"$f":"データ一覧!R586","v":0}]
["別","10","総 数",null,{"$f":"+E42+E43","v":1158},null,null,{"$f":"+H42+H43","v":902},null,null,{"$f":"+K42+K43","v":693},null,null,{"$f":"+N42+N43","v":1006},null,null,{"$f":"+Q42+Q43","v":1099},null,null,{"$f":"+T42+T43","v":1343},null,null,{"$f":"+W42+W43","v":3715},null,null," 無立木地   伐採跡地",null,null,null,{"$f":"データ一覧!R278","v":0},null,null,"国   　　　 　 有",null,null,null,{"$f":"データ一覧!R280","v":6531.71},null,null,null,null,"電気機械",null,null,null,null,null,null,null,null,{"$f":"データ一覧!R360","v":2},null,null,null,{"$f":"+データ一覧!R385","v":107},null,null,null,null,null,null,{"$f":"データ一覧!R410","v":"x"},null,null,null,null,null,null,"障害者自立支援法施行前からの身体障害者福祉施設",null,null,null,null,null,null,null,{"$f":"データ一覧!R568","v":0},null,null,null,{"$f":"データ一覧!R581","v":0},null,null,null,null,null,"婦人保護施設",null,null,null,null,null,null,null,{"$f":"データ一覧!R574","v":0},null,null,null,{"$f":"データ一覧!R587","v":0}]
["人","・","  男",null,{"$f":"データ一覧!R79","v":618},null,null,{"$f":"データ一覧!R80","v":484},null,null,{"$f":"データ一覧!R81","v":383},null,null,{"$f":"データ一覧!R82","v":513},null,null,{"$f":"データ一覧!R83","v":559},null,null,{"$f":"データ一覧!R84","v":648},null,null,{"$f":"データ一覧!R85","v":1571},null,null," 無立木地   未立木地",null,null,null,{"$f":"データ一覧!R279","v":849.91999999999894},null,null,"公       　　  有",null,null,null,{"$f":"データ一覧!R281","v":4625.2700000000004},null,null,null,"     輸送機械","情報通信機械",null,null,null,null,null,null,null,null,{"$f":"データ一覧!R361","v":0},null,null,null,{"$f":"+データ一覧!R386","v":0},null,null,null,null,null,null,{"$f":"データ一覧!R411","v":0},null,null,null,null,null,null,null,null,null,null,null,null,null,null,null,null,null,null,null,null,null,null,null,null,"その他の社会福祉施設",null,null,null,null,null,null,null,{"$f":"データ一覧!R575+データ一覧!R576","v":0},null,null,null,{"$f":"データ一覧!R588+データ一覧!R589","v":0}]
["口","1","  女",null,{"$f":"データ一覧!R87","v":540},null,null,{"$f":"データ一覧!R88","v":418},null,null,{"$f":"データ一覧!R89","v":310},null,null,{"$f":"データ一覧!R90","v":493},null,null,{"$f":"データ一覧!R91","v":540},null,null,{"$f":"データ一覧!R92","v":695},null,null,{"$f":"データ一覧!R93","v":2144},null,null,null,null,null,null,null,null,null,"私          　 有",null,null,null,{"$f":"データ一覧!R282","v":20296.739999999998},null,null,null,"     精密機械","輸送機械",null,null,null,null,null,null,null,null,{"$f":"データ一覧!R362","v":0},null,null,null,{"$f":"+データ一覧!R387","v":0},null,null,null,null,null,null,{"$f":"データ一覧!R412","v":0},null,null,null,null,null,null,"障害福祉サービス事業所",null,null,null,null,null,null,null,{"$f":"データ一覧!R569","v":5},null,null,null,{"$f":"データ一覧!R582","v":44}]
[null,null,null,null,null,null,null,null,null,null,null,null,null,null,null,null,null,null,null,null,null,null,null,null,null,"            林     産     物     生     産     量 ",null,null,null,null,null,null,null,null,null,{"$f":"データ一覧!$A$283","v":"元年中"},null,null,null,null,"     その他","その他",null,null,null,null,null,null,null,null,{"$f":"データ一覧!R363","v":1},null,null,null,{"$f":"+データ一覧!R388","v":90},null,null,null,null,null,null,{"$f":"データ一覧!R413","v":"x"},null,null,null,null,null,null," １７  教　　　　　　　育",null,null,null,null,null,null,null,null,null,null,null,null,null,null,null,{"$f":"データ一覧!$A$590","v":"2.5.1"}]
["人口動態",null,null,null,null,null,null,"   自　然　動　態",null,null,null,null,null,"   社  会  動  態",null,null,null,null,null,{"$f":"データ一覧!$A74","v":"31.1.1～元.12.31"},null,null,null,null,null,"生椎茸",null,null,null,{"$f":"データ一覧!R283","v":2784},null,"㎏","乾椎茸",null,null,null,{"$f":"データ一覧!R284","v":"-"},null,"㎏"]
[null,null,"   区       分",null,null,null,null," 出   生",null,null," 死   亡",null,null," 転   入",null,null," 転   出",null,null," 婚   姻",null,null," 離   婚",null,null,"えのきだけ",null,null,null,{"$f":"データ一覧!R286","v":"-"},null,"㎏","なめこ",null,null,null,{"$f":"データ一覧!R285","v":"-"},null,"㎏",null,"    ","工　業　用　水　量",null,null,null,null,null,"（従業者30人以上の事業所）",null,null,null,null,null,null,null,null,null,null,{"$f":"データ一覧!R414","v":269},null,null,null,null,"㎥／日",null,null,null,null,null,null,null,null,null,null,null,null,null,null,"学校数（校）",null,null,null,null,null,null,"教員数（人）",null,null,null,null,null,null,null,"学生・生徒・児童数（人）"]
[{"$f":"LEFT(データ一覧!$A70,7)","v":"元.10.1～"},null,null,null,null,null,null,"       人",null,null,"       人",null,null,"       人",null,null,"       人",null,null,null,"    件",null,null,"    件",null,"ひらたけ",null,null,null,{"$f":"+データ一覧!R287","v":"-"},null,"㎏","まいたけ",null,null,null,{"$f":"+データ一覧!R288","v":"-"},null,"㎏",null,null,null,null,null,null,null,null,null,null,null,null,null,null,null,null,null,null,null,null,null,null,null,null,null,null,null,null,null,null,"　","区分",null,null,null,null,null,null,null," 本 校",null,null," 分 校",null,null," 本   務",null,null,null," 兼   務",null,null,null," 総   数",null,null,null,"男",null,null,null,"女"]
["～",null," 実          数",null,null,null,null,{"$f":"データ一覧!R70","v":64},null,null,{"$f":"データ一覧!R71","v":173},null,null,{"$f":"データ一覧!R72","v":174},null,null,{"$f":"データ一覧!R73","v":284},null,null,{"$f":"データ一覧!R74","v":85},null,null,{"$f":"データ一覧!R75","v":3},null,null,null,null,null,null,null,null,null,null,null,null,null,null,null,null,null," １１ 　上　・　下　水　道",null,null,null,null,null,null,null,null,null,null,null,null,null,null,null,null,null,null,null,null,null,null,null,null,null,null,null,null,"小学校",null,null,null,null,null,null,null,null,{"$f":"データ一覧!R591","v":4},null,null,{"$f":"データ一覧!R592","v":0},null,null,{"$f":"データ一覧!R593","v":55},null,null,null,{"$f":"データ一覧!R594","v":8},null,null,null,{"$f":"データ一覧!R595","v":490},null,null,null,{"$f":"データ一覧!R596","v":272},null,null,null,{"$f":"データ一覧!R597","v":218}]
[{"$f":"RIGHT(データ一覧!$A72,7)","v":"～2.9.30"},null,"比率(対1,000人)",null,null,null,null,{"$f":"+H48/I35*1000","v":5.9264746735808878},null,null,{"$f":"+K48/I35*1000","v":16.020001852023338},null,null,"- ",null,null,"- ",null,null,{"$f":"+T48/I35*1000","v":7.8710991758496158},null,null,{"$f":"+W48/I35*1000","v":0.27780350032410411},null,null,"  ６  漁               業",null,null,null,null,null,null,null,null,null,null,null,null,null,null,null,null,null,null,null,null,null,null,null,null,null,null,null,null,null,null,null,null,null,null,null,null,null,null,null,null,null,null,"  ","中学校",null,null,null,null,null,null,null,null,{"$f":"データ一覧!R599","v":3},null,null,{"$f":"データ一覧!R600","v":0},null,null,{"$f":"データ一覧!R601","v":35},null,null,null,{"$f":"データ一覧!R602","v":10},null,null,null,{"$f":"データ一覧!R603","v":262},null,null,null,{"$f":"データ一覧!R604","v":139},null,null,null,{"$f":"データ一覧!R605","v":123}]
[null,null,null,null,null,null,null,null,null,null,null,null,null,null,null,null,null,null,null,null,null,null,null,null,null,null,null,null,null,null,null,null,null,null,null,null,null,null,null,null,"水 道 供 給 人 口",null,null,null,null,null,null,"上 水 道",null,null,null,"簡易水道",null,null,null,"専用水道",null,null,null,"飲料水供給施設",null,null,null,"下水道処理人口",null,null,null,null,"  ","高等学校",null,null,null,null,null,null,null,null,{"$f":"データ一覧!R607","v":0},null,null,{"$f":"データ一覧!R608","v":0},null,null,{"$f":"データ一覧!R609","v":0},null,null,null,{"$f":"データ一覧!R610","v":0},null,null,null,{"$f":"データ一覧!R611","v":0},null,null,null,{"$f":"データ一覧!R612","v":0},null,null,null,{"$f":"データ一覧!R613","v":0}]
["  ３  事　　業　　所（民　　営）    （平 28.6.1）",null,null,null,null,null,null,null,null,null,null,null,null,null,null,null,null,null,null,null,null,null,null,null,null,"漁船隻数・トン数",null,null,null,{"$f":"データ一覧!$A$289","v":"元.12.31"},null,null,null,"動　力　船",null,null,null,null,null,null,{"$f":"データ一覧!$A$415","v":"2.3.31"},null,null,null,null,null,"人",null,{"$f":"データ一覧!R415","v":10108},null,null,{"$f":"データ一覧!R416","v":0},null,null,null,null,{"$f":"データ一覧!R417","v":0},null,null,null,{"$f":"データ一覧!R418","v":1},null,null,null,{"$f":"データ一覧!R419","v":4120},null,null,null,"  ","大学・短期大学",null,null,null,null,null,null,null,null,{"$f":"データ一覧!R614","v":0},null,null,{"$f":"データ一覧!R615","v":0},null,null,{"$f":"データ一覧!R616","v":0},null,null,null,{"$f":"データ一覧!R617","v":0},null,null,null,{"$f":"データ一覧!R618","v":0},null,null,null,{"$f":"データ一覧!R619","v":0},null,null,null,{"$f":"データ一覧!R620","v":0}]
[null,null,null,null,null,null,null,null,null,null,null,null,null,null,null,null,null,null,null,null,null,null,null,null,null,"無動力船隻数",null,null,null,"船外機付漁船隻数",null,null,null,"隻　数",null,null,"総 ト ン 数",null,null,null,null,null,null,null,null,null,null,null,null,null,null,null,null,null,null,null,null,null,null,null,null,null,null,null,null,null,null,null,"  ","高等専門学校",null,null,null,null,null,null,null,null,{"$f":"データ一覧!R621","v":0},null,null,{"$f":"データ一覧!R622","v":0},null,null,{"$f":"データ一覧!R623","v":0},null,null,null,{"$f":"データ一覧!R624","v":0},null,null,null,{"$f":"データ一覧!R625","v":0},null,null,null,{"$f":"データ一覧!R626","v":0},null,null,null,{"$f":"データ一覧!R627","v":0}]
[null,null,null,null,null,null,null,"    総　　　　　数",null,null,null,null,null,"    民　　　　　営",null,null,null,null,null,"  国 ･ 地方公共団体",null,null,null,null,null,null,null,null,"隻",null,null,null,"隻",null,null,"隻",null,null,"t",null," １２  交   通　・　通   信",null,null,null,null,null,null,null,null,null,null,null,null,null,null,null,null,null,null,null,null,null,null,null,null,null,null,null,"  ","特別支援学校",null,null,null,null,null,null,null,null,{"$f":"+データ一覧!R629","v":0},null,null,{"$f":"+データ一覧!R630","v":0},null,null,{"$f":"+データ一覧!R631","v":0},null,null,null,{"$f":"+データ一覧!R632","v":0},null,null,null,{"$f":"+データ一覧!R633","v":0},null,null,null,{"$f":"+データ一覧!R634","v":0},null,null,null,{"$f":"+データ一覧!R635","v":0}]
["  　区　　　　　　分",null,null,null,null,null,null," 事業所数",null,null," 従業者数",null,null," 事業所数",null,null," 従業者数",null,null," 事業所数",null,null," 従業者数",null,null,{"$f":"データ一覧!$R$289","v":0},null,null,null,{"$f":"データ一覧!$R$290","v":90},null,null,null,{"$f":"データ一覧!R291","v":26},null,null,{"$f":"データ一覧!R292","v":141.93},null,null,null,null,null,null,null,null,null,null,null,null,null,null,null,null,null,null,null,null,null,null,null,null,null,null,null,null,null,null,null,"  ","幼稚園",null,null,null,null,null,null,null,null,{"$f":"データ一覧!R637","v":0},null,null,{"$f":"データ一覧!R638","v":0},null,null,{"$f":"データ一覧!R639","v":0},null,null,null,{"$f":"データ一覧!R640","v":0},null,null,null,{"$f":"データ一覧!R641","v":0},null,null,null,{"$f":"データ一覧!R642","v":0},null,null,null,{"$f":"データ一覧!R643","v":0}]
[null,null,null,null,null,null,null,null,null,null,"       人",null,null,null,null,null,"       人",null,null,null,null,null,"       人",null,null,"  男女別就業者数",null,null,null,null,null,null,null,{"$f":"データ一覧!$A$293","v":"30.11.1"},null,null,null,null,null,null,"道     路",null,null,null,"実 延 長",null,null,null,"国     道",null,null,null,"県     道",null,null,null,"市町道",null,null,null," 鉄 道 営 業 キ ロ 数",null,null,null,null,null,null,null,"  ","幼保連携認定こども園",null,null,null,null,null,null,null,null,{"$f":"データ一覧!R645","v":2},null,null,{"$f":"データ一覧!R646","v":0},null,null,{"$f":"データ一覧!R647","v":31},null,null,null,{"$f":"データ一覧!R648","v":19},null,null,null,{"$f":"データ一覧!R649","v":268},null,null,null,{"$f":"データ一覧!R650","v":138},null,null,null,{"$f":"データ一覧!R651","v":130}]
["総数",null,null,null,null,null,null,{"$f":"データ一覧!R95","v":"…"},null,null,{"$f":"データ一覧!R152","v":"…"},null,null,{"$f":"データ一覧!R96","v":399},null,null,{"$f":"データ一覧!R153","v":2657},null,null,{"$f":"データ一覧!R97","v":"…"},null,null,{"$f":"データ一覧!R154","v":"…"},null,null,"総　　数",null,null,null,null,null,"男",null,null,null,"女",null,null,null,null,{"$f":"データ一覧!$A$420","v":"31.4.1"},null,null,null,{"$f":"データ一覧!R420","v":419.06200000000001},null,null,"㎞",{"$f":"データ一覧!R421","v":72.400000000000006},null,null,"㎞",{"$f":"データ一覧!R422","v":50.5},null,null,"㎞",{"$f":"データ一覧!R423","v":296.16199999999998},null,null,"km",{"$f":"データ一覧!$A$424","v":"2.4.1"},null,null,null,{"$f":"データ一覧!R424","v":25.611000000000001},null,null,"㎞","  ","各種学校",null,null,null,null,null,null,null,null,{"$f":"データ一覧!R653","v":0},null,null,{"$f":"データ一覧!R654","v":0},null,null,{"$f":"データ一覧!R655","v":0},null,null,null,{"$f":"データ一覧!R656","v":0},null,null,null,{"$f":"データ一覧!R657","v":0},null,null,null,{"$f":"データ一覧!R658","v":0},null,null,null,{"$f":"データ一覧!R659","v":0}]
["農林漁業",null,null,null,null,null,null,{"$f":"データ一覧!R98","v":"…"},null,null,{"$f":"データ一覧!R155","v":"…"},null,null,{"$f":"データ一覧!R99","v":17},null,null,{"$f":"データ一覧!R156","v":227},null,null,{"$f":"データ一覧!R100","v":"…"},null,null,{"$f":"データ一覧!R157","v":"…"},null,null,null,null,null,null,null,"人",null,null,"　　　　人",null,null,null,null,"  人",null,"自動車",null,null,null,null,null,null,null,null,"乗用車",null,null,null,null,null,null,null,null,null,null,null,null,null,null,null,null,null,null,"  ","専修学校",null,null,null,null,null,null,null,null,{"$f":"データ一覧!R661","v":0},null,null,{"$f":"データ一覧!R662","v":0},null,null,{"$f":"データ一覧!R663","v":0},null,null,null,{"$f":"データ一覧!R664","v":0},null,null,null,{"$f":"データ一覧!R665","v":0},null,null,null,{"$f":"データ一覧!R666","v":0},null,null,null,{"$f":"データ一覧!R667","v":0}]
["鉱業",null,null,null,null,null,null,{"$f":"データ一覧!R101","v":"…"},null,null,{"$f":"データ一覧!R158","v":"…"},null,null,{"$f":"データ一覧!R102","v":2},null,null,{"$f":"データ一覧!R159","v":35},null,null,{"$f":"データ一覧!R103","v":"…"},null,null,{"$f":"データ一覧!R160","v":"…"},null,null,{"$f":"AF58+AJ58","v":90},null,null,null,null,null,{"$f":"データ一覧!$R$294","v":90},null,null,null,{"$f":"データ一覧!R295","v":0},null,null,null,null,"台  数",null,null,null,"貨    物",null,null,null,"普     通",null,null,null,"小     型",null,null,null,"乗  合",null,null,"特  種",null,null,"小型二輪",null,null,"軽自動車",null,null," １８  衛　　　　　　　生"]
["建設業",null,null,null,null,null,null,{"$f":"データ一覧!R104","v":"…"},null,null,{"$f":"データ一覧!R161","v":"…"},null,null,{"$f":"データ一覧!R105","v":64},null,null,{"$f":"データ一覧!R162","v":309},null,null,{"$f":"データ一覧!R106","v":"…"},null,null,{"$f":"データ一覧!R163","v":"…"},null,null,"　　　　海 面 漁 業 漁 獲 量 （属人）",null,null,null,null,null,null,null,{"$f":"データ一覧!$A$296","v":"30年中"},null,null,null,null,null,null,{"$f":"データ一覧!$A$425","v":"2.3.31"},null,null,null,null,{"$f":"データ一覧!R425","v":374},null,null,null,{"$f":"データ一覧!R427","v":1881},null,null,null,{"$f":"データ一覧!R428","v":2084},null,null,{"$f":"データ一覧!R426","v":24},null,null,{"$f":"データ一覧!R429","v":142},null,null,{"$f":"データ一覧!R430","v":147},null,null,{"$f":"データ一覧!R431","v":4611}]
["製造業",null,null,null,null,null,null,{"$f":"データ一覧!R107","v":"…"},null,null,{"$f":"データ一覧!R164","v":"…"},null,null,{"$f":"データ一覧!R108","v":38},null,null,{"$f":"データ一覧!R165","v":594},null,null,{"$f":"データ一覧!R109","v":"…"},null,null,{"$f":"データ一覧!R166","v":"…"},null,null,null,null,null,null,null,"       ","ｔ",null,null,null,null,null,null,"t",null,null,null,"     ",null,"郵　便　局　数",null,null,null,null,null,null,null,null,null,null,null,null,null,null,null,"一般加入",null,null,null,"ＩＮＳネット",null,null,null,null,null,null,null,"医療関係施設",null,null,null,null,null,{"$f":"データ一覧!$A$668","v":"元.10.1"},null,null,null,null,null,null,"および医療関係者数",null,null,null,null,null,null,null,{"$f":"データ一覧!$A$673","v":"30.12.31"}]
["電気・ｶﾞ ｽ・熱供給・水道業",null,null,null,null,null,null,{"$f":"データ一覧!R110","v":"…"},null,null,{"$f":"データ一覧!R167","v":"…"},null,null,{"$f":"データ一覧!R111","v":0},null,null,{"$f":"データ一覧!R168","v":0},null,null,{"$f":"データ一覧!R112","v":"…"},null,null,{"$f":"データ一覧!R169","v":"…"},null,null,"   総　　　　　　数",null,null,null,{"$f":"データ一覧!R296","v":1516},null,null,"   藻　　　　　　類",null,null,null,{"$f":"データ一覧!R299","v":3},null,null,null,"通  信",null,null,null," 総     数",null,null,null,null,null," 郵 便 局",null,null,null,null," 簡 易 局",null,null,null,null,"電話数",null,null,null,"加入数",null,null,null,null,null,null,null,null,null,"　","病",null,null,"院",null,"　",null,null,null,null," ","一般診療所",null,null,null,null,null,null,null,null,null,null,null,"歯科診療所"]
["情報通信業",null,null,null,null,null,null,{"$f":"データ一覧!R113","v":"…"},null,null,{"$f":"データ一覧!R170","v":"…"},null,null,{"$f":"データ一覧!R114","v":1},null,null,{"$f":"データ一覧!R171","v":32},null,null,{"$f":"データ一覧!R115","v":"…"},null,null,{"$f":"データ一覧!R172","v":"…"},null,null,"   魚　　　　　　類",null,null,null,{"$f":"データ一覧!R297","v":1455},null,null,"   そ　   の　　 他",null,null,null,{"$f":"データ一覧!R300","v":54},null,null,null,{"$f":"データ一覧!$A$435","v":"2.3.31"},null,null,null,{"$f":"データ一覧!R432","v":6},null,null,null,null,null,{"$f":"データ一覧!R433","v":6},null,null,null,null,{"$f":"データ一覧!R434","v":0},null,null,null,null,{"$f":"データ一覧!R435","v":778},null,null,null,{"$f":"データ一覧!R436","v":253},null,null,null," ","医療関係",null,null,null,null,null,null,null,null,null,null,null,"一般病院",null,null,null,null,null,null,null,null,null,null,null,"有",null,null,"床"]
["運輸業、郵便業",null,null,null,null,null,null,{"$f":"データ一覧!R116","v":"…"},null,null,{"$f":"データ一覧!R173","v":"…"},null,null,{"$f":"データ一覧!R117","v":6},null,null,{"$f":"データ一覧!R174","v":49},null,null,{"$f":"データ一覧!R118","v":"…"},null,null,{"$f":"データ一覧!R175","v":"…"},null,null,"   貝　　　　　　類",null,null,null,{"$f":"データ一覧!R298","v":4},null,null,null,null,null,null,null,null,null,null,null,null,null,null,null,null,null,null,null,null,null,null,null,null,null,null,null,null,null,null,null,null,null,null,null,null,null,null,null,"施設数",null,null,null,null,null,null,{"$f":"データ一覧!R668","v":0},null,null,null,null,null,{"$f":"データ一覧!R669","v":0},null,null,null,null,null,{"$f":"データ一覧!R670","v":8},null,null,null,null,null,{"$f":"データ一覧!R671","v":2},null,null,null,null,null,{"$f":"データ一覧!R672","v":2}]
["卸売業、小売業",null,null,null,null,null,null,{"$f":"データ一覧!R119","v":"…"},null,null,{"$f":"データ一覧!R176","v":"…"},null,null,{"$f":"データ一覧!R120","v":94},null,null,{"$f":"データ一覧!R177","v":411},null,null,{"$f":"データ一覧!R121","v":"…"},null,null,{"$f":"データ一覧!R178","v":"…"},null,null,null,null,null,null,null,null,null,null,null,null,null,null,null,null,null," １３  税　　・　　財　　政",null,null,null,null,null,null,null,null,null,null,null,null,null,null,null,null,null,null,null,null,null,null,null,null,null,null,null,null,null,null,null,null,null,null,"医師",null,null,null,null,"歯科医師",null,null,null,null,"薬剤師",null,null,null,null,"保健師",null,null,null,null,"助産師",null,null," ",null,"看護師",null,null," "]
["金融業、保険業",null,null,null,null,null,null,{"$f":"データ一覧!R122","v":"…"},null,null,{"$f":"データ一覧!R179","v":"…"},null,null,{"$f":"データ一覧!R123","v":4},null,null,{"$f":"データ一覧!R180","v":24},null,null,{"$f":"データ一覧!R124","v":"…"},null,null,{"$f":"データ一覧!R181","v":"…"},null,null,"  ７  商        　　　業 ",null,null,null,null,null,null,{"$f":"データ一覧!$A$301","v":"28.6.1(平成27年実績）"},null,null,null,null,null,null,null,null,null,null,null,null,null,null,null,null,null,null,null,null,null,null,null,null,null,null,null,null,null,null,null,null,null,null,null," ","医療",null,null,null,null,null,null,null,null,"人",null,null,null,null,"人",null,null,null,null,"人",null,null,null,null,"人",null,null,null,null,"人",null,null,null,null,"人"]
["不動産業、物品賃貸業",null,null,null,null,null,null,{"$f":"データ一覧!R125","v":"…"},null,null,{"$f":"データ一覧!R182","v":"…"},null,null,{"$f":"データ一覧!R126","v":2},null,null,{"$f":"データ一覧!R183","v":2},null,null,{"$f":"データ一覧!R127","v":"…"},null,null,{"$f":"データ一覧!R184","v":"…"},null,null,null,null,null,null,null,null,null,null,null,null,null,null,null,null,null,"           ",null,null,null,"歳入",null,null,null,null,null,null,null,null,"(千円）"," ",null,null,null,"歳出",null,null,null,null,null,null,null,null,"(千円）",null,"関係者",null,null,null,null,{"$f":"データ一覧!R673","v":9},null,null,null,null,{"$f":"データ一覧!R674","v":3},null,null,null,null,{"$f":"データ一覧!R675","v":3},null,null,null,null,{"$f":"データ一覧!R676","v":8},null,null,null,null,{"$f":"データ一覧!R677","v":0},null,null,null,null,{"$f":"データ一覧!R678","v":68}]
["学術研究、専門・技術ｻｰﾋﾞｽ業",null,null,null,null,null,null,{"$f":"データ一覧!R128","v":"…"},null,null,{"$f":"データ一覧!R185","v":"…"},null,null,{"$f":"データ一覧!R129","v":13},null,null,{"$f":"データ一覧!R186","v":26},null,null,{"$f":"データ一覧!R130","v":"…"},null,null,{"$f":"データ一覧!R187","v":"…"},null,null,"  産   業　 分　 類",null,null,null,"  商　 店 　数",null,null," 従　業　者　数",null,null,"年　間　販　売　額",null,null,null,null,"一人当たり歳入歳出予算決算額",null,null,null,null,null,null,null,null,null,null,null,null,null,null,null,null,null,null,null,null,null,null,null,null,null,null,null,"                   ",null,null,null,null,null,null,null,null,"死因別死亡数　　　    ",null,null,null,null,null,null,null,null,null,null,null,null,null,null,null,{"$f":"データ一覧!$A$679","v":"元年中"},null,null,null,null,null,null,null,null,"      単 位：人"]
["宿泊業、飲食サービス業",null,null,null,null,null,null,{"$f":"データ一覧!R131","v":"…"},null,null,{"$f":"データ一覧!R188","v":"…"},null,null,{"$f":"データ一覧!R132","v":62},null,null,{"$f":"データ一覧!R189","v":304},null,null,{"$f":"データ一覧!R133","v":"…"},null,null,{"$f":"データ一覧!R190","v":"…"},null,null,null,null,null,null,null,"        店",null,null,null,"　人",null,"         百万円",null,null,null,"区分",null,null,null,{"$f":"データ一覧!$A$445","v":"2年度"},null,null,null,null,{"$f":"データ一覧!$A$459","v":"元年度"},null,null,null,null,"区分",null,null,null,{"$f":"+AS68","v":"2年度"},null,null,null,null,{"$f":"データ一覧!$A$459","v":"元年度"},null,null,null,null," 死     因",null,null,null,null,null,null,null,null,null,null,null,"悪  性",null,null,"高血圧",null,null,null,null,null,"脳血管",null,null,null,null,null," ",null,null,"不慮の事故"]
["生活関連サービス業、娯楽業",null,null,null,null,null,null,{"$f":"データ一覧!R134","v":"…"},null,null,{"$f":"データ一覧!R191","v":"…"},null,null,{"$f":"データ一覧!R135","v":30},null,null,{"$f":"データ一覧!R192","v":74},null,null,{"$f":"データ一覧!R136","v":"…"},null,null,{"$f":"データ一覧!R193","v":"…"},null,null,"総　　　　　　計",null,null,null,{"$f":"データ一覧!R301","v":81},null,null,{"$f":"データ一覧!R310","v":344},null,null,{"$f":"データ一覧!R319","v":6548},null,null,null,null,null,null,null,null,{"$f":"データ一覧!R441","v":914390.48003227101},null,null,null,null,{"$f":"データ一覧!R442","v":839911},null,null,null,null,null,null,null,null,{"$f":"データ一覧!R443","v":914390.48003227101},null,null,null,null,{"$f":"データ一覧!R444","v":796805.03206709423},null,null,null,null,null,null,null,null,null,"全 死 因",null,null,null,"結 核",null,null,"新生物",null,null,"性疾患",null,null,"心疾患",null,null,"疾  患",null,null,"肺  炎",null,null,"老  衰",null,null,null,null," ","交通事故"]
["教育、学習支援業",null,null,null,null,null,null,{"$f":"データ一覧!R137","v":"…"},null,null,{"$f":"データ一覧!R194","v":"…"},null,null,{"$f":"データ一覧!R138","v":10},null,null,{"$f":"データ一覧!R195","v":15},null,null,{"$f":"データ一覧!R139","v":"…"},null,null,{"$f":"データ一覧!R196","v":"…"},null,null,"卸売業",null,null,null,{"$f":"データ一覧!R302","v":4},null,null,{"$f":"データ一覧!R311","v":10},null,null,{"$f":"データ一覧!R320","v":101},null,null,null,null,"項目別歳入歳出予算決算額"]
["医療、福祉",null,null,null,null,null,null,{"$f":"データ一覧!R140","v":"…"},null,null,{"$f":"データ一覧!R197","v":"…"},null,null,{"$f":"データ一覧!R141","v":23},null,null,{"$f":"データ一覧!R198","v":377},null,null,{"$f":"データ一覧!R142","v":"…"},null,null,{"$f":"データ一覧!R199","v":"…"},null,null,"小売業",null,null,null,{"$f":"データ一覧!R303","v":77},null,null,{"$f":"データ一覧!R312","v":334},null,null,{"$f":"データ一覧!R321","v":6447},null,null,null,null,"区分",null,null,null,{"$f":"データ一覧!$A$445","v":"2年度"},null,null,null,null,{"$f":"データ一覧!$A$459","v":"元年度"},null,null,null,null,"区分",null,null,null,{"$f":"+AS71","v":"2年度"},null,null,null,null,{"$f":"データ一覧!$A$459","v":"元年度"},null,null,null,null,null,null,null,null,null,{"$f":"データ一覧!R679","v":178},null,null,null,"   －",{"$f":"データ一覧!R680","v":0},null,{"$f":"データ一覧!R681","v":41},null,null,null,{"$f":"データ一覧!R682","v":3},null,{"$f":"データ一覧!R683","v":27},null,null,{"$f":"データ一覧!R684","v":20},null,null,{"$f":"データ一覧!R685","v":15},null,null,{"$f":"データ一覧!R686","v":2},null,null,{"$f":"データ一覧!R687","v":8},null,null,null,{"$f":"データ一覧!R688","v":1}]
["複合サービス事業",null,null,null,null,null,null,{"$f":"データ一覧!R143","v":"…"},null,null,{"$f":"データ一覧!R200","v":"…"},null,null,{"$f":"データ一覧!R144","v":10},null,null,{"$f":"データ一覧!R201","v":72},null,null,{"$f":"データ一覧!R145","v":"…"},null,null,{"$f":"データ一覧!R202","v":"…"},null,null,"各種商品",null,null,null,{"$f":"データ一覧!R304","v":0},null,null,{"$f":"データ一覧!R313","v":0},null,null,{"$f":"データ一覧!R322","v":0},null,null,null,null,"総額",null,null,null,{"$f":"SUM(AS73:AW85)","v":9067096},null,null,null,null,{"$f":"SUM(AX73:BB85)","v":8512503},null,null,null,null,"総額",null,null,null,{"$f":"SUM(BG73:BK85)","v":9067096},null,null,null,null,{"$f":"SUM(BL73:BP85)","v":8075619},null,null,null,null," １９  警　察　・　消　防  ",null,null,null,null,null,null,null,null,null,null,null,null,null,null,null,{"$f":"+データ一覧!$A689","v":"2.4.1"}]
["サービス業",null,null,null,null,null,null,{"$f":"データ一覧!R146","v":"…"},null,null,{"$f":"データ一覧!R203","v":"…"},null,null,{"$f":"データ一覧!R147","v":23},null,null,{"$f":"データ一覧!R204","v":106},null,null,{"$f":"データ一覧!R148","v":"…"},null,null,{"$f":"データ一覧!R205","v":"…"},null,null,"織物・衣服・身の回り品",null,null,null,{"$f":"データ一覧!R305","v":9},null,null,{"$f":"データ一覧!R314","v":16},null,null,{"$f":"データ一覧!R323","v":103},null,null,null,null,"地方税",null,null,null,{"$f":"データ一覧!R446","v":1345238},null,null,null,null,{"$f":"データ一覧!R460","v":1350054},null,null,null,null,"議会費",null,null,null,{"$f":"データ一覧!R474","v":87655},null,null,null,null,{"$f":"データ一覧!R488","v":88165}]
["公務",null,null,null,null,null,null,{"$f":"データ一覧!R149","v":"…"},null,null,{"$f":"データ一覧!R206","v":"…"},null,null,{"$f":"データ一覧!R150","v":"…"},null,null,{"$f":"データ一覧!R207","v":"…"},null,null,{"$f":"データ一覧!R151","v":"…"},null,null,{"$f":"データ一覧!R208","v":"…"},null,null,"飲食料品",null,null,null,{"$f":"データ一覧!R306","v":38},null,null,{"$f":"データ一覧!R315","v":174},null,null,{"$f":"データ一覧!R324","v":3618},null,null,null,null,"地方譲与税",null,null,null,{"$f":"データ一覧!R447","v":103313},null,null,null,null,{"$f":"データ一覧!R461","v":89300},null,null,null,null,"総務費",null,null,null,{"$f":"データ一覧!R475","v":1079568},null,null,null,null,{"$f":"データ一覧!R489","v":1245040},null,null,null,null,null,null,null,null,null,null,null,null,null,null,"交番・駐在所",null,null,null,null,null,null,null,null,"刑法犯認知件数",null,null,null,null,null,null,null,null,"交通人身事故発生件数"]
["  ４  農        　　　業 ",null,null,null,null,null,null,null,null,null,null,null,null,null,null,null,null,null,null,null,null,null,null,null,null,"機械器具",null,null,null,{"$f":"データ一覧!R307","v":8},null,null,{"$f":"データ一覧!R316","v":29},null,null,{"$f":"データ一覧!R325","v":351},null,null,null,null,"各種交付金",null,null,null,{"$f":"データ一覧!R448","v":231000},null,null,null,null,{"$f":"データ一覧!R462","v":195461},null,null,null,null,"民生費",null,null,null,{"$f":"データ一覧!R476","v":1834316},null,null,null,null,{"$f":"データ一覧!R490","v":1835124},null,null,null,null,null,"警察署数",null,null,null,null,null,null,null,null,"検問所数",null,null,null,null,null,null,null,null,null,{"$f":"データ一覧!$A$691","v":"元年中"},null,null,null,null,null,null,null,null,{"$f":"データ一覧!$A$691","v":"元年中"}]
[null,null,null,null,null,null,null,null,null,null,null,null,null,null,null,null,null,null,null,null,null,null,null,null,null,"その他",null,null,null,{"$f":"データ一覧!R308","v":21},null,null,{"$f":"データ一覧!R317","v":114},null,null,{"$f":"データ一覧!R326","v":"x"},null,null,null,null,"地方特例交付金",null,null,null,{"$f":"データ一覧!R449","v":2700},null,null,null,null,{"$f":"データ一覧!R463","v":44529},null,null,null,null,"衛生費",null,null,null,{"$f":"データ一覧!R477","v":579220},null,null,null,null,{"$f":"データ一覧!R491","v":479300},null,null,null,null,null,null,null,null,null,null,null,null,null,null,null,null,null,null,null,null,null,null,null,null,null,null,null,null," 件",null,null,null,null,null,null,null,null,"　件"]
[null,null,"農家人口と世帯員数(販売農家)",null,null,null,null,null,null,null,"農家世帯の就業状態（販売農家）",null,null,null,null,null,null,null,null,null,null,null,null,null,null,"無店舗",null,null,null,{"$f":"データ一覧!R309","v":1},null,null,{"$f":"データ一覧!R318","v":1},null,null,{"$f":"データ一覧!R327","v":"x"},null,null,null,null,"地方交付税",null,null,null,{"$f":"データ一覧!R450","v":3520000},null,null,null,null,{"$f":"データ一覧!R464","v":3789741},null,null,null,null,"労働費",null,null,null,{"$f":"データ一覧!R478","v":18000},null,null,null,null,{"$f":"データ一覧!R492","v":18000},null,null,null,null,null,null,{"$f":"データ一覧!R689","v":0},null,null,null,null,null,null,null,null,{"$f":"データ一覧!R690","v":4},null,null,null,null,null,null,null,null,{"$f":"データ一覧!R691","v":22},null,null,null,null,null,null,null,null,{"$f":"データ一覧!R692","v":10}]
["農","平",null,null,null,null,null,null,null,null,"農業従事者",null,null,null,null,null,null,null,null,"非農業従事",null,null,"農業従事者",null,null,null,null,null,null,null,null,null,null,null,null,null,null,null,null,null,"分担金および負担金",null,null,null,{"$f":"データ一覧!R451","v":34350},null,null,null,null,{"$f":"データ一覧!R465","v":34801},null,null,null,null,"農林水産業費",null,null,null,{"$f":"データ一覧!R479","v":923214},null,null,null,null,{"$f":"データ一覧!R493","v":796531},null,null,null,null,"火災発生件数",null,null,null,null,null,null,null,null,null,"林野焼損",null,null,null,null,"損      害",null,null,null,null,"消 防 自",null,null,null,"その他の",null,null,null," ",null,null,null,null," "]
["家",{"$f":"+LEFT(データ一覧!$A$209,2)","v":"27"},"区分",null,"農家人口",null,null,"15歳以上の",null,null,null,null,null,"農業就業人口",null,null,null,null,null,"者",null,null,"の平均年齢",null,null,"  ８  住　　　　　　 　宅",null,null,null,null,null,null,null,null,null,null,null,null,null,null,"使用料および手数料",null,null,null,{"$f":"データ一覧!R452","v":76939},null,null,null,null,{"$f":"データ一覧!R466","v":90739},null,null,null,null,"商工費",null,null,null,{"$f":"データ一覧!R480","v":402444},null,null,null,null,{"$f":"データ一覧!R494","v":406352},null,null,null,null,{"$f":"+データ一覧!$A$693","v":"元年中"},null,null,null,null,"焼損棟数",null,null,null,null,"面    積",null,null,null,null,"見  積  額",null,null,null,null,"動 車 数",null,null,null,"ﾎﾟﾝﾌﾟ数",null,null,null," 消防吏員",null,null,null," 消防団員"]
["人就 ","・",null,null,null,null,null,"世帯員数",null,null,null,null,null,null,null,null,"基幹的農業",null,null,null,null,null,null,null,null,null,null,null,null,null,null,null,null,null,null,null,null,null,null,null,"国庫支出金",null,null,null,{"$f":"データ一覧!R453","v":1150841},null,null,null,null,{"$f":"データ一覧!R467","v":705629},null,null,null,null,"土木費",null,null,null,{"$f":"データ一覧!R481","v":2132168},null,null,null,null,{"$f":"データ一覧!R495","v":1170356},null,null,null,null,"         件",null,null,null,null,null,"      棟",null,null,null,null,null,null,"  ａ",null,null,null,"  千円",null,null,"        ",null,null,null,null,null,null,null,null,null,"  人",null,null,null,"  人"]
["口業 ",{"$f":"+MID(データ一覧!$A$209,4,1)","v":"2"},null,null,null,null,"人",null,null,"人",null,null,"人",null,null,"人","従事者",null,"人",null,null,"人",null,null,"歳",{"$f":"+データ一覧!$A$328","v":"30年"},null,null,null,null,{"$f":"データ一覧!$A$331","v":"元年"},"中の増減",null,null,null,{"$f":"+データ一覧!$A$331","v":"元年"},null,null,null,null,"県支出金",null,null,null,{"$f":"データ一覧!R454","v":1029730},null,null,null,null,{"$f":"データ一覧!R468","v":921741},null,null,null,null,"消防費",null,null,null,{"$f":"データ一覧!R482","v":362868},null,null,null,null,{"$f":"データ一覧!R496","v":374461},null,null,null,null,null,{"$f":"データ一覧!R693","v":1},null,null,null,null,{"$f":"データ一覧!R694","v":2},null,null,null,null,{"$f":"データ一覧!R695","v":0},null,null,null,{"$f":"データ一覧!R696","v":8},null,null,null,null,null,{"$f":"データ一覧!R697","v":11},null,null,null,{"$f":"データ一覧!R698","v":7},null,null,null,{"$f":"データ一覧!R699","v":37},null,null,null,{"$f":"データ一覧!R700","v":59}]
["と状 ","・"," 総数",null,{"$f":"データ一覧!R209","v":1335},null,null,{"$f":"データ一覧!R212","v":1207},null,null,{"$f":"データ一覧!R215","v":851},null,null,{"$f":"データ一覧!R218","v":382},null,null,{"$f":"データ一覧!R221","v":333},null,null,{"$f":"データ一覧!R224","v":356},null,null,{"$f":"データ一覧!R227","v":61.1},null,null,null,null,null,null,"建設した住宅",null,null,"消失した住宅",null,null,null,null,null,null,null,"財産収入",null,null,null,{"$f":"データ一覧!R455","v":48140},null,null,null,null,{"$f":"データ一覧!R469","v":71016},null,null,null,null,"教育費",null,null,null,{"$f":"データ一覧!R483","v":885539},null,null,null,null,{"$f":"データ一覧!R497","v":771934},null,null,null,null," ２０  そ　　　の　　　他　"]
["  況 ",{"$f":"+RIGHT(データ一覧!$A$209,1)","v":"1"},"　男",null,{"$f":"データ一覧!R210","v":652},null,null,{"$f":"データ一覧!R213","v":590},null,null,{"$f":"データ一覧!R216","v":486},null,null,{"$f":"データ一覧!R219","v":210},null,null,{"$f":"データ一覧!R222","v":203},null,null,{"$f":"データ一覧!R225","v":104},null,null,{"$f":"データ一覧!R228","v":59.9},null,null,null,null,null,null,null,null,null,null,null,null,null,null,null,null,null,"繰入金",null,null,null,{"$f":"データ一覧!R456","v":206149},null,null,null,null,{"$f":"データ一覧!R470","v":161213},null,null,null,null,"災害復旧費",null,null,null,{"$f":"データ一覧!R484","v":0},null,null,null,null,{"$f":"データ一覧!R498","v":17061}]
[null,null,"　女",null,{"$f":"データ一覧!R211","v":683},null,null,{"$f":"データ一覧!R214","v":617},null,null,{"$f":"データ一覧!R217","v":365},null,null,{"$f":"データ一覧!R220","v":172},null,null,{"$f":"データ一覧!R223","v":130},null,null,{"$f":"データ一覧!R226","v":252},null,null,{"$f":"データ一覧!R229","v":62.7},null,null,null,{"$f":"データ一覧!R328","v":4192},null,"戸",{"$f":"データ一覧!R329","v":24},null,"戸",{"$f":"データ一覧!R330","v":34},null,"戸",null,{"$f":"データ一覧!R331","v":4182},null,"戸",null,"地方債",null,null,null,{"$f":"データ一覧!R457","v":837900},null,null,null,null,{"$f":"データ一覧!R471","v":339100},null,null,null,null,"公債費",null,null,null,{"$f":"データ一覧!R485","v":747928},null,null,null,null,{"$f":"データ一覧!R499","v":873295},null,null,null,null,null,null,null,null,null,"越前加賀海海岸国定公園（夫婦岩、坊主岩）、夜叉ケ池、不動ヶ滝、武周ヶ池、"]
[null,null,null,null,null,null,null,null,null,null,null,null,null,null,null,null,null,null,null,null,null,null,null,null,null,null,null,null,null,null,null,null,null,null,null,null,null,null,null,null,"その他",null,null,null,{"$f":"データ一覧!R458","v":480796},null,null,null,null,{"$f":"データ一覧!R472","v":719179},null,null,null,null,"その他",null,null,null,{"$f":"データ一覧!R486","v":14176},null,null,null,null,{"$f":"データ一覧!R500","v":0},null,null,null,null,"　名所・旧跡",null,null,null,null,"花はす公園、妙泰寺、慈眼寺、杣山城跡、湯尾峠、木ノ芽峠、栃ノ木峠、山中峠、"]
[null,null,"総農家数等",null,null,null,null,null,null,"専兼業別（販売農家）",null,null,null,null,null,null,null,"経営面積規模別（販売農家）",null,null,null,null,null,null,null,null,null,null,null,null,null,null,null,null,null,null,null,null,null,null,null,null,null,null,null,null,null,null,null,null,null,null,null,null,null,null,null,null,null,null,null,null,null,null,null,null,null,null,"  文化財等",null,null,null,null,"馬借街道、今庄宿､板取宿、旧京藤家住宅、伊藤氏庭園、旧北陸線トンネル群、"]
[null,"平","区　分",null,null,null,"戸数（戸）",null,null,"区　分",null,null,null,null,"戸数（戸）",null,null,"区　　分",null,null,null,null,"戸数（戸）",null,null,"  ９  議　 員　・　職 　員",null,null,null,null,null,null,null,null,null,null,null,null,null,null," １４  文　　　　　　化",null,null,null,null,null,null,null,null,null," ( ",{"$f":"データ一覧!$A$507","v":"2.3.31"},null,null,null,"ただし図書館・公民館・児童館",null,null,null,null,null,null,null,{"$f":"データ一覧!$A$501","v":"2.4.1"},null,null,null,null,null,null,null,null,null,"ｱｶﾀﾝ砂防堰提群､北前船主の館右近家、中村家住宅、今庄羽根曽踊、上野の盆踊り､"]
["農",{"$f":"+LEFT(データ一覧!$A$230,2)","v":"27"},"総農家",null,null,null,{"$f":"データ一覧!R230","v":738},null,null,"総数",null,null,null,null,{"$f":"データ一覧!R236","v":344},null,null,"総数",null,null,null,null,{"$f":"データ一覧!R241","v":344},null,null,null,null,null,null,null,null,null,null,null,null,null,null,null,null,null,null,null,null,null,null,null,null,null,null,null,null,null,null,null,null,null,"　宗教法人数 ",null,null,null,null,null,null,{"$f":"データ一覧!$A$509","v":"元.12.31"},null,null,null,"）",null,null,null,null,null,"八坂神社の獅子舞、糠どっさり"]
["家","・","販売農家",null,null,null,{"$f":"データ一覧!R231","v":344},null,null,"専業農家",null,null,null,null,{"$f":"データ一覧!R237","v":73},null,null,"0.5 ha 未満",null,null,null,null,{"$f":"データ一覧!R242","v":79},null,null," 市 町 村 議 会",null,null,"有権者数",null,{"$f":"データ一覧!$A$335","v":"2.9.1"},null,"市 町 村 議 会",null,null,"  職      員      数",null,null,null,null,null,null,null,null,null,"図書館",null,null,null,null,null,"公　民　館",null,null,null,null,null,null,null,null,null,null," 社会教育学級講座",null,null,null,null,null,"　　特産物",null,null,null,null,"花はす、越前がに、水仙、へしこ、青梅、つるし柿、梅肉、蕎麦、地酒"]
["数",{"$f":"+MID(データ一覧!$A$230,4,1)","v":"2"},null,"主業",null,null,{"$f":"データ一覧!R232","v":19},null,null,"兼業農家",null,null,null,null,{"$f":"データ一覧!R238","v":271},null,null,"0.5 ha ～ 1.0 ha",null,null,null,null,{"$f":"データ一覧!R243","v":146},null,null," 議  員  定  数",null,null,"    男",null,"    女",null,"選 挙 投 票 率",null,null," 総     数",null,"一般行政職",null,null,"公    共",null,null,null," 館  数",null,null," 図書数",null,null," 本  館",null,null," 分  館",null,null," 公  園",null,null," 児童館",null,null,"学級講座数",null,null,"受講者数",null,null," 　年中行事",null,null,null,null,"今庄そばまつり（5月）、河野うめまつり(6月)、はすまつり(7月～8月)、"]
[null,"・",null,"準主業",null,null,{"$f":"データ一覧!R233","v":68},null,null,null,"第１種兼業",null,null,null,{"$f":"データ一覧!R239","v":17},null,null,"1.0 ha ～ 1.5 ha",null,null,null,null,{"$f":"データ一覧!R244","v":51},null,null,null,null,"人",null,"人",null,"人",null,null,"　％",null,"人",null,"人",null,"施 設 数",null,null,null,null,{"$f":"データ一覧!R501","v":3},null,{"$f":"データ一覧!R502","v":116644},null,null,null,{"$f":"データ一覧!R503","v":3},null,{"$f":"データ一覧!R504","v":7},null,null,{"$f":"データ一覧!R505","v":0},null,null,{"$f":"データ一覧!R506","v":4},null,null,{"$f":"データ一覧!R507","v":52},null,null,{"$f":"データ一覧!R508","v":1088},null,null,null,null,null,null,null,"花はす早朝マラソン（7月）、河野夏まつり（7月）、街道浪漫今庄宿(9月)、"]
[null,{"$f":"+RIGHT(データ一覧!$A$230,1)","v":"1"},null,"副業的",null,null,{"$f":"データ一覧!R234","v":257},null,null,null,"第２種兼業",null,null,null,{"$f":"データ一覧!R240","v":254},null,null,"1.5 ha ～ 2.0 ha",null,null,null,null,{"$f":"データ一覧!R245","v":25},null,null,null,{"$f":"データ一覧!R332","v":14},null,{"$f":"データ一覧!R335","v":4213},null,{"$f":"データ一覧!R336","v":4620},null,{"$f":"データ一覧!R334","v":79.709999999999994},null,null,{"$f":"データ一覧!R337","v":202},null,{"$f":"データ一覧!R338","v":113},null,null,"宗    教",null,null,null," 仏教系",null,null,"ｷﾘｽﾄ教系",null,null,"神道諸派",null,null,"公会堂・市民会館",null,null,null,null,null," テレビ",null,null,"衛星放送契約数",null,null,null,null,null,null,null,null,null,null,"南越前町ふれあい産業物産ﾌｪｱ(9月)、灯りゃんせ(10月)、"]
[null,null,"自給的農家",null,null,null,{"$f":"データ一覧!R235","v":394},null,null,null,null,null,null,null,null,null,null,"2.0 ha 以上",null,null,null,null,{"$f":"データ一覧!R246","v":42},null,null,null,null,null,null,null,null,null,{"$f":"データ一覧!R333","v":"30.4.22"},null,null,null,null,null,null,null,"法 人 数",null,null,null,{"$f":"データ一覧!R509","v":72},null,null,{"$f":"データ一覧!R510","v":0},null,null,{"$f":"データ一覧!R511","v":60},null,null,{"$f":"データ一覧!R512","v":1},null,null,null,null,null,"      等",null,null,{"$f":"データ一覧!R513","v":1947},null,null,null,null,null,null,null,null,null,null,"新そば収穫感謝祭(11月)、水仙まつり・荒波ﾌｪｽﾀ(12月)"]

{"sheet":"越前町","index":17,"n_rows":93,"n_cols":104,"rows_kept":93,"cut":false,"hidden":false,"merged":[[35,5,35,7],[22,41,22,47],[20,50,20,52],[31,18,31,19],[31,14,31,16],[31,20,31,21],[34,14,34,16],[40,2,40,3],[34,20,34,21],[42,4,42,6],[42,7,42,9],[47,0,47,1],[41,41,41,47],[17,25,17,27],[18,25,18,27],[30,8,30,10],[26,74,26,77],[27,27,27,28],[27,41,27,47],[27,50,27,52],[25,31,26,32],[25,54,25,57],[25,29,26,30],[25,33,26,34],[26,41,26,47],[26,50,26,52],[30,11,30,13],[30,14,30,16],[29,61,29,65],[44,19,44,24],[20,25,20,28],[41,10,41,12],[41,22,41,24],[40,7,40,9],[34,29,34,30],[47,16,47,18],[47,19,47,21],[71,13,71,15],[26,78,26,81],[48,0,48,1],[29,5,29,7],[31,5,31,7],[31,8,31,10],[29,8,29,10],[32,5,32,7],[34,5,34,7],[33,5,33,7],[33,8,33,10],[34,8,34,10],[40,10,40,12],[40,13,40,15],[41,7,41,9],[48,19,48,21],[29,20,29,21],[29,22,29,24],[34,18,34,19],[27,29,27,30],[32,8,32,10],[33,22,33,24],[29,14,29,16],[29,18,29,19],[30,18,30,19],[31,22,31,24],[29,11,29,13],[48,7,48,9],[27,5,27,7],[31,11,31,13],[27,92,27,95],[29,92,29,95],[35,94,35,96],[49,96,49,99],[47,92,47,95],[88,68,88,72],[89,32,89,34],[55,31,55,34],[80,25,81,28],[26,82,26,85],[27,74,27,77],[27,78,27,81],[27,82,27,85],[27,0,27,4],[26,27,26,28],[27,25,27,26],[27,61,27,65],[28,54,28,57],[26,22,26,24],[28,41,28,47],[28,50,28,52],[27,22,27,24],[30,20,30,21],[30,22,30,24],[30,5,30,7],[33,20,33,21],[42,16,42,18],[35,8,35,10],[35,11,35,13],[35,14,35,16],[35,18,35,19],[35,20,35,21],[38,98,38,101],[38,76,38,78],[43,84,44,103],[43,61,43,65],[39,98,39,101],[39,94,39,96],[23,87,23,91],[25,78,25,81],[25,82,25,85],[25,87,25,91],[24,87,24,91],[90,73,92,103],[28,74,28,77],[28,78,28,81],[28,82,28,85],[28,87,28,91],[29,87,29,91],[30,69,30,73],[30,74,30,77],[30,78,30,81],[30,82,30,85],[26,87,26,91],[27,87,27,91],[30,96,30,99],[27,100,27,103],[31,96,31,99],[24,82,24,85],[31,92,31,95],[31,69,31,73],[31,82,31,85],[36,76,36,78],[35,76,35,78],[42,86,42,92],[40,94,40,96],[39,86,39,92],[42,80,42,83],[40,80,41,83],[59,44,59,59],[38,41,38,47],[37,41,37,47],[40,76,41,78],[40,61,40,65],[42,94,42,96],[43,54,43,57],[42,61,42,65],[49,63,49,67],[50,56,50,58],[32,74,32,77],[32,78,32,81],[32,82,32,85],[35,87,35,91],[33,68,34,81],[53,96,53,99],[55,52,55,54],[56,69,56,76],[40,86,40,92],[52,69,52,76],[50,60,50,62],[47,69,47,76],[53,81,53,83],[57,52,57,55],[17,101,17,102],[19,96,19,99],[19,100,19,103],[73,49,73,53],[17,60,17,66],[21,96,21,99],[20,61,20,65],[25,96,25,99],[20,92,20,95],[24,96,24,99],[25,100,25,103],[30,100,30,103],[29,100,29,103],[28,100,28,103],[23,100,23,103],[26,100,26,103],[47,100,47,103],[46,100,46,103],[45,93,45,102],[45,78,45,83],[46,96,46,99],[46,70,46,75],[52,100,52,103],[52,96,52,99],[53,100,53,103],[53,84,53,87],[52,88,52,91],[52,92,52,95],[53,88,53,91],[52,84,52,87],[53,92,53,95],[47,96,47,99],[22,50,22,52],[22,54,22,57],[28,69,28,73],[30,54,30,57],[30,50,30,52],[29,54,29,57],[31,61,31,65],[31,50,31,52],[31,41,31,47],[19,54,19,57],[21,61,21,65],[55,69,55,76],[20,100,20,103],[73,25,73,28],[72,32,72,33],[73,29,73,30],[71,32,71,33],[72,25,72,28],[73,32,73,33],[71,25,71,28],[29,96,29,99],[23,82,23,85],[21,100,21,103],[22,100,22,103],[36,61,36,65],[37,54,37,57],[35,99,35,102],[36,98,36,101],[35,54,35,57],[43,68,44,83],[48,100,48,103],[49,55,49,58],[23,41,23,47],[23,50,23,52],[23,54,23,57],[24,61,24,65],[29,41,29,47],[29,50,29,52],[27,69,27,73],[25,92,25,95],[24,100,24,103],[37,50,37,52],[32,41,32,47],[32,20,32,21],[32,50,32,52],[35,41,35,47],[36,41,36,47],[34,22,34,24],[33,50,33,52],[35,61,35,65],[36,54,36,57],[37,61,37,65],[35,50,35,52],[23,25,23,28],[27,33,27,34],[27,35,27,36],[24,35,24,36],[25,25,25,26],[30,41,30,47],[32,96,32,99],[31,54,31,57],[34,54,34,57],[35,81,35,84],[35,69,35,73],[30,61,30,65],[32,54,32,57],[33,61,33,65],[32,69,32,73],[88,32,88,34],[88,28,88,29],[81,68,82,103],[70,49,70,53],[71,35,71,37],[71,40,71,43],[73,35,73,37],[70,98,70,100],[72,58,72,62],[70,80,70,82],[70,58,70,62],[72,54,72,57],[88,30,88,31],[68,58,68,62],[73,78,73,84],[73,87,73,93],[46,32,46,35],[42,98,42,101],[37,94,37,96],[37,76,37,78],[38,80,38,83],[38,86,38,92],[36,80,36,83],[35,29,35,30],[35,36,35,37],[34,41,34,47],[31,74,31,77],[31,78,31,81],[22,82,22,85],[22,74,22,77],[25,61,25,65],[25,41,25,47],[48,96,48,99],[50,84,50,87],[48,84,48,87],[48,63,48,66],[48,88,48,91],[49,88,49,91],[48,92,48,95],[50,92,50,95],[49,92,49,95],[49,69,49,76],[26,92,26,95],[24,54,24,57],[48,10,48,12],[48,13,48,15],[42,22,42,24],[41,13,41,15],[41,16,41,18],[42,50,42,52],[40,19,40,21],[47,13,47,15],[39,50,39,52],[39,41,39,47],[44,25,44,28],[42,32,42,35],[43,50,43,52],[40,32,40,35],[41,29,41,30],[41,32,41,35],[27,96,27,99],[26,96,26,99],[28,96,28,99],[31,100,31,103],[50,51,50,54],[50,48,50,50],[29,74,29,77],[29,78,29,81],[29,82,29,85],[30,87,30,91],[27,54,27,57],[28,92,28,95],[28,61,28,65],[30,92,30,95],[33,14,33,16],[33,11,33,13],[34,50,34,52],[32,11,32,13],[32,14,32,16],[33,18,33,19],[33,41,33,47],[34,11,34,13],[32,18,32,19],[33,54,33,57],[38,61,38,65],[38,50,38,52],[40,16,40,18],[32,100,32,103],[32,92,32,95],[33,84,34,97],[32,61,32,65],[34,61,34,65],[14,83,15,96],[23,61,23,65],[22,92,22,95],[23,78,23,81],[22,61,22,65],[22,87,22,91],[26,61,26,65],[24,37,24,38],[24,92,24,95],[23,96,23,99],[24,69,24,73],[24,74,24,77],[23,69,23,73],[23,74,23,77],[22,69,22,73],[24,78,24,81],[25,74,25,77],[17,92,17,95],[17,83,17,84],[17,87,17,90],[17,54,17,58],[17,41,17,47],[19,78,19,81],[19,82,19,85],[17,49,17,53],[25,50,25,52],[26,54,26,57],[25,37,26,38],[22,78,22,81],[26,69,26,73],[20,96,20,99],[22,96,22,99],[14,0,15,24],[24,0,25,24],[20,16,20,18],[20,21,20,23],[23,11,23,13],[23,16,23,18],[22,7,22,8],[20,11,20,13],[20,54,20,57],[23,21,23,23],[17,69,17,72],[17,74,17,77],[20,41,20,47],[21,50,21,52],[21,54,21,57],[19,92,19,95],[19,41,19,47],[19,50,19,52],[20,87,20,91],[21,78,21,81],[19,61,19,65],[21,87,21,91],[23,92,23,95],[25,27,25,28],[24,41,24,47],[24,50,24,52],[23,29,23,31],[23,32,23,34],[23,35,23,38],[20,29,20,31],[20,32,20,34],[20,35,20,38],[0,0,0,9],[1,0,3,9],[5,0,5,9],[16,75,16,96],[14,25,15,25],[14,26,15,28],[16,32,16,33],[15,29,15,30],[15,32,15,33],[14,68,15,82],[6,0,8,9],[19,74,19,77],[21,74,21,77],[20,74,20,77],[20,78,20,81],[20,82,20,85],[18,31,18,34],[16,36,16,37],[17,32,17,34],[19,25,19,28],[19,29,19,31],[19,32,19,34],[19,35,19,38],[17,36,17,38],[21,25,21,28],[21,29,21,31],[21,32,21,34],[21,41,21,47],[21,82,21,85],[21,92,21,95],[15,35,15,37],[19,3,19,5],[44,0,45,1],[42,10,42,12],[42,13,42,15],[42,19,42,21],[46,0,46,1],[47,10,47,12],[45,25,45,28],[41,94,41,96],[36,68,36,74],[37,98,37,101],[38,94,38,96],[36,94,36,96],[38,54,38,57],[39,80,39,83],[39,68,39,74],[39,54,39,57],[39,61,39,65],[41,19,41,21],[41,86,41,92],[41,54,41,57],[41,61,41,65],[44,29,44,30],[40,50,40,52],[44,32,44,35],[45,32,45,35],[40,98,40,101],[41,98,41,101],[47,7,47,9],[36,86,36,92],[36,50,36,52],[39,76,39,78],[38,68,38,74],[51,100,51,103],[51,84,51,87],[50,96,50,99],[50,88,50,91],[51,92,51,95],[51,88,51,91],[51,96,51,99],[53,69,53,76],[51,69,51,76],[49,81,49,83],[49,84,49,87],[51,78,51,80],[34,36,34,37],[49,40,49,46],[49,47,49,50],[48,69,48,76],[42,76,42,78],[48,81,48,83],[45,58,45,62],[48,78,48,80],[37,68,37,74],[50,100,50,103],[49,100,49,103],[49,78,49,80],[48,51,48,54],[48,57,48,60],[40,54,40,57],[42,54,42,57],[53,78,53,80],[49,59,49,62],[37,86,37,92],[37,80,37,83],[50,0,51,24],[55,0,55,6],[60,92,60,97],[56,100,56,103],[56,92,56,95],[56,88,56,91],[60,86,60,91],[57,56,57,58],[59,60,59,63],[56,49,56,54],[57,22,57,24],[58,49,58,51],[54,88,54,91],[54,84,54,87],[56,96,56,99],[54,92,54,95],[57,44,57,47],[54,100,54,103],[54,44,54,47],[54,40,54,43],[55,7,55,9],[60,98,60,103],[57,68,58,103],[54,78,54,80],[54,60,54,67],[54,81,54,83],[55,60,55,63],[55,56,55,58],[59,13,59,15],[60,50,60,54],[57,62,57,64],[57,19,57,21],[59,19,59,21],[57,31,57,33],[55,19,55,21],[54,96,54,99],[55,13,55,15],[55,10,55,12],[55,81,55,83],[55,100,55,103],[55,96,55,99],[55,88,55,91],[55,16,55,18],[57,13,57,15],[57,16,57,18],[58,13,58,15],[59,16,59,18],[58,19,58,21],[61,60,61,63],[60,36,60,37],[61,36,61,37],[60,29,60,30],[57,40,57,43],[60,40,60,43],[61,19,61,21],[61,16,61,18],[55,92,55,95],[56,84,56,87],[55,78,55,80],[56,78,56,80],[56,81,56,83],[55,22,55,24],[61,69,61,72],[54,69,54,76],[67,68,70,72],[67,63,67,67],[69,40,69,67],[68,40,68,43],[68,44,68,48],[63,85,63,87],[67,40,67,43],[66,35,66,38],[65,79,65,82],[65,54,65,57],[65,58,65,64],[66,40,66,67],[67,44,67,48],[67,83,67,85],[65,44,65,50],[68,49,68,53],[62,29,62,30],[70,32,70,33],[68,29,68,30],[70,73,70,76],[70,78,70,79],[70,84,70,85],[68,77,68,79],[62,13,62,15],[64,13,64,15],[62,16,62,18],[64,19,64,21],[63,19,63,21],[68,16,68,18],[68,19,68,21],[63,100,63,102],[62,100,62,102],[62,82,62,84],[63,75,63,77],[62,69,62,72],[62,88,62,90],[62,94,62,96],[63,90,63,92],[63,95,63,97],[62,76,62,78],[64,69,64,72],[65,69,65,72],[62,22,62,24],[65,89,65,92],[67,98,67,103],[68,92,68,94],[68,95,68,97],[68,101,68,103],[65,74,65,77],[68,86,68,88],[65,84,65,87],[66,77,66,91],[68,80,68,82],[68,73,68,76],[68,89,68,91],[70,101,70,103],[70,92,70,94],[70,95,70,97],[67,10,67,12],[67,13,67,15],[67,16,67,18],[64,16,64,18],[66,10,66,12],[66,13,66,15],[64,22,64,24],[63,22,63,24],[65,22,65,24],[66,22,66,24],[67,19,67,21],[69,16,69,18],[74,69,74,75],[71,58,71,62],[71,84,72,103],[71,68,72,83],[72,63,72,67],[71,63,71,67],[68,54,68,57],[70,54,70,57],[70,63,70,67],[65,40,65,43],[68,63,68,67],[67,49,67,53],[67,54,67,57],[67,89,67,91],[68,83,68,85],[70,89,70,91],[70,86,70,88],[65,99,65,102],[65,94,65,97],[74,78,74,84],[74,88,74,92],[74,97,74,101],[80,101,80,103],[78,63,78,67],[78,83,78,87],[78,88,78,91],[78,68,78,72],[67,80,67,82],[80,89,80,91],[78,73,78,77],[75,58,75,62],[75,63,75,67],[76,70,76,73],[77,78,77,82],[78,100,78,103],[78,92,78,95],[77,92,77,95],[76,63,76,67],[76,88,76,91],[76,97,76,100],[77,83,77,87],[77,88,77,91],[77,63,77,67],[76,79,76,82],[76,58,76,62],[77,58,77,62],[79,102,79,103],[67,58,67,62],[73,63,73,67],[72,13,72,15],[74,58,74,62],[76,49,76,53],[74,63,74,67],[73,96,73,102],[81,44,81,48],[81,49,81,53],[77,44,77,48],[77,49,77,53],[79,40,79,43],[79,49,79,53],[79,54,79,57],[78,96,78,99],[80,79,80,81],[80,97,80,99],[80,83,80,87],[80,74,80,76],[80,63,80,67],[80,69,80,71],[80,93,80,95],[79,98,79,99],[78,78,78,82],[78,44,78,48],[79,63,79,67],[79,58,79,62],[75,54,75,57],[73,40,73,43],[92,32,92,34],[91,32,91,34],[92,62,92,67],[92,40,92,43],[92,44,92,46],[92,47,92,49],[92,50,92,52],[91,62,91,67],[91,44,91,46],[91,47,91,49],[91,40,91,43],[92,53,92,58],[91,35,91,36],[91,37,91,38],[75,40,75,43],[78,49,78,53],[78,54,78,57],[78,58,78,62],[79,44,79,48],[77,54,77,57],[76,44,76,48],[66,19,66,21],[74,49,74,53],[90,45,90,46],[89,62,89,64],[84,58,84,62],[84,63,84,67],[88,62,88,67],[81,54,81,57],[81,58,81,62],[90,53,90,55],[90,56,90,58],[89,40,89,43],[88,45,88,48],[82,58,82,62],[75,49,75,53],[91,26,91,27],[91,28,91,29],[91,30,91,31],[91,50,91,52],[91,53,91,58],[74,29,74,30],[75,25,75,28],[71,29,71,30],[71,54,71,57],[72,7,72,9],[72,49,72,53],[72,16,72,18],[72,19,72,21],[74,40,74,43],[74,32,74,33],[73,7,73,9],[73,10,73,12],[73,13,73,15],[73,58,73,62],[73,54,73,57],[74,54,74,57],[63,7,63,9],[90,59,90,61],[63,16,63,18],[69,32,69,33],[70,25,70,28],[69,29,69,30],[70,19,70,21],[65,16,65,18],[90,47,90,49],[90,40,90,43],[88,51,88,54],[90,51,90,52],[90,62,90,64],[83,63,83,67],[90,65,90,67],[84,40,84,43],[84,44,84,48],[84,49,84,53],[84,54,84,57],[83,54,83,57],[61,29,61,30],[82,40,82,43],[83,26,83,27],[83,29,83,30],[83,32,83,33],[81,63,81,67],[82,63,82,67],[81,32,81,34],[82,49,82,53],[82,54,82,57],[80,44,80,48],[82,44,82,48],[80,49,80,53],[80,54,80,57],[80,58,80,62],[81,40,81,43],[83,58,83,62],[83,40,83,43],[83,44,83,48],[83,49,83,53],[83,36,83,37],[61,50,61,54],[68,0,68,6],[58,0,58,6],[67,7,67,9],[58,10,58,12],[65,10,65,12],[63,10,63,12],[73,44,73,48],[76,54,76,57],[75,44,75,48],[58,7,58,9],[66,7,66,9],[58,22,58,24],[69,10,69,12],[69,13,69,15],[68,7,68,9],[68,10,68,12],[63,13,63,15],[68,13,68,15],[64,10,64,12],[71,49,71,53],[70,35,70,37],[76,40,76,43],[70,29,70,30],[72,29,72,30],[72,40,72,43],[70,40,70,43],[70,44,70,48],[74,35,74,37],[71,44,71,48],[69,35,69,37],[74,44,74,48],[72,44,72,48],[60,7,60,9],[63,0,63,6],[62,0,62,6],[65,0,65,6],[64,0,64,6],[61,10,61,12],[57,7,57,9],[59,7,59,9],[62,10,62,12],[60,10,60,12],[64,7,64,9],[57,0,57,6],[65,7,65,9],[57,10,57,12],[62,7,62,9],[61,0,61,6],[60,0,60,6],[59,0,59,6],[61,7,61,9],[72,0,72,6],[69,0,69,6],[71,7,71,9],[81,29,81,31],[76,10,76,24],[72,10,72,12],[80,40,80,43],[72,35,72,37],[76,29,76,30],[80,35,81,38],[77,40,77,43],[78,40,78,43],[72,22,72,24],[78,2,78,3],[76,25,76,28],[75,35,75,37],[75,32,75,33],[76,35,76,37],[76,2,76,9],[74,0,75,24],[78,4,78,6],[74,25,74,28],[76,32,76,33],[69,25,69,28],[71,22,71,24],[71,0,71,6],[71,10,71,12],[70,7,70,9],[71,16,71,18],[69,7,69,9],[75,29,75,30],[70,13,70,15],[26,25,26,26],[53,29,53,31],[53,33,53,34],[53,36,53,37],[56,0,56,6],[55,35,55,38],[55,40,55,43],[55,44,55,46],[27,37,27,38],[41,36,41,37],[41,50,41,52],[50,25,50,28],[56,7,56,9],[56,10,56,12],[56,22,56,24],[56,16,56,18],[56,19,56,21],[32,22,32,24],[40,4,40,6],[41,4,41,6],[49,51,49,54],[40,41,40,47],[42,41,42,47],[40,22,40,24],[40,36,40,37],[46,25,46,28],[36,29,36,30],[40,29,40,30],[47,22,47,24],[35,22,35,24],[48,22,48,24],[48,16,48,18],[22,25,22,28],[21,35,21,38],[18,28,18,30],[18,35,18,38],[22,29,22,31],[22,32,22,34],[22,35,22,38],[24,29,24,30],[24,31,24,32],[24,33,24,34],[43,41,43,47],[68,32,68,33],[50,33,50,38],[46,29,46,30],[66,32,66,34],[61,40,61,43],[58,40,58,43],[55,25,55,30],[51,33,51,35],[44,36,44,37],[42,36,42,37],[50,29,50,32],[51,29,51,32],[46,36,46,37],[24,27,24,28],[25,35,26,36],[45,36,45,37],[53,25,53,27],[57,25,57,29],[27,31,27,32],[36,36,36,37],[54,25,54,32],[55,64,55,66],[60,44,60,49],[57,48,57,51],[58,59,58,61],[61,81,61,84],[54,48,54,51],[54,56,54,59],[54,52,54,55],[58,45,58,47],[55,48,55,50],[56,40,56,43],[55,84,55,87],[61,64,61,67],[58,65,58,67],[58,56,58,58],[60,55,60,59],[57,65,57,67],[58,62,58,64],[58,53,58,55],[57,59,57,61],[60,60,60,63],[60,64,60,67],[61,44,61,49],[61,55,61,59],[47,78,47,80],[47,81,47,83],[47,84,47,87],[47,88,47,91],[45,85,45,90],[42,68,42,74],[52,78,52,80],[50,69,50,76]],"merged_total":1088,"flags":["merged_cut"]}
[{"$f":"+データ一覧!S5","v":"にゅうぐん"}]
[{"$f":"+データ一覧!S8","v":"丹生郡"}]
[null,null,null,null,null,null,null,null,null,null,null,null,null,null,null,null,null,null,null,null,null,null,null,null,null,null,null,null,null,null,null,null,null,null,null,null,null,null,null,null," 【位置および地勢】 越前町は、福井県嶺北地方の西端に位置し、 "]
[null,null,null,null,null,null,null,null,null,null,null,null,null,null,null,null,null,null,null,null,null,null,null,null,null,"【町章とそのいわれ】　越前町のイニシャル『Ｅ』をモチーフに、 ",null,null,null,null,null,null,null,null,null,null,null,null,null,null,null,"東西17.9km、南北17.3km、面積153.15k㎡で、西は日本海に面し、",null,null,null,null,null,null,null,null,null,null,null,null,null,null,null,null,null,null,null,null,null,null,null,null,null,null,null,null,null,"所在地",null,null,null,null,null,null,null,"〒916-0192"]
[null,null,null,null,null,null,null,null,null,null,null,null,null,null,null,null,null,null,null,null,null,null,null,null,null,"                   ",null,null,null,"「生き生きとした町民の姿」と「人と技 海土里(みどり)",null,null,null,null,null,null,null,null,null,null,null,"東は鯖江市、南は越前市、南越前町、北は福井市に接している。",null,null,null,null,null,null,null,null,null,null,null,null,null,null,null,null,null,null,null,null,null,null,null,null,null,null,null,null,null,null,null,null,null,null,null,null,null,"丹生郡越前町西田中第１３号５番地１"]
[{"$f":"+データ一覧!S6","v":"えちぜんちょう"},null,null,null,null,null,null,null,null,null,null,null,null,null,null,null,null,null,null,null,null,null,null,null,null,"                    ",null,null,null,"織りなす快適なまち」をイメージし、緑は自然豊かな里や",null,null,null,null,null,null,null,null,null,null,null,"地勢的には、その大半が丹生山地に属し、全体的に標高は高く、"]
[{"$f":"データ一覧!S9","v":"越前町"},null,null,null,null,null,null,null,null,null,null,null,null,null,null,null,null,null,null,null,null,null,null,null,null,"                   ",null,null,null,"山を、青は幸豊かな海を表現している。",null,null,null,null,null,null,null,null,null,null,null,"沿岸の南部にかけて500m級の山々が連なっている。",null,null,null,null,null,null,null,null,null,null,null,null,null,null,null,null,null,null,null,null,null,null,null,null,null,null,null,null,null,"電話番号",null,null,null,null,null,null,null,"(０７７８）３４－１２３４"]
[null,null,null,null,null,null,null,null,null,null,null,null,null,null,null,null,null,null,null,null,null,null,null,null,null,"                    ",null,null,null,"全体で「未来に向かって発展する越前町」を力強く",null,null,null,null,null,null,null,null,null,null,null,"このため、林野率は74.4%と高く、東部に広がる越前平野を除けば、",null,null,null,null,null,null,null,null,null,null,null,null,null,null,null,null,null,null,null,null,null,null,null,null,null,null,null,null,null,"FAX番号",null,null,null,null,null,null,null,"　　〃　　 ３４－１２３６"]
[null,null,null,null,null,null,null,null,null,null,null,null,null,null,null,null,null,null,null,null,null,null,null,null,null,null,null,0,null,"シンボライズしている。",null,null,null,null,null,null,null,null,null,null,null,"中央部の織田盆地や宮崎盆地などに小規模な平地を残すのみで、"]
[null,null,null,null,null,null,null,null,null,null,null,null,null,null,null,null,null,null,null,null,null,null,null,null,null,null,null,0,null,null,null,null,null,null,null,null,null,null,null,null,null,"耕地面積は少なくなっている。また、沿岸部の山を分水嶺として、",null,null,null,null,null,null,null,null,null,null,null,null,null,null,null,null,null,null,null,null,null,null,null,null,null,null,null,null,null,"最寄駅および距離",null,null,null,null,null,null,null,"福鉄バス鯖浦線・福浦線越前町役場前　下車"]
[null,null,null,null,null,null,null,null,null,null,null,null,null,null,null,null,null,null,null,null,null,null,null,null,null,null,null,0,null,null,null,null,null,null,null,null,null,null,null,null,null,"東側は大半が天王川流域で、沿岸部は梅浦川など複数の小河川の流域と"]
[null,null,null,null,null,null,null,null,null,null,null,null,null,null,null,null,null,null,null,null,null,null,null,null,null,null,null,null,null,null,null,null,null,null,null,null,null,null,null,null,null,"なっている。天王川流域では、山地の間を縫うように小規模な谷や"]
[null,null,null,null,null,null,null,null,null,null,null,null,null,null,null,null,null,null,null,null,null,null,null,null,null,"【町が掲げる標語】人と技　海土里　織りなす　快適なまち",null,null,null,null,null,null,null,null,null,null,null,null,null,null,null,"盆地、河川が入り組んでいる。",null,null,null,null,null,null,null,null,null,null,null,null,null,null,null,null,null,null,null,null,null,null,null,null,null,null,null,null,null,"ホームページ",null,null,null,null,null,null,null,"http://www.town.echizen.fukui.jp/"]
[]
["  １  土            　　地",null,null,null,null,null,null,null,null,null,null,null,null,null,null,null,null,null,null,null,null,null,null,null,null,{"$f":"データ一覧!$A$247","v":"元年"},"産米収穫量",null,null,"　 収　穫　量",null,null," 　作 付 面 積",null,null,"   10a当たり収量",null,null,null,null,null,null,null,null,null,null,null,null,null,null,null,null,null,null,null,null,null,null,null,null,null,null,null,null,null,null,null,null," １５  労　　　　　　　働",null,null,null,null,null,null,null,null,null,null,null,null,null,null,"27.10.1"]
[null,null,null,null,null,null,null,null,null,null,null,null,null,null,null,null,null,null,null,null,null,null,null,null,null,null,null,null,null,{"$f":"データ一覧!$S$247","v":4160},null,"t",{"$f":"データ一覧!$S$248","v":817},null,"ha",{"$f":"データ一覧!S249","v":509},null,null,"kg",null," １０  工　　　　　　業 ",null,null,null,null,null,null,null,null,null,null,null,null,null,{"$f":"データ一覧!$A$339","v":"元.6.1（平成30年実績）"}]
["   総          面           積",null,null,null,null,null,null,null,null,null," 固 定 資 産 概 要 調 書 に よ る 地 目 別 面 積",null,null,null,null,null,null,null,null,null,null,null,null,null,null,null,null,null,"   総　　　数",null,null,null,"うち　　田",null,null,null,"うち　　畑",null,null,null,null,null,null,null,null,null,null,null,null,null,null,null,null,null,null,null,null,null,null,null,null,null,null,null,null,null,null,null,null,null,null,null,null,null,null,"産業別就業者数   "]
[null,null,{"$f":"データ一覧!$A$10","v":"2.10.1"},null,null,null,null,null,null,null,null,null,null,null,null,null,{"$f":"データ一覧!$A$12","v":"2.1.1"},null,null,null,null,null,null,null,null," 耕  地  面  積",null,null,null,"       ha",null,null,"ha ",null,null,null,"ha ",null,null,null,"      ","産業分類",null,null,null,null,null,null,null,"事業所数",null,null,null,null,"従業者数",null,null,null,null,null,"年間製造品出荷額等",null,null,null,null,null,null,null,null,"区  分",null,null,null,null,"総    数",null,null,null,null,"男",null,null,null,"女",null,null,"  ","区  分",null,null,null,null,"総    数",null,null,null,null,"男",null,null,null,"女"]
[null,null,null,null,null,null,"㎢",null,null,null,"   総       数",null,null,null,null,"  う ち     田",null,null,null,null,"  う ち     畑",null,null,null,null,{"$f":"データ一覧!$A$250","v":"元.7.15"},null,null,{"$f":"データ一覧!$S$250","v":1410},null,null,{"$f":"データ一覧!$S$251","v":1240},null,null,null,{"$f":"データ一覧!$S$252","v":168},null,null,null,null,null,null,null,null,null,null,null,null,null,"　　   ",null,null,"事業所",null,"　　　　　　　 人",null,null,"人",null,"　　　　　　　　　　　　　　万円",null,null,null,null,null,null,"万円",null,null,null,null,null,null,null,"      人",null,null,null,null,null," 人",null,null,null," 人",null,null,null,null,null,null,null,"      人",null,null,null,"      人",null,null,null,"      人"]
[null,null,null,{"$f":"データ一覧!S10","v":153.15},null,null,null,null,null,null,null,null,null,null,"ha",null,null,null,null,"ha",null,null,null,null,"ha","農 業 生 産 物",null,null,null,"作 付 面 積",null,null,"収 穫 量",null,null,"10a当たり収量",null,null,null,null,"     ","総数",null,null,null,null,null,null,null,null,{"$f":"データ一覧!S339","v":57},null,null,null,{"$f":"+データ一覧!S364","v":1815},null,null,null,null,null,null,{"$f":"データ一覧!S389","v":4221349},null,null,null,null,null,null," 総　　　数",null,null,null,null,null,{"$f":"CA20+CE20","v":11129},null,null,null,{"$f":"データ一覧!S514","v":6073},null,null,null,{"$f":"データ一覧!S539","v":5056}]
[null,null,null,null,null,null,null,null,null,null,null,{"$f":"データ一覧!S12","v":10409.4},null,null,null,null,{"$f":"データ一覧!S13","v":1376.9},null,null,null,null,{"$f":"データ一覧!S14","v":300.7},null,null,null,{"$f":"データ一覧!$A$253","v":"元年中"},null,null,null,"ha",null,null,"t",null,null,"kg",null,null,null,null,"     食料品","食料品",null,null,null,null,null,null,null,null,{"$f":"データ一覧!S340","v":7},null,null,null,{"$f":"+データ一覧!S365","v":104},null,null,null,null,null,null,{"$f":"データ一覧!S390","v":67753},null,null,null,null,null,null,null,null,null,null,null,null,null,null,null,null,null,null,null,null,null,null,null,null,null,"卸売業,小売業",null,null,null,null,{"$f":"CS21+CW21","v":1449},null,null,null,{"$f":"データ一覧!S527","v":673},null,null,null,{"$f":"データ一覧!S552","v":776}]
["  町 ･ 丁 ･ 大 字",null,null,null,null,null,null,null,null,null,"  う ち  宅 地",null,null,null,null,"  う ち  山 林",null,null,null,null,"  う ち  原 野",null,null,null,null,"水　　　　　稲",null,null,null,{"$f":"データ一覧!S253","v":817},null,null,{"$f":"データ一覧!S254","v":4160},null,null,{"$f":"データ一覧!S255","v":509},null,null,null,null,"     飲料・飼料","飲料・飼料",null,null,null,null,null,null,null,null,{"$f":"データ一覧!S341","v":1},null,null,null,{"$f":"+データ一覧!S366","v":24},null,null,null,null,null,null,{"$f":"データ一覧!S391","v":"x"},null,null,null,null,null,null," 第１次産業",null,null,null,null,null,{"$f":"CA22+CE22","v":785},null,null,null,{"$f":"データ一覧!S515","v":600},null,null,null,{"$f":"データ一覧!S540","v":185},null,null,null,null,"金融業,保険業",null,null,null,null,{"$f":"CS22+CW22","v":209},null,null,null,{"$f":"データ一覧!S528","v":70},null,null,null,{"$f":"データ一覧!S553","v":139}]
["  区    画    数",null,null,null,null,null,null,{"$f":"データ一覧!S11","v":99},null,null,null,null,null,null,"ha",null,null,null,null,"ha",null,null,null,null,"ha","六　条　大　麦",null,null,null,{"$f":"データ一覧!S256","v":107},null,null,{"$f":"データ一覧!S257","v":249},null,null,{"$f":"データ一覧!S258","v":233},null,null,null,null,"     繊維","繊維",null,null,null,null,null,null,null,null,{"$f":"データ一覧!S342","v":11},null,null,null,{"$f":"+データ一覧!S367","v":151},null,null,null,null,null,null,{"$f":"データ一覧!S392","v":278259},null,null,null,null,null,null,"  ","農業",null,null,null,null,{"$f":"CA23+CE23","v":464},null,null,null,{"$f":"データ一覧!S516","v":298},null,null,null,{"$f":"データ一覧!S541","v":166},null,null,null,"  ","不動産業",null,null,null,null,54,null,null,null,{"$f":"データ一覧!S529","v":31},null,null,null,{"$f":"データ一覧!S554","v":23}]
[{"$f":"データ一覧!$A$11","v":"31.4.1"},null,null,null,null,null,null,null,null,null,null,{"$f":"データ一覧!S15","v":489.6},null,null,null,null,{"$f":"データ一覧!S16","v":4558.3999999999996},null,null,null,null,{"$f":"データ一覧!S17","v":81.7},null,null,null,"大　　      豆",null,null,null,{"$f":"データ一覧!S259","v":29},null,null,{"$f":"データ一覧!S260","v":28},null,null,{"$f":"データ一覧!S261","v":97},null,null,null,null,"     衣服","木材",null,null,null,null,null,null,null,null,{"$f":"データ一覧!S343","v":6},null,null,null,{"$f":"+データ一覧!S368","v":86},null,null,null,null,null,null,{"$f":"データ一覧!S393","v":123516},null,null,null,null,null,null,"  ","林業",null,null,null,null,27,null,null,null,{"$f":"データ一覧!S517","v":23},null,null,null,{"$f":"データ一覧!S542","v":4},null,null,null,"  ","学術研究",null,null,null,null,209,null,null,null,{"$f":"データ一覧!S530","v":140},null,null,null,{"$f":"データ一覧!S555","v":69}]
["  ２  世　帯　数　と　人　口",null,null,null,null,null,null,null,null,null,null,null,null,null,null,null,null,null,null,null,null,null,null,null,null,null,null,"  区　分",null," 乳 用 牛",null," 肉 用 牛",null,"豚",null,"採卵鶏",null,"ブロイラー",null,null,"     木材","家具",null,null,null,null,null,null,null,null,{"$f":"データ一覧!S344","v":4},null,null,null,{"$f":"+データ一覧!S369","v":64},null,null,null,null,null,null,{"$f":"データ一覧!S394","v":99551},null,null,null,null,null,null,"  ","漁業",null,null,null,null,294,null,null,null,{"$f":"データ一覧!S518","v":279},null,null,null,{"$f":"データ一覧!S543","v":15},null,null,null,"  ","宿泊業,飲食ｻｰﾋﾞｽ",null,null,null,null,595,null,null,null,{"$f":"データ一覧!S531","v":193},null,null,null,{"$f":"データ一覧!S556","v":402}]
[null,null,null,null,null,null,null,null,null,null,null,null,null,null,null,null,null,null,null,null,null,null,null,null,null,"畜　産",null," 飼養農家",null,{"$f":"データ一覧!$S$262","v":"-"},null,{"$f":"データ一覧!$S$264","v":"x"},null,{"$f":"データ一覧!$S$266","v":"-"},null,{"$f":"データ一覧!$S$268","v":"x"},null,{"$f":"データ一覧!$S$270","v":"-"},null,null,"     家具","パルプ・紙",null,null,null,null,null,null,null,null,{"$f":"データ一覧!S345","v":0},null,null,null,{"$f":"+データ一覧!S370","v":0},null,null,null,null,null,null,{"$f":"データ一覧!S395","v":0},null,null,null,null,null,null," 第２次産業",null,null,null,null,null,3984,null,null,null,{"$f":"データ一覧!S519","v":2654},null,null,null,{"$f":"データ一覧!S544","v":1330},null,null,null,"  ","生活関連ｻｰﾋﾞｽ業",null,null,null,null,298,null,null,null,{"$f":"データ一覧!S532","v":109},null,null,null,{"$f":"データ一覧!S557","v":189}]
[null,null,null,null,null,null,null,null,"        人　　　　　　　　　　口",null,null,null,null,null,null,null,null,null,null,null,"１世帯当",null,"人    口",null,null,{"$f":"データ一覧!$A$262","v":"2.3.31"},null,"（戸）",null,null,null,null,null,null,null,null,null,null,null,null,"     パルプ・紙","印刷",null,null,null,null,null,null,null,null,{"$f":"データ一覧!S346","v":1},null,null,null,{"$f":"+データ一覧!S371","v":25},null,null,null,null,null,null,{"$f":"データ一覧!S396","v":"x"},null,null,null,null,null,null,null,"鉱業，採石業",null,null,null,null,4,null,null,null,{"$f":"データ一覧!S520","v":3},null,null,null,{"$f":"データ一覧!S545","v":1},null,null,null,"  ","教育,学習支援業",null,null,null,null,416,null,null,null,{"$f":"データ一覧!S533","v":174},null,null,null,{"$f":"データ一覧!S558","v":242}]
[" 区　　　　分",null,null,null,null,"世帯数",null,null," 総   数",null,null,"    男",null,null,"    女",null,null,"  男／女",null,null,"たり人員",null,"密    度",null,null,null,null," 頭 羽",null,{"$f":"データ一覧!$S$263","v":"-"},null,{"$f":"データ一覧!$S$265","v":5},null,{"$f":"データ一覧!$S$267","v":"-"},null,{"$f":"データ一覧!$S$269","v":150},null,{"$f":"データ一覧!$S$271","v":"-"},null,null,"     出版・印刷","化学",null,null,null,null,null,null,null,null,{"$f":"データ一覧!S347","v":0},null,null,null,{"$f":"+データ一覧!S372","v":0},null,null,null,null,null,null,{"$f":"データ一覧!S397","v":0},null,null,null,null,null,null,"  ","建設業",null,null,null,null,914,null,null,null,{"$f":"データ一覧!S521","v":789},null,null,null,{"$f":"データ一覧!S546","v":125},null,null,null,null,"医療，福祉",null,null,null,null,1489,null,null,null,{"$f":"データ一覧!S534","v":290},null,null,null,{"$f":"データ一覧!S559","v":1199}]
[null,null,null,null,null,"    世 帯",null,null,"       人",null,null,"       人",null,null,"       人",null,null,null,"　　％",null,"    人",null,"    人/㎢",null,null,null,null,null,null,null,null,null,null,null,null,null,null,null,null,null,"     化学","石油・石炭",null,null,null,null,null,null,null,null,{"$f":"データ一覧!S348","v":0},null,null,null,{"$f":"+データ一覧!S373","v":0},null,null,null,null,null,null,{"$f":"データ一覧!S398","v":0},null,null,null,null,null,null,null,"製造業",null,null,null,null,3066,null,null,null,{"$f":"データ一覧!S522","v":1862},null,null,null,{"$f":"データ一覧!S547","v":1204},null,null,null,null,"複合サービス事業",null,null,null,null,189,null,null,null,{"$f":"データ一覧!S535","v":117},null,null,null,{"$f":"データ一覧!S560","v":72}]
[{"$f":"データ一覧!$A$25","v":" 2.10.1"},null,null,null,null,{"$f":"データ一覧!S25","v":6223},null,null,{"$f":"+L30+O30","v":25448},null,null,{"$f":"データ一覧!S27","v":12249},null,null,{"$f":"データ一覧!S28","v":13199},null,null,null,{"$f":"+L30/O30*100","v":92.80248503674521},null,{"$f":"データ一覧!S30","v":4.09},null,{"$f":"データ一覧!S24","v":0},null,null,"  ５  林               業",null,null,null,null,null,null,null,null,null,null,null,null,null,null,"     石油・石炭","プラスチック",null,null,null,null,null,null,null,null,{"$f":"データ一覧!S349","v":7},null,null,null,{"$f":"+データ一覧!S374","v":149},null,null,null,null,null,null,{"$f":"データ一覧!S399","v":328969},null,null,null,null,null,null," 第３次産業",null,null,null,null,null,6263,null,null,null,{"$f":"データ一覧!S523","v":2768},null,null,null,{"$f":"データ一覧!S548","v":3495},null,null,null,null,"サービス業",null,null,null,null,507,null,null,null,{"$f":"データ一覧!S536","v":328},null,null,null,{"$f":"データ一覧!S561","v":179}]
[{"$f":"データ一覧!$A$32","v":" 7.10.1"},null,null,null,null,{"$f":"データ一覧!S32","v":6379},null,null,{"$f":"+L31+O31","v":25158},null,null,{"$f":"データ一覧!S34","v":12060},null,null,{"$f":"データ一覧!S35","v":13098},null,null,null,92.075125973431057,null,{"$f":"データ一覧!S37","v":3.94},null,{"$f":"データ一覧!S31","v":0},null,null,null,null,null,null,null,null,null,null,null,null,null,null,null,null,null,"     プラスチック","ゴム",null,null,null,null,null,null,null,null,{"$f":"データ一覧!S350","v":0},null,null,null,{"$f":"+データ一覧!S375","v":0},null,null,null,null,null,null,{"$f":"データ一覧!S400","v":0},null,null,null,null,null,null,null,"電気･ｶﾞｽ･水道業",null,null,null,null,29,null,null,null,{"$f":"データ一覧!S524","v":27},null,null,null,{"$f":"データ一覧!S549","v":2},null,null,null,null,"公務",null,null,null,null,351,null,null,null,{"$f":"データ一覧!S537","v":239},null,null,null,{"$f":"データ一覧!S562","v":112}]
[{"$f":"データ一覧!$A$39","v":"12.10.1"},null,null,null,null,{"$f":"データ一覧!S39","v":6619},null,null,{"$f":"+L32+O32","v":25017},null,null,{"$f":"データ一覧!S41","v":11973},null,null,{"$f":"データ一覧!S42","v":13044},null,null,null,91.789328426862923,null,{"$f":"データ一覧!S44","v":3.78},null,{"$f":"データ一覧!S38","v":0},null,null,"    　森　　　林　　　総　　　面　　　積   ",null,null,null,null,null,null,null,{"$f":"データ一覧!$A$272","v":"2.3.31"},null,null,null,null,null,null,"     ゴム","皮革",null,null,null,null,null,null,null,null,{"$f":"データ一覧!S351","v":0},null,null,null,{"$f":"+データ一覧!S376","v":0},null,null,null,null,null,null,{"$f":"データ一覧!S401","v":0},null,null,null,null,null,null,null,"情報通信業",null,null,null,null,99,null,null,null,{"$f":"データ一覧!S525","v":71},null,null,null,{"$f":"データ一覧!S550","v":28},null,null,null," 分類不能の産業",null,null,null,null,null,97,null,null,null,{"$f":"データ一覧!S538","v":51},null,null,null,{"$f":"データ一覧!S563","v":46}]
[{"$f":"+データ一覧!$A$46","v":"17.10.1"},null,null,null,null,{"$f":"データ一覧!S46","v":6670},null,null,{"$f":"+L33+O33","v":23995},null,null,{"$f":"データ一覧!S48","v":11447},null,null,{"$f":"データ一覧!S49","v":12548},null,null,null,91.225693337583678,null,{"$f":"データ一覧!S51","v":3.6},null,{"$f":"データ一覧!S52","v":156.9},null,null,"　　　森　　　　　　　林　　　　　　　の　　　　　　　構　　　　　　　成",null,null,null,null,null,null,null,null,null,null,null,null,null,null,"     皮革","窯業・土石",null,null,null,null,null,null,null,null,{"$f":"データ一覧!S352","v":3},null,null,null,{"$f":"+データ一覧!S377","v":60},null,null,null,null,null,null,{"$f":"データ一覧!S402","v":59772},null,null,null,null,null,null,"  ","運輸業,郵便業",null,null,null,null,{"$f":"CA33+CE33","v":369},null,null,null,{"$f":"データ一覧!S526","v":306},null,null,null,{"$f":"データ一覧!S551","v":63}]
[{"$f":"+データ一覧!$A$53","v":"22.10.1"},null,null,null,null,{"$f":"+データ一覧!S53","v":6728},null,null,{"$f":"+L34+O34","v":23160},null,null,{"$f":"+データ一覧!S55","v":11036},null,null,{"$f":"+データ一覧!S56","v":12124},null,null,null,91.026064005278783,null,{"$f":"+データ一覧!S58","v":3.44},null,{"$f":"+データ一覧!S59","v":151.4},null,null,null,null,null,null,null,"       ha",null,null,null,null,null,null,"       ha",null,null,"     窯業・土石","鉄鋼",null,null,null,null,null,null,null,null,{"$f":"データ一覧!S353","v":0},null,null,null,{"$f":"+データ一覧!S378","v":0},null,null,null,null,null,null,{"$f":"データ一覧!S403","v":0},null,null,null,null,null,null," １６  社　 会 　福　 祉",null,null,null,null,null,null,null,null,null,null,null,null,null,null,null,{"$f":"データ一覧!$A$564","v":"2.4.1"}]
[{"$f":"データ一覧!$A$60","v":"27.10.1"},null,null,null,null,{"$f":"データ一覧!S60","v":6560},null,null,{"$f":"データ一覧!S61","v":21538},null,null,{"$f":"データ一覧!S62","v":10333},null,null,{"$f":"データ一覧!S63","v":11205},null,null,null,92.2177599286033,null,{"$f":"データ一覧!S65","v":3.2832317073170731},null,{"$f":"データ一覧!S66","v":140.6},null,null,"  総　　　　　   数",null,null,null,{"$f":"データ一覧!S272","v":11385.1},null,null," 天然林       針葉樹",null,null,null,{"$f":"データ一覧!S275","v":146.86000000000001},null,null,null,"     鉄鋼","非鉄金属",null,null,null,null,null,null,null,null,{"$f":"データ一覧!S354","v":3},null,null,null,{"$f":"+データ一覧!S379","v":73},null,null,null,null,null,null,{"$f":"データ一覧!S404","v":287269}]
[{"$f":"+データ一覧!$A$67","v":"2.10.1"},null,null,null,null,{"$f":"データ一覧!S67","v":6483},null,null,{"$f":"データ一覧!S76","v":19838},null,null,{"$f":"データ一覧!S77","v":9575},null,null,{"$f":"データ一覧!S78","v":10263},null,null,null,{"$f":"+L36/O36*100","v":93.296307122673682},null,{"$f":"データ一覧!S68","v":3.06},null,{"$f":"データ一覧!S69","v":129.53313744694742},null,null,"  人工林     針葉樹",null,null,null,{"$f":"データ一覧!S273","v":6043.19},null,null," 天然林       広葉樹",null,null,null,{"$f":"データ一覧!S276","v":4914.3600000000006},null,null,null,"     非鉄金属","金属",null,null,null,null,null,null,null,null,{"$f":"データ一覧!S355","v":4},null,null,null,{"$f":"+データ一覧!S380","v":100},null,null,null,null,null,null,{"$f":"データ一覧!S405","v":250042},null,null,null,null,null,null,"    ","区分",null,null,null,null,null,null,"施設数",null,null,null,null,"収容定員",null,null,null,null,null,"区分",null,null,null,null,null,null,"施設数",null,null,null,null,"収容定員"]
["年",null,"  区",null," 0歳",null,null,"15歳",null,null,"25歳",null,null,"35歳",null,null,"45歳",null,null,"55歳",null,null,"65歳",null,null,"  人工林     広葉樹",null,null,null,{"$f":"データ一覧!S274","v":29.79},null,null," 竹               林",null,null,null,{"$f":"データ一覧!S277","v":161},null,null,null,"     金属","はん用機械",null,null,null,null,null,null,null,null,{"$f":"データ一覧!S356","v":1},null,null,null,{"$f":"+データ一覧!S381","v":74},null,null,null,null,null,null,{"$f":"データ一覧!S406","v":"x"},null,null,null,null,null,null,"生活保護施設",null,null,null,null,null,null,null,{"$f":"データ一覧!S564","v":0},null,null,null,{"$f":"データ一覧!S577","v":0},null,null,null,"人",null,"指定障害者支援施設",null,null,null,null,null,null,null,{"$f":"データ一覧!S570","v":2},null,null,null,{"$f":"データ一覧!S583","v":185},null,null,null,"人"]
["齢","令",null,null,null,"～",null,null,"～",null,null,"～",null,null,"～",null,null,"～",null,null,"～",null,null,null,null,null,null,null,null,null,null,null,null,null,null,null,null,null,null,null,"     一般機械","生産用機械",null,null,null,null,null,null,null,null,{"$f":"データ一覧!S357","v":1},null,null,null,{"$f":"+データ一覧!S382","v":28},null,null,null,null,null,null,{"$f":"データ一覧!S407","v":"x"},null,null,null,null,null,null,"地域福祉施設",null,null,null,null,null,null,null,{"$f":"データ一覧!S565","v":1},null,null,null,{"$f":"データ一覧!S578","v":0},null,null,null,null,null,"指定相談支援事業所",null,null,null,null,null,null,null,{"$f":"データ一覧!S571","v":1},null,null,null,{"$f":"データ一覧!S584","v":0}]
["階","元","  分",null,null,null,"14歳",null,null,"24歳",null,null,"34歳",null,null,"44歳",null,null,"54歳",null,null,"64歳",null,null,"以上","    林     野     の     構     成",null,null,null,null,null,null,"保     有     形     態     別",null,null,null,null,null,null,null,"     電気機械","業務用機械",null,null,null,null,null,null,null,null,{"$f":"データ一覧!S358","v":0},null,null,null,{"$f":"+データ一覧!S383","v":0},null,null,null,null,null,null,{"$f":"データ一覧!S408","v":0},null,null,null,null,null,null,"老人福祉施設",null,null,null,null,null,null,null,{"$f":"データ一覧!S566","v":6},null,null,null,{"$f":"データ一覧!S579","v":208},null,null,null,null,null,"児童福祉施設",null,null,null,null,null,null,null,{"$f":"データ一覧!S572","v":21},null,null,null,{"$f":"データ一覧!S585","v":905}]
["級","・",null,null,null,null,"人",null,null,"人",null,"    人",null,null,"    人",null,null,"    人",null,null,"    人",null,null,"    人",null,null,null,null,null,null,null,"ha",null,null,null,null,null,"       ha",null,null,null,"電子・デバイス",null,null,null,null,null,null,null,null,{"$f":"データ一覧!S359","v":1},null,null,null,{"$f":"+データ一覧!S384","v":656},null,null,null,null,null,null,{"$f":"データ一覧!S409","v":"x"},null,null,null,null,null,null,"介護保険施設",null,null,null,null,null,null,null,{"$f":"データ一覧!S567","v":31},null,null,null,{"$f":"データ一覧!S580","v":726},null,null,null,null,null,"母子福祉施設",null,null,null,null,null,null,null,{"$f":"データ一覧!S573","v":0},null,null,null,{"$f":"データ一覧!S586","v":0}]
["別","10","総 数",null,{"$f":"+E42+E43","v":2324},null,null,{"$f":"+H42+H43","v":1841},null,null,{"$f":"+K42+K43","v":1326},null,null,{"$f":"+N42+N43","v":2075},null,null,{"$f":"+Q42+Q43","v":2502},null,null,{"$f":"+T42+T43","v":2684},null,null,{"$f":"+W42+W43","v":7078},null,null," 無立木地   伐採跡地",null,null,null,{"$f":"データ一覧!S278","v":2.58},null,null,"国   　　　 　 有",null,null,null,{"$f":"データ一覧!S280","v":16.89},null,null,null,null,"電気機械",null,null,null,null,null,null,null,null,{"$f":"データ一覧!S360","v":1},null,null,null,{"$f":"+データ一覧!S385","v":145},null,null,null,null,null,null,{"$f":"データ一覧!S410","v":"x"},null,null,null,null,null,null,"障害者自立支援法施行前からの身体障害者福祉施設",null,null,null,null,null,null,null,{"$f":"データ一覧!S568","v":0},null,null,null,{"$f":"データ一覧!S581","v":0},null,null,null,null,null,"婦人保護施設",null,null,null,null,null,null,null,{"$f":"データ一覧!S574","v":0},null,null,null,{"$f":"データ一覧!S587","v":0}]
["人","・","  男",null,{"$f":"データ一覧!S79","v":1168},null,null,{"$f":"データ一覧!S80","v":954},null,null,{"$f":"データ一覧!S81","v":720},null,null,{"$f":"データ一覧!S82","v":1091},null,null,{"$f":"データ一覧!S83","v":1252},null,null,{"$f":"データ一覧!S84","v":1300},null,null,{"$f":"データ一覧!S85","v":3084},null,null," 無立木地   未立木地",null,null,null,{"$f":"データ一覧!S279","v":87.32},null,null,"公       　　  有",null,null,null,{"$f":"データ一覧!S281","v":1666.03},null,null,null,"     輸送機械","情報通信機械",null,null,null,null,null,null,null,null,{"$f":"データ一覧!S361","v":0},null,null,null,{"$f":"+データ一覧!S386","v":0},null,null,null,null,null,null,{"$f":"データ一覧!S411","v":0},null,null,null,null,null,null,null,null,null,null,null,null,null,null,null,null,null,null,null,null,null,null,null,null,"その他の社会福祉施設",null,null,null,null,null,null,null,{"$f":"データ一覧!S575+データ一覧!S576","v":0},null,null,null,{"$f":"データ一覧!S588+データ一覧!S589","v":0}]
["口","1","  女",null,{"$f":"データ一覧!S87","v":1156},null,null,{"$f":"データ一覧!S88","v":887},null,null,{"$f":"データ一覧!S89","v":606},null,null,{"$f":"データ一覧!S90","v":984},null,null,{"$f":"データ一覧!S91","v":1250},null,null,{"$f":"データ一覧!S92","v":1384},null,null,{"$f":"データ一覧!S93","v":3994},null,null,null,null,null,null,null,null,null,"私          　 有",null,null,null,{"$f":"データ一覧!S282","v":9702.1799999999985},null,null,null,"     精密機械","輸送機械",null,null,null,null,null,null,null,null,{"$f":"データ一覧!S362","v":1},null,null,null,{"$f":"+データ一覧!S387","v":8},null,null,null,null,null,null,{"$f":"データ一覧!S412","v":"x"},null,null,null,null,null,null,"障害福祉サービス事業所",null,null,null,null,null,null,null,{"$f":"データ一覧!S569","v":11},null,null,null,{"$f":"データ一覧!S582","v":60}]
[null,null,null,null,null,null,null,null,null,null,null,null,null,null,null,null,null,null,null,null,null,null,null,null,null,"            林     産     物     生     産     量 ",null,null,null,null,null,null,null,null,null,{"$f":"データ一覧!$A$283","v":"元年中"},null,null,null,null,"     その他","その他",null,null,null,null,null,null,null,null,{"$f":"データ一覧!S363","v":5},null,null,null,{"$f":"+データ一覧!S388","v":68},null,null,null,null,null,null,{"$f":"データ一覧!S413","v":94261},null,null,null,null,null,null," １７  教　　　　　　　育",null,null,null,null,null,null,null,null,null,null,null,null,null,null,null,{"$f":"データ一覧!$A$590","v":"2.5.1"}]
["人口動態",null,null,null,null,null,null,"   自　然　動　態",null,null,null,null,null,"   社  会  動  態",null,null,null,null,null,{"$f":"データ一覧!$A74","v":"31.1.1～元.12.31"},null,null,null,null,null,"生椎茸",null,null,null,{"$f":"データ一覧!S283","v":6366},null,"㎏","乾椎茸",null,null,null,{"$f":"データ一覧!S284","v":1260},null,"㎏"]
[null,null,"   区       分",null,null,null,null," 出   生",null,null," 死   亡",null,null," 転   入",null,null," 転   出",null,null," 婚   姻",null,null," 離   婚",null,null,"えのきだけ",null,null,null,{"$f":"データ一覧!S286","v":"-"},null,"㎏","なめこ",null,null,null,{"$f":"データ一覧!S285","v":15},null,"㎏",null,"    ","工　業　用　水　量",null,null,null,null,null,"（従業者30人以上の事業所）",null,null,null,null,null,null,null,null,null,null,{"$f":"データ一覧!S414","v":801},null,null,null,null,"㎥／日",null,null,null,null,null,null,null,null,null,null,null,null,null,null,"学校数（校）",null,null,null,null,null,null,"教員数（人）",null,null,null,null,null,null,null,"学生・生徒・児童数（人）"]
[{"$f":"LEFT(データ一覧!$A70,7)","v":"元.10.1～"},null,null,null,null,null,null,"       人",null,null,"       人",null,null,"       人",null,null,"       人",null,null,null,"    件",null,null,"    件",null,"ひらたけ",null,null,null,{"$f":"+データ一覧!S287","v":"-"},null,"㎏","まいたけ",null,null,null,{"$f":"+データ一覧!S288","v":"-"},null,"㎏",null,null,null,null,null,null,null,null,null,null,null,null,null,null,null,null,null,null,null,null,null,null,null,null,null,null,null,null,null,null,"　","区分",null,null,null,null,null,null,null," 本 校",null,null," 分 校",null,null," 本   務",null,null,null," 兼   務",null,null,null," 総   数",null,null,null,"男",null,null,null,"女"]
["～",null," 実          数",null,null,null,null,{"$f":"データ一覧!S70","v":108},null,null,{"$f":"データ一覧!S71","v":308},null,null,{"$f":"データ一覧!S72","v":384},null,null,{"$f":"データ一覧!S73","v":517},null,null,{"$f":"データ一覧!S74","v":44},null,null,{"$f":"データ一覧!S75","v":19},null,null,null,null,null,null,null,null,null,null,null,null,null,null,null,null,null," １１ 　上　・　下　水　道",null,null,null,null,null,null,null,null,null,null,null,null,null,null,null,null,null,null,null,null,null,null,null,null,null,null,null,null,"小学校",null,null,null,null,null,null,null,null,{"$f":"データ一覧!S591","v":8},null,null,{"$f":"データ一覧!S592","v":0},null,null,{"$f":"データ一覧!S593","v":107},null,null,null,{"$f":"データ一覧!S594","v":21},null,null,null,{"$f":"データ一覧!S595","v":1056},null,null,null,{"$f":"データ一覧!S596","v":526},null,null,null,{"$f":"データ一覧!S597","v":530}]
[{"$f":"RIGHT(データ一覧!$A72,7)","v":"～2.9.30"},null,"比率(対1,000人)",null,null,null,null,{"$f":"+H48/I35*1000","v":5.0143931655678333},null,null,{"$f":"+K48/I35*1000","v":14.300306435137896},null,null,"- ",null,null,"- ",null,null,{"$f":"+T48/I35*1000","v":2.042900919305414},null,null,{"$f":"+W48/I35*1000","v":0.88216176060915585},null,null,"  ６  漁               業",null,null,null,null,null,null,null,null,null,null,null,null,null,null,null,null,null,null,null,null,null,null,null,null,null,null,null,null,null,null,null,null,null,null,null,null,null,null,null,null,null,null,"  ","中学校",null,null,null,null,null,null,null,null,{"$f":"データ一覧!S599","v":4},null,null,{"$f":"データ一覧!S600","v":0},null,null,{"$f":"データ一覧!S601","v":63},null,null,null,{"$f":"データ一覧!S602","v":13},null,null,null,{"$f":"データ一覧!S603","v":551},null,null,null,{"$f":"データ一覧!S604","v":265},null,null,null,{"$f":"データ一覧!S605","v":286}]
[null,null,null,null,null,null,null,null,null,null,null,null,null,null,null,null,null,null,null,null,null,null,null,null,null,null,null,null,null,null,null,null,null,null,null,null,null,null,null,null,"水 道 供 給 人 口",null,null,null,null,null,null,"上 水 道",null,null,null,"簡易水道",null,null,null,"専用水道",null,null,null,"飲料水供給施設",null,null,null,"下水道処理人口",null,null,null,null,"  ","高等学校",null,null,null,null,null,null,null,null,{"$f":"データ一覧!S607","v":1},null,null,{"$f":"データ一覧!S608","v":0},null,null,{"$f":"データ一覧!S609","v":32},null,null,null,{"$f":"データ一覧!S610","v":13},null,null,null,{"$f":"データ一覧!S611","v":342},null,null,null,{"$f":"データ一覧!S612","v":200},null,null,null,{"$f":"データ一覧!S613","v":142}]
["  ３  事　　業　　所（民　　営）    （平 28.6.1）",null,null,null,null,null,null,null,null,null,null,null,null,null,null,null,null,null,null,null,null,null,null,null,null,"漁船隻数・トン数",null,null,null,{"$f":"データ一覧!$A$289","v":"元.12.31"},null,null,null,"動　力　船",null,null,null,null,null,null,{"$f":"データ一覧!$A$415","v":"2.3.31"},null,null,null,null,null,"人",null,{"$f":"データ一覧!S415","v":9893},null,null,{"$f":"データ一覧!S416","v":11257},null,null,null,null,{"$f":"データ一覧!S417","v":0},null,null,null,{"$f":"データ一覧!S418","v":18},null,null,null,{"$f":"データ一覧!S419","v":14085},null,null,null,"  ","大学・短期大学",null,null,null,null,null,null,null,null,{"$f":"データ一覧!S614","v":0},null,null,{"$f":"データ一覧!S615","v":0},null,null,{"$f":"データ一覧!S616","v":0},null,null,null,{"$f":"データ一覧!S617","v":0},null,null,null,{"$f":"データ一覧!S618","v":0},null,null,null,{"$f":"データ一覧!S619","v":0},null,null,null,{"$f":"データ一覧!S620","v":0}]
[null,null,null,null,null,null,null,null,null,null,null,null,null,null,null,null,null,null,null,null,null,null,null,null,null,"無動力船隻数",null,null,null,"船外機付漁船隻数",null,null,null,"隻　数",null,null,"総 ト ン 数",null,null,null,null,null,null,null,null,null,null,null,null,null,null,null,null,null,null,null,null,null,null,null,null,null,null,null,null,null,null,null,"  ","高等専門学校",null,null,null,null,null,null,null,null,{"$f":"データ一覧!S621","v":0},null,null,{"$f":"データ一覧!S622","v":0},null,null,{"$f":"データ一覧!S623","v":0},null,null,null,{"$f":"データ一覧!S624","v":0},null,null,null,{"$f":"データ一覧!S625","v":0},null,null,null,{"$f":"データ一覧!S626","v":0},null,null,null,{"$f":"データ一覧!S627","v":0}]
[null,null,null,null,null,null,null,"    総　　　　　数",null,null,null,null,null,"    民　　　　　営",null,null,null,null,null,"  国 ･ 地方公共団体",null,null,null,null,null,null,null,null,"隻",null,null,null,"隻",null,null,"隻",null,null,"t",null," １２  交   通　・　通   信",null,null,null,null,null,null,null,null,null,null,null,null,null,null,null,null,null,null,null,null,null,null,null,null,null,null,null,"  ","特別支援学校",null,null,null,null,null,null,null,null,{"$f":"+データ一覧!S629","v":0},null,null,{"$f":"+データ一覧!S630","v":0},null,null,{"$f":"+データ一覧!S631","v":0},null,null,null,{"$f":"+データ一覧!S632","v":0},null,null,null,{"$f":"+データ一覧!S633","v":0},null,null,null,{"$f":"+データ一覧!S634","v":0},null,null,null,{"$f":"+データ一覧!S635","v":0}]
["  　区　　　　　　分",null,null,null,null,null,null," 事業所数",null,null," 従業者数",null,null," 事業所数",null,null," 従業者数",null,null," 事業所数",null,null," 従業者数",null,null,{"$f":"データ一覧!$S$289","v":0},null,null,null,{"$f":"データ一覧!$S$290","v":162},null,null,null,{"$f":"データ一覧!S291","v":174},null,null,{"$f":"データ一覧!S292","v":1706.14},null,null,null,null,null,null,null,null,null,null,null,null,null,null,null,null,null,null,null,null,null,null,null,null,null,null,null,null,null,null,null,"  ","幼稚園",null,null,null,null,null,null,null,null,{"$f":"データ一覧!S637","v":0},null,null,{"$f":"データ一覧!S638","v":0},null,null,{"$f":"データ一覧!S639","v":0},null,null,null,{"$f":"データ一覧!S640","v":0},null,null,null,{"$f":"データ一覧!S641","v":0},null,null,null,{"$f":"データ一覧!S642","v":0},null,null,null,{"$f":"データ一覧!S643","v":0}]
[null,null,null,null,null,null,null,null,null,null,"       人",null,null,null,null,null,"       人",null,null,null,null,null,"       人",null,null,"  男女別就業者数",null,null,null,null,null,null,null,{"$f":"データ一覧!$A$293","v":"30.11.1"},null,null,null,null,null,null,"道     路",null,null,null,"実 延 長",null,null,null,"国     道",null,null,null,"県     道",null,null,null,"市町道",null,null,null," 鉄 道 営 業 キ ロ 数",null,null,null,null,null,null,null,"  ","幼保連携認定こども園",null,null,null,null,null,null,null,null,{"$f":"データ一覧!S645","v":2},null,null,{"$f":"データ一覧!S646","v":0},null,null,{"$f":"データ一覧!S647","v":31},null,null,null,{"$f":"データ一覧!S648","v":0},null,null,null,{"$f":"データ一覧!S649","v":121},null,null,null,{"$f":"データ一覧!S650","v":69},null,null,null,{"$f":"データ一覧!S651","v":52}]
["総数",null,null,null,null,null,null,{"$f":"データ一覧!S95","v":"…"},null,null,{"$f":"データ一覧!S152","v":"…"},null,null,{"$f":"データ一覧!S96","v":1076},null,null,{"$f":"データ一覧!S153","v":6957},null,null,{"$f":"データ一覧!S97","v":"…"},null,null,{"$f":"データ一覧!S154","v":"…"},null,null,"総　　数",null,null,null,null,null,"男",null,null,null,"女",null,null,null,null,{"$f":"データ一覧!$A$420","v":"31.4.1"},null,null,null,{"$f":"データ一覧!S420","v":475.15799999999996},null,null,"㎞",{"$f":"データ一覧!S421","v":45.1},null,null,"㎞",{"$f":"データ一覧!S422","v":73.099999999999994},null,null,"㎞",{"$f":"データ一覧!S423","v":356.95799999999997},null,null,"km",{"$f":"データ一覧!$A$424","v":"2.4.1"},null,null,null,{"$f":"データ一覧!S424","v":0},null,null,"㎞","  ","各種学校",null,null,null,null,null,null,null,null,{"$f":"データ一覧!S653","v":0},null,null,{"$f":"データ一覧!S654","v":0},null,null,{"$f":"データ一覧!S655","v":0},null,null,null,{"$f":"データ一覧!S656","v":0},null,null,null,{"$f":"データ一覧!S657","v":0},null,null,null,{"$f":"データ一覧!S658","v":0},null,null,null,{"$f":"データ一覧!S659","v":0}]
["農林漁業",null,null,null,null,null,null,{"$f":"データ一覧!S98","v":"…"},null,null,{"$f":"データ一覧!S155","v":"…"},null,null,{"$f":"データ一覧!S99","v":14},null,null,{"$f":"データ一覧!S156","v":175},null,null,{"$f":"データ一覧!S100","v":"…"},null,null,{"$f":"データ一覧!S157","v":"…"},null,null,null,null,null,null,null,"人",null,null,"　　　　人",null,null,null,null,"  人",null,"自動車",null,null,null,null,null,null,null,null,"乗用車",null,null,null,null,null,null,null,null,null,null,null,null,null,null,null,null,null,null,"  ","専修学校",null,null,null,null,null,null,null,null,{"$f":"データ一覧!S661","v":0},null,null,{"$f":"データ一覧!S662","v":0},null,null,{"$f":"データ一覧!S663","v":0},null,null,null,{"$f":"データ一覧!S664","v":0},null,null,null,{"$f":"データ一覧!S665","v":0},null,null,null,{"$f":"データ一覧!S666","v":0},null,null,null,{"$f":"データ一覧!S667","v":0}]
["鉱業",null,null,null,null,null,null,{"$f":"データ一覧!S101","v":"…"},null,null,{"$f":"データ一覧!S158","v":"…"},null,null,{"$f":"データ一覧!S102","v":0},null,null,{"$f":"データ一覧!S159","v":0},null,null,{"$f":"データ一覧!S103","v":"…"},null,null,{"$f":"データ一覧!S160","v":"…"},null,null,{"$f":"AF58+AJ58","v":266},null,null,null,null,null,{"$f":"データ一覧!$S$294","v":258},null,null,null,{"$f":"データ一覧!S295","v":8},null,null,null,null,"台  数",null,null,null,"貨    物",null,null,null,"普     通",null,null,null,"小     型",null,null,null,"乗  合",null,null,"特  種",null,null,"小型二輪",null,null,"軽自動車",null,null," １８  衛　　　　　　　生"]
["建設業",null,null,null,null,null,null,{"$f":"データ一覧!S104","v":"…"},null,null,{"$f":"データ一覧!S161","v":"…"},null,null,{"$f":"データ一覧!S105","v":173},null,null,{"$f":"データ一覧!S162","v":635},null,null,{"$f":"データ一覧!S106","v":"…"},null,null,{"$f":"データ一覧!S163","v":"…"},null,null,"　　　　海 面 漁 業 漁 獲 量 （属人）",null,null,null,null,null,null,null,{"$f":"データ一覧!$A$296","v":"30年中"},null,null,null,null,null,null,{"$f":"データ一覧!$A$425","v":"2.3.31"},null,null,null,null,{"$f":"データ一覧!S425","v":949},null,null,null,{"$f":"データ一覧!S427","v":3779},null,null,null,{"$f":"データ一覧!S428","v":4252},null,null,{"$f":"データ一覧!S426","v":48},null,null,{"$f":"データ一覧!S429","v":367},null,null,{"$f":"データ一覧!S430","v":178},null,null,{"$f":"データ一覧!S431","v":8899}]
["製造業",null,null,null,null,null,null,{"$f":"データ一覧!S107","v":"…"},null,null,{"$f":"データ一覧!S164","v":"…"},null,null,{"$f":"データ一覧!S108","v":203},null,null,{"$f":"データ一覧!S165","v":2224},null,null,{"$f":"データ一覧!S109","v":"…"},null,null,{"$f":"データ一覧!S166","v":"…"},null,null,null,null,null,null,null,"       ","ｔ",null,null,null,null,null,null,"t",null,null,null,"     ",null,"郵　便　局　数",null,null,null,null,null,null,null,null,null,null,null,null,null,null,null,"一般加入",null,null,null,"ＩＮＳネット",null,null,null,null,null,null,null,"医療関係施設",null,null,null,null,null,{"$f":"データ一覧!$A$668","v":"元.10.1"},null,null,null,null,null,null,"および医療関係者数",null,null,null,null,null,null,null,{"$f":"データ一覧!$A$673","v":"30.12.31"}]
["電気・ｶﾞ ｽ・熱供給・水道業",null,null,null,null,null,null,{"$f":"データ一覧!S110","v":"…"},null,null,{"$f":"データ一覧!S167","v":"…"},null,null,{"$f":"データ一覧!S111","v":0},null,null,{"$f":"データ一覧!S168","v":0},null,null,{"$f":"データ一覧!S112","v":"…"},null,null,{"$f":"データ一覧!S169","v":"…"},null,null,"   総　　　　　　数",null,null,null,{"$f":"データ一覧!S296","v":3155},null,null,"   藻　　　　　　類",null,null,null,{"$f":"データ一覧!S299","v":1},null,null,null,"通  信",null,null,null," 総     数",null,null,null,null,null," 郵 便 局",null,null,null,null," 簡 易 局",null,null,null,null,"電話数",null,null,null,"加入数",null,null,null,null,null,null,null,null,null,"　","病",null,null,"院",null,"　",null,null,null,null," ","一般診療所",null,null,null,null,null,null,null,null,null,null,null,"歯科診療所"]
["情報通信業",null,null,null,null,null,null,{"$f":"データ一覧!S113","v":"…"},null,null,{"$f":"データ一覧!S170","v":"…"},null,null,{"$f":"データ一覧!S114","v":1},null,null,{"$f":"データ一覧!S171","v":4},null,null,{"$f":"データ一覧!S115","v":"…"},null,null,{"$f":"データ一覧!S172","v":"…"},null,null,"   魚　　　　　　類",null,null,null,{"$f":"データ一覧!S297","v":1901},null,null,"   そ　   の　　 他",null,null,null,{"$f":"データ一覧!S300","v":1133},null,null,null,{"$f":"データ一覧!$A$435","v":"2.3.31"},null,null,null,{"$f":"データ一覧!S432","v":10},null,null,null,null,null,{"$f":"データ一覧!S433","v":8},null,null,null,null,{"$f":"データ一覧!S434","v":2},null,null,null,null,{"$f":"データ一覧!S435","v":2218},null,null,null,{"$f":"データ一覧!S436","v":249},null,null,null," ","医療関係",null,null,null,null,null,null,null,null,null,null,null,"一般病院",null,null,null,null,null,null,null,null,null,null,null,"有",null,null,"床"]
["運輸業、郵便業",null,null,null,null,null,null,{"$f":"データ一覧!S116","v":"…"},null,null,{"$f":"データ一覧!S173","v":"…"},null,null,{"$f":"データ一覧!S117","v":15},null,null,{"$f":"データ一覧!S174","v":94},null,null,{"$f":"データ一覧!S118","v":"…"},null,null,{"$f":"データ一覧!S175","v":"…"},null,null,"   貝　　　　　　類",null,null,null,{"$f":"データ一覧!S298","v":120},null,null,null,null,null,null,null,null,null,null,null,null,null,null,null,null,null,null,null,null,null,null,null,null,null,null,null,null,null,null,null,null,null,null,null,null,null,null,null,"施設数",null,null,null,null,null,null,{"$f":"データ一覧!S668","v":2},null,null,null,null,null,{"$f":"データ一覧!S669","v":2},null,null,null,null,null,{"$f":"データ一覧!S670","v":10},null,null,null,null,null,{"$f":"データ一覧!S671","v":1},null,null,null,null,null,{"$f":"データ一覧!S672","v":6}]
["卸売業、小売業",null,null,null,null,null,null,{"$f":"データ一覧!S119","v":"…"},null,null,{"$f":"データ一覧!S176","v":"…"},null,null,{"$f":"データ一覧!S120","v":249},null,null,{"$f":"データ一覧!S177","v":1353},null,null,{"$f":"データ一覧!S121","v":"…"},null,null,{"$f":"データ一覧!S178","v":"…"},null,null,null,null,null,null,null,null,null,null,null,null,null,null,null,null,null," １３  税　　・　　財　　政",null,null,null,null,null,null,null,null,null,null,null,null,null,null,null,null,null,null,null,null,null,null,null,null,null,null,null,null,null,null,null,null,null,null,"医師",null,null,null,null,"歯科医師",null,null,null,null,"薬剤師",null,null,null,null,"保健師",null,null,null,null,"助産師",null,null," ",null,"看護師",null,null," "]
["金融業、保険業",null,null,null,null,null,null,{"$f":"データ一覧!S122","v":"…"},null,null,{"$f":"データ一覧!S179","v":"…"},null,null,{"$f":"データ一覧!S123","v":13},null,null,{"$f":"データ一覧!S180","v":93},null,null,{"$f":"データ一覧!S124","v":"…"},null,null,{"$f":"データ一覧!S181","v":"…"},null,null,"  ７  商        　　　業 ",null,null,null,null,null,null,{"$f":"データ一覧!$A$301","v":"28.6.1(平成27年実績）"},null,null,null,null,null,null,null,null,null,null,null,null,null,null,null,null,null,null,null,null,null,null,null,null,null,null,null,null,null,null,null,null,null,null,null," ","医療",null,null,null,null,null,null,null,null,"人",null,null,null,null,"人",null,null,null,null,"人",null,null,null,null,"人",null,null,null,null,"人",null,null,null,null,"人"]
["不動産業、物品賃貸業",null,null,null,null,null,null,{"$f":"データ一覧!S125","v":"…"},null,null,{"$f":"データ一覧!S182","v":"…"},null,null,{"$f":"データ一覧!S126","v":10},null,null,{"$f":"データ一覧!S183","v":27},null,null,{"$f":"データ一覧!S127","v":"…"},null,null,{"$f":"データ一覧!S184","v":"…"},null,null,null,null,null,null,null,null,null,null,null,null,null,null,null,null,null,"           ",null,null,null,"歳入",null,null,null,null,null,null,null,null,"(千円）"," ",null,null,null,"歳出",null,null,null,null,null,null,null,null,"(千円）",null,"関係者",null,null,null,null,{"$f":"データ一覧!S673","v":15},null,null,null,null,{"$f":"データ一覧!S674","v":8},null,null,null,null,{"$f":"データ一覧!S675","v":22},null,null,null,null,{"$f":"データ一覧!S676","v":11},null,null,null,null,{"$f":"データ一覧!S677","v":0},null,null,null,null,{"$f":"データ一覧!S678","v":159}]
["学術研究、専門・技術ｻｰﾋﾞｽ業",null,null,null,null,null,null,{"$f":"データ一覧!S128","v":"…"},null,null,{"$f":"データ一覧!S185","v":"…"},null,null,{"$f":"データ一覧!S129","v":15},null,null,{"$f":"データ一覧!S186","v":36},null,null,{"$f":"データ一覧!S130","v":"…"},null,null,{"$f":"データ一覧!S187","v":"…"},null,null,"  産   業　 分　 類",null,null,null,"  商　 店 　数",null,null," 従　業　者　数",null,null,"年　間　販　売　額",null,null,null,null,"一人当たり歳入歳出予算決算額",null,null,null,null,null,null,null,null,null,null,null,null,null,null,null,null,null,null,null,null,null,null,null,null,null,null,null,"                   ",null,null,null,null,null,null,null,null,"死因別死亡数　　　　　　    ",null,null,null,null,null,null,null,null,null,null,null,null,null,null,null,{"$f":"データ一覧!$A$679","v":"元年中"},null,null,null,null,null,null,null,null,"      単 位：人"]
["宿泊業、飲食サービス業",null,null,null,null,null,null,{"$f":"データ一覧!S131","v":"…"},null,null,{"$f":"データ一覧!S188","v":"…"},null,null,{"$f":"データ一覧!S132","v":132},null,null,{"$f":"データ一覧!S189","v":687},null,null,{"$f":"データ一覧!S133","v":"…"},null,null,{"$f":"データ一覧!S190","v":"…"},null,null,null,null,null,null,null,"        店",null,null,null,"　人",null,"         百万円",null,null,null,"区分",null,null,null,{"$f":"データ一覧!$A$445","v":"2年度"},null,null,null,null,{"$f":"データ一覧!$A$459","v":"元年度"},null,null,null,null,"区分",null,null,null,{"$f":"+AS68","v":"2年度"},null,null,null,null,{"$f":"データ一覧!$A$459","v":"元年度"},null,null,null,null," 死     因",null,null,null,null,null,null,null,null,null,null,null,"悪  性",null,null,"高血圧",null,null,null,null,null,"脳血管",null,null,null,null,null," ",null,null,"不慮の事故"]
["生活関連サービス業、娯楽業",null,null,null,null,null,null,{"$f":"データ一覧!S134","v":"…"},null,null,{"$f":"データ一覧!S191","v":"…"},null,null,{"$f":"データ一覧!S135","v":73},null,null,{"$f":"データ一覧!S192","v":160},null,null,{"$f":"データ一覧!S136","v":"…"},null,null,{"$f":"データ一覧!S193","v":"…"},null,null,"総　　　　　　計",null,null,null,{"$f":"データ一覧!S301","v":224},null,null,{"$f":"データ一覧!S310","v":1023},null,null,{"$f":"データ一覧!S319","v":18439},null,null,null,null,null,null,null,null,{"$f":"データ一覧!S441","v":654423.48018953518},null,null,null,null,{"$f":"データ一覧!S442","v":711732},null,null,null,null,null,null,null,null,{"$f":"データ一覧!S443","v":654423.48018953518},null,null,null,null,{"$f":"データ一覧!S444","v":675528.03529820044},null,null,null,null,null,null,null,null,null,"全 死 因",null,null,null,"結 核",null,null,"新生物",null,null,"性疾患",null,null,"心疾患",null,null,"疾  患",null,null,"肺  炎",null,null,"老  衰",null,null,null,null," ","交通事故"]
["教育、学習支援業",null,null,null,null,null,null,{"$f":"データ一覧!S137","v":"…"},null,null,{"$f":"データ一覧!S194","v":"…"},null,null,{"$f":"データ一覧!S138","v":24},null,null,{"$f":"データ一覧!S195","v":45},null,null,{"$f":"データ一覧!S139","v":"…"},null,null,{"$f":"データ一覧!S196","v":"…"},null,null,"卸売業",null,null,null,{"$f":"データ一覧!S302","v":26},null,null,{"$f":"データ一覧!S311","v":126},null,null,{"$f":"データ一覧!S320","v":5470},null,null,null,null,"項目別歳入歳出予算決算額"]
["医療、福祉",null,null,null,null,null,null,{"$f":"データ一覧!S140","v":"…"},null,null,{"$f":"データ一覧!S197","v":"…"},null,null,{"$f":"データ一覧!S141","v":49},null,null,{"$f":"データ一覧!S198","v":1098},null,null,{"$f":"データ一覧!S142","v":"…"},null,null,{"$f":"データ一覧!S199","v":"…"},null,null,"小売業",null,null,null,{"$f":"データ一覧!S303","v":198},null,null,{"$f":"データ一覧!S312","v":897},null,null,{"$f":"データ一覧!S321","v":12969},null,null,null,null,"区分",null,null,null,{"$f":"データ一覧!$A$445","v":"2年度"},null,null,null,null,{"$f":"データ一覧!$A$459","v":"元年度"},null,null,null,null,"区分",null,null,null,{"$f":"+AS71","v":"2年度"},null,null,null,null,{"$f":"データ一覧!$A$459","v":"元年度"},null,null,null,null,null,null,null,null,null,{"$f":"データ一覧!S679","v":337},null,null,null,"   －",{"$f":"データ一覧!S680","v":0},null,{"$f":"データ一覧!S681","v":75},null,null,null,{"$f":"データ一覧!S682","v":0},null,{"$f":"データ一覧!S683","v":65},null,null,{"$f":"データ一覧!S684","v":23},null,null,{"$f":"データ一覧!S685","v":23},null,null,{"$f":"データ一覧!S686","v":51},null,null,{"$f":"データ一覧!S687","v":2},null,null,{"$f":"データ一覧!S688","v":0}]
["複合サービス事業",null,null,null,null,null,null,{"$f":"データ一覧!S143","v":"…"},null,null,{"$f":"データ一覧!S200","v":"…"},null,null,{"$f":"データ一覧!S144","v":14},null,null,{"$f":"データ一覧!S201","v":112},null,null,{"$f":"データ一覧!S145","v":"…"},null,null,{"$f":"データ一覧!S202","v":"…"},null,null,"各種商品",null,null,null,{"$f":"データ一覧!S304","v":0},null,null,{"$f":"データ一覧!S313","v":0},null,null,{"$f":"データ一覧!S322","v":0},null,null,null,null,"総額",null,null,null,{"$f":"SUM(AS73:AW85)","v":12982453},null,null,null,null,{"$f":"SUM(AX73:BB85)","v":14356348},null,null,null,null,"総額",null,null,null,{"$f":"SUM(BG73:BK85)","v":12982453},null,null,null,null,{"$f":"SUM(BL73:BP85)","v":13626076},null,null,null,null," １９  警　察　・　消　防  ",null,null,null,null,null,null,null,null,null,null,null,null,null,null,null,{"$f":"+データ一覧!$A689","v":"2.4.1"}]
["サービス業",null,null,null,null,null,null,{"$f":"データ一覧!S146","v":"…"},null,null,{"$f":"データ一覧!S203","v":"…"},null,null,{"$f":"データ一覧!S147","v":91},null,null,{"$f":"データ一覧!S204","v":214},null,null,{"$f":"データ一覧!S148","v":"…"},null,null,{"$f":"データ一覧!S205","v":"…"},null,null,"織物・衣服・身の回り品",null,null,null,{"$f":"データ一覧!S305","v":12},null,null,{"$f":"データ一覧!S314","v":20},null,null,{"$f":"データ一覧!S323","v":132},null,null,null,null,"地方税",null,null,null,{"$f":"データ一覧!S446","v":2103878},null,null,null,null,{"$f":"データ一覧!S460","v":2354749},null,null,null,null,"議会費",null,null,null,{"$f":"データ一覧!S474","v":93226},null,null,null,null,{"$f":"データ一覧!S488","v":95453}]
["公務",null,null,null,null,null,null,{"$f":"データ一覧!S149","v":"…"},null,null,{"$f":"データ一覧!S206","v":"…"},null,null,{"$f":"データ一覧!S150","v":"…"},null,null,{"$f":"データ一覧!S207","v":"…"},null,null,{"$f":"データ一覧!S151","v":"…"},null,null,{"$f":"データ一覧!S208","v":"…"},null,null,"飲食料品",null,null,null,{"$f":"データ一覧!S306","v":76},null,null,{"$f":"データ一覧!S315","v":453},null,null,{"$f":"データ一覧!S324","v":7273},null,null,null,null,"地方譲与税",null,null,null,{"$f":"データ一覧!S447","v":126139},null,null,null,null,{"$f":"データ一覧!S461","v":122236},null,null,null,null,"総務費",null,null,null,{"$f":"データ一覧!S475","v":2373857},null,null,null,null,{"$f":"データ一覧!S489","v":2721704},null,null,null,null,null,null,null,null,null,null,null,null,null,null,"交番・駐在所",null,null,null,null,null,null,null,null,"刑法犯認知件数",null,null,null,null,null,null,null,null,"交通人身事故発生件数"]
["  ４  農        　　　業 ",null,null,null,null,null,null,null,null,null,null,null,null,null,null,null,null,null,null,null,null,null,null,null,null,"機械器具",null,null,null,{"$f":"データ一覧!S307","v":17},null,null,{"$f":"データ一覧!S316","v":63},null,null,{"$f":"データ一覧!S325","v":762},null,null,null,null,"各種交付金",null,null,null,{"$f":"データ一覧!S448","v":485400},null,null,null,null,{"$f":"データ一覧!S462","v":401659},null,null,null,null,"民生費",null,null,null,{"$f":"データ一覧!S476","v":3330520},null,null,null,null,{"$f":"データ一覧!S490","v":3519840},null,null,null,null,null,"警察署数",null,null,null,null,null,null,null,null,"検問所数",null,null,null,null,null,null,null,null,null,{"$f":"データ一覧!$A$691","v":"元年中"},null,null,null,null,null,null,null,null,{"$f":"データ一覧!$A$691","v":"元年中"}]
[null,null,null,null,null,null,null,null,null,null,null,null,null,null,null,null,null,null,null,null,null,null,null,null,null,"その他",null,null,null,{"$f":"データ一覧!S308","v":78},null,null,{"$f":"データ一覧!S317","v":338},null,null,{"$f":"データ一覧!S326","v":4710},null,null,null,null,"地方特例交付金",null,null,null,{"$f":"データ一覧!S449","v":11900},null,null,null,null,{"$f":"データ一覧!S463","v":59872},null,null,null,null,"衛生費",null,null,null,{"$f":"データ一覧!S477","v":1025548},null,null,null,null,{"$f":"データ一覧!S491","v":1037459},null,null,null,null,null,null,null,null,null,null,null,null,null,null,null,null,null,null,null,null,null,null,null,null,null,null,null,null," 件",null,null,null,null,null,null,null,null,"　件"]
[null,null,"農家人口と世帯員数(販売農家)",null,null,null,null,null,null,null,"農家世帯の就業状態（販売農家）",null,null,null,null,null,null,null,null,null,null,null,null,null,null,"無店舗",null,null,null,{"$f":"データ一覧!S309","v":15},null,null,{"$f":"データ一覧!S318","v":23},null,null,{"$f":"データ一覧!S327","v":92},null,null,null,null,"地方交付税",null,null,null,{"$f":"データ一覧!S450","v":4850000},null,null,null,null,{"$f":"データ一覧!S464","v":5230809},null,null,null,null,"労働費",null,null,null,{"$f":"データ一覧!S478","v":46749},null,null,null,null,{"$f":"データ一覧!S492","v":45456},null,null,null,null,null,null,{"$f":"データ一覧!S689","v":0},null,null,null,null,null,null,null,null,{"$f":"データ一覧!S690","v":6},null,null,null,null,null,null,null,null,{"$f":"データ一覧!S691","v":49},null,null,null,null,null,null,null,null,{"$f":"データ一覧!S692","v":18}]
["農","平",null,null,null,null,null,null,null,null,"農業従事者",null,null,null,null,null,null,null,null,"非農業従事",null,null,"農業従事者",null,null,null,null,null,null,null,null,null,null,null,null,null,null,null,null,null,"分担金および負担金",null,null,null,{"$f":"データ一覧!S451","v":54043},null,null,null,null,{"$f":"データ一覧!S465","v":75648},null,null,null,null,"農林水産業費",null,null,null,{"$f":"データ一覧!S479","v":778759},null,null,null,null,{"$f":"データ一覧!S493","v":781860},null,null,null,null,"火災発生件数",null,null,null,null,null,null,null,null,null,"林野焼損",null,null,null,null,"損      害",null,null,null,null,"消 防 自",null,null,null,"その他の",null,null,null," ",null,null,null,null," "]
["家",{"$f":"+LEFT(データ一覧!$A$209,2)","v":"27"},"区分",null,"農家人口",null,null,"15歳以上の",null,null,null,null,null,"農業就業人口",null,null,null,null,null,"者",null,null,"の平均年齢",null,null,"  ８  住　　　　　　 　宅",null,null,null,null,null,null,null,null,null,null,null,null,null,null,"使用料および手数料",null,null,null,{"$f":"データ一覧!S452","v":145415},null,null,null,null,{"$f":"データ一覧!S466","v":161547},null,null,null,null,"商工費",null,null,null,{"$f":"データ一覧!S480","v":855353},null,null,null,null,{"$f":"データ一覧!S494","v":738015},null,null,null,null,{"$f":"+データ一覧!$A$693","v":"元年中"},null,null,null,null,"焼損棟数",null,null,null,null,"面    積",null,null,null,null,"見  積  額",null,null,null,null,"動 車 数",null,null,null,"ﾎﾟﾝﾌﾟ数",null,null,null," 消防吏員",null,null,null," 消防団員"]
["人就 ","・",null,null,null,null,null,"世帯員数",null,null,null,null,null,null,null,null,"基幹的農業",null,null,null,null,null,null,null,null,null,null,null,null,null,null,null,null,null,null,null,null,null,null,null,"国庫支出金",null,null,null,{"$f":"データ一覧!S453","v":876705},null,null,null,null,{"$f":"データ一覧!S467","v":1182113},null,null,null,null,"土木費",null,null,null,{"$f":"データ一覧!S481","v":1042640},null,null,null,null,{"$f":"データ一覧!S495","v":1248219},null,null,null,null,"         件",null,null,null,null,null,"      棟",null,null,null,null,null,null,"  ａ",null,null,null,"  千円",null,null,"        ",null,null,null,null,null,null,null,null,null,"  人",null,null,null,"  人"]
["口業 ",{"$f":"+MID(データ一覧!$A$209,4,1)","v":"2"},null,null,null,null,"人",null,null,"人",null,null,"人",null,null,"人","従事者",null,"人",null,null,"人",null,null,"歳",{"$f":"+データ一覧!$A$328","v":"30年"},null,null,null,null,{"$f":"データ一覧!$A$331","v":"元年"},"中の増減",null,null,null,{"$f":"+データ一覧!$A$331","v":"元年"},null,null,null,null,"県支出金",null,null,null,{"$f":"データ一覧!S454","v":927972},null,null,null,null,{"$f":"データ一覧!S468","v":992768},null,null,null,null,"消防費",null,null,null,{"$f":"データ一覧!S482","v":903913},null,null,null,null,{"$f":"データ一覧!S496","v":552247},null,null,null,null,null,{"$f":"データ一覧!S693","v":3},null,null,null,null,{"$f":"データ一覧!S694","v":1},null,null,null,null,{"$f":"データ一覧!S695","v":1},null,null,null,{"$f":"データ一覧!S696","v":147},null,null,null,null,null,{"$f":"データ一覧!S697","v":25},null,null,null,{"$f":"データ一覧!S698","v":4},null,null,null,{"$f":"データ一覧!S699","v":35},null,null,null,{"$f":"データ一覧!S700","v":352}]
["と状 ","・"," 総数",null,{"$f":"データ一覧!S209","v":3070},null,null,{"$f":"データ一覧!S212","v":2726},null,null,{"$f":"データ一覧!S215","v":1899},null,null,{"$f":"データ一覧!S218","v":891},null,null,{"$f":"データ一覧!S221","v":629},null,null,{"$f":"データ一覧!S224","v":827},null,null,{"$f":"データ一覧!S227","v":59.8},null,null,null,null,null,null,"建設した住宅",null,null,"消失した住宅",null,null,null,null,null,null,null,"財産収入",null,null,null,{"$f":"データ一覧!S455","v":100956},null,null,null,null,{"$f":"データ一覧!S469","v":399338},null,null,null,null,"教育費",null,null,null,{"$f":"データ一覧!S483","v":1357400},null,null,null,null,{"$f":"データ一覧!S497","v":1666394},null,null,null,null," ２０  そ　　　の　　　他　"]
["  況 ",{"$f":"+RIGHT(データ一覧!$A$209,1)","v":"1"},"　男",null,{"$f":"データ一覧!S210","v":1512},null,null,{"$f":"データ一覧!S213","v":1343},null,null,{"$f":"データ一覧!S216","v":1077},null,null,{"$f":"データ一覧!S219","v":445},null,null,{"$f":"データ一覧!S222","v":391},null,null,{"$f":"データ一覧!S225","v":266},null,null,{"$f":"データ一覧!S228","v":58.1},null,null,null,null,null,null,null,null,null,null,null,null,null,null,null,null,null,"繰入金",null,null,null,{"$f":"データ一覧!S456","v":1335536},null,null,null,null,{"$f":"データ一覧!S470","v":554126},null,null,null,null,"災害復旧費",null,null,null,{"$f":"データ一覧!S484","v":0},null,null,null,null,{"$f":"データ一覧!S498","v":67904}]
[null,null,"　女",null,{"$f":"データ一覧!S211","v":1558},null,null,{"$f":"データ一覧!S214","v":1383},null,null,{"$f":"データ一覧!S217","v":822},null,null,{"$f":"データ一覧!S220","v":446},null,null,{"$f":"データ一覧!S223","v":238},null,null,{"$f":"データ一覧!S226","v":561},null,null,{"$f":"データ一覧!S229","v":62},null,null,null,{"$f":"データ一覧!S328","v":7993},null,"戸",{"$f":"データ一覧!S329","v":57},null,"戸",{"$f":"データ一覧!S330","v":46},null,"戸",null,{"$f":"データ一覧!S331","v":8004},null,"戸",null,"地方債",null,null,null,{"$f":"データ一覧!S457","v":1607900},null,null,null,null,{"$f":"データ一覧!S471","v":1701600},null,null,null,null,"公債費",null,null,null,{"$f":"データ一覧!S485","v":1164188},null,null,null,null,{"$f":"データ一覧!S499","v":1151525},null,null,null,null,null,null,null,null,null,"越前加賀海岸国定公園（呼鳥門、鳥糞岩、玉川洞窟観音）、千枚田水仙園、貧谷の滝、"]
[null,null,null,null,null,null,null,null,null,null,null,null,null,null,null,null,null,null,null,null,null,null,null,null,null,null,null,null,null,null,null,null,null,null,null,null,null,null,null,null,"その他",null,null,null,{"$f":"データ一覧!S458","v":356609},null,null,null,null,{"$f":"データ一覧!S472","v":1119883},null,null,null,null,"その他",null,null,null,{"$f":"データ一覧!S486","v":10300},null,null,null,null,{"$f":"データ一覧!S500","v":0},null,null,null,null,"　名所・旧跡",null,null,null,null,"越前二の宮劔神社、越前陶芸村、蝉丸の墓、岩本観音、神明ヶ谷須恵器窯跡、古墳公園、"]
[null,null,"総農家数等",null,null,null,null,null,null,"専兼業別（販売農家）",null,null,null,null,null,null,null,"経営面積規模別（販売農家）",null,null,null,null,null,null,null,null,null,null,null,null,null,null,null,null,null,null,null,null,null,null,null,null,null,null,null,null,null,null,null,null,null,null,null,null,null,null,null,null,null,null,null,null,null,null,null,null,null,null,"  文化財等",null,null,null,null,"(朝日山古墳群)、越知山(山岳信仰跡)、劔神社梵鐘(国宝)、大谷寺九重塔(重要文化財)、"]
[null,"平","区　分",null,null,null,"戸数（戸）",null,null,"区　分",null,null,null,null,"戸数（戸）",null,null,"区　　分",null,null,null,null,"戸数（戸）",null,null,"  ９  議　 員　・　職 　員",null,null,null,null,null,null,null,null,null,null,null,null,null,null," １４  文　　　　　　化",null,null,null,null,null,null,null,null,null," ( ",{"$f":"データ一覧!$A$507","v":"2.3.31"},null,null,null,"ただし図書館・公民館・児童館",null,null,null,null,null,null,null,{"$f":"データ一覧!$A$501","v":"2.4.1"},null,null,null,null,null,null,null,null,null,"相木家住宅(重要文化財)、劔神社絹本著色八相涅槃図附紙本墨涅槃講式（断簡）1巻"]
["農",{"$f":"+LEFT(データ一覧!$A$230,2)","v":"27"},"総農家",null,null,null,{"$f":"データ一覧!S230","v":1162},null,null,"総数",null,null,null,null,{"$f":"データ一覧!S236","v":717},null,null,"総数",null,null,null,null,{"$f":"データ一覧!S241","v":717},null,null,null,null,null,null,null,null,null,null,null,null,null,null,null,null,null,null,null,null,null,null,null,null,null,null,null,null,null,null,null,null,null,"　宗教法人数 ",null,null,null,null,null,null,{"$f":"データ一覧!$A$509","v":"元.12.31"},null,null,null,"）",null,null,null,null,null,"(重要文化財)、八坂神社木造阿弥陀如来坐像・釈迦如来坐像・菩薩型坐像(重要文化財)"]
["家","・","販売農家",null,null,null,{"$f":"データ一覧!S231","v":717},null,null,"専業農家",null,null,null,null,{"$f":"データ一覧!S237","v":98},null,null,"0.5 ha 未満",null,null,null,null,{"$f":"データ一覧!S242","v":163},null,null," 市 町 村 議 会",null,null,"有権者数",null,{"$f":"データ一覧!$A$335","v":"2.9.1"},null,"市 町 村 議 会",null,null,"  職      員      数",null,null,null,null,null,null,null,null,null,"図書館",null,null,null,null,null,"公　民　館",null,null,null,null,null,null,null,null,null,null," 社会教育学級講座",null,null,null,null,null,"特産物・特産品",null,null,null,null,"越前がに、越前がれい、へしこ、織田の豆腐、織田きゅうり、しいたけ、宮崎たけのこ、"]
["数",{"$f":"+MID(データ一覧!$A$230,4,1)","v":"2"},null,"主業",null,null,{"$f":"データ一覧!S232","v":31},null,null,"兼業農家",null,null,null,null,{"$f":"データ一覧!S238","v":619},null,null,"0.5 ha ～ 1.0 ha",null,null,null,null,{"$f":"データ一覧!S243","v":331},null,null," 議  員  定  数",null,null,"    男",null,"    女",null,"選 挙 投 票 率",null,null," 総     数",null,"一般行政職",null,null,"公    共",null,null,null," 館  数",null,null," 図書数",null,null," 本  館",null,null," 分  館",null,null," 公  園",null,null," 児童館",null,null,"学級講座数",null,null,"受講者数",null,null,null,null,null,null,null,"越前まこも、雪ん子餅(タンチョウモチ)、ニューピー(ピーマン)、越前焼、越前水仙"]
[null,"・",null,"準主業",null,null,{"$f":"データ一覧!S233","v":115},null,null,null,"第１種兼業",null,null,null,{"$f":"データ一覧!S239","v":37},null,null,"1.0 ha ～ 1.5 ha",null,null,null,null,{"$f":"データ一覧!S244","v":117},null,null,null,null,"人",null,"人",null,"人",null,null,"　％",null,"人",null,"人",null,"施 設 数",null,null,null,null,{"$f":"データ一覧!S501","v":4},null,{"$f":"データ一覧!S502","v":208995},null,null,null,{"$f":"データ一覧!S503","v":1},null,{"$f":"データ一覧!S504","v":4},null,null,{"$f":"データ一覧!S505","v":15},null,null,{"$f":"データ一覧!S506","v":7},null,null,{"$f":"データ一覧!S507","v":350},null,null,{"$f":"データ一覧!S508","v":4370},null,null," 　年中行事",null,null,null,null,"<4月>越前陶芸村しだれ桜まつり <5月>越前陶芸まつり、越知山泰澄登山 <7月>越前金刀比羅神社大祭、越知山まつり、玉川観音祭、越前みなと大花火、あさひまつり <8月>O・TA・I・KO響 <9月>越前さかなまつり、糸生ｴｺｷｬﾝﾄﾞﾙ <10月>秋季例大祭（劔神社）、越前秋季陶芸祭・秋季茶会 <11月>越知山泰澄ｳｫｰｸ、万灯会（大谷寺）、越前かにまつり<12月>水仙・ｶﾆﾌｪｱ <3月>越前岬水仙のかがやき、越前かに感謝祭"]
[null,{"$f":"+RIGHT(データ一覧!$A$230,1)","v":"1"},null,"副業的",null,null,{"$f":"データ一覧!S234","v":571},null,null,null,"第２種兼業",null,null,null,{"$f":"データ一覧!S240","v":582},null,null,"1.5 ha ～ 2.0 ha",null,null,null,null,{"$f":"データ一覧!S245","v":55},null,null,null,{"$f":"データ一覧!S332","v":14},null,{"$f":"データ一覧!S335","v":8648},null,{"$f":"データ一覧!S336","v":9272},null,{"$f":"データ一覧!S334","v":71.98},null,null,{"$f":"データ一覧!S337","v":250},null,{"$f":"データ一覧!S338","v":172},null,null,"宗    教",null,null,null," 仏教系",null,null,"ｷﾘｽﾄ教系",null,null,"神道諸派",null,null,"公会堂・市民会館",null,null,null,null,null," テレビ",null,null,"衛星放送契約数"]
[null,null,"自給的農家",null,null,null,{"$f":"データ一覧!S235","v":445},null,null,null,null,null,null,null,null,null,null,"2.0 ha 以上",null,null,null,null,{"$f":"データ一覧!S246","v":51},null,null,null,null,null,null,null,null,null,{"$f":"データ一覧!S333","v":"29.3.5"},null,null,null,null,null,null,null,"法 人 数",null,null,null,{"$f":"データ一覧!S509","v":80},null,null,{"$f":"データ一覧!S510","v":0},null,null,{"$f":"データ一覧!S511","v":94},null,null,{"$f":"データ一覧!S512","v":2},null,null,null,null,null,"      等",null,null,{"$f":"データ一覧!S513","v":4461}]

{"sheet":"美浜町","index":18,"n_rows":93,"n_cols":104,"rows_kept":93,"cut":false,"hidden":false,"merged":[[17,25,17,27],[18,25,18,27],[27,69,27,73],[27,74,27,77],[21,25,21,28],[21,41,21,47],[28,82,28,85],[28,87,28,91],[29,74,29,77],[29,78,29,81],[29,82,29,85],[29,87,29,91],[40,2,40,3],[30,69,30,73],[30,74,30,77],[30,78,30,81],[30,82,30,85],[30,87,30,91],[31,69,31,73],[31,74,31,77],[31,78,31,81],[31,82,31,85],[35,22,35,24],[35,5,35,7],[35,8,35,10],[35,11,35,13],[35,14,35,16],[35,18,35,19],[35,20,35,21],[40,16,40,18],[40,4,40,6],[30,5,30,7],[30,8,30,10],[30,11,30,13],[19,74,19,77],[23,69,23,73],[23,74,23,77],[24,69,24,73],[26,69,26,73],[20,74,20,77],[20,78,20,81],[20,82,20,85],[20,87,20,91],[21,74,21,77],[21,78,21,81],[21,82,21,85],[21,87,21,91],[24,78,24,81],[24,82,24,85],[24,87,24,91],[25,74,25,77],[25,78,25,81],[25,82,25,85],[25,87,25,91],[26,74,26,77],[26,78,26,81],[26,82,26,85],[26,87,26,91],[27,31,27,32],[20,32,20,34],[22,41,22,47],[22,50,22,52],[22,54,22,57],[22,61,22,65],[30,96,30,99],[30,92,30,95],[54,25,54,32],[73,22,73,24],[73,29,73,30],[73,25,73,28],[62,29,62,30],[60,29,60,30],[55,25,55,30],[55,31,55,34],[61,29,61,30],[55,22,55,24],[55,35,55,38],[53,25,53,27],[53,29,53,31],[53,33,53,34],[40,36,40,37],[36,29,36,30],[36,36,36,37],[51,25,51,28],[50,33,50,38],[68,49,68,53],[68,54,68,57],[68,58,68,62],[68,63,68,67],[65,54,65,57],[65,58,65,64],[66,40,66,67],[41,22,41,24],[38,98,38,101],[35,81,35,84],[35,87,35,91],[81,68,82,103],[70,32,70,33],[75,35,75,37],[70,49,70,53],[71,63,71,67],[72,54,72,57],[71,54,71,57],[73,63,73,67],[51,33,51,35],[28,92,28,95],[28,100,28,103],[76,29,76,30],[27,100,27,103],[20,92,20,95],[21,100,21,103],[26,100,26,103],[24,96,24,99],[25,96,25,99],[21,96,21,99],[29,92,29,95],[29,96,29,99],[29,100,29,103],[26,92,26,95],[25,92,25,95],[27,96,27,99],[27,92,27,95],[22,100,22,103],[26,96,26,99],[40,29,40,30],[28,96,28,99],[24,33,24,34],[27,78,27,81],[50,0,51,24],[48,10,48,12],[71,58,71,62],[71,44,71,48],[71,0,71,6],[69,35,69,37],[50,25,50,28],[62,0,62,6],[61,60,61,63],[60,50,60,54],[60,55,60,59],[61,55,61,59],[65,0,65,6],[60,0,60,6],[61,36,61,37],[68,32,68,33],[63,0,63,6],[64,0,64,6],[71,19,71,21],[69,19,69,21],[66,19,66,21],[70,63,70,67],[71,49,71,53],[55,0,55,6],[61,16,61,18],[61,22,61,24],[63,16,63,18],[62,22,62,24],[61,19,61,21],[62,19,62,21],[64,16,64,18],[55,16,55,18],[27,0,27,4],[27,5,27,7],[41,19,41,21],[30,14,30,16],[32,54,32,57],[32,61,32,65],[31,14,31,16],[27,22,27,24],[20,11,20,13],[20,16,20,18],[20,21,20,23],[20,96,20,99],[20,100,20,103],[20,25,20,28],[19,82,19,85],[17,92,17,95],[70,44,70,48],[21,54,21,57],[21,61,21,65],[20,41,20,47],[20,50,20,52],[20,54,20,57],[21,32,21,34],[21,92,21,95],[21,35,21,38],[22,96,22,99],[23,92,23,95],[23,96,23,99],[22,78,22,81],[22,82,22,85],[22,87,22,91],[23,78,23,81],[0,0,0,9],[1,0,3,9],[5,0,5,9],[14,25,15,25],[19,3,19,5],[29,5,29,7],[31,5,31,7],[31,8,31,10],[29,8,29,10],[41,16,41,18],[42,13,42,15],[47,13,47,15],[56,0,56,6],[56,16,56,18],[22,7,22,8],[42,4,42,6],[42,7,42,9],[44,0,45,1],[42,16,42,18],[22,25,22,28],[18,28,18,30],[19,25,19,28],[19,29,19,31],[20,29,20,31],[23,11,23,13],[23,16,23,18],[23,21,23,23],[23,25,23,28],[24,27,24,28],[25,25,25,26],[25,27,25,28],[48,7,48,9],[16,32,16,33],[16,36,16,37],[17,83,17,84],[17,101,17,102],[19,41,19,47],[19,50,19,52],[19,54,19,57],[19,61,19,65],[19,92,19,95],[19,96,19,99],[14,26,15,28],[15,29,15,30],[14,0,15,24],[16,75,16,96],[17,60,17,66],[6,0,8,9],[17,41,17,47],[17,49,17,53],[17,54,17,58],[15,32,15,33],[19,32,19,34],[15,35,15,37],[19,100,19,103],[17,87,17,90],[19,78,19,81],[19,35,19,38],[17,32,17,34],[17,36,17,38],[18,31,18,34],[18,35,18,38],[17,69,17,72],[17,74,17,77],[20,35,20,38],[22,35,22,38],[20,61,20,65],[22,29,22,31],[22,32,22,34],[23,29,23,31],[23,32,23,34],[25,31,26,32],[29,54,29,57],[25,100,25,103],[24,100,24,103],[25,41,25,47],[25,50,25,52],[25,54,25,57],[24,74,24,77],[23,100,23,103],[21,29,21,31],[23,35,23,38],[23,82,23,85],[23,87,23,91],[23,41,23,47],[23,50,23,52],[23,54,23,57],[23,61,23,65],[24,37,24,38],[24,29,24,30],[24,31,24,32],[24,35,24,36],[25,29,26,30],[25,37,26,38],[25,33,26,34],[21,50,21,52],[41,4,41,6],[26,22,26,24],[26,25,26,26],[26,27,26,28],[25,35,26,36],[25,61,25,65],[24,92,24,95],[29,41,29,47],[28,50,28,52],[27,50,27,52],[27,54,27,57],[27,61,27,65],[26,41,26,47],[26,50,26,52],[26,54,26,57],[24,41,24,47],[24,50,24,52],[24,0,25,24],[24,54,24,57],[24,61,24,65],[27,33,27,34],[27,37,27,38],[27,25,27,26],[27,27,27,28],[27,29,27,30],[27,35,27,36],[29,20,29,21],[27,82,27,85],[27,87,27,91],[28,69,28,73],[29,18,29,19],[28,54,28,57],[40,22,40,24],[40,19,40,21],[29,61,29,65],[29,50,29,52],[29,11,29,13],[29,14,29,16],[42,10,42,12],[47,10,47,12],[40,7,40,9],[40,10,40,12],[34,8,34,10],[34,11,34,13],[41,10,41,12],[41,13,41,15],[40,13,40,15],[34,14,34,16],[47,7,47,9],[47,16,47,18],[47,19,47,21],[29,22,29,24],[32,41,32,47],[31,41,31,47],[30,41,30,47],[30,22,30,24],[31,22,31,24],[34,36,34,37],[35,36,35,37],[34,29,34,30],[44,36,44,37],[42,32,42,35],[47,22,47,24],[41,7,41,9],[31,11,31,13],[35,29,35,30],[30,18,30,19],[30,20,30,21],[31,18,31,19],[31,20,31,21],[30,54,30,57],[42,22,42,24],[42,36,42,37],[44,19,44,24],[42,19,42,21],[44,32,44,35],[44,25,44,28],[44,29,44,30],[49,47,49,50],[48,22,48,24],[46,0,46,1],[47,0,47,1],[48,16,48,18],[48,19,48,21],[48,13,48,15],[48,0,48,1],[32,5,32,7],[32,8,32,10],[32,11,32,13],[32,14,32,16],[32,18,32,19],[32,20,32,21],[32,22,32,24],[34,41,34,47],[45,25,45,28],[45,29,45,30],[35,94,35,96],[33,68,34,81],[34,54,34,57],[34,61,34,65],[35,50,35,52],[35,61,35,65],[32,100,32,103],[32,96,32,99],[32,92,32,95],[33,84,34,97],[33,54,33,57],[33,61,33,65],[35,69,35,73],[38,41,38,47],[32,50,32,52],[36,41,36,47],[33,41,33,47],[30,100,30,103],[35,76,35,78],[33,5,33,7],[33,8,33,10],[33,11,33,13],[33,14,33,16],[37,68,37,74],[37,50,37,52],[35,54,35,57],[35,41,35,47],[34,5,34,7],[37,41,37,47],[33,18,33,19],[33,20,33,21],[33,22,33,24],[37,61,37,65],[36,50,36,52],[36,54,36,57],[36,61,36,65],[33,50,33,52],[34,50,34,52],[34,20,34,21],[34,22,34,24],[34,18,34,19],[31,50,31,52],[31,54,31,57],[31,61,31,65],[30,50,30,52],[30,61,30,65],[31,92,31,95],[31,96,31,99],[31,100,31,103],[48,96,48,99],[48,69,48,76],[48,81,48,83],[42,68,42,74],[45,93,45,102],[45,85,45,90],[48,100,48,103],[46,100,46,103],[48,84,48,87],[41,41,41,47],[42,41,42,47],[40,50,40,52],[41,50,41,52],[42,50,42,52],[40,61,40,65],[41,61,41,65],[42,80,42,83],[42,61,42,65],[42,76,42,78],[45,58,45,62],[41,94,41,96],[48,51,48,54],[48,57,48,60],[43,41,43,47],[43,50,43,52],[48,63,48,66],[43,54,43,57],[43,61,43,65],[43,68,44,83],[43,84,44,103],[46,36,46,37],[46,25,46,28],[46,29,46,30],[54,100,54,103],[55,69,55,76],[55,78,55,80],[55,81,55,83],[55,84,55,87],[55,100,55,103],[54,78,54,80],[54,84,54,87],[54,88,54,91],[54,92,54,95],[52,96,52,99],[53,81,53,83],[54,96,54,99],[53,100,53,103],[53,84,53,87],[51,84,51,87],[52,69,52,76],[52,78,52,80],[55,64,55,66],[50,69,50,76],[55,96,55,99],[53,88,53,91],[53,96,53,99],[54,69,54,76],[54,81,54,83],[55,88,55,91],[53,69,53,76],[53,78,53,80],[55,92,55,95],[56,96,56,99],[53,92,53,95],[52,100,52,103],[71,16,71,18],[70,22,70,24],[69,13,69,15],[69,16,69,18],[72,16,72,18],[60,19,60,21],[71,35,71,37],[72,40,72,43],[71,25,71,28],[71,29,71,30],[72,19,72,21],[69,32,69,33],[72,35,72,37],[71,32,71,33],[56,100,56,103],[56,69,56,76],[56,78,56,80],[56,81,56,83],[56,84,56,87],[72,58,72,62],[72,49,72,53],[72,13,72,15],[72,44,72,48],[70,19,70,21],[72,25,72,28],[72,29,72,30],[71,40,71,43],[68,25,68,28],[69,25,69,28],[60,98,60,103],[60,60,60,63],[60,64,60,67],[59,60,59,63],[60,86,60,91],[60,92,60,97],[60,36,60,37],[57,22,57,24],[58,22,58,24],[60,22,60,24],[58,53,58,55],[57,48,57,51],[57,52,57,55],[58,40,58,43],[63,90,63,92],[65,74,65,77],[65,22,65,24],[57,68,58,103],[63,75,63,77],[65,40,65,43],[61,64,61,67],[57,35,57,37],[61,69,61,72],[62,94,62,96],[62,69,62,72],[65,94,65,97],[57,62,57,64],[62,100,62,102],[63,22,63,24],[62,88,62,90],[62,82,62,84],[62,76,62,78],[61,81,61,84],[65,99,65,102],[65,79,65,82],[70,25,70,28],[70,35,70,37],[67,44,67,48],[68,92,68,94],[68,89,68,91],[70,58,70,62],[70,54,70,57],[66,77,66,91],[67,89,67,91],[70,86,70,88],[63,19,63,21],[64,69,64,72],[65,69,65,72],[63,95,63,97],[65,84,65,87],[65,89,65,92],[63,100,63,102],[64,19,64,21],[64,22,64,24],[63,85,63,87],[67,68,70,72],[68,73,68,76],[68,77,68,79],[68,80,68,82],[70,84,70,85],[67,83,67,85],[67,80,67,82],[70,80,70,82],[61,40,61,43],[66,22,66,24],[68,101,68,103],[67,13,67,15],[67,16,67,18],[67,19,67,21],[67,40,67,43],[67,22,67,24],[68,35,68,37],[68,95,68,97],[67,98,67,103],[70,101,70,103],[70,13,70,15],[70,16,70,18],[67,49,67,53],[67,54,67,57],[66,35,66,38],[68,83,68,85],[68,86,68,88],[68,29,68,30],[73,44,73,48],[73,40,73,43],[75,58,75,62],[70,98,70,100],[73,32,73,33],[73,35,73,37],[76,32,76,33],[76,35,76,37],[76,97,76,100],[74,97,74,101],[76,79,76,82],[70,89,70,91],[76,54,76,57],[70,92,70,94],[70,95,70,97],[74,69,74,75],[72,63,72,67],[74,58,74,62],[74,63,74,67],[73,58,73,62],[70,73,70,76],[70,78,70,79],[71,68,72,83],[80,79,80,81],[80,83,80,87],[78,83,78,87],[78,88,78,91],[80,69,80,71],[80,74,80,76],[80,89,80,91],[77,92,77,95],[78,68,78,72],[79,98,79,99],[78,73,78,77],[78,78,78,82],[80,101,80,103],[78,100,78,103],[80,93,80,95],[80,97,80,99],[78,92,78,95],[77,83,77,87],[77,88,77,91],[77,78,77,82],[55,13,55,15],[57,10,57,12],[58,13,58,15],[55,19,55,21],[79,102,79,103],[79,40,79,43],[79,44,79,48],[79,49,79,53],[79,54,79,57],[79,58,79,62],[79,63,79,67],[78,96,78,99],[77,58,77,62],[77,63,77,67],[78,63,78,67],[71,84,72,103],[67,58,67,62],[67,63,67,67],[73,78,73,84],[73,87,73,93],[73,96,73,102],[74,78,74,84],[74,88,74,92],[76,88,76,91],[57,59,57,61],[76,70,76,73],[76,58,76,62],[57,16,57,18],[75,63,75,67],[76,63,76,67],[76,40,76,43],[75,32,75,33],[56,10,56,12],[57,13,57,15],[60,44,60,49],[56,13,56,15],[56,22,56,24],[57,44,57,47],[72,10,72,12],[71,10,71,12],[70,10,70,12],[62,10,62,12],[60,10,60,12],[59,10,59,12],[69,10,69,12],[58,10,58,12],[65,10,65,12],[64,10,64,12],[65,44,65,50],[61,13,61,15],[61,10,61,12],[68,40,68,43],[68,44,68,48],[56,40,56,43],[57,40,57,43],[60,40,60,43],[59,44,59,59],[57,25,57,29],[57,31,57,33],[59,19,59,21],[58,19,58,21],[57,19,57,21],[56,19,56,21],[66,10,66,12],[90,51,90,52],[91,47,91,49],[91,50,91,52],[70,40,70,43],[69,29,69,30],[70,29,70,30],[83,26,83,27],[83,32,83,33],[77,40,77,43],[75,40,75,43],[72,32,72,33],[83,40,83,43],[74,29,74,30],[82,54,82,57],[82,49,82,53],[84,49,84,53],[84,54,84,57],[83,54,83,57],[84,40,84,43],[84,44,84,48],[82,44,82,48],[83,44,83,48],[90,53,90,55],[81,54,81,57],[78,54,78,57],[69,40,69,67],[78,58,78,62],[80,58,80,62],[80,63,80,67],[78,40,78,43],[78,44,78,48],[78,49,78,53],[92,53,92,58],[92,62,92,67],[92,40,92,43],[92,44,92,46],[92,47,92,49],[92,50,92,52],[91,26,91,27],[91,28,91,29],[91,30,91,31],[91,32,91,34],[91,53,91,58],[91,44,91,46],[89,40,89,43],[83,36,83,37],[89,32,89,34],[84,58,84,62],[91,62,91,67],[90,47,90,49],[90,65,90,67],[90,62,90,64],[89,62,89,64],[88,45,88,48],[84,63,84,67],[88,62,88,67],[88,51,88,54],[91,35,91,36],[91,37,91,38],[91,40,91,43],[90,59,90,61],[90,56,90,58],[88,32,88,34],[83,49,83,53],[78,2,78,3],[78,4,78,6],[81,4,81,6],[81,7,81,9],[81,10,81,12],[81,19,81,21],[81,22,81,24],[75,44,75,48],[75,49,75,53],[77,44,77,48],[77,49,77,53],[76,44,76,48],[76,49,76,53],[77,54,77,57],[73,49,73,53],[73,54,73,57],[75,54,75,57],[81,40,81,43],[81,44,81,48],[80,35,81,38],[80,40,80,43],[80,44,80,48],[80,49,80,53],[80,54,80,57],[81,49,81,53],[73,0,73,6],[74,44,74,48],[74,54,74,57],[74,35,74,37],[74,40,74,43],[74,32,74,33],[74,49,74,53],[70,0,70,6],[68,0,68,6],[67,0,67,6],[59,22,59,24],[69,0,69,6],[72,22,72,24],[71,22,71,24],[66,0,66,6],[72,0,72,6],[66,7,66,9],[68,7,68,9],[68,10,68,12],[57,7,57,9],[65,7,65,9],[56,7,56,9],[55,7,55,9],[55,10,55,12],[69,7,69,9],[71,7,71,9],[67,7,67,9],[69,22,69,24],[70,7,70,9],[67,10,67,12],[58,0,58,6],[57,0,57,6],[60,13,60,15],[59,13,59,15],[61,0,61,6],[65,19,65,21],[68,13,68,15],[62,16,62,18],[62,13,62,15],[50,100,50,103],[45,78,45,83],[47,69,47,76],[47,78,47,80],[47,81,47,83],[50,78,50,80],[49,78,49,80],[50,60,50,62],[50,64,50,67],[49,51,49,54],[49,55,49,58],[49,63,49,67],[49,69,49,76],[49,59,49,62],[36,94,36,96],[36,98,36,101],[36,76,36,78],[37,76,37,78],[37,80,37,83],[37,86,37,92],[37,98,37,101],[37,94,37,96],[47,84,47,87],[47,88,47,91],[42,86,42,92],[39,98,39,101],[40,98,40,101],[41,98,41,101],[42,98,42,101],[46,70,46,75],[46,96,46,99],[42,94,42,96],[51,96,51,99],[50,96,50,99],[49,96,49,99],[49,84,49,87],[52,81,52,83],[50,84,50,87],[51,78,51,80],[49,40,49,46],[50,48,50,50],[41,36,41,37],[51,36,51,38],[51,29,51,32],[55,48,55,50],[14,68,15,82],[14,83,15,96],[39,94,39,96],[38,94,38,96],[52,88,52,91],[52,92,52,95],[40,94,40,96],[50,81,50,83],[51,69,51,76],[49,81,49,83],[35,99,35,102],[36,68,36,74],[48,88,48,91],[48,92,48,95],[50,92,50,95],[50,88,50,91],[49,88,49,91],[51,92,51,95],[49,100,49,103],[51,100,51,103],[51,88,51,91],[52,84,52,87],[49,92,49,95],[32,74,32,77],[47,100,47,103],[38,54,38,57],[38,50,38,52],[45,32,45,35],[46,32,46,35],[45,36,45,37],[39,54,39,57],[39,50,39,52],[40,54,40,57],[42,54,42,57],[39,41,39,47],[36,80,36,83],[48,78,48,80],[38,61,38,65],[38,76,38,78],[38,80,38,83],[38,68,38,74],[39,61,39,65],[39,68,39,74],[39,80,39,83],[39,76,39,78],[37,54,37,57],[40,68,41,74],[40,80,41,83],[40,76,41,78],[50,51,50,54],[40,41,40,47],[50,29,50,32],[41,54,41,57],[50,56,50,58],[38,86,38,92],[39,86,39,92],[40,86,40,92],[41,86,41,92],[36,86,36,92],[56,88,56,91],[56,92,56,95],[28,41,28,47],[28,61,28,65],[26,61,26,65],[27,41,27,47],[22,69,22,73],[22,74,22,77],[22,92,22,95],[41,29,41,30],[41,32,41,35],[40,32,40,35],[28,74,28,77],[28,78,28,81],[32,69,32,73],[54,56,54,59],[55,60,55,63],[32,78,32,81],[32,82,32,85],[56,49,56,54],[54,60,54,67],[51,81,51,83],[55,44,55,46],[55,56,55,58],[92,32,92,34],[81,29,81,31],[88,30,88,31],[81,13,81,15],[81,16,81,18],[88,28,88,29],[73,7,73,9],[83,29,83,30],[75,25,75,28],[75,29,75,30],[73,19,73,21],[74,25,74,28],[81,32,81,34],[76,25,76,28],[73,10,73,12],[73,13,73,15],[92,6,92,8],[92,22,92,24],[89,6,89,8],[89,14,89,16],[89,22,89,24],[90,6,90,8],[90,14,90,16],[90,22,90,24],[88,22,88,24],[83,22,83,24],[73,16,73,18]],"merged_total":1089,"flags":["merged_cut"]}
[{"$f":"+データ一覧!T5","v":"みかたぐん"}]
[{"$f":"+データ一覧!T8","v":"三方郡"},null,null,null,null,null,null,null,null,null,null,null,null,null,null,null,null,null,null,null,null,null,null,null,null,null,null,null,null,null,null,null,null,null,null,null,null,null,null,null,0]
[null,null,null,null,null,null,null,null,null,null,null,null,null,null,null,null,null,null,null,null,null,null,null,null,null,null,null,null,null,null,null,null,null,null,null,null,null,null,null,null,0]
[null,null,null,null,null,null,null,null,null,null,null,null,null,null,null,null,null,null,null,null,null,null,null,null,null,null,null,"【町章とそのいわれ】町名「ミハマ」をカタカナで表現し、本町の",null,null,null,null,null,null,null,null,null,null,null,null,"【位置および地勢】美浜町は福井県の南西部に位置し、東は敦賀市、西は若狭町、",null,null,null,null,null,null,null,null,null,null,null,null,null,null,null,null,null,null,null,null,null,null,null,null,null,null,null,null,null,null,"所在地",null,null,null,null,null,null,null,"〒919-1192"]
[null,null,null,null,null,null,null,null,null,null,null,null,null,null,null,null,null,null,null,null,null,null,null,null,null,null,null,"                  豊かな海岸線を図案化したものである。構図は",null,null,null,null,null,null,null,null,null,null,null,null,"　南は滋賀県に接し、北は日本海に面する。 中央部には、源を滋賀県境に発する",null,null,null,null,null,null,null,null,null,null,null,null,null,null,null,null,null,null,null,null,null,null,null,null,null,null,null,null,null,null,null,null,null,null,null,null,null,null,"三方郡美浜町郷市第２５号２５番地"]
[{"$f":"+データ一覧!T6","v":"みはまちょう"},null,null,null,null,null,null,null,null,null,null,null,null,null,null,null,null,null,null,null,null,null,null,null,null,null,null,"                  円からなり、美浜町の円満な将来への発展を",null,null,null,null,null,null,null,null,null,null,null,null,"  延長約12㎞の耳川が縦貫し、日本海へ注ぐ。交通ではＪＲ小浜線並びに国道27号が"]
[{"$f":"データ一覧!T9","v":"美浜町"},null,null,null,null,null,null,null,null,null,null,null,null,null,null,null,null,null,null,null,null,null,null,null,null,null,null,"                  意味する。",null,null,null,null,null,null,null,null,null,null,null,null,"  横断し、産業経済の動脈となっている。",null,null,null,null,null,null,null,null,null,null,null,null,null,null,null,null,null,null,null,null,null,null,null,null,null,null,null,null,null,null,"電話番号",null,null,null,null,null,null,null," （０７７０）３２－１１１１"]
[null,null,null,null,null,null,null,null,null,null,null,null,null,null,null,null,null,null,null,null,null,null,null,null,null,null,null,0,null,null,null,null,null,null,null,null,null,null,null,null,"　また、南に標高900ｍ前後の山地を控え、北は若狭湾国定公園である若狭湾に接し、",null,null,null,null,null,null,null,null,null,null,null,null,null,null,null,null,null,null,null,null,null,null,null,null,null,null,null,null,null,null,"FAX番号",null,null,null,null,null,null,null,"      〃     ３２－１１１５"]
[null,null,null,null,null,null,null,null,null,null,null,null,null,null,null,null,null,null,null,null,null,null,null,null,null,null,null,0,null,null,null,null,null,null,null,null,null,null,null,null,"　東の敦賀半島には日本の水浴場八十八選にも選ばれた水晶浜、西は名勝三方五湖"]
[null,null,null,null,null,null,null,null,null,null,null,null,null,null,null,null,null,null,null,null,null,null,null,null,null,null,null,0,null,null,null,null,null,null,null,null,null,null,null,null,"　で知られる久々子湖、日向湖があり、海・山・川・湖の変化に富んだ自然景観に恵まれている。",null,null,null,null,null,null,null,null,null,null,null,null,null,null,null,null,null,null,null,null,null,null,null,null,null,null,null,null,null,null,"最寄駅および距離",null,null,null,null,null,null,null,"ＪＲ小浜線美浜駅  下車５５０ｍ"]
[null,null,null,null,null,null,null,null,null,null,null,null,null,null,null,null,null,null,null,null,null,null,null,null,null,null,null,0,null,null,null,null,null,null,null,null,null,null,null,null,0]
[]
[null,null,null,null,null,null,null,null,null,null,null,null,null,null,null,null,null,null,null,null,null,null,null,null,null,null,null,"【町が掲げる標語】おいしい自然　ハートフル美浜",null,null,null,null,null,null,null,null,null,null,null,null,null,null,null,null,null,null,null,null,null,null,null,null,null,null,null,null,null,null,null,null,null,null,null,null,null,null,null,null,null,null,null,"ホームページ",null,null,null,null,null,null,null,"http://www.town.mihama.fukui.jp/"]
[]
["  １  土            　　地",null,null,null,null,null,null,null,null,null,null,null,null,null,null,null,null,null,null,null,null,null,null,null,null,{"$f":"データ一覧!$A$247","v":"元年"},"産米収穫量",null,null,"　 収　穫　量",null,null," 　作 付 面 積",null,null,"   10a当たり収量",null,null,null,null,null,null,null,null,null,null,null,null,null,null,null,null,null,null,null,null,null,null,null,null,null,null,null,null,null,null,null,null," １５  労　　　　　　　働",null,null,null,null,null,null,null,null,null,null,null,null,null,null,"27.10.1"]
[null,null,null,null,null,null,null,null,null,null,null,null,null,null,null,null,null,null,null,null,null,null,null,null,null,null,null,null,null,{"$f":"データ一覧!$T$247","v":2410},null,"t",{"$f":"データ一覧!$T$248","v":495},null,"ha",{"$f":"データ一覧!T249","v":487},null,null,"kg",null," １０  工　　　　　　業 ",null,null,null,null,null,null,null,null,null,null,null,null,null,{"$f":"データ一覧!$A$339","v":"元.6.1（平成30年実績）"}]
["   総          面           積",null,null,null,null,null,null,null,null,null," 固 定 資 産 概 要 調 書 に よ る 地 目 別 面 積",null,null,null,null,null,null,null,null,null,null,null,null,null,null,null,null,null,"   総　　　数",null,null,null,"うち　　田",null,null,null,"うち　　畑",null,null,null,null,null,null,null,null,null,null,null,null,null,null,null,null,null,null,null,null,null,null,null,null,null,null,null,null,null,null,null,null,null,null,null,null,null,null,"産業別就業者数   "]
[null,null,{"$f":"データ一覧!$A$10","v":"2.10.1"},null,null,null,null,null,null,null,null,null,null,null,null,null,{"$f":"データ一覧!$A$12","v":"2.1.1"},null,null,null,null,null,null,null,null," 耕  地  面  積",null,null,null,"       ha",null,null,"ha ",null,null,null,"ha ",null,null,null,"      ","産業分類",null,null,null,null,null,null,null,"事業所数",null,null,null,null,"従業者数",null,null,null,null,null,"年間製造品出荷額等",null,null,null,null,null,null,null,null,"区  分",null,null,null,null,"総    数",null,null,null,null,"男",null,null,null,"女",null,null,"  ","区  分",null,null,null,null,"総    数",null,null,null,null,"男",null,null,null,"女"]
[null,null,null,null,null,null,"㎢",null,null,null,"   総       数",null,null,null,null,"  う ち     田",null,null,null,null,"  う ち     畑",null,null,null,null,{"$f":"データ一覧!$A$250","v":"元.7.15"},null,null,{"$f":"データ一覧!$T$250","v":841},null,null,{"$f":"データ一覧!$T$251","v":775},null,null,null,{"$f":"データ一覧!$T$252","v":66},null,null,null,null,null,null,null,null,null,null,null,null,null,"　　   ",null,null,"事業所",null,"　　　　　　　 人",null,null,"人",null,"　　　　　　　　　　　　　　万円",null,null,null,null,null,null,"万円",null,null,null,null,null,null,null,"      人",null,null,null,null,null," 人",null,null,null," 人",null,null,null,null,null,null,null,"      人",null,null,null,"      人",null,null,null,"      人"]
[null,null,null,{"$f":"データ一覧!T10","v":152.35},null,null,null,null,null,null,null,null,null,null,"ha",null,null,null,null,"ha",null,null,null,null,"ha","農 業 生 産 物",null,null,null,"作 付 面 積",null,null,"収 穫 量",null,null,"10a当たり収量",null,null,null,null,"     ","総数",null,null,null,null,null,null,null,null,{"$f":"データ一覧!T339","v":17},null,null,null,{"$f":"+データ一覧!T364","v":271},null,null,null,null,null,null,{"$f":"データ一覧!T389","v":439903},null,null,null,null,null,null," 総　　　数",null,null,null,null,null,{"$f":"CA20+CE20","v":5286},null,null,null,{"$f":"データ一覧!T514","v":3199},null,null,null,{"$f":"データ一覧!T539","v":2087}]
[null,null,null,null,null,null,null,null,null,null,null,{"$f":"データ一覧!T12","v":15235},null,null,null,null,{"$f":"データ一覧!T13","v":927.3},null,null,null,null,{"$f":"データ一覧!T14","v":123},null,null,null,{"$f":"データ一覧!$A$253","v":"元年中"},null,null,null,"ha",null,null,"t",null,null,"kg",null,null,null,null,"     食料品","食料品",null,null,null,null,null,null,null,null,{"$f":"データ一覧!T340","v":5},null,null,null,{"$f":"+データ一覧!T365","v":32},null,null,null,null,null,null,{"$f":"データ一覧!T390","v":48215},null,null,null,null,null,null,null,null,null,null,null,null,null,null,null,null,null,null,null,null,null,null,null,null,null,"卸売業,小売業",null,null,null,null,{"$f":"CS21+CW21","v":630},null,null,null,{"$f":"データ一覧!T527","v":288},null,null,null,{"$f":"データ一覧!T552","v":342}]
["  町 ･ 丁 ･ 大 字",null,null,null,null,null,null,null,null,null,"  う ち  宅 地",null,null,null,null,"  う ち  山 林",null,null,null,null,"  う ち  原 野",null,null,null,null,"水　　　　　稲",null,null,null,{"$f":"データ一覧!T253","v":495},null,null,{"$f":"データ一覧!T254","v":2410},null,null,{"$f":"データ一覧!T255","v":487},null,null,null,null,"     飲料・飼料","飲料・飼料",null,null,null,null,null,null,null,null,{"$f":"データ一覧!T341","v":1},null,null,null,{"$f":"+データ一覧!T366","v":14},null,null,null,null,null,null,{"$f":"データ一覧!T391","v":"x"},null,null,null,null,null,null," 第１次産業",null,null,null,null,null,{"$f":"CA22+CE22","v":370},null,null,null,{"$f":"データ一覧!T515","v":265},null,null,null,{"$f":"データ一覧!T540","v":105},null,null,null,null,"金融業,保険業",null,null,null,null,{"$f":"CS22+CW22","v":61},null,null,null,{"$f":"データ一覧!T528","v":20},null,null,null,{"$f":"データ一覧!T553","v":41}]
["  区    画    数",null,null,null,null,null,null,{"$f":"データ一覧!T11","v":31},null,null,null,null,null,null,"ha",null,null,null,null,"ha",null,null,null,null,"ha","六　条　大　麦",null,null,null,{"$f":"データ一覧!T256","v":18},null,null,{"$f":"データ一覧!T257","v":34},null,null,{"$f":"データ一覧!T258","v":189},null,null,null,null,"     繊維","繊維",null,null,null,null,null,null,null,null,{"$f":"データ一覧!T342","v":1},null,null,null,{"$f":"+データ一覧!T367","v":7},null,null,null,null,null,null,{"$f":"データ一覧!T392","v":"x"},null,null,null,null,null,null,"  ","農業",null,null,null,null,{"$f":"CA23+CE23","v":258},null,null,null,{"$f":"データ一覧!T516","v":166},null,null,null,{"$f":"データ一覧!T541","v":92},null,null,null,"  ","不動産業",null,null,null,null,22,null,null,null,{"$f":"データ一覧!T529","v":9},null,null,null,{"$f":"データ一覧!T554","v":13}]
[{"$f":"データ一覧!$A$11","v":"31.4.1"},null,null,null,null,null,null,null,null,null,null,{"$f":"データ一覧!T15","v":280.8},null,null,null,null,{"$f":"データ一覧!T16","v":4179.1000000000004},null,null,null,null,{"$f":"データ一覧!T17","v":86},null,null,null,"大　　      豆",null,null,null,{"$f":"データ一覧!T259","v":"x"},null,null,{"$f":"データ一覧!T260","v":"x"},null,null,{"$f":"データ一覧!T261","v":"x"},null,null,null,null,"     衣服","木材",null,null,null,null,null,null,null,null,{"$f":"データ一覧!T343","v":0},null,null,null,{"$f":"+データ一覧!T368","v":0},null,null,null,null,null,null,{"$f":"データ一覧!T393","v":0},null,null,null,null,null,null,"  ","林業",null,null,null,null,4,null,null,null,{"$f":"データ一覧!T517","v":3},null,null,null,{"$f":"データ一覧!T542","v":1},null,null,null,"  ","学術研究",null,null,null,null,223,null,null,null,{"$f":"データ一覧!T530","v":175},null,null,null,{"$f":"データ一覧!T555","v":48}]
["  ２  世　帯　数　と　人　口",null,null,null,null,null,null,null,null,null,null,null,null,null,null,null,null,null,null,null,null,null,null,null,null,null,null,"  区　分",null," 乳 用 牛",null," 肉 用 牛",null,"豚",null,"採卵鶏",null,"ブロイラー",null,null,"     木材","家具",null,null,null,null,null,null,null,null,{"$f":"データ一覧!T344","v":2},null,null,null,{"$f":"+データ一覧!T369","v":34},null,null,null,null,null,null,{"$f":"データ一覧!T394","v":"x"},null,null,null,null,null,null,"  ","漁業",null,null,null,null,108,null,null,null,{"$f":"データ一覧!T518","v":96},null,null,null,{"$f":"データ一覧!T543","v":12},null,null,null,"  ","宿泊業,飲食ｻｰﾋﾞｽ",null,null,null,null,385,null,null,null,{"$f":"データ一覧!T531","v":111},null,null,null,{"$f":"データ一覧!T556","v":274}]
[null,null,null,null,null,null,null,null,null,null,null,null,null,null,null,null,null,null,null,null,null,null,null,null,null,"畜　産",null," 飼養農家",null,{"$f":"データ一覧!$T$262","v":"x"},null,{"$f":"データ一覧!$T$264","v":4},null,{"$f":"データ一覧!$T$266","v":"-"},null,{"$f":"データ一覧!$T$268","v":"-"},null,{"$f":"データ一覧!$T$270","v":"-"},null,null,"     家具","パルプ・紙",null,null,null,null,null,null,null,null,{"$f":"データ一覧!T345","v":0},null,null,null,{"$f":"+データ一覧!T370","v":0},null,null,null,null,null,null,{"$f":"データ一覧!T395","v":0},null,null,null,null,null,null," 第２次産業",null,null,null,null,null,1161,null,null,null,{"$f":"データ一覧!T519","v":847},null,null,null,{"$f":"データ一覧!T544","v":314},null,null,null,"  ","生活関連ｻｰﾋﾞｽ業",null,null,null,null,157,null,null,null,{"$f":"データ一覧!T532","v":60},null,null,null,{"$f":"データ一覧!T557","v":97}]
[null,null,null,null,null,null,null,null,"        人　　　　　　　　　　口",null,null,null,null,null,null,null,null,null,null,null,"１世帯当",null,"人    口",null,null,{"$f":"データ一覧!$A$262","v":"2.3.31"},null,"（戸）",null,null,null,null,null,null,null,null,null,null,null,null,"     パルプ・紙","印刷",null,null,null,null,null,null,null,null,{"$f":"データ一覧!T346","v":0},null,null,null,{"$f":"+データ一覧!T371","v":0},null,null,null,null,null,null,{"$f":"データ一覧!T396","v":0},null,null,null,null,null,null,null,"鉱業，採石業",null,null,null,null,1,null,null,null,{"$f":"データ一覧!T520","v":1},null,null,null,{"$f":"データ一覧!T545","v":0},null,null,null,"  ","教育,学習支援業",null,null,null,null,209,null,null,null,{"$f":"データ一覧!T533","v":77},null,null,null,{"$f":"データ一覧!T558","v":132}]
[" 区　　　　分",null,null,null,null,"世帯数",null,null," 総   数",null,null,"    男",null,null,"    女",null,null,"  男／女",null,null,"たり人員",null,"密    度",null,null,null,null," 頭 羽",null,{"$f":"データ一覧!$T$263","v":54},null,{"$f":"データ一覧!$T$265","v":162},null,{"$f":"データ一覧!$T$267","v":"-"},null,{"$f":"データ一覧!$T$269","v":"-"},null,{"$f":"データ一覧!$T$271","v":"-"},null,null,"     出版・印刷","化学",null,null,null,null,null,null,null,null,{"$f":"データ一覧!T347","v":0},null,null,null,{"$f":"+データ一覧!T372","v":0},null,null,null,null,null,null,{"$f":"データ一覧!T397","v":0},null,null,null,null,null,null,"  ","建設業",null,null,null,null,634,null,null,null,{"$f":"データ一覧!T521","v":539},null,null,null,{"$f":"データ一覧!T546","v":95},null,null,null,null,"医療，福祉",null,null,null,null,512,null,null,null,{"$f":"データ一覧!T534","v":72},null,null,null,{"$f":"データ一覧!T559","v":440}]
[null,null,null,null,null,"    世 帯",null,null,"       人",null,null,"       人",null,null,"       人",null,null,null,"　　％",null,"    人",null,"    人/㎢",null,null,null,null,null,null,null,null,null,null,null,null,null,null,null,null,null,"     化学","石油・石炭",null,null,null,null,null,null,null,null,{"$f":"データ一覧!T348","v":0},null,null,null,{"$f":"+データ一覧!T373","v":0},null,null,null,null,null,null,{"$f":"データ一覧!T398","v":0},null,null,null,null,null,null,null,"製造業",null,null,null,null,526,null,null,null,{"$f":"データ一覧!T522","v":307},null,null,null,{"$f":"データ一覧!T547","v":219},null,null,null,null,"複合サービス事業",null,null,null,null,87,null,null,null,{"$f":"データ一覧!T535","v":60},null,null,null,{"$f":"データ一覧!T560","v":27}]
[{"$f":"データ一覧!$A$25","v":" 2.10.1"},null,null,null,null,{"$f":"データ一覧!T25","v":4019},null,null,{"$f":"+L30+O30","v":13222},null,null,{"$f":"データ一覧!T27","v":6672},null,null,{"$f":"データ一覧!T28","v":6550},null,null,null,{"$f":"+L30/O30*100","v":101.86259541984732},null,{"$f":"データ一覧!T30","v":3.29},null,{"$f":"データ一覧!T31","v":86.9},null,null,"  ５  林               業",null,null,null,null,null,null,null,null,null,null,null,null,null,null,"     石油・石炭","プラスチック",null,null,null,null,null,null,null,null,{"$f":"データ一覧!T349","v":1},null,null,null,{"$f":"+データ一覧!T374","v":40},null,null,null,null,null,null,{"$f":"データ一覧!T399","v":"x"},null,null,null,null,null,null," 第３次産業",null,null,null,null,null,3750,null,null,null,{"$f":"データ一覧!T523","v":2085},null,null,null,{"$f":"データ一覧!T548","v":1665},null,null,null,null,"サービス業",null,null,null,null,398,null,null,null,{"$f":"データ一覧!T536","v":263},null,null,null,{"$f":"データ一覧!T561","v":135}]
[{"$f":"データ一覧!$A$32","v":" 7.10.1"},null,null,null,null,{"$f":"データ一覧!T32","v":3687},null,null,{"$f":"+L31+O31","v":12362},null,null,{"$f":"データ一覧!T34","v":6087},null,null,{"$f":"データ一覧!T35","v":6275},null,null,null,97.003984063745023,null,{"$f":"データ一覧!T37","v":3.35},null,{"$f":"データ一覧!T38","v":81.2},null,null,null,null,null,null,null,null,null,null,null,null,null,null,null,null,null,"     プラスチック","ゴム",null,null,null,null,null,null,null,null,{"$f":"データ一覧!T350","v":0},null,null,null,{"$f":"+データ一覧!T375","v":0},null,null,null,null,null,null,{"$f":"データ一覧!T400","v":0},null,null,null,null,null,null,null,"電気･ｶﾞｽ･水道業",null,null,null,null,654,null,null,null,{"$f":"データ一覧!T524","v":638},null,null,null,{"$f":"データ一覧!T549","v":16},null,null,null,null,"公務",null,null,null,null,205,null,null,null,{"$f":"データ一覧!T537","v":141},null,null,null,{"$f":"データ一覧!T562","v":64}]
[{"$f":"データ一覧!$A$39","v":"12.10.1"},null,null,null,null,{"$f":"データ一覧!T39","v":3713},null,null,{"$f":"+L32+O32","v":11630},null,null,{"$f":"データ一覧!T41","v":5672},null,null,{"$f":"データ一覧!T42","v":5958},null,null,null,95.19973145350788,null,{"$f":"データ一覧!T44","v":3.13},null,{"$f":"データ一覧!T45","v":76.400000000000006},null,null,"    　森　　　林　　　総　　　面　　　積   ",null,null,null,null,null,null,null,{"$f":"データ一覧!$A$272","v":"2.3.31"},null,null,null,null,null,null,"     ゴム","皮革",null,null,null,null,null,null,null,null,{"$f":"データ一覧!T351","v":1},null,null,null,{"$f":"+データ一覧!T376","v":46},null,null,null,null,null,null,{"$f":"データ一覧!T401","v":"x"},null,null,null,null,null,null,null,"情報通信業",null,null,null,null,{"$f":"CA32+CE32","v":42},null,null,null,{"$f":"データ一覧!T525","v":24},null,null,null,{"$f":"データ一覧!T550","v":18},null,null,null," 分類不能の産業",null,null,null,null,null,5,null,null,null,{"$f":"データ一覧!T538","v":2},null,null,null,{"$f":"データ一覧!T563","v":3}]
[{"$f":"+データ一覧!$A$46","v":"17.10.1"},null,null,null,null,{"$f":"データ一覧!T46","v":3760},null,null,{"$f":"+L33+O33","v":11023},null,null,{"$f":"データ一覧!T48","v":5364},null,null,{"$f":"データ一覧!T49","v":5659},null,null,null,94.787064852447429,null,{"$f":"データ一覧!T51","v":2.93},null,{"$f":"データ一覧!T52","v":72.400000000000006},null,null,"　　　森　　　　　　　林　　　　　　　の　　　　　　　構　　　　　　　成",null,null,null,null,null,null,null,null,null,null,null,null,null,null,"     皮革","窯業・土石",null,null,null,null,null,null,null,null,{"$f":"データ一覧!T352","v":2},null,null,null,{"$f":"+データ一覧!T377","v":48},null,null,null,null,null,null,{"$f":"データ一覧!T402","v":"x"},null,null,null,null,null,null,"  ","運輸業,郵便業",null,null,null,null,{"$f":"CA33+CE33","v":165},null,null,null,{"$f":"データ一覧!T526","v":147},null,null,null,{"$f":"データ一覧!T551","v":18}]
[{"$f":"+データ一覧!$A$53","v":"22.10.1"},null,null,null,null,{"$f":"+データ一覧!T53","v":3879},null,null,{"$f":"+L34+O34","v":10563},null,null,{"$f":"データ一覧!T55","v":5292},null,null,{"$f":"データ一覧!T56","v":5271},null,null,null,100.39840637450199,null,{"$f":"データ一覧!T58","v":2.72},null,{"$f":"+データ一覧!T59","v":69.3},null,null,null,null,null,null,null,"       ha",null,null,null,null,null,null,"       ha",null,null,"     窯業・土石","鉄鋼",null,null,null,null,null,null,null,null,{"$f":"データ一覧!T353","v":0},null,null,null,{"$f":"+データ一覧!T378","v":0},null,null,null,null,null,null,{"$f":"データ一覧!T403","v":0},null,null,null,null,null,null," １６  社　 会 　福　 祉",null,null,null,null,null,null,null,null,null,null,null,null,null,null,null,{"$f":"データ一覧!$A$564","v":"2.4.1"}]
[{"$f":"データ一覧!$A$60","v":"27.10.1"},null,null,null,null,{"$f":"データ一覧!T60","v":3899},null,null,{"$f":"データ一覧!T61","v":9914},null,null,{"$f":"データ一覧!T62","v":4988},null,null,{"$f":"データ一覧!T63","v":4926},null,null,null,101.25862768980917,null,{"$f":"データ一覧!T65","v":2.5427032572454475},null,{"$f":"データ一覧!T66","v":65.099999999999994},null,null,"  総　　　　　   数",null,null,null,{"$f":"データ一覧!T272","v":12575.460000000001},null,null," 天然林       針葉樹",null,null,null,{"$f":"データ一覧!T275","v":858.02999999999895},null,null,null,"     鉄鋼","非鉄金属",null,null,null,null,null,null,null,null,{"$f":"データ一覧!T354","v":0},null,null,null,{"$f":"+データ一覧!T379","v":0},null,null,null,null,null,null,{"$f":"データ一覧!T404","v":0}]
[{"$f":"+データ一覧!$A$67","v":"2.10.1"},null,null,null,null,{"$f":"データ一覧!T67","v":3845},null,null,{"$f":"データ一覧!T76","v":9173},null,null,{"$f":"データ一覧!T77","v":4649},null,null,{"$f":"データ一覧!T78","v":4524},null,null,null,{"$f":"+L36/O36*100","v":102.763041556145},null,{"$f":"データ一覧!T68","v":2.39},null,{"$f":"データ一覧!T69","v":60.210042664916315},null,null,"  人工林     針葉樹",null,null,null,{"$f":"データ一覧!T273","v":2622.39},null,null," 天然林       広葉樹",null,null,null,{"$f":"データ一覧!T276","v":8596.8700000000008},null,null,null,"     非鉄金属","金属",null,null,null,null,null,null,null,null,{"$f":"データ一覧!T355","v":1},null,null,null,{"$f":"+データ一覧!T380","v":11},null,null,null,null,null,null,{"$f":"データ一覧!T405","v":"x"},null,null,null,null,null,null,"    ","区分",null,null,null,null,null,null,"施設数",null,null,null,null,"収容定員",null,null,null,null,null,"区分",null,null,null,null,null,null,"施設数",null,null,null,null,"収容定員"]
["年",null,"  区",null," 0歳",null,null,"15歳",null,null,"25歳",null,null,"35歳",null,null,"45歳",null,null,"55歳",null,null,"65歳",null,null,"  人工林     広葉樹",null,null,null,{"$f":"データ一覧!T274","v":3.69},null,null," 竹               林",null,null,null,{"$f":"データ一覧!T277","v":27.740000000000002},null,null,null,"     金属","はん用機械",null,null,null,null,null,null,null,null,{"$f":"データ一覧!T356","v":0},null,null,null,{"$f":"+データ一覧!T381","v":0},null,null,null,null,null,null,{"$f":"データ一覧!T406","v":0},null,null,null,null,null,null,"生活保護施設",null,null,null,null,null,null,null,{"$f":"データ一覧!T564","v":0},null,null,null,{"$f":"データ一覧!T577","v":0},null,null,null,"人",null,"指定障害者支援施設",null,null,null,null,null,null,null,{"$f":"データ一覧!T570","v":0},null,null,null,{"$f":"データ一覧!T583","v":0},null,null,null,"人"]
["齢","令",null,null,null,"～",null,null,"～",null,null,"～",null,null,"～",null,null,"～",null,null,"～",null,null,null,null,null,null,null,null,null,null,null,null,null,null,null,null,null,null,null,"     一般機械","生産用機械",null,null,null,null,null,null,null,null,{"$f":"データ一覧!T357","v":0},null,null,null,{"$f":"+データ一覧!T382","v":0},null,null,null,null,null,null,{"$f":"データ一覧!T407","v":0},null,null,null,null,null,null,"地域福祉施設",null,null,null,null,null,null,null,{"$f":"データ一覧!T565","v":0},null,null,null,{"$f":"データ一覧!T578","v":0},null,null,null,null,null,"指定相談支援事業所",null,null,null,null,null,null,null,{"$f":"データ一覧!T571","v":0},null,null,null,{"$f":"データ一覧!T584","v":0}]
["階","元","  分",null,null,null,"14歳",null,null,"24歳",null,null,"34歳",null,null,"44歳",null,null,"54歳",null,null,"64歳",null,null,"以上","    林     野     の     構     成",null,null,null,null,null,null,"保     有     形     態     別",null,null,null,null,null,null,null,"     電気機械","業務用機械",null,null,null,null,null,null,null,null,{"$f":"データ一覧!T358","v":0},null,null,null,{"$f":"+データ一覧!T383","v":0},null,null,null,null,null,null,{"$f":"データ一覧!T408","v":0},null,null,null,null,null,null,"老人福祉施設",null,null,null,null,null,null,null,{"$f":"データ一覧!T566","v":1},null,null,null,{"$f":"データ一覧!T579","v":0},null,null,null,null,null,"児童福祉施設",null,null,null,null,null,null,null,{"$f":"データ一覧!T572","v":7},null,null,null,{"$f":"データ一覧!T585","v":330}]
["級","・",null,null,null,null,"人",null,null,"人",null,"    人",null,null,"    人",null,null,"    人",null,null,"    人",null,null,"    人",null,null,null,null,null,null,null,"ha",null,null,null,null,null,"       ha",null,null,null,"電子・デバイス",null,null,null,null,null,null,null,null,{"$f":"データ一覧!T359","v":0},null,null,null,{"$f":"+データ一覧!T384","v":0},null,null,null,null,null,null,{"$f":"データ一覧!T409","v":0},null,null,null,null,null,null,"介護保険施設",null,null,null,null,null,null,null,{"$f":"データ一覧!T567","v":16},null,null,null,{"$f":"データ一覧!T580","v":268},null,null,null,null,null,"母子福祉施設",null,null,null,null,null,null,null,{"$f":"データ一覧!T573","v":0},null,null,null,{"$f":"データ一覧!T586","v":0}]
["別","10","総 数",null,{"$f":"+E42+E43","v":992},null,null,{"$f":"+H42+H43","v":709},null,null,{"$f":"+K42+K43","v":789},null,null,{"$f":"+N42+N43","v":970},null,null,{"$f":"+Q42+Q43","v":1082},null,null,{"$f":"+T42+T43","v":1336},null,null,{"$f":"+W42+W43","v":3289},null,null," 無立木地   伐採跡地",null,null,null,{"$f":"データ一覧!T278","v":0.37},null,null,"国   　　　 　 有",null,null,null,{"$f":"データ一覧!T280","v":6.6},null,null,null,null,"電気機械",null,null,null,null,null,null,null,null,{"$f":"データ一覧!T360","v":2},null,null,null,{"$f":"+データ一覧!T385","v":30},null,null,null,null,null,null,{"$f":"データ一覧!T410","v":"x"},null,null,null,null,null,null,"障害者自立支援法施行前からの身体障害者福祉施設",null,null,null,null,null,null,null,{"$f":"データ一覧!T568","v":0},null,null,null,{"$f":"データ一覧!T581","v":0},null,null,null,null,null,"婦人保護施設",null,null,null,null,null,null,null,{"$f":"データ一覧!T574","v":0},null,null,null,{"$f":"データ一覧!T587","v":0}]
["人","・","  男",null,{"$f":"データ一覧!T79","v":533},null,null,{"$f":"データ一覧!T80","v":364},null,null,{"$f":"データ一覧!T81","v":462},null,null,{"$f":"データ一覧!T82","v":518},null,null,{"$f":"データ一覧!T83","v":611},null,null,{"$f":"データ一覧!T84","v":753},null,null,{"$f":"データ一覧!T85","v":1402},null,null," 無立木地   未立木地",null,null,null,{"$f":"データ一覧!T279","v":466.37},null,null,"公       　　  有",null,null,null,{"$f":"データ一覧!T281","v":1040.1499999999999},null,null,null,"     輸送機械","情報通信機械",null,null,null,null,null,null,null,null,{"$f":"データ一覧!T361","v":0},null,null,null,{"$f":"+データ一覧!T386","v":0},null,null,null,null,null,null,{"$f":"データ一覧!T411","v":0},null,null,null,null,null,null,null,null,null,null,null,null,null,null,null,null,null,null,null,null,null,null,null,null,"その他の社会福祉施設",null,null,null,null,null,null,null,{"$f":"データ一覧!T575+データ一覧!T576","v":2},null,null,null,{"$f":"データ一覧!T588+データ一覧!T589","v":0}]
["口","1","  女",null,{"$f":"データ一覧!T87","v":459},null,null,{"$f":"データ一覧!T88","v":345},null,null,{"$f":"データ一覧!T89","v":327},null,null,{"$f":"データ一覧!T90","v":452},null,null,{"$f":"データ一覧!T91","v":471},null,null,{"$f":"データ一覧!T92","v":583},null,null,{"$f":"データ一覧!T93","v":1887},null,null,null,null,null,null,null,null,null,"私          　 有",null,null,null,{"$f":"データ一覧!T282","v":11528.71},null,null,null,"     精密機械","輸送機械",null,null,null,null,null,null,null,null,{"$f":"データ一覧!T362","v":0},null,null,null,{"$f":"+データ一覧!T387","v":0},null,null,null,null,null,null,{"$f":"データ一覧!T412","v":0},null,null,null,null,null,null,"障害福祉サービス事業所",null,null,null,null,null,null,null,{"$f":"データ一覧!T569","v":7},null,null,null,{"$f":"データ一覧!T582","v":81}]
[null,null,null,null,null,null,null,null,null,null,null,null,null,null,null,null,null,null,null,null,null,null,null,null,null,"            林     産     物     生     産     量 ",null,null,null,null,null,null,null,null,null,{"$f":"データ一覧!$A$283","v":"元年中"},null,null,null,null,"     その他","その他",null,null,null,null,null,null,null,null,{"$f":"データ一覧!T363","v":1},null,null,null,{"$f":"+データ一覧!T388","v":9},null,null,null,null,null,null,{"$f":"データ一覧!T413","v":"x"},null,null,null,null,null,null," １７  教　　　　　　　育",null,null,null,null,null,null,null,null,null,null,null,null,null,null,null,{"$f":"データ一覧!$A$590","v":"2.5.1"}]
["人口動態",null,null,null,null,null,null,"   自　然　動　態",null,null,null,null,null,"   社  会  動  態",null,null,null,null,null,{"$f":"データ一覧!$A74","v":"31.1.1～元.12.31"},null,null,null,null,null,"生椎茸",null,null,null,{"$f":"データ一覧!T283","v":11},null,"㎏","乾椎茸",null,null,null,{"$f":"データ一覧!T284","v":"-"},null,"㎏"]
[null,null,"   区       分",null,null,null,null," 出   生",null,null," 死   亡",null,null," 転   入",null,null," 転   出",null,null," 婚   姻",null,null," 離   婚",null,null,"えのきだけ",null,null,null,{"$f":"データ一覧!T286","v":"-"},null,"㎏","なめこ",null,null,null,{"$f":"データ一覧!T285","v":2},null,"㎏",null,"    ","工　業　用　水　量",null,null,null,null,null,"（従業者30人以上の事業所）",null,null,null,null,null,null,null,null,null,null,{"$f":"データ一覧!T414","v":57},null,null,null,null,"㎥／日",null,null,null,null,null,null,null,null,null,null,null,null,null,null,"学校数（校）",null,null,null,null,null,null,"教員数（人）",null,null,null,null,null,null,null,"学生・生徒・児童数（人）"]
[{"$f":"LEFT(データ一覧!$A70,7)","v":"元.10.1～"},null,null,null,null,null,null,"       人",null,null,"       人",null,null,"       人",null,null,"       人",null,null,null,"    件",null,null,"    件",null,"ひらたけ",null,null,null,{"$f":"+データ一覧!T287","v":"-"},null,"㎏","まいたけ",null,null,null,{"$f":"+データ一覧!T288","v":"-"},null,"㎏",null,null,null,null,null,null,null,null,null,null,null,null,null,null,null,null,null,null,null,null,null,null,null,null,null,null,null,null,null,null,"　","区分",null,null,null,null,null,null,null," 本 校",null,null," 分 校",null,null," 本   務",null,null,null," 兼   務",null,null,null," 総   数",null,null,null,"男",null,null,null,"女"]
["～",null," 実          数",null,null,null,null,{"$f":"データ一覧!T70","v":72},null,null,{"$f":"データ一覧!T71","v":146},null,null,{"$f":"データ一覧!T72","v":336},null,null,{"$f":"データ一覧!T73","v":319},null,null,{"$f":"データ一覧!T74","v":48},null,null,{"$f":"データ一覧!T75","v":8},null,null,null,null,null,null,null,null,null,null,null,null,null,null,null,null,null," １１ 　上　・　下　水　道",null,null,null,null,null,null,null,null,null,null,null,null,null,null,null,null,null,null,null,null,null,null,null,null,null,null,null,null,"小学校",null,null,null,null,null,null,null,null,{"$f":"データ一覧!T591","v":3},null,null,{"$f":"データ一覧!T592","v":0},null,null,{"$f":"データ一覧!T593","v":41},null,null,null,{"$f":"データ一覧!T594","v":5},null,null,null,{"$f":"データ一覧!T595","v":391},null,null,null,{"$f":"データ一覧!T596","v":200},null,null,null,{"$f":"データ一覧!T597","v":191}]
[{"$f":"RIGHT(データ一覧!$A72,7)","v":"～2.9.30"},null,"比率(対1,000人)",null,null,null,null,{"$f":"+H48/I35*1000","v":7.262457131329433},null,null,{"$f":"+K48/I35*1000","v":14.726649182973574},null,null,"- ",null,null,"- ",null,null,{"$f":"+T48/I35*1000","v":4.8416380875529548},null,null,{"$f":"+W48/I35*1000","v":0.80693968125882598},null,null,"  ６  漁               業",null,null,null,null,null,null,null,null,null,null,null,null,null,null,null,null,null,null,null,null,null,null,null,null,null,null,null,null,null,null,null,null,null,null,null,null,null,null,null,null,null,null,"  ","中学校",null,null,null,null,null,null,null,null,{"$f":"データ一覧!T599","v":1},null,null,{"$f":"データ一覧!T600","v":0},null,null,{"$f":"データ一覧!T601","v":24},null,null,null,{"$f":"データ一覧!T602","v":1},null,null,null,{"$f":"データ一覧!T603","v":193},null,null,null,{"$f":"データ一覧!T604","v":96},null,null,null,{"$f":"データ一覧!T605","v":97}]
[null,null,null,null,null,null,null,null,null,null,null,null,null,null,null,null,null,null,null,null,null,null,null,null,null,null,null,null,null,null,null,null,null,null,null,null,null,null,null,null,"水 道 供 給 人 口",null,null,null,null,null,null,"上 水 道",null,null,null,"簡易水道",null,null,null,"専用水道",null,null,null,"飲料水供給施設",null,null,null,"下水道処理人口",null,null,null,null,"  ","高等学校",null,null,null,null,null,null,null,null,{"$f":"データ一覧!T607","v":0},null,null,{"$f":"データ一覧!T608","v":0},null,null,{"$f":"データ一覧!T609","v":0},null,null,null,{"$f":"データ一覧!T610","v":0},null,null,null,{"$f":"データ一覧!T611","v":0},null,null,null,{"$f":"データ一覧!T612","v":0},null,null,null,{"$f":"データ一覧!T613","v":0}]
["  ３  事　　業　　所（民　　営）    （平 28.6.1）",null,null,null,null,null,null,null,null,null,null,null,null,null,null,null,null,null,null,null,null,null,null,null,null,"漁船隻数・トン数",null,null,null,{"$f":"データ一覧!$A$289","v":"元.12.31"},null,null,null,"動　力　船",null,null,null,null,null,null,{"$f":"データ一覧!$A$415","v":"2.3.31"},null,null,null,null,null,"人",null,{"$f":"データ一覧!T415","v":6206},null,null,{"$f":"データ一覧!T416","v":2653},null,null,null,null,{"$f":"データ一覧!T417","v":378},null,null,null,{"$f":"データ一覧!T418","v":65},null,null,null,{"$f":"データ一覧!T419","v":5313},null,null,null,"  ","大学・短期大学",null,null,null,null,null,null,null,null,{"$f":"データ一覧!T614","v":0},null,null,{"$f":"データ一覧!T615","v":0},null,null,{"$f":"データ一覧!T616","v":0},null,null,null,{"$f":"データ一覧!T617","v":0},null,null,null,{"$f":"データ一覧!T618","v":0},null,null,null,{"$f":"データ一覧!T619","v":0},null,null,null,{"$f":"データ一覧!T620","v":0}]
[null,null,null,null,null,null,null,null,null,null,null,null,null,null,null,null,null,null,null,null,null,null,null,null,null,"無動力船隻数",null,null,null,"船外機付漁船隻数",null,null,null,"隻　数",null,null,"総 ト ン 数",null,null,null,null,null,null,null,null,null,null,null,null,null,null,null,null,null,null,null,null,null,null,null,null,null,null,null,null,null,null,null,"  ","高等専門学校",null,null,null,null,null,null,null,null,{"$f":"データ一覧!T621","v":0},null,null,{"$f":"データ一覧!T622","v":0},null,null,{"$f":"データ一覧!T623","v":0},null,null,null,{"$f":"データ一覧!T624","v":0},null,null,null,{"$f":"データ一覧!T625","v":0},null,null,null,{"$f":"データ一覧!T626","v":0},null,null,null,{"$f":"データ一覧!T627","v":0}]
[null,null,null,null,null,null,null,"    総　　　　　数",null,null,null,null,null,"    民　　　　　営",null,null,null,null,null,"  国 ･ 地方公共団体",null,null,null,null,null,null,null,null,"隻",null,null,null,"隻",null,null,"隻",null,null,"t",null," １２  交   通　・　通   信",null,null,null,null,null,null,null,null,null,null,null,null,null,null,null,null,null,null,null,null,null,null,null,null,null,null,null,"  ","特別支援学校",null,null,null,null,null,null,null,null,{"$f":"+データ一覧!T629","v":1},null,null,{"$f":"+データ一覧!T630","v":0},null,null,{"$f":"+データ一覧!T631","v":85},null,null,null,{"$f":"+データ一覧!T632","v":4},null,null,null,{"$f":"+データ一覧!T633","v":125},null,null,null,{"$f":"+データ一覧!T634","v":71},null,null,null,{"$f":"+データ一覧!T635","v":54}]
["  　区　　　　　　分",null,null,null,null,null,null," 事業所数",null,null," 従業者数",null,null," 事業所数",null,null," 従業者数",null,null," 事業所数",null,null," 従業者数",null,null,{"$f":"データ一覧!$T$289","v":0},null,null,null,{"$f":"データ一覧!$T$290","v":113},null,null,null,{"$f":"データ一覧!T291","v":176},null,null,{"$f":"データ一覧!T292","v":768.02},null,null,null,null,null,null,null,null,null,null,null,null,null,null,null,null,null,null,null,null,null,null,null,null,null,null,null,null,null,null,null,"  ","幼稚園",null,null,null,null,null,null,null,null,{"$f":"データ一覧!T637","v":0},null,null,{"$f":"データ一覧!T638","v":0},null,null,{"$f":"データ一覧!T639","v":0},null,null,null,{"$f":"データ一覧!T640","v":0},null,null,null,{"$f":"データ一覧!T641","v":0},null,null,null,{"$f":"データ一覧!T642","v":0},null,null,null,{"$f":"データ一覧!T643","v":0}]
[null,null,null,null,null,null,null,null,null,null,"       人",null,null,null,null,null,"       人",null,null,null,null,null,"       人",null,null,"  男女別就業者数",null,null,null,null,null,null,null,{"$f":"データ一覧!$A$293","v":"30.11.1"},null,null,null,null,null,null,"道     路",null,null,null,"実 延 長",null,null,null,"国     道",null,null,null,"県     道",null,null,null,"市町道",null,null,null," 鉄 道 営 業 キ ロ 数",null,null,null,null,null,null,null,"  ","幼保連携認定こども園",null,null,null,null,null,null,null,null,{"$f":"データ一覧!T645","v":0},null,null,{"$f":"データ一覧!T646","v":0},null,null,{"$f":"データ一覧!T647","v":0},null,null,null,{"$f":"データ一覧!T648","v":0},null,null,null,{"$f":"データ一覧!T649","v":0},null,null,null,{"$f":"データ一覧!T650","v":0},null,null,null,{"$f":"データ一覧!T651","v":0}]
["総数",null,null,null,null,null,null,{"$f":"データ一覧!T95","v":"…"},null,null,{"$f":"データ一覧!T152","v":"…"},null,null,{"$f":"データ一覧!T96","v":571},null,null,{"$f":"データ一覧!T153","v":5012},null,null,{"$f":"データ一覧!T97","v":"…"},null,null,{"$f":"データ一覧!T154","v":"…"},null,null,"総　　数",null,null,null,null,null,"男",null,null,null,"女",null,null,null,null,{"$f":"データ一覧!$A$420","v":"31.4.1"},null,null,null,{"$f":"データ一覧!T420","v":208.34719999999999},null,null,"㎞",{"$f":"データ一覧!T421","v":0},null,null,"㎞",{"$f":"データ一覧!T422","v":39.6},null,null,"㎞",{"$f":"データ一覧!T423","v":168.74719999999999},null,null,"km",{"$f":"データ一覧!$A$424","v":"2.4.1"},null,null,null,{"$f":"データ一覧!T424","v":11.394},null,null,"㎞","  ","各種学校",null,null,null,null,null,null,null,null,{"$f":"データ一覧!T653","v":0},null,null,{"$f":"データ一覧!T654","v":0},null,null,{"$f":"データ一覧!T655","v":0},null,null,null,{"$f":"データ一覧!T656","v":0},null,null,null,{"$f":"データ一覧!T657","v":0},null,null,null,{"$f":"データ一覧!T658","v":0},null,null,null,{"$f":"データ一覧!T659","v":0}]
["農林漁業",null,null,null,null,null,null,{"$f":"データ一覧!T98","v":"…"},null,null,{"$f":"データ一覧!T155","v":"…"},null,null,{"$f":"データ一覧!T99","v":16},null,null,{"$f":"データ一覧!T156","v":120},null,null,{"$f":"データ一覧!T100","v":"…"},null,null,{"$f":"データ一覧!T157","v":"…"},null,null,null,null,null,null,null,"人",null,null,"　　　　人",null,null,null,null,"  人",null,"自動車",null,null,null,null,null,null,null,null,"乗用車",null,null,null,null,null,null,null,null,null,null,null,null,null,null,null,null,null,null,"  ","専修学校",null,null,null,null,null,null,null,null,{"$f":"データ一覧!T661","v":1},null,null,{"$f":"データ一覧!T662","v":0},null,null,{"$f":"データ一覧!T663","v":10},null,null,null,{"$f":"データ一覧!T664","v":30},null,null,null,{"$f":"データ一覧!T665","v":85},null,null,null,{"$f":"データ一覧!T666","v":43},null,null,null,{"$f":"データ一覧!T667","v":42}]
["鉱業",null,null,null,null,null,null,{"$f":"データ一覧!T101","v":"…"},null,null,{"$f":"データ一覧!T158","v":"…"},null,null,{"$f":"データ一覧!T102","v":0},null,null,{"$f":"データ一覧!T159","v":0},null,null,{"$f":"データ一覧!T103","v":"…"},null,null,{"$f":"データ一覧!T160","v":"…"},null,null,{"$f":"AF58+AJ58","v":123},null,null,null,null,null,{"$f":"データ一覧!$T$294","v":119},null,null,null,{"$f":"データ一覧!T295","v":4},null,null,null,null,"台  数",null,null,null,"貨    物",null,null,null,"普     通",null,null,null,"小     型",null,null,null,"乗  合",null,null,"特  種",null,null,"小型二輪",null,null,"軽自動車",null,null," １８  衛　　　　　　　生"]
["建設業",null,null,null,null,null,null,{"$f":"データ一覧!T104","v":"…"},null,null,{"$f":"データ一覧!T161","v":"…"},null,null,{"$f":"データ一覧!T105","v":94},null,null,{"$f":"データ一覧!T162","v":1036},null,null,{"$f":"データ一覧!T106","v":"…"},null,null,{"$f":"データ一覧!T163","v":"…"},null,null,"　　　　海 面 漁 業 漁 獲 量 （属人）",null,null,null,null,null,null,null,{"$f":"データ一覧!$A$296","v":"30年中"},null,null,null,null,null,null,{"$f":"データ一覧!$A$425","v":"2.3.31"},null,null,null,null,{"$f":"データ一覧!T425","v":425},null,null,null,{"$f":"データ一覧!T427","v":1634},null,null,null,{"$f":"データ一覧!T428","v":1739},null,null,{"$f":"データ一覧!T426","v":46},null,null,{"$f":"データ一覧!T429","v":235},null,null,{"$f":"データ一覧!T430","v":111},null,null,{"$f":"データ一覧!T431","v":4553}]
["製造業",null,null,null,null,null,null,{"$f":"データ一覧!T107","v":"…"},null,null,{"$f":"データ一覧!T164","v":"…"},null,null,{"$f":"データ一覧!T108","v":32},null,null,{"$f":"データ一覧!T165","v":289},null,null,{"$f":"データ一覧!T109","v":"…"},null,null,{"$f":"データ一覧!T166","v":"…"},null,null,null,null,null,null,null,"       ","ｔ",null,null,null,null,null,null,"t",null,null,null,"     ",null,"郵　便　局　数",null,null,null,null,null,null,null,null,null,null,null,null,null,null,null,"一般加入",null,null,null,"ＩＮＳネット",null,null,null,null,null,null,null,"医療関係施設",null,null,null,null,null,{"$f":"データ一覧!$A$668","v":"元.10.1"},null,null,null,null,null,null,"および医療関係者数",null,null,null,null,null,null,null,{"$f":"データ一覧!$A$673","v":"30.12.31"}]
["電気・ｶﾞ ｽ・熱供給・水道業",null,null,null,null,null,null,{"$f":"データ一覧!T110","v":"…"},null,null,{"$f":"データ一覧!T167","v":"…"},null,null,{"$f":"データ一覧!T111","v":7},null,null,{"$f":"データ一覧!T168","v":1014},null,null,{"$f":"データ一覧!T112","v":"…"},null,null,{"$f":"データ一覧!T169","v":"…"},null,null,"   総　　　　　　数",null,null,null,{"$f":"データ一覧!T296","v":1409},null,null,"   藻　　　　　　類",null,null,null,{"$f":"データ一覧!T299","v":18},null,null,null,"通  信",null,null,null," 総     数",null,null,null,null,null," 郵 便 局",null,null,null,null," 簡 易 局",null,null,null,null,"電話数",null,null,null,"加入数",null,null,null,null,null,null,null,null,null,"　","病",null,null,"院",null,"　",null,null,null,null," ","一般診療所",null,null,null,null,null,null,null,null,null,null,null,"歯科診療所"]
["情報通信業",null,null,null,null,null,null,{"$f":"データ一覧!T113","v":"…"},null,null,{"$f":"データ一覧!T170","v":"…"},null,null,{"$f":"データ一覧!T114","v":3},null,null,{"$f":"データ一覧!T171","v":24},null,null,{"$f":"データ一覧!T115","v":"…"},null,null,{"$f":"データ一覧!T172","v":"…"},null,null,"   魚　　　　　　類",null,null,null,{"$f":"データ一覧!T297","v":1278},null,null,"   そ　   の　　 他",null,null,null,{"$f":"データ一覧!T300","v":92},null,null,null,{"$f":"データ一覧!$A$435","v":"2.3.31"},null,null,null,{"$f":"データ一覧!T432","v":5},null,null,null,null,null,{"$f":"データ一覧!T433","v":4},null,null,null,null,{"$f":"データ一覧!T434","v":1},null,null,null,null,{"$f":"データ一覧!T435","v":2424},null,null,null,{"$f":"データ一覧!T436","v":338},null,null,null," ","医療関係",null,null,null,null,null,null,null,null,null,null,null,"一般病院",null,null,null,null,null,null,null,null,null,null,null,"有",null,null,"床"]
["運輸業、郵便業",null,null,null,null,null,null,{"$f":"データ一覧!T116","v":"…"},null,null,{"$f":"データ一覧!T173","v":"…"},null,null,{"$f":"データ一覧!T117","v":11},null,null,{"$f":"データ一覧!T174","v":107},null,null,{"$f":"データ一覧!T118","v":"…"},null,null,{"$f":"データ一覧!T175","v":"…"},null,null,"   貝　　　　　　類",null,null,null,{"$f":"データ一覧!T298","v":21},null,null,null,null,null,null,null,null,null,null,null,null,null,null,null,null,null,null,null,null,null,null,null,null,null,null,null,null,null,null,null,null,null,null,null,null,null,null,null,"施設数",null,null,null,null,null,null,{"$f":"データ一覧!T668","v":0},null,null,null,null,null,{"$f":"データ一覧!T669","v":0},null,null,null,null,null,{"$f":"データ一覧!T670","v":10},null,null,null,null,null,{"$f":"データ一覧!T671","v":0},null,null,null,null,null,{"$f":"データ一覧!T672","v":3}]
["卸売業、小売業",null,null,null,null,null,null,{"$f":"データ一覧!T119","v":"…"},null,null,{"$f":"データ一覧!T176","v":"…"},null,null,{"$f":"データ一覧!T120","v":118},null,null,{"$f":"データ一覧!T177","v":552},null,null,{"$f":"データ一覧!T121","v":"…"},null,null,{"$f":"データ一覧!T178","v":"…"},null,null,null,null,null,null,null,null,null,null,null,null,null,null,null,null,null," １３  税　　・　　財　　政",null,null,null,null,null,null,null,null,null,null,null,null,null,null,null,null,null,null,null,null,null,null,null,null,null,null,null,null,null,null,null,null,null,null,"医師",null,null,null,null,"歯科医師",null,null,null,null,"薬剤師",null,null,null,null,"保健師",null,null,null,null,"助産師",null,null," ",null,"看護師",null,null," "]
["金融業、保険業",null,null,null,null,null,null,{"$f":"データ一覧!T122","v":"…"},null,null,{"$f":"データ一覧!T179","v":"…"},null,null,{"$f":"データ一覧!T123","v":7},null,null,{"$f":"データ一覧!T180","v":41},null,null,{"$f":"データ一覧!T124","v":"…"},null,null,{"$f":"データ一覧!T181","v":"…"},null,null,"  ７  商        　　　業 ",null,null,null,null,null,null,{"$f":"データ一覧!$A$301","v":"28.6.1(平成27年実績）"},null,null,null,null,null,null,null,null,null,null,null,null,null,null,null,null,null,null,null,"19年度の予算は、6月補正肉付後予算額",null,null,null,null,null,null,null,null,null,null,null,null,null,null,null," ","医療",null,null,null,null,null,null,null,null,"人",null,null,null,null,"人",null,null,null,null,"人",null,null,null,null,"人",null,null,null,null,"人",null,null,null,null,"人"]
["不動産業、物品賃貸業",null,null,null,null,null,null,{"$f":"データ一覧!T125","v":"…"},null,null,{"$f":"データ一覧!T182","v":"…"},null,null,{"$f":"データ一覧!T126","v":8},null,null,{"$f":"データ一覧!T183","v":29},null,null,{"$f":"データ一覧!T127","v":"…"},null,null,{"$f":"データ一覧!T184","v":"…"},null,null,null,null,null,null,null,null,null,null,null,null,null,null,null,null,null,"           ",null,null,null,"歳入",null,null,null,null,null,null,null,null,"(千円）"," ",null,null,null,"歳出",null,null,null,null,null,null,null,null,"(千円）",null,"関係者",null,null,null,null,{"$f":"データ一覧!T673","v":6},null,null,null,null,{"$f":"データ一覧!T674","v":3},null,null,null,null,{"$f":"データ一覧!T675","v":2},null,null,null,null,{"$f":"データ一覧!T676","v":9},null,null,null,null,{"$f":"データ一覧!T677","v":0},null,null,null,null,{"$f":"データ一覧!T678","v":46}]
["学術研究、専門・技術ｻｰﾋﾞｽ業",null,null,null,null,null,null,{"$f":"データ一覧!T128","v":"…"},null,null,{"$f":"データ一覧!T185","v":"…"},null,null,{"$f":"データ一覧!T129","v":21},null,null,{"$f":"データ一覧!T186","v":171},null,null,{"$f":"データ一覧!T130","v":"…"},null,null,{"$f":"データ一覧!T187","v":"…"},null,null,"  産   業　 分　 類",null,null,null,"  商　 店 　数",null,null," 従　業　者　数",null,null,"年　間　販　売　額",null,null,null,null,"一人当たり歳入歳出予算決算額",null,null,null,null,null,null,null,null,null,null,null,null,null,null,null,null,null,null,null,null,null,null,null,null,null,null,null,"                   ",null,null,null,null,null,null,null,null,"死因別死亡数　　　　　　    ",null,null,null,null,null,null,null,null,null,null,null,null,null,null,null,{"$f":"データ一覧!$A$679","v":"元年中"},null,null,null,null,null,null,null,null,"      単 位：人"]
["宿泊業、飲食サービス業",null,null,null,null,null,null,{"$f":"データ一覧!T131","v":"…"},null,null,{"$f":"データ一覧!T188","v":"…"},null,null,{"$f":"データ一覧!T132","v":100},null,null,{"$f":"データ一覧!T189","v":429},null,null,{"$f":"データ一覧!T133","v":"…"},null,null,{"$f":"データ一覧!T190","v":"…"},null,null,null,null,null,null,null,"        店",null,null,null,"　人",null,"         百万円",null,null,null,"区分",null,null,null,{"$f":"データ一覧!$A$445","v":"2年度"},null,null,null,null,{"$f":"データ一覧!$A$459","v":"元年度"},null,null,null,null,"区分",null,null,null,{"$f":"+AS68","v":"2年度"},null,null,null,null,{"$f":"データ一覧!$A$459","v":"元年度"},null,null,null,null," 死     因",null,null,null,null,null,null,null,null,null,null,null,"悪  性",null,null,"高血圧",null,null,null,null,null,"脳血管",null,null,null,null,null," ",null,null,"不慮の事故"]
["生活関連サービス業、娯楽業",null,null,null,null,null,null,{"$f":"データ一覧!T134","v":"…"},null,null,{"$f":"データ一覧!T191","v":"…"},null,null,{"$f":"データ一覧!T135","v":41},null,null,{"$f":"データ一覧!T192","v":117},null,null,{"$f":"データ一覧!T136","v":"…"},null,null,{"$f":"データ一覧!T193","v":"…"},null,null,"総　　　　　　計",null,null,null,{"$f":"データ一覧!T301","v":105},null,null,{"$f":"データ一覧!T310","v":456},null,null,{"$f":"データ一覧!T319","v":8204},null,null,null,null,null,null,null,null,{"$f":"データ一覧!T441","v":989068.67982121441},null,null,null,null,{"$f":"データ一覧!T442","v":1103853},null,null,null,null,null,null,null,null,{"$f":"データ一覧!T443","v":989068.67982121441},null,null,null,null,{"$f":"データ一覧!T444","v":1020134.127843987},null,null,null,null,null,null,null,null,null,"全 死 因",null,null,null,"結 核",null,null,"新生物",null,null,"性疾患",null,null,"心疾患",null,null,"疾  患",null,null,"肺  炎",null,null,"老  衰",null,null,null,null," ","交通事故"]
["教育、学習支援業",null,null,null,null,null,null,{"$f":"データ一覧!T137","v":"…"},null,null,{"$f":"データ一覧!T194","v":"…"},null,null,{"$f":"データ一覧!T138","v":10},null,null,{"$f":"データ一覧!T195","v":83},null,null,{"$f":"データ一覧!T139","v":"…"},null,null,{"$f":"データ一覧!T196","v":"…"},null,null,"卸売業",null,null,null,{"$f":"データ一覧!T302","v":15},null,null,{"$f":"データ一覧!T311","v":64},null,null,{"$f":"データ一覧!T320","v":3448},null,null,null,null,"項目別歳入歳出予算決算額"]
["医療、福祉",null,null,null,null,null,null,{"$f":"データ一覧!T140","v":"…"},null,null,{"$f":"データ一覧!T197","v":"…"},null,null,{"$f":"データ一覧!T141","v":32},null,null,{"$f":"データ一覧!T198","v":334},null,null,{"$f":"データ一覧!T142","v":"…"},null,null,{"$f":"データ一覧!T199","v":"…"},null,null,"小売業",null,null,null,{"$f":"データ一覧!T303","v":90},null,null,{"$f":"データ一覧!T312","v":392},null,null,{"$f":"データ一覧!T321","v":4755},null,null,null,null,"区分",null,null,null,{"$f":"データ一覧!$A$445","v":"2年度"},null,null,null,null,{"$f":"データ一覧!$A$459","v":"元年度"},null,null,null,null,"区分",null,null,null,{"$f":"+AS71","v":"2年度"},null,null,null,null,{"$f":"データ一覧!$A$459","v":"元年度"},null,null,null,null,null,null,null,null,null,{"$f":"データ一覧!T679","v":164},null,null,null,"   －",{"$f":"データ一覧!T680","v":0},null,{"$f":"データ一覧!T681","v":31},null,null,null,{"$f":"データ一覧!T682","v":4},null,{"$f":"データ一覧!T683","v":24},null,null,{"$f":"データ一覧!T684","v":13},null,null,{"$f":"データ一覧!T685","v":16},null,null,{"$f":"データ一覧!T686","v":29},null,null,{"$f":"データ一覧!T687","v":3},null,null,{"$f":"データ一覧!T688","v":1}]
["複合サービス事業",null,null,null,null,null,null,{"$f":"データ一覧!T143","v":"…"},null,null,{"$f":"データ一覧!T200","v":"…"},null,null,{"$f":"データ一覧!T144","v":8},null,null,{"$f":"データ一覧!T201","v":78},null,null,{"$f":"データ一覧!T145","v":"…"},null,null,{"$f":"データ一覧!T202","v":"…"},null,null,"各種商品",null,null,null,{"$f":"データ一覧!T304","v":1},null,null,{"$f":"データ一覧!T313","v":4},null,null,{"$f":"データ一覧!T322","v":"x"},null,null,null,null,"総額",null,null,null,{"$f":"SUM(AS73:AW85)","v":9072727},null,null,null,null,{"$f":"SUM(AX73:BB85)","v":10188560},null,null,null,null,"総額",null,null,null,{"$f":"SUM(BG73:BK85)","v":9072727},null,null,null,null,{"$f":"SUM(BL73:BP85)","v":9415838},null,null,null,null," １９  警　察　・　消　防  ",null,null,null,null,null,null,null,null,null,null,null,null,null,null,null,{"$f":"+データ一覧!$A689","v":"2.4.1"}]
["サービス業",null,null,null,null,null,null,{"$f":"データ一覧!T146","v":"…"},null,null,{"$f":"データ一覧!T203","v":"…"},null,null,{"$f":"データ一覧!T147","v":63},null,null,{"$f":"データ一覧!T204","v":588},null,null,{"$f":"データ一覧!T148","v":"…"},null,null,{"$f":"データ一覧!T205","v":"…"},null,null,"織物・衣服・身の回り品",null,null,null,{"$f":"データ一覧!T305","v":5},null,null,{"$f":"データ一覧!T314","v":8},null,null,{"$f":"データ一覧!T323","v":24},null,null,null,null,"地方税",null,null,null,{"$f":"データ一覧!T446","v":2518814},null,null,null,null,{"$f":"データ一覧!T460","v":2782899},null,null,null,null,"議会費",null,null,null,{"$f":"データ一覧!T474","v":99357},null,null,null,null,{"$f":"データ一覧!T488","v":94830}]
["公務",null,null,null,null,null,null,{"$f":"データ一覧!T149","v":"…"},null,null,{"$f":"データ一覧!T206","v":"…"},null,null,{"$f":"データ一覧!T150","v":"…"},null,null,{"$f":"データ一覧!T207","v":"…"},null,null,{"$f":"データ一覧!T151","v":"…"},null,null,{"$f":"データ一覧!T208","v":"…"},null,null,"飲食料品",null,null,null,{"$f":"データ一覧!T306","v":33},null,null,{"$f":"データ一覧!T315","v":138},null,null,{"$f":"データ一覧!T324","v":1310},null,null,null,null,"地方譲与税",null,null,null,{"$f":"データ一覧!T447","v":60100},null,null,null,null,{"$f":"データ一覧!T461","v":56622},null,null,null,null,"総務費",null,null,null,{"$f":"データ一覧!T475","v":1431904},null,null,null,null,{"$f":"データ一覧!T489","v":1887850},null,null,null,null,null,null,null,null,null,null,null,null,null,null,"交番・駐在所",null,null,null,null,null,null,null,null,"刑法犯認知件数",null,null,null,null,null,null,null,null,"交通人身事故発生件数"]
["  ４  農        　　　業 ",null,null,null,null,null,null,null,null,null,null,null,null,null,null,null,null,null,null,null,null,null,null,null,null,"機械器具",null,null,null,{"$f":"データ一覧!T307","v":11},null,null,{"$f":"データ一覧!T316","v":70},null,null,{"$f":"データ一覧!T325","v":926},null,null,null,null,"各種交付金",null,null,null,{"$f":"データ一覧!T448","v":246700},null,null,null,null,{"$f":"データ一覧!T462","v":201010},null,null,null,null,"民生費",null,null,null,{"$f":"データ一覧!T476","v":1569666},null,null,null,null,{"$f":"データ一覧!T490","v":2010247},null,null,null,null,null,"警察署数",null,null,null,null,null,null,null,null,"検問所数",null,null,null,null,null,null,null,null,null,{"$f":"データ一覧!$A$691","v":"元年中"},null,null,null,null,null,null,null,null,{"$f":"データ一覧!$A$691","v":"元年中"}]
[null,null,null,null,null,null,null,null,null,null,null,null,null,null,null,null,null,null,null,null,null,null,null,null,null,"その他",null,null,null,{"$f":"データ一覧!T308","v":38},null,null,{"$f":"データ一覧!T317","v":159},null,null,{"$f":"データ一覧!T326","v":2091},null,null,null,null,"地方特例交付金",null,null,null,{"$f":"データ一覧!T449","v":2000},null,null,null,null,{"$f":"データ一覧!T463","v":40835},null,null,null,null,"衛生費",null,null,null,{"$f":"データ一覧!T477","v":1449998},null,null,null,null,{"$f":"データ一覧!T491","v":759167},null,null,null,null,null,null,null,null,null,null,null,null,null,null,null,null,null,null,null,null,null,null,null,null,null,null,null,null," 件",null,null,null,null,null,null,null,null,"　件"]
[null,null,"農家人口と世帯員数(販売農家)",null,null,null,null,null,null,null,"農家世帯の就業状態（販売農家）",null,null,null,null,null,null,null,null,null,null,null,null,null,null,"無店舗",null,null,null,{"$f":"データ一覧!T309","v":2},null,null,{"$f":"データ一覧!T318","v":13},null,null,{"$f":"データ一覧!T327","v":"x"},null,null,null,null,"地方交付税",null,null,null,{"$f":"データ一覧!T450","v":920000},null,null,null,null,{"$f":"データ一覧!T464","v":949873},null,null,null,null,"労働費",null,null,null,{"$f":"データ一覧!T478","v":35440},null,null,null,null,{"$f":"データ一覧!T492","v":38440},null,null,null,null,null,null,{"$f":"データ一覧!T689","v":0},null,null,null,null,null,null,null,null,{"$f":"データ一覧!T690","v":3},null,null,null,null,null,null,null,null,{"$f":"データ一覧!T691","v":24},null,null,null,null,null,null,null,null,{"$f":"データ一覧!T692","v":13}]
["農","平",null,null,null,null,null,null,null,null,"農業従事者",null,null,null,null,null,null,null,null,"非農業従事",null,null,"農業従事者",null,null,null,null,null,null,null,null,null,null,null,null,null,null,null,null,null,"分担金および負担金",null,null,null,{"$f":"データ一覧!T451","v":37507},null,null,null,null,{"$f":"データ一覧!T465","v":66252},null,null,null,null,"農林水産業費",null,null,null,{"$f":"データ一覧!T479","v":674425},null,null,null,null,{"$f":"データ一覧!T493","v":708523},null,null,null,null,"火災発生件数",null,null,null,null,null,null,null,null,null,"林野焼損",null,null,null,null,"損      害",null,null,null,null,"消 防 自",null,null,null,"その他の",null,null,null," ",null,null,null,null," "]
["家",{"$f":"+LEFT(データ一覧!$A$209,2)","v":"27"},"区分",null,"農家人口",null,null,"15歳以上の",null,null,null,null,null,"農業就業人口",null,null,null,null,null,"者",null,null,"の平均年齢",null,null,"  ８  住　　　　　　 　宅",null,null,null,null,null,null,null,null,null,null,null,null,null,null,"使用料および手数料",null,null,null,{"$f":"データ一覧!T452","v":206188},null,null,null,null,{"$f":"データ一覧!T466","v":220817},null,null,null,null,"商工費",null,null,null,{"$f":"データ一覧!T480","v":324555},null,null,null,null,{"$f":"データ一覧!T494","v":680245},null,null,null,null,{"$f":"+データ一覧!$A$693","v":"元年中"},null,null,null,null,"焼損棟数",null,null,null,null,"面    積",null,null,null,null,"見  積  額",null,null,null,null,"動 車 数",null,null,null,"ﾎﾟﾝﾌﾟ数",null,null,null," 消防吏員",null,null,null," 消防団員"]
["人就 ","・",null,null,null,null,null,"世帯員数",null,null,null,null,null,null,null,null,"基幹的農業",null,null,null,null,null,null,null,null,null,null,null,null,null,null,null,null,null,null,null,null,null,null,null,"国庫支出金",null,null,null,{"$f":"データ一覧!T453","v":1340899},null,null,null,null,{"$f":"データ一覧!T467","v":2317844},null,null,null,null,"土木費",null,null,null,{"$f":"データ一覧!T481","v":1249450},null,null,null,null,{"$f":"データ一覧!T495","v":1222223},null,null,null,null,"         件",null,null,null,null,null,"      棟",null,null,null,null,null,null,"  ａ",null,null,null,"  千円",null,null,"        ",null,null,null,null,null,null,null,null,null,"  人",null,null,null,"  人"]
["口業 ",{"$f":"+MID(データ一覧!$A$209,4,1)","v":"2"},null,null,null,null,"人",null,null,"人",null,null,"人",null,null,"人","従事者",null,"人",null,null,"人",null,null,"歳",{"$f":"+データ一覧!$A$328","v":"30年"},null,null,null,null,{"$f":"データ一覧!$A$331","v":"元年"},"中の増減",null,null,null,{"$f":"+データ一覧!$A$331","v":"元年"},null,null,null,null,"県支出金",null,null,null,{"$f":"データ一覧!T454","v":1280623},null,null,null,null,{"$f":"データ一覧!T468","v":1543835},null,null,null,null,"消防費",null,null,null,{"$f":"データ一覧!T482","v":807775},null,null,null,null,{"$f":"データ一覧!T496","v":520839},null,null,null,null,null,{"$f":"データ一覧!T693","v":2},null,null,null,null,{"$f":"データ一覧!T694","v":2},null,null,null,null,{"$f":"データ一覧!T695","v":0},null,null,null,{"$f":"データ一覧!T696","v":48},null,null,null,null,null,{"$f":"データ一覧!T697","v":9},null,null,null,{"$f":"データ一覧!T698","v":14},null,null,null,{"$f":"データ一覧!T699","v":19},null,null,null,{"$f":"データ一覧!T700","v":229}]
["と状 ","・"," 総数",null,{"$f":"データ一覧!T209","v":1204},null,null,{"$f":"データ一覧!T212","v":1099},null,null,{"$f":"データ一覧!T215","v":755},null,null,{"$f":"データ一覧!T218","v":362},null,null,{"$f":"データ一覧!T221","v":260},null,null,{"$f":"データ一覧!T224","v":344},null,null,{"$f":"データ一覧!T227","v":60.6},null,null,null,null,null,null,"建設した住宅",null,null,"消失した住宅",null,null,null,null,null,null,null,"財産収入",null,null,null,{"$f":"データ一覧!T455","v":8051},null,null,null,null,{"$f":"データ一覧!T469","v":14463},null,null,null,null,"教育費",null,null,null,{"$f":"データ一覧!T483","v":1009695},null,null,null,null,{"$f":"データ一覧!T497","v":833121},null,null,null,null," ２０  そ　　　の　　　他　"]
["  況 ",{"$f":"+RIGHT(データ一覧!$A$209,1)","v":"1"},"　男",null,{"$f":"データ一覧!T210","v":592},null,null,{"$f":"データ一覧!T213","v":543},null,null,{"$f":"データ一覧!T216","v":431},null,null,{"$f":"データ一覧!T219","v":188},null,null,{"$f":"データ一覧!T222","v":162},null,null,{"$f":"データ一覧!T225","v":112},null,null,{"$f":"データ一覧!T228","v":59},null,null,null,null,null,null,null,null,null,null,null,null,null,null,null,null,null,"繰入金",null,null,null,{"$f":"データ一覧!T456","v":345005},null,null,null,null,{"$f":"データ一覧!T470","v":555311},null,null,null,null,"災害復旧費",null,null,null,{"$f":"データ一覧!T484","v":0},null,null,null,null,{"$f":"データ一覧!T498","v":0}]
[null,null,"　女",null,{"$f":"データ一覧!T211","v":612},null,null,{"$f":"データ一覧!T214","v":556},null,null,{"$f":"データ一覧!T217","v":324},null,null,{"$f":"データ一覧!T220","v":174},null,null,{"$f":"データ一覧!T223","v":98},null,null,{"$f":"データ一覧!T226","v":232},null,null,{"$f":"データ一覧!T229","v":62.8},null,null,null,{"$f":"データ一覧!T328","v":4586},null,"戸",{"$f":"データ一覧!T329","v":51},null,"戸",{"$f":"データ一覧!T330","v":29},null,"戸",null,{"$f":"データ一覧!T331","v":4608},null,"戸",null,"地方債",null,null,null,{"$f":"データ一覧!T457","v":1673300},null,null,null,null,{"$f":"データ一覧!T471","v":458087},null,null,null,null,"公債費",null,null,null,{"$f":"データ一覧!T485","v":400462},null,null,null,null,{"$f":"データ一覧!T499","v":660353},null,null,null,null,null,null,null,null,null,"若狭湾国定公園(三方五湖・レインボーライン・水晶浜海水浴場、エネルギー環境教育体験館きいぱす、健康楽膳拠点施設こるぱ)、屏風ヶ滝（新庄）、秀吉朱印状（金山）、一石六体仏（宮代）、九重塔（竹波）、獅子塚古墳（郷市）、阿弥陀如来像（早瀬）、若狭国吉城歴史資料館（佐柿）、歴史文化館（河原市）"]
[null,null,null,null,null,null,null,null,null,null,null,null,null,null,null,null,null,null,null,null,null,null,null,null,null,null,null,null,null,null,null,null,null,null,null,null,null,null,null,null,"その他",null,null,null,{"$f":"データ一覧!T458","v":433540},null,null,null,null,{"$f":"データ一覧!T472","v":980712},null,null,null,null,"その他",null,null,null,{"$f":"データ一覧!T486","v":20000},null,null,null,null,{"$f":"データ一覧!T500","v":0},null,null,null,null,"　名所・旧跡"]
[null,null,"総農家数等",null,null,null,null,null,null,"専兼業別（販売農家）",null,null,null,null,null,null,null,"経営面積規模別（販売農家）",null,null,null,null,null,null,null,null,null,null,null,null,null,null,null,null,null,null,null,null,null,null,null,null,null,null,null,null,null,null,null,null,null,null,null,null,null,null,null,null,null,null,null,null,null,null,null,null,null,null,"  文化財等"]
[null,"平","区　分",null,null,null,"戸数（戸）",null,null,"区　分",null,null,null,null,"戸数（戸）",null,null,"区　　分",null,null,null,null,"戸数（戸）",null,null,"  ９  議　 員　・　職 　員",null,null,null,null,null,null,null,null,null,null,null,null,null,null," １４  文　　　　　　化",null,null,null,null,null,null,null,null,null," ( ",{"$f":"データ一覧!$A$507","v":"2.3.31"},null,null,null,"ただし図書館・公民館・児童館",null,null,null,null,null,null,null,{"$f":"データ一覧!$A$501","v":"2.4.1"}]
["農",{"$f":"+LEFT(データ一覧!$A$230,2)","v":"27"},"総農家",null,null,null,{"$f":"データ一覧!T230","v":560},null,null,"総数",null,null,null,null,{"$f":"データ一覧!T236","v":294},null,null,"総数",null,null,null,null,{"$f":"データ一覧!T241","v":294},null,null,null,null,null,null,null,null,null,null,null,null,null,null,null,null,null,null,null,null,null,null,null,null,null,null,null,null,null,null,null,null,null,"　宗教法人数 ",null,null,null,null,null,null,{"$f":"データ一覧!$A$509","v":"元.12.31"},null,null,null,"）","　　特産物",null,null,null,null,"美浜のへしこ、寒ブリ（ひるが響）、フグ、美浜熟成魚、塩熟ぶり、コシヒカリ、地酒、さつまいも、シジミ、ワカメ、ウニ"]
["家","・","販売農家",null,null,null,{"$f":"データ一覧!T231","v":294},null,null,"専業農家",null,null,null,null,{"$f":"データ一覧!T237","v":43},null,null,"0.5 ha 未満",null,null,null,null,{"$f":"データ一覧!T242","v":82},null,null," 市 町 村 議 会",null,null,"有権者数",null,{"$f":"データ一覧!$A$335","v":"2.9.1"},null,"市 町 村 議 会",null,null,"  職      員      数",null,null,null,null,null,null,null,null,null,"図書館",null,null,null,null,null,"公　民　館",null,null,null,null,null,null,null,null,null,null," 社会教育学級講座"]
["数",{"$f":"+MID(データ一覧!$A$230,4,1)","v":"2"},null,"主業",null,null,{"$f":"データ一覧!T232","v":15},null,null,"兼業農家",null,null,null,null,{"$f":"データ一覧!T238","v":251},null,null,"0.5 ha ～ 1.0 ha",null,null,null,null,{"$f":"データ一覧!T243","v":123},null,null," 議  員  定  数",null,null,"    男",null,"    女",null,"選 挙 投 票 率",null,null," 総     数",null,"一般行政職",null,null,"公    共",null,null,null," 館  数",null,null," 図書数",null,null," 本  館",null,null," 分  館",null,null," 公  園",null,null," 児童館",null,null,"学級講座数",null,null,"受講者数",null,null," 　年中行事",null,null,null,null,"弓打ち講（１月）、日向水中綱引（1月）、早瀬子供歌舞伎（5月）、美浜・五木ひろしふるさとマラソン（5月）、彌美神社例大祭(5月)、織田神社例祭(5月)、弁天祭（7月）、水無月祭（7月）、夏フェスタ美浜（8月）、精霊船送り（8月）､八朔祭（9月）、町民レガッタ（10月）、みはまナビフェス(11月)"]
[null,"・",null,"準主業",null,null,{"$f":"データ一覧!T233","v":41},null,null,null,"第１種兼業",null,null,null,{"$f":"データ一覧!T239","v":23},null,null,"1.0 ha ～ 1.5 ha",null,null,null,null,{"$f":"データ一覧!T244","v":34},null,null,null,null,"人",null,"人",null,"人",null,null,"　％",null,"人",null,"人",null,"施 設 数",null,null,null,null,{"$f":"データ一覧!T501","v":1},null,{"$f":"データ一覧!T502","v":70972},null,null,null,{"$f":"データ一覧!T503","v":4},null,{"$f":"データ一覧!T504","v":3},null,null,{"$f":"データ一覧!T505","v":2},null,null,{"$f":"データ一覧!T506","v":1},null,null,{"$f":"データ一覧!T507","v":71},null,null,{"$f":"データ一覧!T508","v":15424}]
[null,{"$f":"+RIGHT(データ一覧!$A$230,1)","v":"1"},null,"副業的",null,null,{"$f":"データ一覧!T234","v":238},null,null,null,"第２種兼業",null,null,null,{"$f":"データ一覧!T240","v":228},null,null,"1.5 ha ～ 2.0 ha",null,null,null,null,{"$f":"データ一覧!T245","v":13},null,null,null,{"$f":"データ一覧!T332","v":14},null,{"$f":"データ一覧!T335","v":3903},null,{"$f":"データ一覧!T336","v":4137},null,{"$f":"データ一覧!T334","v":"無投票"},null,null,{"$f":"データ一覧!T337","v":185},null,{"$f":"データ一覧!T338","v":117},null,null,"宗    教",null,null,null," 仏教系",null,null,"ｷﾘｽﾄ教系",null,null,"神道諸派",null,null,"公会堂・市民会館",null,null,null,null,null," テレビ",null,null,"衛星放送契約数"]
[null,null,"自給的農家",null,null,null,{"$f":"データ一覧!T235","v":266},null,null,null,null,null,null,null,null,null,null,"2.0 ha 以上",null,null,null,null,{"$f":"データ一覧!T246","v":42},null,null,null,null,null,null,null,null,null,{"$f":"データ一覧!T333","v":"30.3.4"},null,null,null,null,null,null,null,"法 人 数",null,null,null,{"$f":"データ一覧!T509","v":35},null,null,{"$f":"データ一覧!T510","v":1},null,null,{"$f":"データ一覧!T511","v":40},null,null,{"$f":"データ一覧!T512","v":0},null,null,null,null,null,"      等",null,null,{"$f":"データ一覧!T513","v":2711}]

{"sheet":"高浜町","index":19,"n_rows":93,"n_cols":104,"rows_kept":93,"cut":false,"hidden":false,"merged":[[56,40,56,43],[57,40,57,43],[60,40,60,43],[59,44,59,59],[17,25,17,27],[18,25,18,27],[74,44,74,48],[74,49,74,53],[74,69,74,75],[71,68,72,83],[74,58,74,62],[35,14,35,16],[35,18,35,19],[35,20,35,21],[35,22,35,24],[31,82,31,85],[33,84,34,97],[33,61,33,65],[30,41,30,47],[31,69,31,73],[50,0,51,24],[55,13,55,15],[51,33,51,35],[51,36,51,38],[55,31,55,34],[64,0,64,6],[50,25,50,28],[46,0,46,1],[47,0,47,1],[47,13,47,15],[47,7,47,9],[47,10,47,12],[42,13,42,15],[42,4,42,6],[57,22,57,24],[73,7,73,9],[73,19,73,21],[72,13,72,15],[26,78,26,81],[26,82,26,85],[26,87,26,91],[29,61,29,65],[30,96,30,99],[28,92,28,95],[28,69,28,73],[28,74,28,77],[31,78,31,81],[34,14,34,16],[73,78,73,84],[73,87,73,93],[73,96,73,102],[68,58,68,62],[68,63,68,67],[69,40,69,67],[65,44,65,50],[65,54,65,57],[65,58,65,64],[66,40,66,67],[67,44,67,48],[67,49,67,53],[67,54,67,57],[68,80,68,82],[68,83,68,85],[68,101,68,103],[36,94,36,96],[29,100,29,103],[30,92,30,95],[52,69,52,76],[29,54,29,57],[30,100,30,103],[22,87,22,91],[17,87,17,90],[19,74,19,77],[19,78,19,81],[19,82,19,85],[20,74,20,77],[20,78,20,81],[20,82,20,85],[20,87,20,91],[24,74,24,77],[24,78,24,81],[24,82,24,85],[24,87,24,91],[21,74,21,77],[21,78,21,81],[21,82,21,85],[21,87,21,91],[22,78,22,81],[22,82,22,85],[23,78,23,81],[23,82,23,85],[23,87,23,91],[26,96,26,99],[27,61,27,65],[27,100,27,103],[27,54,27,57],[27,96,27,99],[27,69,27,73],[26,92,26,95],[25,96,25,99],[32,96,32,99],[28,96,28,99],[29,92,29,95],[29,96,29,99],[35,94,35,96],[28,100,28,103],[32,100,32,103],[31,100,31,103],[31,74,31,77],[31,54,31,57],[31,92,31,95],[31,96,31,99],[30,69,30,73],[32,54,32,57],[28,78,28,81],[25,74,25,77],[25,78,25,81],[25,87,25,91],[25,82,25,85],[26,69,26,73],[30,74,30,77],[30,78,30,81],[30,82,30,85],[30,87,30,91],[48,19,48,21],[50,92,50,95],[71,13,71,15],[73,22,73,24],[70,13,70,15],[72,7,72,9],[72,25,72,28],[73,10,73,12],[73,40,73,43],[33,20,33,21],[33,22,33,24],[47,22,47,24],[41,16,41,18],[44,19,44,24],[42,16,42,18],[35,69,35,73],[37,68,37,74],[67,63,67,67],[50,29,50,32],[50,33,50,38],[66,77,66,91],[70,54,70,57],[70,49,70,53],[67,40,67,43],[42,7,42,9],[47,16,47,18],[47,19,47,21],[40,76,41,78],[40,80,41,83],[38,80,38,83],[42,19,42,21],[41,36,41,37],[51,96,51,99],[50,88,50,91],[52,96,52,99],[50,96,50,99],[51,100,51,103],[51,88,51,91],[51,92,51,95],[48,22,48,24],[71,40,71,43],[58,40,58,43],[58,45,58,47],[61,36,61,37],[54,40,54,43],[54,25,54,32],[68,22,68,24],[70,44,70,48],[70,29,70,30],[71,25,71,28],[71,58,71,62],[54,48,54,51],[54,52,54,55],[57,56,57,58],[71,49,71,53],[50,100,50,103],[57,65,57,67],[54,81,54,83],[52,100,52,103],[50,81,50,83],[50,84,50,87],[51,84,51,87],[49,78,49,80],[49,81,49,83],[48,0,48,1],[48,16,48,18],[48,7,48,9],[48,10,48,12],[48,13,48,15],[54,56,54,59],[48,88,48,91],[49,47,49,50],[48,57,48,60],[70,58,70,62],[50,51,50,54],[50,48,50,50],[48,51,48,54],[49,88,49,91],[48,84,48,87],[71,44,71,48],[71,16,71,18],[71,0,71,6],[60,19,60,21],[60,36,60,37],[56,49,56,54],[61,29,61,30],[61,44,61,49],[69,25,69,28],[68,35,68,37],[51,25,51,28],[55,25,55,30],[68,77,68,79],[49,40,49,46],[50,56,50,58],[50,64,50,67],[51,78,51,80],[23,16,23,18],[34,11,34,13],[40,10,40,12],[41,13,41,15],[23,41,23,47],[24,33,24,34],[23,11,23,13],[28,41,28,47],[27,41,27,47],[23,21,23,23],[23,35,23,38],[25,27,25,28],[34,18,34,19],[33,8,33,10],[33,11,33,13],[40,7,40,9],[24,27,24,28],[24,29,24,30],[27,22,27,24],[29,22,29,24],[29,41,29,47],[41,7,41,9],[34,8,34,10],[40,32,40,35],[33,18,33,19],[34,41,34,47],[29,5,29,7],[29,20,29,21],[29,8,29,10],[29,11,29,13],[33,14,33,16],[33,5,33,7],[17,49,17,53],[20,11,20,13],[20,16,20,18],[20,21,20,23],[21,41,21,47],[24,41,24,47],[41,10,41,12],[34,5,34,7],[41,4,41,6],[31,11,31,13],[29,14,29,16],[35,5,35,7],[35,8,35,10],[32,8,32,10],[32,11,32,13],[32,14,32,16],[31,18,31,19],[31,20,31,21],[30,18,30,19],[40,16,40,18],[30,20,30,21],[30,22,30,24],[29,18,29,19],[27,0,27,4],[30,14,30,16],[31,14,31,16],[40,2,40,3],[40,4,40,6],[32,22,32,24],[23,50,23,52],[31,5,31,7],[31,8,31,10],[24,96,24,99],[25,92,25,95],[24,37,24,38],[24,61,24,65],[0,0,0,9],[1,0,3,9],[5,0,5,9],[19,3,19,5],[6,0,8,9],[15,29,15,30],[15,32,15,33],[22,7,22,8],[17,41,17,47],[22,41,22,47],[20,25,20,28],[14,25,15,25],[14,26,15,28],[19,29,19,31],[19,32,19,34],[17,32,17,34],[14,0,15,24],[18,28,18,30],[16,32,16,33],[19,25,19,28],[21,25,21,28],[21,29,21,31],[21,32,21,34],[21,35,21,38],[22,29,22,31],[20,41,20,47],[22,25,22,28],[20,32,20,34],[44,0,45,1],[42,10,42,12],[21,100,21,103],[22,96,22,99],[21,92,21,95],[22,92,22,95],[22,100,22,103],[17,101,17,102],[19,50,19,52],[19,54,19,57],[19,61,19,65],[20,100,20,103],[20,50,20,52],[19,92,19,95],[19,100,19,103],[20,54,20,57],[20,92,20,95],[20,61,20,65],[19,96,19,99],[20,96,20,99],[17,54,17,58],[22,69,22,73],[26,100,26,103],[25,100,25,103],[23,92,23,95],[23,96,23,99],[23,100,23,103],[24,100,24,103],[23,69,23,73],[23,74,23,77],[24,50,24,52],[24,54,24,57],[24,69,24,73],[24,92,24,95],[25,50,25,52],[25,54,25,57],[34,54,34,57],[35,54,35,57],[35,61,35,65],[30,61,30,65],[32,61,32,65],[26,22,26,24],[31,22,31,24],[36,36,36,37],[25,41,25,47],[35,41,35,47],[27,92,27,95],[25,61,25,65],[27,74,27,77],[27,78,27,81],[27,82,27,85],[27,87,27,91],[29,82,29,85],[29,87,29,91],[29,78,29,81],[28,82,28,85],[28,87,28,91],[29,74,29,77],[26,74,26,77],[26,25,26,26],[26,27,26,28],[27,29,27,30],[25,29,26,30],[25,25,25,26],[27,5,27,7],[30,5,30,7],[30,8,30,10],[30,11,30,13],[40,13,40,15],[32,5,32,7],[35,11,35,13],[37,98,37,101],[37,94,37,96],[33,41,33,47],[34,29,34,30],[37,41,37,47],[35,29,35,30],[35,36,35,37],[36,80,36,83],[36,76,36,78],[32,69,32,73],[32,74,32,77],[32,78,32,81],[32,82,32,85],[32,18,32,19],[32,20,32,21],[34,22,34,24],[34,20,34,21],[35,99,35,102],[32,92,32,95],[35,76,35,78],[35,81,35,84],[35,87,35,91],[33,68,34,81],[27,25,27,26],[27,27,27,28],[42,41,42,47],[42,36,42,37],[40,19,40,21],[38,41,38,47],[41,19,41,21],[42,22,42,24],[40,98,40,101],[38,54,38,57],[39,54,39,57],[39,98,39,101],[38,98,38,101],[42,76,42,78],[42,68,42,74],[41,98,41,101],[42,98,42,101],[41,94,41,96],[41,86,41,92],[40,68,41,74],[41,54,41,57],[41,22,41,24],[40,41,40,47],[40,61,40,65],[41,41,41,47],[41,29,41,30],[41,32,41,35],[40,29,40,30],[40,22,40,24],[38,50,38,52],[40,94,40,96],[38,94,38,96],[43,84,44,103],[43,41,43,47],[49,69,49,76],[48,92,48,95],[48,63,48,66],[49,51,49,54],[47,96,47,99],[47,100,47,103],[45,25,45,28],[42,54,42,57],[44,36,44,37],[46,70,46,75],[46,32,46,35],[46,29,46,30],[42,50,42,52],[46,25,46,28],[42,32,42,35],[43,61,43,65],[44,29,44,30],[45,29,45,30],[43,68,44,83],[46,100,46,103],[46,96,46,99],[45,85,45,90],[45,58,45,62],[42,61,42,65],[49,55,49,58],[49,63,49,67],[48,69,48,76],[45,36,45,37],[48,78,48,80],[45,93,45,102],[49,84,49,87],[48,96,48,99],[48,100,48,103],[49,92,49,95],[49,100,49,103],[45,78,45,83],[48,81,48,83],[54,100,54,103],[54,92,54,95],[54,96,54,99],[53,100,53,103],[63,75,63,77],[64,69,64,72],[61,81,61,84],[57,62,57,64],[55,78,55,80],[55,81,55,83],[56,88,56,91],[56,92,56,95],[56,96,56,99],[55,84,55,87],[55,88,55,91],[55,92,55,95],[60,98,60,103],[60,60,60,63],[61,60,61,63],[61,69,61,72],[63,85,63,87],[63,90,63,92],[60,92,60,97],[60,86,60,91],[55,69,55,76],[65,69,65,72],[60,64,60,67],[58,49,58,51],[57,68,58,103],[56,84,56,87],[56,100,56,103],[55,22,55,24],[56,22,56,24],[55,52,55,54],[56,19,56,21],[55,56,55,58],[55,44,55,46],[55,100,55,103],[55,96,55,99],[68,95,68,97],[57,44,57,47],[57,52,57,55],[58,53,58,55],[61,50,61,54],[62,94,62,96],[62,69,62,72],[62,76,62,78],[63,95,63,97],[62,88,62,90],[62,82,62,84],[63,100,63,102],[62,100,62,102],[55,35,55,38],[67,58,67,62],[55,48,55,50],[57,48,57,51],[61,64,61,67],[55,7,55,9],[58,0,58,6],[59,0,59,6],[58,16,58,18],[62,19,62,21],[60,0,60,6],[57,10,57,12],[57,19,57,21],[61,19,61,21],[55,0,55,6],[57,0,57,6],[56,0,56,6],[57,7,57,9],[56,7,56,9],[55,10,55,12],[56,10,56,12],[55,16,55,18],[58,10,58,12],[58,13,58,15],[55,19,55,21],[58,19,58,21],[57,13,57,15],[56,13,56,15],[57,16,57,18],[56,16,56,18],[63,0,63,6],[62,0,62,6],[60,7,60,9],[61,16,61,18],[62,13,62,15],[62,10,62,12],[61,0,61,6],[63,13,63,15],[62,16,62,18],[59,16,59,18],[60,16,60,18],[67,16,67,18],[68,29,68,30],[62,29,62,30],[59,19,59,21],[61,22,61,24],[66,19,66,21],[66,22,66,24],[67,22,67,24],[59,7,59,9],[65,0,65,6],[68,10,68,12],[67,10,67,12],[63,10,63,12],[63,22,63,24],[61,10,61,12],[61,13,61,15],[59,10,59,12],[60,13,60,15],[59,13,59,15],[60,10,60,12],[58,56,58,58],[58,65,58,67],[66,35,66,38],[68,40,68,43],[68,44,68,48],[68,49,68,53],[68,54,68,57],[70,40,70,43],[64,13,64,15],[64,16,64,18],[64,22,64,24],[65,19,65,21],[65,40,65,43],[65,22,65,24],[64,19,64,21],[65,16,65,18],[70,35,70,37],[70,10,70,12],[70,19,70,21],[61,55,61,59],[60,55,60,59],[71,54,71,57],[73,44,73,48],[72,58,72,62],[73,58,73,62],[71,63,71,67],[70,63,70,67],[68,13,68,15],[68,16,68,18],[68,19,68,21],[66,13,66,15],[66,16,66,18],[73,35,73,37],[72,16,72,18],[73,13,73,15],[73,16,73,18],[60,44,60,49],[60,50,60,54],[61,40,61,43],[66,32,66,34],[68,32,68,33],[71,19,71,21],[72,44,72,48],[72,49,72,53],[72,40,72,43],[73,49,73,53],[69,35,69,37],[69,29,69,30],[74,63,74,67],[70,95,70,97],[70,84,70,85],[70,80,70,82],[71,84,72,103],[70,78,70,79],[67,68,70,72],[70,98,70,100],[70,86,70,88],[70,102,70,103],[70,89,70,91],[70,92,70,94],[68,73,68,76],[67,89,67,91],[68,89,68,91],[68,86,68,88],[67,80,67,82],[67,83,67,85],[67,98,67,103],[74,78,74,84],[74,88,74,92],[74,97,74,101],[68,92,68,94],[72,63,72,67],[73,63,73,67],[70,73,70,76],[75,25,75,28],[75,29,75,30],[76,58,76,62],[75,54,75,57],[75,44,75,48],[75,35,75,37],[75,40,75,43],[76,32,76,33],[77,58,77,62],[77,63,77,67],[77,83,77,87],[75,63,75,67],[76,70,76,73],[76,29,76,30],[76,35,76,37],[75,32,75,33],[76,40,76,43],[76,44,76,48],[76,25,76,28],[76,88,76,91],[80,89,80,91],[78,100,78,103],[78,40,78,43],[78,44,78,48],[78,49,78,53],[78,54,78,57],[78,58,78,62],[78,63,78,67],[77,88,77,91],[77,78,77,82],[76,97,76,100],[80,83,80,87],[80,74,80,76],[80,40,80,43],[77,40,77,43],[76,49,76,53],[78,68,78,72],[80,69,80,71],[80,54,80,57],[81,32,81,34],[81,40,81,43],[81,44,81,48],[80,44,80,48],[80,49,80,53],[81,49,81,53],[74,29,74,30],[74,32,74,33],[74,35,74,37],[74,40,74,43],[74,54,74,57],[77,44,77,48],[77,49,77,53],[81,68,82,103],[76,79,76,82],[79,102,79,103],[79,40,79,43],[79,44,79,48],[79,49,79,53],[79,54,79,57],[79,98,79,99],[78,83,78,87],[78,88,78,91],[80,101,80,103],[78,73,78,77],[78,78,78,82],[80,93,80,95],[80,97,80,99],[78,92,78,95],[78,96,78,99],[80,79,80,81],[77,92,77,95],[88,28,88,29],[88,30,88,31],[72,22,72,24],[71,22,71,24],[70,22,70,24],[83,26,83,27],[83,29,83,30],[89,32,89,34],[89,40,89,43],[89,62,89,64],[88,32,88,34],[88,45,88,48],[83,63,83,67],[84,40,84,43],[84,44,84,48],[84,49,84,53],[83,40,83,43],[83,32,83,33],[83,36,83,37],[83,44,83,48],[83,49,83,53],[83,54,83,57],[82,44,82,48],[82,54,82,57],[80,35,81,38],[70,32,70,33],[72,35,72,37],[71,35,71,37],[75,58,75,62],[74,25,74,28],[80,25,81,28],[81,63,81,67],[47,81,47,83],[47,84,47,87],[47,88,47,91],[47,92,47,95],[92,40,92,43],[92,44,92,46],[92,47,92,49],[92,50,92,52],[91,62,91,67],[65,10,65,12],[65,13,65,15],[67,13,67,15],[69,10,69,12],[70,25,70,28],[91,26,91,27],[91,28,91,29],[91,30,91,31],[91,32,91,34],[91,53,91,58],[91,35,91,36],[91,37,91,38],[91,40,91,43],[90,53,90,55],[90,56,90,58],[90,40,90,43],[90,45,90,46],[90,50,90,52],[91,44,91,46],[91,47,91,49],[52,81,52,83],[91,50,91,52],[90,47,90,49],[52,88,52,91],[52,84,52,87],[51,81,51,83],[54,84,54,87],[53,84,53,87],[53,88,53,91],[53,81,53,83],[55,60,55,63],[54,60,54,67],[49,59,49,62],[56,78,56,80],[42,86,42,92],[42,80,42,83],[52,78,52,80],[52,92,52,95],[55,64,55,66],[42,94,42,96],[56,69,56,76],[54,88,54,91],[49,96,49,99],[56,81,56,83],[53,96,53,99],[53,92,53,95],[54,69,54,76],[54,78,54,80],[50,60,50,62],[50,69,50,76],[50,78,50,80],[51,69,51,76],[53,69,53,76],[53,78,53,80],[47,69,47,76],[14,68,15,82],[16,75,16,96],[17,60,17,66],[14,83,15,96],[17,92,17,95],[17,69,17,72],[17,74,17,77],[17,83,17,84],[22,50,22,52],[22,54,22,57],[22,61,22,65],[22,74,22,77],[21,50,21,52],[21,54,21,57],[21,61,21,65],[21,96,21,99],[43,50,43,52],[43,54,43,57],[39,94,39,96],[40,54,40,57],[39,80,39,83],[41,61,41,65],[34,50,34,52],[37,80,37,83],[37,61,37,65],[36,61,36,65],[36,50,36,52],[35,50,35,52],[37,50,37,52],[39,50,39,52],[37,54,37,57],[36,86,36,92],[18,31,18,34],[20,29,20,31],[19,35,19,38],[24,31,24,32],[27,37,27,38],[22,32,22,34],[23,29,23,31],[23,32,23,34],[22,35,22,38],[27,31,27,32],[27,33,27,34],[23,25,23,28],[25,31,26,32],[25,33,26,34],[20,35,20,38],[36,29,36,30],[24,35,24,36],[19,41,19,47],[41,50,41,52],[40,50,40,52],[40,36,40,37],[25,35,26,36],[27,35,27,36],[39,41,39,47],[34,36,34,37],[34,61,34,65],[36,54,36,57],[26,41,26,47],[26,50,26,52],[26,61,26,65],[31,41,31,47],[28,50,28,52],[30,50,30,52],[27,50,27,52],[31,61,31,65],[28,54,28,57],[28,61,28,65],[36,41,36,47],[32,50,32,52],[23,54,23,57],[30,54,30,57],[33,50,33,52],[33,54,33,57],[32,41,32,47],[23,61,23,65],[38,61,38,65],[37,76,37,78],[39,68,39,74],[38,68,38,74],[26,54,26,57],[29,50,29,52],[31,50,31,52],[53,29,53,31],[53,33,53,34],[71,29,71,30],[57,35,57,37],[72,29,72,30],[73,25,73,28],[77,54,77,57],[76,54,76,57],[44,32,44,35],[45,32,45,35],[53,25,53,27],[53,36,53,37],[57,25,57,29],[57,31,57,33],[51,29,51,32],[73,29,73,30],[73,32,73,33],[71,32,71,33],[72,32,72,33],[44,25,44,28],[60,29,60,30],[73,54,73,57],[72,54,72,57],[68,25,68,28],[69,32,69,33],[47,78,47,80],[65,99,65,102],[15,35,15,37],[57,59,57,61],[59,60,59,63],[54,44,54,47],[55,40,55,43],[90,62,90,64],[88,51,88,54],[58,59,58,61],[58,62,58,64],[84,54,84,57],[84,63,84,67],[75,49,75,53],[88,62,88,67],[84,58,84,62],[81,54,81,57],[76,63,76,67],[82,40,82,43],[16,36,16,37],[25,37,26,38],[46,36,46,37],[36,98,36,101],[37,86,37,92],[38,86,38,92],[39,86,39,92],[40,86,40,92],[39,76,39,78],[17,36,17,38],[18,35,18,38],[38,76,38,78],[39,61,39,65],[36,68,36,74],[92,32,92,34],[65,74,65,77],[65,79,65,82],[65,84,65,87],[68,0,68,6],[67,0,67,6],[66,0,66,6],[82,58,82,62],[82,49,82,53],[92,62,92,67],[65,89,65,92],[65,94,65,97],[90,65,90,67],[90,59,90,61],[82,63,82,67],[80,63,80,67],[80,58,80,62],[79,58,79,62],[79,63,79,67],[81,58,81,62],[92,53,92,58],[83,58,83,62],[81,29,81,31]],"merged_total":1086,"flags":["merged_cut"]}
[{"$f":"+データ一覧!U5","v":"おおいぐん"}]
[{"$f":"+データ一覧!U8","v":"大飯郡"}]
[]
[null,null,null,null,null,null,null,null,null,null,null,null,null,null,null,null,null,null,null,null,null,null,null,null,null,null,"　　【町章とそのいわれ】昭和３８年に町民から募集し、３９年に制定。",null,null,null,null,null,null,null,null,null,null,null,null,null,"【位置および地勢】高浜町は福井県の西の玄関口に位置し、南東はおおい町西",null,null,null,null,null,null,null,null,null,null,null,null,null,null,null,null,null,null,null,null,null,null,null,null,null,null,null,null,null,null,"所在地",null,null,null,null,null,null,null,"〒919-2292"]
[null,null,null,null,null,null,null,null,null,null,null,null,null,null,null,null,null,null,null,null,null,null,null,null,null,null,null,"                 輪部は高浜町の高とハマの文字を図案化した",null,null,null,null,null,null,null,null,null,null,null,null,"　は京都府と境する。南西の飯盛山脈を背にして北は日本海に面する。",null,null,null,null,null,null,null,null,null,null,null,null,null,null,null,null,null,null,null,null,null,null,null,null,null,null,null,null,null,null,null,null,null,null,null,null,null,null,"大飯郡高浜町宮崎第８６号２３番地２"]
[{"$f":"+データ一覧!U6","v":"たかはまちょう"},null,null,null,null,null,null,null,null,null,null,null,null,null,null,null,null,null,null,null,null,null,null,null,null,null,null,"                もので、中の輪は風光明媚な若狭湾国定公園の",null,null,null,null,null,null,null,null,null,null,null,null,"  リアス式海岸の特徴を示す内浦地区には原子力発電所があり、一方、和田地区から"]
[{"$f":"データ一覧!U9","v":"高浜町"},null,null,null,null,null,null,null,null,null,null,null,null,null,null,null,null,null,null,null,null,null,null,null,null,null,null,"                 中心なる高浜町を象徴する明鏡洞を表している。",null,null,null,null,null,null,null,null,null,null,null,null,"  高浜地区を経て青郷地区に至る８㎞は広い白砂の海岸と松林など変化に富み、",null,null,null,null,null,null,null,null,null,null,null,null,null,null,null,null,null,null,null,null,null,null,null,null,null,null,null,null,null,null,"電話番号",null,null,null,null,null,null,null,"（０７７０）７２－１１１１"]
[null,null,null,null,null,null,null,null,null,null,null,null,null,null,null,null,null,null,null,null,null,null,null,null,null,null,null,"                 上部の錐角は永遠の希望と限りなき前進を示し、",null,null,null,null,null,null,null,null,null,null,null,null,"  ことに夏は関西・中京方面よりの海水浴客でにぎわう。",null,null,null,null,null,null,null,null,null,null,null,null,null,null,null,null,null,null,null,null,null,null,null,null,null,null,null,null,null,null,"FAX番号",null,null,null,null,null,null,null,"     〃     ７２－４０００"]
[null,null,null,null,null,null,null,null,null,null,null,null,null,null,null,null,null,null,null,null,null,null,null,null,null,null,null,"                 周囲の錐角は明鏡洞を中心に観光都市として",null,null,null,null,null,null,null,null,null,null,null,null,"  町の西部にある青葉山は標高 693ｍで、その雄姿は一名若狭富士と呼ばれている。"]
[null,null,null,null,null,null,null,null,null,null,null,null,null,null,null,null,null,null,null,null,null,null,null,null,null,null,null,"  　　           伸びゆくタカハマの未来像をシンボライズした",null,null,null,null,null,null,null,null,null,null,null,null,"  町の約70％は山林で、日本海に注ぐ河川の流域に耕地が広がっている。",null,null,null,null,null,null,null,null,null,null,null,null,null,null,null,null,null,null,null,null,null,null,null,null,null,null,null,null,null,null,"最寄駅および距離",null,null,null,null,null,null,null,"ＪＲ小浜線若狭高浜駅  下車２３０ｍ"]
[null,null,null,null,null,null,null,null,null,null,null,null,null,null,null,null,null,null,null,null,null,null,null,null,null,null,null,"                 ものである。"]
[]
[null,null,null,null,null,null,null,null,null,null,null,null,null,null,null,null,null,null,null,null,null,null,null,null,null,null,"　　【町が掲げる標語】暮らしたい、働きたい、訪れたいまち…高浜町",null,null,null,null,null,null,null,null,null,null,null,null,null,null,null,null,null,null,null,null,null,null,null,null,null,null,null,null,null,null,null,null,null,null,null,null,null,null,null,null,null,null,null,null,"ホームページ",null,null,null,null,null,null,null,"http://www.town.takahama.fukui.jp/"]
[]
["  １  土            　　地",null,null,null,null,null,null,null,null,null,null,null,null,null,null,null,null,null,null,null,null,null,null,null,null,{"$f":"データ一覧!$A$247","v":"元年"},"産米収穫量",null,null,"　 収　穫　量",null,null," 　作 付 面 積",null,null,"   10a当たり収量",null,null,null,null,null,null,null,null,null,null,null,null,null,null,null,null,null,null,null,null,null,null,null,null,null,null,null,null,null,null,null,null," １５  労　　　　　　　働",null,null,null,null,null,null,null,null,null,null,null,null,null,null,"27.10.1"]
[null,null,null,null,null,null,null,null,null,null,null,null,null,null,null,null,null,null,null,null,null,null,null,null,null,null,null,null,null,{"$f":"データ一覧!$U$247","v":979},null,"t",{"$f":"データ一覧!$U$248","v":204},null,"ha",{"$f":"データ一覧!U249","v":480},null,null,"kg",null," １０  工　　　　　　業 ",null,null,null,null,null,null,null,null,null,null,null,null,null,{"$f":"データ一覧!$A$339","v":"元.6.1（平成30年実績）"}]
["   総          面           積",null,null,null,null,null,null,null,null,null," 固 定 資 産 概 要 調 書 に よ る 地 目 別 面 積",null,null,null,null,null,null,null,null,null,null,null,null,null,null,null,null,null,"   総　　　数",null,null,null,"うち　　田",null,null,null,"うち　　畑",null,null,null,null,null,null,null,null,null,null,null,null,null,null,null,null,null,null,null,null,null,null,null,null,null,null,null,null,null,null,null,null,null,null,null,null,null,null,"産業別就業者数   "]
[null,null,{"$f":"データ一覧!$A$10","v":"2.10.1"},null,null,null,null,null,null,null,null,null,null,null,null,null,{"$f":"データ一覧!$A$12","v":"2.1.1"},null,null,null,null,null,null,null,null," 耕  地  面  積",null,null,null,"       ha",null,null,"ha ",null,null,null,"ha ",null,null,null,"      ","産業分類",null,null,null,null,null,null,null,"事業所数",null,null,null,null,"従業者数",null,null,null,null,null,"年間製造品出荷額等",null,null,null,null,null,null,null,null,"区  分",null,null,null,null,"総    数",null,null,null,null,"男",null,null,null,"女",null,null,"  ","区  分",null,null,null,null,"総    数",null,null,null,null,"男",null,null,null,"女"]
[null,null,null,null,null,null,"㎢",null,null,null,"   総       数",null,null,null,null,"  う ち     田",null,null,null,null,"  う ち     畑",null,null,null,null,{"$f":"データ一覧!$A$250","v":"元.7.15"},null,null,{"$f":"データ一覧!$U$250","v":448},null,null,{"$f":"データ一覧!$U$251","v":360},null,null,null,{"$f":"データ一覧!$U$252","v":88},null,null,null,null,null,null,null,null,null,null,null,null,null,"　　   ",null,null,"事業所",null,"　　　　　　　 人",null,null,"人",null,"　　　　　　　　　　　　　　万円",null,null,null,null,null,null,"万円",null,null,null,null,null,null,null,"      人",null,null,null,null,null," 人",null,null,null," 人",null,null,null,null,null,null,null,"      人",null,null,null,"      人",null,null,null,"      人"]
[null,null,null,{"$f":"データ一覧!U10","v":72.400000000000006},null,null,null,null,null,null,null,null,null,null,"ha",null,null,null,null,"ha",null,null,null,null,"ha","農 業 生 産 物",null,null,null,"作 付 面 積",null,null,"収 穫 量",null,null,"10a当たり収量",null,null,null,null,"     ","総数",null,null,null,null,null,null,null,null,{"$f":"データ一覧!U339","v":9},null,null,null,{"$f":"+データ一覧!U364","v":223},null,null,null,null,null,null,{"$f":"データ一覧!U389","v":441267},null,null,null,null,null,null," 総　　　数",null,null,null,null,null,{"$f":"CA20+CE20","v":5791},null,null,null,{"$f":"データ一覧!U514","v":3493},null,null,null,{"$f":"データ一覧!U539","v":2298}]
[null,null,null,null,null,null,null,null,null,null,null,{"$f":"データ一覧!U12","v":7240},null,null,null,null,{"$f":"データ一覧!U13","v":521.29999999999995},null,null,null,null,{"$f":"データ一覧!U14","v":194.6},null,null,null,{"$f":"データ一覧!$A$253","v":"元年中"},null,null,null,"ha",null,null,"t",null,null,"kg",null,null,null,null,"     食料品","食料品",null,null,null,null,null,null,null,null,{"$f":"データ一覧!U340","v":2},null,null,null,{"$f":"+データ一覧!U365","v":26},null,null,null,null,null,null,{"$f":"データ一覧!U390","v":"x"},null,null,null,null,null,null,null,null,null,null,null,null,null,null,null,null,null,null,null,null,null,null,null,null,null,"卸売業,小売業",null,null,null,null,{"$f":"CS21+CW21","v":583},null,null,null,{"$f":"データ一覧!U527","v":241},null,null,null,{"$f":"データ一覧!U552","v":342}]
["  町 ･ 丁 ･ 大 字",null,null,null,null,null,null,null,null,null,"  う ち  宅 地",null,null,null,null,"  う ち  山 林",null,null,null,null,"  う ち  原 野",null,null,null,null,"水　　　　　稲",null,null,null,{"$f":"データ一覧!U253","v":204},null,null,{"$f":"データ一覧!U254","v":979},null,null,{"$f":"データ一覧!U255","v":480},null,null,null,null,"     飲料・飼料","飲料・飼料",null,null,null,null,null,null,null,null,{"$f":"データ一覧!U341","v":0},null,null,null,{"$f":"+データ一覧!U366","v":0},null,null,null,null,null,null,{"$f":"データ一覧!U391","v":0},null,null,null,null,null,null," 第１次産業",null,null,null,null,null,{"$f":"CA22+CE22","v":439},null,null,null,{"$f":"データ一覧!U515","v":242},null,null,null,{"$f":"データ一覧!U540","v":197},null,null,null,null,"金融業,保険業",null,null,null,null,{"$f":"CS22+CW22","v":51},null,null,null,{"$f":"データ一覧!U528","v":23},null,null,null,{"$f":"データ一覧!U553","v":28}]
["  区    画    数",null,null,null,null,null,null,{"$f":"データ一覧!U11","v":54},null,null,null,null,null,null,"ha",null,null,null,null,"ha",null,null,null,null,"ha","六　条　大　麦",null,null,null,{"$f":"データ一覧!U256","v":"x "},null,null,{"$f":"データ一覧!U257","v":"x "},null,null,{"$f":"データ一覧!U258","v":100},null,null,null,null,"     繊維","繊維",null,null,null,null,null,null,null,null,{"$f":"データ一覧!U342","v":1},null,null,null,{"$f":"+データ一覧!U367","v":27},null,null,null,null,null,null,{"$f":"データ一覧!U392","v":"x"},null,null,null,null,null,null,"  ","農業",null,null,null,null,{"$f":"CA23+CE23","v":362},null,null,null,{"$f":"データ一覧!U516","v":182},null,null,null,{"$f":"データ一覧!U541","v":180},null,null,null,"  ","不動産業",null,null,null,null,{"$f":"CS23+CW23","v":37},null,null,null,{"$f":"データ一覧!U529","v":23},null,null,null,{"$f":"データ一覧!U554","v":14}]
[{"$f":"データ一覧!$A$11","v":"31.4.1"},null,null,null,null,null,null,null,null,null,null,{"$f":"データ一覧!U15","v":317.8},null,null,null,null,{"$f":"データ一覧!U16","v":2139.1999999999998},null,null,null,null,{"$f":"データ一覧!U17","v":119.1},null,null,null,"大　　      豆",null,null,null,{"$f":"データ一覧!U259","v":1},null,null,{"$f":"データ一覧!U260","v":1},null,null,{"$f":"データ一覧!U261","v":58},null,null,null,null,"     衣服","木材",null,null,null,null,null,null,null,null,{"$f":"データ一覧!U343","v":1},null,null,null,{"$f":"+データ一覧!U368","v":24},null,null,null,null,null,null,{"$f":"データ一覧!U393","v":"x"},null,null,null,null,null,null,"  ","林業",null,null,null,null,6,null,null,null,{"$f":"データ一覧!U517","v":4},null,null,null,{"$f":"データ一覧!U542","v":2},null,null,null,"  ","学術研究",null,null,null,null,170,null,null,null,{"$f":"データ一覧!U530","v":138},null,null,null,{"$f":"データ一覧!U555","v":32}]
["  ２  世　帯　数　と　人　口",null,null,null,null,null,null,null,null,null,null,null,null,null,null,null,null,null,null,null,null,null,null,null,null,null,null,"  区　分",null," 乳 用 牛",null," 肉 用 牛",null,"豚",null,"採卵鶏",null,"ブロイラー",null,null,"     木材","家具",null,null,null,null,null,null,null,null,{"$f":"データ一覧!U344","v":2},null,null,null,{"$f":"+データ一覧!U369","v":106},null,null,null,null,null,null,{"$f":"データ一覧!U394","v":"x"},null,null,null,null,null,null,"  ","漁業",null,null,null,null,71,null,null,null,{"$f":"データ一覧!U518","v":56},null,null,null,{"$f":"データ一覧!U543","v":15},null,null,null,"  ","宿泊業,飲食ｻｰﾋﾞｽ",null,null,null,null,459,null,null,null,{"$f":"データ一覧!U531","v":145},null,null,null,{"$f":"データ一覧!U556","v":314}]
[null,null,null,null,null,null,null,null,null,null,null,null,null,null,null,null,null,null,null,null,null,null,null,null,null,"畜　産",null," 飼養農家",null,{"$f":"データ一覧!$U$262","v":"-"},null,{"$f":"データ一覧!$U$264","v":"-"},null,{"$f":"データ一覧!$U$266","v":"-"},null,{"$f":"データ一覧!$U$268","v":"-"},null,{"$f":"データ一覧!$U$270","v":"-"},null,null,"     家具","パルプ・紙",null,null,null,null,null,null,null,null,{"$f":"データ一覧!U345","v":0},null,null,null,{"$f":"+データ一覧!U370","v":0},null,null,null,null,null,null,{"$f":"データ一覧!U395","v":0},null,null,null,null,null,null," 第２次産業",null,null,null,null,null,1529,null,null,null,{"$f":"データ一覧!U519","v":1223},null,null,null,{"$f":"データ一覧!U544","v":306},null,null,null,"  ","生活関連ｻｰﾋﾞｽ業",null,null,null,null,142,null,null,null,{"$f":"データ一覧!U532","v":64},null,null,null,{"$f":"データ一覧!U557","v":78}]
[null,null,null,null,null,null,null,null,"        人　　　　　　　　　　口",null,null,null,null,null,null,null,null,null,null,null,"１世帯当",null,"人    口",null,null,{"$f":"データ一覧!$A$262","v":"2.3.31"},null,"（戸）",null,null,null,null,null,null,null,null,null,null,null,null,"     パルプ・紙","印刷",null,null,null,null,null,null,null,null,{"$f":"データ一覧!U346","v":1},null,null,null,{"$f":"+データ一覧!U371","v":6},null,null,null,null,null,null,{"$f":"データ一覧!U396","v":"x"},null,null,null,null,null,null,null,"鉱業，採石業",null,null,null,null,0,null,null,null,{"$f":"データ一覧!U520","v":0},null,null,null,{"$f":"データ一覧!U545","v":0},null,null,null,"  ","教育,学習支援業",null,null,null,null,191,null,null,null,{"$f":"データ一覧!U533","v":87},null,null,null,{"$f":"データ一覧!U558","v":104}]
[" 区　　　　分",null,null,null,null,"世帯数",null,null," 総   数",null,null,"    男",null,null,"    女",null,null,"  男／女",null,null,"たり人員",null,"密    度",null,null,null,null," 頭 羽",null,{"$f":"データ一覧!$U$263","v":"-"},null,{"$f":"データ一覧!$U$265","v":"-"},null,{"$f":"データ一覧!$U$267","v":"-"},null,{"$f":"データ一覧!$U$269","v":"-"},null,{"$f":"データ一覧!$U$271","v":"-"},null,null,"     出版・印刷","化学",null,null,null,null,null,null,null,null,{"$f":"データ一覧!U347","v":0},null,null,null,{"$f":"+データ一覧!U372","v":0},null,null,null,null,null,null,{"$f":"データ一覧!U397","v":0},null,null,null,null,null,null,"  ","建設業",null,null,null,null,1002,null,null,null,{"$f":"データ一覧!U521","v":876},null,null,null,{"$f":"データ一覧!U546","v":126},null,null,null,null,"医療，福祉",null,null,null,null,662,null,null,null,{"$f":"データ一覧!U534","v":126},null,null,null,{"$f":"データ一覧!U559","v":536}]
[null,null,null,null,null,"    世 帯",null,null,"       人",null,null,"       人",null,null,"       人",null,null,null,"　　％",null,"    人",null,"    人/㎢",null,null,null,null,null,null,null,null,null,null,null,null,null,null,null,null,null,"     化学","石油・石炭",null,null,null,null,null,null,null,null,{"$f":"データ一覧!U348","v":0},null,null,null,{"$f":"+データ一覧!U373","v":0},null,null,null,null,null,null,{"$f":"データ一覧!U398","v":0},null,null,null,null,null,null,null,"製造業",null,null,null,null,527,null,null,null,{"$f":"データ一覧!U522","v":347},null,null,null,{"$f":"データ一覧!U547","v":180},null,null,null,null,"複合サービス事業",null,null,null,null,87,null,null,null,{"$f":"データ一覧!U535","v":57},null,null,null,{"$f":"データ一覧!U560","v":30}]
[{"$f":"データ一覧!$A$25","v":" 2.10.1"},null,null,null,null,{"$f":"データ一覧!U25","v":3822},null,null,{"$f":"+L30+O30","v":12425},null,null,{"$f":"データ一覧!U27","v":6250},null,null,{"$f":"データ一覧!U28","v":6175},null,null,null,{"$f":"+L30/O30*100","v":101.21457489878543},null,{"$f":"データ一覧!U30","v":3.25},null,{"$f":"データ一覧!U31","v":172.6},null,null,"  ５  林               業",null,null,null,null,null,null,null,null,null,null,null,null,null,null,"     石油・石炭","プラスチック",null,null,null,null,null,null,null,null,{"$f":"データ一覧!U349","v":0},null,null,null,{"$f":"+データ一覧!U374","v":0},null,null,null,null,null,null,{"$f":"データ一覧!U399","v":0},null,null,null,null,null,null," 第３次産業",null,null,null,null,null,3774,null,null,null,{"$f":"データ一覧!U523","v":2003},null,null,null,{"$f":"データ一覧!U548","v":1771},null,null,null,null,"サービス業",null,null,null,null,499,null,null,null,{"$f":"データ一覧!U536","v":326},null,null,null,{"$f":"データ一覧!U561","v":173}]
[{"$f":"データ一覧!$A$32","v":" 7.10.1"},null,null,null,null,{"$f":"データ一覧!U32","v":3816},null,null,{"$f":"+L31+O31","v":12201},null,null,{"$f":"データ一覧!U34","v":6086},null,null,{"$f":"データ一覧!U35","v":6115},null,null,null,99.52575633687654,null,{"$f":"データ一覧!U37","v":3.2},null,{"$f":"データ一覧!U38","v":169.4},null,null,null,null,null,null,null,null,null,null,null,null,null,null,null,null,null,"     プラスチック","ゴム",null,null,null,null,null,null,null,null,{"$f":"データ一覧!U350","v":0},null,null,null,{"$f":"+データ一覧!U375","v":0},null,null,null,null,null,null,{"$f":"データ一覧!U400","v":0},null,null,null,null,null,null,null,"電気･ｶﾞｽ･水道業",null,null,null,null,487,null,null,null,{"$f":"データ一覧!U524","v":464},null,null,null,{"$f":"データ一覧!U549","v":23},null,null,null,null,"公務",null,null,null,null,237,null,null,null,{"$f":"データ一覧!U537","v":183},null,null,null,{"$f":"データ一覧!U562","v":54}]
[{"$f":"データ一覧!$A$39","v":"12.10.1"},null,null,null,null,{"$f":"データ一覧!U39","v":4015},null,null,{"$f":"+L32+O32","v":12119},null,null,{"$f":"データ一覧!U41","v":6076},null,null,{"$f":"データ一覧!U42","v":6043},null,null,null,100.54608638093663,null,{"$f":"データ一覧!U44","v":3.02},null,{"$f":"データ一覧!U45","v":168.2},null,null,"    　森　　　林　　　総　　　面　　　積   ",null,null,null,null,null,null,null,{"$f":"データ一覧!$A$272","v":"2.3.31"},null,null,null,null,null,null,"     ゴム","皮革",null,null,null,null,null,null,null,null,{"$f":"データ一覧!U351","v":0},null,null,null,{"$f":"+データ一覧!U376","v":0},null,null,null,null,null,null,{"$f":"データ一覧!U401","v":0},null,null,null,null,null,null,null,"情報通信業",null,null,null,null,31,null,null,null,{"$f":"データ一覧!U525","v":9},null,null,null,{"$f":"データ一覧!U550","v":22},null,null,null," 分類不能の産業",null,null,null,null,null,49,null,null,null,{"$f":"データ一覧!U538","v":25},null,null,null,{"$f":"データ一覧!U563","v":24}]
[{"$f":"+データ一覧!$A$46","v":"17.10.1"},null,null,null,null,{"$f":"データ一覧!U46","v":4014},null,null,{"$f":"+L33+O33","v":11630},null,null,{"$f":"データ一覧!U48","v":5729},null,null,{"$f":"データ一覧!U49","v":5901},null,null,null,97.085239789866122,null,{"$f":"データ一覧!U51","v":2.9},null,{"$f":"データ一覧!U52","v":161.30000000000001},null,null,"　　　森　　　　　　　林　　　　　　　の　　　　　　　構　　　　　　　成",null,null,null,null,null,null,null,null,null,null,null,null,null,null,"     皮革","窯業・土石",null,null,null,null,null,null,null,null,{"$f":"データ一覧!U352","v":1},null,null,null,{"$f":"+データ一覧!U377","v":28},null,null,null,null,null,null,{"$f":"データ一覧!U402","v":"x"},null,null,null,null,null,null,"  ","運輸業,郵便業",null,null,null,null,{"$f":"CA33+CE33","v":138},null,null,null,{"$f":"データ一覧!U526","v":117},null,null,null,{"$f":"データ一覧!U551","v":21}]
[{"$f":"+データ一覧!$A$53","v":"22.10.1"},null,null,null,null,{"$f":"データ一覧!U53","v":4044},null,null,{"$f":"+L34+O34","v":11062},null,null,{"$f":"データ一覧!U55","v":5521},null,null,{"$f":"データ一覧!U56","v":5541},null,null,null,99.639054322324498,null,{"$f":"+データ一覧!U58","v":2.74},null,{"$f":"データ一覧!U59","v":153.30000000000001},null,null,null,null,null,null,null,"       ha",null,null,null,null,null,null,"       ha",null,null,"     窯業・土石","鉄鋼",null,null,null,null,null,null,null,null,{"$f":"データ一覧!U353","v":0},null,null,null,{"$f":"+データ一覧!U378","v":0},null,null,null,null,null,null,{"$f":"データ一覧!U403","v":0},null,null,null,null,null,null," １６  社　 会 　福　 祉",null,null,null,null,null,null,null,null,null,null,null,null,null,null,null,{"$f":"データ一覧!$A$564","v":"2.4.1"}]
[{"$f":"データ一覧!$A$60","v":"27.10.1"},null,null,null,null,{"$f":"データ一覧!U60","v":4191},null,null,{"$f":"データ一覧!U61","v":10596},null,null,{"$f":"データ一覧!U62","v":5417},null,null,{"$f":"データ一覧!U63","v":5179},null,null,null,104.59548175323421,null,{"$f":"データ一覧!U65","v":2.5282748747315678},null,{"$f":"データ一覧!U66","v":146.4},null,null,"  総　　　　　   数",null,null,null,{"$f":"データ一覧!U272","v":5332.7699999999986},null,null," 天然林       針葉樹",null,null,null,{"$f":"データ一覧!U275","v":349.04999999999899},null,null,null,"     鉄鋼","非鉄金属",null,null,null,null,null,null,null,null,{"$f":"データ一覧!U354","v":0},null,null,null,{"$f":"+データ一覧!U379","v":0},null,null,null,null,null,null,{"$f":"データ一覧!U404","v":0}]
[{"$f":"+データ一覧!$A$67","v":"2.10.1"},null,null,null,null,{"$f":"データ一覧!U67","v":4335},null,null,{"$f":"データ一覧!U76","v":10098},null,null,{"$f":"データ一覧!U77","v":5198},null,null,{"$f":"データ一覧!U78","v":4900},null,null,null,{"$f":"+L36/O36*100","v":106.08163265306123},null,{"$f":"データ一覧!U68","v":2.33},null,{"$f":"データ一覧!U69","v":139.47513812154696},null,null,"  人工林     針葉樹",null,null,null,{"$f":"データ一覧!U273","v":2340.46},null,null," 天然林       広葉樹",null,null,null,{"$f":"データ一覧!U276","v":2190.4500000000003},null,null,null,"     非鉄金属","金属",null,null,null,null,null,null,null,null,{"$f":"データ一覧!U355","v":0},null,null,null,{"$f":"+データ一覧!U380","v":0},null,null,null,null,null,null,{"$f":"データ一覧!U405","v":0},null,null,null,null,null,null,"    ","区分",null,null,null,null,null,null,"施設数",null,null,null,null,"収容定員",null,null,null,null,null,"区分",null,null,null,null,null,null,"施設数",null,null,null,null,"収容定員"]
["年",null,"  区",null," 0歳",null,null,"15歳",null,null,"25歳",null,null,"35歳",null,null,"45歳",null,null,"55歳",null,null,"65歳",null,null,"  人工林     広葉樹",null,null,null,{"$f":"データ一覧!U274","v":2.31},null,null," 竹               林",null,null,null,{"$f":"データ一覧!U277","v":249.54000000000002},null,null,null,"     金属","はん用機械",null,null,null,null,null,null,null,null,{"$f":"データ一覧!U356","v":0},null,null,null,{"$f":"+データ一覧!U381","v":0},null,null,null,null,null,null,{"$f":"データ一覧!U406","v":0},null,null,null,null,null,null,"生活保護施設",null,null,null,null,null,null,null,{"$f":"データ一覧!U564","v":0},null,null,null,{"$f":"データ一覧!U577","v":0},null,null,null,"人",null,"指定障害者支援施設",null,null,null,null,null,null,null,{"$f":"データ一覧!U570","v":0},null,null,null,{"$f":"データ一覧!U583","v":0},null,null,null,"人"]
["齢","令",null,null,null,"～",null,null,"～",null,null,"～",null,null,"～",null,null,"～",null,null,"～",null,null,null,null,null,null,null,null,null,null,null,null,null,null,null,null,null,null,null,"     一般機械","生産用機械",null,null,null,null,null,null,null,null,{"$f":"データ一覧!U357","v":0},null,null,null,{"$f":"+データ一覧!U382","v":0},null,null,null,null,null,null,{"$f":"データ一覧!U407","v":0},null,null,null,null,null,null,"地域福祉施設",null,null,null,null,null,null,null,{"$f":"データ一覧!U565","v":0},null,null,null,{"$f":"データ一覧!U578","v":0},null,null,null,null,null,"指定相談支援事業所",null,null,null,null,null,null,null,{"$f":"データ一覧!U571","v":0},null,null,null,{"$f":"データ一覧!U584","v":0}]
["階","元","  分",null,null,null,"14歳",null,null,"24歳",null,null,"34歳",null,null,"44歳",null,null,"54歳",null,null,"64歳",null,null,"以上","    林     野     の     構     成",null,null,null,null,null,null,"保     有     形     態     別",null,null,null,null,null,null,null,"     電気機械","業務用機械",null,null,null,null,null,null,null,null,{"$f":"データ一覧!U358","v":0},null,null,null,{"$f":"+データ一覧!U383","v":0},null,null,null,null,null,null,{"$f":"データ一覧!U408","v":0},null,null,null,null,null,null,"老人福祉施設",null,null,null,null,null,null,null,{"$f":"データ一覧!U566","v":5},null,null,null,{"$f":"データ一覧!U579","v":54},null,null,null,null,null,"児童福祉施設",null,null,null,null,null,null,null,{"$f":"データ一覧!U572","v":10},null,null,null,{"$f":"データ一覧!U585","v":420}]
["級","・",null,null,null,null,"人",null,null,"人",null,"    人",null,null,"    人",null,null,"    人",null,null,"    人",null,null,"    人",null,null,null,null,null,null,null,"ha",null,null,null,null,null,"       ha",null,null,null,"電子・デバイス",null,null,null,null,null,null,null,null,{"$f":"データ一覧!U359","v":0},null,null,null,{"$f":"+データ一覧!U384","v":0},null,null,null,null,null,null,{"$f":"データ一覧!U409","v":0},null,null,null,null,null,null,"介護保険施設",null,null,null,null,null,null,null,{"$f":"データ一覧!U567","v":17},null,null,null,{"$f":"データ一覧!U580","v":309},null,null,null,null,null,"母子福祉施設",null,null,null,null,null,null,null,{"$f":"データ一覧!U573","v":0},null,null,null,{"$f":"データ一覧!U586","v":0}]
["別","10","総 数",null,{"$f":"+E42+E43","v":1195},null,null,{"$f":"+H42+H43","v":848},null,null,{"$f":"+K42+K43","v":900},null,null,{"$f":"+N42+N43","v":1121},null,null,{"$f":"+Q42+Q43","v":1414},null,null,{"$f":"+T42+T43","v":1308},null,null,{"$f":"+W42+W43","v":3299},null,null," 無立木地   伐採跡地",null,null,null,{"$f":"データ一覧!U278","v":9.14},null,null,"国   　　　 　 有",null,null,null,{"$f":"データ一覧!U280","v":3.79},null,null,null,null,"電気機械",null,null,null,null,null,null,null,null,{"$f":"データ一覧!U360","v":0},null,null,null,{"$f":"+データ一覧!U385","v":0},null,null,null,null,null,null,{"$f":"データ一覧!U410","v":0},null,null,null,null,null,null,"障害者自立支援法施行前からの身体障害者福祉施設",null,null,null,null,null,null,null,{"$f":"データ一覧!U568","v":0},null,null,null,{"$f":"データ一覧!U581","v":0},null,null,null,null,null,"婦人保護施設",null,null,null,null,null,null,null,{"$f":"データ一覧!U574","v":0},null,null,null,{"$f":"データ一覧!U587","v":0}]
["人","・","  男",null,{"$f":"データ一覧!U79","v":613},null,null,{"$f":"データ一覧!U80","v":461},null,null,{"$f":"データ一覧!U81","v":565},null,null,{"$f":"データ一覧!U82","v":616},null,null,{"$f":"データ一覧!U83","v":754},null,null,{"$f":"データ一覧!U84","v":727},null,null,{"$f":"データ一覧!U85","v":1449},null,null," 無立木地   未立木地",null,null,null,{"$f":"データ一覧!U279","v":191.82},null,null,"公       　　  有",null,null,null,{"$f":"データ一覧!U281","v":428.31},null,null,null,"     輸送機械","情報通信機械",null,null,null,null,null,null,null,null,{"$f":"データ一覧!U361","v":0},null,null,null,{"$f":"+データ一覧!U386","v":0},null,null,null,null,null,null,{"$f":"データ一覧!U411","v":0},null,null,null,null,null,null,null,null,null,null,null,null,null,null,null,null,null,null,null,null,null,null,null,null,"その他の社会福祉施設",null,null,null,null,null,null,null,{"$f":"データ一覧!U575+データ一覧!U576","v":1},null,null,null,{"$f":"データ一覧!U588+データ一覧!U589","v":0}]
["口","1","  女",null,{"$f":"データ一覧!U87","v":582},null,null,{"$f":"データ一覧!U88","v":387},null,null,{"$f":"データ一覧!U89","v":335},null,null,{"$f":"データ一覧!U90","v":505},null,null,{"$f":"データ一覧!U91","v":660},null,null,{"$f":"データ一覧!U92","v":581},null,null,{"$f":"データ一覧!U93","v":1850},null,null,null,null,null,null,null,null,null,"私          　 有",null,null,null,{"$f":"データ一覧!U282","v":4900.6699999999992},null,null,null,"     精密機械","輸送機械",null,null,null,null,null,null,null,null,{"$f":"データ一覧!U362","v":1},null,null,null,{"$f":"+データ一覧!U387","v":6},null,null,null,null,null,null,{"$f":"データ一覧!U412","v":"x"},null,null,null,null,null,null,"障害福祉サービス事業所",null,null,null,null,null,null,null,{"$f":"データ一覧!U569","v":3},null,null,null,{"$f":"データ一覧!U582","v":0}]
[null,null,null,null,null,null,null,null,null,null,null,null,null,null,null,null,null,null,null,null,null,null,null,null,null,"            林     産     物     生     産     量 ",null,null,null,null,null,null,null,null,null,{"$f":"データ一覧!$A$283","v":"元年中"},null,null,null,null,"     その他","その他",null,null,null,null,null,null,null,null,{"$f":"データ一覧!U363","v":0},null,null,null,{"$f":"+データ一覧!U388","v":0},null,null,null,null,null,null,{"$f":"データ一覧!U413","v":0},null,null,null,null,null,null," １７  教　　　　　　　育",null,null,null,null,null,null,null,null,null,null,null,null,null,null,null,{"$f":"データ一覧!$A$590","v":"2.5.1"}]
["人口動態",null,null,null,null,null,null,"   自　然　動　態",null,null,null,null,null,"   社  会  動  態",null,null,null,null,null,{"$f":"データ一覧!$A74","v":"31.1.1～元.12.31"},null,null,null,null,null,"生椎茸",null,null,null,{"$f":"データ一覧!U283","v":"-"},null,"㎏","乾椎茸",null,null,null,{"$f":"データ一覧!U284","v":"-"},null,"㎏"]
[null,null,"   区       分",null,null,null,null," 出   生",null,null," 死   亡",null,null," 転   入",null,null," 転   出",null,null," 婚   姻",null,null," 離   婚",null,null,"えのきだけ",null,null,null,{"$f":"データ一覧!U286","v":"-"},null,"㎏","なめこ",null,null,null,{"$f":"データ一覧!U285","v":"-"},null,"㎏",null,"    ","工　業　用　水　量",null,null,null,null,null,"（従業者30人以上の事業所）",null,null,null,null,null,null,null,null,null,null,{"$f":"データ一覧!U414","v":"x"},null,null,null,null,"㎥／日",null,null,null,null,null,null,null,null,null,null,null,null,null,null,"学校数（校）",null,null,null,null,null,null,"教員数（人）",null,null,null,null,null,null,null,"学生・生徒・児童数（人）"]
[{"$f":"LEFT(データ一覧!$A70,7)","v":"元.10.1～"},null,null,null,null,null,null,"       人",null,null,"       人",null,null,"       人",null,null,"       人",null,null,null,"    件",null,null,"    件",null,"ひらたけ",null,null,null,{"$f":"+データ一覧!U287","v":"-"},null,"㎏","まいたけ",null,null,null,{"$f":"+データ一覧!U288","v":"-"},null,"㎏",null,null,null,null,null,null,null,null,null,null,null,null,null,null,null,null,null,null,null,null,null,null,null,null,null,null,null,null,null,null,"　","区分",null,null,null,null,null,null,null," 本 校",null,null," 分 校",null,null," 本   務",null,null,null," 兼   務",null,null,null," 総   数",null,null,null,"男",null,null,null,"女"]
["～",null," 実          数",null,null,null,null,{"$f":"データ一覧!U70","v":73},null,null,{"$f":"データ一覧!U71","v":126},null,null,{"$f":"データ一覧!U72","v":275},null,null,{"$f":"データ一覧!U73","v":406},null,null,{"$f":"データ一覧!U74","v":46},null,null,{"$f":"データ一覧!U75","v":10},null,null,null,null,null,null,null,null,null,null,null,null,null,null,null,null,null," １１ 　上　・　下　水　道",null,null,null,null,null,null,null,null,null,null,null,null,null,null,null,null,null,null,null,null,null,null,null,null,null,null,null,null,"小学校",null,null,null,null,null,null,null,null,{"$f":"データ一覧!U591","v":4},null,null,{"$f":"データ一覧!U592","v":1},null,null,{"$f":"データ一覧!U593","v":51},null,null,null,{"$f":"データ一覧!U594","v":8},null,null,null,{"$f":"データ一覧!U595","v":499},null,null,null,{"$f":"データ一覧!U596","v":269},null,null,null,{"$f":"データ一覧!U597","v":230}]
[{"$f":"RIGHT(データ一覧!$A72,7)","v":"～2.9.30"},null,"比率(対1,000人)",null,null,null,null,{"$f":"+H48/I35*1000","v":6.8893922234805594},null,null,{"$f":"+K48/I35*1000","v":11.89127972819932},null,null,"- ",null,null,"- ",null,null,{"$f":"+T48/I35*1000","v":4.3412608531521331},null,null,{"$f":"+W48/I35*1000","v":0.94375235938089852},null,null,"  ６  漁               業",null,null,null,null,null,null,null,null,null,null,null,null,null,null,null,null,null,null,null,null,null,null,null,null,null,null,null,null,null,null,null,null,null,null,null,null,null,null,null,null,null,null,"  ","中学校",null,null,null,null,null,null,null,null,{"$f":"データ一覧!U599","v":2},null,null,{"$f":"データ一覧!U600","v":0},null,null,{"$f":"データ一覧!U601","v":32},null,null,null,{"$f":"データ一覧!U602","v":6},null,null,null,{"$f":"データ一覧!U603","v":269},null,null,null,{"$f":"データ一覧!U604","v":135},null,null,null,{"$f":"データ一覧!U605","v":134}]
[null,null,null,null,null,null,null,null,null,null,null,null,null,null,null,null,null,null,null,null,null,null,null,null,null,null,null,null,null,null,null,null,null,null,null,null,null,null,null,null,"水 道 供 給 人 口",null,null,null,null,null,null,"上 水 道",null,null,null,"簡易水道",null,null,null,"専用水道",null,null,null,"飲料水供給施設",null,null,null,"下水道処理人口",null,null,null,null,"  ","高等学校",null,null,null,null,null,null,null,null,{"$f":"データ一覧!U607","v":0},null,null,{"$f":"データ一覧!U608","v":0},null,null,{"$f":"データ一覧!U609","v":0},null,null,null,{"$f":"データ一覧!U610","v":0},null,null,null,{"$f":"データ一覧!U611","v":0},null,null,null,{"$f":"データ一覧!U612","v":0},null,null,null,{"$f":"データ一覧!U613","v":0}]
["  ３  事　　業　　所（民　　営）    （平 28.6.1）",null,null,null,null,null,null,null,null,null,null,null,null,null,null,null,null,null,null,null,null,null,null,null,null,"漁船隻数・トン数",null,null,null,{"$f":"データ一覧!$A$289","v":"元.12.31"},null,null,null,"動　力　船",null,null,null,null,null,null,{"$f":"データ一覧!$A$415","v":"2.3.31"},null,null,null,null,null,"人",null,{"$f":"データ一覧!U415","v":9837},null,null,{"$f":"データ一覧!U416","v":328},null,null,null,null,{"$f":"データ一覧!U417","v":0},null,null,null,{"$f":"データ一覧!U418","v":107},null,null,null,{"$f":"データ一覧!U419","v":8199},null,null,null,"  ","大学・短期大学",null,null,null,null,null,null,null,null,{"$f":"データ一覧!U614","v":0},null,null,{"$f":"データ一覧!U615","v":0},null,null,{"$f":"データ一覧!U616","v":0},null,null,null,{"$f":"データ一覧!U617","v":0},null,null,null,{"$f":"データ一覧!U618","v":0},null,null,null,{"$f":"データ一覧!U619","v":0},null,null,null,{"$f":"データ一覧!U620","v":0}]
[null,null,null,null,null,null,null,null,null,null,null,null,null,null,null,null,null,null,null,null,null,null,null,null,null,"無動力船隻数",null,null,null,"船外機付漁船隻数",null,null,null,"隻　数",null,null,"総 ト ン 数",null,null,null,null,null,null,null,null,null,null,null,null,null,null,null,null,null,null,null,null,null,null,null,null,null,null,null,null,null,null,null,"  ","高等専門学校",null,null,null,null,null,null,null,null,{"$f":"データ一覧!U621","v":0},null,null,{"$f":"データ一覧!U622","v":0},null,null,{"$f":"データ一覧!U623","v":0},null,null,null,{"$f":"データ一覧!U624","v":0},null,null,null,{"$f":"データ一覧!U625","v":0},null,null,null,{"$f":"データ一覧!U626","v":0},null,null,null,{"$f":"データ一覧!U627","v":0}]
[null,null,null,null,null,null,null,"    総　　　　　数",null,null,null,null,null,"    民　　　　　営",null,null,null,null,null,"  国 ･ 地方公共団体",null,null,null,null,null,null,null,null,"隻",null,null,null,"隻",null,null,"隻",null,null,"t",null," １２  交   通　・　通   信",null,null,null,null,null,null,null,null,null,null,null,null,null,null,null,null,null,null,null,null,null,null,null,null,null,null,null,"  ","特別支援学校",null,null,null,null,null,null,null,null,{"$f":"+データ一覧!U629","v":0},null,null,{"$f":"+データ一覧!U630","v":0},null,null,{"$f":"+データ一覧!U631","v":0},null,null,null,{"$f":"+データ一覧!U632","v":0},null,null,null,{"$f":"+データ一覧!U633","v":0},null,null,null,{"$f":"+データ一覧!U634","v":0},null,null,null,{"$f":"+データ一覧!U635","v":0}]
["  　区　　　　　　分",null,null,null,null,null,null," 事業所数",null,null," 従業者数",null,null," 事業所数",null,null," 従業者数",null,null," 事業所数",null,null," 従業者数",null,null,{"$f":"データ一覧!$U$289","v":46},null,null,null,{"$f":"データ一覧!$U$290","v":73},null,null,null,{"$f":"データ一覧!U291","v":110},null,null,{"$f":"データ一覧!U292","v":354.07},null,null,null,null,null,null,null,null,null,null,null,null,null,null,null,null,null,null,null,null,null,null,null,null,null,null,null,null,null,null,null,"  ","幼稚園",null,null,null,null,null,null,null,null,{"$f":"データ一覧!U637","v":0},null,null,{"$f":"データ一覧!U638","v":0},null,null,{"$f":"データ一覧!U639","v":0},null,null,null,{"$f":"データ一覧!U640","v":0},null,null,null,{"$f":"データ一覧!U641","v":0},null,null,null,{"$f":"データ一覧!U642","v":0},null,null,null,{"$f":"データ一覧!U643","v":0}]
[null,null,null,null,null,null,null,null,null,null,"       人",null,null,null,null,null,"       人",null,null,null,null,null,"       人",null,null,"  男女別就業者数",null,null,null,null,null,null,null,{"$f":"データ一覧!$A$293","v":"30.11.1"},null,null,null,null,null,null,"道     路",null,null,null,"実 延 長",null,null,null,"国     道",null,null,null,"県     道",null,null,null,"市町道",null,null,null," 鉄 道 営 業 キ ロ 数",null,null,null,null,null,null,null,"  ","幼保連携認定こども園",null,null,null,null,null,null,null,null,{"$f":"データ一覧!U645","v":1},null,null,{"$f":"データ一覧!U646","v":0},null,null,{"$f":"データ一覧!U647","v":10},null,null,null,{"$f":"データ一覧!U648","v":0},null,null,null,{"$f":"データ一覧!U649","v":4},null,null,null,{"$f":"データ一覧!U650","v":2},null,null,null,{"$f":"データ一覧!U651","v":2}]
["総数",null,null,null,null,null,null,{"$f":"データ一覧!U95","v":"…"},null,null,{"$f":"データ一覧!U152","v":"…"},null,null,{"$f":"データ一覧!U96","v":567},null,null,{"$f":"データ一覧!U153","v":4826},null,null,{"$f":"データ一覧!U97","v":"…"},null,null,{"$f":"データ一覧!U154","v":"…"},null,null,"総　　数",null,null,null,null,null,"男",null,null,null,"女",null,null,null,null,{"$f":"データ一覧!$A$420","v":"31.4.1"},null,null,null,{"$f":"データ一覧!U420","v":207.50700000000001},null,null,"㎞",{"$f":"データ一覧!U421","v":0},null,null,"㎞",{"$f":"データ一覧!U422","v":36.299999999999997},null,null,"㎞",{"$f":"データ一覧!U423","v":171.20700000000002},null,null,"km",{"$f":"データ一覧!$A$424","v":"2.4.1"},null,null,null,{"$f":"データ一覧!U424","v":13.275},null,null,"㎞","  ","各種学校",null,null,null,null,null,null,null,null,{"$f":"データ一覧!U653","v":0},null,null,{"$f":"データ一覧!U654","v":0},null,null,{"$f":"データ一覧!U655","v":0},null,null,null,{"$f":"データ一覧!U656","v":0},null,null,null,{"$f":"データ一覧!U657","v":0},null,null,null,{"$f":"データ一覧!U658","v":0},null,null,null,{"$f":"データ一覧!U659","v":0}]
["農林漁業",null,null,null,null,null,null,{"$f":"データ一覧!U98","v":"…"},null,null,{"$f":"データ一覧!U155","v":"…"},null,null,{"$f":"データ一覧!U99","v":5},null,null,{"$f":"データ一覧!U156","v":94},null,null,{"$f":"データ一覧!U100","v":"…"},null,null,{"$f":"データ一覧!U157","v":"…"},null,null,null,null,null,null,null,"人",null,null,"　　　　人",null,null,null,null,"  人",null,"自動車",null,null,null,null,null,null,null,null,"乗用車",null,null,null,null,null,null,null,null,null,null,null,null,null,null,null,null,null,null,"  ","専修学校",null,null,null,null,null,null,null,null,{"$f":"データ一覧!U661","v":0},null,null,{"$f":"データ一覧!U662","v":0},null,null,{"$f":"データ一覧!U663","v":0},null,null,null,{"$f":"データ一覧!U664","v":0},null,null,null,{"$f":"データ一覧!U665","v":0},null,null,null,{"$f":"データ一覧!U666","v":0},null,null,null,{"$f":"データ一覧!U667","v":0}]
["鉱業",null,null,null,null,null,null,{"$f":"データ一覧!U101","v":"…"},null,null,{"$f":"データ一覧!U158","v":"…"},null,null,{"$f":"データ一覧!U102","v":0},null,null,{"$f":"データ一覧!U159","v":0},null,null,{"$f":"データ一覧!U103","v":"…"},null,null,{"$f":"データ一覧!U160","v":"…"},null,null,{"$f":"AF58+AJ58","v":82},null,null,null,null,null,{"$f":"データ一覧!$U$294","v":75},null,null,null,{"$f":"データ一覧!U295","v":7},null,null,null,null,"台  数",null,null,null,"貨    物",null,null,null,"普     通",null,null,null,"小     型",null,null,null,"乗  合",null,null,"特  種",null,null,"小型二輪",null,null,"軽自動車",null,null," １８  衛　　　　　　　生"]
["建設業",null,null,null,null,null,null,{"$f":"データ一覧!U104","v":"…"},null,null,{"$f":"データ一覧!U161","v":"…"},null,null,{"$f":"データ一覧!U105","v":96},null,null,{"$f":"データ一覧!U162","v":1200},null,null,{"$f":"データ一覧!U106","v":"…"},null,null,{"$f":"データ一覧!U163","v":"…"},null,null,"　　　　海 面 漁 業 漁 獲 量 （属人）",null,null,null,null,null,null,null,{"$f":"データ一覧!$A$296","v":"30年中"},null,null,null,null,null,null,{"$f":"データ一覧!$A$425","v":"2.3.31"},null,null,null,null,{"$f":"データ一覧!U425","v":479},null,null,null,{"$f":"データ一覧!U427","v":1646},null,null,null,{"$f":"データ一覧!U428","v":1770},null,null,{"$f":"データ一覧!U426","v":40},null,null,{"$f":"データ一覧!U429","v":187},null,null,{"$f":"データ一覧!U430","v":145},null,null,{"$f":"データ一覧!U431","v":4033}]
["製造業",null,null,null,null,null,null,{"$f":"データ一覧!U107","v":"…"},null,null,{"$f":"データ一覧!U164","v":"…"},null,null,{"$f":"データ一覧!U108","v":28},null,null,{"$f":"データ一覧!U165","v":358},null,null,{"$f":"データ一覧!U109","v":"…"},null,null,{"$f":"データ一覧!U166","v":"…"},null,null,null,null,null,null,null,"       ","ｔ",null,null,null,null,null,null,"t",null,null,null,"     ",null,"郵　便　局　数",null,null,null,null,null,null,null,null,null,null,null,null,null,null,null,"一般加入",null,null,null,"ＩＮＳネット",null,null,null,null,null,null,null,"医療関係施設",null,null,null,null,null,{"$f":"データ一覧!$A$668","v":"元.10.1"},null,null,null,null,null,null,"および医療関係者数",null,null,null,null,null,null,null,{"$f":"データ一覧!$A$673","v":"30.12.31"}]
["電気・ｶﾞ ｽ・熱供給・水道業",null,null,null,null,null,null,{"$f":"データ一覧!U110","v":"…"},null,null,{"$f":"データ一覧!U167","v":"…"},null,null,{"$f":"データ一覧!U111","v":1},null,null,{"$f":"データ一覧!U168","v":491},null,null,{"$f":"データ一覧!U112","v":"…"},null,null,{"$f":"データ一覧!U169","v":"…"},null,null,"   総　　　　　　数",null,null,null,{"$f":"データ一覧!U296","v":681},null,null,"   藻　　　　　　類",null,null,null,{"$f":"データ一覧!U299","v":0},null,null,null,"通  信",null,null,null," 総     数",null,null,null,null,null," 郵 便 局",null,null,null,null," 簡 易 局",null,null,null,null,"電話数",null,null,null,"加入数",null,null,null,null,null,null,null,null,null,"　","病",null,null,"院",null,"　",null,null,null,null," ","一般診療所",null,null,null,null,null,null,null,null,null,null,null,"歯科診療所"]
["情報通信業",null,null,null,null,null,null,{"$f":"データ一覧!U113","v":"…"},null,null,{"$f":"データ一覧!U170","v":"…"},null,null,{"$f":"データ一覧!U114","v":1},null,null,{"$f":"データ一覧!U171","v":0},null,null,{"$f":"データ一覧!U115","v":"…"},null,null,{"$f":"データ一覧!U172","v":"…"},null,null,"   魚　　　　　　類",null,null,null,{"$f":"データ一覧!U297","v":588},null,null,"   そ　   の　　 他",null,null,null,{"$f":"データ一覧!U300","v":84},null,null,null,{"$f":"データ一覧!$A$435","v":"2.3.31"},null,null,null,{"$f":"データ一覧!U432","v":6},null,null,null,null,null,{"$f":"データ一覧!U433","v":4},null,null,null,null,{"$f":"データ一覧!U434","v":2},null,null,null,null,{"$f":"データ一覧!U435","v":1527},null,null,null,{"$f":"データ一覧!U436","v":327},null,null,null," ","医療関係",null,null,null,null,null,null,null,null,null,null,null,"一般病院",null,null,null,null,null,null,null,null,null,null,null,"有",null,null,"床"]
["運輸業、郵便業",null,null,null,null,null,null,{"$f":"データ一覧!U116","v":"…"},null,null,{"$f":"データ一覧!U173","v":"…"},null,null,{"$f":"データ一覧!U117","v":10},null,null,{"$f":"データ一覧!U174","v":103},null,null,{"$f":"データ一覧!U118","v":"…"},null,null,{"$f":"データ一覧!U175","v":"…"},null,null,"   貝　　　　　　類",null,null,null,{"$f":"データ一覧!U298","v":9},null,null,null,null,null,null,null,null,null,null,null,null,null,null,null,null,null,null,null,null,null,null,null,null,null,null,null,null,null,null,null,null,null,null,null,null,null,null,null,"施設数",null,null,null,null,null,null,{"$f":"データ一覧!U668","v":1},null,null,null,null,null,{"$f":"データ一覧!U669","v":1},null,null,null,null,null,{"$f":"データ一覧!U670","v":7},null,null,null,null,null,{"$f":"データ一覧!U671","v":0},null,null,null,null,null,{"$f":"データ一覧!U672","v":2}]
["卸売業、小売業",null,null,null,null,null,null,{"$f":"データ一覧!U119","v":"…"},null,null,{"$f":"データ一覧!U176","v":"…"},null,null,{"$f":"データ一覧!U120","v":102},null,null,{"$f":"データ一覧!U177","v":561},null,null,{"$f":"データ一覧!U121","v":"…"},null,null,{"$f":"データ一覧!U178","v":"…"},null,null,null,null,null,null,null,null,null,null,null,null,null,null,null,null,null," １３  税　　・　　財　　政",null,null,null,null,null,null,null,null,null,null,null,null,null,null,null,null,null,null,null,null,null,null,null,null,null,null,null,null,null,null,null,null,null,null,"医師",null,null,null,null,"歯科医師",null,null,null,null,"薬剤師",null,null,null,null,"保健師",null,null,null,null,"助産師",null,null," ",null,"看護師",null,null," "]
["金融業、保険業",null,null,null,null,null,null,{"$f":"データ一覧!U122","v":"…"},null,null,{"$f":"データ一覧!U179","v":"…"},null,null,{"$f":"データ一覧!U123","v":5},null,null,{"$f":"データ一覧!U180","v":48},null,null,{"$f":"データ一覧!U124","v":"…"},null,null,{"$f":"データ一覧!U181","v":"…"},null,null,"  ７  商        　　　業 ",null,null,null,null,null,null,{"$f":"データ一覧!$A$301","v":"28.6.1(平成27年実績）"},null,null,null,null,null,null,null,null,null,null,null,null,null,null,null,null,null,null,null,null,null,null,null,null,null,null,null,null,null,null,null,null,null,null,null," ","医療",null,null,null,null,null,null,null,null,"人",null,null,null,null,"人",null,null,null,null,"人",null,null,null,null,"人",null,null,null,null,"人",null,null,null,null,"人"]
["不動産業、物品賃貸業",null,null,null,null,null,null,{"$f":"データ一覧!U125","v":"…"},null,null,{"$f":"データ一覧!U182","v":"…"},null,null,{"$f":"データ一覧!U126","v":11},null,null,{"$f":"データ一覧!U183","v":17},null,null,{"$f":"データ一覧!U127","v":"…"},null,null,{"$f":"データ一覧!U184","v":"…"},null,null,null,null,null,null,null,null,null,null,null,null,null,null,null,null,null,"           ",null,null,null,"歳入",null,null,null,null,null,null,null,null,"(千円）"," ",null,null,null,"歳出",null,null,null,null,null,null,null,null,"(千円）",null,"関係者",null,null,null,null,{"$f":"データ一覧!U673","v":13},null,null,null,null,{"$f":"データ一覧!U674","v":3},null,null,null,null,{"$f":"データ一覧!U675","v":14},null,null,null,null,{"$f":"データ一覧!U676","v":11},null,null,null,null,{"$f":"データ一覧!U677","v":2},null,null,null,null,{"$f":"データ一覧!U678","v":124}]
["学術研究、専門・技術ｻｰﾋﾞｽ業",null,null,null,null,null,null,{"$f":"データ一覧!U128","v":"…"},null,null,{"$f":"データ一覧!U185","v":"…"},null,null,{"$f":"データ一覧!U129","v":14},null,null,{"$f":"データ一覧!U186","v":72},null,null,{"$f":"データ一覧!U130","v":"…"},null,null,{"$f":"データ一覧!U187","v":"…"},null,null,"  産   業　 分　 類",null,null,null,"  商　 店 　数",null,null," 従　業　者　数",null,null,"年　間　販　売　額",null,null,null,null,"一人当たり歳入歳出予算決算額",null,null,null,null,null,null,null,null,null,null,null,null,null,null,null,null,null,null,null,null,null,null,null,null,null,null,null,"                   ",null,null,null,null,null,null,null,null,"死因別死亡数　　　　　    ",null,null,null,null,null,null,null,null,null,null,null,null,null,null,null,{"$f":"データ一覧!$A$679","v":"元年中"},null,null,null,null,null,null,null,null,"      単 位：人"]
["宿泊業、飲食サービス業",null,null,null,null,null,null,{"$f":"データ一覧!U131","v":"…"},null,null,{"$f":"データ一覧!U188","v":"…"},null,null,{"$f":"データ一覧!U132","v":152},null,null,{"$f":"データ一覧!U189","v":656},null,null,{"$f":"データ一覧!U133","v":"…"},null,null,{"$f":"データ一覧!U190","v":"…"},null,null,null,null,null,null,null,"        店",null,null,null,"　人",null,"         百万円",null,null,null,"区分",null,null,null,{"$f":"データ一覧!$A$445","v":"2年度"},null,null,null,null,{"$f":"データ一覧!$A$459","v":"元年度"},null,null,null,null,"区分",null,null,null,{"$f":"+AS68","v":"2年度"},null,null,null,null,{"$f":"データ一覧!$A$459","v":"元年度"},null,null,null,null," 死     因",null,null,null,null,null,null,null,null,null,null,null,"悪  性",null,null,"高血圧",null,null,null,null,null,"脳血管",null,null,null,null,null," ",null,null,"不慮の事故"]
["生活関連サービス業、娯楽業",null,null,null,null,null,null,{"$f":"データ一覧!U134","v":"…"},null,null,{"$f":"データ一覧!U191","v":"…"},null,null,{"$f":"データ一覧!U135","v":48},null,null,{"$f":"データ一覧!U192","v":152},null,null,{"$f":"データ一覧!U136","v":"…"},null,null,{"$f":"データ一覧!U193","v":"…"},null,null,"総　　　　　　計",null,null,null,{"$f":"データ一覧!U301","v":85},null,null,{"$f":"データ一覧!U310","v":414},null,null,{"$f":"データ一覧!U319","v":8330},null,null,null,null,null,null,null,null,{"$f":"データ一覧!U441","v":898868.2907506437},null,null,null,null,{"$f":"データ一覧!U442","v":1121296},null,null,null,null,null,null,null,null,{"$f":"データ一覧!U443","v":898868.2907506437},null,null,null,null,{"$f":"データ一覧!U444","v":1028902.7426570706},null,null,null,null,null,null,null,null,null,"全 死 因",null,null,null,"結 核",null,null,"新生物",null,null,"性疾患",null,null,"心疾患",null,null,"疾  患",null,null,"肺  炎",null,null,"老  衰",null,null,null,null," ","交通事故"]
["教育、学習支援業",null,null,null,null,null,null,{"$f":"データ一覧!U137","v":"…"},null,null,{"$f":"データ一覧!U194","v":"…"},null,null,{"$f":"データ一覧!U138","v":15},null,null,{"$f":"データ一覧!U195","v":54},null,null,{"$f":"データ一覧!U139","v":"…"},null,null,{"$f":"データ一覧!U196","v":"…"},null,null,"卸売業",null,null,null,{"$f":"データ一覧!U302","v":10},null,null,{"$f":"データ一覧!U311","v":44},null,null,{"$f":"データ一覧!U320","v":1221},null,null,null,null,"項目別歳入歳出予算決算額"]
["医療、福祉",null,null,null,null,null,null,{"$f":"データ一覧!U140","v":"…"},null,null,{"$f":"データ一覧!U197","v":"…"},null,null,{"$f":"データ一覧!U141","v":17},null,null,{"$f":"データ一覧!U198","v":324},null,null,{"$f":"データ一覧!U142","v":"…"},null,null,{"$f":"データ一覧!U199","v":"…"},null,null,"小売業",null,null,null,{"$f":"データ一覧!U303","v":75},null,null,{"$f":"データ一覧!U312","v":370},null,null,{"$f":"データ一覧!U321","v":7110},null,null,null,null,"区分",null,null,null,{"$f":"データ一覧!$A$445","v":"2年度"},null,null,null,null,{"$f":"データ一覧!$A$459","v":"元年度"},null,null,null,null,"区分",null,null,null,{"$f":"+AS71","v":"2年度"},null,null,null,null,{"$f":"データ一覧!$A$459","v":"元年度"},null,null,null,null,null,null,null,null,null,{"$f":"データ一覧!U679","v":139},null,null,null,"   －",{"$f":"データ一覧!U680","v":0},null,{"$f":"データ一覧!U681","v":35},null,null,null,{"$f":"データ一覧!U682","v":0},null,{"$f":"データ一覧!U683","v":16},null,null,{"$f":"データ一覧!U684","v":9},null,null,{"$f":"データ一覧!U685","v":4},null,null,{"$f":"データ一覧!U686","v":13},null,null,{"$f":"データ一覧!U687","v":7},null,null,null,{"$f":"データ一覧!U688","v":0}]
["複合サービス事業",null,null,null,null,null,null,{"$f":"データ一覧!U143","v":"…"},null,null,{"$f":"データ一覧!U200","v":"…"},null,null,{"$f":"データ一覧!U144","v":12},null,null,{"$f":"データ一覧!U201","v":96},null,null,{"$f":"データ一覧!U145","v":"…"},null,null,{"$f":"データ一覧!U202","v":"…"},null,null,"各種商品",null,null,null,{"$f":"データ一覧!U304","v":0},null,null,{"$f":"データ一覧!U313","v":0},null,null,{"$f":"データ一覧!U322","v":0},null,null,null,null,"総額",null,null,null,{"$f":"SUM(AS73:AW85)","v":9076772},null,null,null,null,{"$f":"SUM(AX73:BB85)","v":11529165},null,null,null,null,"総額",null,null,null,{"$f":"SUM(BG73:BK85)","v":9076772},null,null,null,null,{"$f":"SUM(BL73:BP85)","v":10579178},null,null,null,null," １９  警　察　・　消　防  ",null,null,null,null,null,null,null,null,null,null,null,null,null,null,null,{"$f":"+データ一覧!$A689","v":"2.4.1"}]
["サービス業",null,null,null,null,null,null,{"$f":"データ一覧!U146","v":"…"},null,null,{"$f":"データ一覧!U203","v":"…"},null,null,{"$f":"データ一覧!U147","v":50},null,null,{"$f":"データ一覧!U204","v":600},null,null,{"$f":"データ一覧!U148","v":"…"},null,null,{"$f":"データ一覧!U205","v":"…"},null,null,"織物・衣服・身の回り品",null,null,null,{"$f":"データ一覧!U305","v":4},null,null,{"$f":"データ一覧!U314","v":8},null,null,{"$f":"データ一覧!U323","v":33},null,null,null,null,"地方税",null,null,null,{"$f":"データ一覧!U446","v":3856905},null,null,null,null,{"$f":"データ一覧!U460","v":3929817},null,null,null,null,"議会費",null,null,null,{"$f":"データ一覧!U474","v":99726},null,null,null,null,{"$f":"データ一覧!U488","v":95052}]
["公務",null,null,null,null,null,null,{"$f":"データ一覧!U149","v":"…"},null,null,{"$f":"データ一覧!U206","v":"…"},null,null,{"$f":"データ一覧!U150","v":"…"},null,null,{"$f":"データ一覧!U207","v":"…"},null,null,{"$f":"データ一覧!U151","v":"…"},null,null,{"$f":"データ一覧!U208","v":"…"},null,null,"飲食料品",null,null,null,{"$f":"データ一覧!U306","v":30},null,null,{"$f":"データ一覧!U315","v":187},null,null,{"$f":"データ一覧!U324","v":3248},null,null,null,null,"地方譲与税",null,null,null,{"$f":"データ一覧!U447","v":49701},null,null,null,null,{"$f":"データ一覧!U461","v":52591},null,null,null,null,"総務費",null,null,null,{"$f":"データ一覧!U475","v":1455907},null,null,null,null,{"$f":"データ一覧!U489","v":2098668},null,null,null,null,null,null,null,null,null,null,null,null,null,null,"交番・駐在所",null,null,null,null,null,null,null,null,"刑法犯認知件数",null,null,null,null,null,null,null,null,"交通人身事故発生件数"]
["  ４  農        　　　業 ",null,null,null,null,null,null,null,null,null,null,null,null,null,null,null,null,null,null,null,null,null,null,null,null,"機械器具",null,null,null,{"$f":"データ一覧!U307","v":12},null,null,{"$f":"データ一覧!U316","v":37},null,null,{"$f":"データ一覧!U325","v":429},null,null,null,null,"各種交付金",null,null,null,{"$f":"データ一覧!U448","v":214469},null,null,null,null,{"$f":"データ一覧!U462","v":209472},null,null,null,null,"民生費",null,null,null,{"$f":"データ一覧!U476","v":1829798},null,null,null,null,{"$f":"データ一覧!U490","v":1934693},null,null,null,null,null,"警察署数",null,null,null,null,null,null,null,null,"検問所数",null,null,null,null,null,null,null,null,null,{"$f":"データ一覧!$A$691","v":"元年中"},null,null,null,null,null,null,null,null,{"$f":"データ一覧!$A$691","v":"元年中"}]
[null,null,null,null,null,null,null,null,null,null,null,null,null,null,null,null,null,null,null,null,null,null,null,null,null,"その他",null,null,null,{"$f":"データ一覧!U308","v":29},null,null,{"$f":"データ一覧!U317","v":138},null,null,{"$f":"データ一覧!U326","v":3399},null,null,null,null,"地方特例交付金",null,null,null,{"$f":"データ一覧!U449","v":7400},null,null,null,null,{"$f":"データ一覧!U463","v":48534},null,null,null,null,"衛生費",null,null,null,{"$f":"データ一覧!U477","v":691381},null,null,null,null,{"$f":"データ一覧!U491","v":849952},null,null,null,null,null,null,null,null,null,null,null,null,null,null,null,null,null,null,null,null,null,null,null,null,null,null,null,null," 件",null,null,null,null,null,null,null,null,"　件"]
[null,null,"農家人口と世帯員数(販売農家)",null,null,null,null,null,null,null,"農家世帯の就業状態（販売農家）",null,null,null,null,null,null,null,null,null,null,null,null,null,null,"無店舗",null,null,null,{"$f":"データ一覧!U309","v":0},null,null,{"$f":"データ一覧!U318","v":0},null,null,{"$f":"データ一覧!U327","v":0},null,null,null,null,"地方交付税",null,null,null,{"$f":"データ一覧!U450","v":50000},null,null,null,null,{"$f":"データ一覧!U464","v":11961},null,null,null,null,"労働費",null,null,null,{"$f":"データ一覧!U478","v":40339},null,null,null,null,{"$f":"データ一覧!U492","v":43431},null,null,null,null,null,null,{"$f":"データ一覧!U689","v":0},null,null,null,null,null,null,null,null,{"$f":"データ一覧!U690","v":3},null,null,null,null,null,null,null,null,{"$f":"データ一覧!U691","v":34},null,null,null,null,null,null,null,null,{"$f":"データ一覧!U692","v":14}]
["農","平",null,null,null,null,null,null,null,null,"農業従事者",null,null,null,null,null,null,null,null,"非農業従事",null,null,"農業従事者",null,null,null,null,null,null,null,null,null,null,null,null,null,null,null,null,null,"分担金および負担金",null,null,null,{"$f":"データ一覧!U451","v":30782},null,null,null,null,{"$f":"データ一覧!U465","v":404682},null,null,null,null,"農林水産業費",null,null,null,{"$f":"データ一覧!U479","v":1111198},null,null,null,null,{"$f":"データ一覧!U493","v":1249966},null,null,null,null,"火災発生件数",null,null,null,null,null,null,null,null,null,"林野焼損",null,null,null,null,"損      害",null,null,null,null,"消 防 自",null,null,null,"その他の",null,null,null," ",null,null,null,null," "]
["家",{"$f":"+LEFT(データ一覧!$A$209,2)","v":"27"},"区分",null,"農家人口",null,null,"15歳以上の",null,null,null,null,null,"農業就業人口",null,null,null,null,null,"者",null,null,"の平均年齢",null,null,"  ８  住　　　　　　 　宅",null,null,null,null,null,null,null,null,null,null,null,null,null,null,"使用料および手数料",null,null,null,{"$f":"データ一覧!U452","v":70939},null,null,null,null,{"$f":"データ一覧!U466","v":82450},null,null,null,null,"商工費",null,null,null,{"$f":"データ一覧!U480","v":409276},null,null,null,null,{"$f":"データ一覧!U494","v":428417},null,null,null,null,{"$f":"+データ一覧!$A$693","v":"元年中"},null,null,null,null,"焼損棟数",null,null,null,null,"面    積",null,null,null,null,"見  積  額",null,null,null,null,"動 車 数",null,null,null,"ﾎﾟﾝﾌﾟ数",null,null,null," 消防吏員",null,null,null," 消防団員"]
["人就 ","・",null,null,null,null,null,"世帯員数",null,null,null,null,null,null,null,null,"基幹的農業",null,null,null,null,null,null,null,null,null,null,null,null,null,null,null,null,null,null,null,null,null,null,null,"国庫支出金",null,null,null,{"$f":"データ一覧!U453","v":2103504},null,null,null,null,{"$f":"データ一覧!U467","v":2827070},null,null,null,null,"土木費",null,null,null,{"$f":"データ一覧!U481","v":2062299},null,null,null,null,{"$f":"データ一覧!U495","v":2440015},null,null,null,null,"         件",null,null,null,null,null,"      棟",null,null,null,null,null,null,"  ａ",null,null,null,"  千円",null,null,"        ",null,null,null,null,null,null,null,null,null,"  人",null,null,null,"  人"]
["口業 ",{"$f":"+MID(データ一覧!$A$209,4,1)","v":"2"},null,null,null,null,"人",null,null,"人",null,null,"人",null,null,"人","従事者",null,"人",null,null,"人",null,null,"歳",{"$f":"+データ一覧!$A$328","v":"30年"},null,null,null,null,{"$f":"データ一覧!$A$331","v":"元年"},"中の増減",null,null,null,{"$f":"+データ一覧!$A$331","v":"元年"},null,null,null,null,"県支出金",null,null,null,{"$f":"データ一覧!U454","v":1696972},null,null,null,null,{"$f":"データ一覧!U468","v":2103574},null,null,null,null,"消防費",null,null,null,{"$f":"データ一覧!U482","v":321849},null,null,null,null,{"$f":"データ一覧!U496","v":316912},null,null,null,null,null,{"$f":"データ一覧!U693","v":4},null,null,null,null,{"$f":"データ一覧!U694","v":2},null,null,null,null,{"$f":"データ一覧!U695","v":0},null,null,null,{"$f":"データ一覧!U696","v":33},null,null,null,null,null,{"$f":"データ一覧!U697","v":3},null,null,null,{"$f":"データ一覧!U698","v":23},null,null,null,{"$f":"データ一覧!U699","v":16},null,null,null,{"$f":"データ一覧!U700","v":148}]
["と状 ","・"," 総数",null,{"$f":"データ一覧!U209","v":1026},null,null,{"$f":"データ一覧!U212","v":919},null,null,{"$f":"データ一覧!U215","v":690},null,null,{"$f":"データ一覧!U218","v":316},null,null,{"$f":"データ一覧!U221","v":282},null,null,{"$f":"データ一覧!U224","v":229},null,null,{"$f":"データ一覧!U227","v":60.2},null,null,null,null,null,null,"建設した住宅",null,null,"消失した住宅",null,null,null,null,null,null,null,"財産収入",null,null,null,{"$f":"データ一覧!U455","v":42123},null,null,null,null,{"$f":"データ一覧!U469","v":50089},null,null,null,null,"教育費",null,null,null,{"$f":"データ一覧!U483","v":759950},null,null,null,null,{"$f":"データ一覧!U497","v":837356},null,null,null,null," ２０  そ　　　の　　　他　"]
["  況 ",{"$f":"+RIGHT(データ一覧!$A$209,1)","v":"1"},"　男",null,{"$f":"データ一覧!U210","v":497},null,null,{"$f":"データ一覧!U213","v":446},null,null,{"$f":"データ一覧!U216","v":375},null,null,{"$f":"データ一覧!U219","v":146},null,null,{"$f":"データ一覧!U222","v":139},null,null,{"$f":"データ一覧!U225","v":71},null,null,{"$f":"データ一覧!U228","v":58.7},null,null,null,null,null,null,null,null,null,null,null,null,null,null,null,null,null,"繰入金",null,null,null,{"$f":"データ一覧!U456","v":136687},null,null,null,null,{"$f":"データ一覧!U470","v":111375},null,null,null,null,"災害復旧費",null,null,null,{"$f":"データ一覧!U484","v":0},null,null,null,null,{"$f":"データ一覧!U498","v":6981}]
[null,null,"　女",null,{"$f":"データ一覧!U211","v":529},null,null,{"$f":"データ一覧!U214","v":473},null,null,{"$f":"データ一覧!U217","v":315},null,null,{"$f":"データ一覧!U220","v":170},null,null,{"$f":"データ一覧!U223","v":143},null,null,{"$f":"データ一覧!U226","v":158},null,null,{"$f":"データ一覧!U229","v":62},null,null,null,{"$f":"データ一覧!U328","v":5229},null,"戸",{"$f":"データ一覧!U329","v":45},null,"戸",{"$f":"データ一覧!U330","v":54},null,"戸",null,{"$f":"データ一覧!U331","v":5220},null,"戸",null,"地方債",null,null,null,{"$f":"データ一覧!U457","v":142800},null,null,null,null,{"$f":"データ一覧!U471","v":171600},null,null,null,null,"公債費",null,null,null,{"$f":"データ一覧!U485","v":288778},null,null,null,null,{"$f":"データ一覧!U499","v":275725},null,null,null,null,null,null,null,null,null,"若狭湾国定公園（若狭和田、白浜、鳥居浜、城山、若宮、三松、難波江海水浴場、"]
[null,null,null,null,null,null,null,null,null,null,null,null,null,null,null,null,null,null,null,null,null,null,null,null,null,null,null,null,null,null,null,null,null,null,null,null,null,null,null,null,"その他",null,null,null,{"$f":"データ一覧!U458","v":674490},null,null,null,null,{"$f":"データ一覧!U472","v":1525950},null,null,null,null,"その他",null,null,null,{"$f":"データ一覧!U486","v":6271},null,null,null,null,{"$f":"データ一覧!U500","v":2010},null,null,null,null,"　名所・旧跡",null,null,null,null,"今戸鼻、高浜八穴（明鏡洞）)、中山寺本堂・木造金剛力士立像、金剛力士像（中山寺）、"]
[null,null,"総農家数等",null,null,null,null,null,null,"専兼業別（販売農家）",null,null,null,null,null,null,null,"経営面積規模別（販売農家）",null,null,null,null,null,null,null,null,null,null,null,null,null,null,null,null,null,null,null,null,null,null,null,null,null,null,null,null,null,null,null,null,null,null,null,null,null,null,null,null,null,null,null,null,null,null,null,null,null,null,"  文化財等",null,null,null,null,"馬頭観音坐像（馬居寺）、杉森神社のオハツキイチョウ（六路谷）、"]
[null,"平","区　分",null,null,null,"戸数（戸）",null,null,"区　分",null,null,null,null,"戸数（戸）",null,null,"区　　分",null,null,null,null,"戸数（戸）",null,null,"  ９  議　 員　・　職 　員",null,null,null,null,null,null,null,null,null,null,null,null,null,null," １４  文　　　　　　化",null,null,null,null,null,null,null,null,null," ( ",{"$f":"データ一覧!$A$507","v":"2.3.31"},null,null,null,"ただし図書館・公民館・児童館",null,null,null,null,null,null,null,{"$f":"データ一覧!$A$501","v":"2.4.1"},null,null,null,null,null,null,null,null,null,"オオキンレイカ群落（青葉山）\t\t\t\t\t\t\t\t\t\t\t\t\t\t\t\t\t\t\t\t\t\t\t\t\t\t\t\t\t\t"]
["農",{"$f":"+LEFT(データ一覧!$A$230,2)","v":"27"},"総農家",null,null,null,{"$f":"データ一覧!U230","v":536},null,null,"総数",null,null,null,null,{"$f":"データ一覧!U236","v":254},null,null,"総数",null,null,null,null,{"$f":"データ一覧!U241","v":254},null,null,null,null,null,null,null,null,null,null,null,null,null,null,null,null,null,null,null,null,null,null,null,null,null,null,null,null,null,null,null,null,null,"　宗教法人数 ",null,null,null,null,null,null,{"$f":"データ一覧!$A$509","v":"元.12.31"},null,null,null,"）","　　特産物",null,null,null,null,"若狭漬、かまぼこ、若狭ふぐ、杜仲茶、五色貝、煮干し、マハタ"]
["家","・","販売農家",null,null,null,{"$f":"データ一覧!U231","v":254},null,null,"専業農家",null,null,null,null,{"$f":"データ一覧!U237","v":44},null,null,"0.5 ha 未満",null,null,null,null,{"$f":"データ一覧!U242","v":77},null,null," 市 町 村 議 会",null,null,"有権者数",null,{"$f":"データ一覧!$A$335","v":"2.9.1"},null,"市 町 村 議 会",null,null,"  職      員      数",null,null,null,null,null,null,null,null,null,"図書館",null,null,null,null,null,"公　民　館",null,null,null,null,null,null,null,null,null,null," 社会教育学級講座",null,null,null,null,null,null,null,null,null,null,"さばへしこ、若狭ぐじ、若狭たかはま鮨、鎌倉ぶどう"]
["数",{"$f":"+MID(データ一覧!$A$230,4,1)","v":"2"},null,"主業",null,null,{"$f":"データ一覧!U232","v":11},null,null,"兼業農家",null,null,null,null,{"$f":"データ一覧!U238","v":210},null,null,"0.5 ha ～ 1.0 ha",null,null,null,null,{"$f":"データ一覧!U243","v":113},null,null," 議  員  定  数",null,null,"    男",null,"    女",null,"選 挙 投 票 率",null,null," 総     数",null,"一般行政職",null,null,"公    共",null,null,null," 館  数",null,null," 図書数",null,null," 本  館",null,null," 分  館",null,null," 公  園",null,null," 児童館",null,null,"学級講座数",null,null,"受講者数",null,null," 　年中行事",null,null,null,null,"海水浴場海開き、花火大会、秋祭、若狭たかはま漁火想、産業まつり、"]
[null,"・",null,"準主業",null,null,{"$f":"データ一覧!U233","v":47},null,null,null,"第１種兼業",null,null,null,{"$f":"データ一覧!U239","v":15},null,null,"1.0 ha ～ 1.5 ha",null,null,null,null,{"$f":"データ一覧!U244","v":40},null,null,null,null,"人",null,"人",null,"人",null,null,"　％",null,"人",null,"人",null,"施 設 数",null,null,null,null,{"$f":"データ一覧!U501","v":1},null,{"$f":"データ一覧!U502","v":90313},null,null,{"$f":"データ一覧!U503","v":4},null,null,{"$f":"データ一覧!U504","v":0},null,null,{"$f":"データ一覧!U505","v":1},null,null,{"$f":"データ一覧!U506","v":1},null,null,{"$f":"データ一覧!U507","v":265},null,null,{"$f":"データ一覧!U508","v":3982},null,null,null,null,null,null,null,"ビーチラグビー中部大会、はまなすマラソン、ふれあい広場、"]
[null,{"$f":"+RIGHT(データ一覧!$A$230,1)","v":"1"},null,"副業的",null,null,{"$f":"データ一覧!U234","v":196},null,null,null,"第２種兼業",null,null,null,{"$f":"データ一覧!U240","v":195},null,null,"1.5 ha ～ 2.0 ha",null,null,null,null,{"$f":"データ一覧!U245","v":15},null,null,null,{"$f":"データ一覧!U332","v":14},null,{"$f":"データ一覧!U335","v":4311},null,{"$f":"データ一覧!U336","v":4251},null,{"$f":"データ一覧!U334","v":71.56},null,null,{"$f":"データ一覧!U337","v":195},null,{"$f":"データ一覧!U338","v":123},null,null,"宗    教",null,null,null," 仏教系",null,null,"ｷﾘｽﾄ教系",null,null,"神道諸派",null,null,"公会堂・市民会館",null,null,null,null,null," テレビ",null,null,"衛星放送契約数",null,null,null,null,null,null,null,null,null,null,"高浜七年祭（６年に一度。次の開催は令和7年）、若狭高浜ふぐまつり、"]
[null,null,"自給的農家",null,null,null,{"$f":"データ一覧!U235","v":282},null,null,null,null,null,null,null,null,null,null,"2.0 ha 以上",null,null,null,null,{"$f":"データ一覧!U246","v":9},null,null,null,null,null,null,null,null,null,{"$f":"データ一覧!U333","v":"31.4.21"},null,null,null,null,null,null,null,"法 人 数",null,null,null,{"$f":"データ一覧!U509","v":39},null,null,{"$f":"データ一覧!U510","v":1},null,null,{"$f":"データ一覧!U511","v":26},null,null,{"$f":"データ一覧!U512","v":1},null,null,null,null,null,"      等",null,null,{"$f":"データ一覧!U513","v":1386},null,null,null,null,null,null,null,null,null,null,"和田ｄｅ路地祭、ドコイコ・ナニシヨ・ミニツアー（釈宗演、ひな祭り等）"]

{"sheet":"おおい町","index":20,"n_rows":93,"n_cols":104,"rows_kept":93,"cut":false,"hidden":false,"merged":[[17,25,17,27],[18,25,18,27],[29,41,29,47],[29,61,29,65],[28,41,28,47],[28,50,28,52],[29,50,29,52],[25,37,26,38],[26,25,26,26],[26,27,26,28],[27,25,27,26],[27,27,27,28],[27,35,27,36],[27,37,27,38],[25,35,26,36],[26,41,26,47],[26,50,26,52],[26,54,26,57],[26,61,26,65],[27,41,27,47],[18,28,18,30],[19,25,19,28],[19,29,19,31],[20,50,20,52],[20,54,20,57],[20,25,20,28],[22,41,22,47],[22,50,22,52],[22,25,22,28],[23,25,23,28],[27,54,27,57],[27,61,27,65],[25,78,25,81],[27,92,27,95],[27,96,27,99],[27,100,27,103],[25,96,25,99],[26,100,26,103],[25,87,25,91],[56,40,56,43],[57,40,57,43],[60,40,60,43],[59,44,59,59],[73,78,73,84],[73,87,73,93],[73,96,73,102],[60,36,60,37],[61,29,61,30],[65,44,65,50],[65,54,65,57],[65,58,65,64],[66,40,66,67],[67,44,67,48],[64,69,64,72],[70,92,70,94],[70,78,70,79],[63,85,63,87],[63,90,63,92],[63,100,63,102],[63,95,63,97],[63,75,63,77],[70,89,70,91],[25,100,25,103],[27,74,27,77],[27,22,27,24],[27,29,27,30],[27,31,27,32],[75,25,75,28],[70,32,70,33],[51,29,51,32],[51,33,51,35],[55,25,55,30],[55,35,55,38],[55,31,55,34],[51,36,51,38],[34,18,34,19],[34,5,34,7],[34,8,34,10],[34,11,34,13],[34,14,34,16],[34,20,34,21],[44,29,44,30],[48,13,48,15],[63,22,63,24],[61,19,61,21],[61,22,61,24],[66,0,66,6],[73,13,73,15],[73,16,73,18],[71,32,71,33],[62,19,62,21],[69,16,69,18],[58,13,58,15],[46,0,46,1],[58,7,58,9],[46,29,46,30],[36,36,36,37],[27,50,27,52],[21,29,21,31],[21,32,21,34],[21,35,21,38],[22,32,22,34],[22,35,22,38],[23,29,23,31],[23,32,23,34],[23,35,23,38],[22,29,22,31],[24,29,24,30],[24,31,24,32],[24,33,24,34],[24,35,24,36],[24,37,24,38],[72,35,72,37],[69,35,69,37],[57,31,57,33],[57,35,57,37],[45,32,45,35],[69,32,69,33],[68,35,68,37],[72,29,72,30],[68,44,68,48],[72,16,72,18],[64,0,64,6],[70,22,70,24],[67,22,67,24],[71,16,71,18],[61,0,61,6],[62,0,62,6],[63,0,63,6],[46,36,46,37],[53,36,53,37],[62,29,62,30],[47,7,47,9],[47,10,47,12],[47,13,47,15],[47,16,47,18],[47,19,47,21],[47,22,47,24],[48,19,48,21],[48,22,48,24],[56,0,56,6],[57,7,57,9],[56,22,56,24],[71,25,71,28],[55,0,55,6],[57,13,57,15],[60,29,60,30],[57,10,57,12],[71,0,71,6],[57,0,57,6],[58,0,58,6],[58,10,58,12],[60,0,60,6],[24,0,25,24],[25,29,26,30],[25,25,25,26],[25,31,26,32],[25,27,25,28],[36,29,36,30],[35,8,35,10],[35,11,35,13],[35,14,35,16],[35,18,35,19],[35,20,35,21],[44,32,44,35],[41,22,41,24],[41,10,41,12],[41,32,41,35],[44,0,45,1],[27,0,27,4],[35,22,35,24],[35,29,35,30],[27,33,27,34],[30,5,30,7],[30,8,30,10],[30,11,30,13],[30,14,30,16],[32,14,32,16],[31,5,31,7],[31,8,31,10],[31,11,31,13],[31,14,31,16],[32,5,32,7],[33,14,33,16],[33,5,33,7],[22,74,22,77],[22,78,22,81],[22,82,22,85],[29,5,29,7],[26,92,26,95],[26,96,26,99],[50,0,51,24],[40,16,40,18],[42,16,42,18],[42,22,42,24],[33,18,33,19],[33,20,33,21],[33,8,33,10],[33,11,33,13],[51,25,51,28],[21,41,21,47],[21,50,21,52],[21,92,21,95],[21,54,21,57],[21,61,21,65],[25,92,25,95],[30,18,30,19],[25,41,25,47],[25,50,25,52],[25,54,25,57],[25,61,25,65],[29,92,29,95],[29,96,29,99],[30,50,30,52],[33,50,33,52],[33,54,33,57],[22,7,22,8],[21,100,21,103],[21,96,21,99],[22,100,22,103],[23,61,23,65],[22,96,22,99],[25,33,26,34],[47,0,47,1],[48,0,48,1],[40,22,40,24],[42,4,42,6],[42,7,42,9],[5,0,5,9],[6,0,8,9],[14,25,15,25],[14,26,15,28],[15,29,15,30],[15,32,15,33],[14,0,15,24],[14,68,15,82],[14,83,15,96],[40,13,40,15],[23,11,23,13],[23,16,23,18],[23,21,23,23],[26,22,26,24],[30,96,30,99],[30,92,30,95],[17,92,17,95],[29,8,29,10],[30,20,30,21],[30,22,30,24],[29,22,29,24],[17,101,17,102],[19,41,19,47],[19,50,19,52],[19,54,19,57],[19,61,19,65],[17,41,17,47],[17,49,17,53],[17,54,17,58],[17,60,17,66],[19,96,19,99],[16,75,16,96],[16,32,16,33],[16,36,16,37],[17,32,17,34],[17,36,17,38],[17,69,17,72],[17,74,17,77],[17,83,17,84],[17,87,17,90],[19,82,19,85],[19,100,19,103],[19,74,19,77],[19,78,19,81],[19,92,19,95],[19,32,19,34],[19,35,19,38],[18,31,18,34],[18,35,18,38],[20,11,20,13],[20,16,20,18],[20,21,20,23],[20,74,20,77],[20,78,20,81],[20,82,20,85],[20,87,20,91],[21,74,21,77],[21,78,21,81],[21,82,21,85],[21,87,21,91],[23,100,23,103],[23,92,23,95],[23,96,23,99],[22,92,22,95],[22,69,22,73],[22,87,22,91],[23,69,23,73],[22,54,22,57],[22,61,22,65],[20,92,20,95],[20,96,20,99],[20,100,20,103],[20,61,20,65],[20,41,20,47],[20,29,20,31],[20,32,20,34],[20,35,20,38],[21,25,21,28],[23,41,23,47],[23,50,23,52],[23,54,23,57],[23,74,23,77],[23,78,23,81],[23,82,23,85],[23,87,23,91],[24,100,24,103],[24,41,24,47],[24,50,24,52],[24,54,24,57],[24,61,24,65],[24,87,24,91],[24,92,24,95],[24,96,24,99],[24,69,24,73],[24,74,24,77],[24,78,24,81],[24,82,24,85],[24,27,24,28],[27,78,27,81],[27,82,27,85],[27,87,27,91],[26,69,26,73],[26,74,26,77],[26,78,26,81],[26,82,26,85],[26,87,26,91],[27,69,27,73],[25,82,25,85],[25,74,25,77],[29,54,29,57],[29,11,29,13],[32,100,32,103],[28,61,28,65],[28,92,28,95],[30,54,30,57],[30,61,30,65],[31,54,31,57],[32,69,32,73],[32,74,32,77],[32,78,32,81],[32,82,32,85],[28,96,28,99],[28,100,28,103],[28,54,28,57],[28,69,28,73],[30,100,30,103],[31,100,31,103],[29,100,29,103],[28,74,28,77],[28,78,28,81],[28,82,28,85],[28,87,28,91],[30,74,30,77],[30,78,30,81],[30,82,30,85],[30,87,30,91],[29,87,29,91],[30,69,30,73],[29,74,29,77],[29,78,29,81],[29,82,29,85],[33,84,34,97],[32,92,32,95],[32,96,32,99],[31,92,31,95],[31,18,31,19],[31,20,31,21],[31,22,31,24],[32,50,32,52],[32,54,32,57],[32,41,32,47],[31,41,31,47],[33,61,33,65],[31,50,31,52],[31,61,31,65],[30,41,30,47],[31,96,31,99],[33,68,34,81],[32,61,32,65],[34,61,34,65],[33,41,33,47],[31,69,31,73],[31,74,31,77],[31,78,31,81],[31,82,31,85],[38,41,38,47],[41,50,41,52],[41,54,41,57],[41,61,41,65],[36,54,36,57],[36,61,36,65],[38,54,38,57],[38,50,38,52],[40,41,40,47],[40,50,40,52],[33,22,33,24],[35,36,35,37],[35,41,35,47],[34,22,34,24],[34,54,34,57],[34,36,34,37],[34,29,34,30],[32,22,32,24],[34,41,34,47],[37,41,37,47],[37,50,37,52],[37,54,37,57],[36,41,36,47],[39,41,39,47],[39,50,39,52],[35,50,35,52],[35,54,35,57],[36,50,36,52],[41,41,41,47],[32,18,32,19],[32,20,32,21],[32,8,32,10],[32,11,32,13],[40,32,40,35],[40,4,40,6],[43,41,43,47],[40,19,40,21],[41,4,41,6],[41,7,41,9],[41,16,41,18],[34,50,34,52],[35,5,35,7],[42,94,42,96],[42,76,42,78],[42,80,42,83],[41,86,41,92],[42,86,42,92],[40,68,41,74],[40,80,41,83],[40,54,40,57],[40,76,41,78],[42,32,42,35],[35,94,35,96],[39,54,39,57],[37,80,37,83],[38,68,38,74],[39,94,39,96],[36,80,36,83],[36,86,36,92],[36,94,36,96],[36,76,36,78],[40,2,40,3],[40,61,40,65],[41,29,41,30],[40,36,40,37],[41,13,41,15],[41,36,41,37],[42,10,42,12],[42,13,42,15],[40,7,40,9],[40,10,40,12],[41,19,41,21],[48,51,48,54],[48,16,48,18],[49,69,49,76],[48,57,48,60],[48,63,48,66],[46,100,46,103],[45,85,45,90],[43,68,44,83],[45,93,45,102],[48,69,48,76],[48,78,48,80],[48,81,48,83],[48,84,48,87],[48,92,48,95],[48,96,48,99],[42,98,42,101],[42,68,42,74],[43,84,44,103],[42,61,42,65],[45,58,45,62],[43,61,43,65],[46,70,46,75],[46,96,46,99],[43,54,43,57],[44,25,44,28],[45,25,45,28],[42,50,42,52],[42,54,42,57],[42,36,42,37],[44,36,44,37],[45,29,45,30],[42,41,42,47],[50,100,50,103],[50,92,50,95],[50,88,50,91],[51,96,51,99],[51,100,51,103],[50,84,50,87],[48,100,48,103],[50,56,50,58],[50,78,50,80],[50,81,50,83],[50,69,50,76],[50,64,50,67],[49,59,49,62],[49,100,49,103],[49,78,49,80],[49,81,49,83],[45,36,45,37],[43,50,43,52],[46,25,46,28],[49,55,49,58],[49,63,49,67],[49,92,49,95],[49,96,49,99],[49,40,49,46],[49,47,49,50],[48,7,48,9],[48,10,48,12],[55,69,55,76],[55,78,55,80],[55,92,55,95],[54,60,54,67],[54,56,54,59],[50,48,50,50],[54,69,54,76],[55,44,55,46],[49,51,49,54],[50,51,50,54],[55,60,55,63],[53,33,53,34],[55,7,55,9],[53,25,53,27],[53,29,53,31],[50,25,50,28],[50,29,50,32],[50,33,50,38],[53,69,53,76],[53,78,53,80],[54,81,54,83],[54,25,54,32],[55,64,55,66],[55,16,55,18],[55,22,55,24],[59,0,59,6],[59,10,59,12],[58,40,58,43],[58,53,58,55],[58,22,58,24],[57,22,57,24],[58,59,58,61],[70,0,70,6],[69,0,69,6],[60,50,60,54],[60,16,60,18],[60,7,60,9],[67,0,67,6],[68,0,68,6],[58,56,58,58],[71,7,71,9],[68,7,68,9],[66,19,66,21],[68,49,68,53],[68,54,68,57],[69,25,69,28],[70,35,70,37],[67,58,67,62],[61,44,61,49],[61,55,61,59],[59,19,59,21],[59,16,59,18],[67,54,67,57],[59,7,59,9],[70,49,70,53],[68,19,68,21],[57,56,57,58],[58,16,58,18],[65,7,65,9],[69,10,69,12],[63,13,63,15],[60,13,60,15],[68,10,68,12],[60,64,60,67],[71,40,71,43],[67,16,67,18],[64,16,64,18],[66,22,66,24],[65,22,65,24],[70,25,70,28],[60,98,60,103],[60,86,60,91],[60,92,60,97],[67,98,67,103],[68,101,68,103],[70,86,70,88],[68,77,68,79],[67,83,67,85],[68,58,68,62],[67,49,67,53],[61,64,61,67],[65,69,65,72],[67,40,67,43],[65,40,65,43],[65,94,65,97],[65,74,65,77],[60,22,60,24],[67,63,67,67],[68,40,68,43],[62,69,62,72],[60,60,60,63],[60,55,60,59],[57,68,58,103],[62,94,62,96],[62,76,62,78],[62,82,62,84],[62,100,62,102],[62,88,62,90],[61,69,61,72],[61,81,61,84],[66,77,66,91],[59,13,59,15],[67,68,70,72],[68,73,68,76],[67,80,67,82],[70,58,70,62],[69,40,69,67],[70,44,70,48],[70,40,70,43],[70,54,70,57],[70,73,70,76],[68,86,68,88],[67,89,67,91],[68,89,68,91],[68,80,68,82],[68,83,68,85],[68,92,68,94],[70,63,70,67],[65,89,65,92],[60,19,60,21],[65,99,65,102],[70,95,70,97],[68,95,68,97],[65,79,65,82],[65,84,65,87],[71,63,71,67],[78,83,78,87],[79,49,79,53],[78,68,78,72],[80,74,80,76],[78,54,78,57],[78,58,78,62],[78,88,78,91],[80,97,80,99],[80,69,80,71],[76,97,76,100],[77,88,77,91],[77,49,77,53],[78,49,78,53],[77,92,77,95],[74,63,74,67],[75,63,75,67],[76,63,76,67],[74,58,74,62],[74,78,74,84],[74,88,74,92],[74,97,74,101],[70,98,70,100],[72,58,72,62],[71,49,71,53],[71,58,71,62],[72,49,72,53],[70,101,70,103],[74,35,74,37],[61,16,61,18],[63,19,63,21],[62,16,62,18],[74,44,74,48],[73,63,73,67],[75,29,75,30],[73,40,73,43],[75,49,75,53],[76,49,76,53],[76,54,76,57],[73,44,73,48],[76,29,76,30],[70,80,70,82],[70,84,70,85],[74,54,74,57],[76,79,76,82],[74,40,74,43],[76,58,76,62],[75,58,75,62],[75,54,75,57],[75,44,75,48],[75,40,75,43],[74,69,74,75],[62,22,62,24],[61,50,61,54],[61,40,61,43],[61,36,61,37],[66,35,66,38],[71,35,71,37],[65,19,65,21],[72,22,72,24],[80,40,80,43],[78,40,78,43],[78,44,78,48],[71,54,71,57],[71,84,72,103],[77,44,77,48],[81,68,82,103],[81,63,81,67],[80,101,80,103],[78,100,78,103],[82,58,82,62],[71,68,72,83],[73,49,73,53],[73,54,73,57],[73,58,73,62],[81,58,81,62],[80,79,80,81],[79,58,79,62],[77,63,77,67],[77,58,77,62],[79,102,79,103],[79,63,79,67],[80,58,80,62],[80,63,80,67],[78,63,78,67],[76,40,76,43],[78,73,78,77],[79,54,79,57],[80,89,80,91],[77,78,77,82],[78,96,78,99],[81,49,81,53],[76,2,76,9],[69,22,69,24],[73,19,73,21],[73,22,73,24],[74,0,75,24],[73,0,73,6],[81,32,81,34],[72,0,72,6],[70,16,70,18],[69,13,69,15],[71,22,71,24],[68,13,68,15],[64,22,64,24],[65,0,65,6],[67,10,67,12],[67,7,67,9],[83,4,83,6],[83,7,83,9],[83,10,83,12],[83,13,83,15],[74,29,74,30],[67,19,67,21],[66,7,66,9],[66,10,66,12],[74,25,74,28],[83,16,83,18],[83,19,83,21],[81,16,81,18],[81,19,81,21],[81,22,81,24],[82,4,82,6],[82,7,82,9],[88,32,88,34],[88,62,88,67],[87,73,89,103],[83,49,83,53],[82,63,82,67],[81,40,81,43],[82,40,82,43],[79,40,79,43],[77,40,77,43],[83,32,83,33],[76,32,76,33],[75,32,75,33],[68,16,68,18],[67,13,67,15],[65,13,65,15],[75,35,75,37],[74,32,74,33],[77,54,77,57],[72,54,72,57],[68,22,68,24],[76,44,76,48],[72,40,72,43],[71,44,71,48],[72,63,72,67],[83,58,83,62],[83,73,86,103],[80,93,80,95],[78,78,78,82],[79,98,79,99],[78,92,78,95],[80,83,80,87],[77,83,77,87],[84,40,84,43],[84,44,84,48],[83,26,83,27],[83,36,83,37],[83,40,83,43],[83,29,83,30],[80,35,81,38],[80,25,81,28],[76,70,76,73],[76,35,76,37],[76,88,76,91],[55,10,55,12],[72,13,72,15],[71,13,71,15],[70,13,70,15],[62,13,62,15],[55,13,55,15],[64,19,64,21],[66,32,66,34],[70,29,70,30],[81,29,81,31],[72,32,72,33],[68,32,68,33],[69,19,69,21],[73,25,73,28],[73,32,73,33],[70,19,70,21],[72,19,72,21],[71,29,71,30],[68,29,68,30],[55,19,55,21],[81,44,81,48],[76,10,76,24],[71,19,71,21],[76,25,76,28],[57,25,57,29],[58,19,58,21],[0,0,0,9],[1,0,3,9],[92,40,92,43],[92,44,92,46],[92,47,92,49],[40,29,40,30],[73,10,73,12],[60,10,60,12],[55,40,55,43],[54,48,54,51],[92,50,92,52],[59,22,59,24],[72,7,72,9],[69,7,69,9],[72,10,72,12],[92,32,92,34],[73,7,73,9],[91,32,91,34],[70,7,70,9],[80,49,80,53],[91,40,91,43],[91,37,91,38],[91,26,91,27],[89,32,89,34],[89,40,89,43],[90,40,90,43],[91,30,91,31],[91,28,91,29],[91,35,91,36],[61,13,61,15],[71,10,71,12],[70,10,70,12],[38,86,38,92],[39,86,39,92],[41,94,41,96],[38,94,38,96],[40,86,40,92],[40,94,40,96],[53,96,53,99],[50,96,50,99],[56,49,56,54],[57,62,57,64],[57,65,57,67],[55,56,55,58],[55,48,55,50],[91,44,91,46],[91,47,91,49],[91,50,91,52],[83,54,83,57],[90,53,90,55],[90,56,90,58],[83,44,83,48],[84,49,84,53],[84,54,84,57],[84,58,84,62],[50,60,50,62],[91,53,91,58],[91,62,91,67],[90,59,90,61],[53,100,53,103],[56,78,56,80],[56,81,56,83],[56,84,56,87],[55,100,55,103],[55,84,55,87],[53,81,53,83],[53,84,53,87],[53,88,53,91],[56,92,56,95],[54,92,54,95],[54,78,54,80],[51,92,51,95],[52,88,52,91],[52,92,52,95],[51,78,51,80],[51,81,51,83],[52,96,52,99],[52,100,52,103],[52,81,52,83],[54,100,54,103],[56,100,56,103],[54,96,54,99],[56,96,56,99],[55,88,55,91],[54,84,54,87],[54,88,54,91],[53,92,53,95],[35,99,35,102],[36,98,36,101],[37,86,37,92],[37,98,37,101],[36,68,36,74],[38,61,38,65],[37,94,37,96],[37,61,37,65],[37,68,37,74],[37,76,37,78],[38,76,38,78],[35,69,35,73],[35,76,35,78],[51,84,51,87],[52,84,52,87],[52,69,52,76],[49,84,49,87],[49,88,49,91],[48,88,48,91],[35,81,35,84],[39,80,39,83],[38,80,38,83],[35,61,35,65],[39,61,39,65],[39,68,39,74],[39,76,39,78],[35,87,35,91],[51,69,51,76],[41,98,41,101],[38,98,38,101],[39,98,39,101],[40,98,40,101],[90,62,90,64],[90,65,90,67],[88,51,88,54],[83,63,83,67],[90,45,90,46],[90,47,90,49],[90,51,90,52],[89,62,89,64],[84,63,84,67],[82,44,82,48],[79,44,79,48],[88,45,88,48],[74,49,74,53],[81,54,81,57],[57,59,57,61],[57,44,57,47],[57,48,57,51],[57,52,57,55],[60,44,60,49],[58,49,58,51],[59,60,59,63],[58,45,58,47],[72,44,72,48],[58,65,58,67],[58,62,58,64],[61,60,61,63],[68,63,68,67],[15,35,15,37],[46,32,46,35],[69,29,69,30],[65,16,65,18],[72,25,72,28],[66,16,66,18],[62,10,62,12],[65,10,65,12],[64,7,64,9],[63,7,63,9],[61,7,61,9],[61,10,61,12]],"merged_total":1089,"flags":["merged_cut"]}
[{"$f":"+データ一覧!V5","v":"おおいぐん"}]
[{"$f":"+データ一覧!V8","v":"大飯郡"}]
[]
[null,null,null,null,null,null,null,null,null,null,null,null,null,null,null,null,null,null,null,null,null,null,null,null,null,null,null,"【町章とそのいわれ】 ",null,null,null,"おおい町のイニシャル「Ｏ」をモチーフに",null,null,null,null,null,null,null,null,null,"【位置および地勢】おおい町は、福井県の南西部に位置し､西は高浜町、京都府",null,null,null,null,null,null,null,null,null,null,null,null,null,null,null,null,null,null,null,null,null,null,null,null,null,null,null,null,null,"所在地",null,null,null,null,null,null,"〒919-2111"]
[null,null,null,null,null,null,null,null,null,null,null,null,null,null,null,null,null,null,null,null,null,null,null,null,null,null,null,null,null,null,null,"デザイン化している。円は和と団結、２つの",null,null,null,null,null,null,null,null,null,"　綾部市、南は南丹市、東は小浜市、滋賀県高島市に接している。佐分利川沿いから",null,null,null,null,null,null,null,null,null,null,null,null,null,null,null,null,null,null,null,null,null,null,null,null,null,null,null,null,null,null,null,null,null,null,null,null,"大飯郡おおい町本郷第１３６号１番地１"]
[{"$f":"+データ一覧!V6","v":"おおいちょう"},null,null,null,null,null,null,null,null,null,null,null,null,null,null,null,null,null,null,null,null,null,null,null,null,null,null,null,null,null,null,"ブルーウェーブは、旧町村の融合を表し、",null,null,null,null,null,null,null,null,null,"　海岸部に向かって開けた平野、南川とその支流沿いの平地、大島の小浜湾岸の"]
[{"$f":"データ一覧!V9","v":"おおい町"},null,null,null,null,null,null,null,null,null,null,null,null,null,null,null,null,null,null,null,null,null,null,null,null,null,null,null,null,null,null,"日本海・若狭湾の雄大な風景や清流と緑",null,null,null,null,null,null,null,null,null,"平地が居住地となっている。",null,null,null,null,null,null,null,null,null,null,null,null,null,null,null,null,null,null,null,null,null,null,null,null,null,null,null,null,null,"電話番号",null,null,null,null,null,null,"（０７７０）７７－１１１１"]
[null,null,null,null,null,null,null,null,null,null,null,null,null,null,null,null,null,null,null,null,null,null,null,null,null,null,null,null,null,null,null,"あふれる大地の恩恵、歴史を背景にやすらぎと",null,null,null,null,null,null,null,null,null,"西側の京都府との県境に標高８７１ｍの頭巾山（とうきんざん）、南側には",null,null,null,null,null,null,null,null,null,null,null,null,null,null,null,null,null,null,null,null,null,null,null,null,null,null,null,null,null,"FAX番号",null,null,null,null,null,null,"     〃     ７７－１２８９"]
[null,null,null,null,null,null,null,null,null,null,null,null,null,null,null,null,null,null,null,null,null,null,null,null,null,null,null,null,null,null,null,"活力にあふれた未来を創造する「おおい町」の",null,null,null,null,null,null,null,null,null,"標高８００ｍの八ヶ峰（はちがみね）、東側の京都府・滋賀県との県境には"]
[null,null,null,null,null,null,null,null,null,null,null,null,null,null,null,null,null,null,null,null,null,null,null,null,null,null,null,null,null,null,null,"姿をイメージしています。",null,null,null,null,null,null,null,null,null,"標高７７６ｍの三国岳（みくにだけ）があり、大島には標高４7８ｍの大山",null,null,null,null,null,null,null,null,null,null,null,null,null,null,null,null,null,null,null,null,null,null,null,null,null,null,null,null,null,"最寄駅および距離",null,null,null,null,null,null,null,"（おおい町役場）　　ＪＲ小浜線若狭本郷駅　下車３００ｍ"]
[null,null,null,null,null,null,null,null,null,null,null,null,null,null,null,null,null,null,null,null,null,null,null,null,null,null,null,null,null,null,null,null,null,null,null,null,null,null,null,null,null,"（おおやま）がある。",null,null,null,null,null,null,null,null,null,null,null,null,null,null,null,null,null,null,null,null,null,null,null,null,null,null,null,null,null,null,null,null,null,null,null,null,null,"（名田庄総合事務所）路線バス流星名田庄総合事務所　下車"]
[]
[null,null,null,null,null,null,null,null,null,null,null,null,null,null,null,null,null,null,null,null,null,null,null,null,null,null,null,"【町が掲げる標語】輝く笑顔がうみだす希望　情熱よせ合うふるさと“おおい”",null,null,null,null,null,null,null,null,null,null,null,null,null,null,null,null,null,null,null,null,null,null,null,null,null,null,null,null,null,null,null,null,null,null,null,null,null,null,null,null,null,null,null,"ホームページ",null,null,null,null,null,null,"http://www.town.ohi.fukui.jp/"]
[]
["  １  土            　　地",null,null,null,null,null,null,null,null,null,null,null,null,null,null,null,null,null,null,null,null,null,null,null,null,{"$f":"データ一覧!$A$247","v":"元年"},"産米収穫量",null,null,"　 収　穫　量",null,null," 　作 付 面 積",null,null,"   10a当たり収量",null,null,null,null,null,null,null,null,null,null,null,null,null,null,null,null,null,null,null,null,null,null,null,null,null,null,null,null,null,null,null,null," １５  労　　　　　　　働",null,null,null,null,null,null,null,null,null,null,null,null,null,null,"27.10.1"]
[null,null,null,null,null,null,null,null,null,null,null,null,null,null,null,null,null,null,null,null,null,null,null,null,null,null,null,null,null,{"$f":"データ一覧!$V$247","v":2080},null,"t",{"$f":"データ一覧!$V$248","v":432},null,"ha",{"$f":"データ一覧!V249","v":482},null,null,"kg",null," １０  工　　　　　　業 ",null,null,null,null,null,null,null,null,null,null,null,null,null,{"$f":"データ一覧!$A$339","v":"元.6.1（平成30年実績）"}]
["   総          面           積",null,null,null,null,null,null,null,null,null," 固 定 資 産 概 要 調 書 に よ る 地 目 別 面 積",null,null,null,null,null,null,null,null,null,null,null,null,null,null,null,null,null,"   総　　　数",null,null,null,"うち　　田",null,null,null,"うち　　畑",null,null,null,null,null,null,null,null,null,null,null,null,null,null,null,null,null,null,null,null,null,null,null,null,null,null,null,null,null,null,null,null,null,null,null,null,null,null,"産業別就業者数   "]
[null,null,{"$f":"データ一覧!$A$10","v":"2.10.1"},null,null,null,null,null,null,null,null,null,null,null,null,null,{"$f":"データ一覧!$A$12","v":"2.1.1"},null,null,null,null,null,null,null,null," 耕  地  面  積",null,null,null,"       ha",null,null,"ha ",null,null,null,"ha ",null,null,null,"      ","産業分類",null,null,null,null,null,null,null,"事業所数",null,null,null,null,"従業者数",null,null,null,null,null,"年間製造品出荷額等",null,null,null,null,null,null,null,null,"区  分",null,null,null,null,"総    数",null,null,null,null,"男",null,null,null,"女",null,null,"  ","区  分",null,null,null,null,"総    数",null,null,null,null,"男",null,null,null,"女"]
[null,null,null,null,null,null,"㎢",null,null,null,"   総       数",null,null,null,null,"  う ち     田",null,null,null,null,"  う ち     畑",null,null,null,null,{"$f":"データ一覧!$A$250","v":"元.7.15"},null,null,{"$f":"データ一覧!$V$250","v":741},null,null,{"$f":"データ一覧!$V$251","v":659},null,null,null,{"$f":"データ一覧!$V$252","v":82},null,null,null,null,null,null,null,null,null,null,null,null,null,"　　   ",null,null,"事業所",null,"　　　　　　　 人",null,null,"人",null,"　　　　　　　　　　　　　　万円",null,null,null,null,null,null,"万円",null,null,null,null,null,null,null,"      人",null,null,null,null,null," 人",null,null,null," 人",null,null,null,null,null,null,null,"      人",null,null,null,"      人",null,null,null,"      人"]
[null,null,null,{"$f":"データ一覧!V10","v":212.19},null,null,null,null,null,null,null,null,null,null,"ha",null,null,null,null,"ha",null,null,null,null,"ha","農 業 生 産 物",null,null,null,"作 付 面 積",null,null,"収 穫 量",null,null,"10a当たり収量",null,null,null,null,"     ","総数",null,null,null,null,null,null,null,null,{"$f":"データ一覧!V339","v":8},null,null,null,{"$f":"+データ一覧!V364","v":189},null,null,null,null,null,null,{"$f":"データ一覧!V389","v":268865},null,null,null,null,null,null," 総　　　数",null,null,null,null,null,{"$f":"CA20+CE20","v":4362},null,null,null,{"$f":"データ一覧!V514","v":2629},null,null,null,{"$f":"データ一覧!V539","v":1733}]
[null,null,null,null,null,null,null,null,null,null,null,{"$f":"データ一覧!V12","v":11807.6},null,null,null,null,{"$f":"データ一覧!V13","v":701.7},null,null,null,null,{"$f":"データ一覧!V14","v":141.80000000000001},null,null,null,{"$f":"データ一覧!$A$253","v":"元年中"},null,null,null,"ha",null,null,"t",null,null,"kg",null,null,null,null,"     食料品","食料品",null,null,null,null,null,null,null,null,{"$f":"データ一覧!V340","v":3},null,null,null,{"$f":"+データ一覧!V365","v":30},null,null,null,null,null,null,{"$f":"データ一覧!V390","v":7522},null,null,null,null,null,null,null,null,null,null,null,null,null,null,null,null,null,null,null,null,null,null,null,null,null,"卸売業,小売業",null,null,null,null,{"$f":"CS21+CW21","v":375},null,null,null,{"$f":"データ一覧!V527","v":169},null,null,null,{"$f":"データ一覧!V552","v":206}]
["  町 ･ 丁 ･ 大 字",null,null,null,null,null,null,null,null,null,"  う ち  宅 地",null,null,null,null,"  う ち  山 林",null,null,null,null,"  う ち  原 野",null,null,null,null,"水　　　　　稲",null,null,null,{"$f":"データ一覧!V253","v":432},null,null,{"$f":"データ一覧!V254","v":2080},null,null,{"$f":"データ一覧!V255","v":482},null,null,null,null,"     飲料・飼料","飲料・飼料",null,null,null,null,null,null,null,null,{"$f":"データ一覧!V341","v":0},null,null,null,{"$f":"+データ一覧!V366","v":0},null,null,null,null,null,null,{"$f":"データ一覧!V391","v":0},null,null,null,null,null,null," 第１次産業",null,null,null,null,null,{"$f":"CA22+CE22","v":370},null,null,null,{"$f":"データ一覧!V515","v":249},null,null,null,{"$f":"データ一覧!V540","v":121},null,null,null,null,"金融業,保険業",null,null,null,null,{"$f":"CS22+CW22","v":39},null,null,null,{"$f":"データ一覧!V528","v":17},null,null,null,{"$f":"データ一覧!V553","v":22}]
["  区    画    数",null,null,null,null,null,null,{"$f":"データ一覧!V11","v":48},null,null,null,null,null,null,"ha",null,null,null,null,"ha",null,null,null,null,"ha","六　条　大　麦",null,null,null,{"$f":"データ一覧!V256","v":28},null,null,{"$f":"データ一覧!V257","v":34},null,null,{"$f":"データ一覧!V258","v":121},null,null,null,null,"     繊維","繊維",null,null,null,null,null,null,null,null,{"$f":"データ一覧!V342","v":3},null,null,null,{"$f":"+データ一覧!V367","v":93},null,null,null,null,null,null,{"$f":"データ一覧!V392","v":102316},null,null,null,null,null,null,"  ","農業",null,null,null,null,{"$f":"CA23+CE23","v":252},null,null,null,{"$f":"データ一覧!V516","v":147},null,null,null,{"$f":"データ一覧!V541","v":105},null,null,null,"  ","不動産業",null,null,null,null,24,null,null,null,{"$f":"データ一覧!V529","v":16},null,null,null,{"$f":"データ一覧!V554","v":8}]
[{"$f":"データ一覧!$A$11","v":"31.4.1"},null,null,null,null,null,null,null,null,null,null,{"$f":"データ一覧!V15","v":279},null,null,null,null,{"$f":"データ一覧!V16","v":5995.3},null,null,null,null,{"$f":"データ一覧!V17","v":78},null,null,null,"大　　      豆",null,null,null,{"$f":"データ一覧!V259","v":1},null,null,{"$f":"データ一覧!V260","v":1},null,null,{"$f":"データ一覧!V261","v":65},null,null,null,null,"     衣服","木材",null,null,null,null,null,null,null,null,{"$f":"データ一覧!V343","v":0},null,null,null,{"$f":"+データ一覧!V368","v":0},null,null,null,null,null,null,{"$f":"データ一覧!V393","v":0},null,null,null,null,null,null,"  ","林業",null,null,null,null,41,null,null,null,{"$f":"データ一覧!V517","v":36},null,null,null,{"$f":"データ一覧!V542","v":5},null,null,null,"  ","学術研究",null,null,null,null,129,null,null,null,{"$f":"データ一覧!V530","v":102},null,null,null,{"$f":"データ一覧!V555","v":27}]
["  ２  世　帯　数　と　人　口",null,null,null,null,null,null,null,null,null,null,null,null,null,null,null,null,null,null,null,null,null,null,null,null,null,null,"  区　分",null," 乳 用 牛",null," 肉 用 牛",null,"豚",null,"採卵鶏",null,"ブロイラー",null,null,"     木材","家具",null,null,null,null,null,null,null,null,{"$f":"データ一覧!V344","v":0},null,null,null,{"$f":"+データ一覧!V369","v":0},null,null,null,null,null,null,{"$f":"データ一覧!V394","v":0},null,null,null,null,null,null,"  ","漁業",null,null,null,null,77,null,null,null,{"$f":"データ一覧!V518","v":66},null,null,null,{"$f":"データ一覧!V543","v":11},null,null,null,"  ","宿泊業,飲食ｻｰﾋﾞｽ",null,null,null,null,281,null,null,null,{"$f":"データ一覧!V531","v":80},null,null,null,{"$f":"データ一覧!V556","v":201}]
[null,null,null,null,null,null,null,null,null,null,null,null,null,null,null,null,null,null,null,null,null,null,null,null,null,"畜　産",null," 飼養農家",null,{"$f":"データ一覧!$V$262","v":"-"},null,{"$f":"データ一覧!$V$264","v":"x"},null,{"$f":"データ一覧!$V$266","v":"-"},null,{"$f":"データ一覧!$V$268","v":"x"},null,{"$f":"データ一覧!$V$270","v":"-"},null,null,"     家具","パルプ・紙",null,null,null,null,null,null,null,null,{"$f":"データ一覧!V345","v":0},null,null,null,{"$f":"+データ一覧!V370","v":0},null,null,null,null,null,null,{"$f":"データ一覧!V395","v":0},null,null,null,null,null,null," 第２次産業",null,null,null,null,null,1057,null,null,null,{"$f":"データ一覧!V519","v":761},null,null,null,{"$f":"データ一覧!V544","v":296},null,null,null,"  ","生活関連ｻｰﾋﾞｽ業",null,null,null,null,145,null,null,null,{"$f":"データ一覧!V532","v":73},null,null,null,{"$f":"データ一覧!V557","v":72}]
[null,null,null,null,null,null,null,null,"        人　　　　　　　　　　口",null,null,null,null,null,null,null,null,null,null,null,"１世帯当",null,"人    口",null,null,{"$f":"データ一覧!$A$262","v":"2.3.31"},null,"（戸）",null,null,null,null,null,null,null,null,null,null,null,null,"     パルプ・紙","印刷",null,null,null,null,null,null,null,null,{"$f":"データ一覧!V346","v":0},null,null,null,{"$f":"+データ一覧!V371","v":0},null,null,null,null,null,null,{"$f":"データ一覧!V396","v":0},null,null,null,null,null,null,null,"鉱業，採石業",null,null,null,null,0,null,null,null,{"$f":"データ一覧!V520","v":0},null,null,null,{"$f":"データ一覧!V545","v":0},null,null,null,"  ","教育,学習支援業",null,null,null,null,183,null,null,null,{"$f":"データ一覧!V533","v":82},null,null,null,{"$f":"データ一覧!V558","v":101}]
[" 区　　　　分",null,null,null,null,"世帯数",null,null," 総   数",null,null,"    男",null,null,"    女",null,null,"  男／女",null,null,"たり人員",null,"密    度",null,null,null,null," 頭 羽",null,{"$f":"データ一覧!$V$263","v":"-"},null,{"$f":"データ一覧!$V$265","v":41},null,{"$f":"データ一覧!$V$267","v":"-"},null,{"$f":"データ一覧!$V$269","v":213},null,{"$f":"データ一覧!$V$271","v":"-"},null,null,"     出版・印刷","化学",null,null,null,null,null,null,null,null,{"$f":"データ一覧!V347","v":0},null,null,null,{"$f":"+データ一覧!V372","v":0},null,null,null,null,null,null,{"$f":"データ一覧!V397","v":0},null,null,null,null,null,null,"  ","建設業",null,null,null,null,668,null,null,null,{"$f":"データ一覧!V521","v":561},null,null,null,{"$f":"データ一覧!V546","v":107},null,null,null,null,"医療，福祉",null,null,null,null,475,null,null,null,{"$f":"データ一覧!V534","v":94},null,null,null,{"$f":"データ一覧!V559","v":381}]
[null,null,null,null,null,"    世 帯",null,null,"       人",null,null,"       人",null,null,"       人",null,null,null,"　　％",null,"    人",null,"    人/㎢",null,null,null,null,null,null,null,null,null,null,null,null,null,null,null,null,null,"     化学","石油・石炭",null,null,null,null,null,null,null,null,{"$f":"データ一覧!V348","v":0},null,null,null,{"$f":"+データ一覧!V373","v":0},null,null,null,null,null,null,{"$f":"データ一覧!V398","v":0},null,null,null,null,null,null,null,"製造業",null,null,null,null,389,null,null,null,{"$f":"データ一覧!V522","v":200},null,null,null,{"$f":"データ一覧!V547","v":189},null,null,null,null,"複合サービス事業",null,null,null,null,66,null,null,null,{"$f":"データ一覧!V535","v":41},null,null,null,{"$f":"データ一覧!V560","v":25}]
[{"$f":"データ一覧!$A$25","v":" 2.10.1"},null,null,null,null,{"$f":"データ一覧!V25","v":3775},null,null,{"$f":"+L30+O30","v":10598},null,null,{"$f":"データ一覧!V27","v":5767},null,null,{"$f":"データ一覧!V28","v":4831},null,null,null,{"$f":"+L30/O30*100","v":119.37487062719934},null,{"$f":"データ一覧!V30","v":2.81},null,{"$f":"データ一覧!V24","v":0},null,null,"  ５  林               業",null,null,null,null,null,null,null,null,null,null,null,null,null,null,"     石油・石炭","プラスチック",null,null,null,null,null,null,null,null,{"$f":"データ一覧!V349","v":0},null,null,null,{"$f":"+データ一覧!V374","v":0},null,null,null,null,null,null,{"$f":"データ一覧!V399","v":0},null,null,null,null,null,null," 第３次産業",null,null,null,null,null,2917,null,null,null,{"$f":"データ一覧!V523","v":1605},null,null,null,{"$f":"データ一覧!V548","v":1312},null,null,null,null,"サービス業",null,null,null,null,385,null,null,null,{"$f":"データ一覧!V536","v":250},null,null,null,{"$f":"データ一覧!V561","v":135}]
[{"$f":"データ一覧!$A$32","v":" 7.10.1"},null,null,null,null,{"$f":"データ一覧!V32","v":3469},null,null,{"$f":"+L31+O31","v":10251},null,null,{"$f":"データ一覧!V34","v":5400},null,null,{"$f":"データ一覧!V35","v":4851},null,null,null,111.31725417439704,null,{"$f":"データ一覧!V37","v":2.96},null,{"$f":"データ一覧!V31","v":0},null,null,null,null,null,null,null,null,null,null,null,null,null,null,null,null,null,"     プラスチック","ゴム",null,null,null,null,null,null,null,null,{"$f":"データ一覧!V350","v":0},null,null,null,{"$f":"+データ一覧!V375","v":0},null,null,null,null,null,null,{"$f":"データ一覧!V400","v":0},null,null,null,null,null,null,null,"電気･ｶﾞｽ･水道業",null,null,null,null,463,null,null,null,{"$f":"データ一覧!V524","v":441},null,null,null,{"$f":"データ一覧!V549","v":22},null,null,null,null,"公務",null,null,null,null,238,null,null,null,{"$f":"データ一覧!V537","v":165},null,null,null,{"$f":"データ一覧!V562","v":73}]
[{"$f":"データ一覧!$A$39","v":"12.10.1"},null,null,null,null,{"$f":"データ一覧!V39","v":3490},null,null,{"$f":"+L32+O32","v":9983},null,null,{"$f":"データ一覧!V41","v":5192},null,null,{"$f":"データ一覧!V42","v":4791},null,null,null,108.36986015445626,null,{"$f":"データ一覧!V44","v":2.86},null,{"$f":"データ一覧!V38","v":0},null,null,"    　森　　　林　　　総　　　面　　　積   ",null,null,null,null,null,null,null,{"$f":"データ一覧!$A$272","v":"2.3.31"},null,null,null,null,null,null,"     ゴム","皮革",null,null,null,null,null,null,null,null,{"$f":"データ一覧!V351","v":0},null,null,null,{"$f":"+データ一覧!V376","v":0},null,null,null,null,null,null,{"$f":"データ一覧!V401","v":0},null,null,null,null,null,null,null,"情報通信業",null,null,null,null,24,null,null,null,{"$f":"データ一覧!V525","v":9},null,null,null,{"$f":"データ一覧!V550","v":15},null,null,null," 分類不能の産業",null,null,null,null,null,18,null,null,null,{"$f":"データ一覧!V538","v":14},null,null,null,{"$f":"データ一覧!V563","v":4}]
[{"$f":"+データ一覧!$A$46","v":"17.10.1"},null,null,null,null,{"$f":"データ一覧!V46","v":3258},null,null,{"$f":"+L33+O33","v":9217},null,null,{"$f":"データ一覧!V48","v":4649},null,null,{"$f":"データ一覧!V49","v":4568},null,null,null,101.77320490367777,null,{"$f":"データ一覧!V51","v":2.83},null,{"$f":"データ一覧!V52","v":43.4},null,null,"　　　森　　　　　　　林　　　　　　　の　　　　　　　構　　　　　　　成",null,null,null,null,null,null,null,null,null,null,null,null,null,null,"     皮革","窯業・土石",null,null,null,null,null,null,null,null,{"$f":"データ一覧!V352","v":0},null,null,null,{"$f":"+データ一覧!V377","v":0},null,null,null,null,null,null,{"$f":"データ一覧!V402","v":0},null,null,null,null,null,null,"  ","運輸業,郵便業",null,null,null,null,{"$f":"CA33+CE33","v":90},null,null,null,{"$f":"データ一覧!V526","v":66},null,null,null,{"$f":"データ一覧!V551","v":24}]
[{"$f":"+データ一覧!$A$53","v":"22.10.1"},null,null,null,null,{"$f":"データ一覧!V53","v":3144},null,null,{"$f":"+L34+O34","v":8580},null,null,{"$f":"データ一覧!V55","v":4280},null,null,{"$f":"+データ一覧!V56","v":4300},null,null,null,99.534883720930239,null,{"$f":"+データ一覧!V58","v":2.73},null,{"$f":"+データ一覧!V59","v":40.4},null,null,null,null,null,null,null,"       ha",null,null,null,null,null,null,"       ha",null,null,"     窯業・土石","鉄鋼",null,null,null,null,null,null,null,null,{"$f":"データ一覧!V353","v":0},null,null,null,{"$f":"+データ一覧!V378","v":0},null,null,null,null,null,null,{"$f":"データ一覧!V403","v":0},null,null,null,null,null,null," １６  社　 会 　福　 祉",null,null,null,null,null,null,null,null,null,null,null,null,null,null,null,{"$f":"データ一覧!$A$564","v":"2.4.1"}]
[{"$f":"データ一覧!$A$60","v":"27.10.1"},null,null,null,null,{"$f":"データ一覧!V60","v":3222},null,null,{"$f":"データ一覧!V61","v":8325},null,null,{"$f":"データ一覧!V62","v":4201},null,null,{"$f":"データ一覧!V63","v":4124},null,null,null,101.86711930164888,null,{"$f":"データ一覧!V65","v":2.5837988826815641},null,{"$f":"データ一覧!V66","v":39.200000000000003},null,null,"  総　　　　　   数",null,null,null,{"$f":"データ一覧!V272","v":18707.62},null,null," 天然林       針葉樹",null,null,null,{"$f":"データ一覧!V275","v":610.28999999999905},null,null,null,"     鉄鋼","非鉄金属",null,null,null,null,null,null,null,null,{"$f":"データ一覧!V354","v":0},null,null,null,{"$f":"+データ一覧!V379","v":0},null,null,null,null,null,null,{"$f":"データ一覧!V404","v":0}]
[{"$f":"+データ一覧!$A$67","v":"2.10.1"},null,null,null,null,{"$f":"データ一覧!V67","v":3257},null,null,{"$f":"データ一覧!V76","v":7988},null,null,{"$f":"データ一覧!V77","v":4061},null,null,{"$f":"データ一覧!V78","v":3927},null,null,null,{"$f":"+L36/O36*100","v":103.4122740005093},null,{"$f":"データ一覧!V68","v":2.4500000000000002},null,{"$f":"データ一覧!V69","v":37.645506385786327},null,null,"  人工林     針葉樹",null,null,null,{"$f":"データ一覧!V273","v":9604.69},null,null," 天然林       広葉樹",null,null,null,{"$f":"データ一覧!V276","v":8168.57},null,null,null,"     非鉄金属","金属",null,null,null,null,null,null,null,null,{"$f":"データ一覧!V355","v":1},null,null,null,{"$f":"+データ一覧!V380","v":52},null,null,null,null,null,null,{"$f":"データ一覧!V405","v":"x"},null,null,null,null,null,null,"    ","区分",null,null,null,null,null,null,"施設数",null,null,null,null,"収容定員",null,null,null,null,null,"区分",null,null,null,null,null,null,"施設数",null,null,null,null,"収容定員"]
["年",null,"  区",null," 0歳",null,null,"15歳",null,null,"25歳",null,null,"35歳",null,null,"45歳",null,null,"55歳",null,null,"65歳",null,null,"  人工林     広葉樹",null,null,null,{"$f":"データ一覧!V274","v":184.02},null,null," 竹               林",null,null,null,{"$f":"データ一覧!V277","v":62.810000000000301},null,null,null,"     金属","はん用機械",null,null,null,null,null,null,null,null,{"$f":"データ一覧!V356","v":0},null,null,null,{"$f":"+データ一覧!V381","v":0},null,null,null,null,null,null,{"$f":"データ一覧!V406","v":0},null,null,null,null,null,null,"生活保護施設",null,null,null,null,null,null,null,{"$f":"データ一覧!V564","v":0},null,null,null,{"$f":"データ一覧!V577","v":0},null,null,null,"人",null,"指定障害者支援施設",null,null,null,null,null,null,null,{"$f":"データ一覧!V570","v":0},null,null,null,{"$f":"データ一覧!V583","v":0},null,null,null,"人"]
["齢","令",null,null,null,"～",null,null,"～",null,null,"～",null,null,"～",null,null,"～",null,null,"～",null,null,null,null,null,null,null,null,null,null,null,null,null,null,null,null,null,null,null,"     一般機械","生産用機械",null,null,null,null,null,null,null,null,{"$f":"データ一覧!V357","v":1},null,null,null,{"$f":"+データ一覧!V382","v":14},null,null,null,null,null,null,{"$f":"データ一覧!V407","v":"x"},null,null,null,null,null,null,"地域福祉施設",null,null,null,null,null,null,null,{"$f":"データ一覧!V565","v":0},null,null,null,{"$f":"データ一覧!V578","v":0},null,null,null,null,null,"指定相談支援事業所",null,null,null,null,null,null,null,{"$f":"データ一覧!V571","v":0},null,null,null,{"$f":"データ一覧!V584","v":0}]
["階","元","  分",null,null,null,"14歳",null,null,"24歳",null,null,"34歳",null,null,"44歳",null,null,"54歳",null,null,"64歳",null,null,"以上","    林     野     の     構     成",null,null,null,null,null,null,"保     有     形     態     別",null,null,null,null,null,null,null,"     電気機械","業務用機械",null,null,null,null,null,null,null,null,{"$f":"データ一覧!V358","v":0},null,null,null,{"$f":"+データ一覧!V383","v":0},null,null,null,null,null,null,{"$f":"データ一覧!V408","v":0},null,null,null,null,null,null,"老人福祉施設",null,null,null,null,null,null,null,{"$f":"データ一覧!V566","v":2},null,null,null,{"$f":"データ一覧!V579","v":10},null,null,null,null,null,"児童福祉施設",null,null,null,null,null,null,null,{"$f":"データ一覧!V572","v":7},null,null,null,{"$f":"データ一覧!V585","v":390}]
["級","・",null,null,null,null,"人",null,null,"人",null,"    人",null,null,"    人",null,null,"    人",null,null,"    人",null,null,"    人",null,null,null,null,null,null,null,"ha",null,null,null,null,null,"       ha",null,null,null,"電子・デバイス",null,null,null,null,null,null,null,null,{"$f":"データ一覧!V359","v":0},null,null,null,{"$f":"+データ一覧!V384","v":0},null,null,null,null,null,null,{"$f":"データ一覧!V409","v":0},null,null,null,null,null,null,"介護保険施設",null,null,null,null,null,null,null,{"$f":"データ一覧!V567","v":15},null,null,null,{"$f":"データ一覧!V580","v":312},null,null,null,null,null,"母子福祉施設",null,null,null,null,null,null,null,{"$f":"データ一覧!V573","v":0},null,null,null,{"$f":"データ一覧!V586","v":0}]
["別","10","総 数",null,{"$f":"+E42+E43","v":1100},null,null,{"$f":"+H42+H43","v":665},null,null,{"$f":"+K42+K43","v":638},null,null,{"$f":"+N42+N43","v":841},null,null,{"$f":"+Q42+Q43","v":984},null,null,{"$f":"+T42+T43","v":1152},null,null,{"$f":"+W42+W43","v":2574},null,null," 無立木地   伐採跡地",null,null,null,{"$f":"データ一覧!V278","v":0.94},null,null,"国   　　　 　 有",null,null,null,{"$f":"データ一覧!V280","v":1441.77},null,null,null,null,"電気機械",null,null,null,null,null,null,null,null,{"$f":"データ一覧!V360","v":0},null,null,null,{"$f":"+データ一覧!V385","v":0},null,null,null,null,null,null,{"$f":"データ一覧!V410","v":0},null,null,null,null,null,null,"障害者自立支援法施行前からの身体障害者福祉施設",null,null,null,null,null,null,null,{"$f":"データ一覧!V568","v":0},null,null,null,{"$f":"データ一覧!V581","v":0},null,null,null,null,null,"婦人保護施設",null,null,null,null,null,null,null,{"$f":"データ一覧!V574","v":0},null,null,null,{"$f":"データ一覧!V587","v":0}]
["人","・","  男",null,{"$f":"データ一覧!V79","v":544},null,null,{"$f":"データ一覧!V80","v":342},null,null,{"$f":"データ一覧!V81","v":388},null,null,{"$f":"データ一覧!V82","v":439},null,null,{"$f":"データ一覧!V83","v":531},null,null,{"$f":"データ一覧!V84","v":654},null,null,{"$f":"データ一覧!V85","v":1129},null,null," 無立木地   未立木地",null,null,null,{"$f":"データ一覧!V279","v":76.300000000000011},null,null,"公       　　  有",null,null,null,{"$f":"データ一覧!V281","v":3072.5299999999997},null,null,null,"     輸送機械","情報通信機械",null,null,null,null,null,null,null,null,{"$f":"データ一覧!V361","v":0},null,null,null,{"$f":"+データ一覧!V386","v":0},null,null,null,null,null,null,{"$f":"データ一覧!V411","v":0},null,null,null,null,null,null,null,null,null,null,null,null,null,null,null,null,null,null,null,null,null,null,null,null,"その他の社会福祉施設",null,null,null,null,null,null,null,{"$f":"データ一覧!V575+データ一覧!V576","v":1},null,null,null,{"$f":"データ一覧!V588+データ一覧!V589","v":0}]
["口","1","  女",null,{"$f":"データ一覧!V87","v":556},null,null,{"$f":"データ一覧!V88","v":323},null,null,{"$f":"データ一覧!V89","v":250},null,null,{"$f":"データ一覧!V90","v":402},null,null,{"$f":"データ一覧!V91","v":453},null,null,{"$f":"データ一覧!V92","v":498},null,null,{"$f":"データ一覧!V93","v":1445},null,null,null,null,null,null,null,null,null,"私          　 有",null,null,null,{"$f":"データ一覧!V282","v":14193.319999999998},null,null,null,"     精密機械","輸送機械",null,null,null,null,null,null,null,null,{"$f":"データ一覧!V362","v":0},null,null,null,{"$f":"+データ一覧!V387","v":0},null,null,null,null,null,null,{"$f":"データ一覧!V412","v":0},null,null,null,null,null,null,"障害福祉サービス事業所",null,null,null,null,null,null,null,{"$f":"データ一覧!V569","v":5},null,null,null,{"$f":"データ一覧!V582","v":46}]
[null,null,null,null,null,null,null,null,null,null,null,null,null,null,null,null,null,null,null,null,null,null,null,null,null,"            林     産     物     生     産     量 ",null,null,null,null,null,null,null,null,null,{"$f":"データ一覧!$A$283","v":"元年中"},null,null,null,null,"     その他","その他",null,null,null,null,null,null,null,null,{"$f":"データ一覧!V363","v":0},null,null,null,{"$f":"+データ一覧!V388","v":0},null,null,null,null,null,null,{"$f":"データ一覧!V413","v":0},null,null,null,null,null,null," １７  教　　　　　　　育",null,null,null,null,null,null,null,null,null,null,null,null,null,null,null,{"$f":"データ一覧!$A$590","v":"2.5.1"}]
["人口動態",null,null,null,null,null,null,"   自　然　動　態",null,null,null,null,null,"   社  会  動  態",null,null,null,null,null,{"$f":"データ一覧!$A74","v":"31.1.1～元.12.31"},null,null,null,null,null,"生椎茸",null,null,null,{"$f":"データ一覧!V283","v":102370},null,"㎏","乾椎茸",null,null,null,{"$f":"データ一覧!V284","v":"-"},null,"㎏"]
[null,null,"   区       分",null,null,null,null," 出   生",null,null," 死   亡",null,null," 転   入",null,null," 転   出",null,null," 婚   姻",null,null," 離   婚",null,null,"えのきだけ",null,null,null,{"$f":"データ一覧!V286","v":"-"},null,"㎏","なめこ",null,null,null,{"$f":"データ一覧!V285","v":"-"},null,"㎏",null,"    ","工　業　用　水　量",null,null,null,null,null,"（従業者30人以上の事業所）",null,null,null,null,null,null,null,null,null,null,{"$f":"データ一覧!V414","v":28},null,null,null,null,"㎥／日",null,null,null,null,null,null,null,null,null,null,null,null,null,null,"学校数（校）",null,null,null,null,null,null,"教員数（人）",null,null,null,null,null,null,null,"学生・生徒・児童数（人）"]
[{"$f":"LEFT(データ一覧!$A70,7)","v":"元.10.1～"},null,null,null,null,null,null,"       人",null,null,"       人",null,null,"       人",null,null,"       人",null,null,null,"    件",null,null,"    件",null,"ひらたけ",null,null,null,{"$f":"+データ一覧!V287","v":163},null,"㎏","まいたけ",null,null,null,{"$f":"+データ一覧!V288","v":"-"},null,"㎏",null,null,null,null,null,null,null,null,null,null,null,null,null,null,null,null,null,null,null,null,null,null,null,null,null,null,null,null,null,null,"　","区分",null,null,null,null,null,null,null," 本 校",null,null," 分 校",null,null," 本   務",null,null,null," 兼   務",null,null,null," 総   数",null,null,null,"男",null,null,null,"女"]
["～",null," 実          数",null,null,null,null,{"$f":"データ一覧!V70","v":72},null,null,{"$f":"データ一覧!V71","v":95},null,null,{"$f":"データ一覧!V72","v":232},null,null,{"$f":"データ一覧!V73","v":288},null,null,{"$f":"データ一覧!V74","v":59},null,null,{"$f":"データ一覧!V75","v":6},null,null,null,null,null,null,null,null,null,null,null,null,null,null,null,null,null," １１ 　上　・　下　水　道",null,null,null,null,null,null,null,null,null,null,null,null,null,null,null,null,null,null,null,null,null,null,null,null,null,null,null,null,"小学校",null,null,null,null,null,null,null,null,{"$f":"データ一覧!V591","v":4},null,null,{"$f":"データ一覧!V592","v":0},null,null,{"$f":"データ一覧!V593","v":55},null,null,null,{"$f":"データ一覧!V594","v":6},null,null,null,{"$f":"データ一覧!V595","v":490},null,null,null,{"$f":"データ一覧!V596","v":247},null,null,null,{"$f":"データ一覧!V597","v":243}]
[{"$f":"RIGHT(データ一覧!$A72,7)","v":"～2.9.30"},null,"比率(対1,000人)",null,null,null,null,{"$f":"+H48/I35*1000","v":8.6486486486486491},null,null,{"$f":"+K48/I35*1000","v":11.411411411411411},null,null,"- ",null,null,"- ",null,null,{"$f":"+T48/I35*1000","v":7.0870870870870872},null,null,{"$f":"+W48/I35*1000","v":0.72072072072072069},null,null,"  ６  漁               業",null,null,null,null,null,null,null,null,null,null,null,null,null,null,null,null,null,null,null,null,null,null,null,null,null,null,null,null,null,null,null,null,null,null,null,null,null,null,null,null,null,null,"  ","中学校",null,null,null,null,null,null,null,null,{"$f":"データ一覧!V599","v":2},null,null,{"$f":"データ一覧!V600","v":0},null,null,{"$f":"データ一覧!V601","v":28},null,null,null,{"$f":"データ一覧!V602","v":3},null,null,null,{"$f":"データ一覧!V603","v":216},null,null,null,{"$f":"データ一覧!V604","v":111},null,null,null,{"$f":"データ一覧!V605","v":105}]
[null,null,null,null,null,null,null,null,null,null,null,null,null,null,null,null,null,null,null,null,null,null,null,null,null,null,null,null,null,null,null,null,null,null,null,null,null,null,null,null,"水 道 供 給 人 口",null,null,null,null,null,null,"上 水 道",null,null,null,"簡易水道",null,null,null,"専用水道",null,null,null,"飲料水供給施設",null,null,null,"下水道処理人口",null,null,null,null,"  ","高等学校",null,null,null,null,null,null,null,null,{"$f":"データ一覧!V607","v":0},null,null,{"$f":"データ一覧!V608","v":0},null,null,{"$f":"データ一覧!V609","v":0},null,null,null,{"$f":"データ一覧!V610","v":0},null,null,null,{"$f":"データ一覧!V611","v":0},null,null,null,{"$f":"データ一覧!V612","v":0},null,null,null,{"$f":"データ一覧!V613","v":0}]
["  ３  事　　業　　所（民　　営）    （平 28.6.1）",null,null,null,null,null,null,null,null,null,null,null,null,null,null,null,null,null,null,null,null,null,null,null,null,"漁船隻数・トン数",null,null,null,{"$f":"データ一覧!$A$289","v":"元.12.31"},null,null,null,"動　力　船",null,null,null,null,null,null,{"$f":"データ一覧!$A$415","v":"2.3.31"},null,null,null,null,null,"人",null,{"$f":"データ一覧!V415","v":0},null,null,{"$f":"データ一覧!V416","v":7957},null,null,null,null,{"$f":"データ一覧!V417","v":30},null,null,null,{"$f":"データ一覧!V418","v":91},null,null,null,{"$f":"データ一覧!V419","v":1342},null,null,null,"  ","大学・短期大学",null,null,null,null,null,null,null,null,{"$f":"データ一覧!V614","v":0},null,null,{"$f":"データ一覧!V615","v":0},null,null,{"$f":"データ一覧!V616","v":0},null,null,null,{"$f":"データ一覧!V617","v":0},null,null,null,{"$f":"データ一覧!V618","v":0},null,null,null,{"$f":"データ一覧!V619","v":0},null,null,null,{"$f":"データ一覧!V620","v":0}]
[null,null,null,null,null,null,null,null,null,null,null,null,null,null,null,null,null,null,null,null,null,null,null,null,null,"無動力船隻数",null,null,null,"船外機付漁船隻数",null,null,null,"隻　数",null,null,"総 ト ン 数",null,null,null,null,null,null,null,null,null,null,null,null,null,null,null,null,null,null,null,null,null,null,null,null,null,null,null,null,null,null,null,"  ","高等専門学校",null,null,null,null,null,null,null,null,{"$f":"データ一覧!V621","v":0},null,null,{"$f":"データ一覧!V622","v":0},null,null,{"$f":"データ一覧!V623","v":0},null,null,null,{"$f":"データ一覧!V624","v":0},null,null,null,{"$f":"データ一覧!V625","v":0},null,null,null,{"$f":"データ一覧!V626","v":0},null,null,null,{"$f":"データ一覧!V627","v":0}]
[null,null,null,null,null,null,null,"    総　　　　　数",null,null,null,null,null,"    民　　　　　営",null,null,null,null,null,"  国 ･ 地方公共団体",null,null,null,null,null,null,null,null,"隻",null,null,null,"隻",null,null,"隻",null,null,"t",null," １２  交   通　・　通   信",null,null,null,null,null,null,null,null,null,null,null,null,null,null,null,null,null,null,null,null,null,null,null,null,null,null,null,"  ","特別支援学校",null,null,null,null,null,null,null,null,{"$f":"+データ一覧!V629","v":0},null,null,{"$f":"+データ一覧!V630","v":0},null,null,{"$f":"+データ一覧!V631","v":0},null,null,null,{"$f":"+データ一覧!V632","v":0},null,null,null,{"$f":"+データ一覧!V633","v":0},null,null,null,{"$f":"+データ一覧!V634","v":0},null,null,null,{"$f":"+データ一覧!V635","v":0}]
["  　区　　　　　　分",null,null,null,null,null,null," 事業所数",null,null," 従業者数",null,null," 事業所数",null,null," 従業者数",null,null," 事業所数",null,null," 従業者数",null,null,{"$f":"データ一覧!$V$289","v":1},null,null,null,{"$f":"データ一覧!$V$290","v":37},null,null,null,{"$f":"データ一覧!V291","v":127},null,null,{"$f":"データ一覧!V292","v":570.42999999999995},null,null,null,null,null,null,null,null,null,null,null,null,null,null,null,null,null,null,null,null,null,null,null,null,null,null,null,null,null,null,null,"  ","幼稚園",null,null,null,null,null,null,null,null,{"$f":"データ一覧!V637","v":1},null,null,{"$f":"データ一覧!V638","v":0},null,null,{"$f":"データ一覧!V639","v":0},null,null,null,{"$f":"データ一覧!V640","v":0},null,null,null,{"$f":"データ一覧!V641","v":0},null,null,null,{"$f":"データ一覧!V642","v":0},null,null,null,{"$f":"データ一覧!V643","v":0}]
[null,null,null,null,null,null,null,null,null,null,"       人",null,null,null,null,null,"       人",null,null,null,null,null,"       人",null,null,"  男女別就業者数",null,null,null,null,null,null,null,{"$f":"データ一覧!$A$293","v":"30.11.1"},null,null,null,null,null,null,"道     路",null,null,null,"実 延 長",null,null,null,"国     道",null,null,null,"県     道",null,null,null,"市町道",null,null,null," 鉄 道 営 業 キ ロ 数",null,null,null,null,null,null,null,"  ","幼保連携認定こども園",null,null,null,null,null,null,null,null,{"$f":"データ一覧!V645","v":4},null,null,{"$f":"データ一覧!V646","v":0},null,null,{"$f":"データ一覧!V647","v":68},null,null,null,{"$f":"データ一覧!V648","v":3},null,null,null,{"$f":"データ一覧!V649","v":314},null,null,null,{"$f":"データ一覧!V650","v":150},null,null,null,{"$f":"データ一覧!V651","v":164}]
["総数",null,null,null,null,null,null,{"$f":"データ一覧!V95","v":"…"},null,null,{"$f":"データ一覧!V152","v":"…"},null,null,{"$f":"データ一覧!V96","v":478},null,null,{"$f":"データ一覧!V153","v":4277},null,null,{"$f":"データ一覧!V97","v":"…"},null,null,{"$f":"データ一覧!V154","v":"…"},null,null,"総　　数",null,null,null,null,null,"男",null,null,null,"女",null,null,null,null,{"$f":"データ一覧!$A$420","v":"31.4.1"},null,null,null,{"$f":"データ一覧!V420","v":319.89999999999998},null,null,"㎞",{"$f":"データ一覧!V421","v":19.5},null,null,"㎞",{"$f":"データ一覧!V422","v":70.3},null,null,"㎞",{"$f":"データ一覧!V423","v":230.1},null,null,"km",{"$f":"データ一覧!$A$424","v":"2.4.1"},null,null,null,{"$f":"データ一覧!V424","v":4.0650000000000004},null,null,"㎞","  ","各種学校",null,null,null,null,null,null,null,null,{"$f":"データ一覧!V653","v":0},null,null,{"$f":"データ一覧!V654","v":0},null,null,{"$f":"データ一覧!V655","v":0},null,null,null,{"$f":"データ一覧!V656","v":0},null,null,null,{"$f":"データ一覧!V657","v":0},null,null,null,{"$f":"データ一覧!V658","v":0},null,null,null,{"$f":"データ一覧!V659","v":0}]
["農林漁業",null,null,null,null,null,null,{"$f":"データ一覧!V98","v":"…"},null,null,{"$f":"データ一覧!V155","v":"…"},null,null,{"$f":"データ一覧!V99","v":13},null,null,{"$f":"データ一覧!V156","v":109},null,null,{"$f":"データ一覧!V100","v":"…"},null,null,{"$f":"データ一覧!V157","v":"…"},null,null,null,null,null,null,null,"人",null,null,"　　　　人",null,null,null,null,"  人",null,"自動車",null,null,null,null,null,null,null,null,"乗用車",null,null,null,null,null,null,null,null,null,null,null,null,null,null,null,null,null,null,"  ","専修学校",null,null,null,null,null,null,null,null,{"$f":"データ一覧!V661","v":0},null,null,{"$f":"データ一覧!V662","v":0},null,null,{"$f":"データ一覧!V663","v":0},null,null,null,{"$f":"データ一覧!V664","v":0},null,null,null,{"$f":"データ一覧!V665","v":0},null,null,null,{"$f":"データ一覧!V666","v":0},null,null,null,{"$f":"データ一覧!V667","v":0}]
["鉱業",null,null,null,null,null,null,{"$f":"データ一覧!V101","v":"…"},null,null,{"$f":"データ一覧!V158","v":"…"},null,null,{"$f":"データ一覧!V102","v":0},null,null,{"$f":"データ一覧!V159","v":0},null,null,{"$f":"データ一覧!V103","v":"…"},null,null,{"$f":"データ一覧!V160","v":"…"},null,null,{"$f":"AF58+AJ58","v":132},null,null,null,null,null,{"$f":"データ一覧!$V$294","v":121},null,null,null,{"$f":"データ一覧!V295","v":11},null,null,null,null,"台  数",null,null,null,"貨    物",null,null,null,"普     通",null,null,null,"小     型",null,null,null,"乗  合",null,null,"特  種",null,null,"小型二輪",null,null,"軽自動車",null,null," １８  衛　　　　　　　生"]
["建設業",null,null,null,null,null,null,{"$f":"データ一覧!V104","v":"…"},null,null,{"$f":"データ一覧!V161","v":"…"},null,null,{"$f":"データ一覧!V105","v":108},null,null,{"$f":"データ一覧!V162","v":1261},null,null,{"$f":"データ一覧!V106","v":"…"},null,null,{"$f":"データ一覧!V163","v":"…"},null,null,"　　　　海 面 漁 業 漁 獲 量 （属人）",null,null,null,null,null,null,null,{"$f":"データ一覧!$A$296","v":"30年中"},null,null,null,null,null,null,{"$f":"データ一覧!$A$425","v":"2.3.31"},null,null,null,null,{"$f":"データ一覧!V425","v":385},null,null,null,{"$f":"データ一覧!V427","v":1443},null,null,null,{"$f":"データ一覧!V428","v":1569},null,null,{"$f":"データ一覧!V426","v":84},null,null,{"$f":"データ一覧!V429","v":304},null,null,{"$f":"データ一覧!V430","v":180},null,null,{"$f":"データ一覧!V431","v":3581}]
["製造業",null,null,null,null,null,null,{"$f":"データ一覧!V107","v":"…"},null,null,{"$f":"データ一覧!V164","v":"…"},null,null,{"$f":"データ一覧!V108","v":24},null,null,{"$f":"データ一覧!V165","v":293},null,null,{"$f":"データ一覧!V109","v":"…"},null,null,{"$f":"データ一覧!V166","v":"…"},null,null,null,null,null,null,null,"       ","ｔ",null,null,null,null,null,null,"t",null,null,null,"     ",null,"郵　便　局　数",null,null,null,null,null,null,null,null,null,null,null,null,null,null,null,"一般加入",null,null,null,"ＩＮＳネット",null,null,null,null,null,null,null,"医療関係施設",null,null,null,null,null,{"$f":"データ一覧!$A$668","v":"元.10.1"},null,null,null,null,null,null,"および医療関係者数",null,null,null,null,null,null,null,{"$f":"データ一覧!$A$673","v":"30.12.31"}]
["電気・ｶﾞ ｽ・熱供給・水道業",null,null,null,null,null,null,{"$f":"データ一覧!V110","v":"…"},null,null,{"$f":"データ一覧!V167","v":"…"},null,null,{"$f":"データ一覧!V111","v":2},null,null,{"$f":"データ一覧!V168","v":523},null,null,{"$f":"データ一覧!V112","v":"…"},null,null,{"$f":"データ一覧!V169","v":"…"},null,null,"   総　　　　　　数",null,null,null,{"$f":"データ一覧!V296","v":972},null,null,"   藻　　　　　　類",null,null,null,{"$f":"データ一覧!V299","v":1},null,null,null,"通  信",null,null,null," 総     数",null,null,null,null,null," 郵 便 局",null,null,null,null," 簡 易 局",null,null,null,null,"電話数",null,null,null,"加入数",null,null,null,null,null,null,null,null,null,"　","病",null,null,"院",null,"　",null,null,null,null," ","一般診療所",null,null,null,null,null,null,null,null,null,null,null,"歯科診療所"]
["情報通信業",null,null,null,null,null,null,{"$f":"データ一覧!V113","v":"…"},null,null,{"$f":"データ一覧!V170","v":"…"},null,null,{"$f":"データ一覧!V114","v":1},null,null,{"$f":"データ一覧!V171","v":2},null,null,{"$f":"データ一覧!V115","v":"…"},null,null,{"$f":"データ一覧!V172","v":"…"},null,null,"   魚　　　　　　類",null,null,null,{"$f":"データ一覧!V297","v":814},null,null,"   そ　   の　　 他",null,null,null,{"$f":"データ一覧!V300","v":130},null,null,null,{"$f":"データ一覧!$A$435","v":"2.3.31"},null,null,null,{"$f":"データ一覧!V432","v":5},null,null,null,null,null,{"$f":"データ一覧!V433","v":5},null,null,null,null,{"$f":"データ一覧!V434","v":0},null,null,null,null,{"$f":"データ一覧!V435","v":1486},null,null,null,{"$f":"データ一覧!V436","v":288},null,null,null," ","医療関係",null,null,null,null,null,null,null,null,null,null,null,"一般病院",null,null,null,null,null,null,null,null,null,null,null,"有",null,null,"床"]
["運輸業、郵便業",null,null,null,null,null,null,{"$f":"データ一覧!V116","v":"…"},null,null,{"$f":"データ一覧!V173","v":"…"},null,null,{"$f":"データ一覧!V117","v":6},null,null,{"$f":"データ一覧!V174","v":90},null,null,{"$f":"データ一覧!V118","v":"…"},null,null,{"$f":"データ一覧!V175","v":"…"},null,null,"   貝　　　　　　類",null,null,null,{"$f":"データ一覧!V298","v":27},null,null,null,null,null,null,null,null,null,null,null,null,null,null,null,null,null,null,null,null,null,null,null,null,null,null,null,null,null,null,null,null,null,null,null,null,null,null,null,"施設数",null,null,null,null,null,null,{"$f":"データ一覧!V668","v":0},null,null,null,null,null,{"$f":"データ一覧!V669","v":0},null,null,null,null,null,{"$f":"データ一覧!V670","v":7},null,null,null,null,null,{"$f":"データ一覧!V671","v":1},null,null,null,null,null,{"$f":"データ一覧!V672","v":3}]
["卸売業、小売業",null,null,null,null,null,null,{"$f":"データ一覧!V119","v":"…"},null,null,{"$f":"データ一覧!V176","v":"…"},null,null,{"$f":"データ一覧!V120","v":78},null,null,{"$f":"データ一覧!V177","v":351},null,null,{"$f":"データ一覧!V121","v":"…"},null,null,{"$f":"データ一覧!V178","v":"…"},null,null,null,null,null,null,null,null,null,null,null,null,null,null,null,null,null," １３  税　　・　　財　　政",null,null,null,null,null,null,null,null,null,null,null,null,null,null,null,null,null,null,null,null,null,null,null,null,null,null,null,null,null,null,null,null,null,null,"医師",null,null,null,null,"歯科医師",null,null,null,null,"薬剤師",null,null,null,null,"保健師",null,null,null,null,"助産師",null,null," ",null,"看護師",null,null," "]
["金融業、保険業",null,null,null,null,null,null,{"$f":"データ一覧!V122","v":"…"},null,null,{"$f":"データ一覧!V179","v":"…"},null,null,{"$f":"データ一覧!V123","v":4},null,null,{"$f":"データ一覧!V180","v":26},null,null,{"$f":"データ一覧!V124","v":"…"},null,null,{"$f":"データ一覧!V181","v":"…"},null,null,"  ７  商        　　　業 ",null,null,null,null,null,null,{"$f":"データ一覧!$A$301","v":"28.6.1(平成27年実績）"},null,null,null,null,null,null,null,null,null,null,null,null,null,null,null,null,null,null,null,null,null,null,null,null,null,null,null,null,null,null,null,null,null,null,null," ","医療",null,null,null,null,null,null,null,null,"人",null,null,null,null,"人",null,null,null,null,"人",null,null,null,null,"人",null,null,null,null,"人",null,null,null,null,"人"]
["不動産業、物品賃貸業",null,null,null,null,null,null,{"$f":"データ一覧!V125","v":"…"},null,null,{"$f":"データ一覧!V182","v":"…"},null,null,{"$f":"データ一覧!V126","v":6},null,null,{"$f":"データ一覧!V183","v":41},null,null,{"$f":"データ一覧!V127","v":"…"},null,null,{"$f":"データ一覧!V184","v":"…"},null,null,null,null,null,null,null,null,null,null,null,null,null,null,null,null,null,"           ",null,null,null,"歳入",null,null,null,null,null,null,null,null,"(千円）"," ",null,null,null,"歳出",null,null,null,null,null,null,null,null,"(千円）",null,"関係者",null,null,null,null,{"$f":"データ一覧!V673","v":6},null,null,null,null,{"$f":"データ一覧!V674","v":2},null,null,null,null,{"$f":"データ一覧!V675","v":4},null,null,null,null,{"$f":"データ一覧!V676","v":0},null,null,null,null,{"$f":"データ一覧!V677","v":0},null,null,null,null,{"$f":"データ一覧!V678","v":51}]
["学術研究、専門・技術ｻｰﾋﾞｽ業",null,null,null,null,null,null,{"$f":"データ一覧!V128","v":"…"},null,null,{"$f":"データ一覧!V185","v":"…"},null,null,{"$f":"データ一覧!V129","v":12},null,null,{"$f":"データ一覧!V186","v":246},null,null,{"$f":"データ一覧!V130","v":"…"},null,null,{"$f":"データ一覧!V187","v":"…"},null,null,"  産   業　 分　 類",null,null,null,"  商　 店 　数",null,null," 従　業　者　数",null,null,"年　間　販　売　額",null,null,null,null,"一人当たり歳入歳出予算決算額",null,null,null,null,null,null,null,null,null,null,null,null,null,null,null,null,null,null,null,null,null,null,null,null,null,null,null,"                   ",null,null,null,null,null,null,null,null,"死因別死亡数　　　　　　    ",null,null,null,null,null,null,null,null,null,null,null,null,null,null,null,{"$f":"データ一覧!$A$679","v":"元年中"},null,null,null,null,null,null,null,null,"      単 位：人"]
["宿泊業、飲食サービス業",null,null,null,null,null,null,{"$f":"データ一覧!V131","v":"…"},null,null,{"$f":"データ一覧!V188","v":"…"},null,null,{"$f":"データ一覧!V132","v":87},null,null,{"$f":"データ一覧!V189","v":335},null,null,{"$f":"データ一覧!V133","v":"…"},null,null,{"$f":"データ一覧!V190","v":"…"},null,null,null,null,null,null,null,"        店",null,null,null,"　人",null,"         百万円",null,null,null,"区分",null,null,null,{"$f":"データ一覧!$A$445","v":"2年度"},null,null,null,null,{"$f":"データ一覧!$A$459","v":"元年度"},null,null,null,null,"区分",null,null,null,{"$f":"+AS68","v":"2年度"},null,null,null,null,{"$f":"データ一覧!$A$459","v":"元年度"},null,null,null,null," 死     因",null,null,null,null,null,null,null,null,null,null,null,"悪  性",null,null,"高血圧",null,null,null,null,null,"脳血管",null,null,null,null,null," ",null,null,"不慮の事故"]
["生活関連サービス業、娯楽業",null,null,null,null,null,null,{"$f":"データ一覧!V134","v":"…"},null,null,{"$f":"データ一覧!V191","v":"…"},null,null,{"$f":"データ一覧!V135","v":45},null,null,{"$f":"データ一覧!V192","v":140},null,null,{"$f":"データ一覧!V136","v":"…"},null,null,{"$f":"データ一覧!V193","v":"…"},null,null,"総　　　　　　計",null,null,null,{"$f":"データ一覧!V301","v":64},null,null,{"$f":"データ一覧!V310","v":272},null,null,{"$f":"データ一覧!V319","v":4221},null,null,null,null,null,null,null,null,{"$f":"データ一覧!V441","v":1249248.8733099648},null,null,null,null,{"$f":"データ一覧!V442","v":1294568},null,null,null,null,null,null,null,null,{"$f":"データ一覧!V443","v":1249248.8733099648},null,null,null,null,{"$f":"データ一覧!V444","v":1234893.268873187},null,null,null,null,null,null,null,null,null,"全 死 因",null,null,null,"結 核",null,null,"新生物",null,null,"性疾患",null,null,"心疾患",null,null,"疾  患",null,null,"肺  炎",null,null,"老  衰",null,null,null,null," ","交通事故"]
["教育、学習支援業",null,null,null,null,null,null,{"$f":"データ一覧!V137","v":"…"},null,null,{"$f":"データ一覧!V194","v":"…"},null,null,{"$f":"データ一覧!V138","v":16},null,null,{"$f":"データ一覧!V195","v":85},null,null,{"$f":"データ一覧!V139","v":"…"},null,null,{"$f":"データ一覧!V196","v":"…"},null,null,"卸売業",null,null,null,{"$f":"データ一覧!V302","v":5},null,null,{"$f":"データ一覧!V311","v":20},null,null,{"$f":"データ一覧!V320","v":248},null,null,null,null,"項目別歳入歳出予算決算額"]
["医療、福祉",null,null,null,null,null,null,{"$f":"データ一覧!V140","v":"…"},null,null,{"$f":"データ一覧!V197","v":"…"},null,null,{"$f":"データ一覧!V141","v":24},null,null,{"$f":"データ一覧!V198","v":294},null,null,{"$f":"データ一覧!V142","v":"…"},null,null,{"$f":"データ一覧!V199","v":"…"},null,null,"小売業",null,null,null,{"$f":"データ一覧!V303","v":59},null,null,{"$f":"データ一覧!V312","v":252},null,null,{"$f":"データ一覧!V321","v":3972},null,null,null,null,"区分",null,null,null,{"$f":"データ一覧!$A$445","v":"2年度"},null,null,null,null,{"$f":"データ一覧!$A$459","v":"元年度"},null,null,null,null,"区分",null,null,null,{"$f":"+AS71","v":"2年度"},null,null,null,null,{"$f":"データ一覧!$A$459","v":"元年度"},null,null,null,null,null,null,null,null,null,{"$f":"データ一覧!V679","v":119},null,null,null,"   －",{"$f":"データ一覧!V680","v":0},null,{"$f":"データ一覧!V681","v":24},null,null,null,{"$f":"データ一覧!V682","v":2},null,{"$f":"データ一覧!V683","v":17},null,null,{"$f":"データ一覧!V684","v":11},null,null,{"$f":"データ一覧!V685","v":8},null,null,{"$f":"データ一覧!V686","v":20},null,null,{"$f":"データ一覧!V687","v":5},null,null,{"$f":"データ一覧!V688","v":2}]
["複合サービス事業",null,null,null,null,null,null,{"$f":"データ一覧!V143","v":"…"},null,null,{"$f":"データ一覧!V200","v":"…"},null,null,{"$f":"データ一覧!V144","v":6},null,null,{"$f":"データ一覧!V201","v":39},null,null,{"$f":"データ一覧!V145","v":"…"},null,null,{"$f":"データ一覧!V202","v":"…"},null,null,"各種商品",null,null,null,{"$f":"データ一覧!V304","v":0},null,null,{"$f":"データ一覧!V313","v":0},null,null,{"$f":"データ一覧!V322","v":0},null,null,null,null,"総額",null,null,null,{"$f":"SUM(AS73:AW85)","v":9979000},null,null,null,null,{"$f":"SUM(AX73:BB85)","v":10443282},null,null,null,null,"総額",null,null,null,{"$f":"SUM(BG73:BK85)","v":9979000},null,null,null,null,{"$f":"SUM(BL73:BP85)","v":9961884},null,null,null,null," １９  警　察　・　消　防  ",null,null,null,null,null,null,null,null,null,null,null,null,null,null,null,{"$f":"+データ一覧!$A689","v":"2.4.1"}]
["サービス業",null,null,null,null,null,null,{"$f":"データ一覧!V146","v":"…"},null,null,{"$f":"データ一覧!V203","v":"…"},null,null,{"$f":"データ一覧!V147","v":46},null,null,{"$f":"データ一覧!V204","v":442},null,null,{"$f":"データ一覧!V148","v":"…"},null,null,{"$f":"データ一覧!V205","v":"…"},null,null,"織物・衣服・身の回り品",null,null,null,{"$f":"データ一覧!V305","v":3},null,null,{"$f":"データ一覧!V314","v":6},null,null,{"$f":"データ一覧!V323","v":"x"},null,null,null,null,"地方税",null,null,null,{"$f":"データ一覧!V446","v":4196089},null,null,null,null,{"$f":"データ一覧!V460","v":4263677},null,null,null,null,"議会費",null,null,null,{"$f":"データ一覧!V474","v":109694},null,null,null,null,{"$f":"データ一覧!V488","v":102061}]
["公務",null,null,null,null,null,null,{"$f":"データ一覧!V149","v":"…"},null,null,{"$f":"データ一覧!V206","v":"…"},null,null,{"$f":"データ一覧!V150","v":"…"},null,null,{"$f":"データ一覧!V207","v":"…"},null,null,{"$f":"データ一覧!V151","v":"…"},null,null,{"$f":"データ一覧!V208","v":"…"},null,null,"飲食料品",null,null,null,{"$f":"データ一覧!V306","v":18},null,null,{"$f":"データ一覧!V315","v":101},null,null,{"$f":"データ一覧!V324","v":1680},null,null,null,null,"地方譲与税",null,null,null,{"$f":"データ一覧!V447","v":84200},null,null,null,null,{"$f":"データ一覧!V461","v":72222},null,null,null,null,"総務費",null,null,null,{"$f":"データ一覧!V475","v":1604233},null,null,null,null,{"$f":"データ一覧!V489","v":1601283},null,null,null,null,null,null,null,null,null,null,null,null,null,null,"交番・駐在所",null,null,null,null,null,null,null,null,"刑法犯認知件数",null,null,null,null,null,null,null,null,"交通人身事故発生件数"]
["  ４  農        　　　業 ",null,null,null,null,null,null,null,null,null,null,null,null,null,null,null,null,null,null,null,null,null,null,null,null,"機械器具",null,null,null,{"$f":"データ一覧!V307","v":10},null,null,{"$f":"データ一覧!V316","v":30},null,null,{"$f":"データ一覧!V325","v":141},null,null,null,null,"各種交付金",null,null,null,{"$f":"データ一覧!V448","v":219000},null,null,null,null,{"$f":"データ一覧!V462","v":176890},null,null,null,null,"民生費",null,null,null,{"$f":"データ一覧!V476","v":1944282},null,null,null,null,{"$f":"データ一覧!V490","v":1760537},null,null,null,null,null,"警察署数",null,null,null,null,null,null,null,null,"検問所数",null,null,null,null,null,null,null,null,null,{"$f":"データ一覧!$A$691","v":"元年中"},null,null,null,null,null,null,null,null,{"$f":"データ一覧!$A$691","v":"元年中"}]
[null,null,null,null,null,null,null,null,null,null,null,null,null,null,null,null,null,null,null,null,null,null,null,null,null,"その他",null,null,null,{"$f":"データ一覧!V308","v":28},null,null,{"$f":"データ一覧!V317","v":115},null,null,{"$f":"データ一覧!V326","v":"x"},null,null,null,null,"地方特例交付金",null,null,null,{"$f":"データ一覧!V449","v":4000},null,null,null,null,{"$f":"データ一覧!V463","v":22553},null,null,null,null,"衛生費",null,null,null,{"$f":"データ一覧!V477","v":1166759},null,null,null,null,{"$f":"データ一覧!V491","v":1076879},null,null,null,null,null,null,null,null,null,null,null,null,null,null,null,null,null,null,null,null,null,null,null,null,null,null,null,null," 件",null,null,null,null,null,null,null,null,"　件"]
[null,null,"農家人口と世帯員数(販売農家)",null,null,null,null,null,null,null,"農家世帯の就業状態（販売農家）",null,null,null,null,null,null,null,null,null,null,null,null,null,null,"無店舗",null,null,null,{"$f":"データ一覧!V309","v":0},null,null,{"$f":"データ一覧!V318","v":0},null,null,{"$f":"データ一覧!V327","v":0},null,null,null,null,"地方交付税",null,null,null,{"$f":"データ一覧!V450","v":187000},null,null,null,null,{"$f":"データ一覧!V464","v":459175},null,null,null,null,"労働費",null,null,null,{"$f":"データ一覧!V478","v":49710},null,null,null,null,{"$f":"データ一覧!V492","v":49500},null,null,null,null,null,null,{"$f":"データ一覧!V689","v":0},null,null,null,null,null,null,null,null,{"$f":"データ一覧!V690","v":5},null,null,null,null,null,null,null,null,{"$f":"データ一覧!V691","v":22},null,null,null,null,null,null,null,null,{"$f":"データ一覧!V692","v":8}]
["農","平",null,null,null,null,null,null,null,null,"農業従事者",null,null,null,null,null,null,null,null,"非農業従事",null,null,"農業従事者",null,null,null,null,null,null,null,null,null,null,null,null,null,null,null,null,null,"分担金および負担金",null,null,null,{"$f":"データ一覧!V451","v":15591},null,null,null,null,{"$f":"データ一覧!V465","v":23469},null,null,null,null,"農林水産業費",null,null,null,{"$f":"データ一覧!V479","v":1730505},null,null,null,null,{"$f":"データ一覧!V493","v":1519576},null,null,null,null,"火災発生件数",null,null,null,null,null,null,null,null,null,"林野焼損",null,null,null,null,"損      害",null,null,null,null,"消 防 自",null,null,null,"その他の",null,null,null," ",null,null,null,null," "]
["家",{"$f":"+LEFT(データ一覧!$A$209,2)","v":"27"},"区分",null,"農家人口",null,null,"15歳以上の",null,null,null,null,null,"農業就業人口",null,null,null,null,null,"者",null,null,"の平均年齢",null,null,"  ８  住　　　　　　 　宅",null,null,null,null,null,null,null,null,null,null,null,null,null,null,"使用料および手数料",null,null,null,{"$f":"データ一覧!V452","v":45217},null,null,null,null,{"$f":"データ一覧!V466","v":44996},null,null,null,null,"商工費",null,null,null,{"$f":"データ一覧!V480","v":558813},null,null,null,null,{"$f":"データ一覧!V494","v":773980},null,null,null,null,{"$f":"+データ一覧!$A$693","v":"元年中"},null,null,null,null,"焼損棟数",null,null,null,null,"面    積",null,null,null,null,"見  積  額",null,null,null,null,"動 車 数",null,null,null,"ﾎﾟﾝﾌﾟ数",null,null,null," 消防吏員",null,null,null," 消防団員"]
["人就 ","・",null,null,null,null,null,"世帯員数",null,null,null,null,null,null,null,null,"基幹的農業",null,null,null,null,null,null,null,null,null,null,null,null,null,null,null,null,null,null,null,null,null,null,null,"国庫支出金",null,null,null,{"$f":"データ一覧!V453","v":2259172},null,null,null,null,{"$f":"データ一覧!V467","v":2519115},null,null,null,null,"土木費",null,null,null,{"$f":"データ一覧!V481","v":1074382},null,null,null,null,{"$f":"データ一覧!V495","v":869046},null,null,null,null,"         件",null,null,null,null,null,"      棟",null,null,null,null,null,null,"  ａ",null,null,null,"  千円",null,null,"        ",null,null,null,null,null,null,null,null,null,"  人",null,null,null,"  人"]
["口業 ",{"$f":"+MID(データ一覧!$A$209,4,1)","v":"2"},null,null,null,null,"人",null,null,"人",null,null,"人",null,null,"人","従事者",null,"人",null,null,"人",null,null,"歳",{"$f":"+データ一覧!$A$328","v":"30年"},null,null,null,null,{"$f":"データ一覧!$A$331","v":"元年"},"中の増減",null,null,null,{"$f":"+データ一覧!$A$331","v":"元年"},null,null,null,null,"県支出金",null,null,null,{"$f":"データ一覧!V454","v":2014923},null,null,null,null,{"$f":"データ一覧!V468","v":1927254},null,null,null,null,"消防費",null,null,null,{"$f":"データ一覧!V482","v":293686},null,null,null,null,{"$f":"データ一覧!V496","v":542360},null,null,null,null,null,{"$f":"データ一覧!V693","v":3},null,null,null,null,{"$f":"データ一覧!V694","v":0},null,null,null,null,{"$f":"データ一覧!V695","v":0},null,null,null,{"$f":"データ一覧!V696","v":3247},null,null,null,null,null,{"$f":"データ一覧!V697","v":5},null,null,null,{"$f":"データ一覧!V698","v":21},null,null,null,{"$f":"データ一覧!V699","v":23},null,null,null,{"$f":"データ一覧!V700","v":169}]
["と状 ","・"," 総数",null,{"$f":"データ一覧!V209","v":1322},null,null,{"$f":"データ一覧!V212","v":1203},null,null,{"$f":"データ一覧!V215","v":893},null,null,{"$f":"データ一覧!V218","v":410},null,null,{"$f":"データ一覧!V221","v":353},null,null,{"$f":"データ一覧!V224","v":310},null,null,{"$f":"データ一覧!V227","v":60.4},null,null,null,null,null,null,"建設した住宅",null,null,"消失した住宅",null,null,null,null,null,null,null,"財産収入",null,null,null,{"$f":"データ一覧!V455","v":42352},null,null,null,null,{"$f":"データ一覧!V469","v":42264},null,null,null,null,"教育費",null,null,null,{"$f":"データ一覧!V483","v":1180722},null,null,null,null,{"$f":"データ一覧!V497","v":1338559},null,null,null,null," ２０  そ　　　の　　　他　"]
["  況 ",{"$f":"+RIGHT(データ一覧!$A$209,1)","v":"1"},"　男",null,{"$f":"データ一覧!V210","v":672},null,null,{"$f":"データ一覧!V213","v":609},null,null,{"$f":"データ一覧!V216","v":485},null,null,{"$f":"データ一覧!V219","v":202},null,null,{"$f":"データ一覧!V222","v":194},null,null,{"$f":"データ一覧!V225","v":124},null,null,{"$f":"データ一覧!V228","v":58.5},null,null,null,null,null,null,null,null,null,null,null,null,null,null,null,null,null,"繰入金",null,null,null,{"$f":"データ一覧!V456","v":617459},null,null,null,null,{"$f":"データ一覧!V470","v":372948},null,null,null,null,"災害復旧費",null,null,null,{"$f":"データ一覧!V484","v":28200},null,null,null,null,{"$f":"データ一覧!V498","v":95431}]
[null,null,"　女",null,{"$f":"データ一覧!V211","v":650},null,null,{"$f":"データ一覧!V214","v":594},null,null,{"$f":"データ一覧!V217","v":408},null,null,{"$f":"データ一覧!V220","v":208},null,null,{"$f":"データ一覧!V223","v":159},null,null,{"$f":"データ一覧!V226","v":186},null,null,{"$f":"データ一覧!V229","v":62.7},null,null,null,{"$f":"データ一覧!V328","v":3784},null,"戸",{"$f":"データ一覧!V329","v":25},null,"戸",{"$f":"データ一覧!V330","v":19},null,"戸",null,{"$f":"データ一覧!V331","v":3790},null,"戸",null,"地方債",null,null,null,{"$f":"データ一覧!V457","v":0},null,null,null,null,{"$f":"データ一覧!V471","v":0},null,null,null,null,"公債費",null,null,null,{"$f":"データ一覧!V485","v":218014},null,null,null,null,{"$f":"データ一覧!V499","v":232672},null,null,null,null,null,null,null,null,null,"不動の滝、野鹿の滝、若州一滴文庫、松木庄吉美術記念館・郷土史料館、暦会館、\n土御門家墓所、薬師堂、小浜藩台場跡・松ヶ瀬台場跡・鋸崎台場跡、木造阿弥陀如来坐像・木造多聞天立像(長楽寺)、木造不動明王坐像(常禅寺)、木造毘沙門天立像・\n木造吉祥天立像・木造善膩師童子立像(清雲寺)、木造千手観音立像(意足寺)、\n大島半島のニソの杜、研炭製造"]
[null,null,null,null,null,null,null,null,null,null,null,null,null,null,null,null,null,null,null,null,null,null,null,null,null,null,null,null,null,null,null,null,null,null,null,null,null,null,null,null,"その他",null,null,null,{"$f":"データ一覧!V458","v":293997},null,null,null,null,{"$f":"データ一覧!V472","v":518719},null,null,null,null,"その他",null,null,null,{"$f":"データ一覧!V486","v":20000},null,null,null,null,{"$f":"データ一覧!V500","v":0},null,null,null,null,"　名所・旧跡"]
[null,null,"総農家数等",null,null,null,null,null,null,"専兼業別（販売農家）",null,null,null,null,null,null,null,"経営面積規模別（販売農家）",null,null,null,null,null,null,null,null,null,null,null,null,null,null,null,null,null,null,null,null,null,null,null,null,null,null,null,null,null,null,null,null,null,null,null,null,null,null,null,null,null,null,null,null,null,null,null,null,null,null,"  文化財等"]
[null,"平","区　分",null,null,null,"戸数（戸）",null,null,"区　分",null,null,null,null,"戸数（戸）",null,null,"区　　分",null,null,null,null,"戸数（戸）",null,null,"  ９  議　 員　・　職 　員",null,null,null,null,null,null,null,null,null,null,null,null,null,null," １４  文　　　　　　化",null,null,null,null,null,null,null,null,null," ( ",{"$f":"データ一覧!$A$507","v":"2.3.31"},null,null,null,"ただし図書館・公民館・児童館",null,null,null,null,null,null,null,{"$f":"データ一覧!$A$501","v":"2.4.1"}]
["農",{"$f":"+LEFT(データ一覧!$A$230,2)","v":"27"},"総農家",null,null,null,{"$f":"データ一覧!V230","v":665},null,null,"総数",null,null,null,null,{"$f":"データ一覧!V236","v":351},null,null,"総数",null,null,null,null,{"$f":"データ一覧!V241","v":351},null,null,null,null,null,null,null,null,null,null,null,null,null,null,null,null,null,null,null,null,null,null,null,null,null,null,null,null,null,null,null,null,null,"　宗教法人数 ",null,null,null,null,null,null,{"$f":"データ一覧!$A$509","v":"元.12.31"},null,null,null,"）","　　特産物",null,null,null,null,"しいたけ、梅、自然薯、びわ、若狭ぐじ、しし肉、名田庄漬、鯖へしこ、若狭パール、\n今谷焼、研炭、ふくいサーモン"]
["家","・","販売農家",null,null,null,{"$f":"データ一覧!V231","v":351},null,null,"専業農家",null,null,null,null,{"$f":"データ一覧!V237","v":64},null,null,"0.5 ha 未満",null,null,null,null,{"$f":"データ一覧!V242","v":100},null,null," 市 町 村 議 会",null,null,"有権者数",null,{"$f":"データ一覧!$A$335","v":"2.9.1"},null,"市 町 村 議 会",null,null,"  職      員      数",null,null,null,null,null,null,null,null,null,"図書館",null,null,null,null,null,"公　民　館",null,null,null,null,null,null,null,null,null,null," 社会教育学級講座"]
["数",{"$f":"+MID(データ一覧!$A$230,4,1)","v":"2"},null,"主業",null,null,{"$f":"データ一覧!V232","v":21},null,null,"兼業農家",null,null,null,null,{"$f":"データ一覧!V238","v":287},null,null,"0.5 ha ～ 1.0 ha",null,null,null,null,{"$f":"データ一覧!V243","v":145},null,null," 議  員  定  数",null,null,"    男",null,"    女",null,"選 挙 投 票 率",null,null," 総     数",null,"一般行政職",null,null,"公    共",null,null,null," 館  数",null,null," 図書数",null,null," 本  館",null,null," 分  館",null,null," 公  園",null,null," 児童館",null,null,"学級講座数",null,null,"受講者数"]
[null,"・",null,"準主業",null,null,{"$f":"データ一覧!V233","v":57},null,null,null,"第１種兼業",null,null,null,{"$f":"データ一覧!V239","v":23},null,null,"1.0 ha ～ 1.5 ha",null,null,null,null,{"$f":"データ一覧!V244","v":43},null,null,null,null,"人",null,"人",null,"人",null,null,"　％",null,"人",null,"人",null,"施 設 数",null,null,null,null,{"$f":"データ一覧!V501","v":2},null,{"$f":"データ一覧!V502","v":142440},null,null,null,{"$f":"データ一覧!V503","v":4},null,{"$f":"データ一覧!V504","v":0},null,null,{"$f":"データ一覧!V505","v":0},null,null,{"$f":"データ一覧!V506","v":2},null,null,{"$f":"データ一覧!V507","v":513},null,null,{"$f":"データ一覧!V508","v":9579},null,null," 　年中行事",null,null,null,null,"ふるさとファミリーウォーク、水無月祭、ふるさと踊りフェスティバル、\n若狭おおいのスーパー大火勢、名田庄星のフィエスタ、おおい健康マラソン、\n暦イベント、帰雁忌、うみんぴあフェスタ、じねんじょまつり、本郷踊、六歳念仏、\n大火勢、文七踊、下村の獅子舞"]
[null,{"$f":"+RIGHT(データ一覧!$A$230,1)","v":"1"},null,"副業的",null,null,{"$f":"データ一覧!V234","v":273},null,null,null,"第２種兼業",null,null,null,{"$f":"データ一覧!V240","v":264},null,null,"1.5 ha ～ 2.0 ha",null,null,null,null,{"$f":"データ一覧!V245","v":25},null,null,null,{"$f":"データ一覧!V332","v":14},null,{"$f":"データ一覧!V335","v":3350},null,{"$f":"データ一覧!V336","v":3402},null,{"$f":"データ一覧!V334","v":79.67},null,null,{"$f":"データ一覧!V337","v":170},null,{"$f":"データ一覧!V338","v":133},null,null,"宗    教",null,null,null," 仏教系",null,null,"ｷﾘｽﾄ教系",null,null,"神道諸派",null,null,"公会堂・市民会館",null,null,null,null,null," テレビ",null,null,"衛星放送契約数"]
[null,null,"自給的農家",null,null,null,{"$f":"データ一覧!V235","v":314},null,null,null,null,null,null,null,null,null,null,"2.0 ha 以上",null,null,null,null,{"$f":"データ一覧!V246","v":37},null,null,null,null,null,null,null,null,null,{"$f":"データ一覧!V333","v":"31.4.21"},null,null,null,null,null,null,null,"法 人 数",null,null,null,{"$f":"データ一覧!V509","v":45},null,null,{"$f":"データ一覧!V510","v":0},null,null,{"$f":"データ一覧!V511","v":33},null,null,{"$f":"データ一覧!V512","v":6},null,null,null,null,null,"      等",null,null,{"$f":"データ一覧!V513","v":1364}]

{"sheet":"若狭町","index":21,"n_rows":93,"n_cols":104,"rows_kept":93,"cut":false,"hidden":false,"merged":[[24,41,24,47],[24,50,24,52],[34,36,34,37],[26,61,26,65],[27,54,27,57],[27,61,27,65],[26,74,26,77],[27,22,27,24],[31,18,31,19],[31,14,31,16],[26,54,26,57],[27,41,27,47],[27,31,27,32],[27,33,27,34],[27,35,27,36],[29,54,29,57],[25,33,26,34],[25,29,26,30],[25,61,25,65],[23,32,23,34],[25,41,25,47],[32,41,32,47],[41,36,41,37],[36,41,36,47],[24,35,24,36],[30,50,30,52],[17,25,17,27],[18,25,18,27],[29,50,29,52],[30,41,30,47],[31,41,31,47],[19,29,19,31],[21,25,21,28],[22,41,22,47],[22,50,22,52],[20,41,20,47],[20,50,20,52],[21,35,21,38],[20,29,20,31],[25,50,25,52],[25,31,26,32],[25,35,26,36],[26,41,26,47],[27,37,27,38],[29,41,29,47],[38,41,38,47],[35,36,35,37],[25,25,25,26],[26,25,26,26],[27,50,27,52],[26,50,26,52],[20,100,20,103],[21,100,21,103],[20,92,20,95],[25,96,25,99],[26,100,26,103],[25,100,25,103],[24,100,24,103],[26,92,26,95],[26,96,26,99],[22,100,22,103],[23,69,23,73],[22,82,22,85],[21,74,21,77],[22,69,22,73],[22,74,22,77],[20,82,20,85],[26,78,26,81],[26,82,26,85],[26,87,26,91],[25,92,25,95],[23,100,23,103],[23,92,23,95],[24,92,24,95],[24,96,24,99],[22,92,22,95],[22,96,22,99],[23,96,23,99],[26,69,26,73],[25,74,25,77],[25,78,25,81],[25,82,25,85],[25,87,25,91],[31,100,31,103],[27,82,27,85],[27,87,27,91],[29,78,29,81],[29,82,29,85],[30,87,30,91],[29,92,29,95],[27,100,27,103],[30,100,30,103],[30,96,30,99],[30,92,30,95],[29,100,29,103],[30,69,30,73],[30,74,30,77],[27,69,27,73],[27,74,27,77],[27,78,27,81],[29,87,29,91],[30,78,30,81],[29,74,29,77],[31,92,31,95],[31,96,31,99],[28,78,28,81],[28,82,28,85],[28,87,28,91],[31,78,31,81],[30,82,30,85],[28,96,28,99],[31,69,31,73],[31,74,31,77],[31,82,31,85],[55,0,55,6],[41,10,41,12],[42,7,42,9],[62,29,62,30],[73,22,73,24],[68,44,68,48],[67,44,67,48],[27,96,27,99],[71,68,72,83],[71,84,72,103],[81,68,82,103],[70,32,70,33],[75,35,75,37],[28,69,28,73],[28,74,28,77],[28,100,28,103],[73,32,73,33],[29,96,29,99],[42,36,42,37],[40,29,40,30],[36,29,36,30],[36,36,36,37],[40,36,40,37],[41,32,41,35],[28,41,28,47],[31,50,31,52],[28,50,28,52],[44,25,44,28],[41,29,41,30],[38,50,38,52],[27,92,27,95],[28,92,28,95],[55,19,55,21],[68,25,68,28],[69,25,69,28],[55,16,55,18],[59,19,59,21],[62,22,62,24],[76,29,76,30],[75,40,75,43],[73,44,73,48],[75,29,75,30],[74,40,74,43],[74,44,74,48],[74,35,74,37],[76,35,76,37],[76,40,76,43],[74,29,74,30],[55,48,55,50],[71,25,71,28],[71,29,71,30],[71,44,71,48],[70,25,70,28],[76,10,76,24],[70,49,70,53],[55,25,55,30],[55,31,55,34],[73,10,73,12],[61,29,61,30],[61,40,61,43],[58,19,58,21],[62,10,62,12],[55,22,55,24],[70,44,70,48],[0,0,0,9],[1,0,3,9],[5,0,5,9],[14,25,15,25],[14,26,15,28],[15,29,15,30],[14,0,15,24],[6,0,8,9],[44,0,45,1],[48,7,48,9],[48,10,48,12],[48,13,48,15],[48,0,48,1],[47,10,47,12],[47,13,47,15],[47,7,47,9],[48,16,48,18],[48,19,48,21],[48,22,48,24],[46,29,46,30],[27,0,27,4],[27,5,27,7],[34,29,34,30],[22,25,22,28],[26,27,26,28],[24,27,24,28],[18,28,18,30],[19,25,19,28],[19,3,19,5],[22,29,22,31],[41,7,41,9],[29,11,29,13],[17,101,17,102],[19,41,19,47],[19,50,19,52],[19,54,19,57],[19,61,19,65],[19,100,19,103],[17,87,17,90],[17,41,17,47],[17,49,17,53],[15,32,15,33],[14,68,15,82],[17,83,17,84],[14,83,15,96],[17,54,17,58],[15,35,15,37],[16,32,16,33],[16,36,16,37],[17,69,17,72],[17,74,17,77],[16,75,16,96],[17,92,17,95],[17,60,17,66],[19,32,19,34],[19,35,19,38],[17,32,17,34],[17,36,17,38],[18,31,18,34],[18,35,18,38],[20,11,20,13],[20,16,20,18],[20,21,20,23],[21,41,21,47],[21,50,21,52],[21,32,21,34],[20,74,20,77],[20,87,20,91],[19,92,19,95],[19,96,19,99],[19,74,19,77],[19,78,19,81],[19,82,19,85],[20,78,20,81],[20,96,20,99],[20,32,20,34],[20,35,20,38],[21,29,21,31],[20,25,20,28],[20,61,20,65],[21,78,21,81],[21,82,21,85],[21,87,21,91],[21,96,21,99],[21,54,21,57],[21,61,21,65],[21,92,21,95],[20,54,20,57],[22,7,22,8],[23,41,23,47],[23,50,23,52],[23,54,23,57],[23,61,23,65],[22,32,22,34],[22,35,22,38],[23,21,23,23],[23,11,23,13],[23,16,23,18],[24,54,24,57],[24,61,24,65],[23,78,23,81],[23,82,23,85],[23,87,23,91],[24,87,24,91],[24,82,24,85],[23,25,23,28],[22,54,22,57],[22,78,22,81],[22,87,22,91],[22,61,22,65],[24,29,24,30],[24,74,24,77],[24,78,24,81],[24,37,24,38],[24,69,24,73],[24,31,24,32],[23,74,23,77],[23,35,23,38],[23,29,23,31],[24,33,24,34],[37,94,37,96],[30,18,30,19],[30,5,30,7],[30,8,30,10],[30,11,30,13],[30,14,30,16],[30,20,30,21],[30,22,30,24],[29,18,29,19],[29,20,29,21],[29,5,29,7],[31,20,31,21],[31,22,31,24],[32,18,32,19],[29,8,29,10],[32,5,32,7],[25,37,26,38],[26,22,26,24],[27,25,27,26],[29,22,29,24],[27,27,27,28],[25,27,25,28],[29,14,29,16],[31,54,31,57],[32,78,32,81],[32,82,32,85],[32,69,32,73],[34,50,34,52],[35,29,35,30],[27,29,27,30],[34,41,34,47],[32,50,32,52],[35,61,35,65],[37,68,37,74],[36,76,36,78],[35,5,35,7],[35,8,35,10],[35,11,35,13],[32,74,32,77],[42,10,42,12],[34,14,34,16],[40,7,40,9],[34,20,34,21],[33,22,33,24],[33,18,33,19],[33,20,33,21],[34,8,34,10],[34,11,34,13],[25,54,25,57],[37,41,37,47],[35,50,35,52],[35,41,35,47],[35,14,35,16],[35,18,35,19],[35,20,35,21],[32,54,32,57],[33,41,33,47],[33,54,33,57],[40,4,40,6],[42,41,42,47],[50,0,51,24],[46,0,46,1],[47,0,47,1],[31,11,31,13],[32,8,32,10],[32,11,32,13],[47,22,47,24],[32,14,32,16],[31,8,31,10],[47,16,47,18],[42,4,42,6],[34,5,34,7],[42,22,42,24],[42,19,42,21],[40,22,40,24],[34,18,34,19],[40,19,40,21],[35,22,35,24],[41,4,41,6],[31,5,31,7],[33,5,33,7],[33,8,33,10],[40,2,40,3],[55,7,55,9],[47,19,47,21],[44,19,44,24],[31,61,31,65],[32,61,32,65],[33,11,33,13],[33,14,33,16],[35,54,35,57],[36,50,36,52],[34,54,34,57],[39,41,39,47],[40,50,40,52],[40,61,40,65],[42,50,42,52],[41,54,41,57],[37,54,37,57],[40,10,40,12],[40,13,40,15],[40,16,40,18],[42,13,42,15],[41,13,41,15],[42,16,42,18],[40,32,40,35],[36,54,36,57],[32,20,32,21],[32,22,32,24],[34,22,34,24],[37,61,37,65],[37,50,37,52],[41,16,41,18],[41,19,41,21],[41,22,41,24],[50,29,50,32],[32,100,32,103],[33,84,34,97],[32,96,32,99],[32,92,32,95],[35,99,35,102],[35,87,35,91],[39,54,39,57],[33,50,33,52],[33,68,34,81],[51,29,51,32],[51,25,51,28],[50,25,50,28],[39,80,39,83],[38,80,38,83],[35,81,35,84],[35,76,35,78],[35,69,35,73],[39,98,39,101],[40,98,40,101],[41,98,41,101],[47,78,47,80],[33,61,33,65],[47,81,47,83],[47,84,47,87],[47,88,47,91],[39,61,39,65],[38,61,38,65],[34,61,34,65],[36,61,36,65],[36,68,36,74],[38,68,38,74],[45,25,45,28],[42,61,42,65],[46,100,46,103],[45,93,45,102],[43,68,44,83],[42,94,42,96],[50,88,50,91],[50,92,50,95],[50,69,50,76],[52,78,52,80],[58,49,58,51],[49,100,49,103],[49,69,49,76],[49,78,49,80],[49,81,49,83],[49,84,49,87],[49,92,49,95],[48,88,48,91],[49,96,49,99],[48,96,48,99],[48,69,48,76],[48,78,48,80],[48,51,48,54],[42,54,42,57],[44,29,44,30],[46,70,46,75],[42,32,42,35],[42,68,42,74],[42,76,42,78],[43,84,44,103],[45,32,45,35],[48,100,48,103],[46,96,46,99],[48,63,48,66],[48,81,48,83],[48,84,48,87],[63,90,63,92],[62,76,62,78],[63,100,63,102],[56,88,56,91],[54,96,54,99],[54,100,54,103],[55,96,55,99],[55,100,55,103],[56,96,56,99],[60,98,60,103],[53,88,53,91],[52,96,52,99],[53,92,53,95],[53,96,53,99],[54,69,54,76],[54,78,54,80],[54,81,54,83],[54,92,54,95],[52,92,52,95],[53,81,53,83],[52,88,52,91],[54,88,54,91],[60,86,60,91],[60,92,60,97],[52,100,52,103],[51,69,51,76],[51,96,51,99],[51,78,51,80],[51,81,51,83],[51,84,51,87],[52,84,52,87],[53,100,53,103],[53,84,53,87],[55,88,55,91],[52,81,52,83],[55,35,55,38],[57,48,57,51],[56,40,56,43],[57,40,57,43],[60,40,60,43],[59,44,59,59],[54,40,54,43],[54,44,54,47],[60,44,60,49],[58,65,58,67],[58,59,58,61],[55,44,55,46],[65,89,65,92],[64,22,64,24],[65,22,65,24],[56,69,56,76],[56,78,56,80],[56,81,56,83],[56,84,56,87],[56,92,56,95],[55,92,55,95],[55,69,55,76],[55,78,55,80],[62,94,62,96],[63,95,63,97],[63,75,63,77],[62,88,62,90],[65,74,65,77],[65,40,65,43],[55,81,55,83],[62,69,62,72],[61,81,61,84],[63,85,63,87],[57,44,57,47],[61,60,61,63],[61,44,61,49],[63,22,63,24],[62,82,62,84],[56,0,56,6],[60,19,60,21],[59,13,59,15],[61,10,61,12],[59,0,59,6],[57,0,57,6],[57,10,57,12],[57,19,57,21],[61,19,61,21],[56,19,56,21],[62,16,62,18],[56,7,56,9],[59,7,59,9],[58,7,58,9],[60,7,60,9],[62,0,62,6],[61,55,61,59],[57,7,57,9],[57,16,57,18],[56,16,56,18],[58,45,58,47],[60,22,60,24],[58,40,58,43],[60,50,60,54],[58,56,58,58],[59,16,59,18],[60,16,60,18],[58,16,58,18],[57,22,57,24],[56,22,56,24],[63,0,63,6],[67,7,67,9],[66,10,66,12],[66,13,66,15],[67,10,67,12],[68,22,68,24],[65,84,65,87],[58,0,58,6],[59,22,59,24],[61,22,61,24],[61,13,61,15],[60,13,60,15],[62,19,62,21],[61,0,61,6],[60,0,60,6],[64,16,64,18],[65,16,65,18],[66,35,66,38],[65,44,65,50],[58,62,58,64],[60,60,60,63],[60,64,60,67],[65,0,65,6],[64,0,64,6],[64,7,64,9],[61,7,61,9],[62,7,62,9],[63,7,63,9],[64,69,64,72],[61,69,61,72],[65,58,65,64],[62,13,62,15],[68,95,68,97],[68,101,68,103],[67,80,67,82],[67,89,67,91],[68,92,68,94],[68,83,68,85],[68,86,68,88],[67,98,67,103],[67,83,67,85],[62,100,62,102],[68,80,68,82],[68,73,68,76],[66,77,66,91],[68,77,68,79],[68,89,68,91],[66,32,66,34],[67,68,70,72],[67,54,67,57],[67,58,67,62],[67,63,67,67],[68,49,68,53],[68,54,68,57],[68,58,68,62],[68,63,68,67],[70,84,70,85],[70,80,70,82],[70,58,70,62],[69,40,69,67],[70,40,70,43],[66,40,66,67],[67,49,67,53],[68,40,68,43],[70,54,70,57],[70,35,70,37],[73,78,73,84],[73,87,73,93],[73,49,73,53],[73,54,73,57],[73,58,73,62],[70,101,70,103],[70,89,70,91],[71,49,71,53],[72,63,72,67],[70,92,70,94],[70,95,70,97],[70,98,70,100],[70,73,70,76],[70,78,70,79],[70,86,70,88],[73,96,73,102],[74,69,74,75],[74,78,74,84],[74,88,74,92],[74,97,74,101],[70,63,70,67],[71,54,71,57],[71,58,71,62],[76,97,76,100],[78,100,78,103],[78,83,78,87],[78,88,78,91],[78,49,78,53],[78,54,78,57],[78,58,78,62],[78,63,78,67],[78,68,78,72],[77,63,77,67],[74,63,74,67],[76,70,76,73],[77,92,77,95],[77,83,77,87],[77,88,77,91],[77,78,77,82],[76,63,76,67],[75,63,75,67],[76,79,76,82],[76,88,76,91],[75,58,75,62],[76,54,76,57],[76,58,76,62],[76,49,76,53],[75,49,75,53],[78,92,78,95],[78,96,78,99],[75,54,75,57],[74,58,74,62],[74,49,74,53],[74,54,74,57],[60,10,60,12],[59,10,59,12],[69,10,69,12],[58,10,58,12],[55,10,55,12],[65,10,65,12],[64,10,64,12],[72,7,72,9],[68,10,68,12],[71,7,71,9],[67,19,67,21],[67,22,67,24],[58,22,58,24],[68,19,68,21],[63,13,63,15],[63,16,63,18],[63,19,63,21],[55,13,55,15],[71,13,71,15],[71,19,71,21],[67,13,67,15],[69,7,69,9],[61,16,61,18],[58,13,58,15],[57,13,57,15],[56,13,56,15],[69,16,69,18],[65,19,65,21],[66,16,66,18],[66,19,66,21],[66,22,66,24],[65,13,65,15],[64,13,64,15],[64,19,64,21],[74,0,75,24],[72,19,72,21],[72,22,72,24],[72,32,72,33],[72,35,72,37],[67,16,67,18],[70,22,70,24],[70,16,70,18],[70,19,70,21],[70,13,70,15],[69,32,69,33],[68,29,68,30],[68,0,68,6],[68,13,68,15],[68,16,68,18],[68,35,68,37],[71,35,71,37],[73,0,73,6],[74,32,74,33],[69,35,69,37],[69,13,69,15],[69,19,69,21],[69,22,69,24],[67,0,67,6],[90,65,90,67],[88,62,88,67],[90,59,90,61],[82,49,82,53],[84,44,84,48],[83,44,83,48],[83,49,83,53],[88,51,88,54],[84,63,84,67],[83,63,83,67],[78,40,78,43],[78,44,78,48],[81,32,81,34],[81,58,81,62],[82,58,82,62],[83,32,83,33],[72,16,72,18],[73,63,73,67],[72,58,72,62],[73,29,73,30],[72,40,72,43],[72,49,72,53],[72,44,72,48],[88,45,88,48],[90,53,90,55],[82,54,82,57],[82,40,82,43],[82,44,82,48],[80,58,80,62],[81,40,81,43],[81,44,81,48],[89,40,89,43],[76,2,76,9],[71,0,71,6],[73,7,73,9],[73,13,73,15],[73,16,73,18],[71,16,71,18],[70,0,70,6],[72,13,72,15],[72,25,72,28],[72,29,72,30],[73,35,73,37],[71,22,71,24],[70,7,70,9],[75,32,75,33],[73,40,73,43],[73,19,73,21],[72,10,72,12],[71,10,71,12],[70,10,70,12],[70,29,70,30],[71,32,71,33],[71,40,71,43],[91,26,91,27],[91,28,91,29],[91,30,91,31],[91,32,91,34],[90,50,90,52],[92,47,92,49],[91,35,91,36],[91,37,91,38],[92,40,92,43],[92,44,92,46],[90,45,90,46],[90,40,90,43],[91,44,91,46],[91,47,91,49],[81,29,81,31],[88,32,88,34],[92,32,92,34],[80,25,81,28],[81,49,81,53],[80,35,81,38],[80,40,80,43],[80,44,80,48],[80,49,80,53],[92,53,92,58],[83,36,83,37],[80,54,80,57],[90,56,90,58],[83,58,83,62],[83,40,83,43],[84,54,84,57],[84,40,84,43],[83,54,83,57],[46,32,46,35],[50,56,50,58],[50,84,50,87],[41,61,41,65],[43,41,43,47],[43,50,43,52],[40,41,40,47],[48,57,48,60],[45,58,45,62],[43,54,43,57],[54,25,54,32],[53,25,53,27],[60,55,60,59],[57,62,57,64],[54,84,54,87],[52,69,52,76],[53,69,53,76],[53,78,53,80],[49,40,49,46],[49,55,49,58],[50,48,50,50],[49,63,49,67],[49,59,49,62],[59,60,59,63],[57,68,58,103],[56,100,56,103],[50,33,50,38],[60,29,60,30],[46,25,46,28],[42,98,42,101],[57,52,57,55],[55,84,55,87],[42,86,42,92],[28,61,28,65],[30,61,30,65],[29,61,29,65],[28,54,28,57],[30,54,30,57],[37,98,37,101],[38,98,38,101],[35,94,35,96],[65,94,65,97],[48,92,48,95],[46,36,46,37],[45,85,45,90],[50,51,50,54],[49,47,49,50],[47,92,47,95],[36,94,36,96],[41,41,41,47],[39,86,39,92],[38,76,38,78],[42,80,42,83],[50,78,50,80],[49,88,49,91],[44,36,44,37],[38,54,38,57],[39,94,39,96],[39,68,39,74],[41,86,41,92],[41,94,41,96],[40,68,41,74],[61,36,61,37],[55,64,55,66],[45,29,45,30],[45,36,45,37],[40,76,41,78],[40,80,41,83],[58,53,58,55],[40,94,40,96],[40,86,40,92],[36,98,36,101],[37,76,37,78],[36,80,36,83],[38,94,38,96],[36,86,36,92],[50,64,50,67],[50,60,50,62],[51,33,51,35],[51,36,51,38],[37,86,37,92],[37,80,37,83],[43,61,43,65],[40,54,40,57],[41,50,41,52],[39,76,39,78],[51,100,51,103],[51,88,51,91],[38,86,38,92],[47,96,47,99],[47,100,47,103],[45,78,45,83],[47,69,47,76],[51,92,51,95],[50,100,50,103],[50,96,50,99],[92,62,92,67],[81,63,81,67],[80,63,80,67],[81,54,81,57],[92,50,92,52],[44,32,44,35],[54,56,54,59],[57,65,57,67],[65,69,65,72],[54,48,54,51],[55,40,55,43],[60,36,60,37],[54,52,54,55],[55,52,55,54],[57,59,57,61],[50,81,50,83],[49,51,49,54],[91,53,91,58],[90,62,90,64],[91,62,91,67],[89,62,89,64],[82,63,82,67],[84,58,84,62],[84,49,84,53],[56,49,56,54],[55,56,55,58],[55,60,55,63],[91,50,91,52],[89,32,89,34],[91,40,91,43],[90,47,90,49],[83,73,88,103],[78,2,78,3],[78,4,78,6],[24,0,25,24],[72,0,72,6],[66,7,66,9],[68,7,68,9],[66,0,66,6],[65,7,65,9],[56,10,56,12],[69,0,69,6],[54,60,54,67],[57,56,57,58],[76,32,76,33],[71,63,71,67],[61,50,61,54],[65,54,65,57],[61,64,61,67],[39,50,39,52],[77,54,77,57],[77,58,77,62],[77,40,77,43],[77,44,77,48],[76,25,76,28],[75,25,75,28]],"merged_total":1087,"flags":["merged_cut"]}
[{"$f":"+データ一覧!W5","v":"みかたかみなかぐん"}]
[{"$f":"+データ一覧!W8","v":"三方上中郡"}]
[]
[null,null,null,null,null,null,null,null,null,null,null,null,null,null,null,null,null,null,null,null,null,null,null,null,null,null,null,"【町章とそのいわれ】若狭町のｲﾆｼｬﾙ「Ｗ」をﾓﾁｰﾌにﾃﾞｻﾞｲﾝ化して",null,null,null,null,null,null,null,null,null,null,null,null,"【位置および地勢】若狭町は東西約17.8ｋｍ、面積は178.49K㎡で、嶺南地域の",null,null,null,null,null,null,null,null,null,null,null,null,null,null,null,null,null,null,null,null,null,null,null,null,null,null,null,null,null,null,"所在地",null,null,null,null,null,null,null,"〒919-1393"]
[null,null,null,null,null,null,null,null,null,null,null,null,null,null,null,null,null,null,null,null,null,null,null,null,null,null,null,"　　　　　　　　　いる。フレッシュ感のあるなめらかな",null,null,null,null,null,null,null,null,null,null,null,null,"　中心部に位置する。東は美浜町、西は小浜市､南は滋賀県に接しており、",null,null,null,null,null,null,null,null,null,null,null,null,null,null,null,null,null,null,null,null,null,null,null,null,null,null,null,null,null,null,null,null,null,null,null,null,null,null,"三方上中郡若狭町中央第1号1番地"]
[{"$f":"+データ一覧!W6","v":"わかさちょう"},null,null,null,null,null,null,null,null,null,null,null,null,null,null,null,null,null,null,null,null,null,null,null,null,null,null,"　　　　　　　　　造形により、豊かな里や山、生命力と未来に",null,null,null,null,null,null,null,null,null,null,null,null,"　北西部は若狭湾に面している。三方五湖、三十三間山をはじめとし、豊かな"]
[{"$f":"データ一覧!W9","v":"若狭町"},null,null,null,null,null,null,null,null,null,null,null,null,null,null,null,null,null,null,null,null,null,null,null,null,null,null,"　　　　　　　　　開こうとする姿を表現している。",null,null,null,null,null,null,null,null,null,null,null,null,"　自然美を形成している。また、JR小浜線及び国道27号、舞鶴若狭自動車道が",null,null,null,null,null,null,null,null,null,null,null,null,null,null,null,null,null,null,null,null,null,null,null,null,null,null,null,null,null,null,"電話番号",null,null,null,null,null,null,null,"(０７７０)４５－１１１１"]
[null,null,null,null,null,null,null,null,null,null,null,null,null,null,null,null,null,null,null,null,null,null,null,null,null,null,null,null,null,null,null,null,null,null,null,null,null,null,null,null,"　町を横断し、国道303号を経て関西方面へ通じる交通の要所となっている。",null,null,null,null,null,null,null,null,null,null,null,null,null,null,null,null,null,null,null,null,null,null,null,null,null,null,null,null,null,null,"FAX番号",null,null,null,null,null,null,null,"　　〃　　４５－１１１５"]
[null,null,null,null,null,null,null,null,null,null,null,null,null,null,null,null,null,null,null,null,null,null,null,null,null,null,null,"-"]
[null,null,null,null,null,null,null,null,null,null,null,null,null,null,null,null,null,null,null,null,null,null,null,null,null,null,null,"-",null,null,null,null,null,null,null,null,null,null,null,null,null,null,null,null,null,null,null,null,null,null,null,null,null,null,null,null,null,null,null,null,null,null,null,null,null,null,null,null,null,null,null,"最寄駅および距離",null,null,null,null,null,null,null,"ＪＲ小浜線三方駅　下車１ｋｍ"]
[]
[]
[null,null,null,null,null,null,null,null,null,null,null,null,null,null,null,null,null,null,null,null,null,null,null,null,null,null,null,"【町が掲げる標語】新しい感動と笑顔がひろがるまち",null,null,null,null,null,null,null,null,null,null,null,null,null,null,null,null,null,null,null,null,null,null,null,null,null,null,null,null,null,null,null,null,null,null,null,null,null,null,null,null,null,null,null,"ホームページ",null,null,null,null,null,null,null,"http://www.town.fukui-wakasa.lg.jp"]
[]
["  １  土            　　地",null,null,null,null,null,null,null,null,null,null,null,null,null,null,null,null,null,null,null,null,null,null,null,null,{"$f":"データ一覧!$A$247","v":"元年"},"産米収穫量",null,null,"　 収　穫　量",null,null," 　作 付 面 積",null,null,"   10a当たり収量",null,null,null,null,null,null,null,null,null,null,null,null,null,null,null,null,null,null,null,null,null,null,null,null,null,null,null,null,null,null,null,null," １５  労　　　　　　　働",null,null,null,null,null,null,null,null,null,null,null,null,null,null,"27.10.1"]
[null,null,null,null,null,null,null,null,null,null,null,null,null,null,null,null,null,null,null,null,null,null,null,null,null,null,null,null,null,{"$f":"データ一覧!$W$247","v":5630},null,"t",{"$f":"データ一覧!$W$248","v":1150},null,"ha",{"$f":"データ一覧!W249","v":488},null,null,"kg",null," １０  工　　　　　　業 ",null,null,null,null,null,null,null,null,null,null,null,null,null,{"$f":"データ一覧!$A$339","v":"元.6.1（平成30年実績）"}]
["   総          面           積",null,null,null,null,null,null,null,null,null," 固 定 資 産 概 要 調 書 に よ る 地 目 別 面 積",null,null,null,null,null,null,null,null,null,null,null,null,null,null,null,null,null,"   総　　　数",null,null,null,"うち　　田",null,null,null,"うち　　畑",null,null,null,null,null,null,null,null,null,null,null,null,null,null,null,null,null,null,null,null,null,null,null,null,null,null,null,null,null,null,null,null,null,null,null,null,null,null,"産業別就業者数   "]
[null,null,{"$f":"データ一覧!$A$10","v":"2.10.1"},null,null,null,null,null,null,null,null,null,null,null,null,null,{"$f":"データ一覧!$A$12","v":"2.1.1"},null,null,null,null,null,null,null,null," 耕  地  面  積",null,null,null,"       ha",null,null,"ha ",null,null,null,"ha ",null,null,null,"      ","産業分類",null,null,null,null,null,null,null,"事業所数",null,null,null,null,"従業者数",null,null,null,null,null,"年間製造品出荷額等",null,null,null,null,null,null,null,null,"区  分",null,null,null,null,"総    数",null,null,null,null,"男",null,null,null,"女",null,null,"  ","区  分",null,null,null,null,"総    数",null,null,null,null,"男",null,null,null,"女"]
[null,null,null,null,null,null,"㎢",null,null,null,"   総       数",null,null,null,null,"  う ち     田",null,null,null,null,"  う ち     畑",null,null,null,null,{"$f":"データ一覧!$A$250","v":"元.7.15"},null,null,{"$f":"データ一覧!$W$250","v":2090},null,null,{"$f":"データ一覧!$W$251","v":1710},null,null,null,{"$f":"データ一覧!$W$252","v":378},null,null,null,null,null,null,null,null,null,null,null,null,null,"　　   ",null,null,"事業所",null,"　　　　　　　 人",null,null,"人",null,"　　　　　　　　　　　　　　万円",null,null,null,null,null,null,"万円",null,null,null,null,null,null,null,"      人",null,null,null,null,null," 人",null,null,null," 人",null,null,null,null,null,null,null,"      人",null,null,null,"      人",null,null,null,"      人"]
[null,null,null,{"$f":"データ一覧!W10","v":178.49},null,null,null,null,null,null,null,null,null,null,"ha",null,null,null,null,"ha",null,null,null,null,"ha","農 業 生 産 物",null,null,null,"作 付 面 積",null,null,"収 穫 量",null,null,"10a当たり収量",null,null,null,null,"     ","総数",null,null,null,null,null,null,null,null,{"$f":"データ一覧!W339","v":35},null,null,null,{"$f":"+データ一覧!W364","v":1848},null,null,null,null,null,null,{"$f":"データ一覧!W389","v":5497324},null,null,null,null,null,null," 総　　　数",null,null,null,null,null,{"$f":"CA20+CE20","v":7908},null,null,null,{"$f":"データ一覧!W514","v":4385},null,null,null,{"$f":"データ一覧!W539","v":3523}]
[null,null,null,null,null,null,null,null,null,null,null,{"$f":"データ一覧!W12","v":12613.8},null,null,null,null,{"$f":"データ一覧!W13","v":1935.2},null,null,null,null,{"$f":"データ一覧!W14","v":414.3},null,null,null,{"$f":"データ一覧!$A$253","v":"元年中"},null,null,null,"ha",null,null,"t",null,null,"kg",null,null,null,null,"     食料品","食料品",null,null,null,null,null,null,null,null,{"$f":"データ一覧!W340","v":3},null,null,null,{"$f":"+データ一覧!W365","v":183},null,null,null,null,null,null,{"$f":"データ一覧!W390","v":369116},null,null,null,null,null,null,null,null,null,null,null,null,null,null,null,null,null,null,null,null,null,null,null,null,null,"卸売業,小売業",null,null,null,null,{"$f":"CS21+CW21","v":985},null,null,null,{"$f":"データ一覧!W527","v":456},null,null,null,{"$f":"データ一覧!W552","v":529}]
["  町 ･ 丁 ･ 大 字",null,null,null,null,null,null,null,null,null,"  う ち  宅 地",null,null,null,null,"  う ち  山 林",null,null,null,null,"  う ち  原 野",null,null,null,null,"水　　　　　稲",null,null,null,{"$f":"データ一覧!W253","v":1150},null,null,{"$f":"データ一覧!W254","v":5630},null,null,{"$f":"データ一覧!W255","v":488},null,null,null,null,"     飲料・飼料","飲料・飼料",null,null,null,null,null,null,null,null,{"$f":"データ一覧!W341","v":3},null,null,null,{"$f":"+データ一覧!W366","v":24},null,null,null,null,null,null,{"$f":"データ一覧!W391","v":12654},null,null,null,null,null,null," 第１次産業",null,null,null,null,null,{"$f":"CA22+CE22","v":794},null,null,null,{"$f":"データ一覧!W515","v":509},null,null,null,{"$f":"データ一覧!W540","v":285},null,null,null,null,"金融業,保険業",null,null,null,null,{"$f":"CS22+CW22","v":111},null,null,null,{"$f":"データ一覧!W528","v":51},null,null,null,{"$f":"データ一覧!W553","v":60}]
["  区    画    数",null,null,null,null,null,null,{"$f":"データ一覧!W11","v":76},null,null,null,null,null,null,"ha",null,null,null,null,"ha",null,null,null,null,"ha","六　条　大　麦",null,null,null,{"$f":"データ一覧!W256","v":83},null,null,{"$f":"データ一覧!W257","v":162},null,null,{"$f":"データ一覧!W258","v":195},null,null,null,null,"     繊維","繊維",null,null,null,null,null,null,null,null,{"$f":"データ一覧!W342","v":3},null,null,null,{"$f":"+データ一覧!W367","v":80},null,null,null,null,null,null,{"$f":"データ一覧!W392","v":132485},null,null,null,null,null,null,"  ","農業",null,null,null,null,{"$f":"CA23+CE23","v":724},null,null,null,{"$f":"データ一覧!W516","v":451},null,null,null,{"$f":"データ一覧!W541","v":273},null,null,null,"  ","不動産業",null,null,null,null,43,null,null,null,{"$f":"データ一覧!W529","v":29},null,null,null,{"$f":"データ一覧!W554","v":14}]
[{"$f":"データ一覧!$A$11","v":"31.4.1"},null,null,null,null,null,null,null,null,null,null,{"$f":"データ一覧!W15","v":529.79999999999995},null,null,null,null,{"$f":"データ一覧!W16","v":5407.8},null,null,null,null,{"$f":"データ一覧!W17","v":66.099999999999994},null,null,null,"大　　      豆",null,null,null,{"$f":"データ一覧!W259","v":6},null,null,{"$f":"データ一覧!W260","v":3},null,null,{"$f":"データ一覧!W261","v":50},null,null,null,null,"     衣服","木材",null,null,null,null,null,null,null,null,{"$f":"データ一覧!W343","v":5},null,null,null,{"$f":"+データ一覧!W368","v":106},null,null,null,null,null,null,{"$f":"データ一覧!W393","v":143564},null,null,null,null,null,null,"  ","林業",null,null,null,null,13,null,null,null,{"$f":"データ一覧!W517","v":9},null,null,null,{"$f":"データ一覧!W542","v":4},null,null,null,"  ","学術研究",null,null,null,null,199,null,null,null,{"$f":"データ一覧!W530","v":156},null,null,null,{"$f":"データ一覧!W555","v":43}]
["  ２  世　帯　数　と　人　口",null,null,null,null,null,null,null,null,null,null,null,null,null,null,null,null,null,null,null,null,null,null,null,null,null,null,"  区　分",null," 乳 用 牛",null," 肉 用 牛",null,"豚",null,"採卵鶏",null,"ブロイラー",null,null,"     木材","家具",null,null,null,null,null,null,null,null,{"$f":"データ一覧!W344","v":0},null,null,null,{"$f":"+データ一覧!W369","v":0},null,null,null,null,null,null,{"$f":"データ一覧!W394","v":0},null,null,null,null,null,null,"  ","漁業",null,null,null,null,57,null,null,null,{"$f":"データ一覧!W518","v":49},null,null,null,{"$f":"データ一覧!W543","v":8},null,null,null,"  ","宿泊業,飲食ｻｰﾋﾞｽ",null,null,null,null,542,null,null,null,{"$f":"データ一覧!W531","v":202},null,null,null,{"$f":"データ一覧!W556","v":340}]
[null,null,null,null,null,null,null,null,null,null,null,null,null,null,null,null,null,null,null,null,null,null,null,null,null,"畜　産",null," 飼養農家",null,{"$f":"データ一覧!$W$262","v":"x"},null,{"$f":"データ一覧!$W$264","v":3},null,{"$f":"データ一覧!$W$266","v":"-"},null,{"$f":"データ一覧!$W$268","v":"x"},null,{"$f":"データ一覧!$W$270","v":"-"},null,null,"     家具","パルプ・紙",null,null,null,null,null,null,null,null,{"$f":"データ一覧!W345","v":2},null,null,null,{"$f":"+データ一覧!W370","v":85},null,null,null,null,null,null,{"$f":"データ一覧!W395","v":"x"},null,null,null,null,null,null," 第２次産業",null,null,null,null,null,2042,null,null,null,{"$f":"データ一覧!W519","v":1399},null,null,null,{"$f":"データ一覧!W544","v":643},null,null,null,"  ","生活関連ｻｰﾋﾞｽ業",null,null,null,null,210,null,null,null,{"$f":"データ一覧!W532","v":84},null,null,null,{"$f":"データ一覧!W557","v":126}]
[null,null,null,null,null,null,null,null,"        人　　　　　　　　　　口",null,null,null,null,null,null,null,null,null,null,null,"１世帯当",null,"人    口",null,null,{"$f":"データ一覧!$A$262","v":"2.3.31"},null,"（戸）",null,null,null,null,null,null,null,null,null,null,null,null,"     パルプ・紙","印刷",null,null,null,null,null,null,null,null,{"$f":"データ一覧!W346","v":0},null,null,null,{"$f":"+データ一覧!W371","v":0},null,null,null,null,null,null,{"$f":"データ一覧!W396","v":0},null,null,null,null,null,null,null,"鉱業，採石業",null,null,null,null,5,null,null,null,{"$f":"データ一覧!W520","v":5},null,null,null,{"$f":"データ一覧!W545","v":0},null,null,null,"  ","教育,学習支援業",null,null,null,null,459,null,null,null,{"$f":"データ一覧!W533","v":210},null,null,null,{"$f":"データ一覧!W558","v":249}]
[" 区　　　　分",null,null,null,null,"世帯数",null,null," 総   数",null,null,"    男",null,null,"    女",null,null,"  男／女",null,null,"たり人員",null,"密    度",null,null,null,null," 頭 羽",null,{"$f":"データ一覧!$W$263","v":25},null,{"$f":"データ一覧!$W$265","v":138},null,{"$f":"データ一覧!$W$267","v":"-"},null,{"$f":"データ一覧!$W$269","v":7000},null,{"$f":"データ一覧!$W$271","v":"-"},null,null,"     出版・印刷","化学",null,null,null,null,null,null,null,null,{"$f":"データ一覧!W347","v":3},null,null,null,{"$f":"+データ一覧!W372","v":288},null,null,null,null,null,null,{"$f":"データ一覧!W397","v":773630},null,null,null,null,null,null,"  ","建設業",null,null,null,null,733,null,null,null,{"$f":"データ一覧!W521","v":621},null,null,null,{"$f":"データ一覧!W546","v":112},null,null,null,null,"医療，福祉",null,null,null,null,1103,null,null,null,{"$f":"データ一覧!W534","v":205},null,null,null,{"$f":"データ一覧!W559","v":898}]
[null,null,null,null,null,"    世 帯",null,null,"       人",null,null,"       人",null,null,"       人",null,null,null,"　　％",null,"    人",null,"    人/㎢",null,null,null,null,null,null,null,null,null,null,null,null,null,null,null,null,null,"     化学","石油・石炭",null,null,null,null,null,null,null,null,{"$f":"データ一覧!W348","v":0},null,null,null,{"$f":"+データ一覧!W373","v":0},null,null,null,null,null,null,{"$f":"データ一覧!W398","v":0},null,null,null,null,null,null,null,"製造業",null,null,null,null,1304,null,null,null,{"$f":"データ一覧!W522","v":773},null,null,null,{"$f":"データ一覧!W547","v":531},null,null,null,null,"複合サービス事業",null,null,null,null,181,null,null,null,{"$f":"データ一覧!W535","v":118},null,null,null,{"$f":"データ一覧!W560","v":63}]
[{"$f":"データ一覧!$A$25","v":" 2.10.1"},null,null,null,null,{"$f":"データ一覧!W25","v":4499},null,null,{"$f":"+L30+O30","v":17835},null,null,{"$f":"データ一覧!W27","v":8656},null,null,{"$f":"データ一覧!W28","v":9179},null,null,null,{"$f":"+L30/O30*100","v":94.302211569887788},null,{"$f":"データ一覧!W30","v":3.96},null,{"$f":"データ一覧!W24","v":0},null,null,"  ５  林               業",null,null,null,null,null,null,null,null,null,null,null,null,null,null,"     石油・石炭","プラスチック",null,null,null,null,null,null,null,null,{"$f":"データ一覧!W349","v":2},null,null,null,{"$f":"+データ一覧!W374","v":190},null,null,null,null,null,null,{"$f":"データ一覧!W399","v":"x"},null,null,null,null,null,null," 第３次産業",null,null,null,null,null,5069,null,null,null,{"$f":"データ一覧!W523","v":2474},null,null,null,{"$f":"データ一覧!W548","v":2595},null,null,null,null,"サービス業",null,null,null,null,443,null,null,null,{"$f":"データ一覧!W536","v":313},null,null,null,{"$f":"データ一覧!W561","v":130}]
[{"$f":"データ一覧!$A$32","v":" 7.10.1"},null,null,null,null,{"$f":"データ一覧!W32","v":4589},null,null,{"$f":"+L31+O31","v":17567},null,null,{"$f":"データ一覧!W34","v":8450},null,null,{"$f":"データ一覧!W35","v":9117},null,null,null,92.68399692881431,null,{"$f":"データ一覧!W37","v":3.83},null,{"$f":"データ一覧!W31","v":0},null,null,null,null,null,null,null,null,null,null,null,null,null,null,null,null,null,"     プラスチック","ゴム",null,null,null,null,null,null,null,null,{"$f":"データ一覧!W350","v":0},null,null,null,{"$f":"+データ一覧!W375","v":0},null,null,null,null,null,null,{"$f":"データ一覧!W400","v":0},null,null,null,null,null,null,null,"電気･ｶﾞｽ･水道業",null,null,null,null,116,null,null,null,{"$f":"データ一覧!W524","v":103},null,null,null,{"$f":"データ一覧!W549","v":13},null,null,null,null,"公務",null,null,null,null,390,null,null,null,{"$f":"データ一覧!W537","v":306},null,null,null,{"$f":"データ一覧!W562","v":84}]
[{"$f":"データ一覧!$A$39","v":"12.10.1"},null,null,null,null,{"$f":"データ一覧!W39","v":4716},null,null,{"$f":"+L32+O32","v":17313},null,null,{"$f":"データ一覧!W41","v":8302},null,null,{"$f":"データ一覧!W42","v":9011},null,null,null,92.131838863611137,null,{"$f":"データ一覧!W44","v":3.67},null,{"$f":"データ一覧!W38","v":0},null,null,"    　森　　　林　　　総　　　面　　　積   ",null,null,null,null,null,null,null,{"$f":"データ一覧!$A$272","v":"2.3.31"},null,null,null,null,null,null,"     ゴム","皮革",null,null,null,null,null,null,null,null,{"$f":"データ一覧!W351","v":1},null,null,null,{"$f":"+データ一覧!W376","v":6},null,null,null,null,null,null,{"$f":"データ一覧!W401","v":"x"},null,null,null,null,null,null,null,"情報通信業",null,null,null,null,41,null,null,null,{"$f":"データ一覧!W525","v":26},null,null,null,{"$f":"データ一覧!W550","v":15},null,null,null," 分類不能の産業",null,null,null,null,null,3,null,null,null,{"$f":"データ一覧!W538","v":3},null,null,null,{"$f":"データ一覧!W563","v":0}]
[{"$f":"+データ一覧!$A$46","v":"17.10.1"},null,null,null,null,{"$f":"データ一覧!W46","v":4827},null,null,{"$f":"+L33+O33","v":16780},null,null,{"$f":"データ一覧!W48","v":8026},null,null,{"$f":"データ一覧!W49","v":8754},null,null,null,91.683801690655699,null,{"$f":"データ一覧!W51","v":3.48},null,{"$f":"データ一覧!W52","v":93.9},null,null,"　　　森　　　　　　　林　　　　　　　の　　　　　　　構　　　　　　　成",null,null,null,null,null,null,null,null,null,null,null,null,null,null,"     皮革","窯業・土石",null,null,null,null,null,null,null,null,{"$f":"データ一覧!W352","v":2},null,null,null,{"$f":"+データ一覧!W377","v":17},null,null,null,null,null,null,{"$f":"データ一覧!W402","v":"x"},null,null,null,null,null,null,"  ","運輸業,郵便業",null,null,null,null,{"$f":"CA33+CE33","v":246},null,null,null,{"$f":"データ一覧!W526","v":215},null,null,null,{"$f":"データ一覧!W551","v":31}]
[{"$f":"+データ一覧!$A$53","v":"22.10.1"},null,null,null,null,{"$f":"データ一覧!W53","v":4994},null,null,{"$f":"+L34+O34","v":16099},null,null,{"$f":"データ一覧!W55","v":7781},null,null,{"$f":"+データ一覧!W56","v":8318},null,null,null,93.544121182976681,null,{"$f":"データ一覧!W58","v":3.22},null,{"$f":"データ一覧!W59","v":90.1},null,null,null,null,null,null,null,"       ha",null,null,null,null,null,null,"       ha",null,null,"     窯業・土石","鉄鋼",null,null,null,null,null,null,null,null,{"$f":"データ一覧!W353","v":0},null,null,null,{"$f":"+データ一覧!W378","v":0},null,null,null,null,null,null,{"$f":"データ一覧!W403","v":0},null,null,null,null,null,null," １６  社　 会 　福　 祉",null,null,null,null,null,null,null,null,null,null,null,null,null,null,null,{"$f":"データ一覧!$A$564","v":"2.4.1"}]
[{"$f":"データ一覧!$A$60","v":"27.10.1"},null,null,null,null,{"$f":"データ一覧!W60","v":4871},null,null,{"$f":"データ一覧!W61","v":15257},null,null,{"$f":"データ一覧!W62","v":7296},null,null,{"$f":"データ一覧!W63","v":7961},null,null,null,91.646778042959426,null,{"$f":"データ一覧!W65","v":3.1322110449599672},null,{"$f":"データ一覧!W66","v":85.5},null,null,"  総　　　　　   数",null,null,null,{"$f":"データ一覧!W272","v":11960.179999999997},null,null," 天然林       針葉樹",null,null,null,{"$f":"データ一覧!W275","v":732.15999999999599},null,null,null,"     鉄鋼","非鉄金属",null,null,null,null,null,null,null,null,{"$f":"データ一覧!W354","v":0},null,null,null,{"$f":"+データ一覧!W379","v":0},null,null,null,null,null,null,{"$f":"データ一覧!W404","v":0}]
[{"$f":"+データ一覧!$A$67","v":"2.10.1"},null,null,null,null,{"$f":"データ一覧!W67","v":4792},null,null,{"$f":"データ一覧!W76","v":13962},null,null,{"$f":"データ一覧!W77","v":6682},null,null,{"$f":"データ一覧!W78","v":7280},null,null,null,{"$f":"+L36/O36*100","v":91.785714285714278},null,{"$f":"データ一覧!W68","v":2.91},null,{"$f":"データ一覧!W69","v":78.222869628550612},null,null,"  人工林     針葉樹",null,null,null,{"$f":"データ一覧!W273","v":5621.16},null,null," 天然林       広葉樹",null,null,null,{"$f":"データ一覧!W276","v":5446.21},null,null,null,"     非鉄金属","金属",null,null,null,null,null,null,null,null,{"$f":"データ一覧!W355","v":0},null,null,null,{"$f":"+データ一覧!W380","v":0},null,null,null,null,null,null,{"$f":"データ一覧!W405","v":0},null,null,null,null,null,null,"    ","区分",null,null,null,null,null,null,"施設数",null,null,null,null,"収容定員",null,null,null,null,null,"区分",null,null,null,null,null,null,"施設数",null,null,null,null,"収容定員"]
["年",null,"  区",null," 0歳",null,null,"15歳",null,null,"25歳",null,null,"35歳",null,null,"45歳",null,null,"55歳",null,null,"65歳",null,null,"  人工林     広葉樹",null,null,null,{"$f":"データ一覧!W274","v":35.79},null,null," 竹               林",null,null,null,{"$f":"データ一覧!W277","v":67.530000000000015},null,null,null,"     金属","はん用機械",null,null,null,null,null,null,null,null,{"$f":"データ一覧!W356","v":0},null,null,null,{"$f":"+データ一覧!W381","v":0},null,null,null,null,null,null,{"$f":"データ一覧!W406","v":0},null,null,null,null,null,null,"生活保護施設",null,null,null,null,null,null,null,{"$f":"データ一覧!W564","v":0},null,null,null,{"$f":"データ一覧!W577","v":0},null,null,null,"人",null,"指定障害者支援施設",null,null,null,null,null,null,null,{"$f":"データ一覧!W570","v":0},null,null,null,{"$f":"データ一覧!W583","v":0},null,null,null,"人"]
["齢","令",null,null,null,"～",null,null,"～",null,null,"～",null,null,"～",null,null,"～",null,null,"～",null,null,null,null,null,null,null,null,null,null,null,null,null,null,null,null,null,null,null,"     一般機械","生産用機械",null,null,null,null,null,null,null,null,{"$f":"データ一覧!W357","v":2},null,null,null,{"$f":"+データ一覧!W382","v":44},null,null,null,null,null,null,{"$f":"データ一覧!W407","v":"x"},null,null,null,null,null,null,"地域福祉施設",null,null,null,null,null,null,null,{"$f":"データ一覧!W565","v":1},null,null,null,{"$f":"データ一覧!W578","v":0},null,null,null,null,null,"指定相談支援事業所",null,null,null,null,null,null,null,{"$f":"データ一覧!W571","v":1},null,null,null,{"$f":"データ一覧!W584","v":0}]
["階","元","  分",null,null,null,"14歳",null,null,"24歳",null,null,"34歳",null,null,"44歳",null,null,"54歳",null,null,"64歳",null,null,"以上","    林     野     の     構     成",null,null,null,null,null,null,"保     有     形     態     別",null,null,null,null,null,null,null,"     電気機械","業務用機械",null,null,null,null,null,null,null,null,{"$f":"データ一覧!W358","v":1},null,null,null,{"$f":"+データ一覧!W383","v":18},null,null,null,null,null,null,{"$f":"データ一覧!W408","v":"x"},null,null,null,null,null,null,"老人福祉施設",null,null,null,null,null,null,null,{"$f":"データ一覧!W566","v":4},null,null,null,{"$f":"データ一覧!W579","v":55},null,null,null,null,null,"児童福祉施設",null,null,null,null,null,null,null,{"$f":"データ一覧!W572","v":12},null,null,null,{"$f":"データ一覧!W585","v":681}]
["級","・",null,null,null,null,"人",null,null,"人",null,"    人",null,null,"    人",null,null,"    人",null,null,"    人",null,null,"    人",null,null,null,null,null,null,null,"ha",null,null,null,null,null,"       ha",null,null,null,"電子・デバイス",null,null,null,null,null,null,null,null,{"$f":"データ一覧!W359","v":1},null,null,null,{"$f":"+データ一覧!W384","v":142},null,null,null,null,null,null,{"$f":"データ一覧!W409","v":"x"},null,null,null,null,null,null,"介護保険施設",null,null,null,null,null,null,null,{"$f":"データ一覧!W567","v":32},null,null,null,{"$f":"データ一覧!W580","v":488},null,null,null,null,null,"母子福祉施設",null,null,null,null,null,null,null,{"$f":"データ一覧!W573","v":0},null,null,null,{"$f":"データ一覧!W586","v":0}]
["別","10","総 数",null,{"$f":"+E42+E43","v":1741},null,null,{"$f":"+H42+H43","v":1143},null,null,{"$f":"+K42+K43","v":903},null,null,{"$f":"+N42+N43","v":1384},null,null,{"$f":"+Q42+Q43","v":1725},null,null,{"$f":"+T42+T43","v":1933},null,null,{"$f":"+W42+W43","v":5132},null,null," 無立木地   伐採跡地",null,null,null,{"$f":"データ一覧!W278","v":2.2999999999999998},null,null,"国   　　　 　 有",null,null,null,{"$f":"データ一覧!W280","v":562.30999999999995},null,null,null,null,"電気機械",null,null,null,null,null,null,null,null,{"$f":"データ一覧!W360","v":4},null,null,null,{"$f":"+データ一覧!W385","v":376},null,null,null,null,null,null,{"$f":"データ一覧!W410","v":2006658},null,null,null,null,null,null,"障害者自立支援法施行前からの身体障害者福祉施設",null,null,null,null,null,null,null,{"$f":"データ一覧!W568","v":0},null,null,null,{"$f":"データ一覧!W581","v":0},null,null,null,null,null,"婦人保護施設",null,null,null,null,null,null,null,{"$f":"データ一覧!W574","v":0},null,null,null,{"$f":"データ一覧!W587","v":0}]
["人","・","  男",null,{"$f":"データ一覧!W79","v":864},null,null,{"$f":"データ一覧!W80","v":579},null,null,{"$f":"データ一覧!W81","v":486},null,null,{"$f":"データ一覧!W82","v":707},null,null,{"$f":"データ一覧!W83","v":832},null,null,{"$f":"データ一覧!W84","v":1003},null,null,{"$f":"データ一覧!W85","v":2210},null,null," 無立木地   未立木地",null,null,null,{"$f":"データ一覧!W279","v":55.03},null,null,"公       　　  有",null,null,null,{"$f":"データ一覧!W281","v":1743.47},null,null,null,"     輸送機械","情報通信機械",null,null,null,null,null,null,null,null,{"$f":"データ一覧!W361","v":0},null,null,null,{"$f":"+データ一覧!W386","v":0},null,null,null,null,null,null,{"$f":"データ一覧!W411","v":0},null,null,null,null,null,null,null,null,null,null,null,null,null,null,null,null,null,null,null,null,null,null,null,null,"その他の社会福祉施設",null,null,null,null,null,null,null,{"$f":"データ一覧!W575+データ一覧!W576","v":0},null,null,null,{"$f":"データ一覧!W588+データ一覧!W589","v":0}]
["口","1","  女",null,{"$f":"データ一覧!W87","v":877},null,null,{"$f":"データ一覧!W88","v":564},null,null,{"$f":"データ一覧!W89","v":417},null,null,{"$f":"データ一覧!W90","v":677},null,null,{"$f":"データ一覧!W91","v":893},null,null,{"$f":"データ一覧!W92","v":930},null,null,{"$f":"データ一覧!W93","v":2922},null,null,null,null,null,null,null,null,null,"私          　 有",null,null,null,{"$f":"データ一覧!W282","v":9654.399999999996},null,null,null,"     精密機械","輸送機械",null,null,null,null,null,null,null,null,{"$f":"データ一覧!W362","v":3},null,null,null,{"$f":"+データ一覧!W387","v":289},null,null,null,null,null,null,{"$f":"データ一覧!W412","v":690849},null,null,null,null,null,null,"障害福祉サービス事業所",null,null,null,null,null,null,null,{"$f":"データ一覧!W569","v":18},null,null,null,{"$f":"データ一覧!W582","v":185}]
[null,null,null,null,null,null,null,null,null,null,null,null,null,null,null,null,null,null,null,null,null,null,null,null,null,"            林     産     物     生     産     量 ",null,null,null,null,null,null,null,null,null,{"$f":"データ一覧!$A$283","v":"元年中"},null,null,null,null,"     その他","その他",null,null,null,null,null,null,null,null,{"$f":"データ一覧!W363","v":0},null,null,null,{"$f":"+データ一覧!W388","v":0},null,null,null,null,null,null,{"$f":"データ一覧!W413","v":0},null,null,null,null,null,null," １７  教　　　　　　　育",null,null,null,null,null,null,null,null,null,null,null,null,null,null,null,{"$f":"データ一覧!$A$590","v":"2.5.1"}]
["人口動態",null,null,null,null,null,null,"   自　然　動　態",null,null,null,null,null,"   社  会  動  態",null,null,null,null,null,{"$f":"データ一覧!$A74","v":"31.1.1～元.12.31"},null,null,null,null,null,"生椎茸",null,null,null,{"$f":"データ一覧!W283","v":700},null,"㎏","乾椎茸",null,null,null,{"$f":"データ一覧!W284","v":300},null,"㎏"]
[null,null,"   区       分",null,null,null,null," 出   生",null,null," 死   亡",null,null," 転   入",null,null," 転   出",null,null," 婚   姻",null,null," 離   婚",null,null,"えのきだけ",null,null,null,{"$f":"データ一覧!W286","v":"-"},null,"㎏","なめこ",null,null,null,{"$f":"データ一覧!W285","v":"-"},null,"㎏",null,"    ","工　業　用　水　量",null,null,null,null,null,"（従業者30人以上の事業所）",null,null,null,null,null,null,null,null,null,null,{"$f":"データ一覧!W414","v":49307},null,null,null,null,"㎥／日",null,null,null,null,null,null,null,null,null,null,null,null,null,null,"学校数（校）",null,null,null,null,null,null,"教員数（人）",null,null,null,null,null,null,null,"学生・生徒・児童数（人）"]
[{"$f":"LEFT(データ一覧!$A70,7)","v":"元.10.1～"},null,null,null,null,null,null,"       人",null,null,"       人",null,null,"       人",null,null,"       人",null,null,null,"    件",null,null,"    件",null,"ひらたけ",null,null,null,{"$f":"+データ一覧!W287","v":"-"},null,"㎏","まいたけ",null,null,null,{"$f":"+データ一覧!W288","v":"-"},null,"㎏",null,null,null,null,null,null,null,null,null,null,null,null,null,null,null,null,null,null,null,null,null,null,null,null,null,null,null,null,null,null,"　","区分",null,null,null,null,null,null,null," 本 校",null,null," 分 校",null,null," 本   務",null,null,null," 兼   務",null,null,null," 総   数",null,null,null,"男",null,null,null,"女"]
["～",null," 実          数",null,null,null,null,{"$f":"データ一覧!W70","v":94},null,null,{"$f":"データ一覧!W71","v":215},null,null,{"$f":"データ一覧!W72","v":259},null,null,{"$f":"データ一覧!W73","v":387},null,null,{"$f":"データ一覧!W74","v":40},null,null,{"$f":"データ一覧!W75","v":19},null,null,null,null,null,null,null,null,null,null,null,null,null,null,null,null,null," １１ 　上　・　下　水　道",null,null,null,null,null,null,null,null,null,null,null,null,null,null,null,null,null,null,null,null,null,null,null,null,null,null,null,null,"小学校",null,null,null,null,null,null,null,null,{"$f":"データ一覧!W591","v":10},null,null,{"$f":"データ一覧!W592","v":0},null,null,{"$f":"データ一覧!W593","v":107},null,null,null,{"$f":"データ一覧!W594","v":13},null,null,null,{"$f":"データ一覧!W595","v":770},null,null,null,{"$f":"データ一覧!W596","v":390},null,null,null,{"$f":"データ一覧!W597","v":380}]
[{"$f":"RIGHT(データ一覧!$A72,7)","v":"～2.9.30"},null,"比率(対1,000人)",null,null,null,null,{"$f":"+H48/I35*1000","v":6.1611063774005377},null,null,{"$f":"+K48/I35*1000","v":14.091892246182081},null,null,"- ",null,null,"- ",null,null,{"$f":"+T48/I35*1000","v":2.6217473946385264},null,null,{"$f":"+W48/I35*1000","v":1.2453300124533002},null,null,"  ６  漁               業",null,null,null,null,null,null,null,null,null,null,null,null,null,null,null,null,null,null,null,null,null,null,null,null,null,null,null,null,null,null,null,null,null,null,null,null,null,null,null,null,null,null,"  ","中学校",null,null,null,null,null,null,null,null,{"$f":"データ一覧!W599","v":2},null,null,{"$f":"データ一覧!W600","v":0},null,null,{"$f":"データ一覧!W601","v":46},null,null,null,{"$f":"データ一覧!W602","v":3},null,null,null,{"$f":"データ一覧!W603","v":407},null,null,null,{"$f":"データ一覧!W604","v":180},null,null,null,{"$f":"データ一覧!W605","v":227}]
[null,null,null,null,null,null,null,null,null,null,null,null,null,null,null,null,null,null,null,null,null,null,null,null,null,null,null,null,null,null,null,null,null,null,null,null,null,null,null,null,"水 道 供 給 人 口",null,null,null,null,null,null,"上 水 道",null,null,null,"簡易水道",null,null,null,"専用水道",null,null,null,"飲料水供給施設",null,null,null,"下水道処理人口",null,null,null,null,"  ","高等学校",null,null,null,null,null,null,null,null,{"$f":"データ一覧!W607","v":1},null,null,{"$f":"データ一覧!W608","v":0},null,null,{"$f":"データ一覧!W609","v":39},null,null,null,{"$f":"データ一覧!W610","v":13},null,null,null,{"$f":"データ一覧!W611","v":458},null,null,null,{"$f":"データ一覧!W612","v":148},null,null,null,{"$f":"データ一覧!W613","v":310}]
["  ３  事　　業　　所（民　　営）    （平 28.6.1）",null,null,null,null,null,null,null,null,null,null,null,null,null,null,null,null,null,null,null,null,null,null,null,null,"漁船隻数・トン数",null,null,null,{"$f":"データ一覧!$A$289","v":"元.12.31"},null,null,null,"動　力　船",null,null,null,null,null,null,{"$f":"データ一覧!$A$415","v":"2.3.31"},null,null,null,null,null,"人",null,{"$f":"データ一覧!W415","v":6514},null,null,{"$f":"データ一覧!W416","v":7545},null,null,null,null,{"$f":"データ一覧!W417","v":0},null,null,null,{"$f":"データ一覧!W418","v":0},null,null,null,{"$f":"データ一覧!W419","v":6099},null,null,null,"  ","大学・短期大学",null,null,null,null,null,null,null,null,{"$f":"データ一覧!W614","v":0},null,null,{"$f":"データ一覧!W615","v":0},null,null,{"$f":"データ一覧!W616","v":0},null,null,null,{"$f":"データ一覧!W617","v":0},null,null,null,{"$f":"データ一覧!W618","v":0},null,null,null,{"$f":"データ一覧!W619","v":0},null,null,null,{"$f":"データ一覧!W620","v":0}]
[null,null,null,null,null,null,null,null,null,null,null,null,null,null,null,null,null,null,null,null,null,null,null,null,null,"無動力船隻数",null,null,null,"船外機付漁船隻数",null,null,null,"隻　数",null,null,"総 ト ン 数",null,null,null,null,null,null,null,null,null,null,null,null,null,null,null,null,null,null,null,null,null,null,null,null,null,null,null,null,null,null,null,"  ","高等専門学校",null,null,null,null,null,null,null,null,{"$f":"データ一覧!W621","v":0},null,null,{"$f":"データ一覧!W622","v":0},null,null,{"$f":"データ一覧!W623","v":0},null,null,null,{"$f":"データ一覧!W624","v":0},null,null,null,{"$f":"データ一覧!W625","v":0},null,null,null,{"$f":"データ一覧!W626","v":0},null,null,null,{"$f":"データ一覧!W627","v":0}]
[null,null,null,null,null,null,null,"    総　　　　　数",null,null,null,null,null,"    民　　　　　営",null,null,null,null,null,"  国 ･ 地方公共団体",null,null,null,null,null,null,null,null,"隻",null,null,null,"隻",null,null,"隻",null,null,"t",null," １２  交   通　・　通   信",null,null,null,null,null,null,null,null,null,null,null,null,null,null,null,null,null,null,null,null,null,null,null,null,null,null,null,"  ","特別支援学校",null,null,null,null,null,null,null,null,{"$f":"+データ一覧!W629","v":0},null,null,{"$f":"+データ一覧!W630","v":0},null,null,{"$f":"+データ一覧!W631","v":0},null,null,null,{"$f":"+データ一覧!W632","v":0},null,null,null,{"$f":"+データ一覧!W633","v":0},null,null,null,{"$f":"+データ一覧!W634","v":0},null,null,null,{"$f":"+データ一覧!W635","v":0}]
["  　区　　　　　　分",null,null,null,null,null,null," 事業所数",null,null," 従業者数",null,null," 事業所数",null,null," 従業者数",null,null," 事業所数",null,null," 従業者数",null,null,{"$f":"データ一覧!$W$289","v":0},null,null,null,{"$f":"データ一覧!$W$290","v":167},null,null,null,{"$f":"データ一覧!W291","v":89},null,null,{"$f":"データ一覧!W292","v":385.8},null,null,null,null,null,null,null,null,null,null,null,null,null,null,null,null,null,null,null,null,null,null,null,null,null,null,null,null,null,null,null,"  ","幼稚園",null,null,null,null,null,null,null,null,{"$f":"データ一覧!W637","v":0},null,null,{"$f":"データ一覧!W638","v":0},null,null,{"$f":"データ一覧!W639","v":0},null,null,null,{"$f":"データ一覧!W640","v":0},null,null,null,{"$f":"データ一覧!W641","v":0},null,null,null,{"$f":"データ一覧!W642","v":0},null,null,null,{"$f":"データ一覧!W643","v":0}]
[null,null,null,null,null,null,null,null,null,null,"       人",null,null,null,null,null,"       人",null,null,null,null,null,"       人",null,null,"  男女別就業者数",null,null,null,null,null,null,null,{"$f":"データ一覧!$A$293","v":"30.11.1"},null,null,null,null,null,null,"道     路",null,null,null,"実 延 長",null,null,null,"国     道",null,null,null,"県     道",null,null,null,"市町道",null,null,null," 鉄 道 営 業 キ ロ 数",null,null,null,null,null,null,null,"  ","幼保連携認定こども園",null,null,null,null,null,null,null,null,{"$f":"データ一覧!W645","v":0},null,null,{"$f":"データ一覧!W646","v":0},null,null,{"$f":"データ一覧!W647","v":0},null,null,null,{"$f":"データ一覧!W648","v":0},null,null,null,{"$f":"データ一覧!W649","v":0},null,null,null,{"$f":"データ一覧!W650","v":0},null,null,null,{"$f":"データ一覧!W651","v":0}]
["総数",null,null,null,null,null,null,{"$f":"データ一覧!W95","v":"…"},null,null,{"$f":"データ一覧!W152","v":"…"},null,null,{"$f":"データ一覧!W96","v":750},null,null,{"$f":"データ一覧!W153","v":5684},null,null,{"$f":"データ一覧!W97","v":"…"},null,null,{"$f":"データ一覧!W154","v":"…"},null,null,"総　　数",null,null,null,null,null,"男",null,null,null,"女",null,null,null,null,{"$f":"データ一覧!$A$420","v":"31.4.1"},null,null,null,{"$f":"データ一覧!W420","v":558.89200000000005},null,null,"㎞",{"$f":"データ一覧!W421","v":15.9},null,null,"㎞",{"$f":"データ一覧!W422","v":62.900000000000006},null,null,"㎞",{"$f":"データ一覧!W423","v":480.09199999999998},null,null,"km",{"$f":"データ一覧!$A$424","v":"2.4.1"},null,null,null,{"$f":"データ一覧!W424","v":21.972999999999999},null,null,"㎞","  ","各種学校",null,null,null,null,null,null,null,null,{"$f":"データ一覧!W653","v":0},null,null,{"$f":"データ一覧!W654","v":0},null,null,{"$f":"データ一覧!W655","v":0},null,null,null,{"$f":"データ一覧!W656","v":0},null,null,null,{"$f":"データ一覧!W657","v":0},null,null,null,{"$f":"データ一覧!W658","v":0},null,null,null,{"$f":"データ一覧!W659","v":0}]
["農林漁業",null,null,null,null,null,null,{"$f":"データ一覧!W98","v":"…"},null,null,{"$f":"データ一覧!W155","v":"…"},null,null,{"$f":"データ一覧!W99","v":26},null,null,{"$f":"データ一覧!W156","v":291},null,null,{"$f":"データ一覧!W100","v":"…"},null,null,{"$f":"データ一覧!W157","v":"…"},null,null,null,null,null,null,null,"人",null,null,"　　　　人",null,null,null,null,"  人",null,"自動車",null,null,null,null,null,null,null,null,"乗用車",null,null,null,null,null,null,null,null,null,null,null,null,null,null,null,null,null,null,"  ","専修学校",null,null,null,null,null,null,null,null,{"$f":"データ一覧!W661","v":0},null,null,{"$f":"データ一覧!W662","v":0},null,null,{"$f":"データ一覧!W663","v":0},null,null,null,{"$f":"データ一覧!W664","v":0},null,null,null,{"$f":"データ一覧!W665","v":0},null,null,null,{"$f":"データ一覧!W666","v":0},null,null,null,{"$f":"データ一覧!W667","v":0}]
["鉱業",null,null,null,null,null,null,{"$f":"データ一覧!W101","v":"…"},null,null,{"$f":"データ一覧!W158","v":"…"},null,null,{"$f":"データ一覧!W102","v":0},null,null,{"$f":"データ一覧!W159","v":0},null,null,{"$f":"データ一覧!W103","v":"…"},null,null,{"$f":"データ一覧!W160","v":"…"},null,null,{"$f":"AF58+AJ58","v":69},null,null,null,null,null,{"$f":"データ一覧!$W$294","v":68},null,null,null,{"$f":"データ一覧!W295","v":1},null,null,null,null,"台  数",null,null,null,"貨    物",null,null,null,"普     通",null,null,null,"小     型",null,null,null,"乗  合",null,null,"特  種",null,null,"小型二輪",null,null,"軽自動車",null,null," １８  衛　　　　　　　生"]
["建設業",null,null,null,null,null,null,{"$f":"データ一覧!W104","v":"…"},null,null,{"$f":"データ一覧!W161","v":"…"},null,null,{"$f":"データ一覧!W105","v":109},null,null,{"$f":"データ一覧!W162","v":562},null,null,{"$f":"データ一覧!W106","v":"…"},null,null,{"$f":"データ一覧!W163","v":"…"},null,null,"　　　　海 面 漁 業 漁 獲 量 （属人）",null,null,null,null,null,null,null,{"$f":"データ一覧!$A$296","v":"30年中"},null,null,null,null,null,null,{"$f":"データ一覧!$A$425","v":"2.3.31"},null,null,null,null,{"$f":"データ一覧!W425","v":637},null,null,null,{"$f":"データ一覧!W427","v":2446},null,null,null,{"$f":"データ一覧!W428","v":2620},null,null,{"$f":"データ一覧!W426","v":57},null,null,{"$f":"データ一覧!W429","v":294},null,null,{"$f":"データ一覧!W430","v":196},null,null,{"$f":"データ一覧!W431","v":7189}]
["製造業",null,null,null,null,null,null,{"$f":"データ一覧!W107","v":"…"},null,null,{"$f":"データ一覧!W164","v":"…"},null,null,{"$f":"データ一覧!W108","v":61},null,null,{"$f":"データ一覧!W165","v":1730},null,null,{"$f":"データ一覧!W109","v":"…"},null,null,{"$f":"データ一覧!W166","v":"…"},null,null,null,null,null,null,null,"       ","ｔ",null,null,null,null,null,null,"t",null,null,null,"     ",null,"郵　便　局　数",null,null,null,null,null,null,null,null,null,null,null,null,null,null,null,"一般加入",null,null,null,"ＩＮＳネット",null,null,null,null,null,null,null,"医療関係施設",null,null,null,null,null,{"$f":"データ一覧!$A$668","v":"元.10.1"},null,null,null,null,null,null,"および医療関係者数",null,null,null,null,null,null,null,{"$f":"データ一覧!$A$673","v":"30.12.31"}]
["電気・ｶﾞ ｽ・熱供給・水道業",null,null,null,null,null,null,{"$f":"データ一覧!W110","v":"…"},null,null,{"$f":"データ一覧!W167","v":"…"},null,null,{"$f":"データ一覧!W111","v":0},null,null,{"$f":"データ一覧!W168","v":0},null,null,{"$f":"データ一覧!W112","v":"…"},null,null,{"$f":"データ一覧!W169","v":"…"},null,null,"   総　　　　　　数",null,null,null,{"$f":"データ一覧!W296","v":858},null,null,"   藻　　　　　　類",null,null,null,{"$f":"データ一覧!W299","v":8},null,null,null,"通  信",null,null,null," 総     数",null,null,null,null,null," 郵 便 局",null,null,null,null," 簡 易 局",null,null,null,null,"電話数",null,null,null,"加入数",null,null,null,null,null,null,null,null,null,"　","病",null,null,"院",null,"　",null,null,null,null," ","一般診療所",null,null,null,null,null,null,null,null,null,null,null,"歯科診療所"]
["情報通信業",null,null,null,null,null,null,{"$f":"データ一覧!W113","v":"…"},null,null,{"$f":"データ一覧!W170","v":"…"},null,null,{"$f":"データ一覧!W114","v":1},null,null,{"$f":"データ一覧!W171","v":4},null,null,{"$f":"データ一覧!W115","v":"…"},null,null,{"$f":"データ一覧!W172","v":"…"},null,null,"   魚　　　　　　類",null,null,null,{"$f":"データ一覧!W297","v":801},null,null,"   そ　   の　　 他",null,null,null,{"$f":"データ一覧!W300","v":37},null,null,null,{"$f":"データ一覧!$A$435","v":"2.3.31"},null,null,null,{"$f":"データ一覧!W432","v":7},null,null,null,null,null,{"$f":"データ一覧!W433","v":7},null,null,null,null,{"$f":"データ一覧!W434","v":0},null,null,null,null,{"$f":"データ一覧!W435","v":3151},null,null,null,{"$f":"データ一覧!W436","v":412},null,null,null," ","医療関係",null,null,null,null,null,null,null,null,null,null,null,"一般病院",null,null,null,null,null,null,null,null,null,null,null,"有",null,null,"床"]
["運輸業、郵便業",null,null,null,null,null,null,{"$f":"データ一覧!W116","v":"…"},null,null,{"$f":"データ一覧!W173","v":"…"},null,null,{"$f":"データ一覧!W117","v":15},null,null,{"$f":"データ一覧!W174","v":149},null,null,{"$f":"データ一覧!W118","v":"…"},null,null,{"$f":"データ一覧!W175","v":"…"},null,null,"   貝　　　　　　類",null,null,null,{"$f":"データ一覧!W298","v":12},null,null,null,null,null,null,null,null,null,null,null,null,null,null,null,null,null,null,null,null,null,null,null,null,null,null,null,null,null,null,null,null,null,null,null,null,null,null,null,"施設数",null,null,null,null,null,null,{"$f":"データ一覧!W668","v":2},null,null,null,null,null,{"$f":"データ一覧!W669","v":1},null,null,null,null,null,{"$f":"データ一覧!W670","v":10},null,null,null,null,null,{"$f":"データ一覧!W671","v":1},null,null,null,null,null,{"$f":"データ一覧!W672","v":3}]
["卸売業、小売業",null,null,null,null,null,null,{"$f":"データ一覧!W119","v":"…"},null,null,{"$f":"データ一覧!W176","v":"…"},null,null,{"$f":"データ一覧!W120","v":170},null,null,{"$f":"データ一覧!W177","v":833},null,null,{"$f":"データ一覧!W121","v":"…"},null,null,{"$f":"データ一覧!W178","v":"…"},null,null,null,null,null,null,null,null,null,null,null,null,null,null,null,null,null," １３  税　　・　　財　　政",null,null,null,null,null,null,null,null,null,null,null,null,null,null,null,null,null,null,null,null,null,null,null,null,null,null,null,null,null,null,null,null,null,null,"医師",null,null,null,null,"歯科医師",null,null,null,null,"薬剤師",null,null,null,null,"保健師",null,null,null,null,"助産師",null,null," ",null,"看護師",null,null," "]
["金融業、保険業",null,null,null,null,null,null,{"$f":"データ一覧!W122","v":"…"},null,null,{"$f":"データ一覧!W179","v":"…"},null,null,{"$f":"データ一覧!W123","v":11},null,null,{"$f":"データ一覧!W180","v":59},null,null,{"$f":"データ一覧!W124","v":"…"},null,null,{"$f":"データ一覧!W181","v":"…"},null,null,"  ７  商        　　　業 ",null,null,null,null,null,null,{"$f":"データ一覧!$A$301","v":"28.6.1(平成27年実績）"},null,null,null,null,null,null,null,null,null,null,null,null,null,null,null,null,null,null,null,null,null,null,null,null,null,null,null,null,null,null,null,null,null,null,null," ","医療",null,null,null,null,null,null,null,null,"人",null,null,null,null,"人",null,null,null,null,"人",null,null,null,null,"人",null,null,null,null,"人",null,null,null,null,"人"]
["不動産業、物品賃貸業",null,null,null,null,null,null,{"$f":"データ一覧!W125","v":"…"},null,null,{"$f":"データ一覧!W182","v":"…"},null,null,{"$f":"データ一覧!W126","v":5},null,null,{"$f":"データ一覧!W183","v":13},null,null,{"$f":"データ一覧!W127","v":"…"},null,null,{"$f":"データ一覧!W184","v":"…"},null,null,null,null,null,null,null,null,null,null,null,null,null,null,null,null,null,"           ",null,null,null,"歳入",null,null,null,null,null,null,null,null,"(千円）"," ",null,null,null,"歳出",null,null,null,null,null,null,null,null,"(千円）",null,"関係者",null,null,null,null,{"$f":"データ一覧!W673","v":19},null,null,null,null,{"$f":"データ一覧!W674","v":5},null,null,null,null,{"$f":"データ一覧!W675","v":14},null,null,null,null,{"$f":"データ一覧!W676","v":10},null,null,null,null,{"$f":"データ一覧!W677","v":1},null,null,null,null,{"$f":"データ一覧!W678","v":187}]
["学術研究、専門・技術ｻｰﾋﾞｽ業",null,null,null,null,null,null,{"$f":"データ一覧!W128","v":"…"},null,null,{"$f":"データ一覧!W185","v":"…"},null,null,{"$f":"データ一覧!W129","v":18},null,null,{"$f":"データ一覧!W186","v":66},null,null,{"$f":"データ一覧!W130","v":"…"},null,null,{"$f":"データ一覧!W187","v":"…"},null,null,"  産   業　 分　 類",null,null,null,"  商　 店 　数",null,null," 従　業　者　数",null,null,"年　間　販　売　額",null,null,null,null,"一人当たり歳入歳出予算決算額",null,null,null,null,null,null,null,null,null,null,null,null,null,null,null,null,null,null,null,null,null,null,null,null,null,null,null,"                   ",null,null,null,null,null,null,null,null,"死因別死亡数　　　　　　    ",null,null,null,null,null,null,null,null,null,null,null,null,null,null,null,{"$f":"データ一覧!$A$679","v":"元年中"},null,null,null,null,null,null,null,null,"      単 位：人"]
["宿泊業、飲食サービス業",null,null,null,null,null,null,{"$f":"データ一覧!W131","v":"…"},null,null,{"$f":"データ一覧!W188","v":"…"},null,null,{"$f":"データ一覧!W132","v":160},null,null,{"$f":"データ一覧!W189","v":779},null,null,{"$f":"データ一覧!W133","v":"…"},null,null,{"$f":"データ一覧!W190","v":"…"},null,null,null,null,null,null,null,"        店",null,null,null,"　人",null,"         百万円",null,null,null,"区分",null,null,null,{"$f":"データ一覧!$A$445","v":"2年度"},null,null,null,null,{"$f":"データ一覧!$A$459","v":"元年度"},null,null,null,null,"区分",null,null,null,{"$f":"+AS68","v":"2年度"},null,null,null,null,{"$f":"データ一覧!$A$459","v":"元年度"},null,null,null,null," 死     因",null,null,null,null,null,null,null,null,null,null,null,"悪  性",null,null,"高血圧",null,null,null,null,null,"脳血管",null,null,null,null,null," ",null,null,"不慮の事故"]
["生活関連サービス業、娯楽業",null,null,null,null,null,null,{"$f":"データ一覧!W134","v":"…"},null,null,{"$f":"データ一覧!W191","v":"…"},null,null,{"$f":"データ一覧!W135","v":59},null,null,{"$f":"データ一覧!W192","v":209},null,null,{"$f":"データ一覧!W136","v":"…"},null,null,{"$f":"データ一覧!W193","v":"…"},null,null,"総　　　　　　計",null,null,null,{"$f":"データ一覧!W301","v":151},null,null,{"$f":"データ一覧!W310","v":724},null,null,{"$f":"データ一覧!W319","v":13951},null,null,null,null,null,null,null,null,{"$f":"データ一覧!W441","v":772713.86620827962},null,null,null,null,{"$f":"データ一覧!W442","v":756585},null,null,null,null,null,null,null,null,{"$f":"データ一覧!W443","v":772713.86620827962},null,null,null,null,{"$f":"データ一覧!W444","v":715106.5371895011},null,null,null,null,null,null,null,null,null,"全 死 因",null,null,null,"結 核",null,null,"新生物",null,null,"性疾患",null,null,"心疾患",null,null,"疾  患",null,null,"肺  炎",null,null,"老  衰",null,null,null,null," ","交通事故"]
["教育、学習支援業",null,null,null,null,null,null,{"$f":"データ一覧!W137","v":"…"},null,null,{"$f":"データ一覧!W194","v":"…"},null,null,{"$f":"データ一覧!W138","v":13},null,null,{"$f":"データ一覧!W195","v":17},null,null,{"$f":"データ一覧!W139","v":"…"},null,null,{"$f":"データ一覧!W196","v":"…"},null,null,"卸売業",null,null,null,{"$f":"データ一覧!W302","v":15},null,null,{"$f":"データ一覧!W311","v":65},null,null,{"$f":"データ一覧!W320","v":2733},null,null,null,null,"項目別歳入歳出予算決算額"]
["医療、福祉",null,null,null,null,null,null,{"$f":"データ一覧!W140","v":"…"},null,null,{"$f":"データ一覧!W197","v":"…"},null,null,{"$f":"データ一覧!W141","v":35},null,null,{"$f":"データ一覧!W198","v":672},null,null,{"$f":"データ一覧!W142","v":"…"},null,null,{"$f":"データ一覧!W199","v":"…"},null,null,"小売業",null,null,null,{"$f":"データ一覧!W303","v":136},null,null,{"$f":"データ一覧!W312","v":659},null,null,{"$f":"データ一覧!W321","v":11218},null,null,null,null,"区分",null,null,null,{"$f":"データ一覧!$A$445","v":"2年度"},null,null,null,null,{"$f":"データ一覧!$A$459","v":"元年度"},null,null,null,null,"区分",null,null,null,{"$f":"+AS71","v":"2年度"},null,null,null,null,{"$f":"データ一覧!$A$459","v":"元年度"},null,null,null,null,null,null,null,null,null,{"$f":"データ一覧!W679","v":239},null,null,null,"   －",{"$f":"データ一覧!W680","v":1},null,{"$f":"データ一覧!W681","v":53},null,null,null,{"$f":"データ一覧!W682","v":1},null,{"$f":"データ一覧!W683","v":34},null,null,{"$f":"データ一覧!W684","v":21},null,null,{"$f":"データ一覧!W685","v":16},null,null,{"$f":"データ一覧!W686","v":41},null,null,{"$f":"データ一覧!W687","v":13},null,null,{"$f":"データ一覧!W688","v":3}]
["複合サービス事業",null,null,null,null,null,null,{"$f":"データ一覧!W143","v":"…"},null,null,{"$f":"データ一覧!W200","v":"…"},null,null,{"$f":"データ一覧!W144","v":11},null,null,{"$f":"データ一覧!W201","v":94},null,null,{"$f":"データ一覧!W145","v":"…"},null,null,{"$f":"データ一覧!W202","v":"…"},null,null,"各種商品",null,null,null,{"$f":"データ一覧!W304","v":2},null,null,{"$f":"データ一覧!W313","v":165},null,null,{"$f":"データ一覧!W322","v":"x"},null,null,null,null,"総額",null,null,null,{"$f":"SUM(AS73:AW85)","v":10788631},null,null,null,null,{"$f":"SUM(AX73:BB85)","v":10751833},null,null,null,null,"総額",null,null,null,{"$f":"SUM(BG73:BK85)","v":10788631},null,null,null,null,{"$f":"SUM(BL73:BP85)","v":10162379},null,null,null,null," １９  警　察　・　消　防  ",null,null,null,null,null,null,null,null,null,null,null,null,null,null,null,{"$f":"+データ一覧!$A689","v":"2.4.1"}]
["サービス業",null,null,null,null,null,null,{"$f":"データ一覧!W146","v":"…"},null,null,{"$f":"データ一覧!W203","v":"…"},null,null,{"$f":"データ一覧!W147","v":56},null,null,{"$f":"データ一覧!W204","v":206},null,null,{"$f":"データ一覧!W148","v":"…"},null,null,{"$f":"データ一覧!W205","v":"…"},null,null,"織物・衣服・身の回り品",null,null,null,{"$f":"データ一覧!W305","v":5},null,null,{"$f":"データ一覧!W314","v":11},null,null,{"$f":"データ一覧!W323","v":49},null,null,null,null,"地方税",null,null,null,{"$f":"データ一覧!W446","v":1731392},null,null,null,null,{"$f":"データ一覧!W460","v":1817334},null,null,null,null,"議会費",null,null,null,{"$f":"データ一覧!W474","v":92492},null,null,null,null,{"$f":"データ一覧!W488","v":91135}]
["公務",null,null,null,null,null,null,{"$f":"データ一覧!W149","v":"…"},null,null,{"$f":"データ一覧!W206","v":"…"},null,null,{"$f":"データ一覧!W150","v":"…"},null,null,{"$f":"データ一覧!W207","v":"…"},null,null,{"$f":"データ一覧!W151","v":"…"},null,null,{"$f":"データ一覧!W208","v":"…"},null,null,"飲食料品",null,null,null,{"$f":"データ一覧!W306","v":56},null,null,{"$f":"データ一覧!W315","v":209},null,null,{"$f":"データ一覧!W324","v":2906},null,null,null,null,"地方譲与税",null,null,null,{"$f":"データ一覧!W447","v":130096},null,null,null,null,{"$f":"データ一覧!W461","v":125277},null,null,null,null,"総務費",null,null,null,{"$f":"データ一覧!W475","v":2347633},null,null,null,null,{"$f":"データ一覧!W489","v":1680459},null,null,null,null,null,null,null,null,null,null,null,null,null,null,"交番・駐在所",null,null,null,null,null,null,null,null,"刑法犯認知件数",null,null,null,null,null,null,null,null,"交通人身事故発生件数"]
["  ４  農        　　　業 ",null,null,null,null,null,null,null,null,null,null,null,null,null,null,null,null,null,null,null,null,null,null,null,null,"機械器具",null,null,null,{"$f":"データ一覧!W307","v":17},null,null,{"$f":"データ一覧!W316","v":63},null,null,{"$f":"データ一覧!W325","v":897},null,null,null,null,"各種交付金",null,null,null,{"$f":"データ一覧!W448","v":368384},null,null,null,null,{"$f":"データ一覧!W462","v":316985},null,null,null,null,"民生費",null,null,null,{"$f":"データ一覧!W476","v":2311559},null,null,null,null,{"$f":"データ一覧!W490","v":2231065},null,null,null,null,null,"警察署数",null,null,null,null,null,null,null,null,"検問所数",null,null,null,null,null,null,null,null,null,{"$f":"データ一覧!$A$691","v":"元年中"},null,null,null,null,null,null,null,null,{"$f":"データ一覧!$A$691","v":"元年中"}]
[null,null,null,null,null,null,null,null,null,null,null,null,null,null,null,null,null,null,null,null,null,null,null,null,null,"その他",null,null,null,{"$f":"データ一覧!W308","v":55},null,null,{"$f":"データ一覧!W317","v":210},null,null,{"$f":"データ一覧!W326","v":2706},null,null,null,null,"地方特例交付金",null,null,null,{"$f":"データ一覧!W449","v":8000},null,null,null,null,{"$f":"データ一覧!W463","v":57318},null,null,null,null,"衛生費",null,null,null,{"$f":"データ一覧!W477","v":1157633},null,null,null,null,{"$f":"データ一覧!W491","v":1106204},null,null,null,null,null,null,null,null,null,null,null,null,null,null,null,null,null,null,null,null,null,null,null,null,null,null,null,null," 件",null,null,null,null,null,null,null,null,"　件"]
[null,null,"農家人口と世帯員数(販売農家)",null,null,null,null,null,null,null,"農家世帯の就業状態（販売農家）",null,null,null,null,null,null,null,null,null,null,null,null,null,null,"無店舗",null,null,null,{"$f":"データ一覧!W309","v":1},null,null,{"$f":"データ一覧!W318","v":1},null,null,{"$f":"データ一覧!W327","v":"x"},null,null,null,null,"地方交付税",null,null,null,{"$f":"データ一覧!W450","v":3885000},null,null,null,null,{"$f":"データ一覧!W464","v":3956317},null,null,null,null,"労働費",null,null,null,{"$f":"データ一覧!W478","v":22439},null,null,null,null,{"$f":"データ一覧!W492","v":22439},null,null,null,null,null,null,{"$f":"データ一覧!W689","v":0},null,null,null,null,null,null,null,null,{"$f":"データ一覧!W690","v":5},null,null,null,null,null,null,null,null,{"$f":"データ一覧!W691","v":36},null,null,null,null,null,null,null,null,{"$f":"データ一覧!W692","v":18}]
["農","平",null,null,null,null,null,null,null,null,"農業従事者",null,null,null,null,null,null,null,null,"非農業従事",null,null,"農業従事者",null,null,null,null,null,null,null,null,null,null,null,null,null,null,null,null,null,"分担金および負担金",null,null,null,{"$f":"データ一覧!W451","v":72239},null,null,null,null,{"$f":"データ一覧!W465","v":91166},null,null,null,null,"農林水産業費",null,null,null,{"$f":"データ一覧!W479","v":984657},null,null,null,null,{"$f":"データ一覧!W493","v":1181743},null,null,null,null,"火災発生件数",null,null,null,null,null,null,null,null,null,"林野焼損",null,null,null,null,"損      害",null,null,null,null,"消 防 自",null,null,null,"その他の",null,null,null," ",null,null,null,null," "]
["家",{"$f":"+LEFT(データ一覧!$A$209,2)","v":"27"},"区分",null,"農家人口",null,null,"15歳以上の",null,null,null,null,null,"農業就業人口",null,null,null,null,null,"者",null,null,"の平均年齢",null,null,"  ８  住　　　　　　 　宅",null,null,null,null,null,null,null,null,null,null,null,null,null,null,"使用料および手数料",null,null,null,{"$f":"データ一覧!W452","v":142536},null,null,null,null,{"$f":"データ一覧!W466","v":182722},null,null,null,null,"商工費",null,null,null,{"$f":"データ一覧!W480","v":537825},null,null,null,null,{"$f":"データ一覧!W494","v":521660},null,null,null,null,{"$f":"+データ一覧!$A$693","v":"元年中"},null,null,null,null,"焼損棟数",null,null,null,null,"面    積",null,null,null,null,"見  積  額",null,null,null,null,"動 車 数",null,null,null,"ﾎﾟﾝﾌﾟ数",null,null,null," 消防吏員",null,null,null," 消防団員"]
["人就 ","・",null,null,null,null,null,"世帯員数",null,null,null,null,null,null,null,null,"基幹的農業",null,null,null,null,null,null,null,null,null,null,null,null,null,null,null,null,null,null,null,null,null,null,null,"国庫支出金",null,null,null,{"$f":"データ一覧!W453","v":1024548},null,null,null,null,{"$f":"データ一覧!W467","v":664720},null,null,null,null,"土木費",null,null,null,{"$f":"データ一覧!W481","v":739367},null,null,null,null,{"$f":"データ一覧!W495","v":812941},null,null,null,null,"         件",null,null,null,null,null,"      棟",null,null,null,null,null,null,"  ａ",null,null,null,"  千円",null,null,"        ",null,null,null,null,null,null,null,null,null,"  人",null,null,null,"  人"]
["口業 ",{"$f":"+MID(データ一覧!$A$209,4,1)","v":"2"},null,null,null,null,"人",null,null,"人",null,null,"人",null,null,"人","従事者",null,"人",null,null,"人",null,null,"歳",{"$f":"+データ一覧!$A$328","v":"30年"},null,null,null,null,{"$f":"データ一覧!$A$331","v":"元年"},"中の増減",null,null,null,{"$f":"+データ一覧!$A$331","v":"元年"},null,null,null,null,"県支出金",null,null,null,{"$f":"データ一覧!W454","v":1058478},null,null,null,null,{"$f":"データ一覧!W468","v":1326124},null,null,null,null,"消防費",null,null,null,{"$f":"データ一覧!W482","v":406495},null,null,null,null,{"$f":"データ一覧!W496","v":420643},null,null,null,null,null,{"$f":"データ一覧!W693","v":5},null,null,null,null,{"$f":"データ一覧!W694","v":1},null,null,null,null,{"$f":"データ一覧!W695","v":0},null,null,null,{"$f":"データ一覧!W696","v":1434},null,null,null,null,null,{"$f":"データ一覧!W697","v":8},null,null,null,{"$f":"データ一覧!W698","v":34},null,null,null,{"$f":"データ一覧!W699","v":32},null,null,null,{"$f":"データ一覧!W700","v":508}]
["と状 ","・"," 総数",null,{"$f":"データ一覧!W209","v":2967},null,null,{"$f":"データ一覧!W212","v":2624},null,null,{"$f":"データ一覧!W215","v":1866},null,null,{"$f":"データ一覧!W218","v":1010},null,null,{"$f":"データ一覧!W221","v":752},null,null,{"$f":"データ一覧!W224","v":758},null,null,{"$f":"データ一覧!W227","v":61},null,null,null,null,null,null,"建設した住宅",null,null,"消失した住宅",null,null,null,null,null,null,null,"財産収入",null,null,null,{"$f":"データ一覧!W455","v":74500},null,null,null,null,{"$f":"データ一覧!W469","v":222325},null,null,null,null,"教育費",null,null,null,{"$f":"データ一覧!W483","v":897517},null,null,null,null,{"$f":"データ一覧!W497","v":829900},null,null,null,null," ２０  そ　　　の　　　他　"]
["  況 ",{"$f":"+RIGHT(データ一覧!$A$209,1)","v":"1"},"　男",null,{"$f":"データ一覧!W210","v":1464},null,null,{"$f":"データ一覧!W213","v":1284},null,null,{"$f":"データ一覧!W216","v":1047},null,null,{"$f":"データ一覧!W219","v":504},null,null,{"$f":"データ一覧!W222","v":450},null,null,{"$f":"データ一覧!W225","v":237},null,null,{"$f":"データ一覧!W228","v":59.6},null,null,null,null,null,null,null,null,null,null,null,null,null,null,null,null,null,"繰入金",null,null,null,{"$f":"データ一覧!W456","v":842054},null,null,null,null,{"$f":"データ一覧!W470","v":509380},null,null,null,null,"災害復旧費",null,null,null,{"$f":"データ一覧!W484","v":0},null,null,null,null,{"$f":"データ一覧!W498","v":2600}]
[null,null,"　女",null,{"$f":"データ一覧!W211","v":1503},null,null,{"$f":"データ一覧!W214","v":1340},null,null,{"$f":"データ一覧!W217","v":819},null,null,{"$f":"データ一覧!W220","v":506},null,null,{"$f":"データ一覧!W223","v":302},null,null,{"$f":"データ一覧!W226","v":521},null,null,{"$f":"データ一覧!W229","v":62.7},null,null,null,{"$f":"データ一覧!W328","v":7981},null,"戸",{"$f":"データ一覧!W329","v":38},null,"戸",{"$f":"データ一覧!W330","v":26},null,"戸",null,{"$f":"データ一覧!W331","v":7993},null,"戸",null,"地方債",null,null,null,{"$f":"データ一覧!W457","v":817600},null,null,null,null,{"$f":"データ一覧!W471","v":467758},null,null,null,null,"公債費",null,null,null,{"$f":"データ一覧!W485","v":1287814},null,null,null,null,{"$f":"データ一覧!W499","v":1261590},null,null,null,null,null,null,null,null,null,"三方五湖、ﾚｲﾝﾎﾞｰﾗｲﾝ、鳥浜貝塚、三十三間山、三方石観世音、三方海域公園、\n河内川ダム、常神のｿﾃﾂ、神子の山桜、若狭瓜割名水公園、若狭鯖街道熊川宿、\n西塚古墳、中塚古墳、上ノ塚古墳、上船塚古墳、下船塚古墳、十善の森古墳、\n木造聖観世音菩薩立像(安楽寺)、木造十一面観世音菩薩立像(法順寺)、\n荻野家住宅、三宅火の見やぐら・火の見やぐら倉庫、鳥浜酒造店舗兼醸造所・煙突、\n若狭三方縄文博物館、若狭町歴史文化館、佐久間記念交流会館、福井県年縞博物館"]
[null,null,null,null,null,null,null,null,null,null,null,null,null,null,null,null,null,null,null,null,null,null,null,null,null,null,null,null,null,null,null,null,null,null,null,null,null,null,null,null,"その他",null,null,null,{"$f":"データ一覧!W458","v":633804},null,null,null,null,{"$f":"データ一覧!W472","v":1014407},null,null,null,null,"その他",null,null,null,{"$f":"データ一覧!W486","v":3200},null,null,null,null,{"$f":"データ一覧!W500","v":0},null,null,null,null,"　名所・旧跡"]
[null,null,"総農家数等",null,null,null,null,null,null,"専兼業別（販売農家）",null,null,null,null,null,null,null,"経営面積規模別（販売農家）",null,null,null,null,null,null,null,null,null,null,null,null,null,null,null,null,null,null,null,null,null,null,null,null,null,null,null,null,null,null,null,null,null,null,null,null,null,null,null,null,null,null,null,null,null,null,null,null,null,null,"  文化財等"]
[null,"平","区　分",null,null,null,"戸数（戸）",null,null,"区　分",null,null,null,null,"戸数（戸）",null,null,"区　　分",null,null,null,null,"戸数（戸）",null,null,"  ９  議　 員　・　職 　員",null,null,null,null,null,null,null,null,null,null,null,null,null,null," １４  文　　　　　　化",null,null,null,null,null,null,null,null,null," ( ",{"$f":"データ一覧!$A$507","v":"2.3.31"},null,null,null,"ただし図書館・公民館・児童館",null,null,null,null,null,null,null,{"$f":"データ一覧!$A$501","v":"2.4.1"}]
["農",{"$f":"+LEFT(データ一覧!$A$230,2)","v":"27"},"総農家",null,null,null,{"$f":"データ一覧!W230","v":1198},null,null,"総数",null,null,null,null,{"$f":"データ一覧!W236","v":743},null,null,"総数",null,null,null,null,{"$f":"データ一覧!W241","v":743},null,null,null,null,null,null,null,null,null,null,null,null,null,null,null,null,null,null,null,null,null,null,null,null,null,null,null,null,null,null,null,null,null,"　宗教法人数 ",null,null,null,null,null,null,{"$f":"データ一覧!$A$509","v":"元.12.31"},null,null,null,"）"]
["家","・","販売農家",null,null,null,{"$f":"データ一覧!W231","v":743},null,null,"専業農家",null,null,null,null,{"$f":"データ一覧!W237","v":143},null,null,"0.5 ha 未満",null,null,null,null,{"$f":"データ一覧!W242","v":135},null,null," 市 町 村 議 会",null,null,"有権者数",null,{"$f":"データ一覧!$A$335","v":"2.9.1"},null,"市 町 村 議 会",null,null,"  職      員      数",null,null,null,null,null,null,null,null,null,"図書館",null,null,null,null,null,"公　民　館",null,null,null,null,null,null,null,null,null,null," 社会教育学級講座"]
["数",{"$f":"+MID(データ一覧!$A$230,4,1)","v":"2"},null,"主業",null,null,{"$f":"データ一覧!W232","v":47},null,null,"兼業農家",null,null,null,null,{"$f":"データ一覧!W238","v":600},null,null,"0.5 ha ～ 1.0 ha",null,null,null,null,{"$f":"データ一覧!W243","v":262},null,null," 議  員  定  数",null,null,"    男",null,"    女",null,"選 挙 投 票 率",null,null," 総     数",null,"一般行政職",null,null,"公    共",null,null,null," 館  数",null,null," 図書数",null,null," 本  館",null,null," 分  館",null,null," 公  園",null,null," 児童館",null,null,"学級講座数",null,null,"受講者数",null,null,"　　特産物",null,null,null,null,"福井梅、ｳﾅｷﾞ、ﾌﾅ、ｺｲ、ｱｵﾘｲｶ、梨、ｺﾝﾆｬｸ、瓜割名水、葛製品、須惠野焼、山内かぶら"]
[null,"・",null,"準主業",null,null,{"$f":"データ一覧!W233","v":148},null,null,null,"第１種兼業",null,null,null,{"$f":"データ一覧!W239","v":50},null,null,"1.0 ha ～ 1.5 ha",null,null,null,null,{"$f":"データ一覧!W244","v":148},null,null,null,null,"人",null,"人",null,"人",null,null,"　％",null,"人",null,"人",null,"施 設 数",null,null,null,null,{"$f":"データ一覧!W501","v":2},null,{"$f":"データ一覧!W502","v":117069},null,null,{"$f":"データ一覧!W503","v":9},null,null,{"$f":"データ一覧!W504","v":0},null,null,{"$f":"データ一覧!W505","v":0},null,null,{"$f":"データ一覧!W506","v":1},null,null,{"$f":"データ一覧!W507","v":3},null,null,{"$f":"データ一覧!W508","v":98},null,null," 　年中行事",null,null,null,null,"若狭三方五湖ﾂｰﾃﾞｰﾏｰﾁ、熊川いっぷく時代村、河原神社神事、宇波西神社・国津神社、"]
[null,{"$f":"+RIGHT(データ一覧!$A$230,1)","v":"1"},null,"副業的",null,null,{"$f":"データ一覧!W234","v":548},null,null,null,"第２種兼業",null,null,null,{"$f":"データ一覧!W240","v":550},null,null,"1.5 ha ～ 2.0 ha",null,null,null,null,{"$f":"データ一覧!W245","v":67},null,null,null,{"$f":"データ一覧!W332","v":14},null,{"$f":"データ一覧!W335","v":5869},null,{"$f":"データ一覧!W336","v":6369},null,{"$f":"データ一覧!W334","v":"無投票"},null,null,{"$f":"データ一覧!W337","v":241},null,{"$f":"データ一覧!W338","v":132},null,null,"宗    教",null,null,null," 仏教系",null,null,"ｷﾘｽﾄ教系",null,null,"神道諸派",null,null,"公会堂・市民会館",null,null,null,null,null," テレビ",null,null,"衛星放送契約数",null,null,null,null,null,null,null,null,null,null,"闇見神社・天満社・前川神社・多由比神社の祭礼(春)、鳥浜のｼﾃﾅ踊り、"]
[null,null,"自給的農家",null,null,null,{"$f":"データ一覧!W235","v":455},null,null,null,null,null,null,null,null,null,null,"2.0 ha 以上",null,null,null,null,{"$f":"データ一覧!W246","v":129},null,null,null,null,null,null,null,null,null,{"$f":"データ一覧!W333","v":"29.4.16"},null,null,null,null,null,null,null,"法 人 数",null,null,null,{"$f":"データ一覧!W509","v":76},null,null,{"$f":"データ一覧!W510","v":0},null,null,{"$f":"データ一覧!W511","v":72},null,null,{"$f":"データ一覧!W512","v":0},null,null,null,null,null,"      等",null,null,{"$f":"データ一覧!W513","v":3144},null,null,null,null,null,null,null,null,null,null,"上中の六斎念仏踊り(三宅・瓜生)、海土坂の送り盆"]