{"text_format":"1","workbook":"xlsx","n_sheets":22,"sheets":["表紙","ご利用の方へ","行政区画図（目次）","データ一覧","福井県","福井市","敦賀市","小浜市","大野市","勝山市","鯖江市","あわら市","越前市","坂井市","永平寺町","池田町","南越前町","越前町","美浜町","高浜町","おおい町","若狭町"],"not_rendered":{"charts":0,"images":59,"macros":1,"external_links":0,"defined_names":23,"comments":0,"pivot_tables":0},"unopened":[],"bounds":{"document_bytes":16777216,"sheet_cells":100000,"rows_first":2000,"rows_last":500,"rows_between":2000,"halvings":0,"cell_chars":16384,"cell_head_chars":4096},"cells_cut":0,"cells_raw":0,"read":"whole","date_system":"1900"}

{"sheet":"表紙","index":0,"n_rows":45,"n_cols":1,"rows_kept":45,"cut":false,"hidden":false,"merged":[[44,0,44,8],[10,0,10,8],[6,0,6,8]]}
[]
[]
[]
[]
[]
[]
["福井県市町勢要覧"]
[]
[]
[]
["令和６年度版"]
[]
[]
[]
[]
[]
[]
[]
[]
[]
[]
[]
[]
[]
[]
[]
[]
[]
[]
[]
[]
[]
[]
[]
[]
[]
[]
[]
[]
[]
[]
[]
[]
[]
["福井県未来創造部統計調査課"]

{"sheet":"ご利用の方へ","index":1,"n_rows":79,"n_cols":7,"rows_kept":79,"cut":false,"hidden":false,"merged":[[1,1,1,2]]}
["令和６年度版","ご利用の方へ"]
[1,"「市町勢要覧」は、人口をはじめ、様々な分野にわたる基礎的なデータを市町別に編集し、個々の市勢町勢および",null,"4　統計表中の符号の用法は次のとおりです。"]
[null,"地域ごとの県勢をわかりやすくとらえられる資料として整理したものです。",null,"　「－」…該当数値なし"]
[2,"数値の単位未満は四捨五入を原則としていますので、総数と内訳の合計が一致しない場合があります。",null,"　「０」…単位未満"]
[3,"各項目は「福井県統計年鑑」に準拠して並べています。",null,"　「ｘ」…１つの事業所の値しかないなど、事業所に関する数が判明する箇所を秘匿としたもの"]
[null,null,null,"　「…」…事業所に関する集計において、事業所単位の売上（収入）金額の把握ができない産業"]
[null,null,null,"5　資料出所および留意事項は次のとおりです。"]
[]
["分　　　類","項     目","資　　料　　の　　出　　所","調査時点","留意事項"]
[" １．土　　　　地","総面積","令和6年全国都道府県市区町村別面積調","6.10.1"]
[null,null,"（国土交通省国土地理院）"]
[null,"町・丁・大字区画数","市町資料","5.4.1",null,null,"照会"]
[null,"固定資産概要調書による地目別面積","固定資産概要調書（県税務課）","6.1.1","道路河川を除く非課税地を含めた面積",null,"年鑑"]
[null,null,null,null,"住居表示指定区域内は住居表示の町名"]
[" ２．世帯数と人口","世帯数、人口、一世帯当たり人員、人口密度","国勢調査","昭和60年､平成2､7､12､17､22､27､令和2年","市町村合併のあった市町については、平成17年以降の人口密度のみを計上した。"]
["         ",null,"福井県の推計人口（県統計調査課）","6.10.1"]
[null,"年齢階級別人口","〃","6.10.1"]
[null,"人口動態","〃","5.10.1～6.9.30",null,null,"人口G"]
[null,"婚姻、離婚","県地域福祉課","5.1.1～5.12.31",null,null,"年鑑"]
[" ３．事　 業　 所","事業所数、従業者数","経済センサス‐活動調査","3.6.1","調査は、国・地方公共団体、外国公務の事業所、農林漁業、家事ｻｰﾋﾞｽに属する個人経営の事業所を除く。"]
[" ４．農       業","農業経営体数（総数）と就業状況","2020農林業センサス","2.2.1","2020年農林業センサス調査対象",null,"経済G"]
[null,"米収穫量","北陸農政局","5年","面積・頭数が一定規模以上（外形基準）の農林業生産活動を行う方（組織の場合は代表者）を対象とする。"]
[null,"耕地面積","〃","5.7.15",null,null,"年鑑"]
[null,"農業生産物","〃","5年産"]
[null,"畜産","県中山間農業・畜産課","6.3.31",null,null,"年鑑"]
[" ５．林       業","林野面積","県森づくり課     ","5.3.31",null,null,"年鑑"]
[null,"林産物生産量","〃","5年中",null,null,"年鑑"]
[" ６．漁       業","漁船隻数・トン数","県水産課","5.12.31","エンジンの取り付け場所がわからないジーゼル船は動力船、電気点火式は船外機付漁船に計上した。"]
[null,"男女別就業者数","2023年漁業センサス","5.11.1","市町別の総数のみ掲載している。",null,"照会"]
[null,"海面漁業漁獲量（属人）","北陸農政局","30年中","内水面漁業、海面養殖業を除く。",null,"照会"]
[" ７．商       業","事業所数、従業者数、年間商品販売額","経済センサス‐活動調査","3.6.1(令和2年実績）","調査は、民営の事業所を対象とした。事業所、従業員数はR3.6.1現在、年間商品販売額はR2年1年間の値。"]
[null,null,null,null,"ただし年間商品販売額には個人経営を含まない。"]
[" ８．住       宅",null,"市町村固定資産課税台帳（市町資料）  　","5年","共同住宅、併用住宅については、独立して生活できる部分を一戸として計上した。"]
[null,null,null,null,"（ただし坂井市のみ戸数の把握が困難なため棟数で計上している。）"]
[" ９．議 員・職 員","市町議会","市町資料  　","6.8.1",null,null,"照会"]
[null,"有権者数","選挙人名簿登録者（県選挙管理委員会）","6.9.1"]
[null,"職員数","県市町協働課 ","6.4.1",null,null,"照会"]
[" 10．工       業","事業所数、従業者数、製造品出荷額等","福井県の工業（令和4年（2022年）経済構造実態調査","4.6.1（令和3年実績）","従業者４人以上の事業所。事業所、従業員数はR4.6.1現在、製造品出荷額等はR3年1年間の値。",null,"年鑑"]
[null,null,"　製造業に関する結果報告書）（県統計調査課）",null,"「経済センサス－活動調査」および「工業統計調査」とは集計範囲等が異なるため、"]
[null,null,null,null,"令和３年以前の値と単純比較できない。"]
[" 11．上・下 水 道","水道供給人口","県医薬食品・衛生課","6.3.31"]
[null,"下水道処理人口","県河川課    ","6.3.31"]
[" 12．交 通・通 信","道路","県道路保全課    ","5.4.1",null,null,"年鑑"]
[null,"鉄道営業キロ数","福井鉄道㈱、えちぜん鉄道㈱","6.4.1",null,null,"照会"]
[null,"自動車台数","中部運輸局福井運輸支局","6.3.31","町不明の車両は県計に一括計上した。",null,"年鑑"]
[null,"通信（郵便局数）","日本郵便㈱","6.3.31",null,null,"照会"]
[null,"〃（一般加入電話数）","西日本電信電話㈱－北陸","6.3.31",null,null,"年鑑"]
[null,"〃（ＩＮＳネット加入数）","〃","6.3.31",null,null,"照会"]
[" 13．税  ･ 財 政","歳入歳出当初予算額","〃","6年度",null,null,"年鑑"]
[null,"歳入歳出決算額","〃","5年度",null,null,"照会"]
[" 14．文       化","公共施設数","図書館・公民館(県生涯学習・文化財課)","6.4.1","県の図書館数・図書数は県立図書館、若狭図書学習センターの分",null,"照会"]
[null,null,"公園(県都市計画課)","6.3.31","都市公園の箇所数"]
[null,null,"児童館(県こども未来課)","6.4.1",null,null,"年鑑"]
[null,null,"公会堂・市民会館（県市町協働課）","6.3.31",null,null,"照会"]
[null,"社会教育学級講座","県生涯学習・文化財課  　","6.4.1","青少年、成人、女性、高齢者、家庭教育、その他の学級・講座の合計",null,"年鑑"]
[null,"宗教法人数","県情報公開・法制課  　","5.12.31",null,null,"市町財政要覧"]
[null,"衛星放送契約数","日本放送協会  　","6.3.31",null,null,"年鑑"]
[" 15．労       働","産業別就業者数","国勢調査","2.10.1",null,null,"照会"]
[" 16．社 会 福 祉","施設数、収容定員","県地域福祉課","6.4.1",null,null,"年鑑"]
[" 17．教       育","学校数、教員数、学生・生徒・児童・園児数","学校基本調査","6.5.1","福井大学松岡キャンパス・永平寺キャンパス・敦賀キャンパスは本校に、福井県立大学"]
[null,null,"（大学・短大・高専の教員数、学生数は直接照会した。）",null,"小浜キャンパス・あわらキャンパス・かつみキャンパスは分校に計上した。"]
[null,null,null,null,"各市町の小学校・中学校の教員数および児童・生徒数は公立学校分のみを計上した。"]
[null,null,null,null,"各市町の幼稚園の園数、教員数および園児数は公立・私立分のみ計上した。"]
[null,null,null,null,"ただし、県計は国立、公立、私立学校の合計である。"]
[" 18．衛       生","医療関係施設数","県地域医療課   ","5.10.1","医療関係者については、就業届出による。"]
[null,"医療関係者数","〃","4.12.31","看護師には准看護師を含む。"]
[null,"死因別死亡数","県地域福祉課　 ","5年中","交通事故の数は不慮の事故の内数。",null,"年鑑"]
[" 19．警 察・消 防","警察署数、交番・駐在所・検問所数","県警察本部警務課","6.4.1",null,null,"年鑑"]
[null,"刑法犯認知件数・刑法犯検挙件数","県警察本部捜査第一課","5年中","発生地不明の認知件数・検挙件数は県計に一括計上した。",null,"照会"]
[null,"交通人身事故発生件数","県警察本部交通企画課","5年中","交通事故発生件数は人身事故の数。",null,"照会"]
[null,"火災発生件数、焼損棟数、林野焼損面積","県消防保安課","5年中"]
[null,"損害見積額","〃","5年中"]
[null,"消防自動車数、ポンプ数、消防吏員、消防団員数","〃","6.4.1","消防本部等、複数の市町に跨っているものは市町ごとに按分している。",null,"年鑑、照会"]
[" 20．そ   の   他","名所・旧跡、文化財等（福井県）","県生涯学習・文化財課",null,null,null,"年鑑"]
[null,"名所・旧跡、文化財等（市町）","市町資料"]
[null,"特産物、年中行事","〃",null,null,null,"照会"]
[" 欄            外","市（町）章とそのいわれ","〃",null,null,null,"照会"]
[null,"位置および地勢","〃",null,null,null,"照会"]
[null,null,null,null,null,null,"照会"]

{"sheet":"行政区画図（目次）","index":2,"n_rows":29,"n_cols":13,"rows_kept":29,"cut":false,"hidden":false,"merged":[[28,1,28,6],[1,11,1,12]]}
[null,"（＊地図上の市町名または五十音順市町名を押すと該当市町のシートに、分野名を押すとデータ一覧の該当箇所に移動します。）"]
[null,null,null,null,null,null,null,"（五十音順市町名）",null,null,null,"（分野別）"]
[null,null,null,null,null,null,null,null,"福井県",null,null,"1．","土　地"]
[null,null,null,null,null,null,null,"あ行","あわら市",null,null,"2．","世帯数と人口"]
[null,null,null,null,null,null,null,null,"池田町","今立郡",null,"3．","事 業 所"]
[null,null,null,null,null,null,null,null,"永平寺町","吉田郡",null,"4．","農　業"]
[null,null,null,null,null,null,null,null,"越前市",null,null,"5．","林　業"]
[null,null,null,null,null,null,null,null,"越前町","丹生郡",null,"6．","漁　業"]
[null,null,null,null,null,null,null,null,"おおい町","大飯郡",null,"7．","商　業"]
[null,null,null,null,null,null,null,null,"大野市",null,null,"8．","住　宅"]
[null,null,null,null,null,null,null,null,"小浜市",null,null,"9．","議員・職員"]
[null,null,null,null,null,null,null,"か行","勝山市",null,null,"10．","工　業"]
[null,null,null,null,null,null,null,"さ行","坂井市",null,null,"11．","上・下水道"]
[null,null,null,null,null,null,null,null,"鯖江市",null,null,"12．","交通･通信"]
[null,null,null,null,null,null,null,"た行","高浜町","大飯郡",null,"13．","税・財 政"]
[null,null,null,null,null,null,null,null,"敦賀市",null,null,"14．","文　化"]
[null,null,null,null,null,null,null,"は行","福井市",null,null,"15．","労　働"]
[null,null,null,null,null,null,null,"ま行","南越前町","南条郡",null,"16．","社会福祉"]
[null,null,null,null,null,null,null,null,"美浜町","三方郡",null,"17．","教　育"]
[null,null,null,null,null,null,null,"わ行","若狭町","三方上中郡",null,"18．","衛　生"]
[null,null,null,null,null,null,null,null,null,null,null,"19．","警察・消防"]
[]
[]
[]
[]
[]
[]
[]
[null,"※令和7年3月31日現在の市町区分に合わせて、旧市町村のデータを合算している。"]

{"sheet":"データ一覧","index":3,"n_rows":693,"n_cols":23,"rows_kept":693,"cut":false,"hidden":false,"merged":[]}
[]
["データ一覧",null,null,null,"かな",null,null,null,null,null,null,null,null,null,null,"よしだぐん","いまだてぐん","なんじょうぐん","にゅうぐん","みかたぐん","おおいぐん","おおいぐん","みかたかみなかぐん"]
[null,null,null,null,null,"ふくいけん","ふくいし","つるがし","おばまし","おおのし","かつやまし","さばえし","あわらし","えちぜんし","さかいし","えいへいじちょう","いけだちょう","みなみえちぜんちょう","えちぜんちょう","みはまちょう","たかはまちょう","おおいちょう","わかさちょう"]
[]
[null,null,null,null,"郡",null,null,null,null,null,null,null,null,null,null,"吉田郡","今立郡","南条郡","丹生郡","三方郡","大飯郡","大飯郡","三方上中郡"]
["基準日","分類",null,null,"市町村名","福井県","福井市","敦賀市","小浜市","大野市","勝山市","鯖江市","あわら市","越前市","坂井市","永平寺町","池田町","南越前町","越前町","美浜町","高浜町","おおい町","若狭町"]
["6.10.1","1 土地","総面積",null,null,4190.57,536.37,251.47,233.11,872.43,253.88,84.59,116.98,230.7,209.67,94.43,194.65,343.69,153.15,152.38,72.400000000000006,212.19,178.49]
["5.4.1",null,"町・丁・大字区画数",null,null,2758,736,158,143,207,118,153,120,253,359,93,47,63,99,31,54,48,76]
["6.1.1",null,"固定資産概要調書による地目別面積",null,"総数",263073.7,34945.800000000003,11236.1,13510.6,48581,20781.900000000001,8459,8984.2000000000007,13161.4,20331.599999999999,6157.6,6553.5,13048.1,10419.1,15235,7240,11812.2,12616.6]
[null,null,null,null,"うち田",38913.699999999997,7785.9,1285.9000000000001,1474.9,4181.5,1899.8,1992.6,2669.7,3667.6,6033.1,1014.8,556,994.7,1369,918.8,452.2,686.2,1931]
[null,null,null,null,"うち畑",5379.4000000000005,826.6,251.1,233.1,218.8,135.5,120.2,891.3,330.2,894.5,87.3,116.9,143.1,298.89999999999998,123.6,158.19999999999999,138.1,412]
[null,null,null,null,"うち宅地",17942.900000000001,4937.1000000000004,1253,659.6,1021.4,603.4,1490.4,878,1971.3,2415.1999999999998,408.9,96.9,284.10000000000002,495.4,284.89999999999998,324.89999999999998,287.7,530.70000000000005]
[null,null,null,null,"うち山林",100620.20000000001,17453.5,4523.8,7226.3,12977,9280.1,1168.2,2162.8000000000002,4832.3999999999996,5982.5,4017.1,2521.8000000000002,6125.4,4563.8,4178.1000000000004,2242.6999999999998,5968.2,5396.5]
[null,null,null,null,"うち原野",2535.7999999999997,102.3,219.3,149.5,670.4,335.5,0,94.1,108.1,98.1,49,81.7,199.9,82.1,86,122,72.900000000000006,64.900000000000006]
["60.10.1","2 世帯数と人口","国勢調査人口","(昭和６０年)","世帯数",224295,77605,21194,9584,10925,7718,15362,8588,21726,20745,5033,1166,3450,6188,3878,3668,3023,4442]
[null,null,null,null,"人口*計",817633,269083,65670,34011,43118,30416,61452,31830,83953,80707,19550,4318,13886,26128,13384,12310,9791,18026]
[null,null,null,null,"人口*男",397115,130648,32808,16309,20700,14715,29881,15016,40566,38775,9447,2123,6695,12647,6695,6262,5067,8761]
[null,null,null,null,"人口*女",420518,138435,32862,17702,22418,15701,31571,16814,43387,41932,10103,2195,7191,13481,6689,6048,4724,9265]
[null,null,null,null,"男女比*女１００につき男(／１００人)",94.4,378.5,99.8,92.1,92.3,93.7,94.6,89.306530272392052,93.5,92.5,93.5,96.7,93.102489222639406,93.813515317854751,100.1,103.5,107.3,94.560172692930379]
[null,null,null,null,"１世帯当たり人員*(／１世帯)",3.65,3.47,3.1,3.55,3.95,3.94,4,3.71,3.86,3.89,3.88,3.7,4.0199999999999996,4.22,3.45,3.36,3.24,4.0599999999999996]
[null,null,null,null,"人口密度*(人／ｋ㎡)",195.1,null,263.2,145.4,null,120.1,729.6,null,null,null,null,22.2,null,null,87.6,172.7]
[" 2.10.1",null,"国勢調査人口","(平成２年)","世帯数*(世帯)",234192,81287,22995,9920,10758,7701,16053,8708,22678,21981,5159,1130,3484,6223,4019,3822,3775,4499]
[null,null,null,null,"人口*計(人)",823585,270911,68041,33774,41837,29805,62283,31743,84897,83372,19387,4203,13804,25448,13222,12425,10598,17835]
[null,null,null,null,"人口*男(人)",400391,131608,34091,16175,19944,14400,30164,14885,41272,40152,9427,2051,6628,12249,6672,6250,5767,8656]
[null,null,null,null,"人口*女(人)",423194,139303,33950,17599,21893,15405,32119,16858,43625,43220,9960,2152,7176,13199,6550,6175,4831,9179]
[null,null,null,null,"男女比*女１００につき男(／１００人)",94.6,94.5,100.4,91.9,91.1,93.5,93.9,88.296357812314625,94.6,92.9,94.6,95.3,92.363433667781493,92.80248503674521,101.9,101.2,119.4,94.302211569887788]
[null,null,null,null,"１世帯当たり人員*(／１世帯)",3.52,3.33,2.96,3.4,3.89,3.87,3.88,3.65,3.74,3.79,3.76,3.72,3.96,4.09,3.29,3.25,2.81,3.96]
[null,null,null,null,"人口密度*(人／ｋ㎡)",196.7,null,271.60000000000002,145.1,null,117.5,734.9,null,null,null,null,21.6,null,null,86.9,172.6]
[" 7.10.1",null,"国勢調査人口","(平成７年)","世帯数*(世帯)",246911,87719,23115,10383,10862,7733,16919,9327,24233,23882,6049,1115,3634,6379,3687,3816,3469,4589]
[null,null,null,null,"人口*計(人)",826996,272970,67204,33496,41069,29162,62890,32432,85533,86870,20183,4032,13616,25158,12362,12201,10251,17567]
[null,null,null,null,"人口*男(人)",401860,133444,33047,16164,19537,14033,30376,15174,41641,41942,9907,1957,6555,12060,6087,6086,5400,8450]
[null,null,null,null,"人口*女(人)",425136,139526,34157,17332,21532,15129,32514,17258,43892,44928,10276,2075,7061,13098,6275,6115,4851,9117]
[null,null,null,null,"男女比*女１００につき男(／１００人)",94.5,95.6,96.8,93.3,90.7,92.8,93.4,87.924440839031178,94.9,93.4,96.4,94.3,92.833876221498372,92.075125973431057,97,99.5,111.3,92.68399692881431]
[null,null,null,null,"１世帯当たり人員*(／１世帯)",3.35,3.11,2.91,3.23,3.78,3.77,3.72,3.48,3.53,3.64,3.34,3.62,3.75,3.94,3.35,3.2,2.96,3.83]
[null,null,null,null,"人口密度*(人／ｋ㎡)",197.4,null,268.10000000000002,143.9,null,115,742.1,null,null,null,null,20.7,null,null,81.2,169.4]
["12.10.1",null,"国勢調査人口","(平成１2年)","世帯数*(世帯)",259612,89946,24539,10962,11151,7942,18598,9562,26461,26278,6781,1095,3744,6619,3713,4015,3490,4716]
[null,null,null,null,"人口*計(人)",828944,269557,68145,33295,39632,28143,64898,32178,87699,91173,21182,3759,13221,25017,11630,12119,9983,17313]
[null,null,null,null,"人口*男(人)",402367,131344,33504,16134,18942,13391,31448,15072,42858,43972,10225,1825,6437,11973,5672,6076,5192,8302]
[null,null,null,null,"人口*女(人)",426577,138213,34641,17161,20690,14752,33450,17106,44841,47201,10957,1934,6784,13044,5958,6043,4791,9011]
[null,null,null,null,"男女比*女１００につき男(／１００人)",94.3,95,96.7,94,91.6,90.8,94,88.109435285864606,95.6,93.2,93.3,94.4,94.885023584905653,91.789328426862923,95.2,100.5,108.4,92.131838863611137]
[null,null,null,null,"１世帯当たり人員*(／１世帯)",3.19,3,2.78,3.04,3.55,3.54,3.49,3.37,3.31,3.47,3.12,3.43,3.53,3.78,3.13,3.02,2.86,3.67]
[null,null,null,null,"人口密度*(人／ｋ㎡)",197.9,null,271.8,143,null,110.9,765.8,null,null,null,null,19.3,null,null,76.400000000000006,168.2]
["17.10.1",null,"国勢調査人口","(平成１7年)","世帯数*(世帯)",269577,93694,25742,11136,11230,7990,20177,9658,27916,28035,6868,1060,3542,6670,3760,4014,3258,4827]
[null,null,null,null,"人口*計(人)",821592,269144,68402,32182,37843,26961,66831,31081,87742,92318,20764,3405,12274,23995,11023,11630,9217,16780]
[null,null,null,null,"人口*男(人)",397271,130834,33475,15620,17956,12777,32263,14498,42706,44349,10085,1643,5850,11447,5364,5729,4649,8026]
[null,null,null,null,"人口*女(人)",424321,138310,34927,16562,19887,14184,34568,16583,45036,47969,10679,1762,6424,12548,5659,5901,4568,8754]
[null,null,null,null,"男女比*女１００につき男(／１００人)",93.6,94.6,95.8,94.3,90.3,90.1,93.3,87.4,94.8,92.5,94.4,93.2,91.1,91.2,94.8,97.1,101.8,91.7]
[null,null,null,null,"１世帯当たり人員*(／１世帯)",3.05,2.87,2.66,2.89,3.37,3.37,3.31,3.22,3.14,3.29,3.02,3.21,3.47,3.6,2.93,2.9,2.83,3.48]
[null,null,null,null,"人口密度*(人／ｋ㎡)",196.1,502,272.8,138.19999999999999,43.4,106.3,788.6,265.7,380.2,439.8,220.1,17.5,35.700000000000003,156.9,72.400000000000006,161.30000000000001,43.4,93.9]
["22.10.1",null,"国勢調査人口","(平成22年)","世帯数*(世帯)",275599,97446,26453,11477,10847,7773,21028,9735,27601,28744,7217,1006,3483,6728,3879,4044,3144,4994]
[null,null,null,null,"人口*計(人)",806314,266796,67760,31340,35291,25466,67450,29989,85614,91900,20647,3046,11551,23160,10563,11062,8580,16099]
[null,null,null,null,"人口*男(人)",389712,128692,33396,15376,16705,12072,32507,14081,41762,44235,10026,1449,5501,11036,5292,5521,4280,7781]
[null,null,null,null,"人口*女(人)",416602,138104,34364,15964,18586,13394,34943,15908,43852,47665,10621,1597,6050,12124,5271,5541,4300,8318]
[null,null,null,null,"男女比*女１００につき男(／１００人)",93.5,93.2,97.2,96.3,89.9,90.1,93,88.5,95.2,92.8,94.4,90.7,90.9,91,100.4,99.6,99.5,93.5]
[null,null,null,null,"１世帯当たり人員*(／１世帯)",2.93,2.74,2.56,2.73,3.25,3.28,3.21,3.08,3.1,3.2,2.86,3.03,3.32,3.44,2.72,2.74,2.73,3.22]
[null,null,null,null,"人口密度*(人／ｋ㎡)",192.4,497.6,269.7,134.6,40.5,100.4,795.9,256.3,371,437.8,218.9,15.6,33.6,151.4,69.3,153.30000000000001,40.4,90.1]
["27.10.1",null,"国勢調査人口","（平成27年）","世帯数*(世帯)",279687,99872,26545,11220,10698,7703,22335,9697,27889,29454,7276,902,3353,6560,3899,4191,3222,4871]
[null,null,null,null,"人口*計(人)",786740,265904,66165,29670,33109,24125,68284,28729,81524,90280,19883,2638,10799,21538,9914,10596,8325,15257]
[null,null,null,null,"人口*男(人)",381474,128892,32558,14539,15683,11478,33105,13555,39859,43526,9621,1250,5173,10333,4988,5417,4201,7296]
[null,null,null,null,"人口*女(人)",405266,137012,33607,15131,17426,12647,35179,15174,41665,46754,10262,1388,5626,11205,4926,5179,4124,7961]
[null,null,null,null,"男女比*女１００につき男(／１００人)",94.129287924500005,94.073511809199999,96.878626476600004,96.087502478399998,89.997704579399993,90.756701194000001,94.104437306299999,89.330433636500004,95.665426617099996,93.095777901399998,93.753654258400005,90.057636887599998,91.948098115899995,92.217759928600003,101.25862768979999,104.5954817532,101.8671193016,91.646778042999998]
[null,null,null,null,"１世帯当たり人員*(／１世帯)",2.8129301683667816,2.6624479333546942,2.4925598041062349,2.644385026737968,3.0948775472050851,3.1318966636375438,3.0572643832549811,2.9626688666597918,2.9231596686865791,3.0651184898485773,2.7326827927432653,2.9246119733924614,3.2206978824932895,3.2832317073170731,2.5427032572454475,2.5282748747315678,2.5837988826815641,3.1322110449599672]
[null,null,null,null,"人口密度*(人／ｋ㎡)",187.7,495.7,263.2,127.3,38,95,807.2,245.6,353.4,430.6,210.6,13.6,31.4,140.6,65.099999999999994,146.4,39.200000000000003,85.5]
[" 2.10.1",null,"国勢調査人口","（令和2年）","世帯数*(世帯)",291662,104470,27849,12082,10868,7524,23915,9933,29634,31067,7285,948,3266,6581,3745,4500,3165,4830]
[null,null,null,null,"人口*計(人)",766863,262328,64264,28991,31286,22150,68302,27524,80611,88481,18965,2423,10002,20118,9179,10326,7910,14003]
[null,null,null,null,"人口*男(人)",373973,127867,31785,14317,14997,10581,33323,13067,39657,42719,9231,1196,4804,9725,4610,5424,3968,6702]
[null,null,null,null,"人口*女(人)",392890,134461,32479,14674,16289,11569,34979,14457,40954,45762,9734,1227,5198,10393,4569,4902,3942,7301]
[null,null,null,null,"男女比*女１００につき男(／１００人)",95.185166331543186,95.095975784800061,97.863234705502009,97.567125528145013,92.068266928602128,91.459936035958165,95.265730867091676,90.385280486961335,96.833032182448591,93.350378042917697,94.832545716046852,97.473512632436837,92.420161600615629,93.572596940248246,100.89735171810024,110.64871481028152,100.6595636732623,91.795644432269555]
[null,null,null,null,"１世帯当たり人員*(／１世帯)",2.6292866400148118,2.5110366612424619,2.3075873460447411,2.3995199470286375,2.8787265366212735,2.9439128123338651,2.8560317792180641,2.7709654686398872,2.7202200175474118,2.8480702996748963,2.6032944406314344,2.5559071729957807,3.0624617268830372,3.0569822215468774,2.4510013351134847,2.2946666666666666,2.4992101105845181,2.8991718426501034]
[null,null,null,null,"人口密度*(人／ｋ㎡)",182.99730108314623,489.08029904729943,255.55334632361712,124.3661790570975,35.860756736930185,87.245942965180404,807.4476888521101,235.28808343306548,349.41915908105767,422.00124004387851,200.83659853860001,12.447983560236322,29.101806860833893,131.36141038197846,60.237563984774908,142.62430939226519,37.277911305905086,78.452574373914501]
["6.10.1",null,"推計人口",null,"世帯数*(世帯)",298603,107801,28057,12206,10731,7480,25067,10133,30646,32287,7488,908,3189,6561,3676,4443,3150,4780]
[null,null,null,null,"１世帯当たり人員*(／１世帯)",2.4700000000000002,2.36,2.2000000000000002,2.27,2.69,2.76,2.69,2.58,2.56,2.66,2.44,2.37,2.88,2.88,2.33,2.17,2.35,2.71]
[null,null,null,null,"人口密度*(人／ｋ㎡)",176.27458794388355,475.00046609616498,244.91589454010418,118.8752091287375,33.06167830083789,81.266740192216801,795.66142570043735,223.60232518379209,340.48981361074993,410.29713359088095,193.86847400190615,11.035191369124069,26.68102068724723,123.33006856023506,56.247539047119048,133.45303867403314,34.916819831283284,72.519468877808279]
["5.10.1～6.9.30",null,null,"自然動態","出　生",4528,1674,365,169,110,87,494,109,508,527,87,10,40,110,58,66,46,68]
[null,null,null,null,"死　亡",10580,3382,880,453,579,337,802,438,1073,1151,251,48,166,366,172,145,121,216]
["5.10.1～6.9.30",null,null,"社会動態","転入計",23770,7752,2048,841,743,375,2048,901,3985,2854,482,45,184,482,275,264,236,255]
[null,null,null,null,"転出計",23595,7974,2196,876,883,526,1880,865,2895,2811,580,54,205,575,298,341,285,351]
["5.1.1～5.12.31",null,null,null,"婚姻",2620,982,218,100,80,53,260,66,282,307,51,1,18,56,31,39,36,40]
[null,null,null,null,"離婚",942,349,90,37,36,19,91,26,95,111,14,1,10,21,8,7,13,14]
["6.10.1",null,null,"総計","男女計（年齢不詳含む）",738691,254776,61589,27711,28844,20632,67305,26157,78551,86027,18307,2148,9170,18888,8571,9662,7409,12944]
[null,null,null,null,"男　",361311,124420,30432,13756,13800,9895,32964,12481,38822,41723,8932,1072,4422,9159,4342,5097,3739,6255]
[null,null,null,null,"女",377380,130356,31157,13955,15044,10737,34341,13676,39729,44304,9375,1076,4748,9729,4229,4565,3670,6689]
["6.10.1",null,null,"男","0～14",44293,15523,3606,1662,1444,1062,4530,1372,4876,5331,956,84,535,1064,465,548,474,761]
[null,null,null,null,"15～24",35666,12880,2846,1167,1165,848,3514,1086,3821,4421,1050,64,421,839,359,411,304,470]
[null,null,null,null,"25～34",33258,11778,2737,1286,888,692,3183,1049,4035,3836,1026,79,293,715,386,486,342,447]
[null,null,null,null,"35～44",40897,14429,3555,1474,1434,1025,3945,1401,4554,4628,932,101,466,973,456,520,390,614]
[null,null,null,null,"45～54",53212,18478,4574,1881,1926,1336,5220,1730,5824,6325,1175,142,569,1286,594,762,531,859]
[null,null,null,null,"55～64",46647,15789,4123,1810,1868,1238,3983,1724,4805,5484,1111,165,579,1247,609,669,547,896]
[null,null,null,null,"65以上",100988,32676,8139,3989,4947,3600,8260,3945,10444,11313,2471,437,1559,3020,1429,1457,1123,2179]
[null,null,null,null,"計(年齢不詳含む)",361311,124420,30432,13756,13800,9895,32964,12481,38822,41723,8932,1072,4422,9159,4342,5097,3739,6255]
[null,null,null,"女","0～14",42029,14434,3533,1575,1439,1024,4319,1358,4529,5118,976,75,466,1016,418,512,488,749]
[null,null,null,null,"15～24",32233,11331,2574,973,1127,808,3240,1032,3520,4013,998,53,354,828,298,328,260,496]
[null,null,null,null,"25～34",29859,10796,2391,993,841,655,2958,980,3680,3580,939,59,254,583,288,291,214,357]
[null,null,null,null,"35～44",39226,14088,3320,1341,1363,996,3951,1333,4208,4633,839,77,441,884,409,432,371,540]
[null,null,null,null,"45～54",50865,17987,4379,1763,1718,1286,5011,1678,5394,6220,1175,100,537,1210,482,648,446,831]
[null,null,null,null,"55～64",47720,16421,3926,1744,2031,1354,4034,1878,4828,5834,1195,151,579,1287,512,569,455,922]
[null,null,null,null,"65以上",131147,43347,10427,5145,6471,4605,10619,5273,13307,14480,3114,561,2117,3917,1794,1760,1431,2779]
[null,null,null,null,"計(年齢不詳含む)",377380,130356,31157,13955,15044,10737,34341,13676,39729,44304,9375,1076,4748,9729,4229,4565,3670,6689]
["3.6.1","3 事業所（民営）","事業所数","全産業","総数","…","…","…","…","…","…","…","…","…","…","…","…","…","…","…","…","…","…"]
[null,null,null,null,"民営",39859,15338,3184,1722,1737,1091,3399,1242,4151,3592,699,151,382,967,483,522,463,736]
[null,null,null,null,"国，地方公共団体","…","…","…","…","…","…","…","…","…","…","…","…","…","…","…","…","…","…"]
[null,null,null,"農林漁業","総数","…","…","…","…","…","…","…","…","…","…","…","…","…","…","…","…","…","…"]
[null,null,null,null,"民営",540,81,10,35,53,19,22,44,49,73,15,12,21,26,16,13,17,34]
[null,null,null,null,"国，地方公共団体","…","…","…","…","…","…","…","…","…","…","…","…","…","…","…","…","…","…"]
[null,null,null,"鉱業","総数","…","…","…","…","…","…","…","…","…","…","…","…","…","…","…","…","…","…"]
[null,null,null,null,"民営",16,9,"-","-","-","-","-",2,1,1,1,"-",2,"-","-","-","-","-"]
[null,null,null,null,"国，地方公共団体","…","…","…","…","…","…","…","…","…","…","…","…","…","…","…","…","…","…"]
[null,null,null,"建設業","総数","…","…","…","…","…","…","…","…","…","…","…","…","…","…","…","…","…","…"]
[null,null,null,null,"民営",4521,1493,465,198,264,150,258,140,454,414,98,23,55,148,75,92,96,98]
[null,null,null,null,"国，地方公共団体","…","…","…","…","…","…","…","…","…","…","…","…","…","…","…","…","…","…"]
[null,null,null,"製造業","総数","…","…","…","…","…","…","…","…","…","…","…","…","…","…","…","…","…","…"]
[null,null,null,null,"民営",4746,1311,165,144,185,146,973,160,610,575,116,30,31,157,29,26,26,62]
[null,null,null,null,"国，地方公共団体","…","…","…","…","…","…","…","…","…","…","…","…","…","…","…","…","…","…"]
[null,null,null,"電気・ガス・熱供給・水道業","総数","…","…","…","…","…","…","…","…","…","…","…","…","…","…","…","…","…","…"]
[null,null,null,null,"民営",51,15,9,1,3,1,1,1,7,7,"-","-","-","-",3,1,1,1]
[null,null,null,null,"国，地方公共団体","…","…","…","…","…","…","…","…","…","…","…","…","…","…","…","…","…","…"]
[null,null,null,"情報通信業","総数","…","…","…","…","…","…","…","…","…","…","…","…","…","…","…","…","…","…"]
[null,null,null,null,"民営",341,192,23,12,6,6,17,3,23,42,3,1,"-",3,6,1,"-",3]
[null,null,null,null,"国，地方公共団体","…","…","…","…","…","…","…","…","…","…","…","…","…","…","…","…","…","…"]
[null,null,null,"運輸業、郵便業","総数","…","…","…","…","…","…","…","…","…","…","…","…","…","…","…","…","…","…"]
[null,null,null,null,"民営",847,320,104,22,24,16,48,36,84,115,16,3,8,13,10,12,6,10]
[null,null,null,null,"国，地方公共団体","…","…","…","…","…","…","…","…","…","…","…","…","…","…","…","…","…","…"]
[null,null,null,"卸売業、小売業","総数","…","…","…","…","…","…","…","…","…","…","…","…","…","…","…","…","…","…"]
[null,null,null,null,"民営",9510,3893,763,433,391,256,737,273,1056,880,133,27,68,223,78,83,62,154]
[null,null,null,null,"国，地方公共団体","…","…","…","…","…","…","…","…","…","…","…","…","…","…","…","…","…","…"]
[null,null,null,"金融業、保険業","総数","…","…","…","…","…","…","…","…","…","…","…","…","…","…","…","…","…","…"]
[null,null,null,null,"民営",726,379,56,34,28,15,51,18,63,39,8,1,3,12,4,5,2,8]
[null,null,null,null,"国，地方公共団体","…","…","…","…","…","…","…","…","…","…","…","…","…","…","…","…","…","…"]
[null,null,null,"不動産業、物品賃貸業","総数","…","…","…","…","…","…","…","…","…","…","…","…","…","…","…","…","…","…"]
[null,null,null,null,"民営",1461,763,133,69,33,21,85,20,155,83,37,"-",3,12,11,13,13,10]
[null,null,null,null,"国，地方公共団体","…","…","…","…","…","…","…","…","…","…","…","…","…","…","…","…","…","…"]
[null,null,null,"学術研究、専門・技術サービス業","総数","…","…","…","…","…","…","…","…","…","…","…","…","…","…","…","…","…","…"]
[null,null,null,null,"民営",1639,826,138,72,48,30,105,38,133,125,23,4,10,20,19,18,12,18]
[null,null,null,null,"国，地方公共団体","…","…","…","…","…","…","…","…","…","…","…","…","…","…","…","…","…","…"]
[null,null,null,"宿泊業、飲食サービス業","総数","…","…","…","…","…","…","…","…","…","…","…","…","…","…","…","…","…","…"]
[null,null,null,null,"民営",4759,1813,498,230,203,135,300,180,386,338,61,15,61,111,87,122,76,143]
[null,null,null,null,"国，地方公共団体","…","…","…","…","…","…","…","…","…","…","…","…","…","…","…","…","…","…"]
[null,null,null,"生活関連サービス業、娯楽業","総数","…","…","…","…","…","…","…","…","…","…","…","…","…","…","…","…","…","…"]
[null,null,null,null,"民営",3366,1324,248,158,162,108,266,110,342,303,60,11,27,68,36,40,46,57]
[null,null,null,null,"国，地方公共団体","…","…","…","…","…","…","…","…","…","…","…","…","…","…","…","…","…","…"]
[null,null,null,"教育、学習支援業","総数","…","…","…","…","…","…","…","…","…","…","…","…","…","…","…","…","…","…"]
[null,null,null,null,"民営",1049,455,64,44,39,32,83,40,113,86,23,1,16,18,4,11,11,9]
[null,null,null,null,"国，地方公共団体","…","…","…","…","…","…","…","…","…","…","…","…","…","…","…","…","…","…"]
[null,null,null,"医療、福祉","総数","…","…","…","…","…","…","…","…","…","…","…","…","…","…","…","…","…","…"]
[null,null,null,null,"民営",2586,1079,207,90,147,67,200,76,263,209,40,5,35,59,28,19,21,41]
[null,null,null,null,"国，地方公共団体","…","…","…","…","…","…","…","…","…","…","…","…","…","…","…","…","…","…"]
[null,null,null,"複合サービス事業","総数","…","…","…","…","…","…","…","…","…","…","…","…","…","…","…","…","…","…"]
[null,null,null,null,"民営",328,92,17,23,15,10,23,11,33,33,7,3,9,14,8,13,6,11]
[null,null,null,null,"国，地方公共団体","…","…","…","…","…","…","…","…","…","…","…","…","…","…","…","…","…","…"]
[null,null,null,"サービス業（他に分類されないもの）","総数","…","…","…","…","…","…","…","…","…","…","…","…","…","…","…","…","…","…"]
[null,null,null,null,"民営",3373,1293,284,157,136,79,230,90,379,269,58,15,33,83,69,53,68,77]
[null,null,null,null,"国，地方公共団体","…","…","…","…","…","…","…","…","…","…","…","…","…","…","…","…","…","…"]
[null,null,null,"公務（他に分類されないもの）","総数","…","…","…","…","…","…","…","…","…","…","…","…","…","…","…","…","…","…"]
[null,null,null,null,"民営","…","…","…","…","…","…","…","…","…","…","…","…","…","…","…","…","…","…"]
[null,null,null,null,"国，地方公共団体","…","…","…","…","…","…","…","…","…","…","…","…","…","…","…","…","…","…"]
[null,null,"従業者数","全産業","総数","…","…","…","…","…","…","…","…","…","…","…","…","…","…","…","…","…","…"]
[null,null,null,null,"民営",373974,149002,31278,12613,12482,8633,30197,12932,42890,35608,7893,932,2596,6753,4885,5175,4179,5926]
[null,null,null,null,"国，地方公共団体等","…","…","…","…","…","…","…","…","…","…","…","…","…","…","…","…","…","…"]
[null,null,null,"農林漁業","総数","…","…","…","…","…","…","…","…","…","…","…","…","…","…","…","…","…","…"]
[null,null,null,null,"民営",7116,1284,205,459,789,342,221,559,493,752,289,137,269,255,157,305,142,458]
[null,null,null,null,"国，地方公共団体等","…","…","…","…","…","…","…","…","…","…","…","…","…","…","…","…","…","…"]
[null,null,null,"鉱業","総数","…","…","…","…","…","…","…","…","…","…","…","…","…","…","…","…","…","…"]
[null,null,null,null,"民営",121,56,"-","-","-","-","-",9,10,1,10,"-",35,"-","-","-","-","-"]
[null,null,null,null,"国，地方公共団体等","…","…","…","…","…","…","…","…","…","…","…","…","…","…","…","…","…","…"]
[null,null,null,"建設業","総数","…","…","…","…","…","…","…","…","…","…","…","…","…","…","…","…","…","…"]
[null,null,null,null,"民営",31696,11252,3975,1061,1605,752,1575,683,2736,2610,621,122,283,617,976,1230,1065,533]
[null,null,null,null,"国，地方公共団体等","…","…","…","…","…","…","…","…","…","…","…","…","…","…","…","…","…","…"]
[null,null,null,"製造業","総数","…","…","…","…","…","…","…","…","…","…","…","…","…","…","…","…","…","…"]
[null,null,null,null,"民営",80836,20001,3835,1857,2796,2736,10921,4537,16284,11064,1199,210,481,2157,287,348,274,1849]
[null,null,null,null,"国，地方公共団体等","…","…","…","…","…","…","…","…","…","…","…","…","…","…","…","…","…","…"]
[null,null,null,"電気・ガス・熱供給・水道業","総数","…","…","…","…","…","…","…","…","…","…","…","…","…","…","…","…","…","…"]
[null,null,null,null,"民営",3576,725,473,2,107,9,2,"-",89,124,"-","-","-","-",1010,567,464,4]
[null,null,null,null,"国，地方公共団体等","…","…","…","…","…","…","…","…","…","…","…","…","…","…","…","…","…","…"]
[null,null,null,"情報通信業","総数","…","…","…","…","…","…","…","…","…","…","…","…","…","…","…","…","…","…"]
[null,null,null,null,"民営",5157,3307,241,65,18,43,356,11,145,914,16,1,"-",9,22,4,"-",5]
[null,null,null,null,"国，地方公共団体等","…","…","…","…","…","…","…","…","…","…","…","…","…","…","…","…","…","…"]
[null,null,null,"運輸業、郵便業","総数","…","…","…","…","…","…","…","…","…","…","…","…","…","…","…","…","…","…"]
[null,null,null,null,"民営",16650,7801,2323,350,252,156,713,529,1684,2000,232,20,50,94,104,111,108,123]
[null,null,null,null,"国，地方公共団体等","…","…","…","…","…","…","…","…","…","…","…","…","…","…","…","…","…","…"]
[null,null,null,"卸売業、小売業","総数","…","…","…","…","…","…","…","…","…","…","…","…","…","…","…","…","…","…"]
[null,null,null,null,"民営",69965,32160,5658,3042,2232,1309,5676,1648,6732,6852,896,109,434,1114,437,469,342,855]
[null,null,null,null,"国，地方公共団体等","…","…","…","…","…","…","…","…","…","…","…","…","…","…","…","…","…","…"]
[null,null,null,"金融業、保険業","総数","…","…","…","…","…","…","…","…","…","…","…","…","…","…","…","…","…","…"]
[null,null,null,null,"民営",8923,5509,569,369,254,102,604,127,641,489,53,1,12,71,30,39,13,40]
[null,null,null,null,"国，地方公共団体等","…","…","…","…","…","…","…","…","…","…","…","…","…","…","…","…","…","…"]
[null,null,null,"不動産業、物品賃貸業","総数","…","…","…","…","…","…","…","…","…","…","…","…","…","…","…","…","…","…"]
[null,null,null,null,"民営",5573,3197,655,173,131,51,218,77,545,246,75,"-",5,30,42,40,45,43]
[null,null,null,null,"国，地方公共団体等","…","…","…","…","…","…","…","…","…","…","…","…","…","…","…","…","…","…"]
[null,null,null,"学術研究、専門・技術サービス業","総数","…","…","…","…","…","…","…","…","…","…","…","…","…","…","…","…","…","…"]
[null,null,null,null,"民営",10426,4470,1734,742,246,95,466,139,677,1018,95,7,20,47,204,223,206,37]
[null,null,null,null,"国，地方公共団体","…","…","…","…","…","…","…","…","…","…","…","…","…","…","…","…","…","…"]
[null,null,null,"宿泊業、飲食サービス業","総数","…","…","…","…","…","…","…","…","…","…","…","…","…","…","…","…","…","…"]
[null,null,null,null,"民営",29487,12276,3044,1155,681,672,2348,1574,2385,2287,331,62,264,610,402,525,272,599]
[null,null,null,null,"国，地方公共団体等","…","…","…","…","…","…","…","…","…","…","…","…","…","…","…","…","…","…"]
[null,null,null,"生活関連サービス業、娯楽業","総数","…","…","…","…","…","…","…","…","…","…","…","…","…","…","…","…","…","…"]
[null,null,null,null,"民営",12821,5855,937,587,549,258,983,567,1015,1105,164,35,64,141,106,108,163,184]
[null,null,null,null,"国，地方公共団体等","…","…","…","…","…","…","…","…","…","…","…","…","…","…","…","…","…","…"]
[null,null,null,"教育、学習支援業","総数","…","…","…","…","…","…","…","…","…","…","…","…","…","…","…","…","…","…"]
[null,null,null,null,"民営",11530,6185,583,213,267,232,430,354,990,445,1565,1,47,73,24,47,63,11]
[null,null,null,null,"国，地方公共団体等","…","…","…","…","…","…","…","…","…","…","…","…","…","…","…","…","…","…"]
[null,null,null,"医療、福祉","総数","…","…","…","…","…","…","…","…","…","…","…","…","…","…","…","…","…","…"]
[null,null,null,null,"民営",47484,19988,3638,1339,1707,1545,4206,1517,4331,3597,1924,122,456,1125,346,538,276,829]
[null,null,null,null,"国，地方公共団体等","…","…","…","…","…","…","…","…","…","…","…","…","…","…","…","…","…","…"]
[null,null,null,"複合サービス事業","総数","…","…","…","…","…","…","…","…","…","…","…","…","…","…","…","…","…","…"]
[null,null,null,null,"民営",4222,1263,342,283,145,81,308,121,470,739,31,18,69,89,47,87,43,86]
[null,null,null,null,"国，地方公共団体等","…","…","…","…","…","…","…","…","…","…","…","…","…","…","…","…","…","…"]
[null,null,null,"サービス業（他に分類されないもの）","総数","…","…","…","…","…","…","…","…","…","…","…","…","…","…","…","…","…","…"]
[null,null,null,null,"民営",28391,13673,3066,916,703,250,1170,480,3663,1365,392,87,107,321,691,534,703,270]
[null,null,null,null,"国，地方公共団体等","…","…","…","…","…","…","…","…","…","…","…","…","…","…","…","…","…","…"]
[null,null,null,"公務（他に分類されないもの）","総数","…","…","…","…","…","…","…","…","…","…","…","…","…","…","…","…","…","…"]
[null,null,null,null,"民営","…","…","…","…","…","…","…","…","…","…","…","…","…","…","…","…","…","…"]
[null,null,null,null,"国，地方公共団体等","…","…","…","…","…","…","…","…","…","…","…","…","…","…","…","…","…","…"]
["2.2.1","4 農業","農業経営体数（総数）と就業状況","農業経営体数","総数",10546,2333,356,443,933,580,445,508,1196,1454,269,125,251,447,213,198,270,525]
[null,null,null,null,"個人経営体",9871,2195,351,424,885,554,412,457,1128,1316,253,108,229,426,197,194,255,487]
[null,null,null,null,"団体経営体",675,138,5,19,48,26,33,51,68,138,16,17,22,21,16,4,15,38]
[null,null,null,null,"　　法人経営",414,73,2,16,34,18,17,46,40,54,11,12,11,20,12,4,9,35]
[null,null,null,"農産物販売額規模別経営体数","総数",10546,2333,356,443,933,580,445,508,1196,1454,269,125,251,447,213,198,270,525]
[null,null,null,null,"販売なし",706,129,41,42,38,68,23,14,95,29,17,13,20,28,35,21,50,43]
[null,null,null,null,"50万円未満",3648,816,177,168,252,225,125,113,450,319,112,58,90,229,96,116,119,183]
[null,null,null,null,"50～300",4670,1075,112,182,508,219,224,253,527,778,113,34,107,152,51,53,71,211]
[null,null,null,null,"300～500",431,92,11,21,43,18,19,29,35,103,9,2,8,8,9,2,8,14]
[null,null,null,null,"500～1000",417,81,9,13,25,18,20,30,36,100,9,9,9,9,7,2,12,28]
[null,null,null,null,"1000万円以上",674,140,6,17,67,32,34,69,53,125,9,9,17,21,15,4,10,46]
[null,null,null,"農業に60日以上従事した世帯員、役員・構成員（経営主を含む）の平均","総数",67.900000000000006,67.8,69.2,67,68.3,69.3,67.3,66,68.2,66.8,69.2,68.2,67.3,70.2,67.3,71.7,66.900000000000006,67.3]
[null,null,null,null,"男",67.099999999999994,67.3,68.2,66,67.400000000000006,68.3,66.900000000000006,65.099999999999994,67.400000000000006,66.2,68.8,67.400000000000006,65.8,69.3,66.3,71.2,65.599999999999994,66.8]
[null,null,null,null,"女",69.7,69.2,70.900000000000006,69.7,69.7,71.8,68.599999999999994,68,70.599999999999994,68.3,70.3,69.8,71,72.2,69.5,72.400000000000006,69.099999999999994,68.3]
[null,null,null,"農業に150日以上従事","総数",67.400000000000006,66.400000000000006,69.599999999999994,67.400000000000006,69.3,69.900000000000006,65.3,64.599999999999994,66.599999999999994,66.400000000000006,70.7,66,65.8,70,66.599999999999994,73.599999999999994,66.3,65.599999999999994]
[null,null,null,null,"男",66.7,65.8,69.2,67,68.599999999999994,69.400000000000006,65,63.7,65.7,66,70.3,64,64.099999999999994,69.599999999999994,66.3,72.7,64.5,65]
[null,null,null,null,"女",69,67.900000000000006,70.2,68.3,70.7,71.2,66,66.400000000000006,69.3,67.5,71.599999999999994,69.8,70.599999999999994,71,67.2,75.400000000000006,69.5,67.2]
[null,null,null,"15歳以上の年齢階層別常雇い数（年齢不詳を含む）","総数",783,113,8,73,75,15,17,63,33,154,9,7,58,9,18,63,28,40]
[null,null,null,null,"男",489,79,3,28,52,7,13,46,28,109,7,6,29,8,3,37,10,24]
[null,null,null,null,"女",294,34,5,45,23,8,4,17,5,45,2,1,29,1,15,26,18,16]
[null,null,null,"経営耕地面積規模別経営体数","計",32792,6910,418,1011,3837,1416,1850,2560,3053,5920,653,327,837,964,530,205,605,1696]
[null,null,null,null,"0.5ha未満",728,163,42,40,35,40,27,31,83,55,18,15,14,47,25,26,29,40]
[null,null,null,null,"0.5 ～ 1.0",2338,549,94,100,183,150,84,86,302,230,70,26,61,122,49,60,67,106]
[null,null,null,null,"1.0 ～ 2.0",4042,908,89,152,469,225,182,215,463,711,99,22,82,118,46,41,61,160]
[null,null,null,null,"2.0 ～ 3.0",1968,398,31,86,263,84,85,105,166,431,33,9,40,57,27,19,44,88]
[null,null,null,null,"3.0 ～ 5.0",1473,287,52,67,153,53,53,98,142,333,43,11,30,37,29,11,12,63]
[null,null,null,null,"5.0以上",22242,4608,110,567,2732,863,1419,2026,1896,4161,390,244,614,583,354,48,392,1239]
["5年",null,"米収穫量",null,"収穫量",116500,25400,1770,3810,12800,5150,7070,8640,12100,19400,2990,1120,2770,3660,2020,854,1850,5140]
[null,null,null,null,"作付面積",23300,4970,375,814,2530,1050,1410,1670,2420,3790,630,265,590,754,426,182,398,1070]
[null,null,null,null,"10a当たり収量",500,511,472,468,506,490,501,516,500,512,475,423,469,485,474,469,465,479]
["5.7.15",null,"耕地面積",null,"総数",39600,7730,858,1410,4180,1900,2020,3380,3590,6580,987,461,1030,1400,821,424,730,2060]
[null,null,null,null,"田",35900,7330,761,1290,4040,1750,1950,2580,3400,5850,926,405,934,1230,760,345,650,1700]
[null,null,null,null,"畑",3660,404,97,117,146,145,71,797,187,731,61,56,99,169,61,79,80,359]
["5年産",null,"農業生産物","水稲","作付面積",23300,4970,375,814,2530,1050,1410,1670,2420,3790,630,265,590,754,426,182,398,1070]
[null,null,null,null,"収穫量",116500,25400,1770,3810,12800,5150,7070,8640,12100,19400,2990,1120,2770,3660,2020,854,1850,5140]
[null,null,null,null,"10a当たり収量",500,511,472,468,506,490,501,516,500,512,475,423,469,485,474,469,465,479]
[null,null,null,"六条大麦","作付面積",5140,1020,"-",36,822,262,279,615,303,1520,"-","-",45,112,40,4,34,46]
[null,null,null,null,"収穫量",16100,3090,"-",112,2220,571,743,2160,840,5780,"-","-",123,242,65,10,72,73]
[null,null,null,null,"10a当たり収量",313,303,"-",312,270,218,266,351,277,380,"-","-",273,216,162,248,212,158]
[null,null,null,"大豆","作付面積",1940,466,1,21,124,11,116,353,74,713,3,3,14,27,4,0,3,2]
[null,null,null,null,"収穫量",2270,555,1,24,146,11,133,420,78,849,2,2,13,25,3,"-",2,2]
[null,null,null,null,"10a当たり収量",117,119,64,114,118,96,115,119,105,119,72,73,93,93,73,"-",68,65]
["6.3.31",null,"畜産","乳用牛","農家数",17,3,1,0,3,3,0,2,0,3,0,0,0,0,1,0,0,1]
[null,null,null,null,"頭",753,146,27,0,136,128,0,149,0,64,0,0,0,0,62,0,0,41]
[null,null,null,"肉用牛","農家数",37,5,3,0,1,2,0,0,1,16,0,3,0,0,3,0,1,2]
[null,null,null,null,"頭",1851,261,53,0,1,5,0,0,20,1094,0,208,0,0,122,0,17,70]
[null,null,null,"豚","農家数","x",0,0,0,"x",0,0,0,"x",0,0,0,0,0,0,0,0,0]
[null,null,null,null,"頭",2441,0,0,0,180,0,0,0,2261,0,0,0,0,0,0,0,0,0]
[null,null,null,"採卵鶏","農家数",23,6,1,0,0,1,1,2,3,4,0,1,1,1,0,0,1,1]
[null,null,null,null,"羽",731268,6451,180,0,0,115,200,201653,39070,476554,0,400,300,150,0,0,195,6000]
[null,null,null,"ブロイラー","農家数","x","x",0,0,0,0,0,"x",0,"x",0,0,0,0,0,0,0,0]
[null,null,null,null,"羽",79500,27000,0,0,0,0,0,36000,0,16500,0,0,0,0,0,0,0,0]
["5.3.31","5 林業","森林面積",null,"総面積",312064.27,31955.220000000005,19934.489999999994,19030.38,75825.05,20184.689999999999,3148.4199999999996,4425.51,14186.150000000001,7362.5100000000011,6865.21,17846.75,31452.839999999997,11385.099999999999,12567.300000000001,5332.7699999999995,18707.62,11854.26]
[null,null,null,"人工林","針葉樹",120774.04,19369.740000000002,4388.3,7345.17,18363.59,7906.53,2093.15,3171.31,7775.37,3969.34,3102.87,7955.16,9174.15,6045.19,2620.5700000000002,2341.06,9587.81,5564.73]
[null,null,null,null,"広葉樹",3024.1299999999997,72.27,395.69,37.28,1377.18,222.27,40.33,27.53,59.06,30.84,14.31,185.21,300.49,30.74,3.93,2.31,188.63,36.06]
[null,null,null,"天然林","針葉樹",8951.0399999999972,750.5,2068.36,1177.73,463.65,220.34,72.23,281.2,628.61,148.91,68.23,30.63,340.89,147.41,856.77,348.62,614.91999999999996,732.04]
[null,null,null,null,"広葉樹",169850.95,10923.51,12629.14,10144.39,51928.12,11069.77,899.78,851.73,5466.1,3075.28,3606.76,9256.43,20735.27,4910.96,8592.9500000000007,2190.37,8175.04,5395.35]
[null,null,null,"竹林","竹林",1391.09,302.22000000000003,73.03,181.56,8.83,9.4,18.62,15.75,135.77000000000001,2.64,18.34,1.62,56.19,160.9,27.74,249.45,62.81,66.22]
[null,null,null,"無立木地","伐採跡地",111.45,21.31,0.35,3.12,26.14,27.17,0,7.61,0,2.1,0,8.3699999999999992,0,2.58,0.37,9.14,0.94,2.25]
[null,null,null,null,"未立木地",7961.57,515.66999999999996,379.62,141.13,3657.54,729.21,24.31,70.38,121.24,133.4,54.7,409.33,845.85,87.32,464.97,191.82,77.47,57.61]
[null,null,"所有形態別",null,"国営",39306.539999999994,108.99,4794.99,705.7,20664.12,2002.02,16.96,44.33,54.83,46.34,41.63,2264.64,6530.63,16.89,6.6,3.79,1441.77,562.30999999999995]
[null,null,null,null,"公営",38816.730000000003,1529.77,1873.78,1886.05,11115.76,4132.22,126.77,572.01,996.81,1451.21,393.91,2198.13,4611.41,1666.03,1040.1500000000001,428.31,3072.75,1721.66]
[null,null,null,null,"私営",233941,30316.46,13265.72,16438.63,44045.17,14050.45,3004.69,3809.17,13134.51,5864.96,6429.67,13383.98,20310.8,9702.18,11520.55,4900.67,14193.1,9570.2900000000009]
["5年中",null,"林産物生産量",null,"生椎茸",167545,9506,5120,158,41075,0,1515,0,17725,517,4183,0,0,2670,3,0,84573,500]
[null,null,null,null,"乾椎茸",3274,177,370,0,41,0,486,0,6,0,0,0,0,1410,0,0,584,200]
[null,null,null,null,"なめこ",21073,36,22,0,15,0,0,0,0,21000,0,0,0,0,0,0,0,0]
[null,null,null,null,"えのきだけ",38,38,0,0,0,0,0,0,0,0,0,0,0,0,0,0,0,0]
[null,null,null,null,"ひらたけ",6688,6621,0,23,0,0,0,0,0,0,0,0,0,20,0,0,24,0]
[null,null,null,null,"まいたけ",115332,420,0,0,0,114912,0,0,0,0,0,0,0,0,0,0,0,0]
["5.12.31"," 6 漁業","漁船隻数・トン数",null,"無動力船隻数",50,0,0,2,0,0,0,0,0,7,10,0,0,0,0,17,1,13]
[null,null,null,null,"船外機付漁船隻数",976,124,61,128,2,0,0,26,0,62,0,0,88,131,98,67,33,156]
[null,null,null,"動力船","隻数",857,68,95,130,0,0,0,9,0,49,0,0,20,129,92,91,119,55]
[null,null,null,null,"総トン数",5130.8399999999992,499,533.54999999999995,517.85,0,0,0,14,0,543.35,0,0,132.16,1411.74,426.74,298.7,523.13,230.62]
["5.11.1",null,"就業者数",null,"総数",1060,112,102,118,0,0,0,3,0,79,0,0,75,262,81,66,111,51]
[null,null,null,null,"男",0,0,0,0,0,0,0,0,0,0,0,0,0,0,0,0,0,0]
[null,null,null,null,"女",0,0,0,0,0,0,0,0,0,0,0,0,0,0,0,0,0,0]
["30年中",null,"海面漁業漁獲量（属人）",null,"  総  数",11317,1038,503,675,0,0,0,3,0,507,0,0,1516,3155,1409,681,972,858]
[null,null,"（※  養殖含まず）",null,"  魚  類",8504,583,420,570,0,0,0,2,0,94,0,0,1455,1901,1278,588,814,801]
[null,null,null,null,"  貝  類",261,6,10,32,0,0,0,1,0,20,0,0,4,120,21,9,27,12]
[null,null,null,null,"  藻  類",50,4,2,9,0,0,0,1,0,4,0,0,3,1,18,0,1,8]
[null,null,null,null," そ の 他",2502,445,71,64,0,0,0,0,0,389,0,0,54,1133,92,84,130,37]
["3.6.1(令和2年実績）","7 商業","事業所数","卸売業・小売業計",null,8369,3374,652,386,347,227,650,247,952,771,127,25,64,212,64,76,51,144]
[null,null,null,"卸売業","卸売業計",2050,1047,163,86,39,23,178,36,247,142,18,1,2,19,11,14,4,20]
[null,null,null,"小売業","小売業計",6319,2327,489,300,308,204,472,211,705,629,109,24,62,193,53,62,47,124]
[null,null,null,null,"各種商品小売業",24,11,1,1,1,1,1,"-",3,2,1,"-","-","-","-",1,"-",1]
[null,null,null,null,"織物・衣服・身の回り品小売業",858,408,64,25,51,20,64,24,97,65,7,2,6,12,4,3,2,4]
[null,null,null,null,"飲食料品小売業",1907,620,148,105,85,70,141,79,205,203,37,8,26,78,21,21,14,46]
[null,null,null,null,"機械器具小売業",979,364,79,38,50,35,69,29,130,97,12,4,10,16,9,11,8,18]
[null,null,null,null,"その他の小売業",2315,817,177,123,115,73,177,68,250,236,50,9,20,82,17,25,22,54]
[null,null,null,null,"無店舗小売業",236,107,20,8,6,5,20,11,20,26,2,1,"-",5,2,1,1,1]
[null,null,"従業者数（人）","卸売業・小売業計",null,59927,27581,4633,2753,1819,1126,5058,1412,5968,5504,846,101,335,1008,337,428,247,771]
[null,null,null,"卸売業","卸売業計",17018,9834,1108,782,171,73,1494,207,1504,1349,163,4,2,97,53,55,14,108]
[null,null,null,"小売業","小売業計",42909,17747,3525,1971,1648,1053,3564,1205,4464,4155,683,97,333,911,284,373,233,663]
[null,null,null,null,"各種商品小売業",1577,730,15,24,3,3,177,"-",153,308,9,"-","-","-","-",2,"-",153]
[null,null,null,null,"織物・衣服・身の回り品小売業",2827,1517,225,69,116,45,221,51,329,176,15,3,14,27,7,3,4,5]
[null,null,null,null,"飲食料品小売業",15901,5768,1428,872,643,445,1491,529,1574,1598,289,44,185,433,133,161,96,212]
[null,null,null,null,"機械器具小売業",6300,2897,594,297,251,137,406,103,787,512,42,15,36,49,51,44,20,59]
[null,null,null,null,"その他の小売業",13955,5619,1138,676,605,378,1032,355,1467,1294,324,32,98,360,77,160,109,231]
[null,null,null,null,"無店舗小売業",2349,1216,125,33,30,45,237,167,154,267,4,3,"-",42,16,3,4,3]
[null,null,"年間商品販売額","卸売業・小売業計",null,1941283,1132111,178162,64103,32032,20107,125738,32174,149403,131440,14746,721,5165,14982,9171,9624,3186,18417]
[null,null,null,"卸売業","卸売業計",1123737,756572,104339,28611,3853,4241,64358,12644,63185,58610,6217,"-","-",3289,3997,3193,248,10382]
[null,null,null,"小売業","小売業計",817545,375539,73822,35492,28179,15866,61381,19530,86218,72830,8529,721,5165,11694,5174,6431,2938,8036]
[null,null,null,null,"各種商品小売業",41446,21678,"x","x","x","x","x","-",3271,"x","x","-","-","-","-","x","-","x"]
[null,null,null,null,"織物・衣服・身の回り品小売業",31583,19910,2391,1118,535,453,2622,156,2697,1524,99,"-",20,20,"x","-","x",11]
[null,null,null,null,"飲食料品小売業",228815,82095,23818,11763,10240,6507,21131,6247,23463,23702,2936,248,2697,6465,2425,2171,1481,1424]
[null,null,null,null,"機械器具小売業",182138,102753,16977,7914,5528,1587,9335,1426,21430,12068,334,145,378,386,949,309,84,534]
[null,null,null,null,"その他の小売業",264391,107570,"x","x","x","x","x",7120,31772,"x",5130,"x",2070,4715,1449,"x",1336,"x"]
[null,null,null,null,"無店舗小売業",69173,41533,7924,1397,391,1257,6214,4580,3586,1745,"x","x","-",107,"x","x","x","x"]
["4年","8 住宅","4",null,"住宅数",313349,110426,25770,11898,11240,8265,23892,12944,32025,32716,7536,1036,4159,9651,4667,5252,3837,8035]
[null,null,"5",null,"建設した住宅数",4444,1677,305,183,84,65,660,76,662,377,94,3,13,76,18,89,22,40]
[null,null,null,null,"消失した住宅数",2431,814,252,65,131,110,164,89,251,280,44,10,27,69,51,44,6,24]
["5年",null,"5",null,"住宅数",315362,111289,25823,12016,11193,8220,24388,12931,32436,32813,7586,1029,4145,9658,4634,5297,3853,8051]
["6.8.1","9 議員・職員","市町議会",null,"議員定数",283,32,22,17,16,14,20,16,20,24,14,8,12,14,14,14,13,13]
[null,null,null,null,"最近の選挙年月日","-","5.4.23","5.4.23","5.4.16","5.2.12","5.8.6","5.7.2","3.6.20","4.7.10","4.4.17","4.7.10","5.4.23","4.4.17","3.3.7","4.3.6","6.4.21","5.4.23","3.4.11"]
[null,null,null,null,"選挙投票率","-",44.3,60.43,"無投票",58.5,61.9,50.85,63.98,63.37,54.63,"無投票","無投票",70.709999999999994,74.36,65.75,70.72,"無投票","無投票"]
["6.9.1",null,"有権者数",null,"男",301274,101759,25695,11412,12318,8733,27258,10617,31243,35372,7335,952,3926,8178,3690,4102,3185,5499]
[null,null,null,null,"女",321086,109877,26424,11797,13463,9538,28883,11784,32635,38034,7694,1044,4271,8710,3846,3982,3215,5889]
["6.4.1",null,"市町職員数",null,"総数",7856,2259,1041,293,366,243,405,305,596,815,247,67,211,238,169,191,174,236]
[null,null,null,null,"一般行政職",4341,1213,367,210,224,152,278,214,368,389,101,44,119,164,107,123,134,134]
["4.6.1（令和3年実績）","10 工業","工業","事業所数","計",2021,596,71,69,78,65,304,83,255,319,46,7,13,51,14,11,10,29]
[null,null,null,null,"食料品",164,60,11,15,6,3,6,5,19,13,7,2,1,5,1,1,5,4]
[null,null,null,null,"飲料・飼料",29,11,0,2,2,1,2,0,1,3,4,0,0,0,1,0,0,2]
[null,null,null,null,"繊維",491,143,4,6,27,34,49,21,58,109,19,1,3,10,1,2,3,1]
[null,null,null,null,"木材",67,19,3,11,3,0,6,0,9,1,2,0,2,6,0,1,0,4]
[null,null,null,null,"家具",43,13,1,2,5,2,2,2,3,6,0,0,0,2,2,2,0,1]
[null,null,null,null,"パルプ・紙",74,20,4,1,3,0,4,4,31,4,0,0,0,0,0,0,1,2]
[null,null,null,null,"印刷",90,45,4,1,2,2,8,1,5,17,2,0,0,2,0,1,0,0]
[null,null,null,null,"化学",58,21,1,2,0,1,3,2,7,18,0,0,0,0,1,0,0,2]
[null,null,null,null,"石油・石炭",9,4,2,1,0,0,0,0,1,1,0,0,0,0,0,0,0,0]
[null,null,null,null,"プラスチック",128,42,5,2,3,1,13,5,24,18,2,0,3,7,1,0,0,2]
[null,null,null,null,"ゴム",6,3,0,0,0,0,1,0,1,0,0,0,0,0,1,0,0,0]
[null,null,null,null,"皮革",4,1,0,0,0,0,0,1,0,0,0,0,0,0,1,0,0,1]
[null,null,null,null,"窯業・土石",86,18,9,2,3,3,4,6,15,15,2,0,0,3,3,2,0,1]
[null,null,null,null,"鉄鋼",26,9,0,0,0,2,1,1,7,5,0,0,0,0,0,1,0,0]
[null,null,null,null,"非鉄金属",22,6,1,0,0,1,1,2,5,4,0,0,0,2,0,0,0,0]
[null,null,null,null,"金属",163,53,7,0,10,2,20,6,18,36,3,0,2,3,1,0,1,1]
[null,null,null,null,"はん用機械",36,14,0,0,1,1,5,1,3,7,2,0,0,1,0,1,0,0]
[null,null,null,null,"生産用機械",138,45,2,3,2,3,24,10,12,35,0,0,0,1,0,0,"-",1]
[null,null,null,null,"業務用機械",10,4,0,1,0,0,3,0,2,0,0,0,0,"-",0,0,0,"-"]
[null,null,null,null,"電子・デバイス",55,10,5,2,4,2,6,9,6,8,0,1,0,1,0,0,0,1]
[null,null,null,null,"電気機械",59,12,5,4,2,2,2,4,11,9,1,1,1,1,1,0,0,3]
[null,null,null,null,"情報通信機械",3,1,0,0,1,0,0,0,1,0,0,0,0,0,0,0,0,0]
[null,null,null,null,"輸送機械",26,4,3,2,2,4,2,2,2,1,0,0,0,1,0,0,0,3]
[null,null,null,null,"その他",234,38,4,12,2,1,142,1,14,9,2,2,1,6,0,0,0,0]
[null,null,null,"従業者数","計",73433,17634,3312,1730,2525,2369,8990,3995,16537,10388,986,145,429,1811,253,270,202,1857]
[null,null,null,null,"食料品",4076,1729,201,236,72,80,116,63,792,356,115,14,9,73,4,5,43,168]
[null,null,null,null,"飲料・飼料",437,71,0,22,26,42,126,0,7,44,71,0,0,0,13,0,0,15]
[null,null,null,null,"繊維",14063,4610,156,222,530,1162,1772,461,1436,2955,280,27,104,157,7,46,106,32]
[null,null,null,null,"木材",1671,401,258,108,289,0,215,0,144,4,111,0,14,65,0,25,0,37]
[null,null,null,null,"家具",1108,287,4,14,160,26,40,35,119,208,0,0,0,36,31,89,0,59]
[null,null,null,null,"パルプ・紙",1802,307,200,47,46,0,104,190,533,283,0,0,0,0,0,0,4,88]
[null,null,null,null,"印刷",1882,913,71,5,25,27,171,9,75,506,48,0,0,26,0,6,0,0]
[null,null,null,null,"化学",3924,1567,24,85,0,310,129,365,462,644,0,0,0,0,4,0,0,334]
[null,null,null,null,"石油・石炭",80,42,10,13,0,0,0,0,7,8,0,0,0,0,0,0,0,0]
[null,null,null,null,"プラスチック",5752,1467,1123,101,46,6,382,117,1175,858,22,0,97,148,38,0,0,172]
[null,null,null,null,"ゴム",170,59,0,0,0,0,7,0,100,0,0,0,0,0,4,0,0,0]
[null,null,null,null,"皮革",86,26,0,0,0,0,0,6,0,0,0,0,0,0,50,0,0,4]
[null,null,null,null,"窯業・土石",1910,246,366,25,44,43,96,88,510,280,28,0,0,56,69,46,0,13]
[null,null,null,null,"鉄鋼",426,97,0,0,0,82,15,5,127,53,0,0,0,0,0,47,0,0]
[null,null,null,null,"非鉄金属",1756,238,25,0,0,7,10,21,348,1047,0,0,0,60,0,0,0,0]
[null,null,null,null,"金属",4165,1270,58,0,211,81,771,399,292,785,102,0,26,105,10,0,49,6]
[null,null,null,null,"はん用機械",853,175,0,0,6,5,84,4,21,393,78,0,0,81,0,6,0,0]
[null,null,null,null,"生産用機械",3546,1574,38,96,12,25,388,675,275,406,0,0,0,26,0,0,0,31]
[null,null,null,null,"業務用機械",743,189,0,54,0,0,149,0,351,0,0,0,0,0,0,0,0,0]
[null,null,null,null,"電子・デバイス",11861,952,595,161,658,57,1125,1382,5097,949,0,5,0,743,0,0,0,137]
[null,null,null,null,"電気機械",3123,239,93,250,64,123,26,80,1089,343,102,82,85,154,23,0,0,370]
[null,null,null,null,"情報通信機械",322,97,0,0,35,0,0,0,190,0,0,0,0,0,0,0,0,0]
[null,null,null,null,"輸送機械",4455,245,50,25,98,283,21,88,3242,4,0,0,0,8,0,0,0,391]
[null,null,null,null,"その他",5222,833,40,266,203,10,3243,7,145,262,29,17,94,73,0,0,0,0]
[null,null,null,"製造品出荷額等","計",237361751,47878373,14336699,4309043,5960886,6215077,22484395,15097947,69160832,33486733,1996615,157044,1032113,5225789,541738,671257,315159,8492051]
[null,null,null,null,"食料品",5851205,2683244,208072,335125,55537,116694,79533,58829,1269723,426840,290861,"x","x",61371,"x","x",26751,222918]
[null,null,null,null,"飲料・飼料",1477678,42622,0,"x","x","x","x",0,"x",47253,189039,0,0,0,"x",0,0,"x"]
[null,null,null,null,"繊維",21058246,8433420,75429,311879,388627,1218072,3862572,570469,1603126,3535484,351020,"x",129714,240660,"x","x",170633,"x"]
[null,null,null,null,"木材",8934468,4869803,898264,302288,1378696,0,636600,0,323406,"x","x",0,"x",92618,0,"x",0,30279]
[null,null,null,null,"家具",2075623,439312,"x","x",261298,"x","x","x",307304,396418,0,0,0,"x","x","x",0,"x"]
[null,null,null,null,"パルプ・紙",7908820,649110,936243,"x",30812,0,172308,2691381,1328420,1407382,0,0,0,0,0,0,"x","x"]
[null,null,null,null,"印刷",2848535,1221005,81162,"x","x","x",409880,"x",90358,848295,"x",0,0,"x",0,"x",0,0]
[null,null,null,null,"化学",23179459,9296058,"x","x",0,"x",1557119,"x",2742317,3254969,0,0,0,0,"x",0,0,"x"]
[null,null,null,null,"石油・石炭","x",290420,"x","x",0,0,0,0,"x","x",0,0,0,0,0,0,0,0]
[null,null,null,null,"プラスチック",19212981,4083165,6554138,"x",54280,"x",2665498,118790,2939466,1138737,"x",0,477533,305638,"x",0,0,"x"]
[null,null,null,null,"ゴム",193919,93503,0,0,0,0,"x",0,"x",0,0,0,0,0,"x",0,0,0]
[null,null,null,null,"皮革",125494,"x",0,0,0,0,0,"x",0,0,0,0,0,0,"x",0,0,"x"]
[null,null,null,null,"窯業・土石",6081983,695249,1386031,"x",186219,144179,309512,446559,1702936,531838,"x",0,0,69824,270891,"x",0,"x"]
[null,null,null,null,"鉄鋼",3590790,432812,0,0,0,"x","x","x",1163690,160346,0,0,0,0,0,"x",0,0]
[null,null,null,null,"非鉄金属",19056634,1572038,"x",0,0,"x","x","x",2973105,14004264,0,0,0,"x",0,0,0,0]
[null,null,null,null,"金属",10497287,3198379,73287,0,876772,"x",1460675,1076857,605741,2304753,320537,0,"x",246162,"x",0,"x","x"]
[null,null,null,null,"はん用機械",2136460,350272,0,0,"x","x",169883,"x",21087,1144540,"x",0,0,"x",0,"x",0,0]
[null,null,null,null,"生産用機械",7693019,2689406,"x",160944,"x",36722,856440,2006436,1195088,612516,0,0,0,"x",0,0,0,"x"]
[null,null,null,null,"業務用機械",1299261,431149,0,"x",0,0,237219,0,"x",0,0,0,0,0,0,0,0,0]
[null,null,null,null,"電子・デバイス",42210832,4068043,3429456,"x",1523248,"x",3304236,4537657,19153261,2404768,0,"x",0,"x",0,0,0,"x"]
[null,null,null,null,"電気機械",21140987,402320,398534,1447729,"x","x","x",128104,14489841,583461,"x","x","x","x","x",0,0,2300561]
[null,null,null,null,"情報通信機械",827201,"x",0,0,"x",0,0,0,"x",0,0,0,0,0,0,0,0,0]
[null,null,null,null,"輸送機械","x","x",18950,"x","x",896930,"x","x","x","x",0,0,0,"x",0,0,0,2795733]
[null,null,null,null,"その他",8256813,996553,56929,384782,"x","x",5541276,"x",198338,600727,"x","x","x",90967,0,0,0,0]
[null,null,"工業用水量",null,"従業者30人以上の事業所",274156,65949,61457,1739,8648,6705,37236,14823,45851,28298,264,"x",184,1206,59,39,"x",1526]
["6.3.31","11 上・下水道","上・下水道",null,"上水道",682254,249334,61265,23292,4327,20552,68221,23887,78381,88634,17693,0,9375,9656,5854,9244,0,12539]
[null,null,null,null,"簡易水道",40837,4146,0,3899,7333,0,0,2516,242,0,0,1995,0,10266,2573,293,7574,0]
[null,null,null,null,"専用水道",1212,302,475,0,0,120,0,34,0,0,0,0,0,0,251,0,30,0]
[null,null,null,null,"飲料水供給施設",1038,409,0,130,236,0,0,0,0,0,0,0,1,18,63,98,83,0]
["6.3.31",null,null,null,"下水道処理人口",626538,231063,55691,19370,18381,18422,50658,25522,65603,88116,14377,1913,3827,13509,5365,7773,1263,5685]
["5.4.1","12 交通・通信","道路",null,"実延長",10787.199999999999,2525.3000000000002,520.6,558.5,768.2,568.70000000000005,702.8,416.20000000000005,1066.7,999.8,271,165.2,420.70000000000005,476.8,225.9,212.9,320,567.9]
[null,null,null,null,"国道",591.70000000000005,108.8,12.2,31.1,110.2,39.700000000000003,11.1,11.2,24.7,25.3,27.3,37.200000000000003,72.400000000000006,45.1,0,0,19.5,15.9]
[null,null,null,null,"県道",1584.9,303,71.599999999999994,87.3,153.4,82.7,66.900000000000006,70.900000000000006,149.6,183.7,25.9,39,50.5,73.099999999999994,49.9,38,70.3,69.099999999999994]
[null,null,null,null,"市町道",8610.6,2113.5,436.8,440.1,504.6,446.3,624.79999999999995,334.1,892.4,790.8,217.8,89,297.8,358.6,176,174.9,230.2,482.9]
["6.4.1",null,"鉄道",null,"営業キロ数",74.400000000000006,24.7,0,0,0,6.6,7.4,4.5999999999999996,3.4,12.5,15.2,0,0,0,0,0,0,0]
["6.3.31",null,"自動車台数","登録車","貨物",44717,17946,4459,1476,1684,899,2782,1310,4727,5016,848,144,394,911,529,535,381,674]
[null,null,null,null,"乗合",1719,484,175,90,92,62,99,108,167,135,16,6,21,39,62,38,77,48]
[null,null,null,null,"普通乗用",158868,57693,12524,4891,6227,4052,13986,5744,16772,19236,3871,463,1979,4011,1697,1742,1508,2472]
[null,null,null,null,"小型乗用",143478,52694,10476,4701,5910,4000,12185,5431,14657,17240,3486,411,1787,3703,1492,1586,1409,2309]
[null,null,null,null,"特種",15312,5378,1518,543,1121,518,827,500,1377,1566,315,83,165,405,256,199,197,316]
[null,null,null,null,"小型二輪",9427,2861,966,411,320,247,838,317,1022,1241,207,30,157,218,131,153,111,197]
[null,null,null,"届出車","軽",289841,88067,25006,12426,13998,9061,25384,11005,30758,33660,6510,1258,4426,8893,4591,4170,3594,7034]
["6.3.31",null,"通信","郵便局数","総数",232,70,12,14,13,10,14,9,23,21,6,2,6,10,5,5,5,7]
[null,null,null,null,"郵便局",207,65,11,13,10,9,12,7,21,17,6,2,6,8,4,4,5,7]
[null,null,null,null,"簡易局",25,5,1,1,3,1,2,2,2,4,0,0,0,2,1,1,0,0]
["6.3.31",null,null,"電話数","一般加入電話数",57902,16843,5414,3943,3188,2253,4104,1837,4941,4489,1421,230,609,1547,2013,1181,1228,2661]
[null,null,null,null,"INSﾈｯﾄ加入数",8064,2974,953,351,259,170,426,335,531,588,169,68,201,164,211,185,185,294]
["6年度","13 税・財政","調定額","普通会計","総額","-","-","-","-","-","-","-","-","-","-","-","-","-","-","-","-","-","-"]
[null,null,null,null,"市町村民税","-","-","-","-","-","-","-","-","-","-","-","-","-","-","-","-","-","-"]
[null,null,null,null,"固定資産税","-","-","-","-","-","-","-","-","-","-","-","-","-","-","-","-","-","-"]
[null,null,null,null,"その他","-","-","-","-","-","-","-","-","-","-","-","-","-","-","-","-","-","-"]
[null,null,null,"一人当たり金額","6年度歳入",583203.01858287153,493200.30144126603,655743.72046956432,585146.6926491285,741228.67840798781,722587.53392787906,441241.06678552856,605663.49351989897,483303.8408167942,520976.46087856143,536195.88135685807,1840316.5735567971,1285649.8364231188,766785.20753917831,919772.02193443011,1240232.8710411922,1664192.1986772844,903971.02904820768]
[null,null,null,null,"5年度歳入",640805.52212826768,528957.07930472994,788621.95592109486,634617.90938280406,757055.95355311863,744333.76123234921,458108.45874416188,678224.00756143662,530802.95029861841,591304.5215222612,569162.04426732729,2391298.861047836,1228130.9434367286,779437.43827000051,1450760.6798346348,1452113.0576492157,1660079.3840435417,1015174.3251440704]
[null,null,null,null,"6年度歳出",583203.01858287153,493200.30144126603,655743.72046956432,585146.6926491285,741228.67840798781,722587.53392787906,441241.06678552856,605663.49351989897,483303.8408167942,520976.46087856143,536195.88135685807,1840316.5735567971,1285649.8364231188,766785.20753917831,919772.02193443011,1240232.8710411922,1664192.1986772844,903971.02904820768]
[null,null,null,null,"5年度歳出",615837.17806835636,517428.04998714483,752538.19957591721,612901.96218337491,724941.80558856484,691148.57604716392,435364.66750685743,635127.41020793957,518307.03867941455,577871.22436726396,539478.10867574997,2102860.5922551253,1169770.7416550394,745692.77953942923,1320856.7983463481,1342968.7309024241,1602250.2323111643,948169.77555353357]
["6年度",null,"歳入","当初予算","総額",430806821,125655600,40386600,16215000,21380000,14908426,29697730,15842340,37964000,44818042,9816138,3953000,11789409,14483039,7883366,11983130,12330000,11701001]
[null,null,null,null,"地方税",128511152,43911000,13099142,3672994,3692099,2640505,9747000,4204426,13285000,12220000,2063514,256496,1265256,2132567,4192306,5211547,5166972,1750328]
[null,null,null,null,"地方譲与税",3639223,942000,233047,184000,259680,170300,262000,133000,335000,344700,88800,72724,116300,141672,53000,56890,105400,140710]
[null,null,null,null,"各種交付金",23975165,8365000,1905500,878600,956300,639832,2144300,856000,2682000,2749000,588600,75852,279300,588050,262100,279131,261300,464300]
[null,null,null,null,"地方特例交付金",3408336,1378000,70000,78600,151100,108176,410000,142000,465000,487000,10000,500,4200,13800,6000,8500,6000,69460]
[null,null,null,null,"地方交付税",75415000,14240000,2300000,5365000,6050000,4193000,5320000,3380000,6330000,8500000,3990000,2067000,3900000,5400000,50000,20000,10000,4300000]
[null,null,null,null,"分担金及び負担金",1483859,216334,136141,104951,10470,7049,128370,84359,63367,398362,92168,13443,20829,19051,62780,61555,21666,42964]
[null,null,null,null,"使用料及び手数料",4412662,1202499,497014,174780,188766,138368,264163,179961,498789,493894,201893,62608,70616,121515,140373,57544,43874,76005]
[null,null,null,null,"国庫支出金",61792215,21266719,5027054,1903658,2645918,2500211,4217721,2035150,5620457,5047940,746020,287724,814717,1545995,1309148,3218221,2826107,779455]
[null,null,null,null,"県支出金",42233639,11247587,3084055,1638961,1862222,1253866,2772009,1456235,3415231,4345977,677614,303316,3062625,988423,1128659,1515473,2317926,1163460]
[null,null,null,null,"財産収入",1098770,115150,126861,26178,46005,27817,53945,27340,211243,155661,12742,29334,29134,82741,5484,44727,66460,37948]
[null,null,null,null,"繰入金",26100323,3000474,5348883,614585,1321793,758123,632460,2040450,1049146,5306941,249040,403581,798870,1780717,290670,341346,1200168,963076]
[null,null,null,null,"地方債",32950600,15102900,2072400,663200,3407500,1723800,1572800,538600,1883900,1872300,647800,242500,1040100,666100,25000,542700,0,949000]
[null,null,null,null,"その他",25785877,4667937,6486503,909493,788147,747379,2172962,764819,2124867,2896267,447947,137922,387462,1002408,357846,625496,304127,964295]
["5年度",null,"歳入","決算","総額",477123286,135786456,49093294,17788340,22297569,15655572,30897125,17939025,41416431,51211702,10568770,5248901,11442496,14994038,12633224,14256846,12505378,13388119]
[null,null,null,null,"地方税",135244832,45424092,13277149,3803944,3886389,2775739,10269906,4462315,13805520,12982257,2117150,255206,1280250,2286933,5337860,5989437,5403168,1887517]
[null,null,null,null,"地方譲与税",3537373,945353,229700,168465,237523,158706,258676,136224,324839,340432,85009,58242,111190,135826,61428,58632,91996,135132]
[null,null,null,null,"各種交付金",24236342,8709182,2039603,896686,933508,652954,2056990,909722,2577304,2640583,564944,72953,276278,575743,297649,324745,258758,448740]
[null,null,null,null,"地方特例交付金等",883261,281290,72523,27787,25475,17709,101321,30736,101252,148855,17637,469,4902,17091,8757,9093,7343,11021]
[null,null,null,null,"地方交付税",80067785,14082847,2527294,5540511,6885301,4660547,5467260,4035882,6232087,9237634,4189085,2239000,4351295,5734858,37720,34980,77838,4733646]
[null,null,null,null,"分担金及び負担金",2812207,212838,815035,158014,19083,17172,154264,216661,122159,361326,17245,8138,52208,32662,57118,433746,26680,107858]
[null,null,null,null,"使用料及び手数料",4416661,1189315,500028,178550,195602,149889,251885,182623,444622,490734,242337,44211,70290,122233,173894,56376,41506,82566]
[null,null,null,null,"国庫支出金",78076891,29593126,7187492,2602078,3680884,2279445,4930571,2271044,6328935,6774159,947638,163736,1394696,1276642,1949561,2997445,2660060,1039379]
[null,null,null,null,"県支出金",42612917,11708447,3360057,1736188,1842607,1525027,2593752,1335117,3330356,3911509,901871,369612,1645033,1076504,1585954,1726100,2714441,1250342]
[null,null,null,null,"財産収入",1333959,260244,148261,46581,92155,22061,53637,72912,77536,167600,53575,13873,31325,128135,10443,30727,82151,42743]
[null,null,null,null,"繰入金",19876699,1094633,4397104,384840,1776156,1068204,24587,994689,1989456,3112520,99567,205673,112678,1433820,1045407,617912,708623,810830]
[null,null,null,null,"地方債",33991173,16150284,2740500,735057,1412700,1107048,1047900,991533,2930428,2547045,636600,943300,974800,257200,385000,29200,0,1102578]
[null,null,null,null,"その他",50033186,6134805,11798548,1509639,1310186,1221071,3686376,2299567,3151937,8497048,696112,874488,1137551,1916391,1682433,1948453,432814,1735767]
["6年度",null,"歳出","当初予算","総額",430806821,125655600,40386600,16215000,21380000,14908426,29697730,15842340,37964000,44818042,9816138,3953000,11789409,14483039,7883366,11983130,12330000,11701001]
[null,null,null,null,"議会費",3108777,684997,273003,179966,180790,145051,253140,146451,243952,264300,92437,50262,76740,99133,106411,102555,114435,95154]
[null,null,null,null,"総務費",60543410,10101998,9000544,2604948,2755493,1782709,3592152,2427386,5399477,7166242,1662012,829470,1600943,3530747,1546137,1713357,1953708,2876087]
[null,null,null,null,"民生費",140159707,48264650,12399978,5220997,5364296,3946485,11838906,5042544,13614045,15275774,3011718,355884,1957401,3788885,1599130,3901135,2058594,2519285]
[null,null,null,null,"衛生費",41356258,13492641,4040888,1947987,2685689,1637953,2814715,902780,2490612,2618985,680826,224873,884586,1257266,1273765,1967750,1055415,1379527]
[null,null,null,null,"労働費",1181626,225747,126497,136742,124161,104839,67035,32235,84597,63218,16600,2050,15000,34056,35340,45565,48105,19839]
[null,null,null,null,"農林水産業費",19595273,3484423,607598,753095,1351209,712496,984224,865081,1069847,2348070,443711,538208,2785945,688736,399574,777207,1189521,596328]
[null,null,null,null,"商工費",18997974,2492536,2597202,550706,1222163,602500,810510,664912,1853894,3614202,175903,136456,782109,777218,247451,543864,1607423,318925]
[null,null,null,null,"土木費",40823260,15291617,2934529,1637405,1726019,1843240,2735213,1577624,2589382,2758534,1218290,539866,1121480,900495,526090,925277,1451234,1046965]
[null,null,null,null,"消防費",14975478,3887071,1169081,582617,1262191,353246,914588,598585,1358729,1726749,372998,112446,370512,546122,358179,642569,295295,424500]
[null,null,null,null,"教育費",48644124,13990303,4800032,1061076,3362586,2537381,3028092,1626368,3767630,4413138,1257394,365651,1422018,1425968,1035859,1059425,2292514,1198689]
[null,null,null,null,"災害復旧費",298734,26000,67200,0,1500,0,0,1300,30500,0,0,0,98270,0,0,0,73964,0]
[null,null,null,null,"公債費",38852530,13213617,2350048,1529461,1323903,1192426,2639155,1925151,4208267,4558830,881249,535467,661595,1424113,735430,281524,169792,1222502]
[null,null,null,null,"その他",2269670,500000,20000,10000,20000,50100,20000,31923,1253068,10000,3000,262367,12810,10300,20000,22902,20000,3200]
["5年度",null,"歳出","決算","総額",458532656,132826885,46847008,17179642,21351711,14536928,29363170,16799120,40441425,50048271,10017569,4615779,10898754,14344892,11502021,13185267,12069751,12504463]
[null,null,null,null,"議会費",3016030,657660,259750,170942,169823,149819,229780,145476,232762,252791,94105,50282,74946,96951,138121,101937,106558,84327]
[null,null,null,null,"総務費",72403119,9795811,11970900,2564975,4178119,3073530,3477102,3317199,5554533,9974914,1301810,854360,1957697,3564226,2414897,2930634,2351584,3120828]
[null,null,null,null,"民生費",143906943,50033257,11824873,5856529,5961247,4345966,11844921,4994083,14626890,15947980,3309783,481333,1881467,3744452,2172539,2402764,1954360,2524499]
[null,null,null,null,"衛生費",35542487,8967708,5723096,2022575,1498009,798690,2960778,879100,2413119,3002441,697939,207781,787759,1223184,1377639,786675,870736,1325258]
[null,null,null,null,"労働費",1199209,236235,117908,146073,120955,104839,59831,22098,88907,53507,19100,2050,15000,65898,32940,45927,48102,19839]
[null,null,null,null,"農林水産業費",20171202,3405871,637253,731462,1282457,668981,772981,829385,1378537,2366368,805390,656000,949982,711947,814890,1612218,1898014,649466]
[null,null,null,null,"商工費",20415802,2480658,3032444,596940,1109509,552714,887786,714436,2007207,2280189,198873,925150,726676,756853,890597,630358,2111289,514123]
[null,null,null,null,"土木費",54033366,21285622,4678269,1797981,1776629,1423556,2898597,2164250,4374979,4247737,1039833,415721,1015461,843755,1529057,2478047,820717,1243155]
[null,null,null,null,"消防費",14027398,3439230,1091001,561626,806341,358223,888256,586705,1368336,1658349,417657,102308,368041,501393,368584,640281,464423,406644]
[null,null,null,null,"教育費",51099393,18213043,4613854,1160980,3046735,1153345,2894191,1427279,3912319,5855987,1127354,438302,1071155,1254452,1115708,1229946,1237089,1347654]
[null,null,null,null,"災害復旧費",3408218,478071,247504,24211,65317,708570,0,167854,30209,7062,110999,11133,1407159,122737,0,0,27392,0]
[null,null,null,null,"公債費",39307435,13833719,2650156,1545348,1336570,1198695,2448947,1551255,4453627,4400946,894726,471359,643411,1459044,647049,324426,179487,1268670]
[null,null,null,null,"その他",2054,0,0,0,0,0,0,0,0,0,0,0,0,0,0,2054,0,0]
["6.4.1","14 文化","公共施設数","図書館","館数",2,5,1,1,1,1,1,2,2,4,3,1,3,4,1,1,2,2]
[null,null,null,null,"図書数",1404363,1256926,284217,190667,234542,154680,378222,177235,584508,639589,170253,46896,123058,215265,84796,97788,157621,121460]
[null,null,null,"公民館","本館",182,50,9,12,9,10,10,9,17,23,7,1,3,1,4,4,4,9]
[null,null,null,null,"分館",24,6,0,0,0,0,0,0,0,3,0,0,7,4,3,0,0,1]
["6.3.31",null,null,"公園","都市公園数",944,401,40,24,34,33,193,24,94,81,1,0,0,16,2,1,0,0]
["6.4.1",null,null,"児童館","児童館数",97,25,3,4,5,"-",15,"-",15,11,3,1,4,5,1,1,3,1]
["6.4.1",null,"社会教育学級講座",null,"学級講座数",10230,2846,331,88,1150,95,416,832,2227,364,151,9,74,123,461,273,220,570]
[null,null,null,null,"受講者数",220460,51935,5926,2556,13930,5181,56362,13441,25281,14950,4299,136,963,1691,8190,3533,4991,7095]
["5.12.31",null,"宗教法人数",null,"仏教系",1673,378,127,138,77,47,111,65,218,121,35,11,71,80,34,39,45,76]
[null,null,null,null,"キリスト教系",35,12,6,2,1,2,3,2,2,2,1,0,0,0,1,1,0,0]
[null,null,null,null,"神道諸派",1805,469,105,107,102,83,63,95,164,205,55,34,60,94,40,26,32,71]
["6.3.31",null,"公会堂・市民会館",null,"箇所数",45,4,2,12,2,2,5,0,3,2,3,0,1,2,0,1,6,0]
["6.3.31",null,"テレビ",null,"衛星契約数",175543,64030,15154,4607,7161,4968,15453,6872,18092,19516,4654,537,1902,4443,2398,1556,1292,2908]
["2.10.1","15 労働","産業別就業者数","男","男計",213590,71774,18072,7945,9062,5984,18633,7536,23174,24404,5316,721,2712,5591,2888,3332,2489,3957]
[null,null,null,null,"第1次産業",8592,1753,331,348,781,412,384,571,744,1141,220,73,202,545,223,189,244,431]
[null,null,null,null,"農業",7269,1559,262,270,714,363,358,541,702,1055,212,58,138,234,141,137,158,367]
[null,null,null,null,"林業",493,131,10,15,64,49,22,25,34,25,6,15,21,25,5,4,28,14]
[null,null,null,null,"漁業",830,63,59,63,3,"-",4,5,8,61,2,"-",43,286,77,48,58,50]
[null,null,null,null,"第2次産業",83904,23835,6703,2677,3723,2396,9020,3042,12417,10437,1766,319,1239,2434,737,1110,739,1310]
[null,null,null,null,"鉱業，採石業，砂利採取業",82,13,6,"-",5,5,6,1,13,9,2,"-",13,5,"-","-","-",4]
[null,null,null,null,"建設業",30474,9394,3933,1319,1911,862,1956,856,2634,3198,731,183,407,718,438,788,528,618]
[null,null,null,null,"製造業",53348,14428,2764,1358,1807,1529,7058,2185,9770,7230,1033,136,819,1711,299,322,211,688]
[null,null,null,null,"第3次産業",116581,44070,10715,4700,4416,2966,8781,3831,9433,12782,3247,328,1257,2565,1897,1921,1467,2205]
[null,null,null,null,"電気･ ガス･ 熱供給･ 水道業 ",4254,494,1176,231,129,42,94,42,123,177,48,3,17,32,588,497,431,130]
[null,null,null,null,"情報通信業",3859,1944,172,42,109,89,331,129,286,493,99,4,37,62,20,9,3,30]
[null,null,null,null,"運輸業，郵便業",12569,4438,1518,275,382,321,989,483,1118,1696,337,34,178,290,136,110,69,195]
[null,null,null,null,"卸売業，小売業",26888,11054,1754,982,1045,723,2304,771,2515,3146,764,70,257,584,241,198,130,350]
[null,null,null,null,"金融業，保険業",3431,1655,183,101,127,77,261,121,277,355,90,10,23,60,18,12,21,40]
[null,null,null,null,"不動産業，物品賃貸業",2338,1176,192,71,68,30,155,63,171,226,72,3,14,23,15,22,12,25]
[null,null,null,null,"学術研究，専門・技術サービス業",6826,2486,991,434,245,111,461,192,499,640,143,9,61,148,111,115,53,127]
[null,null,null,null,"宿泊業，飲食サービス業",7092,2749,571,276,224,201,461,356,555,749,190,28,82,184,84,124,67,191]
[null,null,null,null,"生活関連サービス業，娯楽業",4715,1850,355,162,200,110,356,186,399,632,100,11,31,94,56,47,60,66]
[null,null,null,null,"教育，学習支援業",7559,2995,508,374,299,209,582,236,622,775,260,20,65,189,85,74,82,184]
[null,null,null,null,"医療，福祉",11175,4479,777,477,510,346,847,338,834,1238,382,37,106,292,90,123,95,204]
[null,null,null,null,"複合サービス事業",2638,763,138,147,163,83,196,137,231,324,71,11,44,106,45,52,37,90]
[null,null,null,null,"サービス業（他に分類されないもの）",13933,4492,1634,704,520,360,1059,461,1125,1382,438,44,189,307,278,367,254,319]
[null,null,null,null,"公務(他に分類されないもの)",9304,3495,746,424,395,264,685,316,678,949,253,44,153,194,130,171,153,254]
[null,null,null,null,"分類不能の産業",4513,2116,323,220,142,210,448,92,580,44,83,1,14,47,31,112,39,11]
[null,null,null,"女","女計",182175,62470,13940,6248,7902,5507,16388,6751,19702,21618,4639,583,2376,4760,2033,2222,1763,3273]
[null,null,null,null,"第1次産業",4048,751,159,219,469,187,147,276,299,598,75,51,89,137,103,144,122,222]
[null,null,null,null,"農業",3851,710,146,204,460,184,138,273,295,580,72,47,80,111,93,131,111,216]
[null,null,null,null,"林業",89,34,2,2,7,2,8,3,4,5,3,4,3,4,1,1,2,4]
[null,null,null,null,"漁業",108,7,11,13,2,1,1,"-","-",13,"-","-",6,22,9,12,9,2]
[null,null,null,null,"第2次産業",38460,9944,2110,1109,1779,1422,4655,1609,6361,5155,845,139,564,1233,313,319,312,591]
[null,null,null,null,"鉱業，採石業，砂利採取業",22,5,"-","-",1,1,1,1,4,2,1,"-",3,2,"-","-","-",1]
[null,null,null,null,"建設業",6194,2062,826,218,318,157,400,163,560,659,143,17,75,134,106,135,110,111]
[null,null,null,null,"製造業",32244,7877,1284,891,1460,1264,4254,1445,5797,4494,701,122,486,1097,207,184,202,479]
[null,null,null,null,"第3次産業",135691,49791,11471,4794,5513,3688,11211,4789,12543,15809,3630,391,1706,3350,1600,1665,1291,2449]
[null,null,null,null,"電気･ ガス･ 熱供給･ 水道業 ",523,115,119,32,18,6,30,13,36,29,16,"-",5,4,35,27,28,10]
[null,null,null,null,"情報通信業",1871,977,123,31,42,37,155,38,122,237,47,3,7,28,9,7,1,7]
[null,null,null,null,"運輸業，郵便業",3274,1186,321,63,88,71,232,184,259,579,104,6,31,50,25,24,15,36]
[null,null,null,null,"卸売業，小売業",30413,11370,2586,1117,1114,701,2644,996,3150,3588,709,80,352,737,296,310,196,467]
[null,null,null,null,"金融業，保険業",5222,2331,364,143,188,119,442,158,416,610,131,3,49,125,44,17,25,57]
[null,null,null,null,"不動産業，物品賃貸業",1863,944,170,52,37,21,131,29,173,177,35,4,14,18,16,15,12,15]
[null,null,null,null,"学術研究，専門・技術サービス業",4019,1696,359,132,150,73,308,114,374,428,107,6,23,82,32,42,41,52]
[null,null,null,null,"宿泊業，飲食サービス業",12880,4309,1496,472,390,305,852,664,1137,1427,280,49,195,337,215,288,165,299]
[null,null,null,null,"生活関連サービス業，娯楽業",7762,2837,670,240,334,227,641,336,718,938,173,25,87,183,75,80,63,135]
[null,null,null,null,"教育，学習支援業",12167,4795,776,447,462,382,995,431,1151,1311,364,26,161,282,130,108,128,218]
[null,null,null,null,"医療，福祉",41023,14057,3209,1450,2044,1329,3686,1303,3751,4830,1283,150,598,1136,463,495,370,869]
[null,null,null,null,"複合サービス事業",1984,567,135,93,120,68,164,78,190,257,50,7,35,72,21,28,26,73]
[null,null,null,null,"サービス業（他に分類されないもの）",8237,2984,786,358,339,218,581,275,658,920,212,15,102,185,169,160,147,128]
[null,null,null,null,"公務(他に分類されないもの)",4453,1623,357,164,187,131,350,170,408,478,119,17,47,111,70,64,74,83]
[null,null,null,null,"分類不能の産業",3976,1984,200,126,141,210,375,77,499,56,89,2,17,40,17,94,38,11]
["6.4.1","16 社会福祉","社会福祉施設","施設数","生活保護施設",2,1,"-","-",1,"-","-","-","-","-","-","-","-","-","-","-","-","-"]
[null,null,null,null,"地域福祉施設",3,"-",1,"-","-","-","-","-","-","-","-","-","-",1,"-","-","-",1]
[null,null,null,null,"老人福祉施設",187,62,12,10,8,5,11,7,22,19,4,3,4,7,1,5,2,5]
[null,null,null,null,"介護保険施設",1267,455,107,45,74,40,93,47,115,129,27,6,20,27,15,19,15,33]
[null,null,null,null,"身体障害者福祉施設（旧法施設）",2,2,"-","-","-","-","-","-","-","-","-","-","-","-","-","-","-","-"]
[null,null,null,null,"障害福祉サービス事務所",643,246,46,31,27,20,54,33,61,55,9,3,6,12,8,4,6,22]
[null,null,null,null,"指定障害者支援施設",26,8,1,3,2,4,2,1,2,1,"-","-","-",2,"-","-","-","-"]
[null,null,null,null,"指定相談支援事業所",25,4,3,2,3,"-",3,3,2,3,"-","-","-",1,"-","-","-",1]
[null,null,null,null,"児童福祉施設",623,238,45,25,24,11,49,22,63,58,17,2,8,22,7,11,7,14]
[null,null,null,null,"母子福祉施設",1,1,"-","-","-","-","-","-","-","-","-","-","-","-","-","-","-","-"]
[null,null,null,null,"婦人保護施設",1,1,"-","-","-","-","-","-","-","-","-","-","-","-","-","-","-","-"]
[null,null,null,null,"その他社会福祉施設",13,5,2,0,0,0,0,0,1,1,0,0,0,0,2,1,1,0]
[null,null,null,null,"ふくい健康の森",4,4,0,0,0,0,0,0,0,0,0,0,0,0,0,0,0,0]
[null,null,null,"定員数","生活保護施設",130,"-","-","-",130,"-","-","-","-","-","-","-","-","-","-","-","-","-"]
[null,null,null,null,"地域福祉施設",0,"-","-","-","-","-","-","-","-","-","-","-","-","-","-","-","-","-"]
[null,null,null,null,"老人福祉施設",5698,1926,229,113,237,76,167,658,580,683,525,22,75,208,0,54,10,135]
[null,null,null,null,"介護保険施設",24228,8383,1986,822,1280,827,1837,988,2361,2493,614,107,462,696,262,310,306,494]
[null,null,null,null,"身体障害者福祉施設（旧法施設）",0,"-","-","-","-","-","-","-","-","-","-","-","-","-","-","-","-","-"]
[null,null,null,null,"障害福祉サービス事務所",8121,3506,561,291,256,239,641,463,852,737,68,20,44,68,71,20,46,238]
[null,null,null,null,"指定障害者支援施設",1628,465,30,120,110,215,190,50,138,125,"-","-","-",185,"-","-","-","-"]
[null,null,null,null,"指定相談支援事業所",0,"-","-","-","-","-","-","-","-","-","-","-","-","-","-","-","-","-"]
[null,null,null,null,"児童福祉施設",33175,12153,2588,1227,1101,764,2950,1029,3402,3860,856,80,435,869,350,430,390,691]
[null,null,null,null,"母子福祉施設",0,"-","-","-","-","-","-","-","-","-","-","-","-","-","-","-","-","-"]
[null,null,null,null,"婦人保護施設",15,15,"-","-","-","-","-","-","-","-","-","-","-","-","-","-","-","-"]
[null,null,null,null,"その他社会福祉施設",0,0,0,0,0,0,0,0,0,0,0,0,0,0,0,0,0,0]
[null,null,null,null,"ふくい健康の森",0,0,0,0,0,0,0,0,0,0,0,0,0,0,0,0,0,0]
["6.5.1","17 教育","小学校","学校数","計",191,53,11,9,9,10,12,10,17,19,7,1,4,8,3,5,4,9]
[null,null,null,null,"本校",190,53,11,9,9,10,12,10,17,19,7,1,4,8,3,4,4,9]
[null,null,null,null,"分校",1,0,0,0,0,0,0,0,0,0,0,0,0,0,0,1,0,0]
[null,null,null,"教員数","本務",3122,952,231,140,130,119,266,115,310,357,86,11,55,97,43,50,55,105]
[null,null,null,null,"兼務",501,145,43,26,20,24,34,29,50,43,13,7,9,13,6,6,9,24]
[null,null,null,"児童数","総数",36755,12451,3174,1413,1336,955,3716,1168,3939,4540,784,69,428,883,367,457,413,662]
[null,null,null,null,"男",18874,6404,1626,711,675,496,1924,587,2054,2291,395,37,220,456,201,250,200,347]
[null,null,null,null,"女",17881,6047,1548,702,661,459,1792,581,1885,2249,389,32,208,427,166,207,213,315]
[null,null,"中学校","学校数","計",76,28,6,2,2,4,3,2,8,5,3,1,1,4,1,2,2,2]
[null,null,null,null,"本校",74,27,6,2,2,4,3,2,7,5,3,1,1,4,1,2,2,2]
[null,null,null,null,"分校",2,1,0,0,0,0,0,0,1,0,0,0,0,0,0,0,0,0]
[null,null,null,"教員数","本務",1797,631,139,63,57,63,137,56,182,188,53,12,24,64,21,31,34,42]
[null,null,null,null,"兼務",351,188,52,3,4,11,11,6,30,7,7,2,3,11,1,7,3,5]
[null,null,null,"生徒数","総数",20102,6945,1717,753,650,528,2061,608,2065,2428,471,40,253,513,187,247,249,387]
[null,null,null,null,"男",10320,3637,868,394,322,275,1045,301,1092,1198,236,18,150,257,95,124,124,184]
[null,null,null,null,"女",9782,3308,849,359,328,253,1016,307,973,1230,235,22,103,256,92,123,125,203]
[null,null,"高等学校","学校数","計",32,13,4,2,2,1,1,1,3,3,0,0,0,1,0,0,0,1]
[null,null,null,null,"本校",32,13,4,2,2,1,1,1,3,3,0,0,0,1,0,0,0,1]
[null,null,null,null,"分校",0,0,0,0,0,0,0,0,0,0,0,0,0,0,0,0,0,0]
[null,null,null,"教員数","本務",1636,741,136,112,87,35,65,52,186,148,0,0,0,33,0,0,0,41]
[null,null,null,null,"兼務",645,374,59,26,25,14,19,10,42,47,0,0,0,16,0,0,0,13]
[null,null,null,"生徒数","総数",20181,10456,1666,1160,713,294,815,658,2230,1419,0,0,0,330,0,0,0,440]
[null,null,null,null,"男",10201,4970,926,594,387,154,442,381,1166,850,0,0,0,173,0,0,0,158]
[null,null,null,null,"女",9980,5486,740,566,326,140,373,277,1064,569,0,0,0,157,0,0,0,282]
[null,null,"大学・短期大学","学校数","本校",9,4,2,0,0,0,0,0,1,0,2,0,0,0,0,0,0,0]
[null,null,null,null,"分校",3,0,0,2,0,0,0,1,0,0,0,0,0,0,0,0,0,0]
[null,null,null,"教員数","本務",1083,465,39,30,0,0,0,7,63,0,479,0,0,0,0,0,0,0]
[null,null,null,null,"兼務",604,373,40,0,0,0,0,0,68,0,123,0,0,0,0,0,0,0]
[null,null,null,"学生数","総数",11287,6721,368,253,0,0,0,90,1054,0,2801,0,0,0,0,0,0,0]
[null,null,null,null,"男",6769,4784,127,189,0,0,0,38,320,0,1311,0,0,0,0,0,0,0]
[null,null,null,null,"女",4518,1937,241,64,0,0,0,52,734,0,1490,0,0,0,0,0,0,0]
[null,null,"高等専門学校","学校数","本校",1,0,0,0,0,0,1,0,0,0,0,0,0,0,0,0,0,0]
[null,null,null,null,"分校",0,0,0,0,0,0,0,0,0,0,0,0,0,0,0,0,0,0]
[null,null,null,"教員数","本務",77,0,0,0,0,0,77,0,0,0,0,0,0,0,0,0,0,0]
[null,null,null,null,"兼務",42,0,0,0,0,0,42,0,0,0,0,0,0,0,0,0,0,0]
[null,null,null,"学生数","総数",1063,0,0,0,0,0,1063,0,0,0,0,0,0,0,0,0,0,0]
[null,null,null,null,"男",828,0,0,0,0,0,828,0,0,0,0,0,0,0,0,0,0,0]
[null,null,null,null,"女",235,0,0,0,0,0,235,0,0,0,0,0,0,0,0,0,0,0]
[null,null,"特別支援学校","学校数","計",12,7,0,1,0,1,0,0,1,1,0,0,0,0,1,0,0,0]
[null,null,null,null,"本校",12,7,0,1,0,1,0,0,1,1,0,0,0,0,1,0,0,0]
[null,null,null,null,"分校",0,0,0,0,0,0,0,0,0,0,0,0,0,0,0,0,0,0]
[null,null,null,"教員数","本務",754,343,0,60,0,57,0,0,81,129,0,0,0,0,84,0,0,0]
[null,null,null,null,"兼務",67,43,0,1,0,2,0,0,8,9,0,0,0,0,4,0,0,0]
[null,null,null,"生徒数","総数",1011,374,0,71,0,55,0,0,138,243,0,0,0,0,130,0,0,0]
[null,null,null,null,"男",649,225,0,52,0,35,0,0,87,163,0,0,0,0,87,0,0,0]
[null,null,null,null,"女",362,149,0,19,0,20,0,0,51,80,0,0,0,0,43,0,0,0]
[null,null,"幼稚園","園数","計",58,21,3,0,6,1,4,0,10,12,1,0,0,0,0,0,0,0]
[null,null,null,null,"本園",58,21,3,0,6,1,4,0,10,12,1,0,0,0,0,0,0,0]
[null,null,null,null,"分園",0,0,0,0,0,0,0,0,0,0,0,0,0,0,0,0,0,0]
[null,null,null,"教員数","本務",164,46,21,0,8,2,13,0,36,36,2,0,0,0,0,0,0,0]
[null,null,null,null,"兼務",41,17,8,0,0,1,4,0,6,5,0,0,0,0,0,0,0,0]
[null,null,null,"園児数","総数",714,286,118,0,14,10,62,0,178,30,16,0,0,0,0,0,0,0]
[null,null,null,null,"男",355,128,62,0,5,8,31,0,92,22,7,0,0,0,0,0,0,0]
[null,null,null,null,"女",359,158,56,0,9,2,31,0,86,8,9,0,0,0,0,0,0,0]
[null,null,"幼保連携型","園数","計",155,69,3,3,9,7,5,12,19,13,1,1,2,5,0,2,4,0]
[null,null,"認定こども園",null,"本園",154,68,3,3,9,7,5,12,19,13,1,1,2,5,0,2,4,0]
[null,null,null,null,"分園",1,1,0,0,0,0,0,0,0,0,0,0,0,0,0,0,0,0]
[null,null,null,"教員数","本務",2864,1342,64,53,144,109,118,199,342,260,19,9,36,59,0,45,65,0]
[null,null,null,null,"兼務",471,229,10,20,0,8,22,15,71,54,2,4,18,15,0,0,3,0]
[null,null,null,"園児数","総数",15477,7201,478,389,716,512,772,783,2162,1371,140,48,229,240,0,144,292,0]
[null,null,null,null,"男",8003,3785,241,198,357,257,405,392,1089,723,65,21,121,133,0,68,148,0]
[null,null,null,null,"女",7474,3416,237,191,359,255,367,391,1073,648,75,27,108,107,0,76,144,0]
[null,null,"各種学校","学校数","計",12,4,3,1,1,1,0,0,1,1,0,0,0,0,0,0,0,0]
[null,null,null,null,"本校",12,4,3,1,1,1,0,0,1,1,0,0,0,0,0,0,0,0]
[null,null,null,null,"分校",0,0,0,0,0,0,0,0,0,0,0,0,0,0,0,0,0,0]
[null,null,null,"教員数","本務",234,112,30,14,10,19,0,0,40,9,0,0,0,0,0,0,0,0]
[null,null,null,null,"兼務",11,6,0,0,3,0,0,0,2,0,0,0,0,0,0,0,0,0]
[null,null,null,"生徒数","総数",1881,1155,221,61,19,94,0,0,221,110,0,0,0,0,0,0,0,0]
[null,null,null,null,"男",1275,782,148,43,16,60,0,0,146,80,0,0,0,0,0,0,0,0]
[null,null,null,null,"女",606,373,73,18,3,34,0,0,75,30,0,0,0,0,0,0,0,0]
[null,null,"専修学校","学校数","計",18,11,0,2,0,0,0,0,1,1,2,0,0,0,1,0,0,0]
[null,null,null,null,"本校",18,11,0,2,0,0,0,0,1,1,2,0,0,0,1,0,0,0]
[null,null,null,null,"分校",0,0,0,0,0,0,0,0,0,0,0,0,0,0,0,0,0,0]
[null,null,null,"教員数","本務",149,88,0,17,0,0,0,0,11,3,19,0,0,0,11,0,0,0]
[null,null,null,null,"兼務",369,228,0,90,0,0,0,0,0,7,19,0,0,0,25,0,0,0]
[null,null,null,"生徒数","総数",1596,1055,0,172,0,0,0,0,68,67,135,0,0,0,99,0,0,0]
[null,null,null,null,"男",473,366,0,10,0,0,0,0,14,8,54,0,0,0,21,0,0,0]
[null,null,null,null,"女",1123,689,0,162,0,0,0,0,54,59,81,0,0,0,78,0,0,0]
["5.10.1","18 衛生","医療関係施設数",null,"病院",67,27,5,2,4,2,7,3,7,4,1,0,0,2,0,1,0,2]
[null,null,null,null,"一般病院",57,23,3,1,4,1,6,3,6,4,1,0,0,2,0,1,0,2]
[null,null,null,null,"一般診療所",574,253,50,17,22,12,41,18,48,47,12,4,8,9,10,8,7,8]
[null,null,null,null,"有床",45,25,3,0,1,2,2,0,6,2,0,0,2,0,0,0,1,1]
[null,null,null,null,"歯科診療所",291,132,21,9,9,7,25,7,31,25,7,1,2,5,2,2,3,3]
["4.12.31",null,"医療関係者数",null,"医師",2132,1004,145,77,27,43,124,40,102,81,420,2,9,17,6,11,6,18]
[null,null,null,null,"歯科医師",465,193,33,17,14,12,38,15,42,33,21,21,2,7,4,3,4,6]
[null,null,null,null,"薬剤師",1500,687,135,56,33,48,107,46,132,108,88,null,2,21,3,14,4,16]
[null,null,null,null,"保健師",528,179,43,31,22,19,34,23,51,37,17,4,11,13,10,10,11,13]
[null,null,null,null,"助産師",258,139,34,24,1,0,13,2,7,5,26,0,0,1,1,4,0,1]
[null,null,null,null,"看護師･准看護師",11959,5458,1015,547,259,339,862,329,887,726,909,15,63,148,57,133,38,174]
["5年中",null,"主な死因別死亡数",null,"全死因",10426,3345,854,421,543,342,764,454,1081,1165,230,49,175,357,142,150,124,230]
[null,null,null,null,"結核",7,4,1,1,"-",1,"-","-","-","-","-","-","-","-","-","-","-","-"]
[null,null,null,null,"悪性新生物",2367,763,188,91,118,77,181,98,250,297,56,9,49,66,25,32,19,48]
[null,null,null,null,"高血圧性疾患",61,9,1,10,2,2,2,1,6,12,2,"-",4,3,2,"-","-",5]
[null,null,null,null,"心疾患",1606,494,95,47,85,46,129,83,238,148,29,9,28,72,26,31,15,31]
[null,null,null,null,"脳血管疾患",725,202,57,38,50,47,63,37,67,69,17,3,14,16,5,15,10,15]
[null,null,null,null,"肺炎",569,193,41,8,30,18,38,30,68,87,11,3,5,9,13,3,7,5]
[null,null,null,null,"老衰",1272,358,170,61,64,44,56,38,121,126,35,9,10,67,25,22,21,45]
[null,null,null,null,"不慮の事故",347,114,24,15,19,9,35,12,34,35,6,4,4,13,6,7,3,7]
[null,null,null,null,"（うち交通事故）",26,6,2,1,"-","-",4,2,5,3,"-","-",1,1,1,"-","-","-"]
["6.4.1","19 警察・消防","警察",null,"警察署数",11,2,1,1,1,1,1,1,1,2,0,0,0,0,0,0,0,0]
[null,null,null,null,"交番・駐在所・検問所数",136,36,8,6,8,5,8,6,15,12,4,2,4,6,3,3,5,5]
["5年中",null,null,null,"刑法犯認知件数",2840,1281,256,91,88,29,207,117,265,271,38,1,16,30,16,27,14,30]
["5年中",null,null,null,"交通人身事故発生件数",986,452,106,25,16,16,78,21,83,95,6,0,8,11,11,5,6,15]
["5年中",null,"消防",null,"出火件数",174,45,16,8,4,6,7,7,26,24,3,1,5,8,2,4,2,6]
["5年中",null,null,null,"焼損棟数",176,26,20,8,7,3,9,7,32,33,5,0,6,7,1,1,1,10]
[null,null,null,null,"林野焼損面積",14,3,0,0,0,0,0,1,0,0,0,10,0,0,0,0,0,0]
[null,null,null,null,"損害額",1266774,76611,376558,6277,11596,13073,12345,25846,100105,520569,29061,0,3078,11528,480,97,6,79544]
["6.4.1",null,null,null,"消防自動車数",257,35,19,11,17,7,20,19,9,48,16,2,5,24,9,3,5,8]
[null,null,null,null,"その他のﾎﾟﾝﾌﾟ数",386,110,14,33,32,37,2,11,1,36,14,0,1,4,15,23,21,32]
[null,null,null,null,"消防吏員",1250,365,112,72,55,36,84,46,98,157,40,9,38,44,20,17,24,33]
[null,null,null,null,"消防団員",5826,992,271,368,450,290,221,252,529,454,356,55,207,326,234,170,275,376]

{"sheet":"福井県","index":4,"n_rows":93,"n_cols":103,"rows_kept":93,"cut":false,"hidden":false,"merged":[[25,99,25,102],[23,86,23,90],[24,86,24,90],[25,86,25,90],[23,81,23,84],[66,7,66,9],[60,7,60,9],[62,0,62,6],[61,0,61,6],[67,0,67,6],[92,68,92,77],[17,25,17,27],[20,81,20,84],[20,91,20,94],[20,99,20,102],[20,95,20,98],[20,86,20,90],[22,86,22,90],[21,86,21,90],[21,95,21,98],[22,99,22,102],[22,95,22,98],[26,86,26,90],[21,91,21,94],[22,91,22,94],[25,95,25,98],[26,91,26,94],[26,95,26,98],[24,95,24,98],[24,91,24,94],[23,99,23,102],[21,81,21,84],[22,81,22,84],[25,91,25,94],[24,99,24,102],[23,91,23,94],[21,99,21,102],[67,7,67,9],[66,10,66,12],[66,13,66,15],[66,16,66,18],[70,10,70,12],[57,10,57,12],[25,81,25,84],[92,6,92,8],[89,14,89,16],[90,14,90,16],[91,14,91,16],[91,6,91,8],[89,6,89,8],[90,6,90,8],[50,33,50,38],[81,22,81,24],[53,33,53,34],[64,10,64,12],[62,10,62,12],[55,7,55,9],[50,29,50,32],[56,39,56,42],[57,39,57,42],[60,39,60,42],[71,0,71,6],[70,7,70,9],[64,22,64,24],[69,16,69,18],[50,25,50,28],[59,13,59,15],[61,13,61,15],[58,10,58,12],[60,10,60,12],[59,10,59,12],[59,7,59,9],[60,19,60,21],[62,7,62,9],[25,31,26,32],[25,33,26,34],[25,29,26,30],[66,76,66,90],[67,88,67,90],[61,10,61,12],[66,39,66,66],[67,43,67,47],[68,39,68,42],[49,62,49,66],[49,58,49,61],[48,56,48,59],[48,68,48,75],[48,83,48,86],[48,77,48,79],[39,49,39,51],[35,36,35,37],[48,22,48,24],[48,13,48,15],[36,29,36,30],[46,25,46,28],[57,58,57,60],[59,0,59,6],[60,16,60,18],[65,0,65,6],[65,16,65,18],[64,7,64,9],[65,7,65,9],[53,29,53,31],[61,29,61,30],[62,22,62,24],[62,29,62,30],[60,22,60,24],[50,0,51,10],[50,11,51,24],[26,81,26,84],[32,49,32,51],[41,36,41,37],[34,29,34,30],[35,22,35,24],[45,36,45,37],[27,35,27,36],[57,0,57,6],[57,7,57,9],[40,2,40,3],[65,39,65,42],[63,74,63,76],[55,63,55,65],[56,83,56,86],[56,80,56,82],[55,80,55,82],[56,68,56,75],[57,47,57,50],[57,51,57,54],[71,10,71,12],[71,19,71,21],[72,10,72,12],[69,0,69,6],[69,7,69,9],[66,0,66,6],[69,19,69,21],[69,25,69,28],[71,16,71,18],[72,16,72,18],[51,29,51,32],[51,25,51,28],[60,0,60,6],[68,0,68,6],[64,13,64,15],[71,13,71,15],[72,22,72,24],[72,25,72,28],[72,13,72,15],[61,16,61,18],[62,16,62,18],[59,16,59,18],[62,13,62,15],[57,16,57,18],[55,16,55,18],[55,10,55,12],[56,10,56,12],[55,0,55,6],[56,7,56,9],[70,13,70,15],[70,22,70,24],[69,10,69,12],[72,19,72,21],[40,29,40,30],[51,33,51,35],[51,36,51,38],[55,31,55,34],[60,29,60,30],[62,19,62,21],[67,19,67,21],[67,22,67,24],[68,22,68,24],[65,22,65,24],[61,19,61,21],[59,22,59,24],[61,22,61,24],[59,19,59,21],[58,19,58,21],[57,19,57,21],[66,32,66,34],[66,35,66,38],[57,35,57,37],[53,25,53,27],[54,25,54,32],[40,19,40,21],[40,32,40,35],[41,32,41,35],[41,22,41,24],[44,25,44,28],[53,36,53,37],[40,36,40,37],[61,36,61,37],[60,36,60,37],[40,22,40,24],[21,32,21,34],[19,29,19,31],[19,32,19,34],[47,0,47,1],[55,19,55,21],[56,13,56,15],[57,13,57,15],[55,13,55,15],[24,33,24,34],[25,25,25,26],[25,27,25,28],[24,27,24,28],[57,25,57,29],[57,22,57,24],[42,4,42,6],[42,13,42,15],[24,29,24,30],[48,0,48,1],[20,29,20,31],[22,32,22,34],[57,31,57,33],[44,19,44,24],[47,19,47,21],[47,7,47,9],[48,10,48,12],[48,7,48,9],[35,29,35,30],[41,4,41,6],[35,5,35,7],[35,8,35,10],[35,20,35,21],[23,21,23,23],[72,48,72,52],[73,32,73,33],[73,48,73,52],[73,43,73,47],[74,43,74,47],[72,43,72,47],[73,35,73,37],[67,97,67,102],[77,87,77,90],[76,62,76,66],[35,18,35,19],[31,11,31,13],[68,94,68,96],[73,62,73,66],[68,62,68,66],[68,76,68,78],[68,100,68,102],[70,85,70,87],[69,39,69,66],[70,43,70,47],[68,82,68,84],[75,39,75,42],[65,98,65,102],[64,68,64,71],[65,83,65,87],[65,88,65,92],[65,68,65,71],[64,16,64,18],[65,73,65,77],[65,93,65,97],[65,78,65,82],[70,79,70,81],[14,67,15,81],[23,16,23,18],[15,35,15,37],[19,35,19,38],[18,28,18,30],[21,35,21,38],[24,49,24,51],[25,40,25,46],[33,40,33,46],[40,49,40,51],[33,49,33,51],[34,49,34,51],[36,49,36,51],[39,40,39,46],[37,49,37,51],[34,40,34,46],[40,40,40,46],[34,36,34,37],[22,73,22,76],[40,53,40,56],[14,25,15,25],[14,26,15,28],[36,40,36,46],[39,60,39,64],[38,53,38,56],[37,67,37,73],[37,60,37,64],[34,53,34,56],[38,49,38,51],[35,40,35,46],[33,53,33,56],[35,53,35,56],[78,95,78,98],[72,39,72,42],[71,53,71,56],[72,57,72,61],[72,53,72,56],[78,91,78,94],[71,35,71,37],[71,29,71,30],[69,32,69,33],[74,32,74,33],[74,39,74,42],[72,35,72,37],[74,35,74,37],[73,39,73,42],[70,29,70,30],[70,32,70,33],[68,29,68,30],[69,35,69,37],[78,77,78,81],[78,72,78,76],[78,39,78,42],[77,39,77,42],[78,43,78,47],[75,35,75,37],[77,43,77,47],[76,43,76,47],[76,48,76,52],[75,48,75,52],[75,43,75,47],[76,96,76,99],[77,82,77,86],[70,77,70,78],[79,101,79,102],[80,82,80,86],[77,91,77,94],[77,62,77,66],[76,87,76,90],[78,62,78,66],[79,97,79,98],[79,62,79,66],[76,78,76,81],[70,57,70,61],[71,57,71,61],[73,57,73,61],[74,57,74,61],[71,48,71,52],[78,67,78,71],[80,96,80,98],[78,82,78,86],[78,99,78,102],[78,87,78,90],[79,48,79,52],[75,53,75,56],[70,100,70,102],[70,88,70,90],[70,97,70,99],[70,94,70,96],[71,67,72,81],[72,62,72,66],[74,68,74,74],[75,62,75,66],[73,86,73,92],[78,48,78,52],[79,57,79,61],[81,48,81,52],[81,43,81,47],[81,53,81,56],[81,62,81,66],[88,61,88,66],[80,39,80,42],[80,57,80,61],[80,53,80,56],[80,88,80,90],[80,78,80,80],[80,62,80,66],[86,92,86,95],[87,80,87,83],[87,98,87,101],[87,92,87,95],[85,98,85,101],[88,68,88,77],[84,92,84,95],[80,68,80,70],[80,73,80,75],[81,67,82,102],[80,100,80,102],[80,92,80,94],[82,48,82,52],[82,43,82,47],[89,32,89,34],[88,43,88,48],[90,58,90,60],[90,22,90,24],[89,61,89,63],[88,35,88,38],[88,32,88,34],[88,50,88,53],[90,44,90,45],[90,46,90,48],[89,39,89,42],[88,28,88,29],[86,86,86,89],[81,29,81,31],[80,25,81,28],[82,57,82,61],[82,53,82,56],[82,62,82,66],[84,53,84,56],[80,43,80,47],[80,48,80,52],[83,39,83,42],[84,39,84,42],[82,39,82,42],[84,80,84,83],[84,57,84,61],[83,29,83,30],[83,32,83,33],[80,35,81,38],[81,39,81,42],[81,32,81,34],[81,57,81,61],[91,26,91,27],[91,28,91,29],[91,30,91,31],[91,32,91,34],[91,52,91,57],[90,98,90,101],[86,80,86,83],[88,86,88,89],[89,98,89,101],[84,68,84,77],[85,86,85,89],[85,80,85,83],[84,85,84,90],[84,98,84,101],[86,98,86,101],[90,64,90,66],[90,92,90,95],[89,68,89,77],[87,68,87,77],[89,92,89,95],[88,80,88,83],[88,92,88,95],[90,80,90,83],[89,80,89,83],[88,98,88,101],[85,92,85,95],[87,86,87,89],[91,92,91,95],[91,98,91,101],[90,86,90,89],[89,86,89,89],[86,68,86,77],[92,61,92,66],[92,39,92,42],[92,43,92,45],[92,49,92,51],[92,52,92,57],[92,46,92,48],[90,39,90,42],[91,35,91,36],[90,68,90,77],[91,37,91,38],[91,39,91,42],[91,61,91,66],[83,26,83,27],[88,30,88,31],[84,43,84,47],[91,43,91,45],[91,46,91,48],[85,68,85,77],[83,36,83,37],[90,61,90,63],[83,57,83,61],[84,62,84,66],[83,43,83,47],[83,48,83,52],[90,52,90,54],[84,48,84,52],[90,50,90,51],[83,53,83,56],[90,55,90,57],[83,62,83,66],[91,49,91,51],[91,68,91,77],[71,82,72,102],[68,53,68,56],[68,57,68,61],[77,77,77,81],[76,69,76,72],[74,53,74,56],[74,48,74,52],[77,48,77,52],[73,95,73,101],[74,77,74,83],[74,87,74,91],[74,96,74,100],[73,77,73,83],[74,62,74,66],[71,62,71,66],[76,53,76,56],[63,89,63,91],[63,84,63,86],[68,91,68,93],[67,82,67,84],[65,57,65,63],[68,79,68,81],[68,85,68,87],[65,53,65,56],[67,79,67,81],[67,67,70,71],[70,72,70,75],[68,72,68,75],[70,83,70,84],[67,57,67,61],[67,53,67,56],[70,53,70,56],[70,91,70,93],[70,62,70,66],[67,62,67,66],[65,43,65,49],[70,39,70,42],[70,48,70,52],[67,39,67,42],[68,88,68,90],[68,48,68,52],[66,92,66,96],[60,97,60,102],[60,85,60,90],[60,91,60,96],[68,43,68,47],[54,59,54,66],[57,61,57,63],[58,61,58,63],[57,64,57,66],[58,58,58,60],[63,94,63,96],[63,99,63,101],[62,87,62,89],[62,99,62,101],[62,93,62,95],[58,39,58,42],[61,68,61,71],[61,80,61,83],[62,75,62,77],[59,59,59,62],[62,68,62,71],[62,81,62,83],[61,39,61,42],[56,48,56,53],[55,68,55,75],[55,59,55,62],[54,77,54,79],[61,63,61,66],[57,43,57,46],[60,63,60,66],[60,59,60,62],[58,64,58,66],[58,55,58,57],[58,48,58,50],[57,55,57,57],[55,51,55,53],[61,59,61,62],[61,43,61,47],[61,48,61,52],[61,53,61,56],[59,43,59,56],[60,43,60,47],[60,48,60,52],[60,53,60,56],[56,77,56,79],[50,99,50,102],[51,99,51,102],[51,95,51,98],[50,87,50,90],[49,99,49,102],[56,95,56,98],[52,99,52,102],[53,99,53,102],[55,95,55,98],[56,99,56,102],[53,95,53,98],[52,95,52,98],[54,99,54,102],[54,95,54,98],[55,99,55,102],[53,77,53,79],[53,80,53,82],[53,83,53,86],[53,87,53,90],[53,91,53,94],[54,91,54,94],[54,80,54,82],[54,83,54,86],[55,83,55,86],[55,87,55,90],[55,91,55,94],[55,77,55,79],[56,87,56,90],[51,87,51,90],[56,91,56,94],[54,87,54,90],[48,95,48,98],[50,95,50,98],[52,77,52,79],[52,80,52,82],[52,83,52,86],[52,87,52,90],[52,91,52,94],[50,91,50,94],[49,87,49,90],[49,91,49,94],[50,83,50,86],[50,77,50,79],[49,80,49,82],[50,80,50,82],[51,68,51,75],[48,62,48,65],[38,67,38,73],[40,60,40,64],[40,67,41,73],[41,60,41,64],[46,69,46,74],[50,63,50,66],[49,68,49,75],[48,16,48,18],[48,19,48,21],[44,29,44,30],[42,36,42,37],[42,32,42,35],[38,60,38,64],[39,67,39,73],[42,40,42,46],[45,25,45,28],[42,7,42,9],[42,10,42,12],[42,16,42,18],[43,40,43,46],[43,49,43,51],[46,36,46,37],[47,10,47,12],[47,13,47,15],[46,0,46,1],[44,0,45,1],[47,22,47,24],[44,32,44,35],[45,32,45,35],[47,16,47,18],[46,32,46,35],[28,73,28,76],[32,68,32,72],[32,73,32,76],[43,60,43,64],[41,49,41,51],[42,49,42,51],[30,86,30,90],[29,81,29,84],[29,86,29,90],[38,97,38,100],[37,97,37,100],[42,60,42,64],[43,53,43,56],[42,53,42,56],[33,60,33,64],[34,60,34,64],[35,75,35,77],[36,60,36,64],[36,67,36,73],[35,68,35,72],[37,53,37,56],[35,49,35,51],[35,60,35,64],[36,53,36,56],[39,53,39,56],[31,81,31,84],[28,60,28,64],[26,99,26,102],[26,68,26,72],[27,53,27,56],[31,99,31,102],[27,95,27,98],[27,73,27,76],[31,91,31,94],[30,81,30,84],[26,73,26,76],[29,99,29,102],[30,95,30,98],[28,91,28,94],[27,99,27,102],[27,91,27,94],[28,99,28,102],[29,91,29,94],[30,91,30,94],[30,99,30,102],[28,81,28,84],[31,60,31,64],[31,95,31,98],[28,95,28,98],[29,95,29,98],[27,81,27,84],[26,77,26,80],[27,86,27,90],[29,60,29,64],[28,77,28,80],[30,60,30,64],[31,73,31,76],[28,86,28,90],[31,68,31,72],[24,60,24,64],[23,60,23,64],[21,60,21,64],[22,60,22,64],[22,68,22,72],[25,60,25,64],[25,49,25,51],[22,35,22,38],[25,73,25,76],[23,77,23,80],[21,73,21,76],[24,73,24,76],[23,73,23,76],[25,77,25,80],[24,77,24,80],[24,37,24,38],[27,77,27,80],[27,68,27,72],[23,35,23,38],[21,40,21,46],[27,40,27,46],[24,40,24,46],[23,49,23,51],[22,53,22,56],[21,49,21,51],[27,60,27,64],[24,35,24,36],[23,40,23,46],[26,40,26,46],[22,40,22,46],[17,53,17,57],[17,68,17,71],[19,40,19,46],[20,16,20,18],[20,21,20,23],[17,59,17,65],[19,53,19,56],[17,48,17,52],[19,49,19,51],[20,32,20,34],[17,40,17,46],[19,60,19,64],[23,32,23,34],[22,25,22,28],[29,53,29,56],[28,53,28,56],[27,49,27,51],[26,53,26,56],[26,60,26,64],[26,49,26,51],[28,49,28,51],[27,27,27,28],[27,33,27,34],[26,25,26,26],[26,27,26,28],[27,25,27,26],[27,29,27,30],[20,25,20,28],[24,53,24,56],[21,53,21,56],[25,53,25,56],[24,68,24,72],[5,0,5,9],[6,0,8,9],[19,3,19,5],[22,7,22,8],[27,0,27,4],[27,5,27,7],[14,0,15,24],[26,22,26,24],[27,22,27,24],[20,11,20,13],[30,11,30,13],[27,31,27,32],[25,35,26,36],[22,29,22,31],[23,29,23,31],[27,37,27,38],[25,37,26,38],[24,31,24,32],[24,0,25,24],[30,20,30,21],[30,5,30,7],[19,25,19,28],[23,11,23,13],[21,25,21,28],[18,35,18,38],[30,22,30,24],[20,35,20,38],[15,29,15,30],[15,32,15,33],[18,25,18,27],[23,25,23,28],[21,29,21,31],[29,8,29,10],[29,11,29,13],[29,20,29,21],[32,40,32,46],[29,40,29,46],[30,40,30,46],[32,8,32,10],[31,18,31,19],[32,20,32,21],[33,5,33,7],[33,8,33,10],[33,11,33,13],[33,14,33,16],[29,18,29,19],[29,22,29,24],[30,8,30,10],[31,14,31,16],[31,20,31,21],[32,11,32,13],[29,14,29,16],[19,95,19,98],[19,99,19,102],[19,73,19,76],[23,95,23,98],[23,68,23,72],[22,77,22,80],[20,73,20,76],[34,22,34,24],[34,14,34,16],[36,75,36,77],[36,93,36,95],[29,49,29,51],[20,77,20,80],[31,5,31,7],[31,8,31,10],[31,53,31,56],[30,53,30,56],[31,40,31,46],[30,18,30,19],[28,40,28,46],[29,5,29,7],[33,18,33,19],[32,22,32,24],[31,22,31,24],[32,53,32,56],[31,49,31,51],[33,20,33,21],[30,49,30,51],[30,14,30,16],[20,53,20,56],[22,49,22,51],[32,5,32,7],[49,54,49,57],[50,59,50,61],[54,51,54,54],[54,55,54,58],[50,55,50,57],[49,50,49,53],[41,85,41,91],[49,77,49,79],[49,83,49,86],[45,84,45,89],[48,87,48,90],[48,91,48,94],[32,14,32,16],[32,60,32,64],[33,22,33,24],[35,93,35,95],[36,79,36,82],[35,80,35,83],[35,86,35,90],[36,85,36,91],[32,18,32,19],[38,40,38,46],[48,50,48,53],[49,46,49,49],[49,39,49,45],[51,91,51,94],[51,77,51,79],[51,80,51,82],[51,83,51,86],[47,91,47,94],[47,95,47,98],[37,79,37,82],[47,99,47,102],[32,91,32,94],[32,95,32,98],[33,67,34,81],[29,73,29,76],[14,82,15,95],[39,97,39,100],[40,97,40,100],[39,79,39,82],[40,85,40,91],[39,93,39,95],[32,77,32,80],[47,68,47,75],[47,80,47,82],[47,83,47,86],[35,98,35,101],[36,97,36,100],[17,91,17,94],[17,73,17,76],[17,82,17,83],[19,81,19,84],[17,86,17,89],[19,77,19,80],[29,77,29,80],[28,68,28,72],[32,99,32,102],[30,77,30,80],[31,77,31,80],[30,68,30,72],[30,73,30,76],[21,77,21,80],[19,91,19,94],[20,40,20,46],[23,53,23,56],[48,99,48,102],[46,99,46,102],[39,85,39,91],[16,74,16,95],[17,100,17,101],[91,80,91,83],[91,86,91,89],[48,80,48,82],[50,68,50,75],[53,68,53,75],[54,68,54,75],[57,67,58,102],[40,79,41,82],[45,77,45,82],[42,67,42,73],[47,77,47,79],[47,87,47,90],[42,85,42,91],[40,75,41,77],[43,67,44,80],[42,79,42,82],[43,81,44,102],[42,75,42,77],[42,93,42,95],[50,50,50,53],[73,53,73,56],[71,43,71,47],[67,48,67,52],[58,44,58,46],[55,47,55,49],[63,7,63,9],[68,25,68,28],[56,0,56,6],[58,0,58,6],[63,19,63,21],[58,7,58,9],[72,29,72,30],[72,32,72,33],[32,81,32,84],[33,82,34,95],[75,57,75,61],[16,32,16,33],[16,36,16,37],[17,32,17,34],[17,36,17,38],[18,31,18,34],[50,47,50,49],[54,47,54,50],[49,95,49,98],[24,81,24,84],[39,75,39,77],[38,93,38,95],[38,75,38,77],[38,79,38,82],[37,93,37,95],[37,75,37,77],[37,85,37,91],[52,68,52,75],[45,57,45,61],[41,53,41,56],[20,60,20,64],[20,49,20,51],[69,29,69,30],[71,32,71,33],[66,19,66,21],[69,22,69,24],[70,25,70,28],[66,22,66,24],[69,13,69,15],[71,25,71,28],[71,22,71,24],[71,39,71,42],[68,32,68,33],[70,35,70,37],[68,35,68,37],[55,25,55,30],[55,55,55,57],[54,39,54,42],[54,43,54,46],[55,43,55,45],[55,39,55,42],[55,35,55,38],[64,19,64,21],[65,19,65,21],[63,22,63,24],[67,13,67,15],[63,13,63,15],[58,52,58,54],[65,13,65,15],[58,13,58,15],[58,16,58,18],[60,13,60,15]],"merged_total":1146,"flags":["merged_cut"]}
[{"$f":"+データ一覧!F2","v":0}]
[{"$f":"+データ一覧!F5","v":0}]
[null,null,null,null,null,null,null,null,null,null,null,null,null,null,null,null,null,null,null,null,null,null,null,null,null,null,null,null,null,null,null,null,null,null,null,null,null,null,null,0,null,null,null,null,null,null,null,null,null,null,null,null,null,null,null,null,null,null,null,null,null,null,null,null,null,null,null,null,null,null,0]
[null,null,null,null,null,null,null,null,null,null,null,null,null,null,null,null,null,null,null,null,null,null,null,null,null,null,null,"【県章とそのいわれ】「フクイ」の三文字を組み合わせ、伸びゆく",null,null,null,null,null,null,null,null,null,null,null,null,"【位置および地勢 】本県は本州日本海側のほぼ中央にあり、総面積は、 ",null,null,null,null,null,null,null,null,null,null,null,null,null,null,null,null,null,null,null,null,null,null,null,null,null,null,null,null,null,0,null,null,null,"所在地",null,null,null,null,null,null,null,"〒910-8580"]
[null,null,null,null,null,null,null,null,null,null,null,null,null,null,null,null,null,null,null,null,null,null,null,null,null,null,null,"                　  福井県を表現しています。 ",null,null,null,null,null,null,null,null,null,null,null,null,"　4,190.57k㎡で北は石川県に、東南は岐阜県、西南は滋賀県、京都府に",null,null,null,null,null,null,null,null,null,null,null,null,null,null,null,null,null,null,null,null,null,null,null,null,null,null,null,null,null,0,null,null,null,null,null,null,null,null,null,null,null,"福井市大手３丁目１７番１号"]
[{"$f":"+データ一覧!F3","v":"ふくいけん"},null,null,null,null,null,null,null,null,null,null,null,null,null,null,null,null,null,null,null,null,null,null,null,null,null,null,0,null,null,null,null,null,null,null,null,null,null,null,null,"　連なり、西北は日本海に面している。",null,null,null,null,null,null,null,null,null,null,null,null,null,null,null,null,null,null,null,null,null,null,null,null,null,null,null,null,null,0]
[{"$f":"データ一覧!F6","v":"福井県"},null,null,null,null,null,null,null,null,null,null,null,null,null,null,null,null,null,null,null,null,null,null,null,null,null,null,0,null,null,null,null,null,null,null,null,null,null,null,null,null,null,null,null,null,null,null,null,null,null,null,null,null,null,null,null,null,null,null,null,null,null,null,null,null,null,null,null,null,null,0,null,null,null,"電話番号",null,null,null,null,null,null,null,"（０７７６）２１－１１１１（代表）"]
[null,null,null,null,null,null,null,null,null,null,null,null,null,null,null,null,null,null,null,null,null,null,null,null,null,null,null,0]
[null,null,null,null,null,null,null,null,null,null,null,null,null,null,null,null,null,null,null,null,null,null,null,null,null,null,null,0]
[null,null,null,null,null,null,null,null,null,null,null,null,null,null,null,null,null,null,null,null,null,null,null,null,null,null,null,0,null,null,null,null,null,null,null,null,null,null,null,null,null,null,null,null,null,null,null,null,null,null,null,null,null,null,null,null,null,null,null,null,null,null,null,null,null,null,null,null,null,null,0,null,null,null,"最寄駅および距離",null,null,null,null,null,null,null,"ＪＲ北陸新幹線福井駅　下車３００ｍ"]
[null,null,null,null,null,null,null,null,null,null,null,null,null,null,null,null,null,null,null,null,null,null,null,null,null,null,null,null,null,null,null,null,null,null,null,null,null,null,null,null,null,null,null,null,null,null,null,null,null,null,null,null,null,null,null,null,null,null,null,null,null,null,null,null,null,null,null,null,null,null,0]
[null,null,null,null,null,null,null,null,null,null,null,null,null,null,null,null,null,null,null,null,null,null,null,null,null,null,null,null,null,null,null,null,null,null,null,null,null,null,null,null,null,null,null,null,null,null,null,null,null,null,null,null,null,null,null,null,null,null,null,null,null,null,null,null,null,null,null,null,null,null,0,null,null,null,"ホームページ",null,null,null,null,null,null,null,"https://www.pref.fukui.lg.jp/"]
[]
[]
["  １  土            　　地",null,null,null,null,null,null,null,null,null,null,null,null,null,null,null,null,null,null,null,null,null,null,null,null,{"$f":"データ一覧!$A$240","v":"5年"},"産米収穫量",null,null,"　 収　穫　量",null,null," 　作 付 面 積",null,null,"   10a当たり収量",null,null,null,null,null,null,null,null,null,null,null,null,null,null,null,null,null,null,null,null,null,null,null,null,null,null,null,null,null,null,null," １５  労　　　　　　　働",null,null,null,null,null,null,null,null,null,null,null,null,null,null,"2.10.1"]
[null,null,null,null,null,null,null,null,null,null,null,null,null,null,null,null,null,null,null,null,null,null,null,null,null,null,null,null,null,{"$f":"データ一覧!$F$240","v":116500},null,"t",{"$f":"データ一覧!$F$241","v":23300},null,"ha",{"$f":"データ一覧!F242","v":500},null,null,"kg"," １０  工　　　　　　業 ",null,null,null,null,null,null,null,null,null,null,null,null,null,{"$f":"データ一覧!$A$332","v":"4.6.1（令和3年実績）"}]
["   総          面           積",null,null,null,null,null,null,null,null,null," 固 定 資 産 概 要 調 書 に よ る 地 目 別 面 積",null,null,null,null,null,null,null,null,null,null,null,null,null,null,null,null,null,"   総　　　数",null,null,null,"うち　　田",null,null,null,"うち　　畑",null,null,null,null,null,null,null,null,null,null,null,null,null,null,null,null,null,null,null,null,null,null,null,null,null,null,null,null,null,null,null,null,null,null,null,null,null,"産業別就業者数   "]
[null,null,{"$f":"データ一覧!$A$7","v":"6.10.1"},null,null,null,null,null,null,null,null,null,null,null,null,null,{"$f":"データ一覧!$A$9","v":"6.1.1"},null,null,null,null,null,null,null,null," 耕  地  面  積",null,null,null,"       ha",null,null,"ha ",null,null,null,"ha ",null,null,"      ","産業分類",null,null,null,null,null,null,null,"事業所数",null,null,null,null,"従業者数",null,null,null,null,null,"年間製造品出荷額等",null,null,null,null,null,null,null,null,"区  分",null,null,null,null,"総    数",null,null,null,null,"男",null,null,null,"女",null,null,"  ","区  分",null,null,null,null,"総    数",null,null,null,null,"男",null,null,null,"女"]
[null,null,null,null,null,null,"㎢",null,null,null,"   総       数",null,null,null,null,"  う ち     田",null,null,null,null,"  う ち     畑",null,null,null,null,{"$f":"データ一覧!A243","v":"5.7.15"},null,null,{"$f":"データ一覧!$F$243","v":39600},null,null,{"$f":"データ一覧!$F$244","v":35900},null,null,null,{"$f":"データ一覧!$F$245","v":3660},null,null,null,null,null,null,null,null,null,null,null,null,"　　   ",null,null,"事業所",null,"　　　　　　　 人",null,null,"人",null,"　　　　　　　　　　　　　　万円",null,null,null,null,null,null,"万円",null,null,null,null,null,null,null,"      人",null,null,null,null,null," 人",null,null,null," 人",null,null,null,null,null,null,null,"      人",null,null,null,"      人",null,null,null,"      人"]
[null,null,null,{"$f":"データ一覧!F7","v":4190.57},null,null,null,null,null,null,null,null,null,null,"ha",null,null,null,null,"ha",null,null,null,null,"ha","農 業 生 産 物",null,null,null,"作 付 面 積",null,null,"収 穫 量",null,null,"10a当たり収量",null,null,null,"     ","総数",null,null,null,null,null,null,null,null,{"$f":"データ一覧!F332","v":2021},null,null,null,{"$f":"+データ一覧!F357","v":73433},null,null,null,null,null,null,{"$f":"データ一覧!F382","v":237361751},null,null,null,null,null,null," 総　　　数",null,null,null,null,null,{"$f":"BZ20+CD20","v":395765},null,null,null,{"$f":"データ一覧!F507","v":213590},null,null,null,{"$f":"データ一覧!F532","v":182175}]
[null,null,null,null,null,null,null,null,null,null,null,{"$f":"データ一覧!F9","v":263073.7},null,null,null,null,{"$f":"データ一覧!F10","v":38913.699999999997},null,null,null,null,{"$f":"データ一覧!F11","v":5379.4000000000005},null,null,null,{"$f":"データ一覧!$A$246","v":"5年産"},null,null,null,"ha",null,null,"t",null,null,"kg",null,null,null,null,"食料品",null,null,null,null,null,null,null,null,{"$f":"データ一覧!F333","v":164},null,null,null,{"$f":"+データ一覧!F358","v":4076},null,null,null,null,null,null,{"$f":"データ一覧!F383","v":5851205},null,null,null,null,null,null,null,null,null,null,null,null,null,null,null,null,null,null,null,null,null,null,null,null,null,"卸売業,小売業",null,null,null,null,{"$f":"CR21+CV21","v":57301},null,null,null,{"$f":"データ一覧!F520","v":26888},null,null,null,{"$f":"データ一覧!F545","v":30413}]
["  町 ･ 丁 ･ 大 字",null,null,null,null,null,null,null,null,null,"  う ち  宅 地",null,null,null,null,"  う ち  山 林",null,null,null,null,"  う ち  原 野",null,null,null,null,"水　　　　　稲",null,null,null,{"$f":"データ一覧!F246","v":23300},null,null,{"$f":"データ一覧!F247","v":116500},null,null,{"$f":"データ一覧!F248","v":500},null,null,null,null,"飲料・飼料",null,null,null,null,null,null,null,null,{"$f":"データ一覧!F334","v":29},null,null,null,{"$f":"+データ一覧!F359","v":437},null,null,null,null,null,null,{"$f":"データ一覧!F384","v":1477678},null,null,null,null,null,null," 第１次産業",null,null,null,null,null,{"$f":"BZ22+CD22","v":12640},null,null,null,{"$f":"データ一覧!F508","v":8592},null,null,null,{"$f":"データ一覧!F533","v":4048},null,null,null,null,"金融業,保険業",null,null,null,null,{"$f":"CR22+CV22","v":8653},null,null,null,{"$f":"データ一覧!F521","v":3431},null,null,null,{"$f":"データ一覧!F546","v":5222}]
["  区    画    数",null,null,null,null,null,null,{"$f":"データ一覧!F8","v":2758},null,null,null,null,null,null,"ha",null,null,null,null,"ha",null,null,null,null,"ha","六　条　大　麦",null,null,null,{"$f":"データ一覧!F249","v":5140},null,null,{"$f":"データ一覧!F250","v":16100},null,null,{"$f":"データ一覧!F251","v":313},null,null,null,null,"繊維",null,null,null,null,null,null,null,null,{"$f":"データ一覧!F335","v":491},null,null,null,{"$f":"+データ一覧!F360","v":14063},null,null,null,null,null,null,{"$f":"データ一覧!F385","v":21058246},null,null,null,null,null,null,"  ","農業",null,null,null,null,{"$f":"BZ23+CD23","v":11120},null,null,null,{"$f":"データ一覧!F509","v":7269},null,null,null,{"$f":"データ一覧!F534","v":3851},null,null,null,"  ","不動産業",null,null,null,null,4201,null,null,null,{"$f":"データ一覧!F522","v":2338},null,null,null,{"$f":"データ一覧!F547","v":1863}]
[{"$f":"データ一覧!$A$8","v":"5.4.1"},null,null,null,null,null,null,null,null,null,null,{"$f":"データ一覧!F12","v":17942.900000000001},null,null,null,null,{"$f":"データ一覧!F13","v":100620.20000000001},null,null,null,null,{"$f":"データ一覧!F14","v":2535.7999999999997},null,null,null,"大　　      豆",null,null,null,{"$f":"データ一覧!F252","v":1940},null,null,{"$f":"データ一覧!F253","v":2270},null,null,{"$f":"データ一覧!F254","v":117},null,null,null,null,"木材",null,null,null,null,null,null,null,null,{"$f":"データ一覧!F336","v":67},null,null,null,{"$f":"+データ一覧!F361","v":1671},null,null,null,null,null,null,{"$f":"データ一覧!F386","v":8934468},null,null,null,null,null,null,"  ","林業",null,null,null,null,582,null,null,null,{"$f":"データ一覧!F510","v":493},null,null,null,{"$f":"データ一覧!F535","v":89},null,null,null,"  ","学術研究",null,null,null,null,10845,null,null,null,{"$f":"データ一覧!F523","v":6826},null,null,null,{"$f":"データ一覧!F548","v":4019}]
["  ２  世　帯　数　と　人　口",null,null,null,null,null,null,null,null,null,null,null,null,null,null,null,null,null,null,null,null,null,null,null,null,null,null,"  区　分",null," 乳 用 牛",null," 肉 用 牛",null,"豚",null,"採卵鶏",null,"ブロイラー",null,null,"家具",null,null,null,null,null,null,null,null,{"$f":"データ一覧!F337","v":43},null,null,null,{"$f":"+データ一覧!F362","v":1108},null,null,null,null,null,null,{"$f":"データ一覧!F387","v":2075623},null,null,null,null,null,null,"  ","漁業",null,null,null,null,938,null,null,null,{"$f":"データ一覧!F511","v":830},null,null,null,{"$f":"データ一覧!F536","v":108},null,null,null,"  ","宿泊業,飲食ｻｰﾋﾞｽ",null,null,null,null,19972,null,null,null,{"$f":"データ一覧!F524","v":7092},null,null,null,{"$f":"データ一覧!F549","v":12880}]
[null,null,null,null,null,null,null,null,null,null,null,null,null,null,null,null,null,null,null,null,null,null,null,null,null,"畜　産",null," 飼養農家",null,{"$f":"データ一覧!$F$255","v":17},null,{"$f":"データ一覧!$F$257","v":37},null,{"$f":"データ一覧!$F$259","v":"x"},null,{"$f":"データ一覧!$F$261","v":23},null,{"$f":"データ一覧!$F$263","v":"x"},null,null,"パルプ・紙",null,null,null,null,null,null,null,null,{"$f":"データ一覧!F338","v":74},null,null,null,{"$f":"+データ一覧!F363","v":1802},null,null,null,null,null,null,{"$f":"データ一覧!F388","v":7908820},null,null,null,null,null,null," 第２次産業",null,null,null,null,null,122364,null,null,null,{"$f":"データ一覧!F512","v":83904},null,null,null,{"$f":"データ一覧!F537","v":38460},null,null,null,"  ","生活関連ｻｰﾋﾞｽ業",null,null,null,null,12477,null,null,null,{"$f":"データ一覧!F525","v":4715},null,null,null,{"$f":"データ一覧!F550","v":7762}]
[null,null,null,null,null,null,null,null,"        人　　　　　　　　　　口",null,null,null,null,null,null,null,null,null,null,null,"１世帯当",null,"人    口",null,null,{"$f":"データ一覧!$A$255","v":"6.3.31"},null,"（戸）",null,null,null,null,null,null,null,null,null,null,null,null,"印刷",null,null,null,null,null,null,null,null,{"$f":"データ一覧!F339","v":90},null,null,null,{"$f":"+データ一覧!F364","v":1882},null,null,null,null,null,null,{"$f":"データ一覧!F389","v":2848535},null,null,null,null,null,null,null,"鉱業，採石業",null,null,null,null,104,null,null,null,{"$f":"データ一覧!F513","v":82},null,null,null,{"$f":"データ一覧!F538","v":22},null,null,null,"  ","教育,学習支援業",null,null,null,null,19726,null,null,null,{"$f":"データ一覧!F526","v":7559},null,null,null,{"$f":"データ一覧!F551","v":12167}]
[" 区　　　　分",null,null,null,null,"世帯数",null,null," 総   数",null,null,"    男",null,null,"    女",null,null,"  男／女",null,null,"たり人員",null,"密    度",null,null,null,null," 頭 羽",null,{"$f":"データ一覧!$F$256","v":753},null,{"$f":"データ一覧!$F$258","v":1851},null,{"$f":"データ一覧!$F$260","v":2441},null,{"$f":"データ一覧!$F$262","v":731268},null,{"$f":"データ一覧!$F$264","v":79500},null,null,"化学",null,null,null,null,null,null,null,null,{"$f":"データ一覧!F340","v":58},null,null,null,{"$f":"+データ一覧!F365","v":3924},null,null,null,null,null,null,{"$f":"データ一覧!F390","v":23179459},null,null,null,null,null,null,"  ","建設業",null,null,null,null,36668,null,null,null,{"$f":"データ一覧!F514","v":30474},null,null,null,{"$f":"データ一覧!F539","v":6194},null,null,null,null,"医療，福祉",null,null,null,null,52198,null,null,null,{"$f":"データ一覧!F527","v":11175},null,null,null,{"$f":"データ一覧!F552","v":41023}]
[null,null,null,null,null,"    世 帯",null,null,"       人",null,null,"       人",null,null,"       人",null,null,null,"　　％",null,"    人",null,"    人/㎢",null,null,null,null,null,null,null,null,null,null,null,null,null,null,null,null,null,"石油・石炭",null,null,null,null,null,null,null,null,{"$f":"データ一覧!F341","v":9},null,null,null,{"$f":"+データ一覧!F366","v":80},null,null,null,null,null,null,{"$f":"データ一覧!F391","v":"x"},null,null,null,null,null,null,null,"製造業",null,null,null,null,85592,null,null,null,{"$f":"データ一覧!F515","v":53348},null,null,null,{"$f":"データ一覧!F540","v":32244},null,null,null,null,"複合サービス事業",null,null,null,null,4622,null,null,null,{"$f":"データ一覧!F528","v":2638},null,null,null,{"$f":"データ一覧!F553","v":1984}]
[{"$f":"データ一覧!$A$22","v":" 2.10.1"},null,null,null,null,{"$f":"データ一覧!F22","v":234192},null,null,{"$f":"+L30+O30","v":823585},null,null,{"$f":"データ一覧!F24","v":400391},null,null,{"$f":"データ一覧!F25","v":423194},null,null,null,{"$f":"+L30/O30*100","v":94.611691092028721},null,{"$f":"データ一覧!F27","v":3.52},null,{"$f":"データ一覧!F28","v":196.7},null,null,"  ５  林               業",null,null,null,null,null,null,null,null,null,null,null,null,null,null,"プラスチック",null,null,null,null,null,null,null,null,{"$f":"データ一覧!F342","v":128},null,null,null,{"$f":"+データ一覧!F367","v":5752},null,null,null,null,null,null,{"$f":"データ一覧!F392","v":19212981},null,null,null,null,null,null," 第３次産業",null,null,null,null,null,252272,null,null,null,{"$f":"データ一覧!F516","v":116581},null,null,null,{"$f":"データ一覧!F541","v":135691},null,null,null,null,"サービス業",null,null,null,null,22170,null,null,null,{"$f":"データ一覧!F529","v":13933},null,null,null,{"$f":"データ一覧!F554","v":8237}]
[{"$f":"データ一覧!$A$29","v":" 7.10.1"},null,null,null,null,{"$f":"データ一覧!F29","v":246911},null,null,{"$f":"+L31+O31","v":826996},null,null,{"$f":"データ一覧!F31","v":401860},null,null,{"$f":"データ一覧!F32","v":425136},null,null,null,94.525046102894123,null,{"$f":"データ一覧!F34","v":3.35},null,{"$f":"データ一覧!F35","v":197.4},null,null,null,null,null,null,null,null,null,null,null,null,null,null,null,null,null,"ゴム",null,null,null,null,null,null,null,null,{"$f":"データ一覧!F343","v":6},null,null,null,{"$f":"+データ一覧!F368","v":170},null,null,null,null,null,null,{"$f":"データ一覧!F393","v":193919},null,null,null,null,null,null,null,"電気･ｶﾞｽ･水道業",null,null,null,null,4777,null,null,null,{"$f":"データ一覧!F517","v":4254},null,null,null,{"$f":"データ一覧!F542","v":523},null,null,null,null,"公務",null,null,null,null,13757,null,null,null,{"$f":"データ一覧!F530","v":9304},null,null,null,{"$f":"データ一覧!F555","v":4453}]
[{"$f":"データ一覧!$A$36","v":"12.10.1"},null,null,null,null,{"$f":"データ一覧!F36","v":259612},null,null,{"$f":"+L32+O32","v":828944},null,null,{"$f":"データ一覧!F38","v":402367},null,null,{"$f":"データ一覧!F39","v":426577},null,null,null,94.324588526807588,null,{"$f":"データ一覧!F41","v":3.19},null,{"$f":"データ一覧!F42","v":197.9},null,null,"    　森　　　林　　　総　　　面　　　積   ",null,null,null,null,null,null,null,{"$f":"データ一覧!$A$265","v":"5.3.31"},null,null,null,null,null,null,"皮革",null,null,null,null,null,null,null,null,{"$f":"データ一覧!F344","v":4},null,null,null,{"$f":"+データ一覧!F369","v":86},null,null,null,null,null,null,{"$f":"データ一覧!F394","v":125494},null,null,null,null,null,null,null,"情報通信業",null,null,null,null,5730,null,null,null,{"$f":"データ一覧!F518","v":3859},null,null,null,{"$f":"データ一覧!F543","v":1871},null,null,null," 分類不能の産業",null,null,null,null,null,8489,null,null,null,{"$f":"データ一覧!F531","v":4513},null,null,null,{"$f":"データ一覧!F556","v":3976}]
[{"$f":"+データ一覧!$A$43","v":"17.10.1"},null,null,null,null,{"$f":"データ一覧!F43","v":269577},null,null,{"$f":"+L33+O33","v":821592},null,null,{"$f":"データ一覧!F45","v":397271},null,null,{"$f":"データ一覧!F46","v":424321},null,null,null,93.62510929225752,null,{"$f":"データ一覧!F48","v":3.05},null,{"$f":"データ一覧!F49","v":196.1},null,null,"　　　森　　　　　　　林　　　　　　　の　　　　　　　構　　　　　　　成",null,null,null,null,null,null,null,null,null,null,null,null,null,null,"窯業・土石",null,null,null,null,null,null,null,null,{"$f":"データ一覧!F345","v":86},null,null,null,{"$f":"+データ一覧!F370","v":1910},null,null,null,null,null,null,{"$f":"データ一覧!F395","v":6081983},null,null,null,null,null,null,"  ","運輸業,郵便業",null,null,null,null,{"$f":"BZ33+CD33","v":15843},null,null,null,{"$f":"データ一覧!F519","v":12569},null,null,null,{"$f":"データ一覧!F544","v":3274}]
[{"$f":"+データ一覧!$A$50","v":"22.10.1"},null,null,null,null,{"$f":"+データ一覧!F50","v":275599},null,null,{"$f":"データ一覧!F51","v":806314},null,null,{"$f":"+データ一覧!F52","v":389712},null,null,{"$f":"+データ一覧!F53","v":416602},null,null,null,93.54539824580776,null,{"$f":"+データ一覧!F55","v":2.93},null,{"$f":"+データ一覧!F56","v":192.4},null,null,null,null,null,null,null,"       ha",null,null,null,null,null,null,"       ha",null,null,"鉄鋼",null,null,null,null,null,null,null,null,{"$f":"データ一覧!F346","v":26},null,null,null,{"$f":"+データ一覧!F371","v":426},null,null,null,null,null,null,{"$f":"データ一覧!F396","v":3590790},null,null,null,null,null,null," １６  社　 会 　福　 祉",null,null,null,null,null,null,null,null,null,null,null,null,null,null,{"$f":"データ一覧!$A$557","v":"6.4.1"}]
[{"$f":"+データ一覧!$A$57","v":"27.10.1"},null,null,null,null,{"$f":"+データ一覧!F57","v":279687},null,null,{"$f":"データ一覧!F58","v":786740},null,null,{"$f":"+データ一覧!F59","v":381474},null,null,{"$f":"+データ一覧!F60","v":405266},null,null,null,94.129287924474298,null,{"$f":"+データ一覧!F62","v":2.8129301683667816},null,{"$f":"+データ一覧!F63","v":187.7},null,null,"  総　　　　　   数",null,null,null,{"$f":"データ一覧!F265","v":312064.27},null,null," 天然林       針葉樹",null,null,null,{"$f":"データ一覧!F268","v":8951.0399999999972},null,null,null,"非鉄金属",null,null,null,null,null,null,null,null,{"$f":"データ一覧!F347","v":22},null,null,null,{"$f":"+データ一覧!F372","v":1756},null,null,null,null,null,null,{"$f":"データ一覧!F397","v":19056634}]
["令　2.10.1（国調）",null,null,null,null,{"$f":"データ一覧!F64","v":291662},null,null,{"$f":"データ一覧!F65","v":766863},null,null,{"$f":"データ一覧!F66","v":373973},null,null,{"$f":"データ一覧!F67","v":392890},null,null,null,{"$f":"+L36/O36*100","v":95.185166331543186},null,{"$f":"データ一覧!F69","v":2.6292866400148118},null,{"$f":"データ一覧!F70","v":182.99730108314623},null,null,"  人工林     針葉樹",null,null,null,{"$f":"データ一覧!F266","v":120774.04},null,null," 天然林       広葉樹",null,null,null,{"$f":"データ一覧!F269","v":169850.95},null,null,null,"金属",null,null,null,null,null,null,null,null,{"$f":"データ一覧!F348","v":163},null,null,null,{"$f":"+データ一覧!F373","v":4165},null,null,null,null,null,null,{"$f":"データ一覧!F398","v":10497287},null,null,null,null,null,null,"    ","区分",null,null,null,null,null,null,"施設数",null,null,null,null,"収容定員",null,null,null,null,null,"区分",null,null,null,null,null,null,"施設数",null,null,null,null,"収容定員"]
["年",null,"  区",null," 0歳",null,null,"15歳",null,null,"25歳",null,null,"35歳",null,null,"45歳",null,null,"55歳",null,null,"65歳",null,null,"  人工林     広葉樹",null,null,null,{"$f":"データ一覧!F267","v":3024.1299999999997},null,null," 竹               林",null,null,null,{"$f":"データ一覧!F270","v":1391.09},null,null,null,"はん用機械",null,null,null,null,null,null,null,null,{"$f":"データ一覧!F349","v":36},null,null,null,{"$f":"+データ一覧!F374","v":853},null,null,null,null,null,null,{"$f":"データ一覧!F399","v":2136460},null,null,null,null,null,null,"生活保護施設",null,null,null,null,null,null,null,{"$f":"データ一覧!F557","v":2},null,null,null,{"$f":"データ一覧!F570","v":130},null,null,null,"人",null,"指定障害者支援施設",null,null,null,null,null,null,null,{"$f":"データ一覧!F563","v":26},null,null,null,{"$f":"データ一覧!F576","v":1628},null,null,null,"人"]
["齢","令",null,null,null,"～",null,null,"～",null,null,"～",null,null,"～",null,null,"～",null,null,"～",null,null,null,null,null,null,null,null,null,null,null,null,null,null,null,null,null,null,null,"生産用機械",null,null,null,null,null,null,null,null,{"$f":"データ一覧!F350","v":138},null,null,null,{"$f":"+データ一覧!F375","v":3546},null,null,null,null,null,null,{"$f":"データ一覧!F400","v":7693019},null,null,null,null,null,null,"地域福祉施設",null,null,null,null,null,null,null,{"$f":"データ一覧!F558","v":3},null,null,null,{"$f":"データ一覧!F571","v":0},null,null,null,null,null,"指定相談支援事業所",null,null,null,null,null,null,null,{"$f":"データ一覧!F564","v":25},null,null,null,{"$f":"データ一覧!F577","v":0}]
["階",{"$f":"+LEFT(データ一覧!$A$83,1)","v":"6"},"  分",null,null,null,"14歳",null,null,"24歳",null,null,"34歳",null,null,"44歳",null,null,"54歳",null,null,"64歳",null,null,"以上","    林     野     の     構     成",null,null,null,null,null,null,"保     有     形     態     別",null,null,null,null,null,null,null,"業務用機械",null,null,null,null,null,null,null,null,{"$f":"データ一覧!F351","v":10},null,null,null,{"$f":"+データ一覧!F376","v":743},null,null,null,null,null,null,{"$f":"データ一覧!F401","v":1299261},null,null,null,null,null,null,"老人福祉施設",null,null,null,null,null,null,null,{"$f":"データ一覧!F559","v":187},null,null,null,{"$f":"データ一覧!F572","v":5698},null,null,null,null,null,"児童福祉施設",null,null,null,null,null,null,null,{"$f":"データ一覧!F565","v":623},null,null,null,{"$f":"データ一覧!F578","v":33175}]
["級","・",null,null,null,null,"人",null,null,"人",null,"    人",null,null,"    人",null,null,"    人",null,null,"    人",null,null,"    人",null,null,null,null,null,null,null,"ha",null,null,null,null,null,"       ha",null,null,"電子・デバイス",null,null,null,null,null,null,null,null,{"$f":"データ一覧!F352","v":55},null,null,null,{"$f":"+データ一覧!F377","v":11861},null,null,null,null,null,null,{"$f":"データ一覧!F402","v":42210832},null,null,null,null,null,null,"介護保険施設",null,null,null,null,null,null,null,{"$f":"データ一覧!F560","v":1267},null,null,null,{"$f":"データ一覧!F573","v":24228},null,null,null,null,null,"母子福祉施設",null,null,null,null,null,null,null,{"$f":"データ一覧!F566","v":1},null,null,null,{"$f":"データ一覧!F579","v":0}]
["別",{"$f":"+MID(データ一覧!$A$83,3,2)","v":"10"},"総 数",null,{"$f":"+E42+E43","v":86322},null,null,{"$f":"+H42+H43","v":67899},null,null,{"$f":"+K42+K43","v":63117},null,null,{"$f":"+N42+N43","v":80123},null,null,{"$f":"+Q42+Q43","v":104077},null,null,{"$f":"+T42+T43","v":94367},null,null,{"$f":"+W42+W43","v":232135},null,null," 無立木地   伐採跡地",null,null,null,{"$f":"データ一覧!F271","v":111.45},null,null,"国   　　　 　 有",null,null,null,{"$f":"データ一覧!F273","v":39306.539999999994},null,null,null,"電気機械",null,null,null,null,null,null,null,null,{"$f":"データ一覧!F353","v":59},null,null,null,{"$f":"+データ一覧!F378","v":3123},null,null,null,null,null,null,{"$f":"データ一覧!F403","v":21140987},null,null,null,null,null,null,"障害者自立支援法施行前からの身体障害者福祉施設",null,null,null,null,null,null,null,{"$f":"データ一覧!F561","v":2},null,null,null,{"$f":"データ一覧!F574","v":0},null,null,null,null,null,"婦人保護施設",null,null,null,null,null,null,null,{"$f":"データ一覧!F567","v":1},null,null,null,{"$f":"データ一覧!F580","v":15}]
["人","・","  男",null,{"$f":"データ一覧!F83","v":44293},null,null,{"$f":"データ一覧!F84","v":35666},null,null,{"$f":"データ一覧!F85","v":33258},null,null,{"$f":"データ一覧!F86","v":40897},null,null,{"$f":"データ一覧!F87","v":53212},null,null,{"$f":"データ一覧!F88","v":46647},null,null,{"$f":"データ一覧!F89","v":100988},null,null," 無立木地   未立木地",null,null,null,{"$f":"データ一覧!F272","v":7961.57},null,null,"公       　　  有",null,null,null,{"$f":"データ一覧!F274","v":38816.730000000003},null,null,null,"情報通信機械",null,null,null,null,null,null,null,null,{"$f":"データ一覧!F354","v":3},null,null,null,{"$f":"+データ一覧!F379","v":322},null,null,null,null,null,null,{"$f":"データ一覧!F404","v":827201},null,null,null,null,null,null,null,null,null,null,null,null,null,null,null,null,null,null,null,null,null,null,null,null,"その他の社会福祉施設",null,null,null,null,null,null,null,{"$f":"データ一覧!F568+データ一覧!F569","v":17},null,null,null,{"$f":"SUM(データ一覧!F581,データ一覧!F582)","v":0}]
["口",{"$f":"+RIGHT(データ一覧!$A$83,1)","v":"1"},"  女",null,{"$f":"データ一覧!F91","v":42029},null,null,{"$f":"データ一覧!F92","v":32233},null,null,{"$f":"データ一覧!F93","v":29859},null,null,{"$f":"データ一覧!F94","v":39226},null,null,{"$f":"データ一覧!F95","v":50865},null,null,{"$f":"データ一覧!F96","v":47720},null,null,{"$f":"データ一覧!F97","v":131147},null,null,null,null,null,null,null,null,null,"私          　 有",null,null,null,{"$f":"データ一覧!F275","v":233941},null,null,null,"輸送機械",null,null,null,null,null,null,null,null,{"$f":"データ一覧!F355","v":26},null,null,null,{"$f":"+データ一覧!F380","v":4455},null,null,null,null,null,null,{"$f":"データ一覧!F405","v":"x"},null,null,null,null,null,null,"障害福祉サービス事業所",null,null,null,null,null,null,null,{"$f":"データ一覧!F562","v":643},null,null,null,{"$f":"データ一覧!F575","v":8121}]
[null,null,null,null,null,null,null,null,null,null,null,null,null,null,null,null,null,null,null,null,null,null,null,null,null,"            林     産     物     生     産     量 ",null,null,null,null,null,null,null,null,null,{"$f":"データ一覧!$A$276","v":"5年中"},null,null,null,null,"その他",null,null,null,null,null,null,null,null,{"$f":"データ一覧!F356","v":234},null,null,null,{"$f":"+データ一覧!F381","v":5222},null,null,null,null,null,null,{"$f":"データ一覧!F406","v":8256813},null,null,null,null,null,null," １７  教　　　　　　　育",null,null,null,null,null,null,null,null,null,null,null,null,null,{"$f":"データ一覧!$A$583","v":"6.5.1"}]
["人口動態",null,null,null,null,null,null,"   自　然　動　態",null,null,null,null,null,"   社  会  動  態",null,null,null,null,null,{"$f":"データ一覧!$A78","v":"5.1.1～5.12.31"},null,null,null,null,null,"生椎茸",null,null,null,{"$f":"データ一覧!F276","v":167545},null,"㎏","乾椎茸",null,null,null,{"$f":"データ一覧!F277","v":3274},null,"㎏"]
[null,null,"   区       分",null,null,null,null," 出   生",null,null," 死   亡",null,null," 転   入",null,null," 転   出",null,null," 婚   姻",null,null," 離   婚",null,null,"えのきだけ",null,null,null,{"$f":"データ一覧!F279","v":38},null,"㎏","なめこ",null,null,null,{"$f":"データ一覧!F278","v":21073},null,"㎏","    ","工　業　用　水　量",null,null,null,null,null,"（従業者30人以上の事業所）",null,null,null,null,null,null,null,null,null,null,{"$f":"データ一覧!F407","v":274156},null,null,null,null,"㎥／日",null,null,null,null,null,null,null,null,null,null,null,null,null,null,"学校数（校）",null,null,null,null,null,null,"教員数（人）",null,null,null,null,null,null,null,"学生・生徒・児童数（人）"]
[{"$f":"LEFT(データ一覧!$A74,6)","v":"5.10.1"},null,null,null,null,null,null,"       人",null,null,"       人",null,null,"       人",null,null,"       人",null,null,null,"    件",null,null,"    件",null,"ひらたけ",null,null,null,{"$f":"+データ一覧!F280","v":6688},null,"㎏","まいたけ",null,null,null,{"$f":"+データ一覧!F281","v":115332},null,"㎏",null,null,null,null,null,null,null,null,null,null,null,null,null,null,null,null,null,null,null,null,null,null,null,null,null,null,null,null,null,"　","区分",null,null,null,null,null,null,null," 本 校",null,null," 分 校",null,null," 本   務",null,null,null," 兼   務",null,null,null," 総   数",null,null,null,"男",null,null,null,"女"]
["～",null," 実          数",null,null,null,null,{"$f":"データ一覧!F74","v":4528},null,null,{"$f":"データ一覧!F75","v":10580},null,null,{"$f":"データ一覧!F76","v":23770},null,null,{"$f":"データ一覧!F77","v":23595},null,null,{"$f":"データ一覧!F78","v":2620},null,null,{"$f":"データ一覧!F79","v":942},null,null,null,null,null,null,null,null,null,null,null,null,null,null,null,null," １１ 　上　・　下　水　道",null,null,null,null,null,null,null,null,null,null,null,null,null,null,null,null,null,null,null,null,null,null,null,null,null,null,null,null,"小学校",null,null,null,null,null,null,null,null,{"$f":"データ一覧!F584","v":190},null,null,{"$f":"データ一覧!F585","v":1},null,null,{"$f":"データ一覧!F586","v":3122},null,null,null,{"$f":"データ一覧!F587","v":501},null,null,null,{"$f":"データ一覧!F588","v":36755},null,null,null,{"$f":"データ一覧!F589","v":18874},null,null,null,{"$f":"データ一覧!F590","v":17881}]
[{"$f":"RIGHT(データ一覧!$A76,6)","v":"6.9.30"},null,"比率(対1,000人)",null,null,null,null,{"$f":"+H48/I36*1000","v":5.904574871913236},null,null,{"$f":"+K48/I36*1000","v":13.796466904779603},null,null,"- ",null,null,"- ",null,null,{"$f":"+T48/I36*1000","v":3.4165163790664042},null,null,{"$f":"+W48/I36*1000","v":1.2283810798017376},null,null,"  ６  漁               業",null,null,null,null,null,null,null,null,null,null,null,null,null,null,null,null,null,null,null,null,null,null,null,null,null,null,null,null,null,null,null,null,null,null,null,null,null,null,null,null,null,"  ","中学校",null,null,null,null,null,null,null,null,{"$f":"データ一覧!F592","v":74},null,null,{"$f":"データ一覧!F593","v":2},null,null,{"$f":"データ一覧!F594","v":1797},null,null,null,{"$f":"データ一覧!F595","v":351},null,null,null,{"$f":"データ一覧!F596","v":20102},null,null,null,{"$f":"データ一覧!F597","v":10320},null,null,null,{"$f":"データ一覧!F598","v":9782}]
[null,null,null,null,null,null,null,null,null,null,null,null,null,null,null,null,null,null,null,null,null,null,null,null,null,null,null,null,null,null,null,null,null,null,null,null,null,null,null,"水 道 供 給 人 口",null,null,null,null,null,null,"上 水 道",null,null,null,"簡易水道",null,null,null,"専用水道",null,null,null,"飲料水供給施設",null,null,null,"下水道処理人口",null,null,null,null,"  ","高等学校",null,null,null,null,null,null,null,null,{"$f":"データ一覧!F600","v":32},null,null,{"$f":"データ一覧!F601","v":0},null,null,{"$f":"データ一覧!F602","v":1636},null,null,null,{"$f":"データ一覧!F603","v":645},null,null,null,{"$f":"データ一覧!F604","v":20181},null,null,null,{"$f":"データ一覧!F605","v":10201},null,null,null,{"$f":"データ一覧!F606","v":9980}]
["  ３  事　　業　　所（民　　営）",null,null,null,null,null,null,null,null,null,null,"3.6.1",null,null,null,null,null,null,null,null,null,null,null,null,null,"漁船隻数・トン数",null,null,null,{"$f":"データ一覧!$A$282","v":"5.12.31"},null,null,null,"動　力　船",null,null,null,null,null,{"$f":"データ一覧!$A$408","v":"6.3.31"},null,null,null,null,null,"人",null,{"$f":"データ一覧!F408","v":682254},null,null,{"$f":"データ一覧!F409","v":40837},null,null,null,null,{"$f":"データ一覧!F410","v":1212},null,null,null,{"$f":"データ一覧!F411","v":1038},null,null,null,{"$f":"データ一覧!F412","v":626538},null,null,null,"  ","大学・短期大学",null,null,null,null,null,null,null,null,{"$f":"データ一覧!F607","v":9},null,null,{"$f":"データ一覧!F608","v":3},null,null,{"$f":"データ一覧!F609","v":1083},null,null,null,{"$f":"データ一覧!F610","v":604},null,null,null,{"$f":"データ一覧!F611","v":11287},null,null,null,{"$f":"データ一覧!F612","v":6769},null,null,null,{"$f":"データ一覧!F613","v":4518}]
[null,null,null,null,null,null,null,null,null,null,null,null,null,null,null,null,null,null,null,null,null,null,null,null,null,"無動力船隻数",null,null,null,"船外機付漁船隻数",null,null,null,"隻　数",null,null,"総 ト ン 数",null,null,null,null,null,null,null,null,null,null,null,null,null,null,null,null,null,null,null,null,null,null,null,null,null,null,null,null,null,null,"  ","高等専門学校",null,null,null,null,null,null,null,null,{"$f":"データ一覧!F614","v":1},null,null,{"$f":"データ一覧!F615","v":0},null,null,{"$f":"データ一覧!F616","v":77},null,null,null,{"$f":"データ一覧!F617","v":42},null,null,null,{"$f":"データ一覧!F618","v":1063},null,null,null,{"$f":"データ一覧!F619","v":828},null,null,null,{"$f":"データ一覧!F620","v":235}]
[null,null,null,null,null,null,null,"    総　　　　　数",null,null,null,null,null,"    民　　　　　営",null,null,null,null,null,"  国 ･ 地方公共団体",null,null,null,null,null,null,null,null,"隻",null,null,null,"隻",null,null,"隻",null,null,"t"," １２  交   通　・　通   信",null,null,null,null,null,null,null,null,null,null,null,null,null,null,null,null,null,null,null,null,null,null,null,null,null,null,null,"  ","特別支援学校",null,null,null,null,null,null,null,null,{"$f":"+データ一覧!F622","v":12},null,null,{"$f":"+データ一覧!F623","v":0},null,null,{"$f":"+データ一覧!F624","v":754},null,null,null,{"$f":"+データ一覧!F625","v":67},null,null,null,{"$f":"+データ一覧!F626","v":1011},null,null,null,{"$f":"+データ一覧!F627","v":649},null,null,null,{"$f":"+データ一覧!F628","v":362}]
["  　区　　　　　　分",null,null,null,null,null,null," 事業所数",null,null," 従業者数",null,null," 事業所数",null,null," 従業者数",null,null," 事業所数",null,null," 従業者数",null,null,{"$f":"データ一覧!$F$282","v":50},null,null,null,{"$f":"データ一覧!$F$283","v":976},null,null,null,{"$f":"データ一覧!F284","v":857},null,null,{"$f":"データ一覧!F285","v":5130.8399999999992},null,null,null,null,null,null,null,null,null,null,null,null,null,null,null,null,null,null,null,null,null,null,null,null,null,null,null,null,null,null,"  ","幼稚園",null,null,null,null,null,null,null,null,{"$f":"データ一覧!F630","v":58},null,null,{"$f":"データ一覧!F631","v":0},null,null,{"$f":"データ一覧!F632","v":164},null,null,null,{"$f":"データ一覧!F633","v":41},null,null,null,{"$f":"データ一覧!F634","v":714},null,null,null,{"$f":"データ一覧!F635","v":355},null,null,null,{"$f":"データ一覧!F636","v":359}]
[null,null,null,null,null,null,null,null,null,null,"       人",null,null,null,null,null,"       人",null,null,null,null,null,"       人",null,null,"  男女別就業者数",null,null,null,null,null,null,null,{"$f":"データ一覧!$A$286","v":"5.11.1"},null,null,null,null,null,"道     路",null,null,null,"実 延 長",null,null,null,"国     道",null,null,null,"県     道",null,null,null,"市町道",null,null,null," 鉄 道 営 業 キ ロ 数",null,null,null,null,null,null,null,"  ","幼保連携認定こども園",null,null,null,null,null,null,null,null,{"$f":"データ一覧!F638","v":154},null,null,{"$f":"データ一覧!F639","v":1},null,null,{"$f":"データ一覧!F640","v":2864},null,null,null,{"$f":"データ一覧!F641","v":471},null,null,null,{"$f":"データ一覧!F642","v":15477},null,null,null,{"$f":"データ一覧!F643","v":8003},null,null,null,{"$f":"データ一覧!F644","v":7474}]
["総数",null,null,null,null,null,null,{"$f":"データ一覧!F99","v":"…"},null,null,{"$f":"データ一覧!F156","v":"…"},null,null,{"$f":"データ一覧!F100","v":39859},null,null,{"$f":"データ一覧!F157","v":373974},null,null,{"$f":"データ一覧!F101","v":"…"},null,null,{"$f":"データ一覧!F158","v":"…"},null,null,"総　　数",null,null,null,null,null,"男",null,null,null,"女",null,null,null,{"$f":"データ一覧!$A$413","v":"5.4.1"},null,null,null,{"$f":"データ一覧!F413","v":10787.199999999999},null,null,"㎞",{"$f":"データ一覧!F414","v":591.70000000000005},null,null,"㎞",{"$f":"データ一覧!F415","v":1584.9},null,null,"㎞",{"$f":"データ一覧!F416","v":8610.6},null,null,"km",{"$f":"データ一覧!$A$417","v":"6.4.1"},null,null,null,{"$f":"データ一覧!F417","v":74.400000000000006},null,null,"㎞","  ","各種学校",null,null,null,null,null,null,null,null,{"$f":"データ一覧!F646","v":12},null,null,{"$f":"データ一覧!F647","v":0},null,null,{"$f":"データ一覧!F648","v":234},null,null,null,{"$f":"データ一覧!F649","v":11},null,null,null,{"$f":"データ一覧!F650","v":1881},null,null,null,{"$f":"データ一覧!F651","v":1275},null,null,null,{"$f":"データ一覧!F652","v":606}]
["農林漁業",null,null,null,null,null,null,{"$f":"データ一覧!F102","v":"…"},null,null,{"$f":"データ一覧!F159","v":"…"},null,null,{"$f":"データ一覧!F103","v":540},null,null,{"$f":"データ一覧!F160","v":7116},null,null,{"$f":"データ一覧!F104","v":"…"},null,null,{"$f":"データ一覧!F161","v":"…"},null,null,null,null,null,null,null,"人",null,null,"　　　　人",null,null,null,null,"  人","自動車",null,null,null,null,null,null,null,null,"乗用車",null,null,null,null,null,null,null,null,null,null,null,null,null,null,null,null,null,null,"  ","専修学校",null,null,null,null,null,null,null,null,{"$f":"データ一覧!F654","v":18},null,null,{"$f":"データ一覧!F655","v":0},null,null,{"$f":"データ一覧!F656","v":149},null,null,null,{"$f":"データ一覧!F657","v":369},null,null,null,{"$f":"データ一覧!F658","v":1596},null,null,null,{"$f":"データ一覧!F659","v":473},null,null,null,{"$f":"データ一覧!F660","v":1123}]
["鉱業",null,null,null,null,null,null,{"$f":"データ一覧!F105","v":"…"},null,null,{"$f":"データ一覧!F162","v":"…"},null,null,{"$f":"データ一覧!F106","v":16},null,null,{"$f":"データ一覧!F163","v":121},null,null,{"$f":"データ一覧!F107","v":"…"},null,null,{"$f":"データ一覧!F164","v":"…"},null,null,{"$f":"データ一覧!F286","v":1060},null,null,null,null,null,{"$f":"データ一覧!F287","v":0},null,null,null,{"$f":"データ一覧!F288","v":0},null,null,null,"台  数",null,null,null,"貨    物",null,null,null,"普     通",null,null,null,"小     型",null,null,null,"乗  合",null,null,"特  種",null,null,"小型二輪",null,null,"軽自動車",null,null," １８  衛　　　　　　　生"]
["建設業",null,null,null,null,null,null,{"$f":"データ一覧!F108","v":"…"},null,null,{"$f":"データ一覧!F165","v":"…"},null,null,{"$f":"データ一覧!F109","v":4521},null,null,{"$f":"データ一覧!F166","v":31696},null,null,{"$f":"データ一覧!F110","v":"…"},null,null,{"$f":"データ一覧!F167","v":"…"},null,null,"　　　　海 面 漁 業 漁 獲 量 （属人）",null,null,null,null,null,null,null,{"$f":"データ一覧!$A$289","v":"30年中"},null,null,null,null,null,{"$f":"データ一覧!$A$418","v":"6.3.31"},null,null,null,null,{"$f":"データ一覧!F418","v":44717},null,null,null,{"$f":"データ一覧!F420","v":158868},null,null,null,{"$f":"データ一覧!F421","v":143478},null,null,{"$f":"データ一覧!F419","v":1719},null,null,{"$f":"データ一覧!F422","v":15312},null,null,{"$f":"データ一覧!F423","v":9427},null,null,{"$f":"データ一覧!F424","v":289841}]
["製造業",null,null,null,null,null,null,{"$f":"データ一覧!F111","v":"…"},null,null,{"$f":"データ一覧!F168","v":"…"},null,null,{"$f":"データ一覧!F112","v":4746},null,null,{"$f":"データ一覧!F169","v":80836},null,null,{"$f":"データ一覧!F113","v":"…"},null,null,{"$f":"データ一覧!F170","v":"…"},null,null,null,null,null,null,null,"       ","ｔ",null,null,null,null,null,null,"t",null,null,"     ",null,"郵　便　局　数",null,null,null,null,null,null,null,null,null,null,null,null,null,{"$f":"+MID(データ一覧!$A$428,3,2)","v":"3."},"令","一般加入",null,null,null,"ＩＮＳネット",null,null,null,null,null,null,null,"医療関係施設",null,null,null,null,null,{"$f":"データ一覧!$A$661","v":"5.10.1"},null,null,null,null,null,null,"および医療関係者数",null,null,null,null,null,null,null,{"$f":"データ一覧!$A$666","v":"4.12.31"}]
["電気・ｶﾞ ｽ・熱供給・水道業",null,null,null,null,null,null,{"$f":"データ一覧!F114","v":"…"},null,null,{"$f":"データ一覧!F171","v":"…"},null,null,{"$f":"データ一覧!F115","v":51},null,null,{"$f":"データ一覧!F172","v":3576},null,null,{"$f":"データ一覧!F116","v":"…"},null,null,{"$f":"データ一覧!F173","v":"…"},null,null,"   総　　　　　　数",null,null,null,{"$f":"データ一覧!F289","v":11317},null,null,"   藻　　　　　　類",null,null,null,{"$f":"データ一覧!F292","v":50},null,null,"通  信",null,null,null," 総     数",null,null,null,null," 郵 便 局",null,null,null,null," 簡 易 局",null,null,null,"・",{"$f":"+LEFT(データ一覧!$A$428,1)","v":"6"},"電話数",null,null,null,"加入数",null,null,null,null,null,null,null,null,null,"　","病",null,null,"院",null,"　",null,null,null,null," ","一般診療所",null,null,null,null,null,null,null,null,null,null,null,"歯科診療所"]
["情報通信業",null,null,null,null,null,null,{"$f":"データ一覧!F117","v":"…"},null,null,{"$f":"データ一覧!F174","v":"…"},null,null,{"$f":"データ一覧!F118","v":341},null,null,{"$f":"データ一覧!F175","v":5157},null,null,{"$f":"データ一覧!F119","v":"…"},null,null,{"$f":"データ一覧!F176","v":"…"},null,null,"   魚　　　　　　類",null,null,null,{"$f":"データ一覧!F290","v":8504},null,null,"   そ　   の　　 他",null,null,null,{"$f":"データ一覧!F293","v":2502},null,null,{"$f":"データ一覧!$A$428","v":"6.3.31"},null,null,null,{"$f":"データ一覧!F425","v":232},null,null,null,null,{"$f":"データ一覧!F426","v":207},null,null,null,null,{"$f":"データ一覧!F427","v":25},null,null,null,{"$f":"+RIGHT(データ一覧!$A$428,2)","v":"31"},"・",{"$f":"データ一覧!F428","v":57902},null,null,null,{"$f":"データ一覧!F429","v":8064},null,null,null," ","医療関係",null,null,null,null,null,null,null,null,null,null,null,"一般病院",null,null,null,null,null,null,null,null,null,null,null,"有",null,null,"床"]
["運輸業、郵便業",null,null,null,null,null,null,{"$f":"データ一覧!F120","v":"…"},null,null,{"$f":"データ一覧!F177","v":"…"},null,null,{"$f":"データ一覧!F121","v":847},null,null,{"$f":"データ一覧!F178","v":16650},null,null,{"$f":"データ一覧!F122","v":"…"},null,null,{"$f":"データ一覧!F179","v":"…"},null,null,"   貝　　　　　　類",null,null,null,{"$f":"データ一覧!F291","v":261},null,null,null,null,null,null,null,null,null,null,null,null,null,null,null,null,null,null,null,null,null,null,null,null,null,null,null,null,null,null,null,null,null,null,null,null,null,null,"施設数",null,null,null,null,null,null,{"$f":"データ一覧!F661","v":67},null,null,null,null,null,{"$f":"データ一覧!F662","v":57},null,null,null,null,null,{"$f":"データ一覧!F663","v":574},null,null,null,null,null,{"$f":"データ一覧!F664","v":45},null,null,null,null,null,{"$f":"データ一覧!F665","v":291}]
["卸売業、小売業",null,null,null,null,null,null,{"$f":"データ一覧!F123","v":"…"},null,null,{"$f":"データ一覧!F180","v":"…"},null,null,{"$f":"データ一覧!F124","v":9510},null,null,{"$f":"データ一覧!F181","v":69965},null,null,{"$f":"データ一覧!F125","v":"…"},null,null,{"$f":"データ一覧!F182","v":"…"},null,null,null,null,null,null,null,null,null,null,null,null,null,null,null,null," １３  税　　・　　財　　政",null,null,null,null,null,null,null,null,null,null,null,null,null,null,null,null,null,null,null,null,null,null,null,null,null,null,null,null,null,null,null,null,null,null,"医師",null,null,null,null,"歯科医師",null,null,null,null,"薬剤師",null,null,null,null,"保健師",null,null,null,null,"助産師",null,null," ",null,"看護師",null,null," "]
["金融業、保険業",null,null,null,null,null,null,{"$f":"データ一覧!F126","v":"…"},null,null,{"$f":"データ一覧!F183","v":"…"},null,null,{"$f":"データ一覧!F127","v":726},null,null,{"$f":"データ一覧!F184","v":8923},null,null,{"$f":"データ一覧!F128","v":"…"},null,null,{"$f":"データ一覧!F185","v":"…"},null,null,"  ７  商        　　　業 ",null,null,null,null,null,null,{"$f":"データ一覧!$A$294","v":"3.6.1(令和2年実績）"},null,null,null,null,null,null,null,null,null,null,null,null,null,null,null,null,null,null,null,null,null,null,null,null,null,null,null,null,null,null,null,null,null,null," ","医療",null,null,null,null,null,null,null,null,"人",null,null,null,null,"人",null,null,null,null,"人",null,null,null,null,"人",null,null,null,null,"人",null,null,null,null,"人"]
["不動産業、物品賃貸業",null,null,null,null,null,null,{"$f":"データ一覧!F129","v":"…"},null,null,{"$f":"データ一覧!F186","v":"…"},null,null,{"$f":"データ一覧!F130","v":1461},null,null,{"$f":"データ一覧!F187","v":5573},null,null,{"$f":"データ一覧!F131","v":"…"},null,null,{"$f":"データ一覧!F188","v":"…"},null,null,null,null,null,null,null,null,null,null,null,null,null,null,null,null,"           ",null,null,null,"歳入",null,null,null,null,null,null,null,null,"(千円）"," ",null,null,null,"歳出",null,null,null,null,null,null,null,null,"(千円）",null,"関係者",null,null,null,null,{"$f":"データ一覧!F666","v":2132},null,null,null,null,{"$f":"データ一覧!F667","v":465},null,null,null,null,{"$f":"データ一覧!F668","v":1500},null,null,null,null,{"$f":"データ一覧!F669","v":528},null,null,null,null,{"$f":"データ一覧!F670","v":258},null,null,null,null,{"$f":"データ一覧!F671","v":11959}]
["学術研究、専門・技術ｻｰﾋﾞｽ業",null,null,null,null,null,null,{"$f":"データ一覧!F132","v":"…"},null,null,{"$f":"データ一覧!F189","v":"…"},null,null,{"$f":"データ一覧!F133","v":1639},null,null,{"$f":"データ一覧!F190","v":10426},null,null,{"$f":"データ一覧!F134","v":"…"},null,null,{"$f":"データ一覧!F191","v":"…"},null,null,"  産   業　 分　 類",null,null,null," 事　業　所　数",null,null," 従　業　者　数",null,null,"年　間　販　売　額",null,null,null,"一人当たり歳入歳出予算決算額",null,null,null,null,null,null,null,null,null,null,null,null,null,null,null,null,null,null,null,null,null,null,null,null,null,null,null,"                   ",null,null,null,null,null,null,null,null,"死因別死亡数　　　　　　    ",null,null,null,null,null,null,null,null,null,null,null,null,null,null,null,{"$f":"データ一覧!$A$672","v":"5年中"},null,null,null,null,null,null,null,null,"      単 位：人"]
["宿泊業、飲食サービス業",null,null,null,null,null,null,{"$f":"データ一覧!F135","v":"…"},null,null,{"$f":"データ一覧!F192","v":"…"},null,null,{"$f":"データ一覧!F136","v":4759},null,null,{"$f":"データ一覧!F193","v":29487},null,null,{"$f":"データ一覧!F137","v":"…"},null,null,{"$f":"データ一覧!F194","v":"…"},null,null,null,null,null,null,null,null,null,null,null,"　人",null,"         百万円",null,null,"区分",null,null,null,{"$f":"データ一覧!$A$438","v":"6年度"},null,null,null,null,{"$f":"データ一覧!$A$452","v":"5年度"},null,null,null,null,"区分",null,null,null,{"$f":"+AR68","v":"6年度"},null,null,null,null,{"$f":"データ一覧!$A$452","v":"5年度"},null,null,null,null," 死     因",null,null,null,null,null,null,null,null,null,null,null,"悪  性",null,null,"高血圧",null,null,null,null,null,"脳血管",null,null,null,null,null," ",null,null,"不慮の事故"]
["生活関連サービス業、娯楽業",null,null,null,null,null,null,{"$f":"データ一覧!F138","v":"…"},null,null,{"$f":"データ一覧!F195","v":"…"},null,null,{"$f":"データ一覧!F139","v":3366},null,null,{"$f":"データ一覧!F196","v":12821},null,null,{"$f":"データ一覧!F140","v":"…"},null,null,{"$f":"データ一覧!F197","v":"…"},null,null,"総　　　　　　計",null,null,null,{"$f":"データ一覧!F294","v":8369},null,null,{"$f":"データ一覧!F303","v":59927},null,null,{"$f":"データ一覧!F312","v":1941283},null,null,null,null,null,null,null,{"$f":"データ一覧!F434","v":583203.01858287153},null,null,null,null,{"$f":"データ一覧!F435","v":640805.52212826768},null,null,null,null,null,null,null,null,{"$f":"データ一覧!F436","v":583203.01858287153},null,null,null,null,{"$f":"データ一覧!F437","v":615837.17806835636},null,null,null,null,null,null,null,null,null,"全 死 因",null,null,null,"結 核",null,null,"新生物",null,null,"性疾患",null,null,"心疾患",null,null,"疾  患",null,null,"肺  炎",null,null,"老  衰",null,null,null,null," ","交通事故"]
["教育、学習支援業",null,null,null,null,null,null,{"$f":"データ一覧!F141","v":"…"},null,null,{"$f":"データ一覧!F198","v":"…"},null,null,{"$f":"データ一覧!F142","v":1049},null,null,{"$f":"データ一覧!F199","v":11530},null,null,{"$f":"データ一覧!F143","v":"…"},null,null,{"$f":"データ一覧!F200","v":"…"},null,null,"卸売業",null,null,null,{"$f":"データ一覧!F295","v":2050},null,null,{"$f":"データ一覧!F304","v":17018},null,null,{"$f":"データ一覧!F313","v":1123737},null,null,null,"項目別歳入歳出予算決算額"]
["医療、福祉",null,null,null,null,null,null,{"$f":"データ一覧!F144","v":"…"},null,null,{"$f":"データ一覧!F201","v":"…"},null,null,{"$f":"データ一覧!F145","v":2586},null,null,{"$f":"データ一覧!F202","v":47484},null,null,{"$f":"データ一覧!F146","v":"…"},null,null,{"$f":"データ一覧!F203","v":"…"},null,null,"小売業",null,null,null,{"$f":"データ一覧!F296","v":6319},null,null,{"$f":"データ一覧!F305","v":42909},null,null,{"$f":"データ一覧!F314","v":817545},null,null,null,"区分",null,null,null,{"$f":"データ一覧!$A$438","v":"6年度"},null,null,null,null,{"$f":"データ一覧!$A$452","v":"5年度"},null,null,null,null,"区分",null,null,null,{"$f":"+AR71","v":"6年度"},null,null,null,null,{"$f":"データ一覧!$A$452","v":"5年度"},null,null,null,null,null,null,null,null,null,{"$f":"データ一覧!F672","v":10426},null,null,null,"   －",{"$f":"データ一覧!F673","v":7},null,{"$f":"データ一覧!F674","v":2367},null,null,null,{"$f":"データ一覧!F675","v":61},null,{"$f":"データ一覧!F676","v":1606},null,null,{"$f":"データ一覧!F677","v":725},null,null,{"$f":"データ一覧!F678","v":569},null,null,{"$f":"データ一覧!F679","v":1272},null,null,{"$f":"データ一覧!F680","v":347},null,null,{"$f":"データ一覧!F681","v":26}]
["複合サービス事業",null,null,null,null,null,null,{"$f":"データ一覧!F147","v":"…"},null,null,{"$f":"データ一覧!F204","v":"…"},null,null,{"$f":"データ一覧!F148","v":328},null,null,{"$f":"データ一覧!F205","v":4222},null,null,{"$f":"データ一覧!F149","v":"…"},null,null,{"$f":"データ一覧!F206","v":"…"},null,null,"各種商品",null,null,null,{"$f":"データ一覧!F297","v":24},null,null,{"$f":"データ一覧!F306","v":1577},null,null,{"$f":"データ一覧!F315","v":41446},null,null,null,"総額",null,null,null,{"$f":"SUM(AR73:AV85)","v":430806821},null,null,null,null,{"$f":"SUM(AW73:BA85)","v":477123286},null,null,null,null,"総額",null,null,null,{"$f":"SUM(BF73:BJ85)","v":430806821},null,null,null,null,{"$f":"SUM(BK73:BO85)","v":458532656},null,null,null,null," １９  警　察　・　消　防  ",null,null,null,null,null,null,null,null,null,null,null,null,null,null,{"$f":"+データ一覧!$A682","v":"6.4.1"}]
["サービス業",null,null,null,null,null,null,{"$f":"データ一覧!F150","v":"…"},null,null,{"$f":"データ一覧!F207","v":"…"},null,null,{"$f":"データ一覧!F151","v":3373},null,null,{"$f":"データ一覧!F208","v":28391},null,null,{"$f":"データ一覧!F152","v":"…"},null,null,{"$f":"データ一覧!F209","v":"…"},null,null,"織物・衣服・身の回り品",null,null,null,{"$f":"データ一覧!F298","v":858},null,null,{"$f":"データ一覧!F307","v":2827},null,null,{"$f":"データ一覧!F316","v":31583},null,null,null,"地方税",null,null,null,{"$f":"データ一覧!F439","v":128511152},null,null,null,null,{"$f":"データ一覧!F453","v":135244832},null,null,null,null,"議会費",null,null,null,{"$f":"データ一覧!F467","v":3108777},null,null,null,null,{"$f":"データ一覧!F481","v":3016030}]
["公務",null,null,null,null,null,null,{"$f":"データ一覧!F153","v":"…"},null,null,{"$f":"データ一覧!F210","v":"…"},null,null,{"$f":"データ一覧!F154","v":"…"},null,null,{"$f":"データ一覧!F211","v":"…"},null,null,{"$f":"データ一覧!F155","v":"…"},null,null,{"$f":"データ一覧!F212","v":"…"},null,null,"飲食料品",null,null,null,{"$f":"データ一覧!F299","v":1907},null,null,{"$f":"データ一覧!F308","v":15901},null,null,{"$f":"データ一覧!F317","v":228815},null,null,null,"地方譲与税",null,null,null,{"$f":"データ一覧!F440","v":3639223},null,null,null,null,{"$f":"データ一覧!F454","v":3537373},null,null,null,null,"総務費",null,null,null,{"$f":"データ一覧!F468","v":60543410},null,null,null,null,{"$f":"データ一覧!F482","v":72403119},null,null,null,null,null,null,null,null,null,null,null,null,null,null,"交番・駐在所",null,null,null,null,null,null,null,null,"刑法犯認知件数",null,null,null,null,null,null,null,null,"交通人身事故発生件数"]
["  ４  農        　　　業 ",null,null,null,null,null,null,null,null,null,null,null,null,null,null,null,null,null,null,null,null,null,null,null,null,"機械器具",null,null,null,{"$f":"データ一覧!F300","v":979},null,null,{"$f":"データ一覧!F309","v":6300},null,null,{"$f":"データ一覧!F318","v":182138},null,null,null,"各種交付金",null,null,null,{"$f":"データ一覧!F441","v":23975165},null,null,null,null,{"$f":"データ一覧!F455","v":24236342},null,null,null,null,"民生費",null,null,null,{"$f":"データ一覧!F469","v":140159707},null,null,null,null,{"$f":"データ一覧!F483","v":143906943},null,null,null,null,null,"警察署数",null,null,null,null,null,null,null,null,"検問所数",null,null,null,null,null,null,null,null,null,{"$f":"データ一覧!$A$684","v":"5年中"},null,null,null,null,null,null,null,null,{"$f":"データ一覧!$A$684","v":"5年中"}]
[null,null,null,null,null,null,null,null,null,null,null,null,null,null,null,null,null,null,null,null,null,null,null,null,null,"その他",null,null,null,{"$f":"データ一覧!F301","v":2315},null,null,{"$f":"データ一覧!F310","v":13955},null,null,{"$f":"データ一覧!F319","v":264391},null,null,null,"地方特例交付金",null,null,null,{"$f":"データ一覧!F442","v":3408336},null,null,null,null,{"$f":"データ一覧!F456","v":883261},null,null,null,null,"衛生費",null,null,null,{"$f":"データ一覧!F470","v":41356258},null,null,null,null,{"$f":"データ一覧!F484","v":35542487},null,null,null,null,null,null,null,null,null,null,null,null,null,null,null,null,null,null,null,null,null,null,null,null,null,null,null,null," 件",null,null,null,null,null,null,null,null,"　件"]
[null,null,"農業経営体数",null,null,null,null,null,null,"農産物販売額規模別経営体数",null,null,null,null,null,null,null,"経営耕地面積規模別経営体数",null,null,null,null,null,null,null,"無店舗",null,null,null,{"$f":"データ一覧!F302","v":236},null,null,{"$f":"データ一覧!F311","v":2349},null,null,{"$f":"データ一覧!F320","v":69173},null,null,null,"地方交付税",null,null,null,{"$f":"データ一覧!F443","v":75415000},null,null,null,null,{"$f":"データ一覧!F457","v":80067785},null,null,null,null,"労働費",null,null,null,{"$f":"データ一覧!F471","v":1181626},null,null,null,null,{"$f":"データ一覧!F485","v":1199209},null,null,null,null,null,null,{"$f":"データ一覧!F682","v":11},null,null,null,null,null,null,null,null,{"$f":"データ一覧!F683","v":136},null,null,null,null,null,null,null,null,{"$f":"データ一覧!F684","v":2840},null,null,null,null,null,null,null,null,{"$f":"データ一覧!F685","v":986}]
["農",null,"区　分",null,null,null,"経営体数\n（経営体）",null,null,"区　分",null,null,null,null,"経営体数\n（経営体）",null,null,"区　分",null,null,null,null,"経営体数\n（経営体）",null,null,null,null,null,null,null,null,null,null,null,null,null,null,null,null,"分担金および負担金",null,null,null,{"$f":"データ一覧!F444","v":1483859},null,null,null,null,{"$f":"データ一覧!F458","v":2812207},null,null,null,null,"農林水産業費",null,null,null,{"$f":"データ一覧!F472","v":19595273},null,null,null,null,{"$f":"データ一覧!F486","v":20171202},null,null,null,null,"火災発生件数",null,null,null,null,null,null,null,null,null,"林野焼損",null,null,null,null,"損      害",null,null,null,null,"消 防 自",null,null,null,"その他の",null,null,null," ",null,null,null,null," "]
["業","令",null,null,null,null,null,null,null,null,null,null,null,null,null,null,null,null,null,null,null,null,null,null,null,"  ８  住　　　　　　 　宅",null,null,null,null,null,null,null,null,null,null,null,null,null,"使用料および手数料",null,null,null,{"$f":"データ一覧!F445","v":4412662},null,null,null,null,{"$f":"データ一覧!F459","v":4416661},null,null,null,null,"商工費",null,null,null,{"$f":"データ一覧!F473","v":18997974},null,null,null,null,{"$f":"データ一覧!F487","v":20415802},null,null,null,null,{"$f":"+データ一覧!$A$686","v":"5年中"},null,null,null,null,"焼損棟数",null,null,null,null,"面    積",null,null,null,null,"見  積  額",null,null,null,null,"動 車 数",null,null,null,"ﾎﾟﾝﾌﾟ数",null,null,null," 消防吏員",null,null,null," 消防団員"]
["経",{"$f":"+LEFT(データ一覧!$A$213)","v":"2"},"計",null,null,null,{"$f":"データ一覧!F213","v":10546},null,null,"総　　　 数",null,null,null,null,{"$f":"データ一覧!F217","v":10546},null,null,"総　　　 数",null,null,null,null,{"$f":"データ一覧!F233","v":32792},null,null,null,null,null,null,null,null,null,null,null,null,null,null,null,null,"国庫支出金",null,null,null,{"$f":"データ一覧!F446","v":61792215},null,null,null,null,{"$f":"データ一覧!F460","v":78076891},null,null,null,null,"土木費",null,null,null,{"$f":"データ一覧!F474","v":40823260},null,null,null,null,{"$f":"データ一覧!F488","v":54033366},null,null,null,null,"         件",null,null,null,null,null,"      棟",null,null,null,null,null,null,"  ａ",null,null,null,"  千円",null,null,"        ",null,null,null,null,null,null,null,null,null,"  人",null,null,null,"  人"]
["営","・","個人経営体",null,null,null,{"$f":"データ一覧!F214","v":9871},null,null,"販 売 な し",null,null,null,null,{"$f":"データ一覧!F218","v":706},null,null,"0.5 ha 未満",null,null,null,null,{"$f":"データ一覧!F234","v":728},null,null,{"$f":"+データ一覧!$A$321","v":"4年"},null,null,null,null,{"$f":"データ一覧!$A$324","v":"5年"},"中の増減",null,null,null,{"$f":"+データ一覧!$A$324","v":"5年"},null,null,null,"県支出金",null,null,null,{"$f":"データ一覧!F447","v":42233639},null,null,null,null,{"$f":"データ一覧!F461","v":42612917},null,null,null,null,"消防費",null,null,null,{"$f":"データ一覧!F475","v":14975478},null,null,null,null,{"$f":"データ一覧!F489","v":14027398},null,null,null,null,null,{"$f":"データ一覧!F686","v":174},null,null,null,null,{"$f":"データ一覧!F687","v":176},null,null,null,null,{"$f":"データ一覧!F688","v":14},null,null,null,{"$f":"データ一覧!F689","v":1266774},null,null,null,null,null,{"$f":"データ一覧!F690","v":257},null,null,null,{"$f":"データ一覧!F691","v":386},null,null,null,{"$f":"データ一覧!F692","v":1250},null,null,null,{"$f":"データ一覧!F693","v":5826}]
["体",{"$f":"+LEFT(データ一覧!$A$213,1)","v":"2"},"団体経営体",null,null,null,{"$f":"データ一覧!F215","v":675},null,null,"50万円未満",null,null,null,null,{"$f":"データ一覧!F219","v":3648},null,null,"0.5 ha ～ 1.0 ha",null,null,null,null,{"$f":"データ一覧!F235","v":2338},null,null,null,null,null,null,"建設した住宅",null,null,"消失した住宅",null,null,null,null,null,null,"財産収入",null,null,null,{"$f":"データ一覧!F448","v":1098770},null,null,null,null,{"$f":"データ一覧!F462","v":1333959},null,null,null,null,"教育費",null,null,null,{"$f":"データ一覧!F476","v":48644124},null,null,null,null,{"$f":"データ一覧!F490","v":51099393},null,null,null,null," ２０  そ　　　の　　　他　（令6．4．1）"]
["数","・",null,"法人経営",null,null,{"$f":"データ一覧!F216","v":414},null,null,"50～300万円",null,null,null,null,{"$f":"データ一覧!F220","v":4670},null,null,"1.0 ha ～ 2.0 ha",null,null,null,null,{"$f":"データ一覧!F236","v":4042},null,null,null,null,null,null,null,null,null,null,null,null,null,null,null,null,"繰入金",null,null,null,{"$f":"データ一覧!F449","v":26100323},null,null,null,null,{"$f":"データ一覧!F463","v":19876699},null,null,null,null,"災害復旧費",null,null,null,{"$f":"データ一覧!F477","v":298734},null,null,null,null,{"$f":"データ一覧!F491","v":3408218}]
["（",{"$f":"+RIGHT(データ一覧!$A$213)","v":"1"},null,null,null,null,null,null,null,"300～500万円",null,null,null,null,{"$f":"データ一覧!F221","v":431},null,null,"2.0 ha ～ 3.0 ha",null,null,null,null,{"$f":"データ一覧!F237","v":1968},null,null,null,{"$f":"データ一覧!F321","v":313349},null,"戸",{"$f":"データ一覧!F322","v":4444},null,"戸",{"$f":"データ一覧!F323","v":2431},null,"戸",null,{"$f":"データ一覧!F324","v":315362},null,"戸","地方債",null,null,null,{"$f":"データ一覧!F450","v":32950600},null,null,null,null,{"$f":"データ一覧!F464","v":33991173},null,null,null,null,"公債費",null,null,null,{"$f":"データ一覧!F478","v":38852530},null,null,null,null,{"$f":"データ一覧!F492","v":39307435}]
["総",null,null,null,null,null,null,null,null,"500～1,000万円",null,null,null,null,{"$f":"データ一覧!F222","v":417},null,null,"3.0 ha ～ 5.0 ha",null,null,null,null,{"$f":"データ一覧!F238","v":1473},null,null,null,null,null,null,null,null,null,null,null,null,null,null,null,null,"その他",null,null,null,{"$f":"データ一覧!F451","v":25785877},null,null,null,null,{"$f":"データ一覧!F465","v":50033186},null,null,null,null,"その他",null,null,null,{"$f":"データ一覧!F479","v":2269670},null,null,null,null,{"$f":"データ一覧!F493","v":2054},null,null,null,null,null,"県内文化財数",null,null,null,null,null,null,null,null,null,null,null,"国指定",null,null,null,null,"国選択・選定",null,null,null,null,null,null,"国登録",null,null,null,null,null,"県指定"]
["数",null,null,null,null,null,null,null,null,"1,000万円以上",null,null,null,null,{"$f":"データ一覧!F223","v":674},null,null,"5.0 ha以上",null,null,null,null,{"$f":"データ一覧!F239","v":22242},null,null,null,null,null,null,null,null,null,null,null,null,null,null,null,null,null,null,null,null,null,null,null,null,null,null,null,null,null,null,null,null,null,null,null,null,null,null,null,null,null,null,null,null,null,"有形文化財",null,null,null,null,null,null,null,null,null,null,null,114,null,null,null,null,null,null,null,null,null,null,null,237,null,null,null,null,null,279]
["）",null,"15歳以上の常雇い数",null,null,null,null,null,null,"農業に60日以上従事した世帯員、役員・構成員\n（経営主を含む）の平均年齢",null,null,null,null,null,null,null,null,null,null,null,null,null,null,null,"  ９  議　 員　・　職 　員",null,null,null,null,null,null,null,null,null,null,null,null,null," １４  文　　　化",null,null,null,null,null,null,null," ( ",{"$f":"\"令\"&データ一覧!$A$498","v":"令6.3.31"},null,null,"ただし図書館・公民館・児童館・ 社会教育学級講座",null,null,null,null,null,null,null,null,null,null,null,{"$f":"データ一覧!$A$494","v":"6.4.1"},null,null,null,null,"無形文化財",null,null,null,null,null,null,null,null,null,null,null,2,null,null,null,null,null,null,null,null,null,null,null,null,null,null,null,null,null,4]
["と",null,null,null,null,null,null,null,null,null,null,null,null,null,null,null,null,null,null,null,null,null,null,null,null,null,null,null,null,null,null,null,null,null,null,null,null,null,null,null,null,null,null,null,null,null,null,null,null,null,null,null,"　宗教法人数 ",null,null,null,null,null,null,null,null,null,null,{"$f":"データ一覧!$A$502","v":"5.12.31"},null,null,null,null,"民俗文化財",null,null,null,null,null,null,null,null,null,null,null,6,null,null,null,null,null,12,null,null,null,null,null,1,null,null,null,null,null,75]
["就",null,null,null,null,null,null,null,null,"農業に60日以上従事",null,null,null,null,null,null,null,"農業に150日以上従事",null,null,null,null,null,null,null," 市 町 議 会",null,null,"有権者数",null,{"$f":"データ一覧!$A$328","v":"6.9.1"},null,"市 町 議 会",null,null,"市町職員数　",null,null,null,null,null,null,null,"県立図書館",null,null,null,null,null,null,"公　民　館",null,null,null,null,null,null,null,null,null,null," 社会教育学級講座",null,null,null,null,null,null,"天然記念物、史跡・名勝",null,null,null,null,null,null,null,null,null,null,null,62,null,null,null,null,null,null,null,null,null,null,null,3,null,null,null,null,null,67]
["業",null,"区分",null,null,null,"人",null,null,"区分",null,null,null,null,"歳",null,null,"区　　分",null,null,null,null,"歳",null,null," 議  員  定  数",null,null,"    男",null,"    女",null,"選 挙 投 票 率",null,null," 総     数",null,"一般行政職",null,"公    共",null,null,null," 館  数",null,null," 図書数",null,null," 本  館",null,null," 分  館",null,null," 公  園",null,null," 児童館",null,null,"学級講座数",null,null,"受講者数",null,null,null,"選定保存技術"]
["状",null,"総数",null,null,null,{"$f":"データ一覧!F230","v":783},null,null,"総数",null,null,null,null,{"$f":"データ一覧!F224","v":67.900000000000006},null,null,"総数",null,null,null,null,{"$f":"データ一覧!F227","v":67.400000000000006},null,null,null,null,"人",null,"人",null,"人",null,null,"　％",null,"人",null,"人","施 設 数",null,null,null,null,{"$f":"データ一覧!F494","v":2},null,{"$f":"データ一覧!F495","v":1404363},null,null,null,{"$f":"データ一覧!F496","v":182},null,{"$f":"データ一覧!F497","v":24},null,null,{"$f":"データ一覧!F498","v":944},null,null,{"$f":"データ一覧!F499","v":97},null,null,{"$f":"データ一覧!F500","v":10230},null,null,{"$f":"データ一覧!F501","v":220460},null,null,"  ","重要伝統的建造物群保存地区",null,null,null,null,null,null,null,null,null,null,null,null,null,null,null,null,null,3]
["況",null,"男",null,null,null,{"$f":"データ一覧!F231","v":489},null,null,"男",null,null,null,null,{"$f":"データ一覧!F225","v":67.099999999999994},null,null,"男",null,null,null,null,{"$f":"データ一覧!F228","v":66.7},null,null,null,{"$f":"データ一覧!F325","v":283},null,{"$f":"データ一覧!F328","v":301274},null,{"$f":"データ一覧!F329","v":321086},null,{"$f":"データ一覧!F327","v":"-"},null,null,{"$f":"データ一覧!F330","v":7856},null,{"$f":"データ一覧!F331","v":4341},null,"宗    教",null,null,null," 仏教系",null,null,"ｷﾘｽﾄ教系",null,null,"神道諸派",null,null,"公会堂・市民会館",null,null,null,null,null," テレビ",null,null,"衛星放送契約数",null,null,null,null,null,null,"文化的景観",null,null,null,null,null,null,null,null,null,null,null,null,null,null,null,null,null,3]
[null,null,"女",null,null,null,{"$f":"データ一覧!F232","v":294},null,null,"女",null,null,null,null,{"$f":"データ一覧!F226","v":69.7},null,null,"女",null,null,null,null,{"$f":"データ一覧!F229","v":69},null,null,null,null,null,null,null,null,null,null,null,null,null,null,null,null,"法 人 数",null,null,null,{"$f":"データ一覧!F502","v":1673},null,null,{"$f":"データ一覧!F503","v":35},null,null,{"$f":"データ一覧!F504","v":1805},null,null,{"$f":"データ一覧!F505","v":45},null,null,null,null,null,"　　　等",null,null,{"$f":"データ一覧!F506","v":175543},null,null,null,null,null,null,"その他"]

{"sheet":"福井市","index":5,"n_rows":93,"n_cols":103,"rows_kept":93,"cut":false,"hidden":false,"merged":[[85,17,85,21],[91,14,91,16],[91,22,91,24],[91,6,91,8],[80,6,80,8],[80,9,80,13],[80,14,80,16],[80,17,80,21],[80,22,80,24],[91,2,91,5],[91,17,91,21],[82,6,82,8],[83,14,83,16],[84,6,84,8],[84,9,84,13],[84,14,84,16],[84,22,84,24],[85,6,85,8],[86,2,88,8],[86,9,87,24],[88,9,88,16],[88,17,88,24],[89,2,89,5],[89,9,89,13],[89,17,89,21],[90,2,90,5],[90,9,90,13],[90,17,90,21],[82,9,82,13],[82,14,82,16],[83,6,83,8],[83,9,83,13],[90,6,90,8],[89,22,89,24],[85,14,85,16],[85,22,85,24],[77,53,77,56],[67,39,67,42],[76,2,76,8],[76,9,76,16],[76,17,76,24],[77,2,78,5],[77,6,78,8],[77,9,78,13],[77,14,78,16],[77,17,78,21],[77,22,78,24],[79,2,79,5],[79,6,79,8],[79,9,79,13],[79,14,79,16],[79,17,79,21],[79,22,79,24],[74,48,74,52],[80,53,80,56],[78,53,78,56],[81,9,81,13],[81,14,81,16],[71,29,71,30],[68,10,68,12],[70,10,70,12],[68,29,68,30],[68,25,68,28],[69,29,69,30],[77,77,77,81],[77,87,77,90],[68,82,68,84],[74,96,74,100],[73,57,73,61],[67,53,67,56],[65,53,65,56],[65,73,65,76],[65,78,65,81],[65,68,65,71],[65,57,65,63],[67,82,67,84],[68,72,68,75],[70,79,70,81],[72,39,72,42],[70,53,70,56],[74,39,74,42],[73,43,73,47],[76,48,76,52],[66,92,66,96],[77,43,77,47],[71,57,71,61],[72,57,72,61],[73,95,73,101],[74,68,74,74],[74,77,74,83],[75,43,75,47],[39,40,39,46],[59,59,59,62],[80,92,80,94],[73,39,73,42],[77,91,77,94],[76,78,76,81],[79,57,79,61],[75,57,75,61],[74,57,74,61],[74,53,74,56],[76,62,76,66],[74,62,74,66],[69,39,69,66],[68,88,68,90],[71,83,72,102],[70,97,70,99],[68,100,68,102],[77,48,77,52],[78,87,78,90],[79,101,79,102],[76,87,76,90],[70,62,70,66],[68,79,68,81],[73,53,73,56],[68,94,68,96],[77,57,77,61],[75,62,75,66],[73,62,73,66],[78,72,78,76],[78,67,78,71],[78,62,78,66],[50,91,50,94],[39,85,39,91],[45,84,45,89],[50,87,50,90],[57,61,57,63],[47,95,47,98],[47,99,47,102],[60,91,60,96],[62,75,62,77],[51,77,51,79],[52,83,52,86],[50,83,50,86],[55,55,55,57],[62,99,62,101],[71,62,71,66],[70,72,70,75],[70,94,70,96],[40,53,40,56],[63,99,63,101],[62,93,62,95],[70,100,70,102],[58,55,58,57],[65,98,65,101],[78,57,78,61],[77,62,77,66],[68,91,68,93],[77,82,77,86],[70,85,70,87],[70,77,70,78],[78,77,78,81],[67,67,70,71],[74,87,74,91],[78,95,78,98],[78,91,78,94],[77,39,77,42],[78,43,78,47],[78,39,78,42],[79,39,79,42],[76,43,76,47],[68,62,68,66],[68,43,68,47],[68,39,68,42],[70,57,70,61],[75,39,75,42],[68,76,68,78],[78,48,78,52],[76,96,76,99],[72,48,72,52],[73,48,73,52],[73,86,73,92],[68,48,68,52],[76,57,76,61],[79,62,79,66],[72,43,72,47],[70,43,70,47],[30,60,30,64],[27,53,27,56],[29,53,29,56],[28,60,28,64],[32,77,32,80],[32,73,32,76],[39,67,39,73],[42,32,42,35],[44,36,44,37],[28,68,28,72],[31,68,31,72],[40,40,40,46],[41,49,41,51],[42,49,42,51],[43,49,43,51],[43,53,43,56],[41,53,41,56],[38,75,38,77],[39,60,39,64],[34,53,34,56],[36,53,36,56],[41,40,41,46],[43,40,43,46],[42,40,42,46],[27,60,27,64],[29,60,29,64],[42,60,42,64],[42,53,42,56],[37,40,37,46],[34,40,34,46],[35,36,35,37],[37,79,37,82],[56,0,56,6],[48,13,48,15],[55,0,55,6],[40,7,40,9],[47,10,47,12],[42,7,42,9],[42,16,42,18],[40,13,40,15],[42,10,42,12],[49,46,49,49],[54,68,54,75],[52,91,52,94],[56,39,56,42],[48,56,48,59],[50,0,51,10],[38,97,38,100],[40,29,40,30],[40,67,41,73],[45,36,45,37],[51,91,51,94],[55,99,55,102],[55,80,55,82],[56,83,56,86],[42,97,42,100],[47,83,47,86],[47,87,47,90],[41,97,41,100],[56,68,56,75],[50,80,50,82],[55,95,55,98],[54,43,54,46],[48,0,48,1],[57,7,57,9],[55,16,55,18],[40,10,40,12],[50,77,50,79],[23,86,23,90],[25,77,25,80],[25,81,25,84],[23,77,23,80],[38,67,38,73],[43,83,44,102],[49,50,49,53],[49,58,49,61],[40,85,40,91],[32,68,32,72],[25,86,25,90],[37,67,37,73],[29,86,29,90],[26,53,26,56],[25,73,25,76],[37,75,37,77],[35,40,35,46],[27,68,27,72],[33,8,33,10],[41,10,41,12],[29,14,29,16],[56,48,56,53],[53,36,53,37],[55,35,55,38],[57,13,57,15],[30,40,30,46],[38,40,38,46],[36,40,36,46],[61,7,61,9],[35,98,35,101],[58,0,58,6],[42,22,42,24],[55,19,55,21],[40,19,40,21],[59,13,59,15],[47,16,47,18],[35,5,35,7],[35,8,35,10],[48,7,48,9],[48,10,48,12],[40,22,40,24],[42,4,42,6],[48,16,48,18],[40,2,40,3],[48,19,48,21],[48,22,48,24],[55,13,55,15],[44,19,44,24],[56,7,56,9],[46,29,46,30],[48,77,48,79],[49,68,49,75],[48,80,48,82],[47,91,47,94],[49,62,49,66],[42,79,42,82],[42,75,42,77],[42,67,42,73],[38,85,38,91],[39,93,39,95],[62,7,62,9],[59,0,59,6],[41,7,41,9],[60,10,60,12],[33,5,33,7],[33,18,33,19],[33,11,33,13],[34,14,34,16],[40,4,40,6],[41,19,41,21],[40,16,40,18],[34,22,34,24],[34,20,34,21],[61,16,61,18],[57,19,57,21],[61,19,61,21],[57,10,57,12],[55,7,55,9],[59,10,59,12],[58,10,58,12],[58,7,58,9],[58,16,58,18],[60,16,60,18],[58,13,58,15],[62,22,62,24],[61,0,61,6],[59,7,59,9],[35,18,35,19],[42,13,42,15],[62,0,62,6],[33,20,33,21],[61,13,61,15],[20,40,20,46],[24,37,24,38],[19,40,19,46],[32,11,32,13],[32,20,32,21],[50,47,50,49],[5,0,5,9],[6,0,8,9],[19,3,19,5],[35,11,35,13],[35,14,35,16],[30,5,30,7],[31,5,31,7],[30,8,30,10],[14,0,15,24],[15,35,15,37],[14,25,15,25],[14,26,15,28],[15,32,15,33],[15,29,15,30],[26,25,26,26],[21,29,21,31],[41,4,41,6],[34,5,34,7],[20,35,20,38],[34,8,34,10],[34,18,34,19],[24,33,24,34],[19,35,19,38],[21,25,21,28],[22,32,22,34],[27,0,27,4],[64,0,64,6],[65,0,65,6],[60,7,60,9],[57,0,57,6],[63,0,63,6],[63,7,63,9],[18,28,18,30],[19,53,19,56],[20,53,20,56],[21,53,21,56],[32,5,32,7],[55,25,55,30],[44,25,44,28],[54,25,54,32],[53,25,53,27],[45,32,45,35],[41,32,41,35],[35,29,35,30],[44,29,44,30],[34,29,34,30],[40,32,40,35],[41,29,41,30],[36,29,36,30],[46,25,46,28],[55,10,55,12],[35,20,35,21],[50,25,50,28],[50,33,50,38],[45,25,45,28],[32,22,32,24],[23,11,23,13],[21,40,21,46],[16,36,16,37],[18,35,18,38],[17,32,17,34],[17,36,17,38],[16,32,16,33],[21,32,21,34],[21,35,21,38],[24,27,24,28],[20,16,20,18],[25,25,25,26],[25,27,25,28],[20,21,20,23],[23,16,23,18],[29,5,29,7],[22,7,22,8],[31,22,31,24],[31,18,31,19],[31,20,31,21],[20,25,20,28],[24,35,24,36],[25,35,26,36],[25,37,26,38],[22,29,22,31],[23,29,23,31],[27,22,27,24],[27,33,27,34],[59,19,59,21],[33,22,33,24],[27,25,27,26],[19,25,19,28],[17,25,17,27],[18,25,18,27],[20,11,20,13],[34,11,34,13],[55,22,55,24],[66,13,66,15],[65,10,65,12],[56,10,56,12],[62,10,62,12],[56,13,56,15],[57,43,57,46],[58,48,58,50],[61,29,61,30],[58,39,58,42],[61,39,61,42],[61,36,61,37],[62,16,62,18],[59,16,59,18],[57,16,57,18],[56,19,56,21],[56,16,56,18],[57,31,57,33],[61,10,61,12],[64,10,64,12],[63,10,63,12],[64,13,64,15],[60,13,60,15],[65,16,65,18],[60,19,60,21],[58,19,58,21],[56,22,56,24],[64,7,64,9],[65,7,65,9],[61,22,61,24],[60,0,60,6],[57,22,57,24],[29,18,29,19],[29,22,29,24],[27,27,27,28],[29,20,29,21],[30,18,30,19],[57,35,57,37],[23,35,23,38],[24,31,24,32],[66,35,66,38],[23,25,23,28],[57,25,57,29],[41,36,41,37],[40,36,40,37],[25,33,26,34],[27,35,27,36],[30,20,30,21],[30,22,30,24],[47,22,47,24],[60,29,60,30],[35,22,35,24],[51,25,51,28],[27,31,27,32],[63,19,63,21],[46,36,46,37],[32,40,32,46],[62,19,62,21],[63,13,63,15],[46,32,46,35],[50,29,50,32],[51,36,51,38],[44,32,44,35],[58,22,58,24],[30,49,30,51],[25,40,25,46],[32,49,32,51],[55,31,55,34],[36,36,36,37],[27,40,27,46],[62,13,62,15],[63,22,63,24],[60,22,60,24],[32,18,32,19],[42,19,42,21],[47,19,47,21],[41,22,41,24],[50,11,51,24],[42,36,42,37],[45,29,45,30],[35,49,35,51],[36,49,36,51],[33,40,33,46],[38,49,38,51],[25,31,26,32],[24,0,25,24],[26,22,26,24],[27,5,27,7],[17,68,17,71],[24,86,24,90],[27,86,27,90],[28,77,28,80],[28,81,28,84],[32,60,32,64],[65,13,65,15],[64,68,64,71],[66,76,66,90],[61,80,61,83],[61,68,61,71],[56,77,56,79],[65,83,65,86],[66,32,66,34],[68,19,68,21],[66,39,66,66],[67,43,67,47],[65,22,65,24],[60,63,60,66],[57,47,57,50],[58,58,58,60],[60,36,60,37],[62,29,62,30],[65,43,65,49],[65,19,65,21],[62,81,62,83],[57,67,58,102],[63,74,63,76],[60,97,60,102],[60,85,60,90],[56,99,56,102],[58,44,58,46],[17,48,17,52],[17,40,17,46],[18,31,18,34],[24,40,24,46],[19,49,19,51],[22,35,22,38],[24,49,24,51],[22,49,22,51],[20,32,20,34],[19,60,19,64],[17,59,17,65],[70,32,70,33],[67,57,67,61],[67,62,67,66],[34,36,34,37],[51,29,51,32],[51,33,51,35],[25,53,25,56],[50,55,50,57],[29,49,29,51],[30,53,30,56],[23,32,23,34],[25,49,25,51],[29,40,29,46],[28,40,28,46],[54,39,54,42],[57,39,57,42],[60,39,60,42],[65,39,65,42],[40,49,40,51],[19,29,19,31],[31,49,31,51],[20,60,20,64],[21,73,21,76],[24,29,24,30],[24,73,24,76],[22,40,22,46],[17,53,17,57],[23,40,23,46],[23,49,23,51],[48,62,48,65],[49,54,49,57],[41,60,41,64],[45,57,45,61],[43,60,43,64],[27,37,27,38],[25,29,26,30],[31,40,31,46],[19,32,19,34],[20,49,20,51],[20,29,20,31],[48,68,48,75],[28,73,28,76],[36,67,36,73],[38,60,38,64],[39,53,39,56],[22,60,22,64],[24,68,24,72],[17,73,17,76],[20,73,20,76],[49,39,49,45],[31,53,31,56],[31,60,31,64],[37,60,37,64],[21,81,21,84],[21,86,21,90],[35,86,35,90],[22,81,22,84],[26,73,26,76],[35,75,35,77],[27,77,27,80],[26,77,26,80],[29,81,29,84],[29,77,29,80],[26,81,26,84],[21,60,21,64],[34,60,34,64],[35,60,35,64],[26,49,26,51],[27,49,27,51],[22,77,22,80],[24,53,24,56],[34,49,34,51],[23,81,23,84],[33,49,33,51],[28,49,28,51],[21,49,21,51],[35,80,35,83],[33,83,34,96],[30,81,30,84],[30,86,30,90],[31,73,31,76],[31,77,31,80],[31,81,31,84],[33,67,34,78],[30,68,30,72],[22,68,22,72],[23,73,23,76],[23,68,23,72],[22,53,22,56],[24,60,24,64],[23,53,23,56],[28,53,28,56],[37,53,37,56],[23,60,23,64],[32,53,32,56],[52,77,52,79],[52,80,52,82],[40,60,40,64],[33,60,33,64],[25,60,25,64],[26,60,26,64],[24,81,24,84],[51,80,51,82],[51,68,51,75],[38,53,38,56],[33,53,33,56],[48,50,48,53],[36,60,36,64],[50,50,50,53],[50,59,50,61],[38,79,38,82],[37,49,37,51],[40,79,41,82],[43,67,44,80],[49,80,49,82],[40,75,41,77],[35,68,35,72],[36,75,36,77],[30,73,30,76],[30,77,30,80],[39,79,39,82],[28,86,28,90],[27,81,27,84],[54,99,54,102],[53,91,53,94],[52,95,52,98],[51,83,51,86],[48,95,48,98],[49,95,49,98],[48,87,48,90],[46,95,46,98],[42,85,42,91],[41,93,41,95],[48,99,48,102],[49,87,49,90],[45,92,45,101],[49,99,49,102],[48,91,48,94],[42,93,42,95],[46,99,46,102],[49,83,49,86],[53,80,53,82],[54,80,54,82],[53,87,53,90],[27,73,27,76],[37,97,37,100],[40,93,40,95],[36,97,36,100],[36,85,36,91],[35,53,35,56],[51,87,51,90],[39,97,39,100],[51,99,51,102],[26,40,26,46],[54,55,54,58],[54,51,54,54],[54,47,54,50],[45,77,45,82],[47,77,47,79],[47,80,47,82],[50,99,50,102],[56,87,56,90],[56,91,56,94],[55,68,55,75],[50,68,50,75],[49,91,49,94],[48,83,48,86],[50,95,50,98],[49,77,49,79],[39,49,39,51],[55,59,55,62],[52,99,52,102],[53,68,53,75],[55,77,55,79],[52,68,52,75],[53,99,53,102],[52,87,52,90],[56,95,56,98],[55,91,55,94],[55,87,55,90],[54,95,54,98],[32,8,32,10],[29,8,29,10],[29,11,29,13],[31,8,31,10],[31,11,31,13],[33,14,33,16],[44,0,45,1],[47,13,47,15],[41,16,41,18],[41,13,41,15],[27,29,27,30],[22,25,22,28],[46,0,46,1],[47,0,47,1],[30,14,30,16],[32,14,32,16],[30,11,30,13],[31,14,31,16],[23,21,23,23],[26,27,26,28],[47,7,47,9],[90,61,90,63],[80,62,80,66],[80,48,80,52],[81,57,81,61],[80,57,80,61],[76,53,76,56],[79,48,79,52],[73,77,73,83],[68,85,68,87],[91,39,91,42],[84,39,84,42],[84,62,84,66],[51,95,51,98],[53,95,53,98],[60,59,60,62],[54,91,54,94],[72,62,72,66],[55,43,55,45],[67,97,67,102],[84,53,84,56],[84,57,84,61],[82,48,82,52],[91,52,91,57],[83,48,83,52],[82,57,82,61],[58,61,58,63],[91,61,91,66],[89,61,89,63],[88,61,88,66],[55,83,55,86],[54,87,54,90],[54,59,54,66],[80,73,80,75],[75,53,75,56],[53,33,53,34],[55,51,55,53],[58,64,58,66],[68,53,68,56],[68,57,68,61],[57,64,57,66],[81,53,81,56],[82,62,82,66],[55,39,55,42],[73,35,73,37],[53,77,53,79],[54,77,54,79],[78,82,78,86],[81,62,81,66],[81,39,81,42],[71,53,71,56],[71,48,71,52],[56,80,56,82],[54,83,54,86],[53,83,53,86],[63,84,63,86],[55,63,55,65],[75,48,75,52],[76,39,76,42],[55,47,55,49],[71,39,71,42],[71,43,71,47],[79,53,79,56],[72,53,72,56],[59,43,59,56],[14,67,15,81],[14,82,15,95],[38,93,38,95],[70,88,70,90],[70,83,70,84],[70,91,70,93],[37,93,37,95],[29,73,29,76],[62,68,62,71],[29,95,29,98],[20,86,20,90],[21,91,21,94],[19,77,19,80],[27,95,27,98],[23,95,23,98],[20,81,20,84],[21,77,21,80],[24,91,24,94],[16,74,16,95],[47,68,47,75],[46,69,46,74],[36,93,36,95],[22,73,22,76],[28,91,28,94],[22,91,22,94],[20,77,20,80],[26,86,26,90],[26,68,26,72],[22,86,22,90],[36,79,36,82],[39,75,39,77],[24,77,24,80],[17,86,17,89],[19,81,19,84],[19,73,19,76],[65,88,65,91],[67,88,67,90],[80,100,80,102],[80,68,80,70],[80,78,80,80],[32,99,32,102],[35,93,35,95],[63,94,63,96],[80,88,80,90],[79,97,79,98],[80,82,80,86],[32,95,32,98],[32,91,32,94],[32,81,32,84],[80,96,80,98],[31,91,31,94],[30,91,30,94],[31,99,31,102],[31,95,31,98],[30,99,30,102],[30,95,30,98],[78,99,78,102],[62,87,62,89],[76,69,76,72],[37,85,37,91],[40,97,40,100],[41,85,41,91],[65,93,65,96],[63,89,63,91],[17,100,17,101],[19,99,19,102],[28,99,28,102],[21,99,21,102],[26,95,26,98],[25,91,25,94],[24,95,24,98],[26,91,26,94],[23,91,23,94],[17,91,17,94],[20,91,20,94],[19,91,19,94],[25,95,25,98],[29,91,29,94],[23,99,23,102],[22,99,22,102],[22,95,22,98],[27,91,27,94],[24,99,24,102],[25,99,25,102],[26,99,26,102],[27,99,27,102],[20,99,20,102],[19,95,19,98],[20,95,20,98],[21,95,21,98],[29,99,29,102],[28,95,28,98],[60,43,60,47],[69,13,69,15],[81,43,81,47],[17,82,17,83],[50,63,50,66],[61,63,61,66],[72,25,72,28],[53,29,53,31],[71,67,72,81],[60,48,60,52],[60,53,60,56],[61,43,61,47],[61,48,61,52],[61,53,61,56],[58,52,58,54],[57,58,57,60],[57,51,57,54],[57,55,57,57],[67,48,67,52],[70,48,70,52],[67,79,67,81],[59,22,59,24],[75,32,75,33],[61,59,61,62],[64,22,64,24],[69,19,69,21],[69,16,69,18],[80,43,80,47],[66,29,66,31],[71,32,71,33],[70,25,70,28],[74,32,74,33],[81,32,81,34],[81,29,81,31],[70,19,70,21],[70,16,70,18],[64,16,64,18],[64,19,64,21],[63,16,63,18],[69,25,69,28],[71,22,71,24],[67,16,67,18],[70,29,70,30],[70,22,70,24],[70,35,70,37],[70,39,70,42],[76,25,76,28],[69,32,69,33],[68,32,68,33],[72,29,72,30],[68,35,68,37],[76,29,76,30],[69,35,69,37],[71,35,71,37],[72,22,72,24],[71,19,71,21],[72,35,72,37],[84,43,84,47],[83,36,83,37],[83,32,83,33],[92,32,92,34],[92,46,92,48],[91,43,91,45],[91,46,91,48],[75,25,75,28],[75,29,75,30],[73,25,73,28],[79,43,79,47],[74,29,74,30],[80,25,81,28],[74,25,74,28],[73,32,73,33],[73,13,73,15],[74,0,75,24],[73,29,73,30],[74,35,74,37]],"merged_total":1109,"flags":["merged_cut"]}
[{"$f":"+データ一覧!G2","v":0}]
[{"$f":"+データ一覧!G5","v":0}]
[null,null,null,null,null,null,null,null,null,null,null,null,null,null,null,null,null,null,null,null,null,null,null,null,null,null,null,null,null,null,null,null,null,null,null,null,null,null,null,0]
[null,null,null,null,null,null,null,null,null,null,null,null,null,null,null,null,null,null,null,null,null,null,null,null,null,null,null,"【市章とそのいわれ】福井城内にあった「福ノ井」の井げたに、 ",null,null,null,null,null,null,null,null,null,null,null,"  【位置および地勢】福井市は、福井県の北部に位置し、面積は536.37平方㎞、東西に",null,null,null,null,null,null,null,null,null,null,null,null,null,null,null,null,null,null,null,null,null,null,null,null,null,null,null,null,null,null,"所在地",null,null,null,null,null,null,null,"〒910-8511"]
[null,null,null,null,null,null,null,null,null,null,null,null,null,null,null,null,null,null,null,null,null,null,null,null,null,null,null,"                  福井の旧称「北ノ庄」の北を組み合せ、古きを",null,null,null,null,null,null,null,null,null,null,null,"　                  ","広がりのある形で、西方は日本海に臨み、奇岩で有名な越前海岸は風光明媚な",null,null,null,null,null,null,null,null,null,null,null,null,null,null,null,null,null,null,null,null,null,null,null,null,null,null,null,null,null,null,null,null,null,null,null,null,null,"福井市大手３丁目１０番１号"]
[{"$f":"+データ一覧!G3","v":"ふくいし"},null,null,null,null,null,null,null,null,null,null,null,null,null,null,null,null,null,null,null,null,null,null,null,null,null,null,"                  生かし新しい時代への発展と繁栄を図案化した ",null,null,null,null,null,null,null,null,null,null,null,"  ","観光地となっている。市の西部と南東部は山岳地であるが、他のほとんどは平坦地で"]
[{"$f":"データ一覧!G6","v":"福井市"},null,null,null,null,null,null,null,null,null,null,null,null,null,null,null,null,null,null,null,null,null,null,null,null,null,null,"                  もの。                                                                           ",null,null,null,null,null,null,null,null,null,null,null,"  ","穀倉地帯となっている。市南東部の豊かな森林地帯に源を発する足羽川が市の中央部を",null,null,null,null,null,null,null,null,null,null,null,null,null,null,null,null,null,null,null,null,null,null,null,null,null,null,null,null,null,"電話番号",null,null,null,null,null,null,null,"（０７７６）２０－５１１１"]
[null,null,null,null,null,null,null,null,null,null,null,null,null,null,null,null,null,null,null,null,null,null,null,null,null,null,null,0,null,null,null,null,null,null,null,null,null,null,null,"  ","流れて、南越から市街地西側に流れ込む日野川と合流し、さらに市の北部を流れる本県"]
[null,null,null,null,null,null,null,null,null,null,null,null,null,null,null,null,null,null,null,null,null,null,null,null,null,null,null,0,null,null,null,null,null,null,null,null,null,null,null,null,"最大河川の九頭竜川へと注いでいる。北陸新幹線が市街地の東側を走り、その東を"]
[null,null,null,null,null,null,null,null,null,null,null,null,null,null,null,null,null,null,null,null,null,null,null,null,null,null,null,0,null,null,null,null,null,null,null,null,null,null,null,null,"これに平行して国道８号と北陸自動車道が南北に貫いている。",null,null,null,null,null,null,null,null,null,null,null,null,null,null,null,null,null,null,null,null,null,null,null,null,null,null,null,null,null,"最寄駅および距離",null,null,null,null,null,null,null,"ハピラインふくい福井駅  下車５００ｍ"]
[null,null,null,null,null,null,null,null,null,null,null,null,null,null,null,null,null,null,null,null,null,null,null,null,null,null,null,0,null,null,null,null,null,null,null,null,null,null,null,0]
[]
[null,null,null,null,null,null,null,null,null,null,null,null,null,null,null,null,null,null,null,null,null,null,null,null,null,null,null,"【市が掲げる標語】みんなが輝く　全国に誇れる　ふくい",null,null,null,null,null,null,null,null,null,null,null,null,null,null,null,null,null,null,null,null,null,null,null,null,null,null,null,null,null,null,null,null,null,null,null,null,null,null,null,null,null,null,"ホームページ",null,null,null,null,null,null,null,"https://www.city.fukui.lg.jp/"]
[]
["  １  土            　　地",null,null,null,null,null,null,null,null,null,null,null,null,null,null,null,null,null,null,null,null,null,null,null,null,{"$f":"データ一覧!$A$240","v":"5年"},"産米収穫量",null,null,"　 収　穫　量",null,null," 　作 付 面 積",null,null,"   10a当たり収量",null,null,null,null,null,null,null,null,null,null,null,null,null,null,null,null,null,null,null,null,null,null,null,null,null,null,null,null,null,null,null," １５  労　　　　　　　働",null,null,null,null,null,null,null,null,null,null,null,null,null,null,"2.10.1"]
[null,null,null,null,null,null,null,null,null,null,null,null,null,null,null,null,null,null,null,null,null,null,null,null,null,null,null,null,null,{"$f":"データ一覧!$G$240","v":25400},null,"t",{"$f":"データ一覧!$G$241","v":4970},null,"ha",{"$f":"データ一覧!G242","v":511},null,null,"kg"," １０  工　　　　　　業 ",null,null,null,null,null,null,null,null,null,null,null,null,null,{"$f":"データ一覧!$A$332","v":"4.6.1（令和3年実績）"}]
["   総          面           積",null,null,null,null,null,null,null,null,null," 固 定 資 産 概 要 調 書 に よ る 地 目 別 面 積",null,null,null,null,null,null,null,null,null,null,null,null,null,null,null,null,null,"   総　　　数",null,null,null,"うち　　田",null,null,null,"うち　　畑",null,null,null,null,null,null,null,null,null,null,null,null,null,null,null,null,null,null,null,null,null,null,null,null,null,null,null,null,null,null,null,null,null,null,null,null,null,"産業別就業者数   "]
[null,null,{"$f":"データ一覧!$A$7","v":"6.10.1"},null,null,null,null,null,null,null,null,null,null,null,null,null,{"$f":"データ一覧!$A$9","v":"6.1.1"},null,null,null,null,null,null,null,null," 耕  地  面  積",null,null,null,"       ha",null,null,"ha ",null,null,null,"ha ",null,null,"      ","産業分類",null,null,null,null,null,null,null,"事業所数",null,null,null,null,"従業者数",null,null,null,null,null,"年間製造品出荷額等",null,null,null,null,null,null,null,null,"区  分",null,null,null,null,"総    数",null,null,null,null,"男",null,null,null,"女",null,null,"  ","区  分",null,null,null,null,"総    数",null,null,null,null,"男",null,null,null,"女"]
[null,null,null,null,null,null,"㎢",null,null,null,"   総       数",null,null,null,null,"  う ち     田",null,null,null,null,"  う ち     畑",null,null,null,null,{"$f":"データ一覧!A243","v":"5.7.15"},null,null,{"$f":"データ一覧!$G$243","v":7730},null,null,{"$f":"データ一覧!$G$244","v":7330},null,null,null,{"$f":"データ一覧!$G$245","v":404},null,null,null,null,null,null,null,null,null,null,null,null,"　　   ",null,null,"事業所",null,"　　　　　　　 人",null,null,"人",null,"　　　　　　　　　　　　　　万円",null,null,null,null,null,null,"万円",null,null,null,null,null,null,null,"      人",null,null,null,null,null," 人",null,null,null," 人",null,null,null,null,null,null,null,"      人",null,null,null,"      人",null,null,null,"      人"]
[null,null,null,{"$f":"データ一覧!G7","v":536.37},null,null,null,null,null,null,null,null,null,null,"ha",null,null,null,null,"ha",null,null,null,null,"ha","農 業 生 産 物",null,null,null,"作 付 面 積",null,null,"収 穫 量",null,null,"10a当たり収量",null,null,null,"     ","総数",null,null,null,null,null,null,null,null,{"$f":"データ一覧!G332","v":596},null,null,null,{"$f":"+データ一覧!G357","v":17634},null,null,null,null,null,null,{"$f":"データ一覧!G382","v":47878373},null,null,null,null,null,null," 総　　　数",null,null,null,null,null,{"$f":"BZ20+CD20","v":134244},null,null,null,{"$f":"データ一覧!G507","v":71774},null,null,null,{"$f":"データ一覧!G532","v":62470}]
[null,null,null,null,null,null,null,null,null,null,null,{"$f":"データ一覧!G9","v":34945.800000000003},null,null,null,null,{"$f":"データ一覧!G10","v":7785.9},null,null,null,null,{"$f":"データ一覧!G11","v":826.6},null,null,null,{"$f":"データ一覧!$A$246","v":"5年産"},null,null,null,"ha",null,null,"t",null,null,"kg",null,null,null,"     食料品","食料品",null,null,null,null,null,null,null,null,{"$f":"データ一覧!G333","v":60},null,null,null,{"$f":"+データ一覧!G358","v":1729},null,null,null,null,null,null,{"$f":"データ一覧!G383","v":2683244},null,null,null,null,null,null,null,null,null,null,null,null,null,null,null,null,null,null,null,null,null,null,null,null,null,"卸売業,小売業",null,null,null,null,{"$f":"CR21+CV21","v":22424},null,null,null,{"$f":"データ一覧!G520","v":11054},null,null,null,{"$f":"データ一覧!G545","v":11370}]
["  町 ･ 丁 ･ 大 字",null,null,null,null,null,null,null,null,null,"  う ち  宅 地",null,null,null,null,"  う ち  山 林",null,null,null,null,"  う ち  原 野",null,null,null,null,"水　　　　　稲",null,null,null,{"$f":"データ一覧!G246","v":4970},null,null,{"$f":"データ一覧!G247","v":25400},null,null,{"$f":"データ一覧!G248","v":511},null,null,null,"     飲料・飼料","飲料・飼料",null,null,null,null,null,null,null,null,{"$f":"データ一覧!G334","v":11},null,null,null,{"$f":"+データ一覧!G359","v":71},null,null,null,null,null,null,{"$f":"データ一覧!G384","v":42622},null,null,null,null,null,null," 第１次産業",null,null,null,null,null,{"$f":"BZ22+CD22","v":2504},null,null,null,{"$f":"データ一覧!G508","v":1753},null,null,null,{"$f":"データ一覧!G533","v":751},null,null,null,null,"金融業,保険業",null,null,null,null,{"$f":"CR22+CV22","v":3986},null,null,null,{"$f":"データ一覧!G521","v":1655},null,null,null,{"$f":"データ一覧!G546","v":2331}]
["  区    画    数",null,null,null,null,null,null,{"$f":"データ一覧!G8","v":736},null,null,null,null,null,null,"ha",null,null,null,null,"ha",null,null,null,null,"ha","六　条　大　麦",null,null,null,{"$f":"データ一覧!G249","v":1020},null,null,{"$f":"データ一覧!G250","v":3090},null,null,{"$f":"データ一覧!G251","v":303},null,null,null,"     繊維","繊維",null,null,null,null,null,null,null,null,{"$f":"データ一覧!G335","v":143},null,null,null,{"$f":"+データ一覧!G360","v":4610},null,null,null,null,null,null,{"$f":"データ一覧!G385","v":8433420},null,null,null,null,null,null,"  ","農業",null,null,null,null,{"$f":"BZ23+CD23","v":2269},null,null,null,{"$f":"データ一覧!G509","v":1559},null,null,null,{"$f":"データ一覧!G534","v":710},null,null,null,"  ","不動産業",null,null,null,null,2120,null,null,null,{"$f":"データ一覧!G522","v":1176},null,null,null,{"$f":"データ一覧!G547","v":944}]
[{"$f":"データ一覧!$A$8","v":"5.4.1"},null,null,null,null,null,null,null,null,null,null,{"$f":"データ一覧!G12","v":4937.1000000000004},null,null,null,null,{"$f":"データ一覧!G13","v":17453.5},null,null,null,null,{"$f":"データ一覧!G14","v":102.3},null,null,null,"大　　      豆",null,null,null,{"$f":"データ一覧!G252","v":466},null,null,{"$f":"データ一覧!G253","v":555},null,null,{"$f":"データ一覧!G254","v":119},null,null,null,"     衣服","木材",null,null,null,null,null,null,null,null,{"$f":"データ一覧!G336","v":19},null,null,null,{"$f":"+データ一覧!G361","v":401},null,null,null,null,null,null,{"$f":"データ一覧!G386","v":4869803},null,null,null,null,null,null,"  ","林業",null,null,null,null,165,null,null,null,{"$f":"データ一覧!G510","v":131},null,null,null,{"$f":"データ一覧!G535","v":34},null,null,null,"  ","学術研究",null,null,null,null,4182,null,null,null,{"$f":"データ一覧!G523","v":2486},null,null,null,{"$f":"データ一覧!G548","v":1696}]
["  ２  世　帯　数　と　人　口",null,null,null,null,null,null,null,null,null,null,null,null,null,null,null,null,null,null,null,null,null,null,null,null,null,null,"  区　分",null," 乳 用 牛",null," 肉 用 牛",null,"豚",null,"採卵鶏",null,"ブロイラー",null,"     木材","家具",null,null,null,null,null,null,null,null,{"$f":"データ一覧!G337","v":13},null,null,null,{"$f":"+データ一覧!G362","v":287},null,null,null,null,null,null,{"$f":"データ一覧!G387","v":439312},null,null,null,null,null,null,"  ","漁業",null,null,null,null,70,null,null,null,{"$f":"データ一覧!G511","v":63},null,null,null,{"$f":"データ一覧!G536","v":7},null,null,null,"  ","宿泊業,飲食ｻｰﾋﾞｽ",null,null,null,null,7058,null,null,null,{"$f":"データ一覧!G524","v":2749},null,null,null,{"$f":"データ一覧!G549","v":4309}]
[null,null,null,null,null,null,null,null,null,null,null,null,null,null,null,null,null,null,null,null,null,null,null,null,null,"畜　産",null,"飼養農家",null,{"$f":"データ一覧!$G$255","v":3},null,{"$f":"データ一覧!$G$257","v":5},null,{"$f":"データ一覧!$G$259","v":0},null,{"$f":"データ一覧!$G$261","v":6},null,{"$f":"データ一覧!$G$263","v":"x"},null,"     家具","パルプ・紙",null,null,null,null,null,null,null,null,{"$f":"データ一覧!G338","v":20},null,null,null,{"$f":"+データ一覧!G363","v":307},null,null,null,null,null,null,{"$f":"データ一覧!G388","v":649110},null,null,null,null,null,null," 第２次産業",null,null,null,null,null,33779,null,null,null,{"$f":"データ一覧!G512","v":23835},null,null,null,{"$f":"データ一覧!G537","v":9944},null,null,null,"  ","生活関連ｻｰﾋﾞｽ業",null,null,null,null,4687,null,null,null,{"$f":"データ一覧!G525","v":1850},null,null,null,{"$f":"データ一覧!G550","v":2837}]
[null,null,null,null,null,null,null,null,"        人　　　　　　　　　　口",null,null,null,null,null,null,null,null,null,null,null,"１世帯当",null,"人    口",null,null,{"$f":"データ一覧!$A$255","v":"6.3.31"},null,"（戸）",null,null,null,null,null,null,null,null,null,null,null,"     パルプ・紙","印刷",null,null,null,null,null,null,null,null,{"$f":"データ一覧!G339","v":45},null,null,null,{"$f":"+データ一覧!G364","v":913},null,null,null,null,null,null,{"$f":"データ一覧!G389","v":1221005},null,null,null,null,null,null,null,"鉱業，採石業",null,null,null,null,18,null,null,null,{"$f":"データ一覧!G513","v":13},null,null,null,{"$f":"データ一覧!G538","v":5},null,null,null,"  ","教育,学習支援業",null,null,null,null,7790,null,null,null,{"$f":"データ一覧!G526","v":2995},null,null,null,{"$f":"データ一覧!G551","v":4795}]
[" 区　　　　分",null,null,null,null,"世帯数",null,null," 総   数",null,null,"    男",null,null,"    女",null,null,"  男／女",null,null,"たり人員",null,"密    度",null,null,null,null,"頭 羽",null,{"$f":"データ一覧!$G$256","v":146},null,{"$f":"データ一覧!$G$258","v":261},null,{"$f":"データ一覧!$G$260","v":0},null,{"$f":"データ一覧!$G$262","v":6451},null,{"$f":"データ一覧!$G$264","v":27000},null,"     出版・印刷","化学",null,null,null,null,null,null,null,null,{"$f":"データ一覧!G340","v":21},null,null,null,{"$f":"+データ一覧!G365","v":1567},null,null,null,null,null,null,{"$f":"データ一覧!G390","v":9296058},null,null,null,null,null,null,"  ","建設業",null,null,null,null,11456,null,null,null,{"$f":"データ一覧!G514","v":9394},null,null,null,{"$f":"データ一覧!G539","v":2062},null,null,null,null,"医療，福祉",null,null,null,null,18536,null,null,null,{"$f":"データ一覧!G527","v":4479},null,null,null,{"$f":"データ一覧!G552","v":14057}]
[null,null,null,null,null,"    世 帯",null,null,"       人",null,null,"       人",null,null,"       人",null,null,null,"　　％",null,"    人",null,"    人/㎢",null,null,null,null,null,null,null,null,null,null,null,null,null,null,null,null,"     化学","石油・石炭",null,null,null,null,null,null,null,null,{"$f":"データ一覧!G341","v":4},null,null,null,{"$f":"+データ一覧!G366","v":42},null,null,null,null,null,null,{"$f":"データ一覧!G391","v":290420},null,null,null,null,null,null,null,"製造業",null,null,null,null,22305,null,null,null,{"$f":"データ一覧!G515","v":14428},null,null,null,{"$f":"データ一覧!G540","v":7877},null,null,null,null,"複合サービス事業",null,null,null,null,1330,null,null,null,{"$f":"データ一覧!G528","v":763},null,null,null,{"$f":"データ一覧!G553","v":567}]
[{"$f":"データ一覧!$A$22","v":" 2.10.1"},null,null,null,null,{"$f":"データ一覧!G22","v":81287},null,null,{"$f":"+L30+O30","v":270911},null,null,{"$f":"データ一覧!G24","v":131608},null,null,{"$f":"データ一覧!G25","v":139303},null,null,null,{"$f":"+L30/O30*100","v":94.476070149243014},null,{"$f":"データ一覧!G27","v":3.33},null,{"$f":"データ一覧!G21","v":0},null,null,"  ５  林               業",null,null,null,null,null,null,null,null,null,null,null,null,null,"     石油・石炭","プラスチック",null,null,null,null,null,null,null,null,{"$f":"データ一覧!G342","v":42},null,null,null,{"$f":"+データ一覧!G367","v":1467},null,null,null,null,null,null,{"$f":"データ一覧!G392","v":4083165},null,null,null,null,null,null," 第３次産業",null,null,null,null,null,93861,null,null,null,{"$f":"データ一覧!G516","v":44070},null,null,null,{"$f":"データ一覧!G541","v":49791},null,null,null,null,"サービス業",null,null,null,null,7476,null,null,null,{"$f":"データ一覧!G529","v":4492},null,null,null,{"$f":"データ一覧!G554","v":2984}]
[{"$f":"データ一覧!$A$29","v":" 7.10.1"},null,null,null,null,{"$f":"データ一覧!G29","v":87719},null,null,{"$f":"+L31+O31","v":272970},null,null,{"$f":"データ一覧!G31","v":133444},null,null,{"$f":"データ一覧!G32","v":139526},null,null,null,95.640955807519745,null,{"$f":"データ一覧!G34","v":3.11},null,{"$f":"データ一覧!G28","v":0},null,null,null,null,null,null,null,null,null,null,null,null,null,null,null,null,"     プラスチック","ゴム",null,null,null,null,null,null,null,null,{"$f":"データ一覧!G343","v":3},null,null,null,{"$f":"+データ一覧!G368","v":59},null,null,null,null,null,null,{"$f":"データ一覧!G393","v":93503},null,null,null,null,null,null,null,"電気･ｶﾞｽ･水道業",null,null,null,null,609,null,null,null,{"$f":"データ一覧!G517","v":494},null,null,null,{"$f":"データ一覧!G542","v":115},null,null,null,null,"公務",null,null,null,null,5118,null,null,null,{"$f":"データ一覧!G530","v":3495},null,null,null,{"$f":"データ一覧!G555","v":1623}]
[{"$f":"データ一覧!$A$36","v":"12.10.1"},null,null,null,null,{"$f":"データ一覧!G36","v":89946},null,null,{"$f":"+L32+O32","v":269557},null,null,{"$f":"データ一覧!G38","v":131344},null,null,{"$f":"データ一覧!G39","v":138213},null,null,null,95.030134647247365,null,{"$f":"データ一覧!G41","v":3},null,{"$f":"データ一覧!G35","v":0},null,null,"    　森　　　林　　　総　　　面　　　積   ",null,null,null,null,null,null,null,{"$f":"データ一覧!$A$265","v":"5.3.31"},null,null,null,null,null,"     ゴム","皮革",null,null,null,null,null,null,null,null,{"$f":"データ一覧!G344","v":1},null,null,null,{"$f":"+データ一覧!G369","v":26},null,null,null,null,null,null,{"$f":"データ一覧!G394","v":"x"},null,null,null,null,null,null,null,"情報通信業",null,null,null,null,2921,null,null,null,{"$f":"データ一覧!G518","v":1944},null,null,null,{"$f":"データ一覧!G543","v":977},null,null,null," 分類不能の産業",null,null,null,null,null,4100,null,null,null,{"$f":"データ一覧!G531","v":2116},null,null,null,{"$f":"データ一覧!G556","v":1984}]
[{"$f":"+データ一覧!$A$43","v":"17.10.1"},null,null,null,null,{"$f":"データ一覧!G43","v":93694},null,null,{"$f":"+L33+O33","v":269144},null,null,{"$f":"データ一覧!G45","v":130834},null,null,{"$f":"データ一覧!G46","v":138310},null,null,null,94.594750921842234,null,{"$f":"データ一覧!G48","v":2.87},null,{"$f":"データ一覧!G49","v":502},null,null,"　　　森　　　　　　　林　　　　　　　の　　　　　　　構　　　　　　　成",null,null,null,null,null,null,null,null,null,null,null,null,null,"     皮革","窯業・土石",null,null,null,null,null,null,null,null,{"$f":"データ一覧!G345","v":18},null,null,null,{"$f":"+データ一覧!G370","v":246},null,null,null,null,null,null,{"$f":"データ一覧!G395","v":695249},null,null,null,null,null,null,"  ","運輸業,郵便業",null,null,null,null,{"$f":"BZ33+CD33","v":5624},null,null,null,{"$f":"データ一覧!G519","v":4438},null,null,null,{"$f":"データ一覧!G544","v":1186}]
[{"$f":"+データ一覧!$A$50","v":"22.10.1"},null,null,null,null,{"$f":"+データ一覧!G50","v":97446},null,null,{"$f":"+L34+O34","v":266796},null,null,{"$f":"+データ一覧!G52","v":128692},null,null,{"$f":"+データ一覧!G53","v":138104},null,null,null,93.184846202861621,null,{"$f":"+データ一覧!G55","v":2.74},null,{"$f":"+データ一覧!G56","v":497.6},null,null,null,null,null,null,null,"       ha",null,null,null,null,null,null,"       ha",null,"     窯業・土石","鉄鋼",null,null,null,null,null,null,null,null,{"$f":"データ一覧!G346","v":9},null,null,null,{"$f":"+データ一覧!G371","v":97},null,null,null,null,null,null,{"$f":"データ一覧!G396","v":432812},null,null,null,null,null,null," １６  社　 会 　福　 祉",null,null,null,null,null,null,null,null,null,null,null,null,null,null,null,{"$f":"データ一覧!$A$557","v":"6.4.1"}]
[{"$f":"データ一覧!$A$57","v":"27.10.1"},null,null,null,null,{"$f":"データ一覧!G57","v":99872},null,null,{"$f":"データ一覧!G58","v":265904},null,null,{"$f":"データ一覧!G59","v":128892},null,null,{"$f":"データ一覧!G60","v":137012},null,null,null,94.073511809184595,null,{"$f":"データ一覧!G62","v":2.6624479333546942},null,{"$f":"データ一覧!G63","v":495.7},null,null,"  総　　　　　   数",null,null,null,{"$f":"データ一覧!G265","v":31955.220000000005},null,null," 天然林       針葉樹",null,null,null,{"$f":"データ一覧!G268","v":750.5},null,null,"     鉄鋼","非鉄金属",null,null,null,null,null,null,null,null,{"$f":"データ一覧!G347","v":6},null,null,null,{"$f":"+データ一覧!G372","v":238},null,null,null,null,null,null,{"$f":"データ一覧!G397","v":1572038}]
["令　2.10.1（国調）",null,null,null,null,{"$f":"データ一覧!G64","v":104470},null,null,{"$f":"データ一覧!G65","v":262328},null,null,{"$f":"データ一覧!G66","v":127867},null,null,{"$f":"データ一覧!G67","v":134461},null,null,null,{"$f":"+L36/O36*100","v":95.095975784800061},null,{"$f":"データ一覧!G69","v":2.5110366612424619},null,{"$f":"データ一覧!G70","v":489.08029904729943},null,null,"  人工林     針葉樹",null,null,null,{"$f":"データ一覧!G266","v":19369.740000000002},null,null," 天然林       広葉樹",null,null,null,{"$f":"データ一覧!G269","v":10923.51},null,null,"     非鉄金属","金属",null,null,null,null,null,null,null,null,{"$f":"データ一覧!G348","v":53},null,null,null,{"$f":"+データ一覧!G373","v":1270},null,null,null,null,null,null,{"$f":"データ一覧!G398","v":3198379},null,null,null,null,null,null,"    ","区分",null,null,null,null,null,null,"施設数",null,null,null,null,"収容定員",null,null,null,null,null,"区分",null,null,null,null,null,null,"施設数",null,null,null,null,"収容定員"]
["年",null,"  区",null," 0歳",null,null,"15歳",null,null,"25歳",null,null,"35歳",null,null,"45歳",null,null,"55歳",null,null,"65歳",null,null,"  人工林     広葉樹",null,null,null,{"$f":"データ一覧!G267","v":72.27},null,null," 竹               林",null,null,null,{"$f":"データ一覧!G270","v":302.22000000000003},null,null,"     金属","はん用機械",null,null,null,null,null,null,null,null,{"$f":"データ一覧!G349","v":14},null,null,null,{"$f":"+データ一覧!G374","v":175},null,null,null,null,null,null,{"$f":"データ一覧!G399","v":350272},null,null,null,null,null,null,"生活保護施設",null,null,null,null,null,null,null,{"$f":"データ一覧!G557","v":1},null,null,null,{"$f":"データ一覧!G570","v":"-"},null,null,null,"人",null,"指定障害者支援施設",null,null,null,null,null,null,null,{"$f":"データ一覧!G563","v":8},null,null,null,{"$f":"データ一覧!G576","v":465},null,null,null,"人"]
["齢","令",null,null,null,"～",null,null,"～",null,null,"～",null,null,"～",null,null,"～",null,null,"～",null,null,null,null,null,null,null,null,null,null,null,null,null,null,null,null,null,null,"     一般機械","生産用機械",null,null,null,null,null,null,null,null,{"$f":"データ一覧!G350","v":45},null,null,null,{"$f":"+データ一覧!G375","v":1574},null,null,null,null,null,null,{"$f":"データ一覧!G400","v":2689406},null,null,null,null,null,null,"地域福祉施設",null,null,null,null,null,null,null,{"$f":"データ一覧!G558","v":"-"},null,null,null,{"$f":"データ一覧!G571","v":"-"},null,null,null,null,null,"指定相談支援事業所",null,null,null,null,null,null,null,{"$f":"データ一覧!G564","v":4},null,null,null,{"$f":"データ一覧!G577","v":"-"}]
["階",{"$f":"+LEFT(データ一覧!$A$83,1)","v":"6"},"  分",null,null,null,"14歳",null,null,"24歳",null,null,"34歳",null,null,"44歳",null,null,"54歳",null,null,"64歳",null,null,"以上","    林     野     の     構     成",null,null,null,null,null,null,"保     有     形     態     別",null,null,null,null,null,null,"     電気機械","業務用機械",null,null,null,null,null,null,null,null,{"$f":"データ一覧!G351","v":4},null,null,null,{"$f":"+データ一覧!G376","v":189},null,null,null,null,null,null,{"$f":"データ一覧!G401","v":431149},null,null,null,null,null,null,"老人福祉施設",null,null,null,null,null,null,null,{"$f":"データ一覧!G559","v":62},null,null,null,{"$f":"データ一覧!G572","v":1926},null,null,null,null,null,"児童福祉施設",null,null,null,null,null,null,null,{"$f":"データ一覧!G565","v":238},null,null,null,{"$f":"データ一覧!G578","v":12153}]
["級","・",null,null,null,null,"人",null,null,"人",null,"    人",null,null,"    人",null,null,"    人",null,null,"    人",null,null,"    人",null,null,null,null,null,null,null,"ha",null,null,null,null,null,"       ha",null,null,"電子・デバイス",null,null,null,null,null,null,null,null,{"$f":"データ一覧!G352","v":10},null,null,null,{"$f":"+データ一覧!G377","v":952},null,null,null,null,null,null,{"$f":"データ一覧!G402","v":4068043},null,null,null,null,null,null,"介護保険施設",null,null,null,null,null,null,null,{"$f":"データ一覧!G560","v":455},null,null,null,{"$f":"データ一覧!G573","v":8383},null,null,null,null,null,"母子福祉施設",null,null,null,null,null,null,null,{"$f":"データ一覧!G566","v":1},null,null,null,{"$f":"データ一覧!G579","v":"-"}]
["別",{"$f":"+MID(データ一覧!$A$83,3,2)","v":"10"},"総 数",null,{"$f":"+E42+E43","v":29957},null,null,{"$f":"+H42+H43","v":24211},null,null,{"$f":"+K42+K43","v":22574},null,null,{"$f":"+N42+N43","v":28517},null,null,{"$f":"+Q42+Q43","v":36465},null,null,{"$f":"+T42+T43","v":32210},null,null,{"$f":"+W42+W43","v":76023},null,null," 無立木地   伐採跡地",null,null,null,{"$f":"データ一覧!G271","v":21.31},null,null,"国   　　　 　 有",null,null,null,{"$f":"データ一覧!G273","v":108.99},null,null,null,"電気機械",null,null,null,null,null,null,null,null,{"$f":"データ一覧!G353","v":12},null,null,null,{"$f":"+データ一覧!G378","v":239},null,null,null,null,null,null,{"$f":"データ一覧!G403","v":402320},null,null,null,null,null,null,"障害者自立支援法施行前からの身体障害者福祉施設",null,null,null,null,null,null,null,{"$f":"データ一覧!G561","v":2},null,null,null,{"$f":"データ一覧!G574","v":"-"},null,null,null,null,null,"婦人保護施設",null,null,null,null,null,null,null,{"$f":"データ一覧!G567","v":1},null,null,null,{"$f":"データ一覧!G580","v":15}]
["人","・","  男",null,{"$f":"データ一覧!G83","v":15523},null,null,{"$f":"データ一覧!G84","v":12880},null,null,{"$f":"データ一覧!G85","v":11778},null,null,{"$f":"データ一覧!G86","v":14429},null,null,{"$f":"データ一覧!G87","v":18478},null,null,{"$f":"データ一覧!G88","v":15789},null,null,{"$f":"データ一覧!G89","v":32676},null,null," 無立木地   未立木地",null,null,null,{"$f":"データ一覧!G272","v":515.66999999999996},null,null,"公       　　  有",null,null,null,{"$f":"データ一覧!G274","v":1529.77},null,null,"     輸送機械","情報通信機械",null,null,null,null,null,null,null,null,{"$f":"データ一覧!G354","v":1},null,null,null,{"$f":"+データ一覧!G379","v":97},null,null,null,null,null,null,{"$f":"データ一覧!G404","v":"x"},null,null,null,null,null,null,null,null,null,null,null,null,null,null,null,null,null,null,null,null,null,null,null,null,"その他の社会福祉施設",null,null,null,null,null,null,null,{"$f":"データ一覧!G568+データ一覧!G569","v":9},null,null,null,{"$f":"SUM(データ一覧!G581,データ一覧!G582)","v":0}]
["口",{"$f":"+RIGHT(データ一覧!$A$83,1)","v":"1"},"  女",null,{"$f":"データ一覧!G91","v":14434},null,null,{"$f":"データ一覧!G92","v":11331},null,null,{"$f":"データ一覧!G93","v":10796},null,null,{"$f":"データ一覧!G94","v":14088},null,null,{"$f":"データ一覧!G95","v":17987},null,null,{"$f":"データ一覧!G96","v":16421},null,null,{"$f":"データ一覧!G97","v":43347},null,null,null,null,null,null,null,null,null,"私          　 有",null,null,null,{"$f":"データ一覧!G275","v":30316.46},null,null,"     精密機械","輸送機械",null,null,null,null,null,null,null,null,{"$f":"データ一覧!G355","v":4},null,null,null,{"$f":"+データ一覧!G380","v":245},null,null,null,null,null,null,{"$f":"データ一覧!G405","v":"x"},null,null,null,null,null,null,"障害福祉サービス事業所",null,null,null,null,null,null,null,{"$f":"データ一覧!G562","v":246},null,null,null,{"$f":"データ一覧!G575","v":3506}]
[null,null,null,null,null,null,null,null,null,null,null,null,null,null,null,null,null,null,null,null,null,null,null,null,null,"            林     産     物     生     産     量 ",null,null,null,null,null,null,null,null,null,{"$f":"データ一覧!$A$276","v":"5年中"},null,null,null,"     その他","その他",null,null,null,null,null,null,null,null,{"$f":"データ一覧!G356","v":38},null,null,null,{"$f":"+データ一覧!G381","v":833},null,null,null,null,null,null,{"$f":"データ一覧!G406","v":996553},null,null,null,null,null,null," １７  教　　　　　　　育",null,null,null,null,null,null,null,null,null,null,null,null,null,null,null,{"$f":"データ一覧!$A$583","v":"6.5.1"}]
["人口動態",null,null,null,null,null,null,"   自　然　動　態",null,null,null,null,null,"   社  会  動  態",null,null,null,null,null,{"$f":"データ一覧!$A78","v":"5.1.1～5.12.31"},null,null,null,null,null,"生椎茸",null,null,null,{"$f":"データ一覧!G276","v":9506},null,"㎏","乾椎茸",null,null,null,{"$f":"データ一覧!G277","v":177},null,"㎏"]
[null,null,"   区       分",null,null,null,null," 出   生",null,null," 死   亡",null,null," 転   入",null,null," 転   出",null,null," 婚   姻",null,null," 離   婚",null,null,"えのきだけ",null,null,null,{"$f":"データ一覧!G279","v":38},null,"㎏","なめこ",null,null,null,{"$f":"データ一覧!G278","v":36},null,"㎏","    ","工　業　用　水　量",null,null,null,null,null,"（従業者30人以上の事業所）",null,null,null,null,null,null,null,null,null,null,{"$f":"データ一覧!G407","v":65949},null,null,null,null,"㎥／日",null,null,null,null,null,null,null,null,null,null,null,null,null,null,"学校数（校）",null,null,null,null,null,null,"教員数（人）",null,null,null,null,null,null,null,"学生・生徒・児童数（人）"]
[{"$f":"LEFT(データ一覧!$A74,6)","v":"5.10.1"},null,null,null,null,null,null,"       人",null,null,"       人",null,null,"       人",null,null,"       人",null,null,null,"    件",null,null,"    件",null,"ひらたけ",null,null,null,{"$f":"+データ一覧!G280","v":6621},null,"㎏","まいたけ",null,null,null,{"$f":"+データ一覧!G281","v":420},null,"㎏",null,null,null,null,null,null,null,null,null,null,null,null,null,null,null,null,null,null,null,null,null,null,null,null,null,null,null,null,null,"　","区分",null,null,null,null,null,null,null," 本 校",null,null," 分 校",null,null," 本   務",null,null,null," 兼   務",null,null,null," 総   数",null,null,null,"男",null,null,null,"女"]
["～",null," 実          数",null,null,null,null,{"$f":"データ一覧!G74","v":1674},null,null,{"$f":"データ一覧!G75","v":3382},null,null,{"$f":"データ一覧!G76","v":7752},null,null,{"$f":"データ一覧!G77","v":7974},null,null,{"$f":"データ一覧!G78","v":982},null,null,{"$f":"データ一覧!G79","v":349},null,null,null,null,null,null,null,null,null,null,null,null,null,null,null,null," １１ 　上　・　下　水　道",null,null,null,null,null,null,null,null,null,null,null,null,null,null,null,null,null,null,null,null,null,null,null,null,null,null,null,null,"小学校",null,null,null,null,null,null,null,null,{"$f":"データ一覧!G584","v":53},null,null,{"$f":"データ一覧!G585","v":0},null,null,{"$f":"データ一覧!G586","v":952},null,null,null,{"$f":"データ一覧!G587","v":145},null,null,null,{"$f":"データ一覧!G588","v":12451},null,null,null,{"$f":"データ一覧!G589","v":6404},null,null,null,{"$f":"データ一覧!G590","v":6047}]
[{"$f":"RIGHT(データ一覧!$A76,6)","v":"6.9.30"},null,"比率(対1,000人)",null,null,null,null,{"$f":"+H48/I36*1000","v":6.3813241438199508},null,null,{"$f":"+K48/I36*1000","v":12.89225702174377},null,null,"- ",null,null,"- ",null,null,{"$f":"+T48/I36*1000","v":3.7434052026470681},null,null,{"$f":"+W48/I36*1000","v":1.3303955353603123},null,null,"  ６  漁               業",null,null,null,null,null,null,null,null,null,null,null,null,null,null,null,null,null,null,null,null,null,null,null,null,null,null,null,null,null,null,null,null,null,null,null,null,null,null,null,null,null,"  ","中学校",null,null,null,null,null,null,null,null,{"$f":"データ一覧!G592","v":27},null,null,{"$f":"データ一覧!G593","v":1},null,null,{"$f":"データ一覧!G594","v":631},null,null,null,{"$f":"データ一覧!G595","v":188},null,null,null,{"$f":"データ一覧!G596","v":6945},null,null,null,{"$f":"データ一覧!G597","v":3637},null,null,null,{"$f":"データ一覧!G598","v":3308}]
[null,null,null,null,null,null,null,null,null,null,null,null,null,null,null,null,null,null,null,null,null,null,null,null,null,null,null,null,null,null,null,null,null,null,null,null,null,null,null,"水 道 供 給 人 口",null,null,null,null,null,null,"上 水 道",null,null,null,"簡易水道",null,null,null,"専用水道",null,null,null,"飲料水供給施設",null,null,null,"下水道処理人口",null,null,null,null,"  ","高等学校",null,null,null,null,null,null,null,null,{"$f":"データ一覧!G600","v":13},null,null,{"$f":"データ一覧!G601","v":0},null,null,{"$f":"データ一覧!G602","v":741},null,null,null,{"$f":"データ一覧!G603","v":374},null,null,null,{"$f":"データ一覧!G604","v":10456},null,null,null,{"$f":"データ一覧!G605","v":4970},null,null,null,{"$f":"データ一覧!G606","v":5486}]
["  ３  事　　業　　所（民　　営）",null,null,null,null,null,null,null,null,null,null,"3.6.1",null,null,null,null,null,null,null,null,null,null,null,null,null,"漁船隻数・トン数",null,null,null,{"$f":"データ一覧!$A$282","v":"5.12.31"},null,null,null,"動　力　船",null,null,null,null,null,{"$f":"データ一覧!$A$408","v":"6.3.31"},null,null,null,null,null,"人",null,{"$f":"データ一覧!G408","v":249334},null,null,{"$f":"データ一覧!G409","v":4146},null,null,null,null,{"$f":"データ一覧!G410","v":302},null,null,null,{"$f":"データ一覧!G411","v":409},null,null,null,{"$f":"データ一覧!G412","v":231063},null,null,null,"  ","大学・短期大学",null,null,null,null,null,null,null,null,{"$f":"データ一覧!G607","v":4},null,null,{"$f":"データ一覧!G608","v":0},null,null,{"$f":"データ一覧!G609","v":465},null,null,null,{"$f":"データ一覧!G610","v":373},null,null,null,{"$f":"データ一覧!G611","v":6721},null,null,null,{"$f":"データ一覧!G612","v":4784},null,null,null,{"$f":"データ一覧!G613","v":1937}]
[null,null,null,null,null,null,null,null,null,null,null,null,null,null,null,null,null,null,null,null,null,null,null,null,null,"無動力船隻数",null,null,null,"船外機付漁船隻数",null,null,null,"隻　数",null,null,"総 ト ン 数",null,null,null,null,null,null,null,null,null,null,null,null,null,null,null,null,null,null,null,null,null,null,null,null,null,null,null,null,null,null,"  ","高等専門学校",null,null,null,null,null,null,null,null,{"$f":"データ一覧!G614","v":0},null,null,{"$f":"データ一覧!G615","v":0},null,null,{"$f":"データ一覧!G616","v":0},null,null,null,{"$f":"データ一覧!G617","v":0},null,null,null,{"$f":"データ一覧!G618","v":0},null,null,null,{"$f":"データ一覧!G619","v":0},null,null,null,{"$f":"データ一覧!G620","v":0}]
[null,null,null,null,null,null,null,"    総　　　　　数",null,null,null,null,null,"    民　　　　　営",null,null,null,null,null,"  国 ･ 地方公共団体",null,null,null,null,null,null,null,null,"隻",null,null,null,"隻",null,null,"隻",null,null,"t"," １２  交   通　・　通   信",null,null,null,null,null,null,null,null,null,null,null,null,null,null,null,null,null,null,null,null,null,null,null,null,null,null,null,"  ","特別支援学校",null,null,null,null,null,null,null,null,{"$f":"+データ一覧!G622","v":7},null,null,{"$f":"+データ一覧!G623","v":0},null,null,{"$f":"+データ一覧!G624","v":343},null,null,null,{"$f":"+データ一覧!G625","v":43},null,null,null,{"$f":"+データ一覧!G626","v":374},null,null,null,{"$f":"+データ一覧!G627","v":225},null,null,null,{"$f":"+データ一覧!G628","v":149}]
["  　区　　　　　　分",null,null,null,null,null,null," 事業所数",null,null," 従業者数",null,null," 事業所数",null,null," 従業者数",null,null," 事業所数",null,null," 従業者数",null,null,{"$f":"データ一覧!$G$282","v":0},null,null,null,{"$f":"データ一覧!$G$283","v":124},null,null,null,{"$f":"データ一覧!G284","v":68},null,null,{"$f":"データ一覧!G285","v":499},null,null,null,null,null,null,null,null,null,null,null,null,null,null,null,null,null,null,null,null,null,null,null,null,null,null,null,null,null,null,"  ","幼稚園",null,null,null,null,null,null,null,null,{"$f":"データ一覧!G630","v":21},null,null,{"$f":"データ一覧!G631","v":0},null,null,{"$f":"データ一覧!G632","v":46},null,null,null,{"$f":"データ一覧!G633","v":17},null,null,null,{"$f":"データ一覧!G634","v":286},null,null,null,{"$f":"データ一覧!G635","v":128},null,null,null,{"$f":"データ一覧!G636","v":158}]
[null,null,null,null,null,null,null,null,null,null,"       人",null,null,null,null,null,"       人",null,null,null,null,null,"       人",null,null,"  男女別就業者数",null,null,null,null,null,null,null,{"$f":"データ一覧!$A$286","v":"5.11.1"},null,null,null,null,null,"道     路",null,null,null,"実 延 長",null,null,null,"国     道",null,null,null,"県     道",null,null,null,"市町道",null,null,null," 鉄 道 営 業 キ ロ 数",null,null,null,null,null,null,null,"  ","幼保連携認定こども園",null,null,null,null,null,null,null,null,{"$f":"データ一覧!G638","v":68},null,null,{"$f":"データ一覧!G639","v":1},null,null,{"$f":"データ一覧!G640","v":1342},null,null,null,{"$f":"データ一覧!G641","v":229},null,null,null,{"$f":"データ一覧!G642","v":7201},null,null,null,{"$f":"データ一覧!G643","v":3785},null,null,null,{"$f":"データ一覧!G644","v":3416}]
["総数",null,null,null,null,null,null,{"$f":"データ一覧!G99","v":"…"},null,null,{"$f":"データ一覧!G156","v":"…"},null,null,{"$f":"データ一覧!G100","v":15338},null,null,{"$f":"データ一覧!G157","v":149002},null,null,{"$f":"データ一覧!G101","v":"…"},null,null,{"$f":"データ一覧!G158","v":"…"},null,null,"総　　数",null,null,null,null,null,"男",null,null,null,"女",null,null,null,{"$f":"データ一覧!$A$413","v":"5.4.1"},null,null,null,{"$f":"データ一覧!G413","v":2525.3000000000002},null,null,"㎞",{"$f":"データ一覧!G414","v":108.8},null,null,"㎞",{"$f":"データ一覧!G415","v":303},null,null,"㎞",{"$f":"データ一覧!G416","v":2113.5},null,null,"km",{"$f":"データ一覧!$A$417","v":"6.4.1"},null,null,null,{"$f":"データ一覧!G417","v":24.7},null,null,"㎞","  ","各種学校",null,null,null,null,null,null,null,null,{"$f":"データ一覧!G646","v":4},null,null,{"$f":"データ一覧!G647","v":0},null,null,{"$f":"データ一覧!G648","v":112},null,null,null,{"$f":"データ一覧!G649","v":6},null,null,null,{"$f":"データ一覧!G650","v":1155},null,null,null,{"$f":"データ一覧!G651","v":782},null,null,null,{"$f":"データ一覧!G652","v":373}]
["農林漁業",null,null,null,null,null,null,{"$f":"データ一覧!G102","v":"…"},null,null,{"$f":"データ一覧!G159","v":"…"},null,null,{"$f":"データ一覧!G103","v":81},null,null,{"$f":"データ一覧!G160","v":1284},null,null,{"$f":"データ一覧!G104","v":"…"},null,null,{"$f":"データ一覧!G161","v":"…"},null,null,null,null,null,null,null,"人",null,null,"　　　　人",null,null,null,null,"  人","自動車",null,null,null,null,null,null,null,null,"乗用車",null,null,null,null,null,null,null,null,null,null,null,null,null,null,null,null,null,null,"  ","専修学校",null,null,null,null,null,null,null,null,{"$f":"データ一覧!G654","v":11},null,null,{"$f":"データ一覧!G655","v":0},null,null,{"$f":"データ一覧!G656","v":88},null,null,null,{"$f":"データ一覧!G657","v":228},null,null,null,{"$f":"データ一覧!G658","v":1055},null,null,null,{"$f":"データ一覧!G659","v":366},null,null,null,{"$f":"データ一覧!G660","v":689}]
["鉱業",null,null,null,null,null,null,{"$f":"データ一覧!G105","v":"…"},null,null,{"$f":"データ一覧!G162","v":"…"},null,null,{"$f":"データ一覧!G106","v":9},null,null,{"$f":"データ一覧!G163","v":56},null,null,{"$f":"データ一覧!G107","v":"…"},null,null,{"$f":"データ一覧!G164","v":"…"},null,null,{"$f":"データ一覧!G286","v":112},null,null,null,null,null,{"$f":"データ一覧!$G$287","v":0},null,null,null,{"$f":"データ一覧!G288","v":0},null,null,null,"台  数",null,null,null,"貨    物",null,null,null,"普     通",null,null,null,"小     型",null,null,null,"乗  合",null,null,"特  種",null,null,"小型二輪",null,null,"軽自動車",null,null," １８  衛　　　　　　　生"]
["建設業",null,null,null,null,null,null,{"$f":"データ一覧!G108","v":"…"},null,null,{"$f":"データ一覧!G165","v":"…"},null,null,{"$f":"データ一覧!G109","v":1493},null,null,{"$f":"データ一覧!G166","v":11252},null,null,{"$f":"データ一覧!G110","v":"…"},null,null,{"$f":"データ一覧!G167","v":"…"},null,null,"　　　　海 面 漁 業 漁 獲 量 （属人）",null,null,null,null,null,null,null,{"$f":"データ一覧!$A$289","v":"30年中"},null,null,null,null,null,{"$f":"データ一覧!$A$418","v":"6.3.31"},null,null,null,null,{"$f":"データ一覧!G418","v":17946},null,null,null,{"$f":"データ一覧!G420","v":57693},null,null,null,{"$f":"データ一覧!G421","v":52694},null,null,{"$f":"データ一覧!G419","v":484},null,null,{"$f":"データ一覧!G422","v":5378},null,null,{"$f":"データ一覧!G423","v":2861},null,null,{"$f":"データ一覧!G424","v":88067}]
["製造業",null,null,null,null,null,null,{"$f":"データ一覧!G111","v":"…"},null,null,{"$f":"データ一覧!G168","v":"…"},null,null,{"$f":"データ一覧!G112","v":1311},null,null,{"$f":"データ一覧!G169","v":20001},null,null,{"$f":"データ一覧!G113","v":"…"},null,null,{"$f":"データ一覧!G170","v":"…"},null,null,null,null,null,null,null,"       ","ｔ",null,null,null,null,null,null,"t",null,null,"     ",null,"郵　便　局　数",null,null,null,null,null,null,null,null,null,null,null,null,null,{"$f":"+MID(データ一覧!$A$428,3,2)","v":"3."},"令","一般加入",null,null,null,"ＩＮＳネット",null,null,null,null,null,null,null,"医療関係施設",null,null,null,null,null,{"$f":"データ一覧!$A$661","v":"5.10.1"},null,null,null,null,null,null,"および医療関係者数",null,null,null,null,null,null,null,{"$f":"データ一覧!$A$666","v":"4.12.31"}]
["電気・ｶﾞ ｽ・熱供給・水道業",null,null,null,null,null,null,{"$f":"データ一覧!G114","v":"…"},null,null,{"$f":"データ一覧!G171","v":"…"},null,null,{"$f":"データ一覧!G115","v":15},null,null,{"$f":"データ一覧!G172","v":725},null,null,{"$f":"データ一覧!G116","v":"…"},null,null,{"$f":"データ一覧!G173","v":"…"},null,null,"   総　　　　　　数",null,null,null,{"$f":"データ一覧!G289","v":1038},null,null,"   藻　　　　　　類",null,null,null,{"$f":"データ一覧!G292","v":4},null,null,"通  信",null,null,null," 総     数",null,null,null,null," 郵 便 局",null,null,null,null," 簡 易 局",null,null,null,"・",{"$f":"+LEFT(データ一覧!$A$428,1)","v":"6"},"電話数",null,null,null,"加入数",null,null,null,null,null,null,null,null,null,"　","病",null,null,"院",null,"　",null,null,null,null," ","一般診療所",null,null,null,null,null,null,null,null,null,null,null,"歯科診療所"]
["情報通信業",null,null,null,null,null,null,{"$f":"データ一覧!G117","v":"…"},null,null,{"$f":"データ一覧!G174","v":"…"},null,null,{"$f":"データ一覧!G118","v":192},null,null,{"$f":"データ一覧!G175","v":3307},null,null,{"$f":"データ一覧!G119","v":"…"},null,null,{"$f":"データ一覧!G176","v":"…"},null,null,"   魚　　　　　　類",null,null,null,{"$f":"データ一覧!G290","v":583},null,null,"   そ　   の　　 他",null,null,null,{"$f":"データ一覧!G293","v":445},null,null,{"$f":"データ一覧!$A$428","v":"6.3.31"},null,null,null,{"$f":"データ一覧!G425","v":70},null,null,null,null,{"$f":"データ一覧!G426","v":65},null,null,null,null,{"$f":"データ一覧!G427","v":5},null,null,null,{"$f":"+RIGHT(データ一覧!$A$428,2)","v":"31"},"・",{"$f":"データ一覧!G428","v":16843},null,null,null,{"$f":"データ一覧!G429","v":2974},null,null,null," ","医療関係",null,null,null,null,null,null,null,null,null,null,null,"一般病院",null,null,null,null,null,null,null,null,null,null,null,"有",null,null,"床"]
["運輸業、郵便業",null,null,null,null,null,null,{"$f":"データ一覧!G120","v":"…"},null,null,{"$f":"データ一覧!G177","v":"…"},null,null,{"$f":"データ一覧!G121","v":320},null,null,{"$f":"データ一覧!G178","v":7801},null,null,{"$f":"データ一覧!G122","v":"…"},null,null,{"$f":"データ一覧!G179","v":"…"},null,null,"   貝　　　　　　類",null,null,null,{"$f":"データ一覧!G291","v":6},null,null,null,null,null,null,null,null,null,null,null,null,null,null,null,null,null,null,null,null,null,null,null,null,null,null,null,null,null,null,null,null,null,null,null,null,null,null,"施設数",null,null,null,null,null,null,{"$f":"データ一覧!G661","v":27},null,null,null,null,null,{"$f":"データ一覧!G662","v":23},null,null,null,null,null,{"$f":"データ一覧!G663","v":253},null,null,null,null,null,{"$f":"データ一覧!G664","v":25},null,null,null,null,null,{"$f":"データ一覧!G665","v":132}]
["卸売業、小売業",null,null,null,null,null,null,{"$f":"データ一覧!G123","v":"…"},null,null,{"$f":"データ一覧!G180","v":"…"},null,null,{"$f":"データ一覧!G124","v":3893},null,null,{"$f":"データ一覧!G181","v":32160},null,null,{"$f":"データ一覧!G125","v":"…"},null,null,{"$f":"データ一覧!G182","v":"…"},null,null,null,null,null,null,null,null,null,null,null,null,null,null,null,null," １３  税　　・　　財　　政",null,null,null,null,null,null,null,null,null,null,null,null,null,null,null,null,null,null,null,null,null,null,null,null,null,null,null,null,null,null,null,null,null,null,"医師",null,null,null,null,"歯科医師",null,null,null,null,"薬剤師",null,null,null,null,"保健師",null,null,null,null,"助産師",null,null," ",null,"看護師",null,null," "]
["金融業、保険業",null,null,null,null,null,null,{"$f":"データ一覧!G126","v":"…"},null,null,{"$f":"データ一覧!G183","v":"…"},null,null,{"$f":"データ一覧!G127","v":379},null,null,{"$f":"データ一覧!G184","v":5509},null,null,{"$f":"データ一覧!G128","v":"…"},null,null,{"$f":"データ一覧!G185","v":"…"},null,null,"  ７  商        　　　業 ",null,null,null,null,null,null,{"$f":"データ一覧!$A$294","v":"3.6.1(令和2年実績）"},null,null,null,null,null,null,null,null,null,null,null,null,null,null,null,null,null,null,null,null,null,null,null,null,null,null,null,null,null,null,null,null,null,null," ","医療",null,null,null,null,null,null,null,null,"人",null,null,null,null,"人",null,null,null,null,"人",null,null,null,null,"人",null,null,null,null,"人",null,null,null,null,"人"]
["不動産業、物品賃貸業",null,null,null,null,null,null,{"$f":"データ一覧!G129","v":"…"},null,null,{"$f":"データ一覧!G186","v":"…"},null,null,{"$f":"データ一覧!G130","v":763},null,null,{"$f":"データ一覧!G187","v":3197},null,null,{"$f":"データ一覧!G131","v":"…"},null,null,{"$f":"データ一覧!G188","v":"…"},null,null,null,null,null,null,null,null,null,null,null,null,null,null,null,null,"           ",null,null,null,"歳入",null,null,null,null,null,null,null,null,"(千円）"," ",null,null,null,"歳出",null,null,null,null,null,null,null,null,"(千円）",null,"関係者",null,null,null,null,{"$f":"データ一覧!G666","v":1004},null,null,null,null,{"$f":"データ一覧!G667","v":193},null,null,null,null,{"$f":"データ一覧!G668","v":687},null,null,null,null,{"$f":"データ一覧!G669","v":179},null,null,null,null,{"$f":"データ一覧!G670","v":139},null,null,null,null,{"$f":"データ一覧!G671","v":5458}]
["学術研究、専門・技術ｻｰﾋﾞｽ業",null,null,null,null,null,null,{"$f":"データ一覧!G132","v":"…"},null,null,{"$f":"データ一覧!G189","v":"…"},null,null,{"$f":"データ一覧!G133","v":826},null,null,{"$f":"データ一覧!G190","v":4470},null,null,{"$f":"データ一覧!G134","v":"…"},null,null,{"$f":"データ一覧!G191","v":"…"},null,null,"  産   業　 分　 類",null,null,null," 事　業　所　数",null,null," 従　業　者　数",null,null,"年　間　販　売　額",null,null,null,"一人当たり歳入歳出予算決算額",null,null,null,null,null,null,null,null,null,null,null,null,null,null,null,null,null,null,null,null,null,null,null,null,null,null,null,"                   ",null,null,null,null,null,null,null,null,"死因別死亡数　　　　　　    ",null,null,null,null,null,null,null,null,null,null,null,null,null,null,null,{"$f":"データ一覧!$A$672","v":"5年中"},null,null,null,null,null,null,null,null,"      単 位：人"]
["宿泊業、飲食サービス業",null,null,null,null,null,null,{"$f":"データ一覧!G135","v":"…"},null,null,{"$f":"データ一覧!G192","v":"…"},null,null,{"$f":"データ一覧!G136","v":1813},null,null,{"$f":"データ一覧!G193","v":12276},null,null,{"$f":"データ一覧!G137","v":"…"},null,null,{"$f":"データ一覧!G194","v":"…"},null,null,null,null,null,null,null,null,null,null,null,"　人",null,"         百万円",null,null,"区分",null,null,null,{"$f":"データ一覧!$A$438","v":"6年度"},null,null,null,null,{"$f":"データ一覧!$A$452","v":"5年度"},null,null,null,null,"区分",null,null,null,{"$f":"+AR68","v":"6年度"},null,null,null,null,{"$f":"データ一覧!$A$452","v":"5年度"},null,null,null,null," 死     因",null,null,null,null,null,null,null,null,null,null,null,"悪  性",null,null,"高血圧",null,null,null,null,null,"脳血管",null,null,null,null,null," ",null,null,"不慮の事故"]
["生活関連サービス業、娯楽業",null,null,null,null,null,null,{"$f":"データ一覧!G138","v":"…"},null,null,{"$f":"データ一覧!G195","v":"…"},null,null,{"$f":"データ一覧!G139","v":1324},null,null,{"$f":"データ一覧!G196","v":5855},null,null,{"$f":"データ一覧!G140","v":"…"},null,null,{"$f":"データ一覧!G197","v":"…"},null,null,"総　　　　　　計",null,null,null,{"$f":"データ一覧!$G$294","v":3374},null,null,{"$f":"データ一覧!G303","v":27581},null,null,{"$f":"データ一覧!G312","v":1132111},null,null,null,null,null,null,null,{"$f":"データ一覧!G434","v":493200.30144126603},null,null,null,null,{"$f":"データ一覧!G435","v":528957.07930472994},null,null,null,null,null,null,null,null,{"$f":"データ一覧!G436","v":493200.30144126603},null,null,null,null,{"$f":"データ一覧!G437","v":517428.04998714483},null,null,null,null,null,null,null,null,null,"全 死 因",null,null,null,"結 核",null,null,"新生物",null,null,"性疾患",null,null,"心疾患",null,null,"疾  患",null,null,"肺  炎",null,null,"老  衰",null,null,null,null," ","交通事故"]
["教育、学習支援業",null,null,null,null,null,null,{"$f":"データ一覧!G141","v":"…"},null,null,{"$f":"データ一覧!G198","v":"…"},null,null,{"$f":"データ一覧!G142","v":455},null,null,{"$f":"データ一覧!G199","v":6185},null,null,{"$f":"データ一覧!G143","v":"…"},null,null,{"$f":"データ一覧!G200","v":"…"},null,null,"卸売業",null,null,null,{"$f":"データ一覧!G295","v":1047},null,null,{"$f":"データ一覧!G304","v":9834},null,null,{"$f":"データ一覧!G313","v":756572},null,null,null,"項目別歳入歳出予算決算額"]
["医療、福祉",null,null,null,null,null,null,{"$f":"データ一覧!G144","v":"…"},null,null,{"$f":"データ一覧!G201","v":"…"},null,null,{"$f":"データ一覧!G145","v":1079},null,null,{"$f":"データ一覧!G202","v":19988},null,null,{"$f":"データ一覧!G146","v":"…"},null,null,{"$f":"データ一覧!G203","v":"…"},null,null,"小売業",null,null,null,{"$f":"データ一覧!G296","v":2327},null,null,{"$f":"データ一覧!G305","v":17747},null,null,{"$f":"データ一覧!G314","v":375539},null,null,null,"区分",null,null,null,{"$f":"データ一覧!$A$438","v":"6年度"},null,null,null,null,{"$f":"データ一覧!$A$452","v":"5年度"},null,null,null,null,"区分",null,null,null,{"$f":"+AR71","v":"6年度"},null,null,null,null,{"$f":"データ一覧!$A$452","v":"5年度"},null,null,null,null,null,null,null,null,null,{"$f":"データ一覧!G672","v":3345},null,null,null,"   －",{"$f":"データ一覧!G673","v":4},null,{"$f":"データ一覧!G674","v":763},null,null,null,{"$f":"データ一覧!G675","v":9},null,{"$f":"データ一覧!G676","v":494},null,null,{"$f":"データ一覧!G677","v":202},null,null,{"$f":"データ一覧!G678","v":193},null,null,{"$f":"データ一覧!G679","v":358},null,null,{"$f":"データ一覧!G680","v":114},null,null,{"$f":"データ一覧!G681","v":6}]
["複合サービス事業",null,null,null,null,null,null,{"$f":"データ一覧!G147","v":"…"},null,null,{"$f":"データ一覧!G204","v":"…"},null,null,{"$f":"データ一覧!G148","v":92},null,null,{"$f":"データ一覧!G205","v":1263},null,null,{"$f":"データ一覧!G149","v":"…"},null,null,{"$f":"データ一覧!G206","v":"…"},null,null,"各種商品",null,null,null,{"$f":"データ一覧!G297","v":11},null,null,{"$f":"データ一覧!G306","v":730},null,null,{"$f":"データ一覧!G315","v":21678},null,null,null,"総額",null,null,null,{"$f":"SUM(AR73:AV85)","v":125655600},null,null,null,null,{"$f":"SUM(AW73:BA85)","v":135786456},null,null,null,null,"総額",null,null,null,{"$f":"SUM(BF73:BJ85)","v":125655600},null,null,null,null,{"$f":"SUM(BK73:BO85)","v":132826885},null,null,null,null," １９  警　察　・　消　防  ",null,null,null,null,null,null,null,null,null,null,null,null,null,null,null,{"$f":"+データ一覧!$A682","v":"6.4.1"}]
["サービス業",null,null,null,null,null,null,{"$f":"データ一覧!G150","v":"…"},null,null,{"$f":"データ一覧!G207","v":"…"},null,null,{"$f":"データ一覧!G151","v":1293},null,null,{"$f":"データ一覧!G208","v":13673},null,null,{"$f":"データ一覧!G152","v":"…"},null,null,{"$f":"データ一覧!G209","v":"…"},null,null,"織物・衣服・身の回り品",null,null,null,{"$f":"データ一覧!G298","v":408},null,null,{"$f":"データ一覧!G307","v":1517},null,null,{"$f":"データ一覧!G316","v":19910},null,null,null,"地方税",null,null,null,{"$f":"データ一覧!G439","v":43911000},null,null,null,null,{"$f":"データ一覧!G453","v":45424092},null,null,null,null,"議会費",null,null,null,{"$f":"データ一覧!G467","v":684997},null,null,null,null,{"$f":"データ一覧!G481","v":657660}]
["公務",null,null,null,null,null,null,{"$f":"データ一覧!G153","v":"…"},null,null,{"$f":"データ一覧!G210","v":"…"},null,null,{"$f":"データ一覧!G154","v":"…"},null,null,{"$f":"データ一覧!G211","v":"…"},null,null,{"$f":"データ一覧!G155","v":"…"},null,null,{"$f":"データ一覧!G212","v":"…"},null,null,"飲食料品",null,null,null,{"$f":"データ一覧!G299","v":620},null,null,{"$f":"データ一覧!G308","v":5768},null,null,{"$f":"データ一覧!G317","v":82095},null,null,null,"地方譲与税",null,null,null,{"$f":"データ一覧!G440","v":942000},null,null,null,null,{"$f":"データ一覧!G454","v":945353},null,null,null,null,"総務費",null,null,null,{"$f":"データ一覧!G468","v":10101998},null,null,null,null,{"$f":"データ一覧!G482","v":9795811},null,null,null,null,null,null,null,null,null,null,null,null,null,null,"交番・駐在所",null,null,null,null,null,null,null,null,"刑法犯認知件数",null,null,null,null,null,null,null,null,"交通人身事故発生件数"]
["  ４  農        　　　業 ",null,null,null,null,null,null,null,null,null,null,null,null,null,null,null,null,null,null,null,null,null,null,null,null,"機械器具",null,null,null,{"$f":"データ一覧!G300","v":364},null,null,{"$f":"データ一覧!G309","v":2897},null,null,{"$f":"データ一覧!G318","v":102753},null,null,null,"各種交付金",null,null,null,{"$f":"データ一覧!G441","v":8365000},null,null,null,null,{"$f":"データ一覧!G455","v":8709182},null,null,null,null,"民生費",null,null,null,{"$f":"データ一覧!G469","v":48264650},null,null,null,null,{"$f":"データ一覧!G483","v":50033257},null,null,null,null,null,"警察署数",null,null,null,null,null,null,null,null,"検問所数",null,null,null,null,null,null,null,null,null,{"$f":"データ一覧!$A$684","v":"5年中"},null,null,null,null,null,null,null,null,{"$f":"データ一覧!$A$684","v":"5年中"}]
[null,null,null,null,null,null,null,null,null,null,null,null,null,null,null,null,null,null,null,null,null,null,null,null,null,"その他",null,null,null,{"$f":"データ一覧!G301","v":817},null,null,{"$f":"データ一覧!G310","v":5619},null,null,{"$f":"データ一覧!G319","v":107570},null,null,null,"地方特例交付金",null,null,null,{"$f":"データ一覧!G442","v":1378000},null,null,null,null,{"$f":"データ一覧!G456","v":281290},null,null,null,null,"衛生費",null,null,null,{"$f":"データ一覧!G470","v":13492641},null,null,null,null,{"$f":"データ一覧!G484","v":8967708},null,null,null,null,null,null,null,null,null,null,null,null,null,null,null,null,null,null,null,null,null,null,null,null,null,null,null,null," 件",null,null,null,null,null,null,null,null,"　件"]
[null,null,"農業経営体数",null,null,null,null,null,null,"農産物販売額規模別経営体数",null,null,null,null,null,null,null,"経営耕地面積規模別経営体数",null,null,null,null,null,null,null,"無店舗",null,null,null,{"$f":"データ一覧!G302","v":107},null,null,{"$f":"データ一覧!G311","v":1216},null,null,{"$f":"データ一覧!G320","v":41533},null,null,null,"地方交付税",null,null,null,{"$f":"データ一覧!G443","v":14240000},null,null,null,null,{"$f":"データ一覧!G457","v":14082847},null,null,null,null,"労働費",null,null,null,{"$f":"データ一覧!G471","v":225747},null,null,null,null,{"$f":"データ一覧!G485","v":236235},null,null,null,null,null,null,{"$f":"データ一覧!G682","v":2},null,null,null,null,null,null,null,null,{"$f":"データ一覧!G683","v":36},null,null,null,null,null,null,null,null,{"$f":"データ一覧!G684","v":1281},null,null,null,null,null,null,null,null,{"$f":"データ一覧!G685","v":452}]
["農",null,"区　分",null,null,null,"経営体数\n（経営体）",null,null,"区　分",null,null,null,null,"経営体数\n（経営体）",null,null,"区　分",null,null,null,null,"経営体数\n（経営体）",null,null,null,null,null,null,null,null,null,null,null,null,null,null,null,null,"分担金および負担金",null,null,null,{"$f":"データ一覧!G444","v":216334},null,null,null,null,{"$f":"データ一覧!G458","v":212838},null,null,null,null,"農林水産業費",null,null,null,{"$f":"データ一覧!G472","v":3484423},null,null,null,null,{"$f":"データ一覧!G486","v":3405871},null,null,null,null,"火災発生件数",null,null,null,null,null,null,null,null,null,"林野焼損",null,null,null,null,"損      害",null,null,null,null,"消 防 自",null,null,null,"その他の",null,null,null," ",null,null,null,null," "]
["業","令",null,null,null,null,null,null,null,null,null,null,null,null,null,null,null,null,null,null,null,null,null,null,null,"  ８  住　　　　　　 　宅",null,null,null,null,null,null,null,null,null,null,null,null,null,"使用料および手数料",null,null,null,{"$f":"データ一覧!G445","v":1202499},null,null,null,null,{"$f":"データ一覧!G459","v":1189315},null,null,null,null,"商工費",null,null,null,{"$f":"データ一覧!G473","v":2492536},null,null,null,null,{"$f":"データ一覧!G487","v":2480658},null,null,null,null,{"$f":"+データ一覧!$A$686","v":"5年中"},null,null,null,null,"焼損棟数",null,null,null,null,"面    積",null,null,null,null,"見  積  額",null,null,null,null,"動 車 数",null,null,null,"ﾎﾟﾝﾌﾟ数",null,null,null," 消防吏員",null,null,null," 消防団員"]
["経",{"$f":"+LEFT(データ一覧!$A$213)","v":"2"},"計",null,null,null,{"$f":"データ一覧!G213","v":2333},null,null,"総　　　 数",null,null,null,null,{"$f":"データ一覧!G217","v":2333},null,null,"総　　　 数",null,null,null,null,{"$f":"データ一覧!G233","v":6910},null,null,null,null,null,null,null,null,null,null,null,null,null,null,null,null,"国庫支出金",null,null,null,{"$f":"データ一覧!G446","v":21266719},null,null,null,null,{"$f":"データ一覧!G460","v":29593126},null,null,null,null,"土木費",null,null,null,{"$f":"データ一覧!G474","v":15291617},null,null,null,null,{"$f":"データ一覧!G488","v":21285622},null,null,null,null,"         件",null,null,null,null,null,"      棟",null,null,null,null,null,null,"  ａ",null,null,null,"  千円",null,null,"        ",null,null,null,null,null,null,null,null,null,"  人",null,null,null,"  人"]
["営","・","個人経営体",null,null,null,{"$f":"データ一覧!G214","v":2195},null,null,"販 売 な し",null,null,null,null,{"$f":"データ一覧!G218","v":129},null,null,"0.5 ha 未満",null,null,null,null,{"$f":"データ一覧!G234","v":163},null,null,{"$f":"+データ一覧!$A$321","v":"4年"},null,null,null,null,{"$f":"データ一覧!$A$324","v":"5年"},"中の増減",null,null,null,{"$f":"+データ一覧!$A$324","v":"5年"},null,null,null,"県支出金",null,null,null,{"$f":"データ一覧!G447","v":11247587},null,null,null,null,{"$f":"データ一覧!G461","v":11708447},null,null,null,null,"消防費",null,null,null,{"$f":"データ一覧!G475","v":3887071},null,null,null,null,{"$f":"データ一覧!G489","v":3439230},null,null,null,null,null,{"$f":"データ一覧!G686","v":45},null,null,null,null,{"$f":"データ一覧!G687","v":26},null,null,null,null,{"$f":"データ一覧!G688","v":3},null,null,null,{"$f":"データ一覧!G689","v":76611},null,null,null,null,null,{"$f":"データ一覧!G690","v":35},null,null,null,{"$f":"データ一覧!G691","v":110},null,null,null,{"$f":"データ一覧!G692","v":365},null,null,null,{"$f":"データ一覧!G693","v":992}]
["体",{"$f":"+LEFT(データ一覧!$A$213,1)","v":"2"},"団体経営体",null,null,null,{"$f":"データ一覧!G215","v":138},null,null,"50万円未満",null,null,null,null,{"$f":"データ一覧!G219","v":816},null,null,"0.5 ha ～ 1.0 ha",null,null,null,null,{"$f":"データ一覧!G235","v":549},null,null,null,null,null,null,"建設した住宅",null,null,"消失した住宅",null,null,null,null,null,null,"財産収入",null,null,null,{"$f":"データ一覧!G448","v":115150},null,null,null,null,{"$f":"データ一覧!G462","v":260244},null,null,null,null,"教育費",null,null,null,{"$f":"データ一覧!G476","v":13990303},null,null,null,null,{"$f":"データ一覧!G490","v":18213043},null,null,null,null," ２０  そ　　　の　　　他　"]
["数","・",null,"法人経営",null,null,{"$f":"データ一覧!G216","v":73},null,null,"50～300万円",null,null,null,null,{"$f":"データ一覧!G220","v":1075},null,null,"1.0 ha ～ 2.0 ha",null,null,null,null,{"$f":"データ一覧!G236","v":908},null,null,null,null,null,null,null,null,null,null,null,null,null,null,null,null,"繰入金",null,null,null,{"$f":"データ一覧!G449","v":3000474},null,null,null,null,{"$f":"データ一覧!G463","v":1094633},null,null,null,null,"災害復旧費",null,null,null,{"$f":"データ一覧!G477","v":26000},null,null,null,null,{"$f":"データ一覧!G491","v":478071}]
["（",{"$f":"+RIGHT(データ一覧!$A$213)","v":"1"},null,null,null,null,null,null,null,"300～500万円",null,null,null,null,{"$f":"データ一覧!G221","v":92},null,null,"2.0 ha ～ 3.0 ha",null,null,null,null,{"$f":"データ一覧!G237","v":398},null,null,null,{"$f":"データ一覧!G321","v":110426},null,"戸",{"$f":"データ一覧!G322","v":1677},null,"戸",{"$f":"データ一覧!G323","v":814},null,"戸",null,{"$f":"データ一覧!G324","v":111289},null,"戸","地方債",null,null,null,{"$f":"データ一覧!G450","v":15102900},null,null,null,null,{"$f":"データ一覧!G464","v":16150284},null,null,null,null,"公債費",null,null,null,{"$f":"データ一覧!G478","v":13213617},null,null,null,null,{"$f":"データ一覧!G492","v":13833719},null,null,null,null,null,null,null,null,null,"一乗谷朝倉氏遺跡、一乗谷朝倉氏庭園、養浩館庭園、免鳥長山古墳、越前海岸、福井城址、北の庄城址・柴田公園､グリフィス記念館、足羽川の桜並木、愛宕坂、丹巌洞、大安禅寺、コスモス広苑、絹本著色　羅漢図、木造十一面観音菩薩立像、鉄製銀象嵌冑、五智如来、糸崎の仏舞、睦月神事、国山神事"]
["総",null,null,null,null,null,null,null,null,"500～1,000万円",null,null,null,null,{"$f":"データ一覧!G222","v":81},null,null,"3.0 ha ～ 5.0 ha",null,null,null,null,{"$f":"データ一覧!G238","v":287},null,null,null,null,null,null,null,null,null,null,null,null,null,null,null,null,"その他",null,null,null,{"$f":"データ一覧!G451","v":4667937},null,null,null,null,{"$f":"データ一覧!G465","v":6134805},null,null,null,null,"その他",null,null,null,{"$f":"データ一覧!G479","v":500000},null,null,null,null,{"$f":"データ一覧!G493","v":0},null,null,null,null,"　名所・旧跡"]
["数",null,null,null,null,null,null,null,null,"1,000万円以上",null,null,null,null,{"$f":"データ一覧!G223","v":140},null,null,"5.0 ha以上",null,null,null,null,{"$f":"データ一覧!G239","v":4608},null,null,null,null,null,null,null,null,null,null,null,null,null,null,null,null,null,null,null,null,null,null,null,null,null,null,null,null,null,null,null,null,null,null,null,null,null,null,null,null,null,null,null,null,"  文化財等"]
["）",null,"15歳以上の常雇い数",null,null,null,null,null,null,"農業に60日以上従事した世帯員、役員・構成員\n（経営主を含む）の平均年齢",null,null,null,null,null,null,null,null,null,null,null,null,null,null,null,"  ９  議　 員　・　職 　員",null,null,null,null,null,null,null,null,null,null,null,null,null," １４  文　　　化",null,null,null,null,null,null,null," ( ",{"$f":"\"令\"&データ一覧!$A$498","v":"令6.3.31"},null,null,"ただし図書館・公民館・児童館・ 社会教育学級講座",null,null,null,null,null,null,null,null,null,null,null,{"$f":"データ一覧!$A$494","v":"6.4.1"}]
["と",null,null,null,null,null,null,null,null,null,null,null,null,null,null,null,null,null,null,null,null,null,null,null,null,null,null,null,null,null,null,null,null,null,null,null,null,null,null,null,null,null,null,null,null,null,null,null,null,null,null,null,"　宗教法人数 ",null,null,null,null,null,null,null,null,null,null,{"$f":"データ一覧!$A$502","v":"5.12.31"}]
["就",null,null,null,null,null,null,null,null,"農業に60日以上従事",null,null,null,null,null,null,null,"農業に150日以上従事",null,null,null,null,null,null,null," 市 町 議 会",null,null,"有権者数",null,{"$f":"データ一覧!$A$328","v":"6.9.1"},null,"市 町 議 会",null,null,"  職      員      数",null,null,null,null,null,null,null,null,"図書館",null,null,null,null,null,"公　民　館",null,null,null,null,null,null,null,null,null,null," 社会教育学級講座",null,null,null,null,null,"　　特産物",null,null,null,null,"羽二重餅、水ようかん、越前がに、越前おろしそば、金福すいか、越のルビー、越前金時、水菜、坊ちゃんかぼちゃ、六条大麦、河内赤かぶら､木田ちそ、明里ネギ、新保ナス、越前水仙、ワカメ、ソースカツ丼、あべかわ餅"]
["業",null,"区分",null,null,null,"人",null,null,"区分",null,null,null,null,"歳",null,null,"区　　分",null,null,null,null,"歳",null,null," 議  員  定  数",null,null,"    男",null,"    女",null,"選 挙 投 票 率",null,null," 総     数",null,"一般行政職",null,"公    共",null,null,null," 館  数",null,null," 図書数",null,null," 本  館",null,null," 分  館",null,null," 公  園",null,null," 児童館",null,null,"学級講座数",null,null,"受講者数"]
["状",null,"総数",null,null,null,{"$f":"データ一覧!G230","v":113},null,null,"総数",null,null,null,null,{"$f":"データ一覧!G224","v":67.8},null,null,"総数",null,null,null,null,{"$f":"データ一覧!G227","v":66.400000000000006},null,null,null,null,"人",null,"人",null,"人",null,null,"　％",null,"人",null,"人","施 設 数",null,null,null,null,{"$f":"データ一覧!G494","v":5},null,{"$f":"データ一覧!G495","v":1256926},null,null,null,{"$f":"データ一覧!G496","v":50},null,{"$f":"データ一覧!G497","v":6},null,null,{"$f":"データ一覧!G498","v":401},null,null,{"$f":"データ一覧!G499","v":25},null,null,{"$f":"データ一覧!G500","v":2846},null,null,{"$f":"データ一覧!G501","v":51935}]
["況",null,"男",null,null,null,{"$f":"データ一覧!G231","v":79},null,null,"男",null,null,null,null,{"$f":"データ一覧!G225","v":67.3},null,null,"男",null,null,null,null,{"$f":"データ一覧!G228","v":65.8},null,null,null,{"$f":"データ一覧!G325","v":32},null,{"$f":"データ一覧!G328","v":101759},null,{"$f":"データ一覧!G329","v":109877},null,{"$f":"データ一覧!G327","v":44.3},null,null,{"$f":"データ一覧!G330","v":2259},null,{"$f":"データ一覧!G331","v":1213},null,"宗    教",null,null,null," 仏教系",null,null,"ｷﾘｽﾄ教系",null,null,"神道諸派",null,null,"公会堂・市民会館",null,null,null,null,null," テレビ",null,null,"衛星放送契約数",null,null,null,null,null," 　年中行事",null,null,null,null,"オシッサマのお渡り、越前朝倉万灯夜、じじぐれ祭り、花山行事、したんじょう行事、馬鹿ばやし、福井フェニックスまつり、ふくい桜まつり"]
[null,null,"女",null,null,null,{"$f":"データ一覧!G232","v":34},null,null,"女",null,null,null,null,{"$f":"データ一覧!G226","v":69.2},null,null,"女",null,null,null,null,{"$f":"データ一覧!G229","v":67.900000000000006},null,null,null,null,null,null,null,null,null,{"$f":"データ一覧!G326","v":"5.4.23"},null,null,null,null,null,null,"法 人 数",null,null,null,{"$f":"データ一覧!G502","v":378},null,null,{"$f":"データ一覧!G503","v":12},null,null,{"$f":"データ一覧!G504","v":469},null,null,{"$f":"データ一覧!G505","v":4},null,null,null,null,null,"      等",null,null,{"$f":"データ一覧!G506","v":64030}]

{"sheet":"敦賀市","index":6,"n_rows":93,"n_cols":103,"rows_kept":93,"cut":false,"hidden":false,"merged":[[83,6,83,8],[83,9,83,13],[83,14,83,16],[84,6,84,8],[84,9,84,13],[84,14,84,16],[86,2,88,8],[86,9,87,24],[88,9,88,16],[88,17,88,24],[89,2,89,5],[89,9,89,13],[89,17,89,21],[90,2,90,5],[90,9,90,13],[90,17,90,21],[76,2,76,8],[76,9,76,16],[76,17,76,24],[77,2,78,5],[77,6,78,8],[77,9,78,13],[77,14,78,16],[77,17,78,21],[77,22,78,24],[79,2,79,5],[79,6,79,8],[79,9,79,13],[79,14,79,16],[79,17,79,21],[79,22,79,24],[82,6,82,8],[91,2,91,5],[91,9,91,13],[91,17,91,21],[89,22,89,24],[91,6,91,8],[91,14,91,16],[91,22,91,24],[92,2,92,5],[92,9,92,13],[92,14,92,16],[92,17,92,21],[89,14,89,16],[90,22,90,24],[84,22,84,24],[85,6,85,8],[85,9,85,13],[85,14,85,16],[85,22,85,24],[85,17,85,21],[82,9,82,13],[82,14,82,16],[39,75,39,77],[39,79,39,82],[39,67,39,73],[30,40,30,46],[35,53,35,56],[29,53,29,56],[32,53,32,56],[30,53,30,56],[34,60,34,64],[32,40,32,46],[33,40,33,46],[35,40,35,46],[35,68,35,72],[30,73,30,76],[32,5,32,7],[31,14,31,16],[32,20,32,21],[30,22,30,24],[35,14,35,16],[35,18,35,19],[60,22,60,24],[66,29,66,31],[70,7,70,9],[72,19,72,21],[73,22,73,24],[73,16,73,18],[73,19,73,21],[59,22,59,24],[65,19,65,21],[63,19,63,21],[29,73,29,76],[29,77,29,80],[34,36,34,37],[80,6,80,8],[80,9,80,13],[80,14,80,16],[80,17,80,21],[80,22,80,24],[81,6,81,8],[81,9,81,13],[81,14,81,16],[38,93,38,95],[38,79,38,82],[38,67,38,73],[38,40,38,46],[36,49,36,51],[28,91,28,94],[29,91,29,94],[29,95,29,98],[31,77,31,80],[37,75,37,77],[71,10,71,12],[71,7,71,9],[67,7,67,9],[65,10,65,12],[71,16,71,18],[70,22,70,24],[70,19,70,21],[71,19,71,21],[59,16,59,18],[60,13,60,15],[59,13,59,15],[26,99,26,102],[28,73,28,76],[26,40,26,46],[38,97,38,100],[40,93,40,95],[39,49,39,51],[40,79,41,82],[40,75,41,77],[35,93,35,95],[37,97,37,100],[36,97,36,100],[36,85,36,91],[36,60,36,64],[36,75,36,77],[30,86,30,90],[32,99,32,102],[32,77,32,80],[32,81,32,84],[36,93,36,95],[31,73,31,76],[28,60,28,64],[31,99,31,102],[31,95,31,98],[32,95,32,98],[31,91,31,94],[30,91,30,94],[35,98,35,101],[28,68,28,72],[32,68,32,72],[27,99,27,102],[32,60,32,64],[32,73,32,76],[22,99,22,102],[24,99,24,102],[25,95,25,98],[27,68,27,72],[23,49,23,51],[23,53,23,56],[24,91,24,94],[26,91,26,94],[26,95,26,98],[28,86,28,90],[29,99,29,102],[28,49,28,51],[26,81,26,84],[30,77,30,80],[30,81,30,84],[28,77,28,80],[26,86,26,90],[26,68,26,72],[26,73,26,76],[24,49,24,51],[29,60,29,64],[23,99,23,102],[23,81,23,84],[23,86,23,90],[25,86,25,90],[25,81,25,84],[24,60,24,64],[28,95,28,98],[25,99,25,102],[25,73,25,76],[28,81,28,84],[27,77,27,80],[21,99,21,102],[35,60,35,64],[22,81,22,84],[22,86,22,90],[23,68,23,72],[23,73,23,76],[24,68,24,72],[24,73,24,76],[24,77,24,80],[24,81,24,84],[24,86,24,90],[33,60,33,64],[34,49,34,51],[31,60,31,64],[26,77,26,80],[22,91,22,94],[25,49,25,51],[22,95,22,98],[23,91,23,94],[23,95,23,98],[30,95,30,98],[30,99,30,102],[24,95,24,98],[29,49,29,51],[27,95,27,98],[32,91,32,94],[31,53,31,56],[33,53,33,56],[30,60,30,64],[29,81,29,84],[28,99,28,102],[27,91,27,94],[63,16,63,18],[60,19,60,21],[69,19,69,21],[35,80,35,83],[35,86,35,90],[71,13,71,15],[39,60,39,64],[42,67,42,73],[52,77,52,79],[38,53,38,56],[35,29,35,30],[42,40,42,46],[45,77,45,82],[45,25,45,28],[46,25,46,28],[47,80,47,82],[43,67,44,81],[61,59,61,62],[61,63,61,66],[57,67,58,102],[47,95,47,98],[42,97,42,100],[35,11,35,13],[37,79,37,82],[42,93,42,95],[45,92,45,101],[46,95,46,98],[41,49,41,51],[42,49,42,51],[40,97,40,100],[41,97,41,100],[40,85,40,91],[34,14,34,16],[33,18,33,19],[33,20,33,21],[33,11,33,13],[33,14,33,16],[32,18,32,19],[63,22,63,24],[67,13,67,15],[62,13,62,15],[33,49,33,51],[56,19,56,21],[54,68,54,75],[43,40,43,46],[50,25,50,28],[44,25,44,28],[35,36,35,37],[62,75,62,77],[67,57,67,61],[65,73,65,76],[64,19,64,21],[64,22,64,24],[34,20,34,21],[33,22,33,24],[32,22,32,24],[34,29,34,30],[41,16,41,18],[49,58,49,61],[43,60,43,64],[43,53,43,56],[46,69,46,74],[64,16,64,18],[62,16,62,18],[35,5,35,7],[55,13,55,15],[56,13,56,15],[21,73,21,76],[21,77,21,80],[21,81,21,84],[22,73,22,76],[22,77,22,80],[20,25,20,28],[22,68,22,72],[20,11,20,13],[20,16,20,18],[20,21,20,23],[27,73,27,76],[25,77,25,80],[29,20,29,21],[35,20,35,21],[34,22,34,24],[40,16,40,18],[47,22,47,24],[48,22,48,24],[40,67,41,73],[28,40,28,46],[31,40,31,46],[23,77,23,80],[33,83,34,96],[31,5,31,7],[42,7,42,9],[22,40,22,46],[29,86,29,90],[21,60,21,64],[22,49,22,51],[30,5,30,7],[30,8,30,10],[31,8,31,10],[31,11,31,13],[27,37,27,38],[21,32,21,34],[31,22,31,24],[29,5,29,7],[27,25,27,26],[30,20,30,21],[31,20,31,21],[30,11,30,13],[30,14,30,16],[30,18,30,19],[29,8,29,10],[29,40,29,46],[29,14,29,16],[29,22,29,24],[24,0,25,24],[23,40,23,46],[27,0,27,4],[27,5,27,7],[27,22,27,24],[29,11,29,13],[35,8,35,10],[32,14,32,16],[34,18,34,19],[34,8,34,10],[34,11,34,13],[38,85,38,91],[37,85,37,91],[27,40,27,46],[24,40,24,46],[25,40,25,46],[35,75,35,77],[34,53,34,56],[36,79,36,82],[37,67,37,73],[31,81,31,84],[32,49,32,51],[27,81,27,84],[27,86,27,90],[32,8,32,10],[30,49,30,51],[33,8,33,10],[24,35,24,36],[27,60,27,64],[25,60,25,64],[26,60,26,64],[31,18,31,19],[28,53,28,56],[31,49,31,51],[30,68,30,72],[33,67,34,80],[37,40,37,46],[31,68,31,72],[14,82,15,95],[14,25,15,25],[14,26,15,28],[15,29,15,30],[15,32,15,33],[15,35,15,37],[17,25,17,27],[18,25,18,27],[17,82,17,83],[17,86,17,89],[37,60,37,64],[39,40,39,46],[25,91,25,94],[21,29,21,31],[25,25,25,26],[36,67,36,73],[38,60,38,64],[38,49,38,51],[27,27,27,28],[27,29,27,30],[27,31,27,32],[27,33,27,34],[21,25,21,28],[20,77,20,80],[20,86,20,90],[20,81,20,84],[22,35,22,38],[21,40,21,46],[23,32,23,34],[21,49,21,51],[34,40,34,46],[35,49,35,51],[5,0,5,9],[6,0,8,9],[17,53,17,57],[19,49,19,51],[19,53,19,56],[17,40,17,46],[14,0,15,24],[19,3,19,5],[18,28,18,30],[19,25,19,28],[19,73,19,76],[20,73,20,76],[26,22,26,24],[24,27,24,28],[25,27,25,28],[26,25,26,26],[25,37,26,38],[19,35,19,38],[26,27,26,28],[25,29,26,30],[25,31,26,32],[23,35,23,38],[24,29,24,30],[24,31,24,32],[24,33,24,34],[25,33,26,34],[25,35,26,36],[19,29,19,31],[19,32,19,34],[23,25,23,28],[21,53,21,56],[14,67,15,81],[20,99,20,102],[20,35,20,38],[20,91,20,94],[20,95,20,98],[20,60,20,64],[19,77,19,80],[19,81,19,84],[16,74,16,95],[16,32,16,33],[16,36,16,37],[17,32,17,34],[17,36,17,38],[18,31,18,34],[18,35,18,38],[17,48,17,52],[17,68,17,71],[19,40,19,46],[19,99,19,102],[17,59,17,65],[17,91,17,94],[17,100,17,101],[19,60,19,64],[19,91,19,94],[19,95,19,98],[17,73,17,76],[20,40,20,46],[20,49,20,51],[20,53,20,56],[20,29,20,31],[20,32,20,34],[33,5,33,7],[40,19,40,21],[21,86,21,90],[21,91,21,94],[21,95,21,98],[23,29,23,31],[32,11,32,13],[27,35,27,36],[23,11,23,13],[23,16,23,18],[23,21,23,23],[23,60,23,64],[22,25,22,28],[22,29,22,31],[22,53,22,56],[22,60,22,64],[24,53,24,56],[25,53,25,56],[27,49,27,51],[26,53,26,56],[26,49,26,51],[27,53,27,56],[24,37,24,38],[37,93,37,95],[36,40,36,46],[29,18,29,19],[21,35,21,38],[22,7,22,8],[38,75,38,77],[22,32,22,34],[39,97,39,100],[40,49,40,51],[41,85,41,91],[42,75,42,77],[48,99,48,102],[41,93,41,95],[39,93,39,95],[42,79,42,82],[43,83,44,102],[39,85,39,91],[42,60,42,64],[42,53,42,56],[49,95,49,98],[49,87,49,90],[42,85,42,91],[46,99,46,102],[49,99,49,102],[48,83,48,86],[48,87,48,90],[47,87,47,90],[55,77,55,79],[56,99,56,102],[56,68,56,75],[56,80,56,82],[56,83,56,86],[56,87,56,90],[56,91,56,94],[56,95,56,98],[45,32,45,35],[52,80,52,82],[50,77,50,79],[53,83,53,86],[52,91,52,94],[48,95,48,98],[52,68,52,75],[54,99,54,102],[55,99,55,102],[52,99,52,102],[52,95,52,98],[53,99,53,102],[53,95,53,98],[47,83,47,86],[54,91,54,94],[54,95,54,98],[54,80,54,82],[56,77,56,79],[54,77,54,79],[47,91,47,94],[49,83,49,86],[49,68,49,75],[47,99,47,102],[55,95,55,98],[55,91,55,94],[48,56,48,59],[49,62,49,66],[51,95,51,98],[52,83,52,86],[50,91,50,94],[66,92,66,96],[45,84,45,89],[47,68,47,75],[47,77,47,79],[53,68,53,75],[70,10,70,12],[65,88,65,91],[55,68,55,75],[50,99,50,102],[49,91,49,94],[60,91,60,96],[60,85,60,90],[55,43,55,45],[54,47,54,50],[55,22,55,24],[51,83,51,86],[51,77,51,79],[51,80,51,82],[56,48,56,53],[51,99,51,102],[54,55,54,58],[50,83,50,86],[66,13,66,15],[66,16,66,18],[53,91,53,94],[51,91,51,94],[52,87,52,90],[53,87,53,90],[53,77,53,79],[62,22,62,24],[62,81,62,83],[61,22,61,24],[62,0,62,6],[63,10,63,12],[62,10,62,12],[61,10,61,12],[61,13,61,15],[58,22,58,24],[66,76,66,90],[61,80,61,83],[64,13,64,15],[59,19,59,21],[50,29,50,32],[56,22,56,24],[61,0,61,6],[60,0,60,6],[64,0,64,6],[66,7,66,9],[57,13,57,15],[56,16,56,18],[55,16,55,18],[60,7,60,9],[56,7,56,9],[64,10,64,12],[62,68,62,71],[64,68,64,71],[61,68,61,71],[65,53,65,56],[69,22,69,24],[68,39,68,42],[68,10,68,12],[68,13,68,15],[66,39,66,66],[67,43,67,47],[67,67,70,71],[67,79,67,81],[70,39,70,42],[69,29,69,30],[66,22,66,24],[69,32,69,33],[67,22,67,24],[65,22,65,24],[69,25,69,28],[68,62,68,66],[69,39,69,66],[70,72,70,75],[70,77,70,78],[68,76,68,78],[65,57,65,63],[68,79,68,81],[66,10,66,12],[68,43,68,47],[68,48,68,52],[68,53,68,56],[68,57,68,61],[68,16,68,18],[68,19,68,21],[65,13,65,15],[65,16,65,18],[65,39,65,42],[61,19,61,21],[62,93,62,95],[58,61,58,63],[65,98,65,101],[65,78,65,81],[65,83,65,86],[65,68,65,71],[62,99,62,101],[63,84,63,86],[63,89,63,91],[63,99,63,101],[63,94,63,96],[63,74,63,76],[57,47,57,50],[60,29,60,30],[65,43,65,49],[65,93,65,96],[62,87,62,89],[60,97,60,102],[60,59,60,62],[70,91,70,93],[70,94,70,96],[70,85,70,87],[70,88,70,90],[68,72,68,75],[70,29,70,30],[67,97,67,102],[67,82,67,84],[70,79,70,81],[71,62,71,66],[67,53,67,56],[67,62,67,66],[70,62,70,66],[68,100,68,102],[67,88,67,90],[67,39,67,42],[71,43,71,47],[70,35,70,37],[68,29,68,30],[68,32,68,33],[71,67,72,81],[71,57,71,61],[72,57,72,61],[71,82,72,102],[72,48,72,52],[70,97,70,99],[70,100,70,102],[68,88,68,90],[71,39,71,42],[71,48,71,52],[70,83,70,84],[69,35,69,37],[79,97,79,98],[81,67,82,102],[79,53,79,56],[79,57,79,61],[79,62,79,66],[79,101,79,102],[80,96,80,98],[80,78,80,80],[84,53,84,56],[68,22,68,24],[75,39,75,42],[75,25,75,28],[75,35,75,37],[73,77,73,83],[73,86,73,92],[73,95,73,101],[74,87,74,91],[74,96,74,100],[75,53,75,56],[74,43,74,47],[74,48,74,52],[75,48,75,52],[74,39,74,42],[74,32,74,33],[74,35,74,37],[73,25,73,28],[73,57,73,61],[68,35,68,37],[68,82,68,84],[68,85,68,87],[68,91,68,93],[68,94,68,96],[91,26,91,27],[91,28,91,29],[91,30,91,31],[91,32,91,34],[91,52,91,57],[90,46,90,48],[91,35,91,36],[91,37,91,38],[91,39,91,42],[90,39,90,42],[88,30,88,31],[83,36,83,37],[82,39,82,42],[81,48,81,52],[80,48,80,52],[84,57,84,61],[81,29,81,31],[81,39,81,42],[88,32,88,34],[88,44,88,47],[91,43,91,45],[91,46,91,48],[91,49,91,51],[88,50,88,53],[83,39,83,42],[84,48,84,52],[83,43,83,47],[84,39,84,42],[90,44,90,45],[80,39,80,42],[80,35,81,38],[80,25,81,28],[92,39,92,42],[92,43,92,45],[92,46,92,48],[92,49,92,51],[90,61,90,63],[90,64,90,66],[81,43,81,47],[77,43,77,47],[77,48,77,52],[77,53,77,56],[77,57,77,61],[77,62,77,66],[76,53,76,56],[76,57,76,61],[76,62,76,66],[77,77,77,81],[76,69,76,72],[76,39,76,42],[78,43,78,47],[79,39,79,42],[84,62,84,66],[76,43,76,47],[76,48,76,52],[78,48,78,52],[78,53,78,56],[80,43,80,47],[80,100,80,102],[80,88,80,90],[74,77,74,83],[80,92,80,94],[80,68,80,70],[80,73,80,75],[88,72,89,102],[80,53,80,56],[80,57,80,61],[80,62,80,66],[74,53,74,56],[74,57,74,61],[74,62,74,66],[70,53,70,56],[70,57,70,61],[66,32,66,34],[89,32,89,34],[89,39,89,42],[78,91,78,94],[78,95,78,98],[78,99,78,102],[78,67,78,71],[78,72,78,76],[78,77,78,81],[78,82,78,86],[77,82,77,86],[77,87,77,90],[76,87,76,90],[77,91,77,94],[77,39,77,42],[76,78,76,81],[73,62,73,66],[76,96,76,99],[78,87,78,90],[78,57,78,61],[60,48,60,52],[60,53,60,56],[61,36,61,37],[91,61,91,66],[90,58,90,60],[88,61,88,66],[81,57,81,61],[83,53,83,56],[81,53,81,56],[89,61,89,63],[42,36,42,37],[42,32,42,35],[45,36,45,37],[50,63,50,66],[48,50,48,53],[50,80,50,82],[54,87,54,90],[55,83,55,86],[55,87,55,90],[54,83,54,86],[55,80,55,82],[80,82,80,86],[50,95,50,98],[48,68,48,75],[48,77,48,79],[48,80,48,82],[50,87,50,90],[51,87,51,90],[44,32,44,35],[81,32,81,34],[67,48,67,52],[60,39,60,42],[41,40,41,46],[90,50,90,51],[90,52,90,54],[72,53,72,56],[72,62,72,66],[58,64,58,66],[55,47,55,49],[55,51,55,53],[61,39,61,42],[60,63,60,66],[59,59,59,62],[61,43,61,47],[61,48,61,52],[61,53,61,56],[72,39,72,42],[72,43,72,47],[71,35,71,37],[66,35,66,38],[71,53,71,56],[79,43,79,47],[73,43,73,47],[73,48,73,52],[73,53,73,56],[70,48,70,52],[57,64,57,66],[54,43,54,46],[51,33,51,35],[84,43,84,47],[82,43,82,47],[55,59,55,62],[50,59,50,61],[49,50,49,53],[41,29,41,30],[41,60,41,64],[57,61,57,63],[57,58,57,60],[57,55,57,57],[58,55,58,57],[58,58,58,60],[58,48,58,50],[48,62,48,65],[40,60,40,64],[56,39,56,42],[58,52,58,54],[45,57,45,61],[40,53,40,56],[54,39,54,42],[57,51,57,54],[57,25,57,29],[57,43,57,46],[58,39,58,42],[58,44,58,46],[57,39,57,42],[44,29,44,30],[43,49,43,51],[40,4,40,6],[36,53,36,56],[37,49,37,51],[50,33,50,38],[46,36,46,37],[41,13,41,15],[41,36,41,37],[40,32,40,35],[40,36,40,37],[41,32,41,35],[36,29,36,30],[42,19,42,21],[51,36,51,38],[48,13,48,15],[39,53,39,56],[40,29,40,30],[40,40,40,46],[40,22,40,24],[47,10,47,12],[46,29,46,30],[45,29,45,30],[41,53,41,56],[44,36,44,37],[46,32,46,35],[50,47,50,49],[49,46,49,49],[40,7,40,9],[56,10,56,12],[58,16,58,18],[58,13,58,15],[57,22,57,24],[55,10,55,12],[48,10,48,12],[48,7,48,9],[60,10,60,12],[59,10,59,12],[55,19,55,21],[55,7,55,9],[57,19,57,21],[48,16,48,18],[48,19,48,21],[48,0,48,1],[55,0,55,6],[58,0,58,6],[59,7,59,9],[58,7,58,9],[57,7,57,9],[50,0,51,10],[50,11,51,24],[34,5,34,7],[57,16,57,18],[60,16,60,18],[56,0,56,6],[59,0,59,6],[35,22,35,24],[36,36,36,37],[37,53,37,56],[44,0,45,1],[44,19,44,24],[41,19,41,21],[42,10,42,12],[41,10,41,12],[41,7,41,9],[54,25,54,32],[55,25,55,30],[53,25,53,27],[53,29,53,31],[53,33,53,34],[60,43,60,47],[53,36,53,37],[55,35,55,38],[60,36,60,37],[47,13,47,15],[47,16,47,18],[47,19,47,21],[46,0,46,1],[40,2,40,3],[47,0,47,1],[47,7,47,9],[41,4,41,6],[58,19,58,21],[82,22,82,24],[57,0,57,6],[58,10,58,12],[57,10,57,12],[51,29,51,32],[51,25,51,28],[42,4,42,6],[42,22,42,24],[41,22,41,24],[40,10,40,12],[40,13,40,15],[42,13,42,15],[42,16,42,18],[90,6,90,8],[90,14,90,16],[70,25,70,28],[83,29,83,30],[71,32,71,33],[61,29,61,30],[83,22,83,24]],"merged_total":1108,"flags":["merged_cut"]}
[{"$f":"+データ一覧!H2","v":0}]
[{"$f":"+データ一覧!H5","v":0}]
[null,null,null,null,null,null,null,null,null,null,null,null,null,null,null,null,null,null,null,null,null,null,null,null,null,null,null,null,null,null,null,null,null,null,null,null,null,null,null,0]
[null,null,null,null,null,null,null,null,null,null,null,null,null,null,null,null,null,null,null,null,null,null,null,null,null,null,null,"【市章とそのいわれ】周囲の円形は敦賀港を現して地勢を物語り、                    ",null,null,null,null,null,null,null,null,null,null,null,"  【位置および地勢】敦賀市は福井県の中央部に位置し、北に敦賀湾口を開いて",null,null,null,null,null,null,null,null,null,null,null,null,null,null,null,null,null,null,null,null,null,null,null,null,null,null,null,null,null,null,"所在地",null,null,null,null,null,null,null,"〒914-8501"]
[null,null,null,null,null,null,null,null,null,null,null,null,null,null,null,null,null,null,null,null,null,null,null,null,null,null,null,"                  中央の角は「都怒我阿羅斯等」来朝にちなんで                                        ",null,null,null,null,null,null,null,null,null,null,null,"                  ","日本海に面し、他の三方は山岳が連なり、敦賀湾と平野部を囲んでいる。",null,null,null,null,null,null,null,null,null,null,null,null,null,null,null,null,null,null,null,null,null,null,null,null,null,null,null,null,null,null,null,null,null,null,null,null,null,"敦賀市中央町２丁目１番１号"]
[{"$f":"+データ一覧!H3","v":"つるがし"},null,null,null,null,null,null,null,null,null,null,null,null,null,null,null,null,null,null,null,null,null,null,null,null,null,null,"                  その沿革を象徴する。角の上部は敦賀港最初の",null,null,null,null,null,null,null,null,null,null,null,"　　　　　　　　　","東西約１４㎞、南北約２６km、面積は２５１．４７平方kmで若狭湾に大きく"]
[{"$f":"データ一覧!H6","v":"敦賀市"},null,null,null,null,null,null,null,null,null,null,null,null,null,null,null,null,null,null,null,null,null,null,null,null,null,null,"                  文明施設としての灯台を具現し、港湾都市と",null,null,null,null,null,null,null,null,null,null,null,"　","張り出た敦賀半島と５４㎞に及ぶ海岸線が敦賀湾を日本海の風や波浪から",null,null,null,null,null,null,null,null,null,null,null,null,null,null,null,null,null,null,null,null,null,null,null,null,null,null,null,null,null,"電話番号",null,null,null,null,null,null,null,"（０７７０）２１－１１１１"]
[null,null,null,null,null,null,null,null,null,null,null,null,null,null,null,null,null,null,null,null,null,null,null,null,null,null,null,"                  しての将来への発展を意味する。",null,null,null,null,null,null,null,null,null,null,null," ","防ぎ、天然の良港を形成している。",null,null,null,null,null,null,null,null,null,null,null,null,null,null,null,null,null,null,null,null,null,null,null,null,null,null,null,null,null,"FAX番号",null,null,null,null,null,null,null,"     〃     ２２－６２２０"]
[null,null,null,null,null,null,null,null,null,null,null,null,null,null,null,null,null,null,null,null,null,null,null,null,null,null,null,0,null,null,null,null,null,null,null,null,null,null,null," ","日本三大松原の一つに数えられる気比の松原は、敦賀湾の最奥部に位置し、"]
[null,null,null,null,null,null,null,null,null,null,null,null,null,null,null,null,null,null,null,null,null,null,null,null,null,null,null,0,null,null,null,null,null,null,null,null,null,null,null,"　","海との織り成す景観は、見事である。",null,null,null,null,null,null,null,null,null,null,null,null,null,null,null,null,null,null,null,null,null,null,null,null,null,null,null,null,null,"最寄駅および距離",null,null,null,null,null,null,null,"ＪＲ北陸新幹線敦賀駅  下車２ｋｍ"]
[null,null,null,null,null,null,null,null,null,null,null,null,null,null,null,null,null,null,null,null,null,null,null,null,null,null,null,0,null,null,null,null,null,null,null,null,null,null,null,"  "]
[]
[null,null,null,null,null,null,null,null,null,null,null,null,null,null,null,null,null,null,null,null,null,null,null,null,null,null,null,"【市が掲げる標語】好循環が継続する、発展し続ける地域",null,null,null,null,null,null,null,null,null,null,null,null,null,null,null,null,null,null,null,null,null,null,null,null,null,null,null,null,null,null,null,null,null,null,null,null,null,null,null,null,null,null,"ホームページ",null,null,null,null,null,null,null,"https://www.city.tsuruga.lg.jp/"]
[]
["  １  土            　　地",null,null,null,null,null,null,null,null,null,null,null,null,null,null,null,null,null,null,null,null,null,null,null,null,{"$f":"データ一覧!$A$240","v":"5年"},"産米収穫量",null,null,"　 収　穫　量",null,null," 　作 付 面 積",null,null,"   10a当たり収量",null,null,null,null,null,null,null,null,null,null,null,null,null,null,null,null,null,null,null,null,null,null,null,null,null,null,null,null,null,null,null," １５  労　　　　　　　働",null,null,null,null,null,null,null,null,null,null,null,null,null,null,"2.10.1"]
[null,null,null,null,null,null,null,null,null,null,null,null,null,null,null,null,null,null,null,null,null,null,null,null,null,null,null,null,null,{"$f":"データ一覧!$H$240","v":1770},null,"t",{"$f":"データ一覧!$H$241","v":375},null,"ha",{"$f":"データ一覧!H242","v":472},null,null,"kg"," １０  工　　　　　　業 ",null,null,null,null,null,null,null,null,null,null,null,null,null,{"$f":"データ一覧!$A$332","v":"4.6.1（令和3年実績）"}]
["   総          面           積",null,null,null,null,null,null,null,null,null," 固 定 資 産 概 要 調 書 に よ る 地 目 別 面 積",null,null,null,null,null,null,null,null,null,null,null,null,null,null,null,null,null,"   総　　　数",null,null,null,"うち　　田",null,null,null,"うち　　畑",null,null,null,null,null,null,null,null,null,null,null,null,null,null,null,null,null,null,null,null,null,null,null,null,null,null,null,null,null,null,null,null,null,null,null,null,null,"産業別就業者数   "]
[null,null,{"$f":"データ一覧!$A$7","v":"6.10.1"},null,null,null,null,null,null,null,null,null,null,null,null,null,{"$f":"データ一覧!$A$9","v":"6.1.1"},null,null,null,null,null,null,null,null," 耕  地  面  積",null,null,null,"       ha",null,null,"ha ",null,null,null,"ha ",null,null,"      ","産業分類",null,null,null,null,null,null,null,"事業所数",null,null,null,null,"従業者数",null,null,null,null,null,"年間製造品出荷額等",null,null,null,null,null,null,null,null,"区  分",null,null,null,null,"総    数",null,null,null,null,"男",null,null,null,"女",null,null,"  ","区  分",null,null,null,null,"総    数",null,null,null,null,"男",null,null,null,"女"]
[null,null,null,null,null,null,"㎢",null,null,null,"   総       数",null,null,null,null,"  う ち     田",null,null,null,null,"  う ち     畑",null,null,null,null,{"$f":"データ一覧!A243","v":"5.7.15"},null,null,{"$f":"データ一覧!$H$243","v":858},null,null,{"$f":"データ一覧!$H$244","v":761},null,null,null,{"$f":"データ一覧!$H$245","v":97},null,null,null,null,null,null,null,null,null,null,null,null,"　　   ",null,null,"事業所",null,"　　　　　　　 人",null,null,"人",null,"　　　　　　　　　　　　　　万円",null,null,null,null,null,null,"万円",null,null,null,null,null,null,null,"      人",null,null,null,null,null," 人",null,null,null," 人",null,null,null,null,null,null,null,"      人",null,null,null,"      人",null,null,null,"      人"]
[null,null,null,{"$f":"データ一覧!H7","v":251.47},null,null,null,null,null,null,null,null,null,null,"ha",null,null,null,null,"ha",null,null,null,null,"ha","農 業 生 産 物",null,null,null,"作 付 面 積",null,null,"収 穫 量",null,null,"10a当たり収量",null,null,null,"     ","総数",null,null,null,null,null,null,null,null,{"$f":"データ一覧!H332","v":71},null,null,null,{"$f":"+データ一覧!H357","v":3312},null,null,null,null,null,null,{"$f":"データ一覧!H382","v":14336699},null,null,null,null,null,null," 総　　　数",null,null,null,null,null,{"$f":"BZ20+CD20","v":32012},null,null,null,{"$f":"データ一覧!H507","v":18072},null,null,null,{"$f":"データ一覧!H532","v":13940}]
[null,null,null,null,null,null,null,null,null,null,null,{"$f":"データ一覧!H9","v":11236.1},null,null,null,null,{"$f":"データ一覧!H10","v":1285.9000000000001},null,null,null,null,{"$f":"データ一覧!H11","v":251.1},null,null,null,{"$f":"データ一覧!$A$246","v":"5年産"},null,null,null,"ha",null,null,"t",null,null,"kg",null,null,null,"     食料品","食料品",null,null,null,null,null,null,null,null,{"$f":"データ一覧!H333","v":11},null,null,null,{"$f":"+データ一覧!H358","v":201},null,null,null,null,null,null,{"$f":"データ一覧!H383","v":208072},null,null,null,null,null,null,null,null,null,null,null,null,null,null,null,null,null,null,null,null,null,null,null,null,null,"卸売業,小売業",null,null,null,null,{"$f":"CR21+CV21","v":4340},null,null,null,{"$f":"データ一覧!H520","v":1754},null,null,null,{"$f":"データ一覧!H545","v":2586}]
["  町 ･ 丁 ･ 大 字",null,null,null,null,null,null,null,null,null,"  う ち  宅 地",null,null,null,null,"  う ち  山 林",null,null,null,null,"  う ち  原 野",null,null,null,null,"水　　　　　稲",null,null,null,{"$f":"データ一覧!H246","v":375},null,null,{"$f":"データ一覧!H247","v":1770},null,null,{"$f":"データ一覧!H248","v":472},null,null,null,"     飲料・飼料","飲料・飼料",null,null,null,null,null,null,null,null,{"$f":"データ一覧!H334","v":0},null,null,null,{"$f":"+データ一覧!H359","v":0},null,null,null,null,null,null,{"$f":"データ一覧!H384","v":0},null,null,null,null,null,null," 第１次産業",null,null,null,null,null,{"$f":"BZ22+CD22","v":490},null,null,null,{"$f":"データ一覧!H508","v":331},null,null,null,{"$f":"データ一覧!H533","v":159},null,null,null,null,"金融業,保険業",null,null,null,null,{"$f":"CR22+CV22","v":547},null,null,null,{"$f":"データ一覧!H521","v":183},null,null,null,{"$f":"データ一覧!H546","v":364}]
["  区    画    数",null,null,null,null,null,null,{"$f":"データ一覧!H8","v":158},null,null,null,null,null,null,"ha",null,null,null,null,"ha",null,null,null,null,"ha","六　条　大　麦",null,null,null,{"$f":"データ一覧!H249","v":"-"},null,null,{"$f":"データ一覧!H250","v":"-"},null,null,{"$f":"データ一覧!H251","v":"-"},null,null,null,"     繊維","繊維",null,null,null,null,null,null,null,null,{"$f":"データ一覧!H335","v":4},null,null,null,{"$f":"+データ一覧!H360","v":156},null,null,null,null,null,null,{"$f":"データ一覧!H385","v":75429},null,null,null,null,null,null,"  ","農業",null,null,null,null,{"$f":"BZ23+CD23","v":408},null,null,null,{"$f":"データ一覧!H509","v":262},null,null,null,{"$f":"データ一覧!H534","v":146},null,null,null,"  ","不動産業",null,null,null,null,362,null,null,null,{"$f":"データ一覧!H522","v":192},null,null,null,{"$f":"データ一覧!H547","v":170}]
[{"$f":"データ一覧!$A$8","v":"5.4.1"},null,null,null,null,null,null,null,null,null,null,{"$f":"データ一覧!H12","v":1253},null,null,null,null,{"$f":"データ一覧!H13","v":4523.8},null,null,null,null,{"$f":"データ一覧!H14","v":219.3},null,null,null,"大　　      豆",null,null,null,{"$f":"データ一覧!H252","v":1},null,null,{"$f":"データ一覧!H253","v":1},null,null,{"$f":"データ一覧!H254","v":64},null,null,null,"     衣服","木材",null,null,null,null,null,null,null,null,{"$f":"データ一覧!H336","v":3},null,null,null,{"$f":"+データ一覧!H361","v":258},null,null,null,null,null,null,{"$f":"データ一覧!H386","v":898264},null,null,null,null,null,null,"  ","林業",null,null,null,null,12,null,null,null,{"$f":"データ一覧!H510","v":10},null,null,null,{"$f":"データ一覧!H535","v":2},null,null,null,"  ","学術研究",null,null,null,null,1350,null,null,null,{"$f":"データ一覧!H523","v":991},null,null,null,{"$f":"データ一覧!H548","v":359}]
["  ２  世　帯　数　と　人　口",null,null,null,null,null,null,null,null,null,null,null,null,null,null,null,null,null,null,null,null,null,null,null,null,null,null,"  区　分",null," 乳 用 牛",null," 肉 用 牛",null,"豚",null,"採卵鶏",null,"ブロイラー",null,"     木材","家具",null,null,null,null,null,null,null,null,{"$f":"データ一覧!H337","v":1},null,null,null,{"$f":"+データ一覧!H362","v":4},null,null,null,null,null,null,{"$f":"データ一覧!H387","v":"x"},null,null,null,null,null,null,"  ","漁業",null,null,null,null,70,null,null,null,{"$f":"データ一覧!H511","v":59},null,null,null,{"$f":"データ一覧!H536","v":11},null,null,null,"  ","宿泊業,飲食ｻｰﾋﾞｽ",null,null,null,null,2067,null,null,null,{"$f":"データ一覧!H524","v":571},null,null,null,{"$f":"データ一覧!H549","v":1496}]
[null,null,null,null,null,null,null,null,null,null,null,null,null,null,null,null,null,null,null,null,null,null,null,null,null,"畜　産",null," 飼養農家",null,{"$f":"データ一覧!$H$255","v":1},null,{"$f":"データ一覧!$H$257","v":3},null,{"$f":"データ一覧!$H$259","v":0},null,{"$f":"データ一覧!$H$261","v":1},null,{"$f":"データ一覧!$H$263","v":0},null,"     家具","パルプ・紙",null,null,null,null,null,null,null,null,{"$f":"データ一覧!H338","v":4},null,null,null,{"$f":"+データ一覧!H363","v":200},null,null,null,null,null,null,{"$f":"データ一覧!H388","v":936243},null,null,null,null,null,null," 第２次産業",null,null,null,null,null,8813,null,null,null,{"$f":"データ一覧!H512","v":6703},null,null,null,{"$f":"データ一覧!H537","v":2110},null,null,null,"  ","生活関連ｻｰﾋﾞｽ業",null,null,null,null,1025,null,null,null,{"$f":"データ一覧!H525","v":355},null,null,null,{"$f":"データ一覧!H550","v":670}]
[null,null,null,null,null,null,null,null,"        人　　　　　　　　　　口",null,null,null,null,null,null,null,null,null,null,null,"１世帯当",null,"人    口",null,null,{"$f":"データ一覧!$A$255","v":"6.3.31"},null,"（戸）",null,null,null,null,null,null,null,null,null,null,null,"     パルプ・紙","印刷",null,null,null,null,null,null,null,null,{"$f":"データ一覧!H339","v":4},null,null,null,{"$f":"+データ一覧!H364","v":71},null,null,null,null,null,null,{"$f":"データ一覧!H389","v":81162},null,null,null,null,null,null,null,"鉱業，採石業",null,null,null,null,6,null,null,null,{"$f":"データ一覧!H513","v":6},null,null,null,0,null,null,null,"  ","教育,学習支援業",null,null,null,null,1284,null,null,null,{"$f":"データ一覧!H526","v":508},null,null,null,{"$f":"データ一覧!H551","v":776}]
[" 区　　　　分",null,null,null,null,"世帯数",null,null," 総   数",null,null,"    男",null,null,"    女",null,null,"  男／女",null,null,"たり人員",null,"密    度",null,null,null,null," 頭 羽",null,{"$f":"データ一覧!$H$256","v":27},null,{"$f":"データ一覧!$H$258","v":53},null,{"$f":"データ一覧!$H$260","v":0},null,{"$f":"データ一覧!$H$262","v":180},null,{"$f":"データ一覧!$H$264","v":0},null,"     出版・印刷","化学",null,null,null,null,null,null,null,null,{"$f":"データ一覧!H340","v":1},null,null,null,{"$f":"+データ一覧!H365","v":24},null,null,null,null,null,null,{"$f":"データ一覧!H390","v":"x"},null,null,null,null,null,null,"  ","建設業",null,null,null,null,4759,null,null,null,{"$f":"データ一覧!H514","v":3933},null,null,null,{"$f":"データ一覧!H539","v":826},null,null,null,null,"医療，福祉",null,null,null,null,3986,null,null,null,{"$f":"データ一覧!H527","v":777},null,null,null,{"$f":"データ一覧!H552","v":3209}]
[null,null,null,null,null,"    世 帯",null,null,"       人",null,null,"       人",null,null,"       人",null,null,null,"　　％",null,"    人",null,"    人/㎢",null,null,null,null,null,null,null,null,null,null,null,null,null,null,null,null,"     化学","石油・石炭",null,null,null,null,null,null,null,null,{"$f":"データ一覧!H341","v":2},null,null,null,{"$f":"+データ一覧!H366","v":10},null,null,null,null,null,null,{"$f":"データ一覧!H391","v":"x"},null,null,null,null,null,null,null,"製造業",null,null,null,null,4048,null,null,null,{"$f":"データ一覧!H515","v":2764},null,null,null,{"$f":"データ一覧!H540","v":1284},null,null,null,null,"複合サービス事業",null,null,null,null,273,null,null,null,{"$f":"データ一覧!H528","v":138},null,null,null,{"$f":"データ一覧!H553","v":135}]
[{"$f":"データ一覧!$A$22","v":" 2.10.1"},null,null,null,null,{"$f":"データ一覧!H22","v":22995},null,null,{"$f":"+L30+O30","v":68041},null,null,{"$f":"データ一覧!H24","v":34091},null,null,{"$f":"データ一覧!H25","v":33950},null,null,null,{"$f":"+L30/O30*100","v":100.41531664212076},null,{"$f":"データ一覧!H27","v":2.96},null,{"$f":"データ一覧!H28","v":271.60000000000002},null,null,"  ５  林               業",null,null,null,null,null,null,null,null,null,null,null,null,null,"     石油・石炭","プラスチック",null,null,null,null,null,null,null,null,{"$f":"データ一覧!H342","v":5},null,null,null,{"$f":"+データ一覧!H367","v":1123},null,null,null,null,null,null,{"$f":"データ一覧!H392","v":6554138},null,null,null,null,null,null," 第３次産業",null,null,null,null,null,22186,null,null,null,{"$f":"データ一覧!H516","v":10715},null,null,null,{"$f":"データ一覧!H541","v":11471},null,null,null,null,"サービス業",null,null,null,null,2420,null,null,null,{"$f":"データ一覧!H529","v":1634},null,null,null,{"$f":"データ一覧!H554","v":786}]
[{"$f":"データ一覧!$A$29","v":" 7.10.1"},null,null,null,null,{"$f":"データ一覧!H29","v":23115},null,null,{"$f":"+L31+O31","v":67204},null,null,{"$f":"データ一覧!H31","v":33047},null,null,{"$f":"データ一覧!H32","v":34157},null,null,null,96.750300084902079,null,{"$f":"データ一覧!H34","v":2.91},null,{"$f":"データ一覧!H35","v":268.10000000000002},null,null,null,null,null,null,null,null,null,null,null,null,null,null,null,null,"     プラスチック","ゴム",null,null,null,null,null,null,null,null,{"$f":"データ一覧!H343","v":0},null,null,null,{"$f":"+データ一覧!H368","v":0},null,null,null,null,null,null,{"$f":"データ一覧!H393","v":0},null,null,null,null,null,null,null,"電気･ｶﾞｽ･水道業",null,null,null,null,1295,null,null,null,{"$f":"データ一覧!H517","v":1176},null,null,null,{"$f":"データ一覧!H542","v":119},null,null,null,null,"公務",null,null,null,null,1103,null,null,null,{"$f":"データ一覧!H530","v":746},null,null,null,{"$f":"データ一覧!H555","v":357}]
[{"$f":"データ一覧!$A$36","v":"12.10.1"},null,null,null,null,{"$f":"データ一覧!H36","v":24539},null,null,{"$f":"+L32+O32","v":68145},null,null,{"$f":"データ一覧!H38","v":33504},null,null,{"$f":"データ一覧!H39","v":34641},null,null,null,96.717762189313234,null,{"$f":"データ一覧!H41","v":2.78},null,{"$f":"データ一覧!H42","v":271.8},null,null,"    　森　　　林　　　総　　　面　　　積   ",null,null,null,null,null,null,null,{"$f":"データ一覧!$A$265","v":"5.3.31"},null,null,null,null,null,"     ゴム","皮革",null,null,null,null,null,null,null,null,{"$f":"データ一覧!H344","v":0},null,null,null,{"$f":"+データ一覧!H369","v":0},null,null,null,null,null,null,{"$f":"データ一覧!H394","v":0},null,null,null,null,null,null,null,"情報通信業",null,null,null,null,295,null,null,null,{"$f":"データ一覧!H518","v":172},null,null,null,{"$f":"データ一覧!H543","v":123},null,null,null," 分類不能の産業",null,null,null,null,null,523,null,null,null,{"$f":"データ一覧!H531","v":323},null,null,null,{"$f":"データ一覧!H556","v":200}]
[{"$f":"+データ一覧!$A$43","v":"17.10.1"},null,null,null,null,{"$f":"データ一覧!H43","v":25742},null,null,{"$f":"+L33+O33","v":68402},null,null,{"$f":"データ一覧!H45","v":33475},null,null,{"$f":"データ一覧!H46","v":34927},null,null,null,95.842757751882502,null,{"$f":"データ一覧!H48","v":2.66},null,{"$f":"データ一覧!H49","v":272.8},null,null,"　　　森　　　　　　　林　　　　　　　の　　　　　　　構　　　　　　　成",null,null,null,null,null,null,null,null,null,null,null,null,null,"     皮革","窯業・土石",null,null,null,null,null,null,null,null,{"$f":"データ一覧!H345","v":9},null,null,null,{"$f":"+データ一覧!H370","v":366},null,null,null,null,null,null,{"$f":"データ一覧!H395","v":1386031},null,null,null,null,null,null,"  ","運輸業,郵便業",null,null,null,null,{"$f":"BZ33+CD33","v":1839},null,null,null,{"$f":"データ一覧!H519","v":1518},null,null,null,{"$f":"データ一覧!H544","v":321}]
[{"$f":"+データ一覧!$A$50","v":"22.10.1"},null,null,null,null,{"$f":"+データ一覧!H50","v":26453},null,null,{"$f":"+L34+O34","v":67760},null,null,{"$f":"+データ一覧!H52","v":33396},null,null,{"$f":"+データ一覧!H53","v":34364},null,null,null,97.183098591549296,null,{"$f":"+データ一覧!H55","v":2.56},null,{"$f":"+データ一覧!H56","v":269.7},null,null,null,null,null,null,null,"       ha",null,null,null,null,null,null,"       ha",null,"     窯業・土石","鉄鋼",null,null,null,null,null,null,null,null,{"$f":"データ一覧!H346","v":0},null,null,null,{"$f":"+データ一覧!H371","v":0},null,null,null,null,null,null,{"$f":"データ一覧!H396","v":0},null,null,null,null,null,null," １６  社　 会 　福　 祉",null,null,null,null,null,null,null,null,null,null,null,null,null,null,null,{"$f":"データ一覧!$A$557","v":"6.4.1"}]
[{"$f":"データ一覧!$A$57","v":"27.10.1"},null,null,null,null,{"$f":"データ一覧!H57","v":26545},null,null,{"$f":"データ一覧!H58","v":66165},null,null,{"$f":"データ一覧!H59","v":32558},null,null,{"$f":"データ一覧!H60","v":33607},null,null,null,96.878626476626891,null,{"$f":"データ一覧!H62","v":2.4925598041062349},null,{"$f":"データ一覧!H63","v":263.2},null,null,"  総　　　　　   数",null,null,null,{"$f":"データ一覧!H265","v":19934.489999999994},null,null," 天然林       針葉樹",null,null,null,{"$f":"データ一覧!H268","v":2068.36},null,null,"     鉄鋼","非鉄金属",null,null,null,null,null,null,null,null,{"$f":"データ一覧!H347","v":1},null,null,null,{"$f":"+データ一覧!H372","v":25},null,null,null,null,null,null,{"$f":"データ一覧!H397","v":"x"}]
["令　2.10.1（国調）",null,null,null,null,{"$f":"データ一覧!H64","v":27849},null,null,{"$f":"データ一覧!H65","v":64264},null,null,{"$f":"データ一覧!H66","v":31785},null,null,{"$f":"データ一覧!H67","v":32479},null,null,null,{"$f":"+L36/O36*100","v":97.863234705502009},null,{"$f":"データ一覧!H69","v":2.3075873460447411},null,{"$f":"データ一覧!H70","v":255.55334632361712},null,null,"  人工林     針葉樹",null,null,null,{"$f":"データ一覧!H266","v":4388.3},null,null," 天然林       広葉樹",null,null,null,{"$f":"データ一覧!H269","v":12629.14},null,null,"     非鉄金属","金属",null,null,null,null,null,null,null,null,{"$f":"データ一覧!H348","v":7},null,null,null,{"$f":"+データ一覧!H373","v":58},null,null,null,null,null,null,{"$f":"データ一覧!H398","v":73287},null,null,null,null,null,null,"    ","区分",null,null,null,null,null,null,"施設数",null,null,null,null,"収容定員",null,null,null,null,null,"区分",null,null,null,null,null,null,"施設数",null,null,null,null,"収容定員"]
["年",null,"  区",null," 0歳",null,null,"15歳",null,null,"25歳",null,null,"35歳",null,null,"45歳",null,null,"55歳",null,null,"65歳",null,null,"  人工林     広葉樹",null,null,null,{"$f":"データ一覧!H267","v":395.69},null,null," 竹               林",null,null,null,{"$f":"データ一覧!H270","v":73.03},null,null,"     金属","はん用機械",null,null,null,null,null,null,null,null,{"$f":"データ一覧!H349","v":0},null,null,null,{"$f":"+データ一覧!H374","v":0},null,null,null,null,null,null,{"$f":"データ一覧!H399","v":0},null,null,null,null,null,null,"生活保護施設",null,null,null,null,null,null,null,{"$f":"データ一覧!H557","v":"-"},null,null,null,{"$f":"データ一覧!H570","v":"-"},null,null,null,"人",null,"指定障害者支援施設",null,null,null,null,null,null,null,{"$f":"データ一覧!H563","v":1},null,null,null,{"$f":"データ一覧!H576","v":30},null,null,null,"人"]
["齢","令",null,null,null,"～",null,null,"～",null,null,"～",null,null,"～",null,null,"～",null,null,"～",null,null,null,null,null,null,null,null,null,null,null,null,null,null,null,null,null,null,"     一般機械","生産用機械",null,null,null,null,null,null,null,null,{"$f":"データ一覧!H350","v":2},null,null,null,{"$f":"+データ一覧!H375","v":38},null,null,null,null,null,null,{"$f":"データ一覧!H400","v":"x"},null,null,null,null,null,null,"地域福祉施設",null,null,null,null,null,null,null,{"$f":"データ一覧!H558","v":1},null,null,null,{"$f":"データ一覧!H571","v":"-"},null,null,null,null,null,"指定相談支援事業所",null,null,null,null,null,null,null,{"$f":"データ一覧!H564","v":3},null,null,null,{"$f":"データ一覧!H577","v":"-"}]
["階",{"$f":"+LEFT(データ一覧!$A$83,1)","v":"6"},"  分",null,null,null,"14歳",null,null,"24歳",null,null,"34歳",null,null,"44歳",null,null,"54歳",null,null,"64歳",null,null,"以上","    林     野     の     構     成",null,null,null,null,null,null,"保     有     形     態     別",null,null,null,null,null,null,"     電気機械","業務用機械",null,null,null,null,null,null,null,null,{"$f":"データ一覧!H351","v":0},null,null,null,{"$f":"+データ一覧!H376","v":0},null,null,null,null,null,null,{"$f":"データ一覧!H401","v":0},null,null,null,null,null,null,"老人福祉施設",null,null,null,null,null,null,null,{"$f":"データ一覧!H559","v":12},null,null,null,{"$f":"データ一覧!H572","v":229},null,null,null,null,null,"児童福祉施設",null,null,null,null,null,null,null,{"$f":"データ一覧!H565","v":45},null,null,null,{"$f":"データ一覧!H578","v":2588}]
["級","・",null,null,null,null,"人",null,null,"人",null,"    人",null,null,"    人",null,null,"    人",null,null,"    人",null,null,"    人",null,null,null,null,null,null,null,"ha",null,null,null,null,null,"       ha",null,null,"電子・デバイス",null,null,null,null,null,null,null,null,{"$f":"データ一覧!H352","v":5},null,null,null,{"$f":"+データ一覧!H377","v":595},null,null,null,null,null,null,{"$f":"データ一覧!H402","v":3429456},null,null,null,null,null,null,"介護保険施設",null,null,null,null,null,null,null,{"$f":"データ一覧!H560","v":107},null,null,null,{"$f":"データ一覧!H573","v":1986},null,null,null,null,null,"母子福祉施設",null,null,null,null,null,null,null,{"$f":"データ一覧!H566","v":"-"},null,null,null,{"$f":"データ一覧!H579","v":"-"}]
["別",{"$f":"+MID(データ一覧!$A$83,3,2)","v":"10"},"総 数",null,{"$f":"+E42+E43","v":7139},null,null,{"$f":"+H42+H43","v":5420},null,null,{"$f":"+K42+K43","v":5128},null,null,{"$f":"+N42+N43","v":6875},null,null,{"$f":"+Q42+Q43","v":8953},null,null,{"$f":"+T42+T43","v":8049},null,null,{"$f":"+W42+W43","v":18566},null,null," 無立木地   伐採跡地",null,null,null,{"$f":"データ一覧!H271","v":0.35},null,null,"国   　　　 　 有",null,null,null,{"$f":"データ一覧!H273","v":4794.99},null,null,null,"電気機械",null,null,null,null,null,null,null,null,{"$f":"データ一覧!H353","v":5},null,null,null,{"$f":"+データ一覧!H378","v":93},null,null,null,null,null,null,{"$f":"データ一覧!H403","v":398534},null,null,null,null,null,null,"障害者自立支援法施行前からの身体障害者福祉施設",null,null,null,null,null,null,null,{"$f":"データ一覧!H561","v":"-"},null,null,null,{"$f":"データ一覧!H574","v":"-"},null,null,null,null,null,"婦人保護施設",null,null,null,null,null,null,null,{"$f":"データ一覧!H567","v":"-"},null,null,null,{"$f":"データ一覧!H580","v":"-"}]
["人","・","  男",null,{"$f":"データ一覧!H83","v":3606},null,null,{"$f":"データ一覧!H84","v":2846},null,null,{"$f":"データ一覧!H85","v":2737},null,null,{"$f":"データ一覧!H86","v":3555},null,null,{"$f":"データ一覧!H87","v":4574},null,null,{"$f":"データ一覧!H88","v":4123},null,null,{"$f":"データ一覧!H89","v":8139},null,null," 無立木地   未立木地",null,null,null,{"$f":"データ一覧!H272","v":379.62},null,null,"公       　　  有",null,null,null,{"$f":"データ一覧!H274","v":1873.78},null,null,"     輸送機械","情報通信機械",null,null,null,null,null,null,null,null,{"$f":"データ一覧!H354","v":0},null,null,null,{"$f":"+データ一覧!H379","v":0},null,null,null,null,null,null,{"$f":"データ一覧!H404","v":0},null,null,null,null,null,null,null,null,null,null,null,null,null,null,null,null,null,null,null,null,null,null,null,null,"その他の社会福祉施設",null,null,null,null,null,null,null,{"$f":"データ一覧!H568+データ一覧!H569","v":2},null,null,null,0]
["口",{"$f":"+RIGHT(データ一覧!$A$83,1)","v":"1"},"  女",null,{"$f":"データ一覧!H91","v":3533},null,null,{"$f":"データ一覧!H92","v":2574},null,null,{"$f":"データ一覧!H93","v":2391},null,null,{"$f":"データ一覧!H94","v":3320},null,null,{"$f":"データ一覧!H95","v":4379},null,null,{"$f":"データ一覧!H96","v":3926},null,null,{"$f":"データ一覧!H97","v":10427},null,null,null,null,null,null,null,null,null,"私          　 有",null,null,null,{"$f":"データ一覧!H275","v":13265.72},null,null,"     精密機械","輸送機械",null,null,null,null,null,null,null,null,{"$f":"データ一覧!H355","v":3},null,null,null,{"$f":"+データ一覧!H380","v":50},null,null,null,null,null,null,{"$f":"データ一覧!H405","v":18950},null,null,null,null,null,null,"障害福祉サービス事業所",null,null,null,null,null,null,null,{"$f":"データ一覧!H562","v":46},null,null,null,{"$f":"データ一覧!H575","v":561}]
[null,null,null,null,null,null,null,null,null,null,null,null,null,null,null,null,null,null,null,null,null,null,null,null,null,"            林     産     物     生     産     量 ",null,null,null,null,null,null,null,null,null,{"$f":"データ一覧!$A$276","v":"5年中"},null,null,null,"     その他","その他",null,null,null,null,null,null,null,null,{"$f":"データ一覧!H356","v":4},null,null,null,{"$f":"+データ一覧!H381","v":40},null,null,null,null,null,null,{"$f":"データ一覧!H406","v":56929},null,null,null,null,null,null," １７  教　　　　　　　育",null,null,null,null,null,null,null,null,null,null,null,null,null,null,null,{"$f":"データ一覧!$A$583","v":"6.5.1"}]
["人口動態",null,null,null,null,null,null,"   自　然　動　態",null,null,null,null,null,"   社  会  動  態",null,null,null,null,null,{"$f":"データ一覧!$A78","v":"5.1.1～5.12.31"},null,null,null,null,null,"生椎茸",null,null,null,{"$f":"データ一覧!H276","v":5120},null,"㎏","乾椎茸",null,null,null,{"$f":"データ一覧!H277","v":370},null,"㎏"]
[null,null,"   区       分",null,null,null,null," 出   生",null,null," 死   亡",null,null," 転   入",null,null," 転   出",null,null," 婚   姻",null,null," 離   婚",null,null,"えのきだけ",null,null,null,{"$f":"データ一覧!H279","v":0},null,"㎏","なめこ",null,null,null,{"$f":"データ一覧!H278","v":22},null,"㎏","    ","工　業　用　水　量",null,null,null,null,null,"（従業者30人以上の事業所）",null,null,null,null,null,null,null,null,null,null,{"$f":"データ一覧!H407","v":61457},null,null,null,null,"㎥／日",null,null,null,null,null,null,null,null,null,null,null,null,null,null,"学校数（校）",null,null,null,null,null,null,"教員数（人）",null,null,null,null,null,null,null,"学生・生徒・児童数（人）"]
[{"$f":"LEFT(データ一覧!$A74,6)","v":"5.10.1"},null,null,null,null,null,null,"       人",null,null,"       人",null,null,"       人",null,null,"       人",null,null,null,"    件",null,null,"    件",null,"ひらたけ",null,null,null,{"$f":"+データ一覧!H280","v":0},null,"㎏","まいたけ",null,null,null,{"$f":"+データ一覧!H281","v":0},null,"㎏",null,null,null,null,null,null,null,null,null,null,null,null,null,null,null,null,null,null,null,null,null,null,null,null,null,null,null,null,null,"　","区分",null,null,null,null,null,null,null," 本 校",null,null," 分 校",null,null," 本   務",null,null,null," 兼   務",null,null,null," 総   数",null,null,null,"男",null,null,null,"女"]
["～",null," 実          数",null,null,null,null,{"$f":"データ一覧!H74","v":365},null,null,{"$f":"データ一覧!H75","v":880},null,null,{"$f":"データ一覧!H76","v":2048},null,null,{"$f":"データ一覧!H77","v":2196},null,null,{"$f":"データ一覧!H78","v":218},null,null,{"$f":"データ一覧!H79","v":90},null,null,null,null,null,null,null,null,null,null,null,null,null,null,null,null," １１ 　上　・　下　水　道",null,null,null,null,null,null,null,null,null,null,null,null,null,null,null,null,null,null,null,null,null,null,null,null,null,null,null,null,"小学校",null,null,null,null,null,null,null,null,{"$f":"データ一覧!H584","v":11},null,null,{"$f":"データ一覧!H585","v":0},null,null,{"$f":"データ一覧!H586","v":231},null,null,null,{"$f":"データ一覧!H587","v":43},null,null,null,{"$f":"データ一覧!H588","v":3174},null,null,null,{"$f":"データ一覧!H589","v":1626},null,null,null,{"$f":"データ一覧!H590","v":1548}]
[{"$f":"RIGHT(データ一覧!$A76,6)","v":"6.9.30"},null,"比率(対1,000人)",null,null,null,null,{"$f":"+H48/I36*1000","v":5.6796962529565542},null,null,{"$f":"+K48/I36*1000","v":13.693514253703473},null,null,"- ",null,null,"- ",null,null,{"$f":"+T48/I36*1000","v":3.3922569401219969},null,null,{"$f":"+W48/I36*1000","v":1.400473048674219},null,null,"  ６  漁               業",null,null,null,null,null,null,null,null,null,null,null,null,null,null,null,null,null,null,null,null,null,null,null,null,null,null,null,null,null,null,null,null,null,null,null,null,null,null,null,null,null,"  ","中学校",null,null,null,null,null,null,null,null,{"$f":"データ一覧!H592","v":6},null,null,{"$f":"データ一覧!H593","v":0},null,null,{"$f":"データ一覧!H594","v":139},null,null,null,{"$f":"データ一覧!H595","v":52},null,null,null,{"$f":"データ一覧!H596","v":1717},null,null,null,{"$f":"データ一覧!H597","v":868},null,null,null,{"$f":"データ一覧!H598","v":849}]
[null,null,null,null,null,null,null,null,null,null,null,null,null,null,null,null,null,null,null,null,null,null,null,null,null,null,null,null,null,null,null,null,null,null,null,null,null,null,null,"水 道 供 給 人 口",null,null,null,null,null,null,"上 水 道",null,null,null,"簡易水道",null,null,null,"専用水道",null,null,null,"飲料水供給施設",null,null,null,"下水道処理人口",null,null,null,null,"  ","高等学校",null,null,null,null,null,null,null,null,{"$f":"データ一覧!H600","v":4},null,null,{"$f":"データ一覧!H601","v":0},null,null,{"$f":"データ一覧!H602","v":136},null,null,null,{"$f":"データ一覧!H603","v":59},null,null,null,{"$f":"データ一覧!H604","v":1666},null,null,null,{"$f":"データ一覧!H605","v":926},null,null,null,{"$f":"データ一覧!H606","v":740}]
["  ３  事　　業　　所（民　　営）",null,null,null,null,null,null,null,null,null,null,"3.6.1",null,null,null,null,null,null,null,null,null,null,null,null,null,"漁船隻数・トン数",null,null,null,{"$f":"データ一覧!$A$282","v":"5.12.31"},null,null,null,"動　力　船",null,null,null,null,null,{"$f":"データ一覧!$A$408","v":"6.3.31"},null,null,null,null,null,"人",null,{"$f":"データ一覧!H408","v":61265},null,null,{"$f":"データ一覧!H409","v":0},null,null,null,null,{"$f":"データ一覧!H410","v":475},null,null,null,{"$f":"データ一覧!H411","v":0},null,null,null,{"$f":"データ一覧!H412","v":55691},null,null,null,"  ","大学・短期大学",null,null,null,null,null,null,null,null,{"$f":"データ一覧!H607","v":2},null,null,{"$f":"データ一覧!H608","v":0},null,null,{"$f":"データ一覧!H609","v":39},null,null,null,{"$f":"データ一覧!H610","v":40},null,null,null,{"$f":"データ一覧!H611","v":368},null,null,null,{"$f":"データ一覧!H612","v":127},null,null,null,{"$f":"データ一覧!H613","v":241}]
[null,null,null,null,null,null,null,null,null,null,null,null,null,null,null,null,null,null,null,null,null,null,null,null,null,"無動力船隻数",null,null,null,"船外機付漁船隻数",null,null,null,"隻　数",null,null,"総 ト ン 数",null,null,null,null,null,null,null,null,null,null,null,null,null,null,null,null,null,null,null,null,null,null,null,null,null,null,null,null,null,null,"  ","高等専門学校",null,null,null,null,null,null,null,null,{"$f":"データ一覧!H614","v":0},null,null,{"$f":"データ一覧!H615","v":0},null,null,{"$f":"データ一覧!H616","v":0},null,null,null,{"$f":"データ一覧!H617","v":0},null,null,null,{"$f":"データ一覧!H618","v":0},null,null,null,{"$f":"データ一覧!H619","v":0},null,null,null,{"$f":"データ一覧!H620","v":0}]
[null,null,null,null,null,null,null,"    総　　　　　数",null,null,null,null,null,"    民　　　　　営",null,null,null,null,null,"  国 ･ 地方公共団体",null,null,null,null,null,null,null,null,"隻",null,null,null,"隻",null,null,"隻",null,null,"t"," １２  交   通　・　通   信",null,null,null,null,null,null,null,null,null,null,null,null,null,null,null,null,null,null,null,null,null,null,null,null,null,null,null,"  ","特別支援学校",null,null,null,null,null,null,null,null,{"$f":"データ一覧!H622","v":0},null,null,{"$f":"データ一覧!H623","v":0},null,null,{"$f":"+データ一覧!H624","v":0},null,null,null,{"$f":"+データ一覧!H625","v":0},null,null,null,{"$f":"+データ一覧!H626","v":0},null,null,null,{"$f":"+データ一覧!H627","v":0},null,null,null,{"$f":"+データ一覧!H628","v":0}]
["  　区　　　　　　分",null,null,null,null,null,null," 事業所数",null,null," 従業者数",null,null," 事業所数",null,null," 従業者数",null,null," 事業所数",null,null," 従業者数",null,null,{"$f":"データ一覧!$H$282","v":0},null,null,null,{"$f":"データ一覧!$H$283","v":61},null,null,null,{"$f":"データ一覧!H284","v":95},null,null,{"$f":"データ一覧!H285","v":533.54999999999995},null,null,null,null,null,null,null,null,null,null,null,null,null,null,null,null,null,null,null,null,null,null,null,null,null,null,null,null,null,null,"  ","幼稚園",null,null,null,null,null,null,null,null,{"$f":"データ一覧!H630","v":3},null,null,{"$f":"データ一覧!H631","v":0},null,null,{"$f":"データ一覧!H632","v":21},null,null,null,{"$f":"データ一覧!H633","v":8},null,null,null,{"$f":"データ一覧!$H$634","v":118},null,null,null,{"$f":"データ一覧!H635","v":62},null,null,null,{"$f":"データ一覧!H636","v":56}]
[null,null,null,null,null,null,null,null,null,null,"       人",null,null,null,null,null,"       人",null,null,null,null,null,"       人",null,null,"  男女別就業者数",null,null,null,null,null,null,null,{"$f":"データ一覧!$A$286","v":"5.11.1"},null,null,null,null,null,"道     路",null,null,null,"実 延 長",null,null,null,"国     道",null,null,null,"県     道",null,null,null,"市町道",null,null,null," 鉄 道 営 業 キ ロ 数",null,null,null,null,null,null,null,"  ","幼保連携認定こども園",null,null,null,null,null,null,null,null,{"$f":"データ一覧!H638","v":3},null,null,{"$f":"データ一覧!H639","v":0},null,null,{"$f":"データ一覧!H640","v":64},null,null,null,{"$f":"データ一覧!H641","v":10},null,null,null,{"$f":"データ一覧!H642","v":478},null,null,null,{"$f":"データ一覧!H643","v":241},null,null,null,{"$f":"データ一覧!H644","v":237}]
["総数",null,null,null,null,null,null,{"$f":"データ一覧!H99","v":"…"},null,null,{"$f":"データ一覧!H156","v":"…"},null,null,{"$f":"データ一覧!H100","v":3184},null,null,{"$f":"データ一覧!H157","v":31278},null,null,{"$f":"データ一覧!H101","v":"…"},null,null,{"$f":"データ一覧!H158","v":"…"},null,null,"総　　数",null,null,null,null,null,"男",null,null,null,"女",null,null,null,{"$f":"データ一覧!$A$413","v":"5.4.1"},null,null,null,{"$f":"データ一覧!H413","v":520.6},null,null,"㎞",{"$f":"データ一覧!H414","v":12.2},null,null,"㎞",{"$f":"データ一覧!H415","v":71.599999999999994},null,null,"㎞",{"$f":"データ一覧!H416","v":436.8},null,null,"km",{"$f":"データ一覧!$A$417","v":"6.4.1"},null,null,null,{"$f":"データ一覧!H417","v":0},null,null,"㎞","  ","各種学校",null,null,null,null,null,null,null,null,{"$f":"データ一覧!H646","v":3},null,null,{"$f":"データ一覧!H647","v":0},null,null,{"$f":"データ一覧!H648","v":30},null,null,null,{"$f":"データ一覧!H649","v":0},null,null,null,{"$f":"データ一覧!H650","v":221},null,null,null,{"$f":"データ一覧!H651","v":148},null,null,null,{"$f":"データ一覧!H652","v":73}]
["農林漁業",null,null,null,null,null,null,{"$f":"データ一覧!H102","v":"…"},null,null,{"$f":"データ一覧!H159","v":"…"},null,null,{"$f":"データ一覧!H103","v":10},null,null,{"$f":"データ一覧!H160","v":205},null,null,{"$f":"データ一覧!H104","v":"…"},null,null,{"$f":"データ一覧!H161","v":"…"},null,null,null,null,null,null,null,"人",null,null,"　　　　人",null,null,null,null,"  人","自動車",null,null,null,null,null,null,null,null,"乗用車",null,null,null,null,null,null,null,null,null,null,null,null,null,null,null,null,null,null,"  ","専修学校",null,null,null,null,null,null,null,null,{"$f":"データ一覧!H654","v":0},null,null,{"$f":"データ一覧!H655","v":0},null,null,{"$f":"データ一覧!H656","v":0},null,null,null,{"$f":"データ一覧!H657","v":0},null,null,null,{"$f":"データ一覧!H658","v":0},null,null,null,{"$f":"データ一覧!H659","v":0},null,null,null,{"$f":"データ一覧!H660","v":0}]
["鉱業",null,null,null,null,null,null,{"$f":"データ一覧!H105","v":"…"},null,null,{"$f":"データ一覧!H162","v":"…"},null,null,{"$f":"データ一覧!H106","v":"-"},null,null,{"$f":"データ一覧!H163","v":"-"},null,null,{"$f":"データ一覧!H107","v":"…"},null,null,{"$f":"データ一覧!H164","v":"…"},null,null,{"$f":"データ一覧!H286","v":102},null,null,null,null,null,{"$f":"データ一覧!$H$287","v":0},null,null,null,{"$f":"データ一覧!H288","v":0},null,null,null,"台  数",null,null,null,"貨    物",null,null,null,"普     通",null,null,null,"小     型",null,null,null,"乗  合",null,null,"特  種",null,null,"小型二輪",null,null,"軽自動車",null,null," １８  衛　　　　　　　生"]
["建設業",null,null,null,null,null,null,{"$f":"データ一覧!H108","v":"…"},null,null,{"$f":"データ一覧!H165","v":"…"},null,null,{"$f":"データ一覧!H109","v":465},null,null,{"$f":"データ一覧!H166","v":3975},null,null,{"$f":"データ一覧!H110","v":"…"},null,null,{"$f":"データ一覧!H167","v":"…"},null,null,"　　　　海 面 漁 業 漁 獲 量 （属人）",null,null,null,null,null,null,null,{"$f":"データ一覧!$A$289","v":"30年中"},null,null,null,null,null,{"$f":"データ一覧!$A$418","v":"6.3.31"},null,null,null,null,{"$f":"データ一覧!H418","v":4459},null,null,null,{"$f":"データ一覧!H420","v":12524},null,null,null,{"$f":"データ一覧!H421","v":10476},null,null,{"$f":"データ一覧!H419","v":175},null,null,{"$f":"データ一覧!H422","v":1518},null,null,{"$f":"データ一覧!H423","v":966},null,null,{"$f":"データ一覧!H424","v":25006}]
["製造業",null,null,null,null,null,null,{"$f":"データ一覧!H111","v":"…"},null,null,{"$f":"データ一覧!H168","v":"…"},null,null,{"$f":"データ一覧!H112","v":165},null,null,{"$f":"データ一覧!H169","v":3835},null,null,{"$f":"データ一覧!H113","v":"…"},null,null,{"$f":"データ一覧!H170","v":"…"},null,null,null,null,null,null,null,"       ","ｔ",null,null,null,null,null,null,"t",null,null,"     ",null,"郵　便　局　数",null,null,null,null,null,null,null,null,null,null,null,null,null,{"$f":"+MID(データ一覧!$A$428,3,2)","v":"3."},"令","一般加入",null,null,null,"ＩＮＳネット",null,null,null,null,null,null,null,"医療関係施設",null,null,null,null,null,{"$f":"データ一覧!$A$661","v":"5.10.1"},null,null,null,null,null,null,"および医療関係者数",null,null,null,null,null,null,null,{"$f":"データ一覧!$A$666","v":"4.12.31"}]
["電気・ｶﾞ ｽ・熱供給・水道業",null,null,null,null,null,null,{"$f":"データ一覧!H114","v":"…"},null,null,{"$f":"データ一覧!H171","v":"…"},null,null,{"$f":"データ一覧!H115","v":9},null,null,{"$f":"データ一覧!H172","v":473},null,null,{"$f":"データ一覧!H116","v":"…"},null,null,{"$f":"データ一覧!H173","v":"…"},null,null,"   総　　　　　　数",null,null,null,{"$f":"データ一覧!H289","v":503},null,null,"   藻　　　　　　類",null,null,null,{"$f":"データ一覧!H292","v":2},null,null,"通  信",null,null,null," 総     数",null,null,null,null," 郵 便 局",null,null,null,null," 簡 易 局",null,null,null,"・",{"$f":"+LEFT(データ一覧!$A$428,1)","v":"6"},"電話数",null,null,null,"加入数",null,null,null,null,null,null,null,null,null,"　","病",null,null,"院",null,"　",null,null,null,null," ","一般診療所",null,null,null,null,null,null,null,null,null,null,null,"歯科診療所"]
["情報通信業",null,null,null,null,null,null,{"$f":"データ一覧!H117","v":"…"},null,null,{"$f":"データ一覧!H174","v":"…"},null,null,{"$f":"データ一覧!H118","v":23},null,null,{"$f":"データ一覧!H175","v":241},null,null,{"$f":"データ一覧!H119","v":"…"},null,null,{"$f":"データ一覧!H176","v":"…"},null,null,"   魚　　　　　　類",null,null,null,{"$f":"データ一覧!H290","v":420},null,null,"   そ　   の　　 他",null,null,null,{"$f":"データ一覧!H293","v":71},null,null,{"$f":"データ一覧!$A$428","v":"6.3.31"},null,null,null,{"$f":"データ一覧!H425","v":12},null,null,null,null,{"$f":"データ一覧!H426","v":11},null,null,null,null,{"$f":"データ一覧!H427","v":1},null,null,null,{"$f":"+RIGHT(データ一覧!$A$428,2)","v":"31"},"・",{"$f":"データ一覧!H428","v":5414},null,null,null,{"$f":"データ一覧!H429","v":953},null,null,null," ","医療関係",null,null,null,null,null,null,null,null,null,null,null,"一般病院",null,null,null,null,null,null,null,null,null,null,null,"有",null,null,"床"]
["運輸業、郵便業",null,null,null,null,null,null,{"$f":"データ一覧!H120","v":"…"},null,null,{"$f":"データ一覧!H177","v":"…"},null,null,{"$f":"データ一覧!H121","v":104},null,null,{"$f":"データ一覧!H178","v":2323},null,null,{"$f":"データ一覧!H122","v":"…"},null,null,{"$f":"データ一覧!H179","v":"…"},null,null,"   貝　　　　　　類",null,null,null,{"$f":"データ一覧!H291","v":10},null,null,null,null,null,null,null,null,null,null,null,null,null,null,null,null,null,null,null,null,null,null,null,null,null,null,null,null,null,null,null,null,null,null,null,null,null,null,"施設数",null,null,null,null,null,null,{"$f":"データ一覧!H661","v":5},null,null,null,null,null,{"$f":"データ一覧!H662","v":3},null,null,null,null,null,{"$f":"データ一覧!H663","v":50},null,null,null,null,null,{"$f":"データ一覧!H664","v":3},null,null,null,null,null,{"$f":"データ一覧!H665","v":21}]
["卸売業、小売業",null,null,null,null,null,null,{"$f":"データ一覧!H123","v":"…"},null,null,{"$f":"データ一覧!H180","v":"…"},null,null,{"$f":"データ一覧!H124","v":763},null,null,{"$f":"データ一覧!H181","v":5658},null,null,{"$f":"データ一覧!H125","v":"…"},null,null,{"$f":"データ一覧!H182","v":"…"},null,null,null,null,null,null,null,null,null,null,null,null,null,null,null,null," １３  税　　・　　財　　政",null,null,null,null,null,null,null,null,null,null,null,null,null,null,null,null,null,null,null,null,null,null,null,null,null,null,null,null,null,null,null,null,null,null,"医師",null,null,null,null,"歯科医師",null,null,null,null,"薬剤師",null,null,null,null,"保健師",null,null,null,null,"助産師",null,null," ",null,"看護師",null,null," "]
["金融業、保険業",null,null,null,null,null,null,{"$f":"データ一覧!H126","v":"…"},null,null,{"$f":"データ一覧!H183","v":"…"},null,null,{"$f":"データ一覧!H127","v":56},null,null,{"$f":"データ一覧!H184","v":569},null,null,{"$f":"データ一覧!H128","v":"…"},null,null,{"$f":"データ一覧!H185","v":"…"},null,null,"  ７  商        　　　業 ",null,null,null,null,null,null,{"$f":"データ一覧!$A$294","v":"3.6.1(令和2年実績）"},null,null,null,null,null,null,null,null,null,null,null,null,null,null,null,null,null,null,null,null,null,null,null,null,null,null,null,null,null,null,null,null,null,null," ","医療",null,null,null,null,null,null,null,null,"人",null,null,null,null,"人",null,null,null,null,"人",null,null,null,null,"人",null,null,null,null,"人",null,null,null,null,"人"]
["不動産業、物品賃貸業",null,null,null,null,null,null,{"$f":"データ一覧!H129","v":"…"},null,null,{"$f":"データ一覧!H186","v":"…"},null,null,{"$f":"データ一覧!H130","v":133},null,null,{"$f":"データ一覧!H187","v":655},null,null,{"$f":"データ一覧!H131","v":"…"},null,null,{"$f":"データ一覧!H188","v":"…"},null,null,null,null,null,null,null,null,null,null,null,null,null,null,null,null,"           ",null,null,null,"歳入",null,null,null,null,null,null,null,null,"(千円）"," ",null,null,null,"歳出",null,null,null,null,null,null,null,null,"(千円）",null,"関係者",null,null,null,null,{"$f":"データ一覧!H666","v":145},null,null,null,null,{"$f":"データ一覧!H667","v":33},null,null,null,null,{"$f":"データ一覧!H668","v":135},null,null,null,null,{"$f":"データ一覧!H669","v":43},null,null,null,null,{"$f":"データ一覧!H670","v":34},null,null,null,null,{"$f":"データ一覧!H671","v":1015}]
["学術研究、専門・技術ｻｰﾋﾞｽ業",null,null,null,null,null,null,{"$f":"データ一覧!H132","v":"…"},null,null,{"$f":"データ一覧!H189","v":"…"},null,null,{"$f":"データ一覧!H133","v":138},null,null,{"$f":"データ一覧!H190","v":1734},null,null,{"$f":"データ一覧!H134","v":"…"},null,null,{"$f":"データ一覧!H191","v":"…"},null,null,"  産   業　 分　 類",null,null,null," 事　業　所　数",null,null," 従　業　者　数",null,null,"年　間　販　売　額",null,null,null,"一人当たり歳入歳出予算決算額",null,null,null,null,null,null,null,null,null,null,null,null,null,null,null,null,null,null,null,null,null,null,null,null,null,null,null,"                   ",null,null,null,null,null,null,null,null,"死因別死亡数　　　　　　    ",null,null,null,null,null,null,null,null,null,null,null,null,null,null,null,{"$f":"データ一覧!$A$672","v":"5年中"},null,null,null,null,null,null,null,null,"      単 位：人"]
["宿泊業、飲食サービス業",null,null,null,null,null,null,{"$f":"データ一覧!H135","v":"…"},null,null,{"$f":"データ一覧!H192","v":"…"},null,null,{"$f":"データ一覧!H136","v":498},null,null,{"$f":"データ一覧!H193","v":3044},null,null,{"$f":"データ一覧!H137","v":"…"},null,null,{"$f":"データ一覧!H194","v":"…"},null,null,null,null,null,null,null,null,null,null,null,"　人",null,"         百万円",null,null,"区分",null,null,null,{"$f":"データ一覧!$A$438","v":"6年度"},null,null,null,null,{"$f":"データ一覧!$A$452","v":"5年度"},null,null,null,null,"区分",null,null,null,{"$f":"+AR68","v":"6年度"},null,null,null,null,{"$f":"データ一覧!$A$452","v":"5年度"},null,null,null,null," 死     因",null,null,null,null,null,null,null,null,null,null,null,"悪  性",null,null,"高血圧",null,null,null,null,null,"脳血管",null,null,null,null,null," ",null,null,"不慮の事故"]
["生活関連サービス業、娯楽業",null,null,null,null,null,null,{"$f":"データ一覧!H138","v":"…"},null,null,{"$f":"データ一覧!H195","v":"…"},null,null,{"$f":"データ一覧!H139","v":248},null,null,{"$f":"データ一覧!H196","v":937},null,null,{"$f":"データ一覧!H140","v":"…"},null,null,{"$f":"データ一覧!H197","v":"…"},null,null,"総　　　　　　計",null,null,null,{"$f":"データ一覧!$H$294","v":652},null,null,{"$f":"データ一覧!H303","v":4633},null,null,{"$f":"データ一覧!H312","v":178162},null,null,null,null,null,null,null,{"$f":"データ一覧!H434","v":655743.72046956432},null,null,null,null,{"$f":"データ一覧!H435","v":788621.95592109486},null,null,null,null,null,null,null,null,{"$f":"データ一覧!H436","v":655743.72046956432},null,null,null,null,{"$f":"データ一覧!H437","v":752538.19957591721},null,null,null,null,null,null,null,null,null,"全 死 因",null,null,null,"結 核",null,null,"新生物",null,null,"性疾患",null,null,"心疾患",null,null,"疾  患",null,null,"肺  炎",null,null,"老  衰",null,null,null,null," ","交通事故"]
["教育、学習支援業",null,null,null,null,null,null,{"$f":"データ一覧!H141","v":"…"},null,null,{"$f":"データ一覧!H198","v":"…"},null,null,{"$f":"データ一覧!H142","v":64},null,null,{"$f":"データ一覧!H199","v":583},null,null,{"$f":"データ一覧!H143","v":"…"},null,null,{"$f":"データ一覧!H200","v":"…"},null,null,"卸売業",null,null,null,{"$f":"データ一覧!H295","v":163},null,null,{"$f":"データ一覧!H304","v":1108},null,null,{"$f":"データ一覧!H313","v":104339},null,null,null,"項目別歳入歳出予算決算額"]
["医療、福祉",null,null,null,null,null,null,{"$f":"データ一覧!H144","v":"…"},null,null,{"$f":"データ一覧!H201","v":"…"},null,null,{"$f":"データ一覧!H145","v":207},null,null,{"$f":"データ一覧!H202","v":3638},null,null,{"$f":"データ一覧!H146","v":"…"},null,null,{"$f":"データ一覧!H203","v":"…"},null,null,"小売業",null,null,null,{"$f":"データ一覧!H296","v":489},null,null,{"$f":"データ一覧!H305","v":3525},null,null,{"$f":"データ一覧!H314","v":73822},null,null,null,"区分",null,null,null,{"$f":"データ一覧!$A$438","v":"6年度"},null,null,null,null,{"$f":"データ一覧!$A$452","v":"5年度"},null,null,null,null,"区分",null,null,null,{"$f":"+AR71","v":"6年度"},null,null,null,null,{"$f":"データ一覧!$A$452","v":"5年度"},null,null,null,null,null,null,null,null,null,{"$f":"データ一覧!H672","v":854},null,null,null,"   －",{"$f":"データ一覧!H673","v":1},null,{"$f":"データ一覧!H674","v":188},null,null,null,{"$f":"データ一覧!H675","v":1},null,{"$f":"データ一覧!H676","v":95},null,null,{"$f":"データ一覧!H677","v":57},null,null,{"$f":"データ一覧!H678","v":41},null,null,{"$f":"データ一覧!H679","v":170},null,null,{"$f":"データ一覧!H680","v":24},null,null,{"$f":"データ一覧!H681","v":2}]
["複合サービス事業",null,null,null,null,null,null,{"$f":"データ一覧!H147","v":"…"},null,null,{"$f":"データ一覧!H204","v":"…"},null,null,{"$f":"データ一覧!H148","v":17},null,null,{"$f":"データ一覧!H205","v":342},null,null,{"$f":"データ一覧!H149","v":"…"},null,null,{"$f":"データ一覧!H206","v":"…"},null,null,"各種商品",null,null,null,{"$f":"データ一覧!H297","v":1},null,null,{"$f":"データ一覧!H306","v":15},null,null,{"$f":"データ一覧!H315","v":"x"},null,null,null,"総額",null,null,null,{"$f":"SUM(AR73:AV85)","v":40386600},null,null,null,null,{"$f":"SUM(AW73:BA85)","v":49093294},null,null,null,null,"総額",null,null,null,{"$f":"SUM(BF73:BJ85)","v":40386600},null,null,null,null,{"$f":"SUM(BK73:BO85)","v":46847008},null,null,null,null," １９  警　察　・　消　防  ",null,null,null,null,null,null,null,null,null,null,null,null,null,null,{"$f":"+データ一覧!$A682","v":"6.4.1"}]
["サービス業",null,null,null,null,null,null,{"$f":"データ一覧!H150","v":"…"},null,null,{"$f":"データ一覧!H207","v":"…"},null,null,{"$f":"データ一覧!H151","v":284},null,null,{"$f":"データ一覧!H208","v":3066},null,null,{"$f":"データ一覧!H152","v":"…"},null,null,{"$f":"データ一覧!H209","v":"…"},null,null,"織物・衣服・身の回り品",null,null,null,{"$f":"データ一覧!H298","v":64},null,null,{"$f":"データ一覧!H307","v":225},null,null,{"$f":"データ一覧!H316","v":2391},null,null,null,"地方税",null,null,null,{"$f":"データ一覧!H439","v":13099142},null,null,null,null,{"$f":"データ一覧!H453","v":13277149},null,null,null,null,"議会費",null,null,null,{"$f":"データ一覧!H467","v":273003},null,null,null,null,{"$f":"データ一覧!H481","v":259750}]
["公務",null,null,null,null,null,null,{"$f":"データ一覧!H153","v":"…"},null,null,{"$f":"データ一覧!H210","v":"…"},null,null,{"$f":"データ一覧!H154","v":"…"},null,null,{"$f":"データ一覧!H211","v":"…"},null,null,{"$f":"データ一覧!H155","v":"…"},null,null,{"$f":"データ一覧!H212","v":"…"},null,null,"飲食料品",null,null,null,{"$f":"データ一覧!H299","v":148},null,null,{"$f":"データ一覧!H308","v":1428},null,null,{"$f":"データ一覧!H317","v":23818},null,null,null,"地方譲与税",null,null,null,{"$f":"データ一覧!H440","v":233047},null,null,null,null,{"$f":"データ一覧!H454","v":229700},null,null,null,null,"総務費",null,null,null,{"$f":"データ一覧!H468","v":9000544},null,null,null,null,{"$f":"データ一覧!H482","v":11970900},null,null,null,null,null,null,null,null,null,null,null,null,null,null,"交番・駐在所",null,null,null,null,null,null,null,null,"刑法犯認知件数",null,null,null,null,null,null,null,null,"交通人身事故発生件数"]
["  ４  農        　　　業 ",null,null,null,null,null,null,null,null,null,null,null,null,null,null,null,null,null,null,null,null,null,null,null,null,"機械器具",null,null,null,{"$f":"データ一覧!H300","v":79},null,null,{"$f":"データ一覧!H309","v":594},null,null,{"$f":"データ一覧!H318","v":16977},null,null,null,"各種交付金",null,null,null,{"$f":"データ一覧!H441","v":1905500},null,null,null,null,{"$f":"データ一覧!H455","v":2039603},null,null,null,null,"民生費",null,null,null,{"$f":"データ一覧!H469","v":12399978},null,null,null,null,{"$f":"データ一覧!H483","v":11824873},null,null,null,null,null,"警察署数",null,null,null,null,null,null,null,null,"検問所数",null,null,null,null,null,null,null,null,null,{"$f":"データ一覧!$A$684","v":"5年中"},null,null,null,null,null,null,null,null,{"$f":"データ一覧!$A$684","v":"5年中"}]
[null,null,null,null,null,null,null,null,null,null,null,null,null,null,null,null,null,null,null,null,null,null,null,null,null,"その他",null,null,null,{"$f":"データ一覧!H301","v":177},null,null,{"$f":"データ一覧!H310","v":1138},null,null,{"$f":"データ一覧!H319","v":"x"},null,null,null,"地方特例交付金",null,null,null,{"$f":"データ一覧!H442","v":70000},null,null,null,null,{"$f":"データ一覧!H456","v":72523},null,null,null,null,"衛生費",null,null,null,{"$f":"データ一覧!H470","v":4040888},null,null,null,null,{"$f":"データ一覧!H484","v":5723096},null,null,null,null,null,null,null,null,null,null,null,null,null,null,null,null,null,null,null,null,null,null,null,null,null,null,null,null," 件",null,null,null,null,null,null,null,null,"　件"]
[null,null,"農業経営体数",null,null,null,null,null,null,"農産物販売額規模別経営体数",null,null,null,null,null,null,null,"経営耕地面積規模別経営体数",null,null,null,null,null,null,null,"無店舗",null,null,null,{"$f":"データ一覧!H302","v":20},null,null,{"$f":"データ一覧!H311","v":125},null,null,{"$f":"データ一覧!H320","v":7924},null,null,null,"地方交付税",null,null,null,{"$f":"データ一覧!H443","v":2300000},null,null,null,null,{"$f":"データ一覧!H457","v":2527294},null,null,null,null,"労働費",null,null,null,{"$f":"データ一覧!H471","v":126497},null,null,null,null,{"$f":"データ一覧!H485","v":117908},null,null,null,null,null,null,{"$f":"データ一覧!H682","v":1},null,null,null,null,null,null,null,null,{"$f":"データ一覧!H683","v":8},null,null,null,null,null,null,null,null,{"$f":"データ一覧!H684","v":256},null,null,null,null,null,null,null,null,{"$f":"データ一覧!H685","v":106}]
["農",null,"区　分",null,null,null,"経営体数\n（経営体）",null,null,"区　分",null,null,null,null,"経営体数\n（経営体）",null,null,"区　分",null,null,null,null,"経営体数\n（経営体）",null,null,null,null,null,null,null,null,null,null,null,null,null,null,null,null,"分担金および負担金",null,null,null,{"$f":"データ一覧!H444","v":136141},null,null,null,null,{"$f":"データ一覧!H458","v":815035},null,null,null,null,"農林水産業費",null,null,null,{"$f":"データ一覧!H472","v":607598},null,null,null,null,{"$f":"データ一覧!H486","v":637253},null,null,null,null,"火災発生件数",null,null,null,null,null,null,null,null,null,"林野焼損",null,null,null,null,"損      害",null,null,null,null,"消 防 自",null,null,null,"その他の",null,null,null," ",null,null,null,null," "]
["業","令",null,null,null,null,null,null,null,null,null,null,null,null,null,null,null,null,null,null,null,null,null,null,null,"  ８  住　　　　　　 　宅",null,null,null,null,null,null,null,null,null,null,null,null,null,"使用料および手数料",null,null,null,{"$f":"データ一覧!H445","v":497014},null,null,null,null,{"$f":"データ一覧!H459","v":500028},null,null,null,null,"商工費",null,null,null,{"$f":"データ一覧!H473","v":2597202},null,null,null,null,{"$f":"データ一覧!H487","v":3032444},null,null,null,null,{"$f":"+データ一覧!$A$686","v":"5年中"},null,null,null,null,"焼損棟数",null,null,null,null,"面    積",null,null,null,null,"見  積  額",null,null,null,null,"動 車 数",null,null,null,"ﾎﾟﾝﾌﾟ数",null,null,null," 消防吏員",null,null,null," 消防団員"]
["経",{"$f":"+LEFT(データ一覧!$A$213)","v":"2"},"計",null,null,null,{"$f":"データ一覧!H213","v":356},null,null,"総　　　 数",null,null,null,null,{"$f":"データ一覧!H217","v":356},null,null,"総　　　 数",null,null,null,null,{"$f":"データ一覧!H233","v":418},null,null,null,null,null,null,null,null,null,null,null,null,null,null,null,null,"国庫支出金",null,null,null,{"$f":"データ一覧!H446","v":5027054},null,null,null,null,{"$f":"データ一覧!H460","v":7187492},null,null,null,null,"土木費",null,null,null,{"$f":"データ一覧!H474","v":2934529},null,null,null,null,{"$f":"データ一覧!H488","v":4678269},null,null,null,null,"         件",null,null,null,null,null,"      棟",null,null,null,null,null,null,"  ａ",null,null,null,"  千円",null,null,"        ",null,null,null,null,null,null,null,null,null,"  人",null,null,null,"  人"]
["営","・","個人経営体",null,null,null,{"$f":"データ一覧!H214","v":351},null,null,"販 売 な し",null,null,null,null,{"$f":"データ一覧!H218","v":41},null,null,"0.5 ha 未満",null,null,null,null,{"$f":"データ一覧!H234","v":42},null,null,{"$f":"+データ一覧!$A$321","v":"4年"},null,null,null,null,{"$f":"データ一覧!$A$324","v":"5年"},"中の増減",null,null,null,{"$f":"+データ一覧!$A$324","v":"5年"},null,null,null,"県支出金",null,null,null,{"$f":"データ一覧!H447","v":3084055},null,null,null,null,{"$f":"データ一覧!H461","v":3360057},null,null,null,null,"消防費",null,null,null,{"$f":"データ一覧!H475","v":1169081},null,null,null,null,{"$f":"データ一覧!H489","v":1091001},null,null,null,null,null,{"$f":"データ一覧!H686","v":16},null,null,null,null,{"$f":"データ一覧!H687","v":20},null,null,null,null,{"$f":"データ一覧!H688","v":0},null,null,null,{"$f":"データ一覧!H689","v":376558},null,null,null,null,null,{"$f":"データ一覧!H690","v":19},null,null,null,{"$f":"データ一覧!H691","v":14},null,null,null,{"$f":"データ一覧!H692","v":112},null,null,null,{"$f":"データ一覧!H693","v":271}]
["体",{"$f":"+LEFT(データ一覧!$A$213,1)","v":"2"},"団体経営体",null,null,null,{"$f":"データ一覧!H215","v":5},null,null,"50万円未満",null,null,null,null,{"$f":"データ一覧!H219","v":177},null,null,"0.5 ha ～ 1.0 ha",null,null,null,null,{"$f":"データ一覧!H235","v":94},null,null,null,null,null,null,"建設した住宅",null,null,"消失した住宅",null,null,null,null,null,null,"財産収入",null,null,null,{"$f":"データ一覧!H448","v":126861},null,null,null,null,{"$f":"データ一覧!H462","v":148261},null,null,null,null,"教育費",null,null,null,{"$f":"データ一覧!H476","v":4800032},null,null,null,null,{"$f":"データ一覧!H490","v":4613854},null,null,null,null," ２０  そ　　　の　　　他　"]
["数","・",null,"法人経営",null,null,{"$f":"データ一覧!H216","v":2},null,null,"50～300万円",null,null,null,null,{"$f":"データ一覧!H220","v":112},null,null,"1.0 ha ～ 2.0 ha",null,null,null,null,{"$f":"データ一覧!H236","v":89},null,null,null,null,null,null,null,null,null,null,null,null,null,null,null,null,"繰入金",null,null,null,{"$f":"データ一覧!H449","v":5348883},null,null,null,null,{"$f":"データ一覧!H463","v":4397104},null,null,null,null,"災害復旧費",null,null,null,{"$f":"データ一覧!H477","v":67200},null,null,null,null,{"$f":"データ一覧!H491","v":247504}]
["（",{"$f":"+RIGHT(データ一覧!$A$213)","v":"1"},null,null,null,null,null,null,null,"300～500万円",null,null,null,null,{"$f":"データ一覧!H221","v":11},null,null,"2.0 ha ～ 3.0 ha",null,null,null,null,{"$f":"データ一覧!H237","v":31},null,null,null,{"$f":"データ一覧!H321","v":25770},null,"戸",{"$f":"データ一覧!H322","v":305},null,"戸",{"$f":"データ一覧!H323","v":252},null,"戸",null,{"$f":"データ一覧!H324","v":25823},null,"戸","地方債",null,null,null,{"$f":"データ一覧!H450","v":2072400},null,null,null,null,{"$f":"データ一覧!H464","v":2740500},null,null,null,null,"公債費",null,null,null,{"$f":"データ一覧!H478","v":2350048},null,null,null,null,{"$f":"データ一覧!H492","v":2650156},null,null,null,null,null,null,null,null,null,"朝鮮鐘、氣比神宮大鳥居、西福寺御影堂・阿弥陀堂・書院及び庫裏、旧大和田銀行本店本館、金ヶ崎城跡、武田耕雲斎等墓、玄蕃尾城（内中尾山城）跡、中郷古墳群、気比の松原、西福寺書院庭園、柴田氏庭園、おくのほそ道の風景地　けいの明神（氣比神宮境内）、穴地蔵古墳、立洞古墳、疋壇城跡、洲崎の高燈籠、旧紐育スタンダード石油会社倉庫（赤レンガ倉庫）、旧敦賀倉庫株式会社新港第１・２・３号倉庫、立石岬灯台、旧大和田銀行本店社屋"]
["総",null,null,null,null,null,null,null,null,"500～1,000万円",null,null,null,null,{"$f":"データ一覧!H222","v":9},null,null,"3.0 ha ～ 5.0 ha",null,null,null,null,{"$f":"データ一覧!H238","v":52},null,null,null,null,null,null,null,null,null,null,null,null,null,null,null,null,"その他",null,null,null,{"$f":"データ一覧!H451","v":6486503},null,null,null,null,{"$f":"データ一覧!H465","v":11798548},null,null,null,null,"その他",null,null,null,{"$f":"データ一覧!H479","v":20000},null,null,null,null,{"$f":"データ一覧!H493","v":0},null,null,null,null,"　名所・旧跡"]
["数",null,null,null,null,null,null,null,null,"1,000万円以上",null,null,null,null,{"$f":"データ一覧!H223","v":6},null,null,"5.0 ha以上",null,null,null,null,{"$f":"データ一覧!H239","v":110},null,null,null,null,null,null,null,null,null,null,null,null,null,null,null,null,null,null,null,null,null,null,null,null,null,null,null,null,null,null,null,null,null,null,null,null,null,null,null,null,null,null,null,null,"  文化財等"]
["）",null,"15歳以上の常雇い数",null,null,null,null,null,null,"農業に60日以上従事した世帯員、役員・構成員\n（経営主を含む）の平均年齢",null,null,null,null,null,null,null,null,null,null,null,null,null,null,null,"  ９  議　 員　・　職 　員",null,null,null,null,null,null,null,null,null,null,null,null,null," １４  文　　　化",null,null,null,null,null,null,null," ( ",{"$f":"\"令\"&データ一覧!$A$498","v":"令6.3.31"},null,null,"ただし図書館・公民館・児童館・ 社会教育学級講座",null,null,null,null,null,null,null,null,null,null,null,{"$f":"データ一覧!$A$494","v":"6.4.1"}]
["と",null,null,null,null,null,null,null,null,null,null,null,null,null,null,null,null,null,null,null,null,null,null,null,null,null,null,null,null,null,null,null,null,null,null,null,null,null,null,null,null,null,null,null,null,null,null,null,null,null,null,null,"　宗教法人数 ",null,null,null,null,null,null,null,null,null,null,{"$f":"データ一覧!$A$502","v":"5.12.31"}]
["就",null,null,null,null,null,null,null,null,"農業に60日以上従事",null,null,null,null,null,null,null,"農業に150日以上従事",null,null,null,null,null,null,null," 市 町 議 会",null,null,"有権者数",null,{"$f":"データ一覧!$A$328","v":"6.9.1"},null,"市 町 議 会",null,null,"  職      員      数",null,null,null,null,null,null,null,null,"図書館",null,null,null,null,null,"公　民　館",null,null,null,null,null,null,null,null,null,null," 社会教育学級講座",null,null,null,null,null,"　　特産物",null,null,null,null,"昆布加工品、かまぼこ、越前がに、敦賀ふぐ、敦賀真鯛、杉箸アカカンバ、古田苅かぶら、黒河マナ、東浦みかん、豆らくがん、かたパン、敦賀ラーメン、ソースカツ丼"]
["業",null,"区分",null,null,null,"人",null,null,"区分",null,null,null,null,"歳",null,null,"区　　分",null,null,null,null,"歳",null,null," 議  員  定  数",null,null,"    男",null,"    女",null,"選 挙 投 票 率",null,null," 総     数",null,"一般行政職",null,"公    共",null,null,null," 館  数",null,null," 図書数",null,null," 本  館",null,null," 分  館",null,null," 公  園",null,null," 児童館",null,null,"学級講座数",null,null,"受講者数"]
["状",null,"総数",null,null,null,{"$f":"データ一覧!H230","v":8},null,null,"総数",null,null,null,null,{"$f":"データ一覧!H224","v":69.2},null,null,"総数",null,null,null,null,{"$f":"データ一覧!H227","v":69.599999999999994},null,null,null,null,"人",null,"人",null,"人",null,null,"　％",null,"人",null,"人","施 設 数",null,null,null,null,{"$f":"データ一覧!H494","v":1},null,{"$f":"データ一覧!H495","v":284217},null,null,null,{"$f":"データ一覧!H496","v":9},null,{"$f":"データ一覧!H497","v":0},null,null,{"$f":"データ一覧!H498","v":40},null,null,{"$f":"データ一覧!H499","v":3},null,null,{"$f":"データ一覧!H500","v":331},null,null,{"$f":"データ一覧!H501","v":5926},null,null," 　年中行事",null,null,null,null,"敦賀西町の綱引き､花換まつり､沓見御田植祭､総参祭､とうろう流しと大花火大会､氣比神宮例大祭敦賀まつり、赤崎の獅子舞、阿曽相撲甚句、厄除せんべい焼､八幡神社の彼岸祭、野坂だのせ祭、御船遊管絃祭、毘沙講"]
["況",null,"男",null,null,null,{"$f":"データ一覧!H231","v":3},null,null,"男",null,null,null,null,{"$f":"データ一覧!H225","v":68.2},null,null,"男",null,null,null,null,{"$f":"データ一覧!H228","v":69.2},null,null,null,{"$f":"データ一覧!H325","v":22},null,{"$f":"データ一覧!H328","v":25695},null,{"$f":"データ一覧!H329","v":26424},null,{"$f":"データ一覧!H327","v":60.43},null,null,{"$f":"データ一覧!H330","v":1041},null,{"$f":"データ一覧!H331","v":367},null,"宗    教",null,null,null," 仏教系",null,null,"ｷﾘｽﾄ教系",null,null,"神道諸派",null,null,"公会堂・市民会館",null,null,null,null,null," テレビ",null,null,"衛星放送契約数"]
[null,null,"女",null,null,null,{"$f":"データ一覧!H232","v":5},null,null,"女",null,null,null,null,{"$f":"データ一覧!H226","v":70.900000000000006},null,null,"女",null,null,null,null,{"$f":"データ一覧!H229","v":70.2},null,null,null,null,null,null,null,null,null,{"$f":"データ一覧!H326","v":"5.4.23"},null,null,null,null,null,null,"法 人 数",null,null,null,{"$f":"データ一覧!H502","v":127},null,null,{"$f":"データ一覧!H503","v":6},null,null,{"$f":"データ一覧!H504","v":105},null,null,{"$f":"データ一覧!H505","v":2},null,null,null,null,null,"      等",null,null,{"$f":"データ一覧!H506","v":15154}]

{"sheet":"小浜市","index":7,"n_rows":93,"n_cols":103,"rows_kept":93,"cut":false,"hidden":false,"merged":[[92,9,92,13],[92,14,92,16],[92,17,92,21],[85,17,85,21],[84,6,84,8],[84,9,84,13],[84,14,84,16],[85,6,85,8],[85,9,85,13],[85,14,85,16],[86,2,88,8],[86,9,87,24],[88,9,88,16],[88,17,88,24],[89,2,89,5],[89,9,89,13],[56,13,56,15],[57,0,57,6],[62,16,62,18],[59,22,59,24],[60,0,60,6],[56,0,56,6],[77,2,78,5],[89,17,89,21],[92,6,92,8],[83,6,83,8],[65,19,65,21],[56,7,56,9],[59,7,59,9],[57,10,57,12],[61,13,61,15],[60,13,60,15],[65,10,65,12],[68,25,68,28],[66,22,66,24],[67,19,67,21],[66,13,66,15],[67,16,67,18],[42,60,42,64],[55,63,55,65],[55,59,55,62],[58,7,58,9],[65,7,65,9],[60,7,60,9],[58,19,58,21],[49,46,49,49],[47,16,47,18],[45,32,45,35],[42,16,42,18],[66,29,66,31],[56,16,56,18],[64,16,64,18],[55,7,55,9],[48,13,48,15],[58,22,58,24],[42,36,42,37],[43,53,43,56],[55,19,55,21],[55,10,55,12],[55,43,55,45],[55,39,55,42],[48,7,48,9],[48,10,48,12],[44,19,44,24],[92,2,92,5],[72,39,72,42],[42,85,42,91],[42,79,42,82],[42,75,42,77],[43,49,43,51],[38,97,38,100],[70,97,70,99],[70,100,70,102],[71,16,71,18],[71,48,71,52],[71,83,72,102],[72,53,72,56],[60,39,60,42],[61,22,61,24],[62,19,62,21],[62,10,62,12],[64,13,64,15],[59,16,59,18],[63,10,63,12],[57,31,57,33],[62,75,62,77],[61,16,61,18],[61,59,61,62],[61,63,61,66],[63,19,63,21],[66,35,66,38],[65,16,65,18],[68,53,68,56],[58,0,58,6],[64,22,64,24],[61,48,61,52],[46,95,46,98],[56,95,56,98],[61,29,61,30],[68,48,68,52],[67,48,67,52],[71,62,71,66],[67,53,67,56],[73,77,73,83],[68,62,68,66],[67,57,67,61],[67,62,67,66],[70,83,70,84],[73,39,73,42],[74,87,74,91],[73,53,73,56],[57,47,57,50],[68,43,68,47],[52,77,52,79],[54,39,54,42],[50,50,50,53],[51,29,51,32],[50,29,50,32],[51,36,51,38],[48,50,48,53],[62,29,62,30],[61,36,61,37],[53,29,53,31],[70,62,70,66],[70,43,70,47],[70,48,70,52],[46,69,46,74],[49,54,49,57],[62,22,62,24],[63,13,63,15],[59,10,59,12],[75,43,75,47],[57,16,57,18],[60,16,60,18],[60,22,60,24],[58,13,58,15],[58,16,58,18],[32,11,32,13],[46,25,46,28],[53,25,53,27],[51,25,51,28],[76,48,76,52],[71,10,71,12],[50,0,51,10],[50,11,51,24],[70,39,70,42],[73,35,73,37],[69,10,69,12],[58,10,58,12],[57,7,57,9],[70,32,70,33],[50,25,50,28],[71,25,71,28],[46,0,46,1],[74,39,74,42],[69,39,69,66],[68,39,68,42],[75,57,75,61],[75,53,75,56],[59,13,59,15],[19,35,19,38],[20,25,20,28],[20,32,20,34],[22,60,22,64],[20,40,20,46],[20,49,20,51],[24,53,24,56],[22,49,22,51],[21,32,21,34],[26,73,26,76],[24,31,24,32],[27,60,27,64],[21,73,21,76],[21,25,21,28],[21,29,21,31],[22,29,22,31],[78,53,78,56],[70,25,70,28],[42,67,42,73],[34,40,34,46],[34,36,34,37],[41,40,41,46],[36,36,36,37],[37,40,37,46],[41,53,41,56],[49,62,49,66],[50,55,50,57],[54,68,54,75],[56,39,56,42],[58,52,58,54],[58,58,58,60],[31,60,31,64],[19,95,19,98],[21,91,21,94],[30,53,30,56],[55,13,55,15],[42,22,42,24],[42,19,42,21],[42,97,42,100],[45,84,45,89],[42,93,42,95],[40,79,41,82],[38,85,38,91],[53,87,53,90],[40,97,40,100],[57,22,57,24],[57,19,57,21],[20,53,20,56],[17,91,17,94],[17,68,17,71],[17,73,17,76],[17,82,17,83],[17,48,17,52],[21,86,21,90],[27,29,27,30],[18,35,18,38],[23,40,23,46],[23,29,23,31],[27,91,27,94],[24,35,24,36],[25,40,25,46],[25,49,25,51],[19,29,19,31],[18,28,18,30],[27,0,27,4],[25,37,26,38],[24,40,24,46],[26,53,26,56],[33,22,33,24],[34,22,34,24],[35,29,35,30],[33,40,33,46],[41,32,41,35],[43,40,43,46],[35,20,35,21],[47,19,47,21],[48,19,48,21],[40,32,40,35],[42,32,42,35],[48,56,48,59],[44,36,44,37],[48,22,48,24],[32,14,32,16],[34,8,34,10],[34,11,34,13],[40,13,40,15],[40,16,40,18],[47,13,47,15],[42,7,42,9],[31,53,31,56],[36,49,36,51],[27,49,27,51],[29,49,29,51],[28,49,28,51],[27,22,27,24],[29,53,29,56],[23,11,23,13],[23,16,23,18],[20,29,20,31],[23,25,23,28],[21,40,21,46],[40,2,40,3],[35,22,35,24],[45,29,45,30],[41,29,41,30],[40,29,40,30],[35,5,35,7],[35,8,35,10],[35,11,35,13],[35,14,35,16],[35,18,35,19],[33,8,33,10],[33,11,33,13],[45,25,45,28],[24,0,25,24],[31,18,31,19],[30,20,30,21],[30,22,30,24],[33,14,33,16],[38,40,38,46],[26,25,26,26],[30,5,30,7],[30,18,30,19],[31,8,31,10],[31,11,31,13],[31,14,31,16],[31,20,31,21],[27,5,27,7],[32,73,32,76],[36,75,36,77],[28,68,28,72],[28,73,28,76],[25,25,25,26],[26,22,26,24],[27,73,27,76],[27,77,27,80],[44,29,44,30],[44,25,44,28],[30,91,30,94],[46,29,46,30],[31,5,31,7],[30,8,30,10],[30,11,30,13],[32,8,32,10],[32,5,32,7],[41,22,41,24],[33,5,33,7],[34,5,34,7],[32,18,32,19],[27,33,27,34],[32,53,32,56],[42,53,42,56],[45,36,45,37],[46,36,46,37],[46,32,46,35],[34,53,34,56],[34,49,34,51],[40,22,40,24],[32,22,32,24],[37,53,37,56],[29,20,29,21],[27,40,27,46],[29,77,29,80],[29,81,29,84],[29,8,29,10],[29,11,29,13],[29,14,29,16],[29,18,29,19],[24,27,24,28],[30,73,30,76],[30,14,30,16],[25,27,25,28],[24,77,24,80],[27,81,27,84],[26,68,26,72],[24,81,24,84],[24,33,24,34],[25,73,25,76],[29,22,29,24],[27,25,27,26],[30,49,30,51],[29,60,29,64],[25,53,25,56],[24,49,24,51],[27,95,27,98],[37,93,37,95],[30,77,30,80],[22,99,22,102],[32,91,32,94],[31,49,31,51],[41,93,41,95],[39,93,39,95],[40,93,40,95],[37,85,37,91],[35,86,35,90],[35,93,35,95],[41,85,41,91],[39,60,39,64],[39,75,39,77],[38,53,38,56],[38,60,38,64],[38,67,38,73],[39,67,39,73],[24,60,24,64],[22,81,22,84],[22,86,22,90],[23,73,23,76],[23,77,23,80],[28,53,28,56],[26,77,26,80],[29,99,29,102],[28,99,28,102],[31,68,31,72],[30,68,30,72],[30,95,30,98],[27,68,27,72],[23,21,23,23],[23,32,23,34],[32,95,32,98],[35,98,35,101],[37,97,37,100],[30,99,30,102],[31,99,31,102],[31,95,31,98],[28,91,28,94],[28,95,28,98],[30,81,30,84],[28,77,28,80],[28,81,28,84],[28,86,28,90],[36,93,36,95],[36,85,36,91],[29,86,29,90],[29,95,29,98],[36,97,36,100],[33,83,34,96],[32,81,32,84],[32,99,32,102],[37,75,37,77],[31,73,31,76],[31,77,31,80],[31,81,31,84],[31,91,31,94],[37,67,37,73],[30,86,30,90],[26,95,26,98],[26,91,26,94],[26,99,26,102],[55,0,55,6],[33,20,33,21],[32,20,32,21],[33,18,33,19],[33,49,33,51],[56,19,56,21],[26,40,26,46],[48,0,48,1],[32,60,32,64],[32,40,32,46],[35,53,35,56],[27,53,27,56],[47,0,47,1],[47,7,47,9],[47,10,47,12],[47,22,47,24],[48,16,48,18],[27,31,27,32],[29,5,29,7],[42,4,42,6],[31,40,31,46],[30,40,30,46],[35,36,35,37],[30,60,30,64],[32,49,32,51],[28,60,28,64],[27,37,27,38],[31,22,31,24],[35,40,35,46],[26,27,26,28],[45,57,45,61],[44,0,45,1],[17,100,17,101],[41,4,41,6],[41,7,41,9],[40,19,40,21],[41,10,41,12],[41,13,41,15],[41,16,41,18],[41,19,41,21],[40,4,40,6],[19,25,19,28],[40,7,40,9],[40,10,40,12],[24,29,24,30],[22,25,22,28],[25,29,26,30],[36,29,36,30],[34,29,34,30],[39,49,39,51],[34,14,34,16],[34,20,34,21],[34,18,34,19],[22,7,22,8],[23,49,23,51],[23,53,23,56],[17,36,17,38],[18,31,18,34],[27,35,27,36],[27,27,27,28],[19,60,19,64],[20,77,20,80],[20,81,20,84],[20,86,20,90],[15,35,15,37],[25,33,26,34],[25,35,26,36],[40,36,40,37],[36,40,36,46],[16,32,16,33],[25,86,25,90],[23,95,23,98],[22,91,22,94],[23,91,23,94],[24,95,24,98],[23,86,23,90],[27,99,27,102],[38,93,38,95],[21,99,21,102],[21,95,21,98],[29,91,29,94],[24,91,24,94],[26,86,26,90],[26,49,26,51],[26,60,26,64],[22,35,22,38],[24,37,24,38],[23,35,23,38],[28,40,28,46],[40,40,40,46],[25,31,26,32],[29,40,29,46],[19,99,19,102],[19,91,19,94],[20,91,20,94],[21,53,21,56],[20,99,20,102],[24,99,24,102],[25,60,25,64],[22,73,22,76],[21,60,21,64],[21,49,21,51],[22,32,22,34],[21,77,21,80],[21,81,21,84],[23,99,23,102],[22,95,22,98],[25,91,25,94],[25,95,25,98],[25,77,25,80],[22,77,22,80],[22,53,22,56],[23,68,23,72],[24,86,24,90],[24,68,24,72],[24,73,24,76],[22,68,22,72],[22,40,22,46],[23,60,23,64],[23,81,23,84],[25,81,25,84],[25,99,25,102],[20,35,20,38],[21,35,21,38],[5,0,5,9],[17,53,17,57],[17,59,17,65],[6,0,8,9],[17,40,17,46],[20,11,20,13],[14,67,15,81],[14,82,15,95],[16,74,16,95],[20,16,20,18],[20,21,20,23],[19,32,19,34],[15,29,15,30],[15,32,15,33],[20,60,20,64],[19,40,19,46],[19,49,19,51],[19,53,19,56],[14,25,15,25],[14,26,15,28],[20,95,20,98],[17,25,17,27],[18,25,18,27],[14,0,15,24],[19,3,19,5],[16,36,16,37],[17,32,17,34],[17,86,17,89],[19,73,19,76],[19,77,19,80],[19,81,19,84],[20,73,20,76],[27,86,27,90],[32,68,32,72],[36,60,36,64],[33,53,33,56],[33,60,33,64],[26,81,26,84],[41,60,41,64],[40,49,40,51],[40,75,41,77],[36,67,36,73],[36,79,36,82],[33,67,34,80],[35,68,35,72],[35,75,35,77],[35,80,35,83],[37,79,37,82],[39,53,39,56],[36,53,36,56],[35,49,35,51],[35,60,35,64],[41,49,41,51],[34,60,34,64],[40,60,40,64],[38,79,38,82],[37,60,37,64],[38,75,38,77],[38,49,38,51],[37,49,37,51],[39,79,39,82],[40,67,41,73],[32,77,32,80],[29,73,29,76],[39,97,39,100],[41,97,41,100],[51,99,51,102],[49,80,49,82],[50,63,50,66],[49,58,49,61],[51,83,51,86],[53,33,53,34],[50,33,50,38],[44,32,44,35],[43,83,44,102],[48,91,48,94],[43,67,44,82],[51,95,51,98],[50,99,50,102],[39,85,39,91],[40,85,40,91],[40,53,40,56],[42,40,42,46],[41,36,41,37],[39,40,39,46],[48,99,48,102],[50,77,50,79],[50,80,50,82],[50,83,50,86],[47,77,47,79],[53,77,53,79],[47,68,47,75],[49,77,49,79],[53,95,53,98],[52,91,52,94],[49,50,49,53],[42,49,42,51],[56,22,56,24],[55,47,55,49],[58,44,58,46],[49,91,49,94],[48,62,48,65],[58,64,58,66],[54,59,54,66],[51,77,51,79],[50,59,50,61],[55,68,55,75],[42,13,42,15],[56,10,56,12],[42,10,42,12],[43,60,43,64],[48,68,48,75],[45,77,45,82],[48,77,48,79],[58,61,58,63],[54,25,54,32],[56,87,56,90],[53,68,53,75],[56,91,56,94],[57,25,57,29],[58,39,58,42],[49,39,49,45],[57,64,57,66],[56,80,56,82],[55,22,55,24],[57,13,57,15],[56,48,56,53],[55,25,55,30],[47,99,47,102],[52,80,52,82],[53,80,53,82],[55,95,55,98],[51,87,51,90],[54,87,54,90],[54,80,54,82],[48,83,48,86],[48,87,48,90],[55,80,55,82],[46,99,46,102],[45,92,45,101],[49,83,49,86],[47,80,47,82],[47,83,47,86],[47,87,47,90],[47,91,47,94],[55,99,55,102],[48,80,48,82],[51,91,51,94],[48,95,48,98],[49,95,49,98],[49,99,49,102],[50,91,50,94],[51,80,51,82],[54,91,54,94],[55,91,55,94],[54,95,54,98],[50,95,50,98],[50,87,50,90],[49,87,49,90],[47,95,47,98],[50,47,50,49],[54,51,54,54],[54,47,54,50],[58,48,58,50],[57,55,57,57],[57,35,57,37],[58,55,58,57],[51,33,51,35],[53,36,53,37],[55,55,55,57],[52,99,52,102],[52,95,52,98],[53,99,53,102],[53,83,53,86],[52,87,52,90],[54,83,54,86],[55,77,55,79],[55,83,55,86],[55,87,55,90],[52,68,52,75],[53,91,53,94],[56,99,56,102],[50,68,50,75],[52,83,52,86],[51,68,51,75],[56,77,56,79],[54,99,54,102],[54,77,54,79],[55,35,55,38],[54,55,54,58],[55,31,55,34],[56,68,56,75],[49,68,49,75],[65,83,65,86],[65,88,65,91],[68,76,68,78],[68,72,68,75],[67,79,67,81],[67,88,67,90],[68,82,68,84],[55,16,55,18],[65,78,65,81],[70,79,70,81],[70,88,70,90],[60,91,60,96],[68,57,68,61],[70,29,70,30],[56,83,56,86],[59,19,59,21],[65,57,65,63],[66,39,66,66],[67,43,67,47],[62,87,62,89],[61,39,61,42],[57,51,57,54],[57,61,57,63],[55,51,55,53],[57,39,57,42],[66,32,66,34],[68,35,68,37],[65,43,65,49],[66,76,66,90],[54,43,54,46],[65,39,65,42],[69,35,69,37],[68,79,68,81],[63,74,63,76],[61,53,61,56],[57,67,58,102],[67,39,67,42],[69,32,69,33],[63,89,63,91],[63,94,63,96],[61,68,61,71],[75,39,75,42],[60,43,60,47],[68,32,68,33],[57,58,57,60],[74,68,74,74],[71,67,72,82],[68,85,68,87],[60,59,60,62],[60,85,60,90],[60,63,60,66],[60,36,60,37],[59,59,59,62],[65,93,65,96],[61,80,61,83],[62,68,62,71],[57,43,57,46],[80,100,80,102],[80,88,80,90],[80,92,80,94],[80,96,80,98],[78,95,78,98],[79,97,79,98],[82,62,82,66],[64,68,64,71],[62,93,62,95],[71,53,71,56],[59,43,59,56],[78,77,78,81],[77,82,77,86],[77,62,77,66],[70,94,70,96],[76,96,76,99],[74,43,74,47],[72,57,72,61],[72,48,72,52],[76,57,76,61],[75,48,75,52],[70,91,70,93],[71,57,71,61],[77,87,77,90],[78,82,78,86],[76,62,76,66],[60,97,60,102],[60,48,60,52],[60,53,60,56],[74,96,74,100],[73,48,73,52],[72,43,72,47],[83,29,83,30],[90,55,90,57],[79,48,79,52],[79,53,79,56],[89,32,89,34],[90,14,90,16],[81,29,81,31],[92,32,92,34],[81,48,81,52],[81,32,81,34],[77,39,77,42],[77,77,77,81],[80,78,80,80],[80,82,80,86],[80,73,80,75],[78,99,78,102],[78,67,78,71],[78,72,78,76],[81,67,82,102],[79,101,79,102],[80,68,80,70],[77,91,77,94],[78,91,78,94],[78,87,78,90],[92,61,92,66],[83,57,83,61],[84,39,84,42],[77,57,77,61],[78,57,78,61],[80,57,80,61],[80,62,80,66],[78,62,78,66],[73,25,73,28],[73,29,73,30],[73,22,73,24],[73,19,73,21],[72,29,72,30],[76,43,76,47],[74,25,74,28],[74,29,74,30],[74,48,74,52],[77,6,78,8],[77,9,78,13],[80,9,80,13],[80,14,80,16],[80,48,80,52],[77,53,77,56],[80,25,81,28],[74,32,74,33],[74,35,74,37],[76,39,76,42],[79,14,79,16],[79,17,79,21],[79,22,79,24],[79,39,79,42],[73,16,73,18],[81,39,81,42],[73,43,73,47],[74,0,75,24],[80,6,80,8],[80,22,80,24],[81,9,81,13],[91,32,91,34],[91,2,91,5],[91,9,91,13],[92,22,92,24],[89,6,89,8],[77,48,77,52],[81,62,81,66],[84,53,84,56],[84,48,84,52],[83,43,83,47],[82,57,82,61],[84,57,84,61],[82,53,82,56],[82,43,82,47],[82,48,82,52],[79,57,79,61],[79,62,79,66],[78,43,78,47],[78,48,78,52],[79,43,79,47],[81,43,81,47],[80,43,80,47],[77,43,77,47],[89,14,89,16],[89,22,89,24],[83,9,83,13],[83,14,83,16],[81,53,81,56],[81,57,81,61],[80,53,80,56],[90,17,90,21],[83,22,83,24],[91,46,91,48],[90,44,90,45],[90,39,90,42],[91,43,91,45],[83,72,86,102],[87,72,89,102],[90,72,92,102],[90,61,90,63],[88,61,88,66],[89,61,89,63],[88,44,88,47],[88,50,88,53],[90,64,90,66],[91,61,91,66],[90,58,90,60],[90,50,90,51],[90,52,90,54],[91,52,91,57],[90,46,90,48],[92,39,92,42],[92,43,92,45],[92,52,92,57],[92,46,92,48],[92,49,92,51],[91,39,91,42],[89,39,89,42],[91,49,91,51],[84,43,84,47],[84,62,84,66],[83,48,83,52],[83,62,83,66],[83,53,83,56],[76,69,76,72],[76,53,76,56],[76,78,76,81],[76,87,76,90],[73,95,73,101],[73,57,73,61],[70,77,70,78],[74,62,74,66],[74,57,74,61],[66,92,66,96],[62,99,62,101],[67,97,67,102],[67,67,70,71],[70,72,70,75],[70,85,70,87],[68,94,68,96],[67,82,67,84],[70,57,70,61],[63,99,63,101],[74,53,74,56],[74,77,74,83],[75,62,75,66],[73,86,73,92],[61,7,61,9],[66,7,66,9],[68,7,68,9],[64,7,64,9],[73,7,73,9],[70,10,70,12],[61,10,61,12],[70,13,70,15],[68,16,68,18],[67,22,67,24],[68,10,68,12],[68,29,68,30],[69,19,69,21],[64,10,64,12],[65,98,65,101],[63,84,63,86],[62,81,62,83],[65,53,65,56],[65,68,65,71],[70,53,70,56],[65,73,65,76],[70,35,70,37],[71,32,71,33],[71,35,71,37],[71,43,71,47],[71,19,71,21],[68,88,68,90],[73,62,73,66],[72,62,72,66],[61,43,61,47],[68,100,68,102],[68,91,68,93],[59,0,59,6],[65,0,65,6],[61,0,61,6],[61,19,61,21],[68,13,68,15]],"merged_total":1108,"flags":["merged_cut"]}
[{"$f":"+データ一覧!I2","v":0}]
[{"$f":"+データ一覧!I5","v":0}]
[null,null,null,null,null,null,null,null,null,null,null,null,null,null,null,null,null,null,null,null,null,null,null,null,null,null,null,null,null,null,null,null,null,null,null,null,null,null,null,0]
[null,null,null,null,null,null,null,null,null,null,null,null,null,null,null,null,null,null,null,null,null,null,null,null,null,null,null,"【市章とそのいわれ】小浜市の「小」の字を、未来への飛躍を                      ",null,null,null,null,null,null,null,null,null,null,null,"  【位置および地勢】小浜市は福井県の南西部に位置し南は東西に走る京都",null,null,null,null,null,null,null,null,null,null,null,null,null,null,null,null,null,null,null,null,null,null,null,null,null,null,null,null,null,null,"所在地",null,null,null,null,null,null,null,"〒917-8585"]
[null,null,null,null,null,null,null,null,null,null,null,null,null,null,null,null,null,null,null,null,null,null,null,null,null,null,null,"                  こめて、鳥の羽ばたく姿にデザインしたもので、                                    ",null,null,null,null,null,null,null,null,null,null,null,"                  ","北部一帯に連なる山岳で、一部滋賀県と境を接し、北は内外海半島、",null,null,null,null,null,null,null,null,null,null,null,null,null,null,null,null,null,null,null,null,null,null,null,null,null,null,null,null,null,null,null,null,null,null,null,null,null,"小浜市大手町６番３号"]
[{"$f":"+データ一覧!I3","v":"おばまし"},null,null,null,null,null,null,null,null,null,null,null,null,null,null,null,null,null,null,null,null,null,null,null,null,null,null,"                  市制発足の際、市民の公募作品から選定した。                                          ",null,null,null,null,null,null,null,null,null,null,null,"  ","大島半島で囲まれた小浜湾に面している。付近一帯の海岸は 国定公園の"]
[{"$f":"データ一覧!I6","v":"小浜市"},null,null,null,null,null,null,null,null,null,null,null,null,null,null,null,null,null,null,null,null,null,null,null,null,null,null,0,null,null,null,null,null,null,null,null,null,null,null," ","指定を受け、各所に明媚な風光をかもしだしており、遠く南の山岳地帯に",null,null,null,null,null,null,null,null,null,null,null,null,null,null,null,null,null,null,null,null,null,null,null,null,null,null,null,null,null,"電話番号",null,null,null,null,null,null,null,"（０７７０）５３－１１１１"]
[null,null,null,null,null,null,null,null,null,null,null,null,null,null,null,null,null,null,null,null,null,null,null,null,null,null,null,0,null,null,null,null,null,null,null,null,null,null,null,"  ","源を発する北川、南川の両河川は海岸に細長く走る肥沃な平野を貫流して、",null,null,null,null,null,null,null,null,null,null,null,null,null,null,null,null,null,null,null,null,null,null,null,null,null,null,null,null,null,"FAX番号",null,null,null,null,null,null,null,"     〃     ５３－０７４２"]
[null,null,null,null,null,null,null,null,null,null,null,null,null,null,null,null,null,null,null,null,null,null,null,null,null,null,null,0,null,null,null,null,null,null,null,null,null,null,null,"  ","下流にかんがいをもたらし小浜湾に注いでいる。"]
[null,null,null,null,null,null,null,null,null,null,null,null,null,null,null,null,null,null,null,null,null,null,null,null,null,null,null,0,null,null,null,null,null,null,null,null,null,null,null,0,null,null,null,null,null,null,null,null,null,null,null,null,null,null,null,null,null,null,null,null,null,null,null,null,null,null,null,null,null,null,"最寄駅および距離",null,null,null,null,null,null,null,"ＪＲ小浜線小浜駅  下車４００ｍ"]
[null,null,null,null,null,null,null,null,null,null,null,null,null,null,null,null,null,null,null,null,null,null,null,null,null,null,null,0,null,null,null,null,null,null,null,null,null,null,null,0]
[]
[null,null,null,null,null,null,null,null,null,null,null,null,null,null,null,null,null,null,null,null,null,null,null,null,null,null,null,"【市が掲げる標語】みんなで描く、悠久の歴史と風土が活きるまち ～新たな時代の御食国 若狭おばま～",null,null,null,null,null,null,null,null,null,null,null,null,null,null,null,null,null,null,null,null,null,null,null,null,null,null,null,null,null,null,null,null,null,null,null,null,null,null,null,null,null,null,"ホームページ",null,null,null,null,null,null,null,"https://www1.city.obama.fukui.jp/"]
[]
["  １  土            　　地",null,null,null,null,null,null,null,null,null,null,null,null,null,null,null,null,null,null,null,null,null,null,null,null,{"$f":"データ一覧!$A$240","v":"5年"},"産米収穫量",null,null,"　 収　穫　量",null,null," 　作 付 面 積",null,null,"   10a当たり収量",null,null,null,null,null,null,null,null,null,null,null,null,null,null,null,null,null,null,null,null,null,null,null,null,null,null,null,null,null,null,null," １５  労　　　　　　　働",null,null,null,null,null,null,null,null,null,null,null,null,null,null,"2.10.1"]
[null,null,null,null,null,null,null,null,null,null,null,null,null,null,null,null,null,null,null,null,null,null,null,null,null,null,null,null,null,{"$f":"データ一覧!$I$240","v":3810},null,"t",{"$f":"データ一覧!$I$241","v":814},null,"ha",{"$f":"データ一覧!I242","v":468},null,null,"kg"," １０  工　　　　　　業 ",null,null,null,null,null,null,null,null,null,null,null,null,null,{"$f":"データ一覧!$A$332","v":"4.6.1（令和3年実績）"}]
["   総          面           積",null,null,null,null,null,null,null,null,null," 固 定 資 産 概 要 調 書 に よ る 地 目 別 面 積",null,null,null,null,null,null,null,null,null,null,null,null,null,null,null,null,null,"   総　　　数",null,null,null,"うち　　田",null,null,null,"うち　　畑",null,null,null,null,null,null,null,null,null,null,null,null,null,null,null,null,null,null,null,null,null,null,null,null,null,null,null,null,null,null,null,null,null,null,null,null,null,"産業別就業者数   "]
[null,null,{"$f":"データ一覧!$A$7","v":"6.10.1"},null,null,null,null,null,null,null,null,null,null,null,null,null,{"$f":"データ一覧!$A$9","v":"6.1.1"},null,null,null,null,null,null,null,null," 耕  地  面  積",null,null,null,"       ha",null,null,"ha ",null,null,null,"ha ",null,null,"      ","産業分類",null,null,null,null,null,null,null,"事業所数",null,null,null,null,"従業者数",null,null,null,null,null,"年間製造品出荷額等",null,null,null,null,null,null,null,null,"区  分",null,null,null,null,"総    数",null,null,null,null,"男",null,null,null,"女",null,null,"  ","区  分",null,null,null,null,"総    数",null,null,null,null,"男",null,null,null,"女"]
[null,null,null,null,null,null,"㎢",null,null,null,"   総       数",null,null,null,null,"  う ち     田",null,null,null,null,"  う ち     畑",null,null,null,null,{"$f":"データ一覧!A243","v":"5.7.15"},null,null,{"$f":"データ一覧!$I$243","v":1410},null,null,{"$f":"データ一覧!$I$244","v":1290},null,null,null,{"$f":"データ一覧!$I$245","v":117},null,null,null,null,null,null,null,null,null,null,null,null,"　　   ",null,null,"事業所",null,"　　　　　　　 人",null,null,"人",null,"　　　　　　　　　　　　　　万円",null,null,null,null,null,null,"万円",null,null,null,null,null,null,null,"      人",null,null,null,null,null," 人",null,null,null," 人",null,null,null,null,null,null,null,"      人",null,null,null,"      人",null,null,null,"      人"]
[null,null,null,{"$f":"データ一覧!I7","v":233.11},null,null,null,null,null,null,null,null,null,null,"ha",null,null,null,null,"ha",null,null,null,null,"ha","農 業 生 産 物",null,null,null,"作 付 面 積",null,null,"収 穫 量",null,null,"10a当たり収量",null,null,null,"     ","総数",null,null,null,null,null,null,null,null,{"$f":"データ一覧!I332","v":69},null,null,null,{"$f":"+データ一覧!I357","v":1730},null,null,null,null,null,null,{"$f":"データ一覧!I382","v":4309043},null,null,null,null,null,null," 総　　　数",null,null,null,null,null,{"$f":"BZ20+CD20","v":14193},null,null,null,{"$f":"データ一覧!I507","v":7945},null,null,null,{"$f":"データ一覧!I532","v":6248}]
[null,null,null,null,null,null,null,null,null,null,null,{"$f":"データ一覧!I9","v":13510.6},null,null,null,null,{"$f":"データ一覧!I10","v":1474.9},null,null,null,null,{"$f":"データ一覧!I11","v":233.1},null,null,null,{"$f":"データ一覧!$A$246","v":"5年産"},null,null,null,"ha",null,null,"t",null,null,"kg",null,null,null,"     食料品","食料品",null,null,null,null,null,null,null,null,{"$f":"データ一覧!I333","v":15},null,null,null,{"$f":"+データ一覧!I358","v":236},null,null,null,null,null,null,{"$f":"データ一覧!I383","v":335125},null,null,null,null,null,null,null,null,null,null,null,null,null,null,null,null,null,null,null,null,null,null,null,null,null,"卸売業,小売業",null,null,null,null,{"$f":"CR21+CV21","v":2099},null,null,null,{"$f":"データ一覧!I520","v":982},null,null,null,{"$f":"データ一覧!I545","v":1117}]
["  町 ･ 丁 ･ 大 字",null,null,null,null,null,null,null,null,null,"  う ち  宅 地",null,null,null,null,"  う ち  山 林",null,null,null,null,"  う ち  原 野",null,null,null,null,"水　　　　　稲",null,null,null,{"$f":"データ一覧!I246","v":814},null,null,{"$f":"データ一覧!I247","v":3810},null,null,{"$f":"データ一覧!I248","v":468},null,null,null,"     飲料・飼料","飲料・飼料",null,null,null,null,null,null,null,null,{"$f":"データ一覧!I334","v":2},null,null,null,{"$f":"+データ一覧!I359","v":22},null,null,null,null,null,null,{"$f":"データ一覧!I384","v":"x"},null,null,null,null,null,null," 第１次産業",null,null,null,null,null,{"$f":"BZ22+CD22","v":567},null,null,null,{"$f":"データ一覧!I508","v":348},null,null,null,{"$f":"データ一覧!I533","v":219},null,null,null,null,"金融業,保険業",null,null,null,null,{"$f":"CR22+CV22","v":244},null,null,null,{"$f":"データ一覧!I521","v":101},null,null,null,{"$f":"データ一覧!I546","v":143}]
["  区    画    数",null,null,null,null,null,null,{"$f":"データ一覧!I8","v":143},null,null,null,null,null,null,"ha",null,null,null,null,"ha",null,null,null,null,"ha","六　条　大　麦",null,null,null,{"$f":"データ一覧!I249","v":36},null,null,{"$f":"データ一覧!I250","v":112},null,null,{"$f":"データ一覧!I251","v":312},null,null,null,"     繊維","繊維",null,null,null,null,null,null,null,null,{"$f":"データ一覧!I335","v":6},null,null,null,{"$f":"+データ一覧!I360","v":222},null,null,null,null,null,null,{"$f":"データ一覧!I385","v":311879},null,null,null,null,null,null,"  ","農業",null,null,null,null,{"$f":"BZ23+CD23","v":474},null,null,null,{"$f":"データ一覧!I509","v":270},null,null,null,{"$f":"データ一覧!I534","v":204},null,null,null,"  ","不動産業",null,null,null,null,123,null,null,null,{"$f":"データ一覧!I522","v":71},null,null,null,{"$f":"データ一覧!I547","v":52}]
[{"$f":"データ一覧!$A$8","v":"5.4.1"},null,null,null,null,null,null,null,null,null,null,{"$f":"データ一覧!I12","v":659.6},null,null,null,null,{"$f":"データ一覧!I13","v":7226.3},null,null,null,null,{"$f":"データ一覧!I14","v":149.5},null,null,null,"大　　      豆",null,null,null,{"$f":"データ一覧!I252","v":21},null,null,{"$f":"データ一覧!I253","v":24},null,null,{"$f":"データ一覧!I254","v":114},null,null,null,"     衣服","木材",null,null,null,null,null,null,null,null,{"$f":"データ一覧!I336","v":11},null,null,null,{"$f":"+データ一覧!I361","v":108},null,null,null,null,null,null,{"$f":"データ一覧!I386","v":302288},null,null,null,null,null,null,"  ","林業",null,null,null,null,17,null,null,null,{"$f":"データ一覧!I510","v":15},null,null,null,{"$f":"データ一覧!I535","v":2},null,null,null,"  ","学術研究",null,null,null,null,566,null,null,null,{"$f":"データ一覧!I523","v":434},null,null,null,{"$f":"データ一覧!I548","v":132}]
["  ２  世　帯　数　と　人　口",null,null,null,null,null,null,null,null,null,null,null,null,null,null,null,null,null,null,null,null,null,null,null,null,null,null,"  区　分",null," 乳 用 牛",null," 肉 用 牛",null,"豚",null,"採卵鶏",null,"ブロイラー",null,"     木材","家具",null,null,null,null,null,null,null,null,{"$f":"データ一覧!I337","v":2},null,null,null,{"$f":"+データ一覧!I362","v":14},null,null,null,null,null,null,{"$f":"データ一覧!I387","v":"x"},null,null,null,null,null,null,"  ","漁業",null,null,null,null,76,null,null,null,{"$f":"データ一覧!I511","v":63},null,null,null,{"$f":"データ一覧!I536","v":13},null,null,null,"  ","宿泊業,飲食ｻｰﾋﾞｽ",null,null,null,null,748,null,null,null,{"$f":"データ一覧!I524","v":276},null,null,null,{"$f":"データ一覧!I549","v":472}]
[null,null,null,null,null,null,null,null,null,null,null,null,null,null,null,null,null,null,null,null,null,null,null,null,null,"畜　産",null," 飼養農家",null,{"$f":"データ一覧!$I$255","v":0},null,{"$f":"データ一覧!$I$257","v":0},null,{"$f":"データ一覧!$I$259","v":0},null,{"$f":"データ一覧!$I$261","v":0},null,{"$f":"データ一覧!$I$263","v":0},null,"     家具","パルプ・紙",null,null,null,null,null,null,null,null,{"$f":"データ一覧!I338","v":1},null,null,null,{"$f":"+データ一覧!I363","v":47},null,null,null,null,null,null,{"$f":"データ一覧!I388","v":"x"},null,null,null,null,null,null," 第２次産業",null,null,null,null,null,3786,null,null,null,{"$f":"データ一覧!I512","v":2677},null,null,null,{"$f":"データ一覧!I537","v":1109},null,null,null,"  ","生活関連ｻｰﾋﾞｽ業",null,null,null,null,402,null,null,null,{"$f":"データ一覧!I525","v":162},null,null,null,{"$f":"データ一覧!I550","v":240}]
[null,null,null,null,null,null,null,null,"        人　　　　　　　　　　口",null,null,null,null,null,null,null,null,null,null,null,"１世帯当",null,"人    口",null,null,{"$f":"データ一覧!$A$255","v":"6.3.31"},null,"（戸）",null,null,null,null,null,null,null,null,null,null,null,"     パルプ・紙","印刷",null,null,null,null,null,null,null,null,{"$f":"データ一覧!I339","v":1},null,null,null,{"$f":"+データ一覧!I364","v":5},null,null,null,null,null,null,{"$f":"データ一覧!I389","v":"x"},null,null,null,null,null,null,null,"鉱業，採石業",null,null,null,null,0,null,null,null,{"$f":"データ一覧!I513","v":"-"},null,null,null,{"$f":"データ一覧!I538","v":"-"},null,null,null,"  ","教育,学習支援業",null,null,null,null,821,null,null,null,{"$f":"データ一覧!I526","v":374},null,null,null,{"$f":"データ一覧!I551","v":447}]
[" 区　　　　分",null,null,null,null,"世帯数",null,null," 総   数",null,null,"    男",null,null,"    女",null,null,"  男／女",null,null,"たり人員",null,"密    度",null,null,null,null," 頭 羽",null,{"$f":"データ一覧!$I$256","v":0},null,{"$f":"データ一覧!$I$258","v":0},null,{"$f":"データ一覧!$I$260","v":0},null,{"$f":"データ一覧!$I$262","v":0},null,{"$f":"データ一覧!$I$264","v":0},null,"     出版・印刷","化学",null,null,null,null,null,null,null,null,{"$f":"データ一覧!I340","v":2},null,null,null,{"$f":"+データ一覧!I365","v":85},null,null,null,null,null,null,{"$f":"データ一覧!I390","v":"x"},null,null,null,null,null,null,"  ","建設業",null,null,null,null,1537,null,null,null,{"$f":"データ一覧!I514","v":1319},null,null,null,{"$f":"データ一覧!I539","v":218},null,null,null,null,"医療，福祉",null,null,null,null,1927,null,null,null,{"$f":"データ一覧!I527","v":477},null,null,null,{"$f":"データ一覧!I552","v":1450}]
[null,null,null,null,null,"    世 帯",null,null,"       人",null,null,"       人",null,null,"       人",null,null,null,"　　％",null,"    人",null,"    人/㎢",null,null,null,null,null,null,null,null,null,null,null,null,null,null,null,null,"     化学","石油・石炭",null,null,null,null,null,null,null,null,{"$f":"データ一覧!I341","v":1},null,null,null,{"$f":"+データ一覧!I366","v":13},null,null,null,null,null,null,{"$f":"データ一覧!I391","v":"x"},null,null,null,null,null,null,null,"製造業",null,null,null,null,2249,null,null,null,{"$f":"データ一覧!I515","v":1358},null,null,null,{"$f":"データ一覧!I540","v":891},null,null,null,null,"複合サービス事業",null,null,null,null,240,null,null,null,{"$f":"データ一覧!I528","v":147},null,null,null,{"$f":"データ一覧!I553","v":93}]
[{"$f":"データ一覧!$A$22","v":" 2.10.1"},null,null,null,null,{"$f":"データ一覧!I22","v":9920},null,null,{"$f":"+L30+O30","v":33774},null,null,{"$f":"データ一覧!I24","v":16175},null,null,{"$f":"データ一覧!I25","v":17599},null,null,null,{"$f":"+L30/O30*100","v":91.908631172225697},null,{"$f":"データ一覧!I27","v":3.4},null,{"$f":"データ一覧!I28","v":145.1},null,null,"  ５  林               業",null,null,null,null,null,null,null,null,null,null,null,null,null,"     石油・石炭","プラスチック",null,null,null,null,null,null,null,null,{"$f":"データ一覧!I342","v":2},null,null,null,{"$f":"+データ一覧!I367","v":101},null,null,null,null,null,null,{"$f":"データ一覧!I392","v":"x"},null,null,null,null,null,null," 第３次産業",null,null,null,null,null,9494,null,null,null,{"$f":"データ一覧!I516","v":4700},null,null,null,{"$f":"データ一覧!I541","v":4794},null,null,null,null,"サービス業",null,null,null,null,1062,null,null,null,{"$f":"データ一覧!I529","v":704},null,null,null,{"$f":"データ一覧!I554","v":358}]
[{"$f":"データ一覧!$A$29","v":" 7.10.1"},null,null,null,null,{"$f":"データ一覧!I29","v":10383},null,null,{"$f":"+L31+O31","v":33496},null,null,{"$f":"データ一覧!I31","v":16164},null,null,{"$f":"データ一覧!I32","v":17332},null,null,null,93.261020078467567,null,{"$f":"データ一覧!I34","v":3.23},null,{"$f":"データ一覧!I35","v":143.9},null,null,null,null,null,null,null,null,null,null,null,null,null,null,null,null,"     プラスチック","ゴム",null,null,null,null,null,null,null,null,{"$f":"データ一覧!I343","v":0},null,null,null,{"$f":"+データ一覧!I368","v":0},null,null,null,null,null,null,{"$f":"データ一覧!I393","v":0},null,null,null,null,null,null,null,"電気･ｶﾞｽ･水道業",null,null,null,null,263,null,null,null,{"$f":"データ一覧!I517","v":231},null,null,null,{"$f":"データ一覧!I542","v":32},null,null,null,null,"公務",null,null,null,null,588,null,null,null,{"$f":"データ一覧!I530","v":424},null,null,null,{"$f":"データ一覧!I555","v":164}]
[{"$f":"データ一覧!$A$36","v":"12.10.1"},null,null,null,null,{"$f":"データ一覧!I36","v":10962},null,null,{"$f":"+L32+O32","v":33295},null,null,{"$f":"データ一覧!I38","v":16134},null,null,{"$f":"データ一覧!I39","v":17161},null,null,null,94.015500262222488,null,{"$f":"データ一覧!I41","v":3.04},null,{"$f":"データ一覧!I42","v":143},null,null,"    　森　　　林　　　総　　　面　　　積   ",null,null,null,null,null,null,null,{"$f":"データ一覧!$A$265","v":"5.3.31"},null,null,null,null,null,"     ゴム","皮革",null,null,null,null,null,null,null,null,{"$f":"データ一覧!I344","v":0},null,null,null,{"$f":"+データ一覧!I369","v":0},null,null,null,null,null,null,{"$f":"データ一覧!I394","v":0},null,null,null,null,null,null,null,"情報通信業",null,null,null,null,73,null,null,null,{"$f":"データ一覧!I518","v":42},null,null,null,{"$f":"データ一覧!I543","v":31},null,null,null," 分類不能の産業",null,null,null,null,null,346,null,null,null,{"$f":"データ一覧!I531","v":220},null,null,null,{"$f":"データ一覧!I556","v":126}]
[{"$f":"+データ一覧!$A$43","v":"17.10.1"},null,null,null,null,{"$f":"データ一覧!I43","v":11136},null,null,{"$f":"+L33+O33","v":32182},null,null,{"$f":"データ一覧!I45","v":15620},null,null,{"$f":"データ一覧!I46","v":16562},null,null,null,94.312281125467933,null,{"$f":"データ一覧!I48","v":2.89},null,{"$f":"データ一覧!I49","v":138.19999999999999},null,null,"　　　森　　　　　　　林　　　　　　　の　　　　　　　構　　　　　　　成",null,null,null,null,null,null,null,null,null,null,null,null,null,"     皮革","窯業・土石",null,null,null,null,null,null,null,null,{"$f":"データ一覧!I345","v":2},null,null,null,{"$f":"+データ一覧!I370","v":25},null,null,null,null,null,null,{"$f":"データ一覧!I395","v":"x"},null,null,null,null,null,null,"  ","運輸業,郵便業",null,null,null,null,{"$f":"BZ33+CD33","v":338},null,null,null,{"$f":"データ一覧!I519","v":275},null,null,null,{"$f":"データ一覧!I544","v":63}]
[{"$f":"+データ一覧!$A$50","v":"22.10.1"},null,null,null,null,{"$f":"+データ一覧!I50","v":11477},null,null,{"$f":"+L34+O34","v":31340},null,null,{"$f":"+データ一覧!I52","v":15376},null,null,{"$f":"+データ一覧!I53","v":15964},null,null,null,96.316712603357558,null,{"$f":"+データ一覧!I55","v":2.73},null,{"$f":"+データ一覧!I56","v":134.6},null,null,null,null,null,null,null,"       ha",null,null,null,null,null,null,"       ha",null,"     窯業・土石","鉄鋼",null,null,null,null,null,null,null,null,{"$f":"データ一覧!I346","v":0},null,null,null,{"$f":"+データ一覧!I371","v":0},null,null,null,null,null,null,{"$f":"データ一覧!I396","v":0},null,null,null,null,null,null," １６  社　 会 　福　 祉",null,null,null,null,null,null,null,null,null,null,null,null,null,null,null,{"$f":"データ一覧!$A$557","v":"6.4.1"}]
[{"$f":"データ一覧!$A$57","v":"27.10.1"},null,null,null,null,{"$f":"データ一覧!I57","v":11220},null,null,{"$f":"データ一覧!I58","v":29670},null,null,{"$f":"データ一覧!I59","v":14539},null,null,{"$f":"データ一覧!I60","v":15131},null,null,null,96.087502478355688,null,{"$f":"データ一覧!I62","v":2.644385026737968},null,{"$f":"データ一覧!I63","v":127.3},null,null,"  総　　　　　   数",null,null,null,{"$f":"データ一覧!I265","v":19030.38},null,null," 天然林       針葉樹",null,null,null,{"$f":"データ一覧!I268","v":1177.73},null,null,"     鉄鋼","非鉄金属",null,null,null,null,null,null,null,null,{"$f":"データ一覧!I347","v":0},null,null,null,{"$f":"+データ一覧!I372","v":0},null,null,null,null,null,null,{"$f":"データ一覧!I397","v":0}]
["令　2.10.1（国調）",null,null,null,null,{"$f":"データ一覧!I64","v":12082},null,null,{"$f":"データ一覧!I65","v":28991},null,null,{"$f":"データ一覧!I66","v":14317},null,null,{"$f":"データ一覧!I67","v":14674},null,null,null,{"$f":"+L36/O36*100","v":97.567125528145013},null,{"$f":"データ一覧!I69","v":2.3995199470286375},null,{"$f":"データ一覧!I70","v":124.3661790570975},null,null,"  人工林     針葉樹",null,null,null,{"$f":"データ一覧!I266","v":7345.17},null,null," 天然林       広葉樹",null,null,null,{"$f":"データ一覧!I269","v":10144.39},null,null,"     非鉄金属","金属",null,null,null,null,null,null,null,null,{"$f":"データ一覧!I348","v":0},null,null,null,{"$f":"+データ一覧!I373","v":0},null,null,null,null,null,null,{"$f":"データ一覧!I398","v":0},null,null,null,null,null,null,"    ","区分",null,null,null,null,null,null,"施設数",null,null,null,null,"収容定員",null,null,null,null,null,"区分",null,null,null,null,null,null,"施設数",null,null,null,null,"収容定員"]
["年",null,"  区",null," 0歳",null,null,"15歳",null,null,"25歳",null,null,"35歳",null,null,"45歳",null,null,"55歳",null,null,"65歳",null,null,"  人工林     広葉樹",null,null,null,{"$f":"データ一覧!I267","v":37.28},null,null," 竹               林",null,null,null,{"$f":"データ一覧!I270","v":181.56},null,null,"     金属","はん用機械",null,null,null,null,null,null,null,null,{"$f":"データ一覧!I349","v":0},null,null,null,{"$f":"+データ一覧!I374","v":0},null,null,null,null,null,null,{"$f":"データ一覧!I399","v":0},null,null,null,null,null,null,"生活保護施設",null,null,null,null,null,null,null,{"$f":"データ一覧!I557","v":"-"},null,null,null,{"$f":"データ一覧!I570","v":"-"},null,null,null,"人",null,"指定障害者支援施設",null,null,null,null,null,null,null,{"$f":"データ一覧!I563","v":3},null,null,null,{"$f":"データ一覧!I576","v":120},null,null,null,"人"]
["齢","令",null,null,null,"～",null,null,"～",null,null,"～",null,null,"～",null,null,"～",null,null,"～",null,null,null,null,null,null,null,null,null,null,null,null,null,null,null,null,null,null,"     一般機械","生産用機械",null,null,null,null,null,null,null,null,{"$f":"データ一覧!I350","v":3},null,null,null,{"$f":"+データ一覧!I375","v":96},null,null,null,null,null,null,{"$f":"データ一覧!I400","v":160944},null,null,null,null,null,null,"地域福祉施設",null,null,null,null,null,null,null,{"$f":"データ一覧!I558","v":"-"},null,null,null,{"$f":"データ一覧!I571","v":"-"},null,null,null,null,null,"指定相談支援事業所",null,null,null,null,null,null,null,{"$f":"データ一覧!I564","v":2},null,null,null,{"$f":"データ一覧!I577","v":"-"}]
["階",{"$f":"+LEFT(データ一覧!$A$83,1)","v":"6"},"  分",null,null,null,"14歳",null,null,"24歳",null,null,"34歳",null,null,"44歳",null,null,"54歳",null,null,"64歳",null,null,"以上","    林     野     の     構     成",null,null,null,null,null,null,"保     有     形     態     別",null,null,null,null,null,null,"     電気機械","業務用機械",null,null,null,null,null,null,null,null,{"$f":"データ一覧!I351","v":1},null,null,null,{"$f":"+データ一覧!I376","v":54},null,null,null,null,null,null,{"$f":"データ一覧!I401","v":"x"},null,null,null,null,null,null,"老人福祉施設",null,null,null,null,null,null,null,{"$f":"データ一覧!I559","v":10},null,null,null,{"$f":"データ一覧!I572","v":113},null,null,null,null,null,"児童福祉施設",null,null,null,null,null,null,null,{"$f":"データ一覧!I565","v":25},null,null,null,{"$f":"データ一覧!I578","v":1227}]
["級","・",null,null,null,null,"人",null,null,"人",null,"    人",null,null,"    人",null,null,"    人",null,null,"    人",null,null,"    人",null,null,null,null,null,null,null,"ha",null,null,null,null,null,"       ha",null,null,"電子・デバイス",null,null,null,null,null,null,null,null,{"$f":"データ一覧!I352","v":2},null,null,null,{"$f":"+データ一覧!I377","v":161},null,null,null,null,null,null,{"$f":"データ一覧!I402","v":"x"},null,null,null,null,null,null,"介護保険施設",null,null,null,null,null,null,null,{"$f":"データ一覧!I560","v":45},null,null,null,{"$f":"データ一覧!I573","v":822},null,null,null,null,null,"母子福祉施設",null,null,null,null,null,null,null,{"$f":"データ一覧!I566","v":"-"},null,null,null,{"$f":"データ一覧!I579","v":"-"}]
["別",{"$f":"+MID(データ一覧!$A$83,3,2)","v":"10"},"総 数",null,{"$f":"+E42+E43","v":3237},null,null,{"$f":"+H42+H43","v":2140},null,null,{"$f":"+K42+K43","v":2279},null,null,{"$f":"+N42+N43","v":2815},null,null,{"$f":"+Q42+Q43","v":3644},null,null,{"$f":"+T42+T43","v":3554},null,null,{"$f":"+W42+W43","v":9134},null,null," 無立木地   伐採跡地",null,null,null,{"$f":"データ一覧!I271","v":3.12},null,null,"国   　　　 　 有",null,null,null,{"$f":"データ一覧!I273","v":705.7},null,null,null,"電気機械",null,null,null,null,null,null,null,null,{"$f":"データ一覧!I353","v":4},null,null,null,{"$f":"+データ一覧!I378","v":250},null,null,null,null,null,null,{"$f":"データ一覧!I403","v":1447729},null,null,null,null,null,null,"障害者自立支援法施行前からの身体障害者福祉施設",null,null,null,null,null,null,null,{"$f":"データ一覧!I561","v":"-"},null,null,null,{"$f":"データ一覧!I574","v":"-"},null,null,null,null,null,"婦人保護施設",null,null,null,null,null,null,null,{"$f":"データ一覧!I567","v":"-"},null,null,null,{"$f":"データ一覧!I580","v":"-"}]
["人","・","  男",null,{"$f":"データ一覧!I83","v":1662},null,null,{"$f":"データ一覧!I84","v":1167},null,null,{"$f":"データ一覧!I85","v":1286},null,null,{"$f":"データ一覧!I86","v":1474},null,null,{"$f":"データ一覧!I87","v":1881},null,null,{"$f":"データ一覧!I88","v":1810},null,null,{"$f":"データ一覧!I89","v":3989},null,null," 無立木地   未立木地",null,null,null,{"$f":"データ一覧!I272","v":141.13},null,null,"公       　　  有",null,null,null,{"$f":"データ一覧!I274","v":1886.05},null,null,"     輸送機械","情報通信機械",null,null,null,null,null,null,null,null,{"$f":"データ一覧!I354","v":0},null,null,null,{"$f":"+データ一覧!I379","v":0},null,null,null,null,null,null,{"$f":"データ一覧!I404","v":0},null,null,null,null,null,null,null,null,null,null,null,null,null,null,null,null,null,null,null,null,null,null,null,null,"その他の社会福祉施設",null,null,null,null,null,null,null,{"$f":"データ一覧!I568+データ一覧!I569","v":0},null,null,null,0]
["口",{"$f":"+RIGHT(データ一覧!$A$83,1)","v":"1"},"  女",null,{"$f":"データ一覧!I91","v":1575},null,null,{"$f":"データ一覧!I92","v":973},null,null,{"$f":"データ一覧!I93","v":993},null,null,{"$f":"データ一覧!I94","v":1341},null,null,{"$f":"データ一覧!I95","v":1763},null,null,{"$f":"データ一覧!I96","v":1744},null,null,{"$f":"データ一覧!I97","v":5145},null,null,null,null,null,null,null,null,null,"私          　 有",null,null,null,{"$f":"データ一覧!I275","v":16438.63},null,null,"     精密機械","輸送機械",null,null,null,null,null,null,null,null,{"$f":"データ一覧!I355","v":2},null,null,null,{"$f":"+データ一覧!I380","v":25},null,null,null,null,null,null,{"$f":"データ一覧!I405","v":"x"},null,null,null,null,null,null,"障害福祉サービス事業所",null,null,null,null,null,null,null,{"$f":"データ一覧!I562","v":31},null,null,null,{"$f":"データ一覧!I575","v":291}]
[null,null,null,null,null,null,null,null,null,null,null,null,null,null,null,null,null,null,null,null,null,null,null,null,null,"            林     産     物     生     産     量 ",null,null,null,null,null,null,null,null,null,{"$f":"データ一覧!$A$276","v":"5年中"},null,null,null,"     その他","その他",null,null,null,null,null,null,null,null,{"$f":"データ一覧!I356","v":12},null,null,null,{"$f":"+データ一覧!I381","v":266},null,null,null,null,null,null,{"$f":"データ一覧!I406","v":384782},null,null,null,null,null,null," １７  教　　　　　　　育",null,null,null,null,null,null,null,null,null,null,null,null,null,null,null,{"$f":"データ一覧!$A$583","v":"6.5.1"}]
["人口動態",null,null,null,null,null,null,"   自　然　動　態",null,null,null,null,null,"   社  会  動  態",null,null,null,null,null,{"$f":"データ一覧!$A78","v":"5.1.1～5.12.31"},null,null,null,null,null,"生椎茸",null,null,null,{"$f":"データ一覧!I276","v":158},null,"㎏","乾椎茸",null,null,null,{"$f":"データ一覧!I277","v":0},null,"㎏"]
[null,null,"   区       分",null,null,null,null," 出   生",null,null," 死   亡",null,null," 転   入",null,null," 転   出",null,null," 婚   姻",null,null," 離   婚",null,null,"えのきだけ",null,null,null,{"$f":"データ一覧!I279","v":0},null,"㎏","なめこ",null,null,null,{"$f":"データ一覧!I278","v":0},null,"㎏","    ","工　業　用　水　量",null,null,null,null,null,"（従業者30人以上の事業所）",null,null,null,null,null,null,null,null,null,null,{"$f":"データ一覧!I407","v":1739},null,null,null,null,"㎥／日",null,null,null,null,null,null,null,null,null,null,null,null,null,null,"学校数（校）",null,null,null,null,null,null,"教員数（人）",null,null,null,null,null,null,null,"学生・生徒・児童数（人）"]
[{"$f":"LEFT(データ一覧!$A74,6)","v":"5.10.1"},null,null,null,null,null,null,"       人",null,null,"       人",null,null,"       人",null,null,"       人",null,null,null,"    件",null,null,"    件",null,"ひらたけ",null,null,null,{"$f":"+データ一覧!I280","v":23},null,"㎏","まいたけ",null,null,null,{"$f":"+データ一覧!I281","v":0},null,"㎏",null,null,null,null,null,null,null,null,null,null,null,null,null,null,null,null,null,null,null,null,null,null,null,null,null,null,null,null,null,"　","区分",null,null,null,null,null,null,null," 本 校",null,null," 分 校",null,null," 本   務",null,null,null," 兼   務",null,null,null," 総   数",null,null,null,"男",null,null,null,"女"]
["～",null," 実          数",null,null,null,null,{"$f":"データ一覧!I74","v":169},null,null,{"$f":"データ一覧!I75","v":453},null,null,{"$f":"データ一覧!I76","v":841},null,null,{"$f":"データ一覧!I77","v":876},null,null,{"$f":"データ一覧!I78","v":100},null,null,{"$f":"データ一覧!I79","v":37},null,null,null,null,null,null,null,null,null,null,null,null,null,null,null,null," １１ 　上　・　下　水　道",null,null,null,null,null,null,null,null,null,null,null,null,null,null,null,null,null,null,null,null,null,null,null,null,null,null,null,null,"小学校",null,null,null,null,null,null,null,null,{"$f":"データ一覧!I584","v":9},null,null,{"$f":"データ一覧!I585","v":0},null,null,{"$f":"データ一覧!I586","v":140},null,null,null,{"$f":"データ一覧!I587","v":26},null,null,null,{"$f":"データ一覧!I588","v":1413},null,null,null,{"$f":"データ一覧!I589","v":711},null,null,null,{"$f":"データ一覧!I590","v":702}]
[{"$f":"RIGHT(データ一覧!$A76,6)","v":"6.9.30"},null,"比率(対1,000人)",null,null,null,null,{"$f":"+H48/I36*1000","v":5.8293953295850436},null,null,{"$f":"+K48/I36*1000","v":15.62553896036701},null,null,"- ",null,null,"- ",null,null,{"$f":"+T48/I36*1000","v":3.4493463488668898},null,null,{"$f":"+W48/I36*1000","v":1.2762581490807492},null,null,"  ６  漁               業",null,null,null,null,null,null,null,null,null,null,null,null,null,null,null,null,null,null,null,null,null,null,null,null,null,null,null,null,null,null,null,null,null,null,null,null,null,null,null,null,null,"  ","中学校",null,null,null,null,null,null,null,null,{"$f":"データ一覧!I592","v":2},null,null,{"$f":"データ一覧!I593","v":0},null,null,{"$f":"データ一覧!I594","v":63},null,null,null,{"$f":"データ一覧!I595","v":3},null,null,null,{"$f":"データ一覧!I596","v":753},null,null,null,{"$f":"データ一覧!I597","v":394},null,null,null,{"$f":"データ一覧!I598","v":359}]
[null,null,null,null,null,null,null,null,null,null,null,null,null,null,null,null,null,null,null,null,null,null,null,null,null,null,null,null,null,null,null,null,null,null,null,null,null,null,null,"水 道 供 給 人 口",null,null,null,null,null,null,"上 水 道",null,null,null,"簡易水道",null,null,null,"専用水道",null,null,null,"飲料水供給施設",null,null,null,"下水道処理人口",null,null,null,null,"  ","高等学校",null,null,null,null,null,null,null,null,{"$f":"データ一覧!I600","v":2},null,null,{"$f":"データ一覧!I601","v":0},null,null,{"$f":"データ一覧!I602","v":112},null,null,null,{"$f":"データ一覧!I603","v":26},null,null,null,{"$f":"データ一覧!I604","v":1160},null,null,null,{"$f":"データ一覧!I605","v":594},null,null,null,{"$f":"データ一覧!I606","v":566}]
["  ３  事　　業　　所（民　　営）",null,null,null,null,null,null,null,null,null,null,"3.6.1",null,null,null,null,null,null,null,null,null,null,null,null,null,"漁船隻数・トン数",null,null,null,{"$f":"データ一覧!$A$282","v":"5.12.31"},null,null,null,"動　力　船",null,null,null,null,null,{"$f":"データ一覧!$A$408","v":"6.3.31"},null,null,null,null,null,"人",null,{"$f":"データ一覧!I408","v":23292},null,null,{"$f":"データ一覧!I409","v":3899},null,null,null,null,{"$f":"データ一覧!I410","v":0},null,null,null,{"$f":"データ一覧!I411","v":130},null,null,null,{"$f":"データ一覧!I412","v":19370},null,null,null,"  ","大学・短期大学",null,null,null,null,null,null,null,null,{"$f":"データ一覧!I607","v":0},null,null,{"$f":"データ一覧!I608","v":2},null,null,{"$f":"データ一覧!I609","v":30},null,null,null,{"$f":"データ一覧!I610","v":0},null,null,null,{"$f":"データ一覧!I611","v":253},null,null,null,{"$f":"データ一覧!I612","v":189},null,null,null,{"$f":"データ一覧!I613","v":64}]
[null,null,null,null,null,null,null,null,null,null,null,null,null,null,null,null,null,null,null,null,null,null,null,null,null,"無動力船隻数",null,null,null,"船外機付漁船隻数",null,null,null,"隻　数",null,null,"総 ト ン 数",null,null,null,null,null,null,null,null,null,null,null,null,null,null,null,null,null,null,null,null,null,null,null,null,null,null,null,null,null,null,"  ","高等専門学校",null,null,null,null,null,null,null,null,{"$f":"データ一覧!I614","v":0},null,null,{"$f":"データ一覧!I615","v":0},null,null,{"$f":"データ一覧!I616","v":0},null,null,null,{"$f":"データ一覧!I617","v":0},null,null,null,{"$f":"データ一覧!I618","v":0},null,null,null,{"$f":"データ一覧!I619","v":0},null,null,null,{"$f":"データ一覧!I620","v":0}]
[null,null,null,null,null,null,null,"    総　　　　　数",null,null,null,null,null,"    民　　　　　営",null,null,null,null,null,"  国 ･ 地方公共団体",null,null,null,null,null,null,null,null,"隻",null,null,null,"隻",null,null,"隻",null,null,"t"," １２  交   通　・　通   信",null,null,null,null,null,null,null,null,null,null,null,null,null,null,null,null,null,null,null,null,null,null,null,null,null,null,null,"  ","特別支援学校",null,null,null,null,null,null,null,null,{"$f":"+データ一覧!I622","v":1},null,null,{"$f":"+データ一覧!I623","v":0},null,null,{"$f":"+データ一覧!I624","v":60},null,null,null,{"$f":"+データ一覧!I625","v":1},null,null,null,{"$f":"+データ一覧!I626","v":71},null,null,null,{"$f":"+データ一覧!I627","v":52},null,null,null,{"$f":"+データ一覧!I628","v":19}]
["  　区　　　　　　分",null,null,null,null,null,null," 事業所数",null,null," 従業者数",null,null," 事業所数",null,null," 従業者数",null,null," 事業所数",null,null," 従業者数",null,null,{"$f":"データ一覧!$I$282","v":2},null,null,null,{"$f":"データ一覧!$I$283","v":128},null,null,null,{"$f":"データ一覧!I284","v":130},null,null,{"$f":"データ一覧!I285","v":517.85},null,null,null,null,null,null,null,null,null,null,null,null,null,null,null,null,null,null,null,null,null,null,null,null,null,null,null,null,null,null,"  ","幼稚園",null,null,null,null,null,null,null,null,{"$f":"データ一覧!I630","v":0},null,null,{"$f":"データ一覧!I631","v":0},null,null,{"$f":"データ一覧!I632","v":0},null,null,null,{"$f":"データ一覧!I633","v":0},null,null,null,{"$f":"データ一覧!I634","v":0},null,null,null,{"$f":"データ一覧!I635","v":0},null,null,null,{"$f":"データ一覧!I636","v":0}]
[null,null,null,null,null,null,null,null,null,null,"       人",null,null,null,null,null,"       人",null,null,null,null,null,"       人",null,null,"  男女別就業者数",null,null,null,null,null,null,null,{"$f":"データ一覧!$A$286","v":"5.11.1"},null,null,null,null,null,"道     路",null,null,null,"実 延 長",null,null,null,"国     道",null,null,null,"県     道",null,null,null,"市町道",null,null,null," 鉄 道 営 業 キ ロ 数",null,null,null,null,null,null,null,"  ","幼保連携認定こども園",null,null,null,null,null,null,null,null,{"$f":"データ一覧!I638","v":3},null,null,{"$f":"データ一覧!I639","v":0},null,null,{"$f":"データ一覧!I640","v":53},null,null,null,{"$f":"データ一覧!I641","v":20},null,null,null,{"$f":"データ一覧!I642","v":389},null,null,null,{"$f":"データ一覧!I643","v":198},null,null,null,{"$f":"データ一覧!I644","v":191}]
["総数",null,null,null,null,null,null,{"$f":"データ一覧!I99","v":"…"},null,null,{"$f":"データ一覧!I156","v":"…"},null,null,{"$f":"データ一覧!I100","v":1722},null,null,{"$f":"データ一覧!I157","v":12613},null,null,{"$f":"データ一覧!I101","v":"…"},null,null,{"$f":"データ一覧!I158","v":"…"},null,null,"総　　数",null,null,null,null,null,"男",null,null,null,"女",null,null,null,{"$f":"データ一覧!$A$413","v":"5.4.1"},null,null,null,{"$f":"データ一覧!I413","v":558.5},null,null,"㎞",{"$f":"データ一覧!I414","v":31.1},null,null,"㎞",{"$f":"データ一覧!I415","v":87.3},null,null,"㎞",{"$f":"データ一覧!I416","v":440.1},null,null,"km",{"$f":"データ一覧!$A$417","v":"6.4.1"},null,null,null,{"$f":"データ一覧!I417","v":0},null,null,"㎞","  ","各種学校",null,null,null,null,null,null,null,null,{"$f":"データ一覧!I646","v":1},null,null,{"$f":"データ一覧!I647","v":0},null,null,{"$f":"データ一覧!I648","v":14},null,null,null,{"$f":"データ一覧!I649","v":0},null,null,null,{"$f":"データ一覧!I650","v":61},null,null,null,{"$f":"データ一覧!I651","v":43},null,null,null,{"$f":"データ一覧!I652","v":18}]
["農林漁業",null,null,null,null,null,null,{"$f":"データ一覧!I102","v":"…"},null,null,{"$f":"データ一覧!I159","v":"…"},null,null,{"$f":"データ一覧!I103","v":35},null,null,{"$f":"データ一覧!I160","v":459},null,null,{"$f":"データ一覧!I104","v":"…"},null,null,{"$f":"データ一覧!I161","v":"…"},null,null,null,null,null,null,null,"人",null,null,"　　　　人",null,null,null,null,"  人","自動車",null,null,null,null,null,null,null,null,"乗用車",null,null,null,null,null,null,null,null,null,null,null,null,null,null,null,null,null,null,"  ","専修学校",null,null,null,null,null,null,null,null,{"$f":"データ一覧!I654","v":2},null,null,{"$f":"データ一覧!I655","v":0},null,null,{"$f":"データ一覧!I656","v":17},null,null,null,{"$f":"データ一覧!I657","v":90},null,null,null,{"$f":"データ一覧!I658","v":172},null,null,null,{"$f":"データ一覧!I659","v":10},null,null,null,{"$f":"データ一覧!I660","v":162}]
["鉱業",null,null,null,null,null,null,{"$f":"データ一覧!I105","v":"…"},null,null,{"$f":"データ一覧!I162","v":"…"},null,null,{"$f":"データ一覧!I106","v":"-"},null,null,{"$f":"データ一覧!I163","v":"-"},null,null,{"$f":"データ一覧!I107","v":"…"},null,null,{"$f":"データ一覧!I164","v":"…"},null,null,{"$f":"データ一覧!I286","v":118},null,null,null,null,null,{"$f":"データ一覧!$I$287","v":0},null,null,null,{"$f":"データ一覧!I288","v":0},null,null,null,"台  数",null,null,null,"貨    物",null,null,null,"普     通",null,null,null,"小     型",null,null,null,"乗  合",null,null,"特  種",null,null,"小型二輪",null,null,"軽自動車",null,null," １８  衛　　　　　　　生"]
["建設業",null,null,null,null,null,null,{"$f":"データ一覧!I108","v":"…"},null,null,{"$f":"データ一覧!I165","v":"…"},null,null,{"$f":"データ一覧!I109","v":198},null,null,{"$f":"データ一覧!I166","v":1061},null,null,{"$f":"データ一覧!I110","v":"…"},null,null,{"$f":"データ一覧!I167","v":"…"},null,null,"　　　　海 面 漁 業 漁 獲 量 （属人）",null,null,null,null,null,null,null,{"$f":"データ一覧!$A$289","v":"30年中"},null,null,null,null,null,{"$f":"データ一覧!$A$418","v":"6.3.31"},null,null,null,null,{"$f":"データ一覧!I418","v":1476},null,null,null,{"$f":"データ一覧!I420","v":4891},null,null,null,{"$f":"データ一覧!I421","v":4701},null,null,{"$f":"データ一覧!I419","v":90},null,null,{"$f":"データ一覧!I422","v":543},null,null,{"$f":"データ一覧!I423","v":411},null,null,{"$f":"データ一覧!I424","v":12426}]
["製造業",null,null,null,null,null,null,{"$f":"データ一覧!I111","v":"…"},null,null,{"$f":"データ一覧!I168","v":"…"},null,null,{"$f":"データ一覧!I112","v":144},null,null,{"$f":"データ一覧!I169","v":1857},null,null,{"$f":"データ一覧!I113","v":"…"},null,null,{"$f":"データ一覧!I170","v":"…"},null,null,null,null,null,null,null,"       ","ｔ",null,null,null,null,null,null,"t",null,null,"     ",null,"郵　便　局　数",null,null,null,null,null,null,null,null,null,null,null,null,null,{"$f":"+MID(データ一覧!$A$428,3,2)","v":"3."},"令","一般加入",null,null,null,"ＩＮＳネット",null,null,null,null,null,null,null,"医療関係施設",null,null,null,null,null,{"$f":"データ一覧!$A$661","v":"5.10.1"},null,null,null,null,null,null,"および医療関係者数",null,null,null,null,null,null,null,{"$f":"データ一覧!$A$666","v":"4.12.31"}]
["電気・ｶﾞ ｽ・熱供給・水道業",null,null,null,null,null,null,{"$f":"データ一覧!I114","v":"…"},null,null,{"$f":"データ一覧!I171","v":"…"},null,null,{"$f":"データ一覧!I115","v":1},null,null,{"$f":"データ一覧!I172","v":2},null,null,{"$f":"データ一覧!I116","v":"…"},null,null,{"$f":"データ一覧!I173","v":"…"},null,null,"   総　　　　　　数",null,null,null,{"$f":"データ一覧!I289","v":675},null,null,"   藻　　　　　　類",null,null,null,{"$f":"データ一覧!I292","v":9},null,null,"通  信",null,null,null," 総     数",null,null,null,null," 郵 便 局",null,null,null,null," 簡 易 局",null,null,null,"・",{"$f":"+LEFT(データ一覧!$A$428,1)","v":"6"},"電話数",null,null,null,"加入数",null,null,null,null,null,null,null,null,null,"　","病",null,null,"院",null,"　",null,null,null,null," ","一般診療所",null,null,null,null,null,null,null,null,null,null,null,"歯科診療所"]
["情報通信業",null,null,null,null,null,null,{"$f":"データ一覧!I117","v":"…"},null,null,{"$f":"データ一覧!I174","v":"…"},null,null,{"$f":"データ一覧!I118","v":12},null,null,{"$f":"データ一覧!I175","v":65},null,null,{"$f":"データ一覧!I119","v":"…"},null,null,{"$f":"データ一覧!I176","v":"…"},null,null,"   魚　　　　　　類",null,null,null,{"$f":"データ一覧!I290","v":570},null,null,"   そ　   の　　 他",null,null,null,{"$f":"データ一覧!I293","v":64},null,null,{"$f":"データ一覧!$A$428","v":"6.3.31"},null,null,null,{"$f":"データ一覧!I425","v":14},null,null,null,null,{"$f":"データ一覧!I426","v":13},null,null,null,null,{"$f":"データ一覧!I427","v":1},null,null,null,{"$f":"+RIGHT(データ一覧!$A$428,2)","v":"31"},"・",{"$f":"データ一覧!I428","v":3943},null,null,null,{"$f":"データ一覧!I429","v":351},null,null,null," ","医療関係",null,null,null,null,null,null,null,null,null,null,null,"一般病院",null,null,null,null,null,null,null,null,null,null,null,"有",null,null,"床"]
["運輸業、郵便業",null,null,null,null,null,null,{"$f":"データ一覧!I120","v":"…"},null,null,{"$f":"データ一覧!I177","v":"…"},null,null,{"$f":"データ一覧!I121","v":22},null,null,{"$f":"データ一覧!I178","v":350},null,null,{"$f":"データ一覧!I122","v":"…"},null,null,{"$f":"データ一覧!I179","v":"…"},null,null,"   貝　　　　　　類",null,null,null,{"$f":"データ一覧!I291","v":32},null,null,null,null,null,null,null,null,null,null,null,null,null,null,null,null,null,null,null,null,null,null,null,null,null,null,null,null,null,null,null,null,null,null,null,null,null,null,"施設数",null,null,null,null,null,null,{"$f":"データ一覧!I661","v":2},null,null,null,null,null,{"$f":"データ一覧!I662","v":1},null,null,null,null,null,{"$f":"データ一覧!I663","v":17},null,null,null,null,null,{"$f":"データ一覧!I664","v":0},null,null,null,null,null,{"$f":"データ一覧!I665","v":9}]
["卸売業、小売業",null,null,null,null,null,null,{"$f":"データ一覧!I123","v":"…"},null,null,{"$f":"データ一覧!I180","v":"…"},null,null,{"$f":"データ一覧!I124","v":433},null,null,{"$f":"データ一覧!I181","v":3042},null,null,{"$f":"データ一覧!I125","v":"…"},null,null,{"$f":"データ一覧!I182","v":"…"},null,null,null,null,null,null,null,null,null,null,null,null,null,null,null,null," １３  税　　・　　財　　政",null,null,null,null,null,null,null,null,null,null,null,null,null,null,null,null,null,null,null,null,null,null,null,null,null,null,null,null,null,null,null,null,null,null,"医師",null,null,null,null,"歯科医師",null,null,null,null,"薬剤師",null,null,null,null,"保健師",null,null,null,null,"助産師",null,null," ",null,"看護師",null,null," "]
["金融業、保険業",null,null,null,null,null,null,{"$f":"データ一覧!I126","v":"…"},null,null,{"$f":"データ一覧!I183","v":"…"},null,null,{"$f":"データ一覧!I127","v":34},null,null,{"$f":"データ一覧!I184","v":369},null,null,{"$f":"データ一覧!I128","v":"…"},null,null,{"$f":"データ一覧!I185","v":"…"},null,null,"  ７  商        　　　業 ",null,null,null,null,null,null,{"$f":"データ一覧!$A$294","v":"3.6.1(令和2年実績）"},null,null,null,null,null,null,null,null,null,null,null,null,null,null,null,null,null,null,null,null,null,null,null,null,null,null,null,null,null,null,null,null,null,null," ","医療",null,null,null,null,null,null,null,null,"人",null,null,null,null,"人",null,null,null,null,"人",null,null,null,null,"人",null,null,null,null,"人",null,null,null,null,"人"]
["不動産業、物品賃貸業",null,null,null,null,null,null,{"$f":"データ一覧!I129","v":"…"},null,null,{"$f":"データ一覧!I186","v":"…"},null,null,{"$f":"データ一覧!I130","v":69},null,null,{"$f":"データ一覧!I187","v":173},null,null,{"$f":"データ一覧!I131","v":"…"},null,null,{"$f":"データ一覧!I188","v":"…"},null,null,null,null,null,null,null,null,null,null,null,null,null,null,null,null,"           ",null,null,null,"歳入",null,null,null,null,null,null,null,null,"(千円）"," ",null,null,null,"歳出",null,null,null,null,null,null,null,null,"(千円）",null,"関係者",null,null,null,null,{"$f":"データ一覧!I666","v":77},null,null,null,null,{"$f":"データ一覧!I667","v":17},null,null,null,null,{"$f":"データ一覧!I668","v":56},null,null,null,null,{"$f":"データ一覧!I669","v":31},null,null,null,null,{"$f":"データ一覧!I670","v":24},null,null,null,null,{"$f":"データ一覧!I671","v":547}]
["学術研究、専門・技術ｻｰﾋﾞｽ業",null,null,null,null,null,null,{"$f":"データ一覧!I132","v":"…"},null,null,{"$f":"データ一覧!I189","v":"…"},null,null,{"$f":"データ一覧!I133","v":72},null,null,{"$f":"データ一覧!I190","v":742},null,null,{"$f":"データ一覧!I134","v":"…"},null,null,{"$f":"データ一覧!I191","v":"…"},null,null,"  産   業　 分　 類",null,null,null," 事　業　所　数",null,null," 従　業　者　数",null,null,"年　間　販　売　額",null,null,null,"一人当たり歳入歳出予算決算額",null,null,null,null,null,null,null,null,null,null,null,null,null,null,null,null,null,null,null,null,null,null,null,null,null,null,null,"                   ",null,null,null,null,null,null,null,null,"死因別死亡数　　　　　　    ",null,null,null,null,null,null,null,null,null,null,null,null,null,null,null,{"$f":"データ一覧!$A$672","v":"5年中"},null,null,null,null,null,null,null,null,"      単 位：人"]
["宿泊業、飲食サービス業",null,null,null,null,null,null,{"$f":"データ一覧!I135","v":"…"},null,null,{"$f":"データ一覧!I192","v":"…"},null,null,{"$f":"データ一覧!I136","v":230},null,null,{"$f":"データ一覧!I193","v":1155},null,null,{"$f":"データ一覧!I137","v":"…"},null,null,{"$f":"データ一覧!I194","v":"…"},null,null,null,null,null,null,null,null,null,null,null,"　人",null,"         百万円",null,null,"区分",null,null,null,{"$f":"データ一覧!$A$438","v":"6年度"},null,null,null,null,{"$f":"データ一覧!$A$452","v":"5年度"},null,null,null,null,"区分",null,null,null,{"$f":"+AR68","v":"6年度"},null,null,null,null,{"$f":"データ一覧!$A$452","v":"5年度"},null,null,null,null," 死     因",null,null,null,null,null,null,null,null,null,null,null,"悪  性",null,null,"高血圧",null,null,null,null,null,"脳血管",null,null,null,null,null," ",null,null,"不慮の事故"]
["生活関連サービス業、娯楽業",null,null,null,null,null,null,{"$f":"データ一覧!I138","v":"…"},null,null,{"$f":"データ一覧!I195","v":"…"},null,null,{"$f":"データ一覧!I139","v":158},null,null,{"$f":"データ一覧!I196","v":587},null,null,{"$f":"データ一覧!I140","v":"…"},null,null,{"$f":"データ一覧!I197","v":"…"},null,null,"総　　　　　　計",null,null,null,{"$f":"データ一覧!$I$294","v":386},null,null,{"$f":"データ一覧!I303","v":2753},null,null,{"$f":"データ一覧!I312","v":64103},null,null,null,null,null,null,null,{"$f":"データ一覧!I434","v":585146.6926491285},null,null,null,null,{"$f":"データ一覧!I435","v":634617.90938280406},null,null,null,null,null,null,null,null,{"$f":"データ一覧!I436","v":585146.6926491285},null,null,null,null,{"$f":"データ一覧!I437","v":612901.96218337491},null,null,null,null,null,null,null,null,null,"全 死 因",null,null,null,"結 核",null,null,"新生物",null,null,"性疾患",null,null,"心疾患",null,null,"疾  患",null,null,"肺  炎",null,null,"老  衰",null,null,null,null," ","交通事故"]
["教育、学習支援業",null,null,null,null,null,null,{"$f":"データ一覧!I141","v":"…"},null,null,{"$f":"データ一覧!I198","v":"…"},null,null,{"$f":"データ一覧!I142","v":44},null,null,{"$f":"データ一覧!I199","v":213},null,null,{"$f":"データ一覧!I143","v":"…"},null,null,{"$f":"データ一覧!I200","v":"…"},null,null,"卸売業",null,null,null,{"$f":"データ一覧!I295","v":86},null,null,{"$f":"データ一覧!I304","v":782},null,null,{"$f":"データ一覧!I313","v":28611},null,null,null,"項目別歳入歳出予算決算額"]
["医療、福祉",null,null,null,null,null,null,{"$f":"データ一覧!I144","v":"…"},null,null,{"$f":"データ一覧!I201","v":"…"},null,null,{"$f":"データ一覧!I145","v":90},null,null,{"$f":"データ一覧!I202","v":1339},null,null,{"$f":"データ一覧!I146","v":"…"},null,null,{"$f":"データ一覧!I203","v":"…"},null,null,"小売業",null,null,null,{"$f":"データ一覧!I296","v":300},null,null,{"$f":"データ一覧!I305","v":1971},null,null,{"$f":"データ一覧!I314","v":35492},null,null,null,"区分",null,null,null,{"$f":"データ一覧!$A$438","v":"6年度"},null,null,null,null,{"$f":"データ一覧!$A$452","v":"5年度"},null,null,null,null,"区分",null,null,null,{"$f":"+AR71","v":"6年度"},null,null,null,null,{"$f":"データ一覧!$A$452","v":"5年度"},null,null,null,null,null,null,null,null,null,{"$f":"データ一覧!I672","v":421},null,null,null,"   －",{"$f":"データ一覧!I673","v":1},null,{"$f":"データ一覧!I674","v":91},null,null,null,{"$f":"データ一覧!I675","v":10},null,{"$f":"データ一覧!I676","v":47},null,null,{"$f":"データ一覧!I677","v":38},null,null,{"$f":"データ一覧!I678","v":8},null,null,{"$f":"データ一覧!I679","v":61},null,null,{"$f":"データ一覧!I680","v":15},null,null,{"$f":"データ一覧!I681","v":1}]
["複合サービス事業",null,null,null,null,null,null,{"$f":"データ一覧!I147","v":"…"},null,null,{"$f":"データ一覧!I204","v":"…"},null,null,{"$f":"データ一覧!I148","v":23},null,null,{"$f":"データ一覧!I205","v":283},null,null,{"$f":"データ一覧!I149","v":"…"},null,null,{"$f":"データ一覧!I206","v":"…"},null,null,"各種商品",null,null,null,{"$f":"データ一覧!I297","v":1},null,null,{"$f":"データ一覧!I306","v":24},null,null,{"$f":"データ一覧!I315","v":"x"},null,null,null,"総額",null,null,null,{"$f":"SUM(AR73:AV85)","v":16215000},null,null,null,null,{"$f":"SUM(AW73:BA85)","v":17788340},null,null,null,null,"総額",null,null,null,{"$f":"SUM(BF73:BJ85)","v":16215000},null,null,null,null,{"$f":"SUM(BK73:BO85)","v":17179642},null,null,null,null," １９  警　察　・　消　防  ",null,null,null,null,null,null,null,null,null,null,null,null,null,null,null,{"$f":"+データ一覧!$A682","v":"6.4.1"}]
["サービス業",null,null,null,null,null,null,{"$f":"データ一覧!I150","v":"…"},null,null,{"$f":"データ一覧!I207","v":"…"},null,null,{"$f":"データ一覧!I151","v":157},null,null,{"$f":"データ一覧!I208","v":916},null,null,{"$f":"データ一覧!I152","v":"…"},null,null,{"$f":"データ一覧!I209","v":"…"},null,null,"織物・衣服・身の回り品",null,null,null,{"$f":"データ一覧!I298","v":25},null,null,{"$f":"データ一覧!I307","v":69},null,null,{"$f":"データ一覧!I316","v":1118},null,null,null,"地方税",null,null,null,{"$f":"データ一覧!I439","v":3672994},null,null,null,null,{"$f":"データ一覧!I453","v":3803944},null,null,null,null,"議会費",null,null,null,{"$f":"データ一覧!I467","v":179966},null,null,null,null,{"$f":"データ一覧!I481","v":170942}]
["公務",null,null,null,null,null,null,{"$f":"データ一覧!I153","v":"…"},null,null,{"$f":"データ一覧!I210","v":"…"},null,null,{"$f":"データ一覧!I154","v":"…"},null,null,{"$f":"データ一覧!I211","v":"…"},null,null,{"$f":"データ一覧!I155","v":"…"},null,null,{"$f":"データ一覧!I212","v":"…"},null,null,"飲食料品",null,null,null,{"$f":"データ一覧!I299","v":105},null,null,{"$f":"データ一覧!I308","v":872},null,null,{"$f":"データ一覧!I317","v":11763},null,null,null,"地方譲与税",null,null,null,{"$f":"データ一覧!I440","v":184000},null,null,null,null,{"$f":"データ一覧!I454","v":168465},null,null,null,null,"総務費",null,null,null,{"$f":"データ一覧!I468","v":2604948},null,null,null,null,{"$f":"データ一覧!I482","v":2564975},null,null,null,null,null,null,null,null,null,null,null,null,null,null,"交番・駐在所",null,null,null,null,null,null,null,null,"刑法犯認知件数",null,null,null,null,null,null,null,null,"交通人身事故発生件数"]
["  ４  農        　　　業 ",null,null,null,null,null,null,null,null,null,null,null,null,null,null,null,null,null,null,null,null,null,null,null,null,"機械器具",null,null,null,{"$f":"データ一覧!I300","v":38},null,null,{"$f":"データ一覧!I309","v":297},null,null,{"$f":"データ一覧!I318","v":7914},null,null,null,"各種交付金",null,null,null,{"$f":"データ一覧!I441","v":878600},null,null,null,null,{"$f":"データ一覧!I455","v":896686},null,null,null,null,"民生費",null,null,null,{"$f":"データ一覧!I469","v":5220997},null,null,null,null,{"$f":"データ一覧!I483","v":5856529},null,null,null,null,null,"警察署数",null,null,null,null,null,null,null,null,"検問所数",null,null,null,null,null,null,null,null,null,{"$f":"データ一覧!$A$684","v":"5年中"},null,null,null,null,null,null,null,null,{"$f":"データ一覧!$A$684","v":"5年中"}]
[null,null,null,null,null,null,null,null,null,null,null,null,null,null,null,null,null,null,null,null,null,null,null,null,null,"その他",null,null,null,{"$f":"データ一覧!I301","v":123},null,null,{"$f":"データ一覧!I310","v":676},null,null,{"$f":"データ一覧!I319","v":"x"},null,null,null,"地方特例交付金",null,null,null,{"$f":"データ一覧!I442","v":78600},null,null,null,null,{"$f":"データ一覧!I456","v":27787},null,null,null,null,"衛生費",null,null,null,{"$f":"データ一覧!I470","v":1947987},null,null,null,null,{"$f":"データ一覧!I484","v":2022575},null,null,null,null,null,null,null,null,null,null,null,null,null,null,null,null,null,null,null,null,null,null,null,null,null,null,null,null," 件",null,null,null,null,null,null,null,null,"　件"]
[null,null,"農業経営体数",null,null,null,null,null,null,"農産物販売額規模別経営体数",null,null,null,null,null,null,null,"経営耕地面積規模別経営体数",null,null,null,null,null,null,null,"無店舗",null,null,null,{"$f":"データ一覧!I302","v":8},null,null,{"$f":"データ一覧!I311","v":33},null,null,{"$f":"データ一覧!I320","v":1397},null,null,null,"地方交付税",null,null,null,{"$f":"データ一覧!I443","v":5365000},null,null,null,null,{"$f":"データ一覧!I457","v":5540511},null,null,null,null,"労働費",null,null,null,{"$f":"データ一覧!I471","v":136742},null,null,null,null,{"$f":"データ一覧!I485","v":146073},null,null,null,null,null,null,{"$f":"データ一覧!I682","v":1},null,null,null,null,null,null,null,null,{"$f":"データ一覧!I683","v":6},null,null,null,null,null,null,null,null,{"$f":"データ一覧!I684","v":91},null,null,null,null,null,null,null,null,{"$f":"データ一覧!I685","v":25}]
["農",null,"区　分",null,null,null,"経営体数\n（経営体）",null,null,"区　分",null,null,null,null,"経営体数\n（経営体）",null,null,"区　分",null,null,null,null,"経営体数\n（経営体）",null,null,null,null,null,null,null,null,null,null,null,null,null,null,null,null,"分担金および負担金",null,null,null,{"$f":"データ一覧!I444","v":104951},null,null,null,null,{"$f":"データ一覧!I458","v":158014},null,null,null,null,"農林水産業費",null,null,null,{"$f":"データ一覧!I472","v":753095},null,null,null,null,{"$f":"データ一覧!I486","v":731462},null,null,null,null,"火災発生件数",null,null,null,null,null,null,null,null,null,"林野焼損",null,null,null,null,"損      害",null,null,null,null,"消 防 自",null,null,null,"その他の",null,null,null," ",null,null,null,null," "]
["業","令",null,null,null,null,null,null,null,null,null,null,null,null,null,null,null,null,null,null,null,null,null,null,null,"  ８  住　　　　　　 　宅",null,null,null,null,null,null,null,null,null,null,null,null,null,"使用料および手数料",null,null,null,{"$f":"データ一覧!I445","v":174780},null,null,null,null,{"$f":"データ一覧!I459","v":178550},null,null,null,null,"商工費",null,null,null,{"$f":"データ一覧!I473","v":550706},null,null,null,null,{"$f":"データ一覧!I487","v":596940},null,null,null,null,{"$f":"+データ一覧!$A$686","v":"5年中"},null,null,null,null,"焼損棟数",null,null,null,null,"面    積",null,null,null,null,"見  積  額",null,null,null,null,"動 車 数",null,null,null,"ﾎﾟﾝﾌﾟ数",null,null,null," 消防吏員",null,null,null," 消防団員"]
["経",{"$f":"+LEFT(データ一覧!$A$213)","v":"2"},"計",null,null,null,{"$f":"データ一覧!I213","v":443},null,null,"総　　　 数",null,null,null,null,{"$f":"データ一覧!I217","v":443},null,null,"総　　　 数",null,null,null,null,{"$f":"データ一覧!I233","v":1011},null,null,null,null,null,null,null,null,null,null,null,null,null,null,null,null,"国庫支出金",null,null,null,{"$f":"データ一覧!I446","v":1903658},null,null,null,null,{"$f":"データ一覧!I460","v":2602078},null,null,null,null,"土木費",null,null,null,{"$f":"データ一覧!I474","v":1637405},null,null,null,null,{"$f":"データ一覧!I488","v":1797981},null,null,null,null,"         件",null,null,null,null,null,"      棟",null,null,null,null,null,null,"  ａ",null,null,null,"  千円",null,null,"        ",null,null,null,null,null,null,null,null,null,"  人",null,null,null,"  人"]
["営","・","個人経営体",null,null,null,{"$f":"データ一覧!I214","v":424},null,null,"販 売 な し",null,null,null,null,{"$f":"データ一覧!I218","v":42},null,null,"0.5 ha 未満",null,null,null,null,{"$f":"データ一覧!I234","v":40},null,null,{"$f":"+データ一覧!$A$321","v":"4年"},null,null,null,null,{"$f":"データ一覧!$A$324","v":"5年"},"中の増減",null,null,null,{"$f":"+データ一覧!$A$324","v":"5年"},null,null,null,"県支出金",null,null,null,{"$f":"データ一覧!I447","v":1638961},null,null,null,null,{"$f":"データ一覧!I461","v":1736188},null,null,null,null,"消防費",null,null,null,{"$f":"データ一覧!I475","v":582617},null,null,null,null,{"$f":"データ一覧!I489","v":561626},null,null,null,null,null,{"$f":"データ一覧!I686","v":8},null,null,null,null,{"$f":"データ一覧!I687","v":8},null,null,null,null,{"$f":"データ一覧!I688","v":0},null,null,null,{"$f":"データ一覧!I689","v":6277},null,null,null,null,null,{"$f":"データ一覧!I690","v":11},null,null,null,{"$f":"データ一覧!I691","v":33},null,null,null,{"$f":"データ一覧!I692","v":72},null,null,null,{"$f":"データ一覧!I693","v":368}]
["体",{"$f":"+LEFT(データ一覧!$A$213,1)","v":"2"},"団体経営体",null,null,null,{"$f":"データ一覧!I215","v":19},null,null,"50万円未満",null,null,null,null,{"$f":"データ一覧!I219","v":168},null,null,"0.5 ha ～ 1.0 ha",null,null,null,null,{"$f":"データ一覧!I235","v":100},null,null,null,null,null,null,"建設した住宅",null,null,"消失した住宅",null,null,null,null,null,null,"財産収入",null,null,null,{"$f":"データ一覧!I448","v":26178},null,null,null,null,{"$f":"データ一覧!I462","v":46581},null,null,null,null,"教育費",null,null,null,{"$f":"データ一覧!I476","v":1061076},null,null,null,null,{"$f":"データ一覧!I490","v":1160980},null,null,null,null," ２０  そ　　　の　　　他　"]
["数","・",null,"法人経営",null,null,{"$f":"データ一覧!I216","v":16},null,null,"50～300万円",null,null,null,null,{"$f":"データ一覧!I220","v":182},null,null,"1.0 ha ～ 2.0 ha",null,null,null,null,{"$f":"データ一覧!I236","v":152},null,null,null,null,null,null,null,null,null,null,null,null,null,null,null,null,"繰入金",null,null,null,{"$f":"データ一覧!I449","v":614585},null,null,null,null,{"$f":"データ一覧!I463","v":384840},null,null,null,null,"災害復旧費",null,null,null,{"$f":"データ一覧!I477","v":0},null,null,null,null,{"$f":"データ一覧!I491","v":24211}]
["（",{"$f":"+RIGHT(データ一覧!$A$213)","v":"1"},null,null,null,null,null,null,null,"300～500万円",null,null,null,null,{"$f":"データ一覧!I221","v":21},null,null,"2.0 ha ～ 3.0 ha",null,null,null,null,{"$f":"データ一覧!I237","v":86},null,null,null,{"$f":"データ一覧!I321","v":11898},null,"戸",{"$f":"データ一覧!I322","v":183},null,"戸",{"$f":"データ一覧!I323","v":65},null,"戸",null,{"$f":"データ一覧!I324","v":12016},null,"戸","地方債",null,null,null,{"$f":"データ一覧!I450","v":663200},null,null,null,null,{"$f":"データ一覧!I464","v":735057},null,null,null,null,"公債費",null,null,null,{"$f":"データ一覧!I478","v":1529461},null,null,null,null,{"$f":"データ一覧!I492","v":1545348},null,null,null,null,null,null,null,null,null,"若狭湾国定公園（若狭蘇洞門 蒼島暖地性植物群落 双児島 児島）、明通寺、羽賀寺、神宮寺、妙楽寺、飯盛寺、国分寺、多田寺、円照寺、萬徳寺、小浜西組重要伝統的建造物群保存地区、国指定文化財等68、県指定83、市指定116（R6.10.1現在）"]
["総",null,null,null,null,null,null,null,null,"500～1,000万円",null,null,null,null,{"$f":"データ一覧!I222","v":13},null,null,"3.0 ha ～ 5.0 ha",null,null,null,null,{"$f":"データ一覧!I238","v":67},null,null,null,null,null,null,null,null,null,null,null,null,null,null,null,null,"その他",null,null,null,{"$f":"データ一覧!I451","v":909493},null,null,null,null,{"$f":"データ一覧!I465","v":1509639},null,null,null,null,"その他",null,null,null,{"$f":"データ一覧!I479","v":10000},null,null,null,null,{"$f":"データ一覧!I493","v":0},null,null,null,null,"　名所・旧跡"]
["数",null,null,null,null,null,null,null,null,"1,000万円以上",null,null,null,null,{"$f":"データ一覧!I223","v":17},null,null,"5.0 ha以上",null,null,null,null,{"$f":"データ一覧!I239","v":567},null,null,null,null,null,null,null,null,null,null,null,null,null,null,null,null,null,null,null,null,null,null,null,null,null,null,null,null,null,null,null,null,null,null,null,null,null,null,null,null,null,null,null,null,"  文化財等"]
["）",null,"15歳以上の常雇い数",null,null,null,null,null,null,"農業に60日以上従事した世帯員、役員・構成員\n（経営主を含む）の平均年齢",null,null,null,null,null,null,null,null,null,null,null,null,null,null,null,"  ９  議　 員　・　職 　員",null,null,null,null,null,null,null,null,null,null,null,null,null," １４  文　　　化",null,null,null,null,null,null,null," ( ",{"$f":"\"令\"&データ一覧!$A$498","v":"令6.3.31"},null,null,"ただし図書館・公民館・児童館・ 社会教育学級講座",null,null,null,null,null,null,null,null,null,null,null,{"$f":"データ一覧!$A$494","v":"6.4.1"}]
["と",null,null,null,null,null,null,null,null,null,null,null,null,null,null,null,null,null,null,null,null,null,null,null,null,null,null,null,null,null,null,null,null,null,null,null,null,null,null,null,null,null,null,null,null,null,null,null,null,null,null,null,"　宗教法人数 ",null,null,null,null,null,null,null,null,null,null,{"$f":"データ一覧!$A$502","v":"5.12.31"},null,null,null,"　　特産物",null,null,null,null,"若狭塗（箸、漆器）、若狭めのう細工、若狭和紙、うるしダルマ、若狭かれい、若狭小浜小鯛ささ漬、谷田部ねぎ、浜焼き鯖、若狭ぐじ、若狭ふぐ、若狭かき、鯖へしこ、鯖のなれずし、おばま醤油干、小浜よっぱらいサバ、でっちようかん、くずまんじゅう、ふくいサーモン、若狭まはた、八百姫ひらめ"]
["就",null,null,null,null,null,null,null,null,"農業に60日以上従事",null,null,null,null,null,null,null,"農業に150日以上従事",null,null,null,null,null,null,null," 市 町 議 会",null,null,"有権者数",null,{"$f":"データ一覧!$A$328","v":"6.9.1"},null,"市 町 議 会",null,null,"  職      員      数",null,null,null,null,null,null,null,null,"図書館",null,null,null,null,null,"公　民　館",null,null,null,null,null,null,null,null,null,null," 社会教育学級講座"]
["業",null,"区分",null,null,null,"人",null,null,"区分",null,null,null,null,"歳",null,null,"区　　分",null,null,null,null,"歳",null,null," 議  員  定  数",null,null,"    男",null,"    女",null,"選 挙 投 票 率",null,null," 総     数",null,"一般行政職",null,"公    共",null,null,null," 館  数",null,null," 図書数",null,null," 本  館",null,null," 分  館",null,null," 公  園",null,null," 児童館",null,null,"学級講座数",null,null,"受講者数"]
["状",null,"総数",null,null,null,{"$f":"データ一覧!I230","v":73},null,null,"総数",null,null,null,null,{"$f":"データ一覧!I224","v":67},null,null,"総数",null,null,null,null,{"$f":"データ一覧!I227","v":67.400000000000006},null,null,null,null,"人",null,"人",null,"人",null,null,"　％",null,"人",null,"人","施 設 数",null,null,null,null,{"$f":"データ一覧!I494","v":1},null,{"$f":"データ一覧!I495","v":190667},null,null,null,{"$f":"データ一覧!I496","v":12},null,{"$f":"データ一覧!I497","v":0},null,null,{"$f":"データ一覧!I498","v":24},null,null,{"$f":"データ一覧!I499","v":4},null,null,{"$f":"データ一覧!I500","v":88},null,null,{"$f":"データ一覧!I501","v":2556},null,null," 　年中行事",null,null,null,null,"お水送り、お城祭り(雲浜獅子)、放生祭、地蔵盆、箸まつり、若狭マリンピア、加茂神社のオイケモノ、すり鉢くぐり、小浜祇園祭、OBAMA食のまつり、御食国若狭おばまYOSAKOI祭、椎村神社の祭り（王の舞）、六斎念仏、鯖街道体験ウォーキング、鯖街道ウルトラマラソン、田烏棚田キャンドル、P-1グランプリ"]
["況",null,"男",null,null,null,{"$f":"データ一覧!I231","v":28},null,null,"男",null,null,null,null,{"$f":"データ一覧!I225","v":66},null,null,"男",null,null,null,null,{"$f":"データ一覧!I228","v":67},null,null,null,{"$f":"データ一覧!I325","v":17},null,{"$f":"データ一覧!I328","v":11412},null,{"$f":"データ一覧!I329","v":11797},null,{"$f":"データ一覧!I327","v":"無投票"},null,null,{"$f":"データ一覧!I330","v":293},null,{"$f":"データ一覧!I331","v":210},null,"宗    教",null,null,null," 仏教系",null,null,"ｷﾘｽﾄ教系",null,null,"神道諸派",null,null,"公会堂・市民会館",null,null,null,null,null," テレビ",null,null,"衛星放送契約数"]
[null,null,"女",null,null,null,{"$f":"データ一覧!I232","v":45},null,null,"女",null,null,null,null,{"$f":"データ一覧!I226","v":69.7},null,null,"女",null,null,null,null,{"$f":"データ一覧!I229","v":68.3},null,null,null,null,null,null,null,null,null,{"$f":"データ一覧!I326","v":"5.4.16"},null,null,null,null,null,null,"法 人 数",null,null,null,{"$f":"データ一覧!I502","v":138},null,null,{"$f":"データ一覧!I503","v":2},null,null,{"$f":"データ一覧!I504","v":107},null,null,{"$f":"データ一覧!I505","v":12},null,null,null,null,null,"      等",null,null,{"$f":"データ一覧!I506","v":4607}]

{"sheet":"大野市","index":8,"n_rows":93,"n_cols":103,"rows_kept":93,"cut":false,"hidden":false,"merged":[[89,2,89,5],[89,9,89,13],[89,17,89,21],[90,2,90,5],[90,9,90,13],[90,17,90,21],[91,2,91,5],[91,9,91,13],[91,17,91,21],[92,2,92,5],[92,9,92,13],[92,14,92,16],[92,17,92,21],[85,17,85,21],[81,9,81,13],[81,14,81,16],[82,6,82,8],[82,9,82,13],[82,14,82,16],[83,6,83,8],[83,9,83,13],[83,14,83,16],[84,6,84,8],[84,9,84,13],[84,14,84,16],[85,9,85,13],[85,14,85,16],[86,2,88,8],[86,9,87,24],[88,9,88,16],[34,8,34,10],[84,22,84,24],[85,6,85,8],[88,17,88,24],[76,2,76,8],[76,9,76,16],[76,17,76,24],[77,2,78,5],[77,6,78,8],[77,9,78,13],[77,14,78,16],[77,17,78,21],[77,22,78,24],[79,2,79,5],[79,6,79,8],[79,9,79,13],[79,14,79,16],[79,17,79,21],[79,22,79,24],[80,6,80,8],[80,9,80,13],[80,14,80,16],[80,17,80,21],[80,22,80,24],[81,6,81,8],[82,22,82,24],[85,22,85,24],[55,0,55,6],[40,7,40,9],[40,10,40,12],[40,19,40,21],[73,0,73,6],[88,72,92,102],[28,86,28,90],[27,22,27,24],[29,11,29,13],[32,81,32,84],[32,40,32,46],[29,86,29,90],[28,68,28,72],[28,73,28,76],[28,77,28,80],[70,22,70,24],[35,22,35,24],[35,11,35,13],[35,14,35,16],[35,18,35,19],[35,20,35,21],[42,10,42,12],[41,16,41,18],[73,77,73,83],[73,86,73,92],[73,95,73,101],[74,77,74,83],[74,87,74,91],[74,96,74,100],[67,57,67,61],[67,62,67,66],[57,16,57,18],[66,29,66,31],[31,8,31,10],[27,73,27,76],[27,95,27,98],[27,99,27,102],[26,49,26,51],[26,53,26,56],[24,40,24,46],[24,49,24,51],[24,53,24,56],[40,32,40,35],[30,53,30,56],[29,49,29,51],[29,53,29,56],[27,49,27,51],[29,40,29,46],[27,40,27,46],[25,49,25,51],[25,53,25,56],[27,0,27,4],[27,5,27,7],[25,37,26,38],[24,27,24,28],[25,40,25,46],[26,40,26,46],[35,5,35,7],[35,8,35,10],[30,5,30,7],[31,11,31,13],[30,8,30,10],[29,8,29,10],[27,53,27,56],[33,11,33,13],[34,11,34,13],[28,49,28,51],[34,18,34,19],[29,20,29,21],[17,25,17,27],[18,25,18,27],[17,100,17,101],[21,91,21,94],[19,95,19,98],[23,99,23,102],[24,91,24,94],[19,91,19,94],[24,95,24,98],[24,99,24,102],[34,5,34,7],[41,10,41,12],[41,13,41,15],[40,4,40,6],[17,91,17,94],[25,91,25,94],[29,5,29,7],[30,18,30,19],[28,40,28,46],[23,11,23,13],[41,4,41,6],[31,5,31,7],[30,68,30,72],[30,20,30,21],[30,11,30,13],[31,18,31,19],[30,14,30,16],[40,13,40,15],[41,19,41,21],[41,22,41,24],[41,32,41,35],[31,14,31,16],[20,21,20,23],[20,11,20,13],[20,16,20,18],[23,21,23,23],[26,22,26,24],[29,18,29,19],[29,14,29,16],[23,25,23,28],[23,29,23,31],[23,32,23,34],[23,35,23,38],[24,37,24,38],[25,27,25,28],[25,29,26,30],[25,31,26,32],[24,29,24,30],[24,31,24,32],[24,33,24,34],[24,35,24,36],[22,25,22,28],[26,27,26,28],[25,25,25,26],[27,25,27,26],[27,27,27,28],[27,29,27,30],[23,16,23,18],[27,33,27,34],[27,35,27,36],[27,37,27,38],[25,33,26,34],[25,35,26,36],[26,25,26,26],[5,0,5,9],[6,0,8,9],[17,40,17,46],[19,3,19,5],[20,60,20,64],[20,40,20,46],[20,49,20,51],[20,53,20,56],[19,40,19,46],[16,36,16,37],[21,60,21,64],[21,40,21,46],[21,49,21,51],[20,29,20,31],[20,32,20,34],[21,25,21,28],[20,25,20,28],[17,48,17,52],[17,53,17,57],[21,53,21,56],[19,32,19,34],[19,35,19,38],[19,49,19,51],[19,53,19,56],[20,35,20,38],[19,25,19,28],[19,29,19,31],[21,29,21,31],[21,32,21,34],[21,35,21,38],[14,25,15,25],[14,26,15,28],[23,40,23,46],[22,53,22,56],[22,81,22,84],[22,86,22,90],[23,68,23,72],[23,91,23,94],[23,95,23,98],[22,29,22,31],[22,32,22,34],[22,40,22,46],[22,49,22,51],[22,35,22,38],[22,7,22,8],[16,74,16,95],[17,82,17,83],[17,86,17,89],[19,73,19,76],[19,77,19,80],[17,59,17,65],[17,68,17,71],[17,73,17,76],[19,60,19,64],[19,81,19,84],[20,73,20,76],[23,60,23,64],[22,68,22,72],[22,73,22,76],[23,49,23,51],[23,53,23,56],[23,73,23,76],[23,77,23,80],[23,81,23,84],[19,99,19,102],[21,99,21,102],[21,95,21,98],[22,99,22,102],[20,91,20,94],[20,95,20,98],[25,95,25,98],[25,99,25,102],[26,95,26,98],[26,99,26,102],[22,60,22,64],[20,99,20,102],[21,73,21,76],[21,77,21,80],[26,81,26,84],[26,86,26,90],[24,86,24,90],[22,95,22,98],[22,91,22,94],[25,60,25,64],[26,60,26,64],[23,86,23,90],[20,77,20,80],[20,81,20,84],[20,86,20,90],[21,81,21,84],[21,86,21,90],[22,77,22,80],[24,73,24,76],[24,77,24,80],[26,73,26,76],[26,77,26,80],[24,60,24,64],[25,77,25,80],[25,81,25,84],[27,91,27,94],[27,86,27,90],[27,68,27,72],[27,60,27,64],[24,81,24,84],[24,68,24,72],[26,91,26,94],[30,81,30,84],[30,86,30,90],[30,77,30,80],[29,73,29,76],[29,81,29,84],[25,86,25,90],[26,68,26,72],[27,77,27,80],[27,81,27,84],[28,81,28,84],[25,73,25,76],[30,91,30,94],[28,95,28,98],[28,99,28,102],[30,95,30,98],[28,91,28,94],[29,60,29,64],[28,60,28,64],[30,99,30,102],[29,91,29,94],[29,95,29,98],[35,75,35,77],[35,80,35,83],[34,60,34,64],[33,60,33,64],[35,93,35,95],[33,83,34,96],[35,86,35,90],[32,95,32,98],[32,77,32,80],[35,49,35,51],[29,22,29,24],[31,40,31,46],[31,49,31,51],[33,49,33,51],[34,20,34,21],[31,91,31,94],[31,77,31,80],[31,81,31,84],[31,95,31,98],[35,98,35,101],[31,99,31,102],[32,99,32,102],[32,91,32,94],[33,14,33,16],[33,18,33,19],[33,20,33,21],[34,49,34,51],[31,53,31,56],[32,53,32,56],[29,99,29,102],[29,77,29,80],[38,49,38,51],[38,53,38,56],[34,14,34,16],[38,79,38,82],[38,67,38,73],[38,60,38,64],[32,68,32,72],[32,73,32,76],[30,22,30,24],[30,73,30,76],[32,49,32,51],[30,40,30,46],[30,49,30,51],[31,60,31,64],[30,60,30,64],[31,68,31,72],[33,67,34,80],[32,60,32,64],[31,73,31,76],[31,20,31,21],[31,22,31,24],[35,68,35,72],[37,79,37,82],[36,75,36,77],[33,40,33,46],[34,29,34,30],[34,36,34,37],[35,60,35,64],[35,53,35,56],[35,29,35,30],[35,40,35,46],[34,40,34,46],[39,53,39,56],[42,22,42,24],[39,60,39,64],[38,97,38,100],[40,67,41,73],[41,97,41,100],[40,75,41,77],[40,85,40,91],[37,60,37,64],[37,75,37,77],[37,97,37,100],[32,5,32,7],[32,8,32,10],[32,11,32,13],[32,14,32,16],[32,18,32,19],[33,5,33,7],[33,8,33,10],[37,49,37,51],[37,53,37,56],[36,49,36,51],[36,53,36,56],[33,22,33,24],[37,40,37,46],[34,22,34,24],[33,53,33,56],[35,36,35,37],[34,53,34,56],[32,20,32,21],[32,22,32,24],[36,60,36,64],[38,40,38,46],[40,79,41,82],[41,93,41,95],[48,10,48,12],[42,7,42,9],[44,0,45,1],[46,0,46,1],[47,0,47,1],[48,0,48,1],[48,7,48,9],[48,13,48,15],[48,22,48,24],[42,16,42,18],[42,19,42,21],[42,32,42,35],[48,16,48,18],[48,19,48,21],[47,7,47,9],[47,10,47,12],[47,13,47,15],[41,7,41,9],[42,4,42,6],[44,25,44,28],[45,25,45,28],[46,25,46,28],[44,32,44,35],[45,32,45,35],[46,32,46,35],[40,16,40,18],[40,2,40,3],[47,83,47,86],[47,87,47,90],[41,53,41,56],[37,67,37,73],[38,75,38,77],[47,91,47,94],[39,67,39,73],[42,13,42,15],[41,60,41,64],[46,99,46,102],[42,49,42,51],[45,84,45,89],[45,92,45,101],[42,53,42,56],[42,93,42,95],[42,97,42,100],[43,53,43,56],[43,60,43,64],[42,60,42,64],[42,40,42,46],[43,40,43,46],[43,49,43,51],[42,85,42,91],[44,19,44,24],[47,16,47,18],[47,19,47,21],[40,93,40,95],[38,93,38,95],[47,22,47,24],[40,22,40,24],[40,40,40,46],[40,49,40,51],[40,53,40,56],[40,60,40,64],[39,79,39,82],[39,40,39,46],[55,99,55,102],[55,68,55,75],[55,77,55,79],[55,80,55,82],[55,83,55,86],[55,91,55,94],[40,97,40,100],[39,97,39,100],[49,99,49,102],[48,87,48,90],[48,91,48,94],[48,95,48,98],[49,68,49,75],[49,80,49,82],[48,80,48,82],[49,87,49,90],[54,87,54,90],[50,83,50,86],[52,68,52,75],[53,99,53,102],[53,95,53,98],[53,83,53,86],[53,87,53,90],[41,85,41,91],[53,91,53,94],[39,75,39,77],[47,95,47,98],[47,99,47,102],[45,77,45,82],[47,68,47,75],[47,77,47,79],[49,83,49,86],[48,83,48,86],[54,99,54,102],[53,77,53,79],[51,91,51,94],[52,87,52,90],[52,91,52,94],[51,77,51,79],[51,80,51,82],[51,99,51,102],[51,87,51,90],[52,80,52,82],[50,77,50,79],[50,80,50,82],[50,68,50,75],[53,80,53,82],[52,77,52,79],[48,99,48,102],[52,83,52,86],[52,99,52,102],[54,68,54,75],[54,77,54,79],[70,0,70,6],[69,0,69,6],[68,0,68,6],[66,0,66,6],[65,0,65,6],[71,0,71,6],[67,0,67,6],[72,0,72,6],[73,7,73,9],[63,0,63,6],[62,0,62,6],[70,16,70,18],[71,13,71,15],[72,7,72,9],[66,7,66,9],[65,13,65,15],[65,16,65,18],[66,10,66,12],[66,13,66,15],[66,16,66,18],[68,16,68,18],[63,99,63,101],[56,83,56,86],[56,87,56,90],[56,91,56,94],[56,99,56,102],[64,7,64,9],[64,10,64,12],[64,13,64,15],[64,16,64,18],[63,10,63,12],[63,94,63,96],[63,89,63,91],[62,93,62,95],[62,75,62,77],[62,81,62,83],[62,87,62,89],[63,84,63,86],[60,85,60,90],[60,91,60,96],[56,80,56,82],[64,68,64,71],[63,7,63,9],[59,22,59,24],[58,48,58,50],[57,61,57,63],[57,58,57,60],[56,22,56,24],[57,19,57,21],[57,7,57,9],[56,7,56,9],[61,59,61,62],[64,19,64,21],[56,0,56,6],[59,16,59,18],[58,39,58,42],[58,22,58,24],[60,22,60,24],[61,39,61,42],[57,22,57,24],[60,36,60,37],[58,44,58,46],[56,39,56,42],[57,39,57,42],[57,13,57,15],[58,58,58,60],[58,61,58,63],[57,67,58,102],[60,97,60,102],[62,99,62,101],[61,80,61,83],[60,59,60,62],[60,63,60,66],[62,68,62,71],[61,68,61,71],[58,52,58,54],[61,22,61,24],[61,13,61,15],[61,16,61,18],[58,16,58,18],[58,19,58,21],[56,10,56,12],[57,10,57,12],[62,7,62,9],[57,0,57,6],[64,22,64,24],[63,74,63,76],[66,92,66,96],[59,0,59,6],[59,10,59,12],[58,0,58,6],[59,19,59,21],[58,13,58,15],[59,13,59,15],[58,10,58,12],[58,7,58,9],[59,7,59,9],[60,0,60,6],[61,0,61,6],[60,13,60,15],[60,16,60,18],[60,19,60,21],[58,55,58,57],[61,29,61,30],[65,19,65,21],[65,22,65,24],[65,68,65,71],[64,0,64,6],[66,19,66,21],[62,13,62,15],[62,16,62,18],[63,22,63,24],[63,16,63,18],[61,63,61,66],[63,13,63,15],[62,19,62,21],[66,39,66,66],[71,83,72,102],[72,62,72,66],[71,62,71,66],[70,62,70,66],[67,97,67,102],[70,83,70,84],[68,82,68,84],[68,100,68,102],[68,85,68,87],[68,88,68,90],[70,88,70,90],[70,91,70,93],[68,94,68,96],[68,91,68,93],[68,72,68,75],[67,82,67,84],[70,79,70,81],[68,79,68,81],[70,72,70,75],[67,88,67,90],[65,93,65,96],[68,43,68,47],[66,76,66,90],[68,57,68,61],[68,62,68,66],[70,85,70,87],[70,94,70,96],[70,97,70,99],[65,43,65,49],[65,53,65,56],[70,100,70,102],[65,57,65,63],[67,79,67,81],[81,67,82,102],[75,57,75,61],[78,67,78,71],[78,72,78,76],[77,77,77,81],[78,99,78,102],[78,77,78,81],[78,57,78,61],[78,87,78,90],[76,78,76,81],[76,69,76,72],[79,97,79,98],[80,100,80,102],[80,68,80,70],[80,73,80,75],[80,78,80,80],[76,96,76,99],[77,82,77,86],[78,62,78,66],[78,91,78,94],[75,62,75,66],[80,92,80,94],[80,96,80,98],[80,62,80,66],[80,82,80,86],[80,88,80,90],[79,101,79,102],[77,62,77,66],[78,95,78,98],[76,39,76,42],[69,39,69,66],[68,39,68,42],[69,22,69,24],[69,32,69,33],[75,53,75,56],[76,25,76,28],[76,29,76,30],[77,43,77,47],[70,32,70,33],[70,35,70,37],[73,57,73,61],[71,53,71,56],[70,48,70,52],[70,53,70,56],[73,62,73,66],[71,67,72,81],[75,25,75,28],[71,25,71,28],[70,57,70,61],[67,67,70,71],[68,76,68,78],[77,53,77,56],[77,48,77,52],[76,35,76,37],[68,25,68,28],[14,67,15,81],[15,29,15,30],[15,32,15,33],[18,28,18,30],[16,32,16,33],[17,32,17,34],[18,31,18,34],[18,35,18,38],[54,47,54,50],[51,33,51,35],[51,25,51,28],[57,55,57,57],[57,64,57,66],[76,62,76,66],[72,39,72,42],[49,50,49,53],[75,43,75,47],[73,43,73,47],[73,48,73,52],[73,53,73,56],[74,43,74,47],[76,32,76,33],[66,32,66,34],[73,32,73,33],[73,25,73,28],[70,29,70,30],[71,29,71,30],[71,32,71,33],[74,62,74,66],[65,73,65,76],[75,48,75,52],[70,77,70,78],[65,78,65,81],[74,68,74,74],[50,99,50,102],[52,95,52,98],[54,83,54,86],[57,43,57,46],[57,47,57,50],[41,36,41,37],[46,36,46,37],[45,36,45,37],[41,49,41,51],[55,39,55,42],[14,82,15,95],[54,55,54,58],[36,67,36,73],[36,79,36,82],[36,85,36,91],[54,59,54,66],[49,58,49,61],[17,36,17,38],[56,95,56,98],[55,87,55,90],[53,68,53,75],[54,43,54,46],[54,51,54,54],[55,59,55,62],[55,63,55,65],[56,48,56,53],[39,49,39,51],[15,35,15,37],[37,85,37,91],[38,85,38,91],[39,85,39,91],[39,93,39,95],[37,93,37,95],[69,25,69,28],[55,25,55,30],[55,35,55,38],[68,29,68,30],[68,32,68,33],[68,35,68,37],[69,35,69,37],[69,29,69,30],[61,36,61,37],[50,29,50,32],[50,33,50,38],[36,29,36,30],[36,36,36,37],[44,29,44,30],[50,95,50,98],[50,91,50,94],[50,87,50,90],[51,95,51,98],[50,50,50,53],[54,91,54,94],[54,95,54,98],[51,83,51,86],[49,91,49,94],[49,95,49,98],[55,47,55,49],[58,64,58,66],[56,77,56,79],[54,39,54,42],[51,29,51,32],[49,54,49,57],[49,62,49,66],[49,39,49,45],[48,50,48,53],[48,62,48,65],[48,56,48,59],[46,69,46,74],[42,75,42,77],[42,79,42,82],[42,67,42,73],[43,67,44,82],[50,63,50,66],[55,43,55,45],[45,29,45,30],[46,29,46,30],[42,36,42,37],[47,80,47,82],[44,36,44,37],[49,77,49,79],[48,68,48,75],[48,77,48,79],[28,53,28,56],[36,40,36,46],[55,51,55,53],[41,40,41,46],[50,59,50,61],[50,55,50,57],[55,55,55,57],[80,35,81,38],[83,36,83,37],[82,53,82,56],[83,43,83,47],[50,47,50,49],[72,35,72,37],[73,35,73,37],[81,43,81,47],[80,39,80,42],[81,48,81,52],[82,43,82,47],[83,39,83,42],[81,57,81,61],[70,39,70,42],[70,43,70,47],[71,35,71,37],[74,48,74,52],[83,57,83,61],[51,36,51,38],[77,57,77,61],[67,48,67,52],[68,48,68,52],[68,53,68,56],[78,48,78,52],[79,48,79,52],[59,59,59,62],[60,39,60,42],[91,46,91,48],[91,49,91,51],[91,28,91,29],[91,30,91,31],[90,58,90,60],[91,52,91,57],[84,57,84,61],[84,62,84,66],[82,57,82,61],[91,32,91,34],[88,50,88,53],[72,32,72,33],[83,29,83,30],[80,25,81,28],[82,62,82,66],[83,62,83,66],[84,43,84,47],[84,39,84,42],[75,35,75,37],[74,35,74,37],[76,57,76,61],[78,53,78,56],[80,57,80,61],[81,29,81,31],[75,29,75,30],[75,32,75,33],[74,25,74,28],[88,30,88,31],[81,53,81,56],[81,62,81,66],[90,39,90,42],[86,72,87,102],[88,44,88,47],[83,48,83,52],[83,53,83,56],[71,48,71,52],[72,48,72,52],[72,25,72,28],[70,25,70,28],[82,48,82,52],[72,29,72,30],[73,39,73,42],[72,43,72,47],[72,53,72,56],[71,39,71,42],[71,43,71,47],[73,29,73,30],[74,29,74,30],[88,28,88,29],[84,48,84,52],[83,72,85,102],[76,87,76,90],[77,91,77,94],[77,87,77,90],[78,82,78,86],[74,32,74,33],[80,43,80,47],[78,39,78,42],[78,43,78,47],[79,39,79,42],[75,39,75,42],[81,39,81,42],[90,44,90,45],[89,61,89,63],[89,39,89,42],[90,61,90,63],[83,22,83,24],[81,22,81,24],[71,16,71,18],[71,57,71,61],[80,53,80,56],[80,48,80,52],[79,53,79,56],[79,57,79,61],[72,57,72,61],[71,19,71,21],[74,0,75,24],[83,26,83,27],[83,32,83,33],[81,32,81,34],[82,39,82,42],[79,62,79,66],[84,53,84,56],[79,43,79,47],[74,57,74,61],[74,39,74,42],[74,53,74,56],[76,43,76,47],[76,48,76,52],[76,53,76,56],[77,39,77,42],[73,22,73,24],[71,22,71,24],[72,22,72,24],[92,39,92,42],[92,43,92,45],[92,46,92,48],[91,39,91,42],[91,43,91,45],[92,49,92,51],[90,46,90,48],[90,50,90,51],[90,64,90,66],[91,35,91,36],[91,37,91,38],[88,61,88,66],[92,32,92,34],[91,26,91,27],[89,32,89,34],[91,6,91,8],[91,14,91,16],[91,22,91,24],[92,6,92,8],[92,22,92,24]],"merged_total":1108,"flags":["merged_cut"]}
[{"$f":"+データ一覧!J2","v":0}]
[{"$f":"+データ一覧!J5","v":0}]
[]
[null,null,null,null,null,null,null,null,null,null,null,null,null,null,null,null,null,null,null,null,null,null,null,null,null,null,null,"【市紋章とそのいわれ】大の（大野）を図案化したもので、円は",null,null,null,null,null,null,null,null,null,null,null,"  【位置および地勢】大野市は福井県の東端に位置し、東は岐阜県郡上市、高山市、",null,null,null,null,null,null,null,null,null,null,null,null,null,null,null,null,null,null,null,null,null,null,null,null,null,null,null,null,null,null,"所在地",null,null,null,null,null,null,null,"〒912-8666"]
[null,null,null,null,null,null,null,null,null,null,null,null,null,null,null,null,null,null,null,null,null,null,null,null,null,null,null,"                 和と団結を象徴し、円満な市政の運用を意味し、",null,null,null,null,null,null,null,null,null,null,null,null,"西は福井市、池田町、 南は岐阜県関市、本巣市および揖斐川町、北は勝山市および",null,null,null,null,null,null,null,null,null,null,null,null,null,null,null,null,null,null,null,null,null,null,null,null,null,null,null,null,null,null,null,null,null,null,null,null,null,"大野市天神町１番１号"]
[{"$f":"+データ一覧!J3","v":"おおのし"},null,null,null,null,null,null,null,null,null,null,null,null,null,null,null,null,null,null,null,null,null,null,null,null,null,null,"                  剣尖は市の将来の発展性を表す。昭和２９年    ",null,null,null,null,null,null,null,null,null,null,null,null,"石川県の白山市に接している。四方を1,000ｍ級の霊峰白山の支脈に囲まれ、市域の"]
[{"$f":"データ一覧!J6","v":"大野市"},null,null,null,null,null,null,null,null,null,null,null,null,null,null,null,null,null,null,null,null,null,null,null,null,null,null,"                  ７月１日、市制施行と同時に公募により制定。  ",null,null,null,null,null,null,null,null,null,null,null,null,"約8割が林野に覆われており、これらの山岳地形の間を縫うように、岐阜県境に源を",null,null,null,null,null,null,null,null,null,null,null,null,null,null,null,null,null,null,null,null,null,null,null,null,null,null,null,null,null,"電話番号",null,null,null,null,null,null,null,"（０７７９）６６－１１１１"]
[null,null,null,null,null,null,null,null,null,null,null,null,null,null,null,null,null,null,null,null,null,null,null,null,null,null,null,0,null,null,null,null,null,null,null,null,null,null,null,null,"発する九頭竜川が貫流し、これへ石徹白川をはじめ多くの中小河川が合流している。",null,null,null,null,null,null,null,null,null,null,null,null,null,null,null,null,null,null,null,null,null,null,null,null,null,null,null,null,null,"FAX番号",null,null,null,null,null,null,null,"     〃     ６５－８３７１"]
[null,null,null,null,null,null,null,null,null,null,null,null,null,null,null,null,null,null,null,null,null,null,null,null,null,null,null,0,null,null,null,null,null,null,null,null,null,null,null,null,"市内の交通は、国道１５７号が南北に、国道１５８号が東西に走り、東は東海北陸"]
[null,null,null,null,null,null,null,null,null,null,null,null,null,null,null,null,null,null,null,null,null,null,null,null,null,null,null,0,null,null,null,null,null,null,null,null,null,null,null,null,"自動車道、西は北陸自動車道に連絡している。また、ＪＲ越美北線が国道１５８号に",null,null,null,null,null,null,null,null,null,null,null,null,null,null,null,null,null,null,null,null,null,null,null,null,null,null,null,null,null,"最寄駅および距離",null,null,null,null,null,null,null,"ＪＲ越美北線越前大野駅  下車１ｋｍ"]
[null,null,null,null,null,null,null,null,null,null,null,null,null,null,null,null,null,null,null,null,null,null,null,null,null,null,null,null,null,null,null,null,null,null,null,null,null,null,null,null,"ほぼ並行して走り、越前花堂駅でＪＲ北陸本線と接続している。中部縦貫自動車道に"]
[null,null,null,null,null,null,null,null,null,null,null,null,null,null,null,null,null,null,null,null,null,null,null,null,null,null,null,null,null,null,null,null,null,null,null,null,null,null,null,null,"ついては、福井北ICから九頭竜ICまでが開通し、北陸自動車道と直結している。"]
[null,null,null,null,null,null,null,null,null,null,null,null,null,null,null,null,null,null,null,null,null,null,null,null,null,null,null,"【市が掲げる標語】人がつながり地域がつながる　住み続けたい結のまち",null,null,null,null,null,null,null,null,null,null,null,null,null,null,null,null,null,null,null,null,null,null,null,null,null,null,null,null,null,null,null,null,null,null,null,null,null,null,null,null,null,null,"ホームページ",null,null,null,null,null,null,null,"https://www.city.ono.fukui.jp/"]
[]
["  １  土            　　地",null,null,null,null,null,null,null,null,null,null,null,null,null,null,null,null,null,null,null,null,null,null,null,null,{"$f":"データ一覧!$A$240","v":"5年"},"産米収穫量",null,null,"　 収　穫　量",null,null," 　作 付 面 積",null,null,"   10a当たり収量",null,null,null,null,null,null,null,null,null,null,null,null,null,null,null,null,null,null,null,null,null,null,null,null,null,null,null,null,null,null,null," １５  労　　　　　　　働",null,null,null,null,null,null,null,null,null,null,null,null,null,null,"2.10.1"]
[null,null,null,null,null,null,null,null,null,null,null,null,null,null,null,null,null,null,null,null,null,null,null,null,null,null,null,null,null,{"$f":"データ一覧!$J$240","v":12800},null,"t",{"$f":"データ一覧!$J$241","v":2530},null,"ha",{"$f":"データ一覧!J242","v":506},null,null,"kg"," １０  工　　　　　　業 ",null,null,null,null,null,null,null,null,null,null,null,null,null,{"$f":"データ一覧!$A$332","v":"4.6.1（令和3年実績）"}]
["   総          面           積",null,null,null,null,null,null,null,null,null," 固 定 資 産 概 要 調 書 に よ る 地 目 別 面 積",null,null,null,null,null,null,null,null,null,null,null,null,null,null,null,null,null,"   総　　　数",null,null,null,"うち　　田",null,null,null,"うち　　畑",null,null,null,null,null,null,null,null,null,null,null,null,null,null,null,null,null,null,null,null,null,null,null,null,null,null,null,null,null,null,null,null,null,null,null,null,null,"産業別就業者数   "]
[null,null,{"$f":"データ一覧!$A$7","v":"6.10.1"},null,null,null,null,null,null,null,null,null,null,null,null,null,{"$f":"データ一覧!$A$9","v":"6.1.1"},null,null,null,null,null,null,null,null," 耕  地  面  積",null,null,null,"       ha",null,null,"ha ",null,null,null,"ha ",null,null,"      ","産業分類",null,null,null,null,null,null,null,"事業所数",null,null,null,null,"従業者数",null,null,null,null,null,"年間製造品出荷額等",null,null,null,null,null,null,null,null,"区  分",null,null,null,null,"総    数",null,null,null,null,"男",null,null,null,"女",null,null,"  ","区  分",null,null,null,null,"総    数",null,null,null,null,"男",null,null,null,"女"]
[null,null,null,null,null,null,"㎢",null,null,null,"   総       数",null,null,null,null,"  う ち     田",null,null,null,null,"  う ち     畑",null,null,null,null,{"$f":"データ一覧!A243","v":"5.7.15"},null,null,{"$f":"データ一覧!$J$243","v":4180},null,null,{"$f":"データ一覧!$J$244","v":4040},null,null,null,{"$f":"データ一覧!$J$245","v":146},null,null,null,null,null,null,null,null,null,null,null,null,"　　   ",null,null,"事業所",null,"　　　　　　　 人",null,null,"人",null,"　　　　　　　　　　　　　　万円",null,null,null,null,null,null,"万円",null,null,null,null,null,null,null,"      人",null,null,null,null,null," 人",null,null,null," 人",null,null,null,null,null,null,null,"      人",null,null,null,"      人",null,null,null,"      人"]
[null,null,null,{"$f":"データ一覧!J7","v":872.43},null,null,null,null,null,null,null,null,null,null,"ha",null,null,null,null,"ha",null,null,null,null,"ha","農 業 生 産 物",null,null,null,"作 付 面 積",null,null,"収 穫 量",null,null,"10a当たり収量",null,null,null,"     ","総数",null,null,null,null,null,null,null,null,{"$f":"データ一覧!J332","v":78},null,null,null,{"$f":"+データ一覧!J357","v":2525},null,null,null,null,null,null,{"$f":"データ一覧!J382","v":5960886},null,null,null,null,null,null," 総　　　数",null,null,null,null,null,{"$f":"BZ20+CD20","v":16964},null,null,null,{"$f":"データ一覧!J507","v":9062},null,null,null,{"$f":"データ一覧!J532","v":7902}]
[null,null,null,null,null,null,null,null,null,null,null,{"$f":"データ一覧!J9","v":48581},null,null,null,null,{"$f":"データ一覧!J10","v":4181.5},null,null,null,null,{"$f":"データ一覧!J11","v":218.8},null,null,null,{"$f":"データ一覧!$A$246","v":"5年産"},null,null,null,"ha",null,null,"t",null,null,"kg",null,null,null,"     食料品","食料品",null,null,null,null,null,null,null,null,{"$f":"データ一覧!J333","v":6},null,null,null,{"$f":"+データ一覧!J358","v":72},null,null,null,null,null,null,{"$f":"データ一覧!J383","v":55537},null,null,null,null,null,null,null,null,null,null,null,null,null,null,null,null,null,null,null,null,null,null,null,null,null,"卸売業,小売業",null,null,null,null,{"$f":"CR21+CV21","v":2159},null,null,null,{"$f":"データ一覧!J520","v":1045},null,null,null,{"$f":"データ一覧!J545","v":1114}]
["  町 ･ 丁 ･ 大 字",null,null,null,null,null,null,null,null,null,"  う ち  宅 地",null,null,null,null,"  う ち  山 林",null,null,null,null,"  う ち  原 野",null,null,null,null,"水　　　　　稲",null,null,null,{"$f":"データ一覧!J246","v":2530},null,null,{"$f":"データ一覧!J247","v":12800},null,null,{"$f":"データ一覧!J248","v":506},null,null,null,"     飲料・飼料","飲料・飼料",null,null,null,null,null,null,null,null,{"$f":"データ一覧!J334","v":2},null,null,null,{"$f":"+データ一覧!J359","v":26},null,null,null,null,null,null,{"$f":"データ一覧!J384","v":"x"},null,null,null,null,null,null," 第１次産業",null,null,null,null,null,{"$f":"BZ22+CD22","v":1250},null,null,null,{"$f":"データ一覧!J508","v":781},null,null,null,{"$f":"データ一覧!J533","v":469},null,null,null,null,"金融業,保険業",null,null,null,null,{"$f":"CR22+CV22","v":315},null,null,null,{"$f":"データ一覧!J521","v":127},null,null,null,{"$f":"データ一覧!J546","v":188}]
["  区    画    数",null,null,null,null,null,null,{"$f":"データ一覧!J8","v":207},null,null,null,null,null,null,"ha",null,null,null,null,"ha",null,null,null,null,"ha","六　条　大　麦",null,null,null,{"$f":"データ一覧!J249","v":822},null,null,{"$f":"データ一覧!J250","v":2220},null,null,{"$f":"データ一覧!J251","v":270},null,null,null,"     繊維","繊維",null,null,null,null,null,null,null,null,{"$f":"データ一覧!J335","v":27},null,null,null,{"$f":"+データ一覧!J360","v":530},null,null,null,null,null,null,{"$f":"データ一覧!J385","v":388627},null,null,null,null,null,null,"  ","農業",null,null,null,null,{"$f":"BZ23+CD23","v":1174},null,null,null,{"$f":"データ一覧!J509","v":714},null,null,null,{"$f":"データ一覧!J534","v":460},null,null,null,"  ","不動産業",null,null,null,null,105,null,null,null,{"$f":"データ一覧!J522","v":68},null,null,null,{"$f":"データ一覧!J547","v":37}]
[{"$f":"データ一覧!$A$8","v":"5.4.1"},null,null,null,null,null,null,null,null,null,null,{"$f":"データ一覧!J12","v":1021.4},null,null,null,null,{"$f":"データ一覧!J13","v":12977},null,null,null,null,{"$f":"データ一覧!J14","v":670.4},null,null,null,"大　　      豆",null,null,null,{"$f":"データ一覧!J252","v":124},null,null,{"$f":"データ一覧!J253","v":146},null,null,{"$f":"データ一覧!J254","v":118},null,null,null,"     衣服","木材",null,null,null,null,null,null,null,null,{"$f":"データ一覧!J336","v":3},null,null,null,{"$f":"+データ一覧!J361","v":289},null,null,null,null,null,null,{"$f":"データ一覧!J386","v":1378696},null,null,null,null,null,null,"  ","林業",null,null,null,null,71,null,null,null,{"$f":"データ一覧!J510","v":64},null,null,null,{"$f":"データ一覧!J535","v":7},null,null,null,"  ","学術研究",null,null,null,null,395,null,null,null,{"$f":"データ一覧!J523","v":245},null,null,null,{"$f":"データ一覧!J548","v":150}]
["  ２  世　帯　数　と　人　口",null,null,null,null,null,null,null,null,null,null,null,null,null,null,null,null,null,null,null,null,null,null,null,null,null,null,"  区　分",null," 乳 用 牛",null," 肉 用 牛",null,"豚",null,"採卵鶏",null,"ブロイラー",null,"     木材","家具",null,null,null,null,null,null,null,null,{"$f":"データ一覧!J337","v":5},null,null,null,{"$f":"+データ一覧!J362","v":160},null,null,null,null,null,null,{"$f":"データ一覧!J387","v":261298},null,null,null,null,null,null,"  ","漁業",null,null,null,null,5,null,null,null,{"$f":"データ一覧!J511","v":3},null,null,null,{"$f":"データ一覧!J536","v":2},null,null,null,"  ","宿泊業,飲食ｻｰﾋﾞｽ",null,null,null,null,614,null,null,null,{"$f":"データ一覧!J524","v":224},null,null,null,{"$f":"データ一覧!J549","v":390}]
[null,null,null,null,null,null,null,null,null,null,null,null,null,null,null,null,null,null,null,null,null,null,null,null,null,"畜　産",null," 飼養農家",null,{"$f":"データ一覧!$J$255","v":3},null,{"$f":"データ一覧!$J$257","v":1},null,{"$f":"データ一覧!$J$259","v":"x"},null,{"$f":"データ一覧!$J$261","v":0},null,{"$f":"データ一覧!$J$263","v":0},null,"     家具","パルプ・紙",null,null,null,null,null,null,null,null,{"$f":"データ一覧!J338","v":3},null,null,null,{"$f":"+データ一覧!J363","v":46},null,null,null,null,null,null,{"$f":"データ一覧!J388","v":30812},null,null,null,null,null,null," 第２次産業",null,null,null,null,null,5502,null,null,null,{"$f":"データ一覧!J512","v":3723},null,null,null,{"$f":"データ一覧!J537","v":1779},null,null,null,"  ","生活関連ｻｰﾋﾞｽ業",null,null,null,null,534,null,null,null,{"$f":"データ一覧!J525","v":200},null,null,null,{"$f":"データ一覧!J550","v":334}]
[null,null,null,null,null,null,null,null,"        人　　　　　　　　　　口",null,null,null,null,null,null,null,null,null,null,null,"１世帯当",null,"人    口",null,null,{"$f":"データ一覧!$A$255","v":"6.3.31"},null,"（戸）",null,null,null,null,null,null,null,null,null,null,null,"     パルプ・紙","印刷",null,null,null,null,null,null,null,null,{"$f":"データ一覧!J339","v":2},null,null,null,{"$f":"+データ一覧!J364","v":25},null,null,null,null,null,null,{"$f":"データ一覧!J389","v":"x"},null,null,null,null,null,null,null,"鉱業，採石業",null,null,null,null,6,null,null,null,{"$f":"データ一覧!J513","v":5},null,null,null,{"$f":"データ一覧!J538","v":1},null,null,null,"  ","教育,学習支援業",null,null,null,null,761,null,null,null,{"$f":"データ一覧!J526","v":299},null,null,null,{"$f":"データ一覧!J551","v":462}]
[" 区　　　　分",null,null,null,null,"世帯数",null,null," 総   数",null,null,"    男",null,null,"    女",null,null,"  男／女",null,null,"たり人員",null,"密    度",null,null,null,null," 頭 羽",null,{"$f":"データ一覧!$J$256","v":136},null,{"$f":"データ一覧!$J$258","v":1},null,{"$f":"データ一覧!$J$260","v":180},null,{"$f":"データ一覧!$J$262","v":0},null,{"$f":"データ一覧!$J$264","v":0},null,"     出版・印刷","化学",null,null,null,null,null,null,null,null,{"$f":"データ一覧!J340","v":0},null,null,null,{"$f":"+データ一覧!J365","v":0},null,null,null,null,null,null,{"$f":"データ一覧!J390","v":0},null,null,null,null,null,null,"  ","建設業",null,null,null,null,2229,null,null,null,{"$f":"データ一覧!J514","v":1911},null,null,null,{"$f":"データ一覧!J539","v":318},null,null,null,null,"医療，福祉",null,null,null,null,2554,null,null,null,{"$f":"データ一覧!J527","v":510},null,null,null,{"$f":"データ一覧!J552","v":2044}]
[null,null,null,null,null,"    世 帯",null,null,"       人",null,null,"       人",null,null,"       人",null,null,null,"　　％",null,"    人",null,"    人/㎢",null,null,null,null,null,null,null,null,null,null,null,null,null,null,null,null,"     化学","石油・石炭",null,null,null,null,null,null,null,null,{"$f":"データ一覧!J341","v":0},null,null,null,{"$f":"+データ一覧!J366","v":0},null,null,null,null,null,null,{"$f":"データ一覧!J391","v":0},null,null,null,null,null,null,null,"製造業",null,null,null,null,3267,null,null,null,{"$f":"データ一覧!J515","v":1807},null,null,null,{"$f":"データ一覧!J540","v":1460},null,null,null,null,"複合サービス事業",null,null,null,null,283,null,null,null,{"$f":"データ一覧!J528","v":163},null,null,null,{"$f":"データ一覧!J553","v":120}]
[{"$f":"データ一覧!$A$22","v":" 2.10.1"},null,null,null,null,{"$f":"データ一覧!J22","v":10758},null,null,{"$f":"+L30+O30","v":41837},null,null,{"$f":"データ一覧!J24","v":19944},null,null,{"$f":"データ一覧!J25","v":21893},null,null,null,{"$f":"+L30/O30*100","v":91.097611108573517},null,{"$f":"データ一覧!J27","v":3.89},null,{"$f":"データ一覧!J21","v":0},null,null,"  ５  林               業",null,null,null,null,null,null,null,null,null,null,null,null,null,"     石油・石炭","プラスチック",null,null,null,null,null,null,null,null,{"$f":"データ一覧!J342","v":3},null,null,null,{"$f":"+データ一覧!J367","v":46},null,null,null,null,null,null,{"$f":"データ一覧!J392","v":54280},null,null,null,null,null,null," 第３次産業",null,null,null,null,null,9929,null,null,null,{"$f":"データ一覧!J516","v":4416},null,null,null,{"$f":"データ一覧!J541","v":5513},null,null,null,null,"サービス業",null,null,null,null,859,null,null,null,{"$f":"データ一覧!J529","v":520},null,null,null,{"$f":"データ一覧!J554","v":339}]
[{"$f":"データ一覧!$A$29","v":" 7.10.1"},null,null,null,null,{"$f":"データ一覧!J29","v":10862},null,null,{"$f":"+L31+O31","v":41069},null,null,{"$f":"データ一覧!J31","v":19537},null,null,{"$f":"データ一覧!J32","v":21532},null,null,null,90.73472041612483,null,{"$f":"データ一覧!J34","v":3.78},null,{"$f":"データ一覧!J28","v":0},null,null,null,null,null,null,null,null,null,null,null,null,null,null,null,null,"     プラスチック","ゴム",null,null,null,null,null,null,null,null,{"$f":"データ一覧!J343","v":0},null,null,null,{"$f":"+データ一覧!J368","v":0},null,null,null,null,null,null,{"$f":"データ一覧!J393","v":0},null,null,null,null,null,null,null,"電気･ｶﾞｽ･水道業",null,null,null,null,147,null,null,null,{"$f":"データ一覧!J517","v":129},null,null,null,{"$f":"データ一覧!J542","v":18},null,null,null,null,"公務",null,null,null,null,582,null,null,null,{"$f":"データ一覧!J530","v":395},null,null,null,{"$f":"データ一覧!J555","v":187}]
[{"$f":"データ一覧!$A$36","v":"12.10.1"},null,null,null,null,{"$f":"データ一覧!J36","v":11151},null,null,{"$f":"+L32+O32","v":39632},null,null,{"$f":"データ一覧!J38","v":18942},null,null,{"$f":"データ一覧!J39","v":20690},null,null,null,91.551474142097632,null,{"$f":"データ一覧!J41","v":3.55},null,{"$f":"データ一覧!J35","v":0},null,null,"    　森　　　林　　　総　　　面　　　積   ",null,null,null,null,null,null,null,{"$f":"データ一覧!$A$265","v":"5.3.31"},null,null,null,null,null,"     ゴム","皮革",null,null,null,null,null,null,null,null,{"$f":"データ一覧!J344","v":0},null,null,null,{"$f":"+データ一覧!J369","v":0},null,null,null,null,null,null,{"$f":"データ一覧!J394","v":0},null,null,null,null,null,null,null,"情報通信業",null,null,null,null,151,null,null,null,{"$f":"データ一覧!J518","v":109},null,null,null,{"$f":"データ一覧!J543","v":42},null,null,null," 分類不能の産業",null,null,null,null,null,283,null,null,null,{"$f":"データ一覧!J531","v":142},null,null,null,{"$f":"データ一覧!J556","v":141}]
[{"$f":"+データ一覧!$A$43","v":"17.10.1"},null,null,null,null,{"$f":"データ一覧!J43","v":11230},null,null,{"$f":"+L33+O33","v":37843},null,null,{"$f":"データ一覧!J45","v":17956},null,null,{"$f":"データ一覧!J46","v":19887},null,null,null,90.290139286971396,null,{"$f":"データ一覧!J48","v":3.37},null,{"$f":"データ一覧!J49","v":43.4},null,null,"　　　森　　　　　　　林　　　　　　　の　　　　　　　構　　　　　　　成",null,null,null,null,null,null,null,null,null,null,null,null,null,"     皮革","窯業・土石",null,null,null,null,null,null,null,null,{"$f":"データ一覧!J345","v":3},null,null,null,{"$f":"+データ一覧!J370","v":44},null,null,null,null,null,null,{"$f":"データ一覧!J395","v":186219},null,null,null,null,null,null,"  ","運輸業,郵便業",null,null,null,null,{"$f":"BZ33+CD33","v":470},null,null,null,{"$f":"データ一覧!J519","v":382},null,null,null,{"$f":"データ一覧!J544","v":88}]
[{"$f":"+データ一覧!$A$50","v":"22.10.1"},null,null,null,null,{"$f":"+データ一覧!J50","v":10847},null,null,{"$f":"+L34+O34","v":35291},null,null,{"$f":"+データ一覧!J52","v":16705},null,null,{"$f":"+データ一覧!J53","v":18586},null,null,null,89.879479177875822,null,{"$f":"+データ一覧!J55","v":3.25},null,{"$f":"+データ一覧!J56","v":40.5},null,null,null,null,null,null,null,"       ha",null,null,null,null,null,null,"       ha",null,"     窯業・土石","鉄鋼",null,null,null,null,null,null,null,null,{"$f":"データ一覧!J346","v":0},null,null,null,{"$f":"+データ一覧!J371","v":0},null,null,null,null,null,null,{"$f":"データ一覧!J396","v":0},null,null,null,null,null,null," １６  社　 会 　福　 祉",null,null,null,null,null,null,null,null,null,null,null,null,null,null,null,{"$f":"データ一覧!$A$557","v":"6.4.1"}]
[{"$f":"データ一覧!$A$57","v":"27.10.1"},null,null,null,null,{"$f":"データ一覧!J57","v":10698},null,null,{"$f":"データ一覧!J58","v":33109},null,null,{"$f":"データ一覧!J59","v":15683},null,null,{"$f":"データ一覧!J60","v":17426},null,null,null,89.997704579364168,null,{"$f":"データ一覧!J62","v":3.0948775472050851},null,{"$f":"データ一覧!J63","v":38},null,null,"  総　　　　　   数",null,null,null,{"$f":"データ一覧!J265","v":75825.05},null,null," 天然林       針葉樹",null,null,null,{"$f":"データ一覧!J268","v":463.65},null,null,"     鉄鋼","非鉄金属",null,null,null,null,null,null,null,null,{"$f":"データ一覧!J347","v":0},null,null,null,{"$f":"+データ一覧!J372","v":0},null,null,null,null,null,null,{"$f":"データ一覧!J397","v":0}]
["令　2.10.1（国調）",null,null,null,null,{"$f":"データ一覧!J64","v":10868},null,null,{"$f":"データ一覧!J65","v":31286},null,null,{"$f":"データ一覧!J66","v":14997},null,null,{"$f":"データ一覧!J67","v":16289},null,null,null,{"$f":"+L36/O36*100","v":92.068266928602128},null,{"$f":"データ一覧!J69","v":2.8787265366212735},null,{"$f":"データ一覧!J70","v":35.860756736930185},null,null,"  人工林     針葉樹",null,null,null,{"$f":"データ一覧!J266","v":18363.59},null,null," 天然林       広葉樹",null,null,null,{"$f":"データ一覧!J269","v":51928.12},null,null,"     非鉄金属","金属",null,null,null,null,null,null,null,null,{"$f":"データ一覧!J348","v":10},null,null,null,{"$f":"+データ一覧!J373","v":211},null,null,null,null,null,null,{"$f":"データ一覧!J398","v":876772},null,null,null,null,null,null,"    ","区分",null,null,null,null,null,null,"施設数",null,null,null,null,"収容定員",null,null,null,null,null,"区分",null,null,null,null,null,null,"施設数",null,null,null,null,"収容定員"]
["年",null,"  区",null," 0歳",null,null,"15歳",null,null,"25歳",null,null,"35歳",null,null,"45歳",null,null,"55歳",null,null,"65歳",null,null,"  人工林     広葉樹",null,null,null,{"$f":"データ一覧!J267","v":1377.18},null,null," 竹               林",null,null,null,{"$f":"データ一覧!J270","v":8.83},null,null,"     金属","はん用機械",null,null,null,null,null,null,null,null,{"$f":"データ一覧!J349","v":1},null,null,null,{"$f":"+データ一覧!J374","v":6},null,null,null,null,null,null,{"$f":"データ一覧!J399","v":"x"},null,null,null,null,null,null,"生活保護施設",null,null,null,null,null,null,null,{"$f":"データ一覧!J557","v":1},null,null,null,{"$f":"データ一覧!J570","v":130},null,null,null,"人",null,"指定障害者支援施設",null,null,null,null,null,null,null,{"$f":"データ一覧!J563","v":2},null,null,null,{"$f":"データ一覧!J576","v":110},null,null,null,"人"]
["齢","令",null,null,null,"～",null,null,"～",null,null,"～",null,null,"～",null,null,"～",null,null,"～",null,null,null,null,null,null,null,null,null,null,null,null,null,null,null,null,null,null,"     一般機械","生産用機械",null,null,null,null,null,null,null,null,{"$f":"データ一覧!J350","v":2},null,null,null,{"$f":"+データ一覧!J375","v":12},null,null,null,null,null,null,{"$f":"データ一覧!J400","v":"x"},null,null,null,null,null,null,"地域福祉施設",null,null,null,null,null,null,null,{"$f":"データ一覧!J558","v":"-"},null,null,null,{"$f":"データ一覧!J571","v":"-"},null,null,null,null,null,"指定相談支援事業所",null,null,null,null,null,null,null,{"$f":"データ一覧!J564","v":3},null,null,null,{"$f":"データ一覧!J577","v":"-"}]
["階",{"$f":"+LEFT(データ一覧!$A$83,1)","v":"6"},"  分",null,null,null,"14歳",null,null,"24歳",null,null,"34歳",null,null,"44歳",null,null,"54歳",null,null,"64歳",null,null,"以上","    林     野     の     構     成",null,null,null,null,null,null,"保     有     形     態     別",null,null,null,null,null,null,"     電気機械","業務用機械",null,null,null,null,null,null,null,null,{"$f":"データ一覧!J351","v":0},null,null,null,{"$f":"+データ一覧!J376","v":0},null,null,null,null,null,null,{"$f":"データ一覧!J401","v":0},null,null,null,null,null,null,"老人福祉施設",null,null,null,null,null,null,null,{"$f":"データ一覧!J559","v":8},null,null,null,{"$f":"データ一覧!J572","v":237},null,null,null,null,null,"児童福祉施設",null,null,null,null,null,null,null,{"$f":"データ一覧!J565","v":24},null,null,null,{"$f":"データ一覧!J578","v":1101}]
["級","・",null,null,null,null,"人",null,null,"人",null,"    人",null,null,"    人",null,null,"    人",null,null,"    人",null,null,"    人",null,null,null,null,null,null,null,"ha",null,null,null,null,null,"       ha",null,null,"電子・デバイス",null,null,null,null,null,null,null,null,{"$f":"データ一覧!J352","v":4},null,null,null,{"$f":"+データ一覧!J377","v":658},null,null,null,null,null,null,{"$f":"データ一覧!J402","v":1523248},null,null,null,null,null,null,"介護保険施設",null,null,null,null,null,null,null,{"$f":"データ一覧!J560","v":74},null,null,null,{"$f":"データ一覧!J573","v":1280},null,null,null,null,null,"母子福祉施設",null,null,null,null,null,null,null,{"$f":"データ一覧!J566","v":"-"},null,null,null,{"$f":"データ一覧!J579","v":"-"}]
["別",{"$f":"+MID(データ一覧!$A$83,3,2)","v":"10"},"総 数",null,{"$f":"+E42+E43","v":2883},null,null,{"$f":"+H42+H43","v":2292},null,null,{"$f":"+K42+K43","v":1729},null,null,{"$f":"+N42+N43","v":2797},null,null,{"$f":"+Q42+Q43","v":3644},null,null,{"$f":"+T42+T43","v":3899},null,null,{"$f":"+W42+W43","v":11418},null,null," 無立木地   伐採跡地",null,null,null,{"$f":"データ一覧!J271","v":26.14},null,null,"国   　　　 　 有",null,null,null,{"$f":"データ一覧!J273","v":20664.12},null,null,null,"電気機械",null,null,null,null,null,null,null,null,{"$f":"データ一覧!J353","v":2},null,null,null,{"$f":"+データ一覧!J378","v":64},null,null,null,null,null,null,{"$f":"データ一覧!J403","v":"x"},null,null,null,null,null,null,"障害者自立支援法施行前からの身体障害者福祉施設",null,null,null,null,null,null,null,{"$f":"データ一覧!J561","v":"-"},null,null,null,{"$f":"データ一覧!J574","v":"-"},null,null,null,null,null,"婦人保護施設",null,null,null,null,null,null,null,{"$f":"データ一覧!J567","v":"-"},null,null,null,{"$f":"データ一覧!J580","v":"-"}]
["人","・","  男",null,{"$f":"データ一覧!J83","v":1444},null,null,{"$f":"データ一覧!J84","v":1165},null,null,{"$f":"データ一覧!J85","v":888},null,null,{"$f":"データ一覧!J86","v":1434},null,null,{"$f":"データ一覧!J87","v":1926},null,null,{"$f":"データ一覧!J88","v":1868},null,null,{"$f":"データ一覧!J89","v":4947},null,null," 無立木地   未立木地",null,null,null,{"$f":"データ一覧!J272","v":3657.54},null,null,"公       　　  有",null,null,null,{"$f":"データ一覧!J274","v":11115.76},null,null,"     輸送機械","情報通信機械",null,null,null,null,null,null,null,null,{"$f":"データ一覧!J354","v":1},null,null,null,{"$f":"+データ一覧!J379","v":35},null,null,null,null,null,null,{"$f":"データ一覧!J404","v":"x"},null,null,null,null,null,null,null,null,null,null,null,null,null,null,null,null,null,null,null,null,null,null,null,null,"その他の社会福祉施設",null,null,null,null,null,null,null,{"$f":"データ一覧!J568+データ一覧!J569","v":0},null,null,null,0]
["口",{"$f":"+RIGHT(データ一覧!$A$83,1)","v":"1"},"  女",null,{"$f":"データ一覧!J91","v":1439},null,null,{"$f":"データ一覧!J92","v":1127},null,null,{"$f":"データ一覧!J93","v":841},null,null,{"$f":"データ一覧!J94","v":1363},null,null,{"$f":"データ一覧!J95","v":1718},null,null,{"$f":"データ一覧!J96","v":2031},null,null,{"$f":"データ一覧!J97","v":6471},null,null,null,null,null,null,null,null,null,"私          　 有",null,null,null,{"$f":"データ一覧!J275","v":44045.17},null,null,"     精密機械","輸送機械",null,null,null,null,null,null,null,null,{"$f":"データ一覧!J355","v":2},null,null,null,{"$f":"+データ一覧!J380","v":98},null,null,null,null,null,null,{"$f":"データ一覧!J405","v":"x"},null,null,null,null,null,null,"障害福祉サービス事業所",null,null,null,null,null,null,null,{"$f":"データ一覧!J562","v":27},null,null,null,{"$f":"データ一覧!J575","v":256}]
[null,null,null,null,null,null,null,null,null,null,null,null,null,null,null,null,null,null,null,null,null,null,null,null,null,"            林     産     物     生     産     量 ",null,null,null,null,null,null,null,null,null,{"$f":"データ一覧!$A$276","v":"5年中"},null,null,null,"     その他","その他",null,null,null,null,null,null,null,null,{"$f":"データ一覧!J356","v":2},null,null,null,{"$f":"+データ一覧!J381","v":203},null,null,null,null,null,null,{"$f":"データ一覧!J406","v":"x"},null,null,null,null,null,null," １７  教　　　　　　　育",null,null,null,null,null,null,null,null,null,null,null,null,null,null,null,{"$f":"データ一覧!$A$583","v":"6.5.1"}]
["人口動態",null,null,null,null,null,null,"   自　然　動　態",null,null,null,null,null,"   社  会  動  態",null,null,null,null,null,{"$f":"データ一覧!$A78","v":"5.1.1～5.12.31"},null,null,null,null,null,"生椎茸",null,null,null,{"$f":"データ一覧!J276","v":41075},null,"㎏","乾椎茸",null,null,null,{"$f":"データ一覧!J277","v":41},null,"㎏"]
[null,null,"   区       分",null,null,null,null," 出   生",null,null," 死   亡",null,null," 転   入",null,null," 転   出",null,null," 婚   姻",null,null," 離   婚",null,null,"えのきだけ",null,null,null,{"$f":"データ一覧!J279","v":0},null,"㎏","なめこ",null,null,null,{"$f":"データ一覧!J278","v":15},null,"㎏","    ","工　業　用　水　量",null,null,null,null,null,"（従業者30人以上の事業所）",null,null,null,null,null,null,null,null,null,null,{"$f":"データ一覧!J407","v":8648},null,null,null,null,"㎥／日",null,null,null,null,null,null,null,null,null,null,null,null,null,null,"学校数（校）",null,null,null,null,null,null,"教員数（人）",null,null,null,null,null,null,null,"学生・生徒・児童数（人）"]
[{"$f":"LEFT(データ一覧!$A74,6)","v":"5.10.1"},null,null,null,null,null,null,"       人",null,null,"       人",null,null,"       人",null,null,"       人",null,null,null,"    件",null,null,"    件",null,"ひらたけ",null,null,null,{"$f":"+データ一覧!J280","v":0},null,"㎏","まいたけ",null,null,null,{"$f":"+データ一覧!J281","v":0},null,"㎏",null,null,null,null,null,null,null,null,null,null,null,null,null,null,null,null,null,null,null,null,null,null,null,null,null,null,null,null,null,"　","区分",null,null,null,null,null,null,null," 本 校",null,null," 分 校",null,null," 本   務",null,null,null," 兼   務",null,null,null," 総   数",null,null,null,"男",null,null,null,"女"]
["～",null," 実          数",null,null,null,null,{"$f":"データ一覧!J74","v":110},null,null,{"$f":"データ一覧!J75","v":579},null,null,{"$f":"データ一覧!J76","v":743},null,null,{"$f":"データ一覧!J77","v":883},null,null,{"$f":"データ一覧!J78","v":80},null,null,{"$f":"データ一覧!J79","v":36},null,null,null,null,null,null,null,null,null,null,null,null,null,null,null,null," １１ 　上　・　下　水　道",null,null,null,null,null,null,null,null,null,null,null,null,null,null,null,null,null,null,null,null,null,null,null,null,null,null,null,null,"小学校",null,null,null,null,null,null,null,null,{"$f":"データ一覧!J584","v":9},null,null,{"$f":"データ一覧!J585","v":0},null,null,{"$f":"データ一覧!J586","v":130},null,null,null,{"$f":"データ一覧!J587","v":20},null,null,null,{"$f":"データ一覧!J588","v":1336},null,null,null,{"$f":"データ一覧!J589","v":675},null,null,null,{"$f":"データ一覧!J590","v":661}]
[{"$f":"RIGHT(データ一覧!$A76,6)","v":"6.9.30"},null,"比率(対1,000人)",null,null,null,null,{"$f":"+H48/I36*1000","v":3.5159496260308125},null,null,{"$f":"+K48/I36*1000","v":18.506680304289461},null,null,"- ",null,null,"- ",null,null,{"$f":"+T48/I36*1000","v":2.5570542734769548},null,null,{"$f":"+W48/I36*1000","v":1.1506744230646295},null,null,"  ６  漁               業",null,null,null,null,null,null,null,null,null,null,null,null,null,null,null,null,null,null,null,null,null,null,null,null,null,null,null,null,null,null,null,null,null,null,null,null,null,null,null,null,null,"  ","中学校",null,null,null,null,null,null,null,null,{"$f":"データ一覧!J592","v":2},null,null,{"$f":"データ一覧!J593","v":0},null,null,{"$f":"データ一覧!J594","v":57},null,null,null,{"$f":"データ一覧!J595","v":4},null,null,null,{"$f":"データ一覧!J596","v":650},null,null,null,{"$f":"データ一覧!J597","v":322},null,null,null,{"$f":"データ一覧!J598","v":328}]
[null,null,null,null,null,null,null,null,null,null,null,null,null,null,null,null,null,null,null,null,null,null,null,null,null,null,null,null,null,null,null,null,null,null,null,null,null,null,null,"水 道 供 給 人 口",null,null,null,null,null,null,"上 水 道",null,null,null,"簡易水道",null,null,null,"専用水道",null,null,null,"飲料水供給施設",null,null,null,"下水道処理人口",null,null,null,null,"  ","高等学校",null,null,null,null,null,null,null,null,{"$f":"データ一覧!J600","v":2},null,null,{"$f":"データ一覧!J601","v":0},null,null,{"$f":"データ一覧!J602","v":87},null,null,null,{"$f":"データ一覧!J603","v":25},null,null,null,{"$f":"データ一覧!J604","v":713},null,null,null,{"$f":"データ一覧!J605","v":387},null,null,null,{"$f":"データ一覧!J606","v":326}]
["  ３  事　　業　　所（民　　営）",null,null,null,null,null,null,null,null,null,null,"3.6.1",null,null,null,null,null,null,null,null,null,null,null,null,null,"漁船隻数・トン数",null,null,null,{"$f":"データ一覧!$A$282","v":"5.12.31"},null,null,null,"動　力　船",null,null,null,null,null,{"$f":"データ一覧!$A$408","v":"6.3.31"},null,null,null,null,null,"人",null,{"$f":"データ一覧!J408","v":4327},null,null,{"$f":"データ一覧!J409","v":7333},null,null,null,null,{"$f":"データ一覧!J410","v":0},null,null,null,{"$f":"データ一覧!J411","v":236},null,null,null,{"$f":"データ一覧!J412","v":18381},null,null,null,"  ","大学・短期大学",null,null,null,null,null,null,null,null,{"$f":"データ一覧!J607","v":0},null,null,{"$f":"データ一覧!J608","v":0},null,null,{"$f":"データ一覧!J609","v":0},null,null,null,{"$f":"データ一覧!J610","v":0},null,null,null,{"$f":"データ一覧!J611","v":0},null,null,null,{"$f":"データ一覧!J612","v":0},null,null,null,{"$f":"データ一覧!J613","v":0}]
[null,null,null,null,null,null,null,null,null,null,null,null,null,null,null,null,null,null,null,null,null,null,null,null,null,"無動力船隻数",null,null,null,"船外機付漁船隻数",null,null,null,"隻　数",null,null,"総 ト ン 数",null,null,null,null,null,null,null,null,null,null,null,null,null,null,null,null,null,null,null,null,null,null,null,null,null,null,null,null,null,null,"  ","高等専門学校",null,null,null,null,null,null,null,null,{"$f":"データ一覧!J614","v":0},null,null,{"$f":"データ一覧!J615","v":0},null,null,{"$f":"データ一覧!J616","v":0},null,null,null,{"$f":"データ一覧!J617","v":0},null,null,null,{"$f":"データ一覧!J618","v":0},null,null,null,{"$f":"データ一覧!J619","v":0},null,null,null,{"$f":"データ一覧!J620","v":0}]
[null,null,null,null,null,null,null,"    総　　　　　数",null,null,null,null,null,"    民　　　　　営",null,null,null,null,null,"  国 ･ 地方公共団体",null,null,null,null,null,null,null,null,"隻",null,null,null,"隻",null,null,"隻",null,null,"t"," １２  交   通　・　通   信",null,null,null,null,null,null,null,null,null,null,null,null,null,null,null,null,null,null,null,null,null,null,null,null,null,null,null,"  ","特別支援学校",null,null,null,null,null,null,null,null,{"$f":"データ一覧!J622","v":0},null,null,{"$f":"データ一覧!J623","v":0},null,null,{"$f":"+データ一覧!J624","v":0},null,null,null,{"$f":"+データ一覧!J625","v":0},null,null,null,{"$f":"+データ一覧!J626","v":0},null,null,null,{"$f":"+データ一覧!J627","v":0},null,null,null,{"$f":"+データ一覧!J628","v":0}]
["  　区　　　　　　分",null,null,null,null,null,null," 事業所数",null,null," 従業者数",null,null," 事業所数",null,null," 従業者数",null,null," 事業所数",null,null," 従業者数",null,null,{"$f":"データ一覧!$J$282","v":0},null,null,null,{"$f":"データ一覧!$J$283","v":2},null,null,null,{"$f":"データ一覧!J284","v":0},null,null,{"$f":"データ一覧!J285","v":0},null,null,null,null,null,null,null,null,null,null,null,null,null,null,null,null,null,null,null,null,null,null,null,null,null,null,null,null,null,null,"  ","幼稚園",null,null,null,null,null,null,null,null,{"$f":"データ一覧!J630","v":6},null,null,{"$f":"データ一覧!J631","v":0},null,null,{"$f":"データ一覧!J632","v":8},null,null,null,{"$f":"データ一覧!J633","v":0},null,null,null,{"$f":"データ一覧!J634","v":14},null,null,null,{"$f":"データ一覧!J635","v":5},null,null,null,{"$f":"データ一覧!J636","v":9}]
[null,null,null,null,null,null,null,null,null,null,"       人",null,null,null,null,null,"       人",null,null,null,null,null,"       人",null,null,"  男女別就業者数",null,null,null,null,null,null,null,{"$f":"データ一覧!$A$286","v":"5.11.1"},null,null,null,null,null,"道     路",null,null,null,"実 延 長",null,null,null,"国     道",null,null,null,"県     道",null,null,null,"市町道",null,null,null," 鉄 道 営 業 キ ロ 数",null,null,null,null,null,null,null,"  ","幼保連携認定こども園",null,null,null,null,null,null,null,null,{"$f":"データ一覧!J638","v":9},null,null,{"$f":"データ一覧!J639","v":0},null,null,{"$f":"データ一覧!J640","v":144},null,null,null,{"$f":"データ一覧!J641","v":0},null,null,null,{"$f":"データ一覧!J642","v":716},null,null,null,{"$f":"データ一覧!J643","v":357},null,null,null,{"$f":"データ一覧!J644","v":359}]
["総数",null,null,null,null,null,null,{"$f":"データ一覧!J99","v":"…"},null,null,{"$f":"データ一覧!J156","v":"…"},null,null,{"$f":"データ一覧!J100","v":1737},null,null,{"$f":"データ一覧!J157","v":12482},null,null,{"$f":"データ一覧!J101","v":"…"},null,null,{"$f":"データ一覧!J158","v":"…"},null,null,"総　　数",null,null,null,null,null,"男",null,null,null,"女",null,null,null,{"$f":"データ一覧!$A$413","v":"5.4.1"},null,null,null,{"$f":"データ一覧!J413","v":768.2},null,null,"㎞",{"$f":"データ一覧!J414","v":110.2},null,null,"㎞",{"$f":"データ一覧!J415","v":153.4},null,null,"㎞",{"$f":"データ一覧!J416","v":504.6},null,null,"km",{"$f":"データ一覧!$A$417","v":"6.4.1"},null,null,null,{"$f":"データ一覧!J417","v":0},null,null,"㎞","  ","各種学校",null,null,null,null,null,null,null,null,{"$f":"データ一覧!J646","v":1},null,null,{"$f":"データ一覧!J647","v":0},null,null,{"$f":"データ一覧!J648","v":10},null,null,null,{"$f":"データ一覧!J649","v":3},null,null,null,{"$f":"データ一覧!J650","v":19},null,null,null,{"$f":"データ一覧!J651","v":16},null,null,null,{"$f":"データ一覧!J652","v":3}]
["農林漁業",null,null,null,null,null,null,{"$f":"データ一覧!J102","v":"…"},null,null,{"$f":"データ一覧!J159","v":"…"},null,null,{"$f":"データ一覧!J103","v":53},null,null,{"$f":"データ一覧!J160","v":789},null,null,{"$f":"データ一覧!J104","v":"…"},null,null,{"$f":"データ一覧!J161","v":"…"},null,null,null,null,null,null,null,"人",null,null,"　　　　人",null,null,null,null,"  人","自動車",null,null,null,null,null,null,null,null,"乗用車",null,null,null,null,null,null,null,null,null,null,null,null,null,null,null,null,null,null,"  ","専修学校",null,null,null,null,null,null,null,null,{"$f":"データ一覧!J654","v":0},null,null,{"$f":"データ一覧!J655","v":0},null,null,{"$f":"データ一覧!J656","v":0},null,null,null,{"$f":"データ一覧!J657","v":0},null,null,null,{"$f":"データ一覧!J658","v":0},null,null,null,{"$f":"データ一覧!J659","v":0},null,null,null,{"$f":"データ一覧!J660","v":0}]
["鉱業",null,null,null,null,null,null,{"$f":"データ一覧!J105","v":"…"},null,null,{"$f":"データ一覧!J162","v":"…"},null,null,{"$f":"データ一覧!J106","v":"-"},null,null,{"$f":"データ一覧!J163","v":"-"},null,null,{"$f":"データ一覧!J107","v":"…"},null,null,{"$f":"データ一覧!J164","v":"…"},null,null,{"$f":"データ一覧!J286","v":0},null,null,null,null,null,{"$f":"データ一覧!$J$287","v":0},null,null,null,{"$f":"データ一覧!J288","v":0},null,null,null,"台  数",null,null,null,"貨    物",null,null,null,"普     通",null,null,null,"小     型",null,null,null,"乗  合",null,null,"特  種",null,null,"小型二輪",null,null,"軽自動車",null,null," １８  衛　　　　　　　生"]
["建設業",null,null,null,null,null,null,{"$f":"データ一覧!J108","v":"…"},null,null,{"$f":"データ一覧!J165","v":"…"},null,null,{"$f":"データ一覧!J109","v":264},null,null,{"$f":"データ一覧!J166","v":1605},null,null,{"$f":"データ一覧!J110","v":"…"},null,null,{"$f":"データ一覧!J167","v":"…"},null,null,"　　　　海 面 漁 業 漁 獲 量 （属人）",null,null,null,null,null,null,null,{"$f":"データ一覧!$A$289","v":"30年中"},null,null,null,null,null,{"$f":"データ一覧!$A$418","v":"6.3.31"},null,null,null,null,{"$f":"データ一覧!J418","v":1684},null,null,null,{"$f":"データ一覧!J420","v":6227},null,null,null,{"$f":"データ一覧!J421","v":5910},null,null,{"$f":"データ一覧!J419","v":92},null,null,{"$f":"データ一覧!J422","v":1121},null,null,{"$f":"データ一覧!J423","v":320},null,null,{"$f":"データ一覧!J424","v":13998}]
["製造業",null,null,null,null,null,null,{"$f":"データ一覧!J111","v":"…"},null,null,{"$f":"データ一覧!J168","v":"…"},null,null,{"$f":"データ一覧!J112","v":185},null,null,{"$f":"データ一覧!J169","v":2796},null,null,{"$f":"データ一覧!J113","v":"…"},null,null,{"$f":"データ一覧!J170","v":"…"},null,null,null,null,null,null,null,"       ","ｔ",null,null,null,null,null,null,"t",null,null,"     ",null,"郵　便　局　数",null,null,null,null,null,null,null,null,null,null,null,null,null,{"$f":"+MID(データ一覧!$A$428,3,2)","v":"3."},"令","一般加入",null,null,null,"ＩＮＳネット",null,null,null,null,null,null,null,"医療関係施設",null,null,null,null,null,{"$f":"データ一覧!$A$661","v":"5.10.1"},null,null,null,null,null,null,"および医療関係者数",null,null,null,null,null,null,null,{"$f":"データ一覧!$A$666","v":"4.12.31"}]
["電気・ｶﾞ ｽ・熱供給・水道業",null,null,null,null,null,null,{"$f":"データ一覧!J114","v":"…"},null,null,{"$f":"データ一覧!J171","v":"…"},null,null,{"$f":"データ一覧!J115","v":3},null,null,{"$f":"データ一覧!J172","v":107},null,null,{"$f":"データ一覧!J116","v":"…"},null,null,{"$f":"データ一覧!J173","v":"…"},null,null,"   総　　　　　　数",null,null,null,{"$f":"データ一覧!J289","v":0},null,null,"   藻　　　　　　類",null,null,null,{"$f":"データ一覧!J292","v":0},null,null,"通  信",null,null,null," 総     数",null,null,null,null," 郵 便 局",null,null,null,null," 簡 易 局",null,null,null,"・",{"$f":"+LEFT(データ一覧!$A$428,1)","v":"6"},"電話数",null,null,null,"加入数",null,null,null,null,null,null,null,null,null,"　","病",null,null,"院",null,"　",null,null,null,null," ","一般診療所",null,null,null,null,null,null,null,null,null,null,null,"歯科診療所"]
["情報通信業",null,null,null,null,null,null,{"$f":"データ一覧!J117","v":"…"},null,null,{"$f":"データ一覧!J174","v":"…"},null,null,{"$f":"データ一覧!J118","v":6},null,null,{"$f":"データ一覧!J175","v":18},null,null,{"$f":"データ一覧!J119","v":"…"},null,null,{"$f":"データ一覧!J176","v":"…"},null,null,"   魚　　　　　　類",null,null,null,{"$f":"データ一覧!J290","v":0},null,null,"   そ　   の　　 他",null,null,null,{"$f":"データ一覧!J293","v":0},null,null,{"$f":"データ一覧!$A$428","v":"6.3.31"},null,null,null,{"$f":"データ一覧!J425","v":13},null,null,null,null,{"$f":"データ一覧!J426","v":10},null,null,null,null,{"$f":"データ一覧!J427","v":3},null,null,null,{"$f":"+RIGHT(データ一覧!$A$428,2)","v":"31"},"・",{"$f":"データ一覧!J428","v":3188},null,null,null,{"$f":"データ一覧!J429","v":259},null,null,null," ","医療関係",null,null,null,null,null,null,null,null,null,null,null,"一般病院",null,null,null,null,null,null,null,null,null,null,null,"有",null,null,"床"]
["運輸業、郵便業",null,null,null,null,null,null,{"$f":"データ一覧!J120","v":"…"},null,null,{"$f":"データ一覧!J177","v":"…"},null,null,{"$f":"データ一覧!J121","v":24},null,null,{"$f":"データ一覧!J178","v":252},null,null,{"$f":"データ一覧!J122","v":"…"},null,null,{"$f":"データ一覧!J179","v":"…"},null,null,"   貝　　　　　　類",null,null,null,{"$f":"データ一覧!J291","v":0},null,null,null,null,null,null,null,null,null,null,null,null,null,null,null,null,null,null,null,null,null,null,null,null,null,null,null,null,null,null,null,null,null,null,null,null,null,null,"施設数",null,null,null,null,null,null,{"$f":"データ一覧!J661","v":4},null,null,null,null,null,{"$f":"データ一覧!J662","v":4},null,null,null,null,null,{"$f":"データ一覧!J663","v":22},null,null,null,null,null,{"$f":"データ一覧!J664","v":1},null,null,null,null,null,{"$f":"データ一覧!J665","v":9}]
["卸売業、小売業",null,null,null,null,null,null,{"$f":"データ一覧!J123","v":"…"},null,null,{"$f":"データ一覧!J180","v":"…"},null,null,{"$f":"データ一覧!J124","v":391},null,null,{"$f":"データ一覧!J181","v":2232},null,null,{"$f":"データ一覧!J125","v":"…"},null,null,{"$f":"データ一覧!J182","v":"…"},null,null,null,null,null,null,null,null,null,null,null,null,null,null,null,null," １３  税　　・　　財　　政",null,null,null,null,null,null,null,null,null,null,null,null,null,null,null,null,null,null,null,null,null,null,null,null,null,null,null,null,null,null,null,null,null,null,"医師",null,null,null,null,"歯科医師",null,null,null,null,"薬剤師",null,null,null,null,"保健師",null,null,null,null,"助産師",null,null," ",null,"看護師",null,null," "]
["金融業、保険業",null,null,null,null,null,null,{"$f":"データ一覧!J126","v":"…"},null,null,{"$f":"データ一覧!J183","v":"…"},null,null,{"$f":"データ一覧!J127","v":28},null,null,{"$f":"データ一覧!J184","v":254},null,null,{"$f":"データ一覧!J128","v":"…"},null,null,{"$f":"データ一覧!J185","v":"…"},null,null,"  ７  商        　　　業 ",null,null,null,null,null,null,{"$f":"データ一覧!$A$294","v":"3.6.1(令和2年実績）"},null,null,null,null,null,null,null,null,null,null,null,null,null,null,null,null,null,null,null,null,null,null,null,null,null,null,null,null,null,null,null,null,null,null," ","医療",null,null,null,null,null,null,null,null,"人",null,null,null,null,"人",null,null,null,null,"人",null,null,null,null,"人",null,null,null,null,"人",null,null,null,null,"人"]
["不動産業、物品賃貸業",null,null,null,null,null,null,{"$f":"データ一覧!J129","v":"…"},null,null,{"$f":"データ一覧!J186","v":"…"},null,null,{"$f":"データ一覧!J130","v":33},null,null,{"$f":"データ一覧!J187","v":131},null,null,{"$f":"データ一覧!J131","v":"…"},null,null,{"$f":"データ一覧!J188","v":"…"},null,null,null,null,null,null,null,null,null,null,null,null,null,null,null,null,"           ",null,null,null,"歳入",null,null,null,null,null,null,null,null,"(千円）"," ",null,null,null,"歳出",null,null,null,null,null,null,null,null,"(千円）",null,"関係者",null,null,null,null,{"$f":"データ一覧!J666","v":27},null,null,null,null,{"$f":"データ一覧!J667","v":14},null,null,null,null,{"$f":"データ一覧!J668","v":33},null,null,null,null,{"$f":"データ一覧!J669","v":22},null,null,null,null,{"$f":"データ一覧!J670","v":1},null,null,null,null,{"$f":"データ一覧!J671","v":259}]
["学術研究、専門・技術ｻｰﾋﾞｽ業",null,null,null,null,null,null,{"$f":"データ一覧!J132","v":"…"},null,null,{"$f":"データ一覧!J189","v":"…"},null,null,{"$f":"データ一覧!J133","v":48},null,null,{"$f":"データ一覧!J190","v":246},null,null,{"$f":"データ一覧!J134","v":"…"},null,null,{"$f":"データ一覧!J191","v":"…"},null,null,"  産   業　 分　 類",null,null,null," 事　業　所　数",null,null," 従　業　者　数",null,null,"年　間　販　売　額",null,null,null,"一人当たり歳入歳出予算決算額",null,null,null,null,null,null,null,null,null,null,null,null,null,null,null,null,null,null,null,null,null,null,null,null,null,null,null,"                   ",null,null,null,null,null,null,null,null,"死因別死亡数　　　　　　    ",null,null,null,null,null,null,null,null,null,null,null,null,null,null,null,{"$f":"データ一覧!$A$672","v":"5年中"},null,null,null,null,null,null,null,null,"      単 位：人"]
["宿泊業、飲食サービス業",null,null,null,null,null,null,{"$f":"データ一覧!J135","v":"…"},null,null,{"$f":"データ一覧!J192","v":"…"},null,null,{"$f":"データ一覧!J136","v":203},null,null,{"$f":"データ一覧!J193","v":681},null,null,{"$f":"データ一覧!J137","v":"…"},null,null,{"$f":"データ一覧!J194","v":"…"},null,null,null,null,null,null,null,null,null,null,null,"　人",null,"         百万円",null,null,"区分",null,null,null,{"$f":"データ一覧!$A$438","v":"6年度"},null,null,null,null,{"$f":"データ一覧!$A$452","v":"5年度"},null,null,null,null,"区分",null,null,null,{"$f":"+AR68","v":"6年度"},null,null,null,null,{"$f":"データ一覧!$A$452","v":"5年度"},null,null,null,null," 死     因",null,null,null,null,null,null,null,null,null,null,null,"悪  性",null,null,"高血圧",null,null,null,null,null,"脳血管",null,null,null,null,null," ",null,null,"不慮の事故"]
["生活関連サービス業、娯楽業",null,null,null,null,null,null,{"$f":"データ一覧!J138","v":"…"},null,null,{"$f":"データ一覧!J195","v":"…"},null,null,{"$f":"データ一覧!J139","v":162},null,null,{"$f":"データ一覧!J196","v":549},null,null,{"$f":"データ一覧!J140","v":"…"},null,null,{"$f":"データ一覧!J197","v":"…"},null,null,"総　　　　　　計",null,null,null,{"$f":"データ一覧!J294","v":347},null,null,{"$f":"データ一覧!J303","v":1819},null,null,{"$f":"データ一覧!J312","v":32032},null,null,null,null,null,null,null,{"$f":"データ一覧!J434","v":741228.67840798781},null,null,null,null,{"$f":"データ一覧!J435","v":757055.95355311863},null,null,null,null,null,null,null,null,{"$f":"データ一覧!J436","v":741228.67840798781},null,null,null,null,{"$f":"データ一覧!J437","v":724941.80558856484},null,null,null,null,null,null,null,null,null,"全 死 因",null,null,null,"結 核",null,null,"新生物",null,null,"性疾患",null,null,"心疾患",null,null,"疾  患",null,null,"肺  炎",null,null,"老  衰",null,null,null,null," ","交通事故"]
["教育、学習支援業",null,null,null,null,null,null,{"$f":"データ一覧!J141","v":"…"},null,null,{"$f":"データ一覧!J198","v":"…"},null,null,{"$f":"データ一覧!J142","v":39},null,null,{"$f":"データ一覧!J199","v":267},null,null,{"$f":"データ一覧!J143","v":"…"},null,null,{"$f":"データ一覧!J200","v":"…"},null,null,"卸売業",null,null,null,{"$f":"データ一覧!J295","v":39},null,null,{"$f":"データ一覧!J304","v":171},null,null,{"$f":"データ一覧!J313","v":3853},null,null,null,"項目別歳入歳出予算決算額"]
["医療、福祉",null,null,null,null,null,null,{"$f":"データ一覧!J144","v":"…"},null,null,{"$f":"データ一覧!J201","v":"…"},null,null,{"$f":"データ一覧!J145","v":147},null,null,{"$f":"データ一覧!J202","v":1707},null,null,{"$f":"データ一覧!J146","v":"…"},null,null,{"$f":"データ一覧!J203","v":"…"},null,null,"小売業",null,null,null,{"$f":"データ一覧!J296","v":308},null,null,{"$f":"データ一覧!J305","v":1648},null,null,{"$f":"データ一覧!J314","v":28179},null,null,null,"区分",null,null,null,{"$f":"データ一覧!$A$438","v":"6年度"},null,null,null,null,{"$f":"データ一覧!$A$452","v":"5年度"},null,null,null,null,"区分",null,null,null,{"$f":"+AR71","v":"6年度"},null,null,null,null,{"$f":"データ一覧!$A$452","v":"5年度"},null,null,null,null,null,null,null,null,null,{"$f":"データ一覧!J672","v":543},null,null,null,"   －",{"$f":"データ一覧!J673","v":"-"},null,{"$f":"データ一覧!J674","v":118},null,null,null,{"$f":"データ一覧!J675","v":2},null,{"$f":"データ一覧!J676","v":85},null,null,{"$f":"データ一覧!J677","v":50},null,null,{"$f":"データ一覧!J678","v":30},null,null,{"$f":"データ一覧!J679","v":64},null,null,{"$f":"データ一覧!J680","v":19},null,null,{"$f":"データ一覧!J681","v":"-"}]
["複合サービス事業",null,null,null,null,null,null,{"$f":"データ一覧!J147","v":"…"},null,null,{"$f":"データ一覧!J204","v":"…"},null,null,{"$f":"データ一覧!J148","v":15},null,null,{"$f":"データ一覧!J205","v":145},null,null,{"$f":"データ一覧!J149","v":"…"},null,null,{"$f":"データ一覧!J206","v":"…"},null,null,"各種商品",null,null,null,{"$f":"データ一覧!J297","v":1},null,null,{"$f":"データ一覧!J306","v":3},null,null,{"$f":"データ一覧!J315","v":"x"},null,null,null,"総額",null,null,null,{"$f":"SUM(AR73:AV85)","v":21380000},null,null,null,null,{"$f":"SUM(AW73:BA85)","v":22297569},null,null,null,null,"総額",null,null,null,{"$f":"SUM(BF73:BJ85)","v":21380000},null,null,null,null,{"$f":"SUM(BK73:BO85)","v":21351711},null,null,null,null," １９  警　察　・　消　防  ",null,null,null,null,null,null,null,null,null,null,null,null,null,null,null,{"$f":"+データ一覧!$A682","v":"6.4.1"}]
["サービス業",null,null,null,null,null,null,{"$f":"データ一覧!J150","v":"…"},null,null,{"$f":"データ一覧!J207","v":"…"},null,null,{"$f":"データ一覧!J151","v":136},null,null,{"$f":"データ一覧!J208","v":703},null,null,{"$f":"データ一覧!J152","v":"…"},null,null,{"$f":"データ一覧!J209","v":"…"},null,null,"織物・衣服・身の回り品",null,null,null,{"$f":"データ一覧!J298","v":51},null,null,{"$f":"データ一覧!J307","v":116},null,null,{"$f":"データ一覧!J316","v":535},null,null,null,"地方税",null,null,null,{"$f":"データ一覧!J439","v":3692099},null,null,null,null,{"$f":"データ一覧!J453","v":3886389},null,null,null,null,"議会費",null,null,null,{"$f":"データ一覧!J467","v":180790},null,null,null,null,{"$f":"データ一覧!J481","v":169823}]
["公務",null,null,null,null,null,null,{"$f":"データ一覧!J153","v":"…"},null,null,{"$f":"データ一覧!J210","v":"…"},null,null,{"$f":"データ一覧!J154","v":"…"},null,null,{"$f":"データ一覧!J211","v":"…"},null,null,{"$f":"データ一覧!J155","v":"…"},null,null,{"$f":"データ一覧!J212","v":"…"},null,null,"飲食料品",null,null,null,{"$f":"データ一覧!J299","v":85},null,null,{"$f":"データ一覧!J308","v":643},null,null,{"$f":"データ一覧!J317","v":10240},null,null,null,"地方譲与税",null,null,null,{"$f":"データ一覧!J440","v":259680},null,null,null,null,{"$f":"データ一覧!J454","v":237523},null,null,null,null,"総務費",null,null,null,{"$f":"データ一覧!J468","v":2755493},null,null,null,null,{"$f":"データ一覧!J482","v":4178119},null,null,null,null,null,null,null,null,null,null,null,null,null,null,"交番・駐在所",null,null,null,null,null,null,null,null,"刑法犯認知件数",null,null,null,null,null,null,null,null,"交通人身事故発生件数"]
["  ４  農        　　　業 ",null,null,null,null,null,null,null,null,null,null,null,null,null,null,null,null,null,null,null,null,null,null,null,null,"機械器具",null,null,null,{"$f":"データ一覧!J300","v":50},null,null,{"$f":"データ一覧!J309","v":251},null,null,{"$f":"データ一覧!J318","v":5528},null,null,null,"各種交付金",null,null,null,{"$f":"データ一覧!J441","v":956300},null,null,null,null,{"$f":"データ一覧!J455","v":933508},null,null,null,null,"民生費",null,null,null,{"$f":"データ一覧!J469","v":5364296},null,null,null,null,{"$f":"データ一覧!J483","v":5961247},null,null,null,null,null,"警察署数",null,null,null,null,null,null,null,null,"検問所数",null,null,null,null,null,null,null,null,null,{"$f":"データ一覧!$A$684","v":"5年中"},null,null,null,null,null,null,null,null,{"$f":"データ一覧!$A$684","v":"5年中"}]
[null,null,null,null,null,null,null,null,null,null,null,null,null,null,null,null,null,null,null,null,null,null,null,null,null,"その他",null,null,null,{"$f":"データ一覧!J301","v":115},null,null,{"$f":"データ一覧!J310","v":605},null,null,{"$f":"データ一覧!J319","v":"x"},null,null,null,"地方特例交付金",null,null,null,{"$f":"データ一覧!J442","v":151100},null,null,null,null,{"$f":"データ一覧!J456","v":25475},null,null,null,null,"衛生費",null,null,null,{"$f":"データ一覧!J470","v":2685689},null,null,null,null,{"$f":"データ一覧!J484","v":1498009},null,null,null,null,null,null,null,null,null,null,null,null,null,null,null,null,null,null,null,null,null,null,null,null,null,null,null,null," 件",null,null,null,null,null,null,null,null,"　件"]
[null,null,"農業経営体数",null,null,null,null,null,null,"農産物販売額規模別経営体数",null,null,null,null,null,null,null,"経営耕地面積規模別経営体数",null,null,null,null,null,null,null,"無店舗",null,null,null,{"$f":"データ一覧!J302","v":6},null,null,{"$f":"データ一覧!J311","v":30},null,null,{"$f":"データ一覧!J320","v":391},null,null,null,"地方交付税",null,null,null,{"$f":"データ一覧!J443","v":6050000},null,null,null,null,{"$f":"データ一覧!J457","v":6885301},null,null,null,null,"労働費",null,null,null,{"$f":"データ一覧!J471","v":124161},null,null,null,null,{"$f":"データ一覧!J485","v":120955},null,null,null,null,null,null,{"$f":"データ一覧!J682","v":1},null,null,null,null,null,null,null,null,{"$f":"データ一覧!J683","v":8},null,null,null,null,null,null,null,null,{"$f":"データ一覧!J684","v":88},null,null,null,null,null,null,null,null,{"$f":"データ一覧!J685","v":16}]
["農",null,"区　分",null,null,null,"経営体数\n（経営体）",null,null,"区　分",null,null,null,null,"経営体数\n（経営体）",null,null,"区　分",null,null,null,null,"経営体数\n（経営体）",null,null,null,null,null,null,null,null,null,null,null,null,null,null,null,null,"分担金および負担金",null,null,null,{"$f":"データ一覧!J444","v":10470},null,null,null,null,{"$f":"データ一覧!J458","v":19083},null,null,null,null,"農林水産業費",null,null,null,{"$f":"データ一覧!J472","v":1351209},null,null,null,null,{"$f":"データ一覧!J486","v":1282457},null,null,null,null,"火災発生件数",null,null,null,null,null,null,null,null,null,"林野焼損",null,null,null,null,"損      害",null,null,null,null,"消 防 自",null,null,null,"その他の",null,null,null," ",null,null,null,null," "]
["業","令",null,null,null,null,null,null,null,null,null,null,null,null,null,null,null,null,null,null,null,null,null,null,null,"  ８  住　　　　　　 　宅",null,null,null,null,null,null,null,null,null,null,null,null,null,"使用料および手数料",null,null,null,{"$f":"データ一覧!J445","v":188766},null,null,null,null,{"$f":"データ一覧!J459","v":195602},null,null,null,null,"商工費",null,null,null,{"$f":"データ一覧!J473","v":1222163},null,null,null,null,{"$f":"データ一覧!J487","v":1109509},null,null,null,null,{"$f":"+データ一覧!$A$686","v":"5年中"},null,null,null,null,"焼損棟数",null,null,null,null,"面    積",null,null,null,null,"見  積  額",null,null,null,null,"動 車 数",null,null,null,"ﾎﾟﾝﾌﾟ数",null,null,null," 消防吏員",null,null,null," 消防団員"]
["経",{"$f":"+LEFT(データ一覧!$A$213)","v":"2"},"計",null,null,null,{"$f":"データ一覧!J213","v":933},null,null,"総　　　 数",null,null,null,null,{"$f":"データ一覧!J217","v":933},null,null,"総　　　 数",null,null,null,null,{"$f":"データ一覧!J233","v":3837},null,null,null,null,null,null,null,null,null,null,null,null,null,null,null,null,"国庫支出金",null,null,null,{"$f":"データ一覧!J446","v":2645918},null,null,null,null,{"$f":"データ一覧!J460","v":3680884},null,null,null,null,"土木費",null,null,null,{"$f":"データ一覧!J474","v":1726019},null,null,null,null,{"$f":"データ一覧!J488","v":1776629},null,null,null,null,"         件",null,null,null,null,null,"      棟",null,null,null,null,null,null,"  ａ",null,null,null,"  千円",null,null,"        ",null,null,null,null,null,null,null,null,null,"  人",null,null,null,"  人"]
["営","・","個人経営体",null,null,null,{"$f":"データ一覧!J214","v":885},null,null,"販 売 な し",null,null,null,null,{"$f":"データ一覧!J218","v":38},null,null,"0.5 ha 未満",null,null,null,null,{"$f":"データ一覧!J234","v":35},null,null,{"$f":"+データ一覧!$A$321","v":"4年"},null,null,null,null,{"$f":"データ一覧!$A$324","v":"5年"},"中の増減",null,null,null,{"$f":"+データ一覧!$A$324","v":"5年"},null,null,null,"県支出金",null,null,null,{"$f":"データ一覧!J447","v":1862222},null,null,null,null,{"$f":"データ一覧!J461","v":1842607},null,null,null,null,"消防費",null,null,null,{"$f":"データ一覧!J475","v":1262191},null,null,null,null,{"$f":"データ一覧!J489","v":806341},null,null,null,null,null,{"$f":"データ一覧!J686","v":4},null,null,null,null,{"$f":"データ一覧!J687","v":7},null,null,null,null,{"$f":"データ一覧!J688","v":0},null,null,null,{"$f":"データ一覧!J689","v":11596},null,null,null,null,null,{"$f":"データ一覧!J690","v":17},null,null,null,{"$f":"データ一覧!J691","v":32},null,null,null,{"$f":"データ一覧!J692","v":55},null,null,null,{"$f":"データ一覧!J693","v":450}]
["体",{"$f":"+LEFT(データ一覧!$A$213,1)","v":"2"},"団体経営体",null,null,null,{"$f":"データ一覧!J215","v":48},null,null,"50万円未満",null,null,null,null,{"$f":"データ一覧!J219","v":252},null,null,"0.5 ha ～ 1.0 ha",null,null,null,null,{"$f":"データ一覧!J235","v":183},null,null,null,null,null,null,"建設した住宅",null,null,"消失した住宅",null,null,null,null,null,null,"財産収入",null,null,null,{"$f":"データ一覧!J448","v":46005},null,null,null,null,{"$f":"データ一覧!J462","v":92155},null,null,null,null,"教育費",null,null,null,{"$f":"データ一覧!J476","v":3362586},null,null,null,null,{"$f":"データ一覧!J490","v":3046735},null,null,null,null," ２０  そ　　　の　　　他　"]
["数","・",null,"法人経営",null,null,{"$f":"データ一覧!J216","v":34},null,null,"50～300万円",null,null,null,null,{"$f":"データ一覧!J220","v":508},null,null,"1.0 ha ～ 2.0 ha",null,null,null,null,{"$f":"データ一覧!J236","v":469},null,null,null,null,null,null,null,null,null,null,null,null,null,null,null,null,"繰入金",null,null,null,{"$f":"データ一覧!J449","v":1321793},null,null,null,null,{"$f":"データ一覧!J463","v":1776156},null,null,null,null,"災害復旧費",null,null,null,{"$f":"データ一覧!J477","v":1500},null,null,null,null,{"$f":"データ一覧!J491","v":65317}]
["（",{"$f":"+RIGHT(データ一覧!$A$213)","v":"1"},null,null,null,null,null,null,null,"300～500万円",null,null,null,null,{"$f":"データ一覧!J221","v":43},null,null,"2.0 ha ～ 3.0 ha",null,null,null,null,{"$f":"データ一覧!J237","v":263},null,null,null,{"$f":"データ一覧!J321","v":11240},null,"戸",{"$f":"データ一覧!J322","v":84},null,"戸",{"$f":"データ一覧!J323","v":131},null,"戸",null,{"$f":"データ一覧!J324","v":11193},null,"戸","地方債",null,null,null,{"$f":"データ一覧!J450","v":3407500},null,null,null,null,{"$f":"データ一覧!J464","v":1412700},null,null,null,null,"公債費",null,null,null,{"$f":"データ一覧!J478","v":1323903},null,null,null,null,{"$f":"データ一覧!J492","v":1336570},null,null,null,null,"　名所・旧跡",null,null,null,null,"越前大野城、民俗資料館、歴史博物館、武家屋敷旧内山家、武家屋敷旧田村家、宝慶寺、和泉郷土資料館（くずりゅう化石ラボ ガ・オーノ）、御清水(名水百選)、本願清水(平成の名水百選)、本願清水イトヨの里、旧橋本家住宅、専福寺の大ケヤキ、朝倉義景墓所、平成大野屋、荒島岳（日本百名山）、刈込池、九頭竜峡、寺町通り、六呂師高原（星空保護区認定地）、九頭竜湖、良縁の樹、化石発掘体験センターHOROSSA!、COCONOアートプレイス"]
["総",null,null,null,null,null,null,null,null,"500～1,000万円",null,null,null,null,{"$f":"データ一覧!J222","v":25},null,null,"3.0 ha ～ 5.0 ha",null,null,null,null,{"$f":"データ一覧!J238","v":153},null,null,null,null,null,null,null,null,null,null,null,null,null,null,null,null,"その他",null,null,null,{"$f":"データ一覧!J451","v":788147},null,null,null,null,{"$f":"データ一覧!J465","v":1310186},null,null,null,null,"その他",null,null,null,{"$f":"データ一覧!J479","v":20000},null,null,null,null,{"$f":"データ一覧!J493","v":0},null,null,null,null,"  文化財等"]
["数",null,null,null,null,null,null,null,null,"1,000万円以上",null,null,null,null,{"$f":"データ一覧!J223","v":67},null,null,"5.0 ha以上",null,null,null,null,{"$f":"データ一覧!J239","v":2732}]
["）",null,"15歳以上の常雇い数",null,null,null,null,null,null,"農業に60日以上従事した世帯員、役員・構成員\n（経営主を含む）の平均年齢",null,null,null,null,null,null,null,null,null,null,null,null,null,null,null,"  ９  議　 員　・　職 　員",null,null,null,null,null,null,null,null,null,null,null,null,null," １４  文　　　化",null,null,null,null,null,null,null," ( ",{"$f":"\"令\"&データ一覧!$A$498","v":"令6.3.31"},null,null,"ただし図書館・公民館・児童館・ 社会教育学級講座",null,null,null,null,null,null,null,null,null,null,null,{"$f":"データ一覧!$A$494","v":"6.4.1"},null,null,null,"　　特産物",null,null,null,null,"けんけら、でっち羊かん、やまぶどうワイン、地酒、はまな味噌、里芋、\n大野在来そば、越前おおの米、半夏生さば、穴馬スイートコーン、九頭竜まいたけ、とんちゃん、醤油カツ丼、穴馬かぶら、荒島ポーク、名水サーモン"]
["と",null,null,null,null,null,null,null,null,null,null,null,null,null,null,null,null,null,null,null,null,null,null,null,null,null,null,null,null,null,null,null,null,null,null,null,null,null,null,null,null,null,null,null,null,null,null,null,null,null,null,null,"　宗教法人数 ",null,null,null,null,null,null,null,null,null,null,{"$f":"データ一覧!$A$502","v":"5.12.31"}]
["就",null,null,null,null,null,null,null,null,"農業に60日以上従事",null,null,null,null,null,null,null,"農業に150日以上従事",null,null,null,null,null,null,null," 市 町 議 会",null,null,"有権者数",null,{"$f":"データ一覧!$A$328","v":"6.9.1"},null,"市 町 議 会",null,null,"  職      員      数",null,null,null,null,null,null,null,null,"図書館",null,null,null,null,null,"公　民　館",null,null,null,null,null,null,null,null,null,null," 社会教育学級講座",null,null,null,null,null," 　年中行事",null,null,null,null,"七間朝市(春分の日～12月)､七間朝市山菜フードピア(5月11日、12日)､名水マラソン(5月26日)､九頭竜新緑まつり(6月1日、2日)､おおの城まつり(8月13日～16日)、アルプス音楽祭(9月15日、16日)、三大朝市物産まつり・九頭竜紅葉まつり(10月26日、27日)、産業と食彩フェア(10月18日、19日)､新そばまつり(11月16日、17日)､越前おおの冬物語・でっち羊かんまつり(1月下旬)"]
["業",null,"区分",null,null,null,"人",null,null,"区分",null,null,null,null,"歳",null,null,"区　　分",null,null,null,null,"歳",null,null," 議  員  定  数",null,null,"    男",null,"    女",null,"選 挙 投 票 率",null,null," 総     数",null,"一般行政職",null,"公    共",null,null,null," 館  数",null,null," 図書数",null,null," 本  館",null,null," 分  館",null,null," 公  園",null,null," 児童館",null,null,"学級講座数",null,null,"受講者数"]
["状",null,"総数",null,null,null,{"$f":"データ一覧!J230","v":75},null,null,"総数",null,null,null,null,{"$f":"データ一覧!J224","v":68.3},null,null,"総数",null,null,null,null,{"$f":"データ一覧!J227","v":69.3},null,null,null,null,"人",null,"人",null,"人",null,null,"　％",null,"人",null,"人","施 設 数",null,null,null,null,{"$f":"データ一覧!J494","v":1},null,{"$f":"データ一覧!J495","v":234542},null,null,null,{"$f":"データ一覧!J496","v":9},null,{"$f":"データ一覧!J497","v":0},null,null,{"$f":"データ一覧!J498","v":34},null,null,{"$f":"データ一覧!J499","v":5},null,null,{"$f":"データ一覧!J500","v":1150},null,null,{"$f":"データ一覧!J501","v":13930}]
["況",null,"男",null,null,null,{"$f":"データ一覧!J231","v":52},null,null,"男",null,null,null,null,{"$f":"データ一覧!J225","v":67.400000000000006},null,null,"男",null,null,null,null,{"$f":"データ一覧!J228","v":68.599999999999994},null,null,null,{"$f":"データ一覧!J325","v":16},null,{"$f":"データ一覧!J328","v":12318},null,{"$f":"データ一覧!J329","v":13463},null,{"$f":"データ一覧!J327","v":58.5},null,null,{"$f":"データ一覧!J330","v":366},null,{"$f":"データ一覧!J331","v":224},null,"宗    教",null,null,null," 仏教系",null,null,"ｷﾘｽﾄ教系",null,null,"神道諸派",null,null,"公会堂・市民会館",null,null,null,null,null," テレビ",null,null,"衛星放送契約数"]
[null,null,"女",null,null,null,{"$f":"データ一覧!J232","v":23},null,null,"女",null,null,null,null,{"$f":"データ一覧!J226","v":69.7},null,null,"女",null,null,null,null,{"$f":"データ一覧!J229","v":70.7},null,null,null,null,null,null,null,null,null,{"$f":"データ一覧!J326","v":"5.2.12"},null,null,null,null,null,null,"法 人 数",null,null,null,{"$f":"データ一覧!J502","v":77},null,null,{"$f":"データ一覧!J503","v":1},null,null,{"$f":"データ一覧!J504","v":102},null,null,{"$f":"データ一覧!J505","v":2},null,null,null,null,null,"      等",null,null,{"$f":"データ一覧!J506","v":7161}]

{"sheet":"勝山市","index":9,"n_rows":93,"n_cols":103,"rows_kept":93,"cut":false,"hidden":false,"merged":[[66,92,66,96],[89,17,89,21],[90,2,90,5],[90,9,90,13],[90,17,90,21],[91,2,91,5],[91,9,91,13],[91,17,91,21],[92,2,92,5],[92,9,92,13],[92,14,92,16],[92,17,92,21],[85,17,85,21],[81,6,81,8],[81,9,81,13],[81,14,81,16],[82,6,82,8],[82,9,82,13],[82,14,82,16],[83,6,83,8],[83,9,83,13],[83,14,83,16],[84,6,84,8],[84,9,84,13],[84,14,84,16],[92,6,92,8],[85,6,85,8],[85,9,85,13],[85,14,85,16],[85,22,85,24],[66,35,66,38],[70,39,70,42],[17,25,17,27],[18,25,18,27],[62,0,62,6],[61,0,61,6],[60,0,60,6],[57,19,57,21],[59,16,59,18],[57,16,57,18],[64,22,64,24],[35,36,35,37],[35,22,35,24],[51,29,51,32],[50,59,50,61],[51,36,51,38],[50,33,50,38],[27,37,27,38],[20,16,20,18],[29,5,29,7],[27,0,27,4],[34,8,34,10],[23,16,23,18],[57,10,57,12],[56,16,56,18],[47,16,47,18],[31,5,31,7],[32,14,32,16],[33,14,33,16],[55,47,55,49],[55,51,55,53],[59,0,59,6],[48,7,48,9],[48,10,48,12],[47,0,47,1],[48,0,48,1],[55,0,55,6],[58,0,58,6],[57,0,57,6],[56,0,56,6],[55,10,55,12],[36,49,36,51],[38,75,38,77],[38,53,38,56],[36,53,36,56],[36,29,36,30],[48,13,48,15],[48,16,48,18],[41,4,41,6],[47,7,47,9],[47,10,47,12],[46,0,46,1],[42,7,42,9],[42,10,42,12],[42,13,42,15],[42,16,42,18],[57,7,57,9],[58,10,58,12],[56,39,56,42],[57,39,57,42],[42,4,42,6],[40,36,40,37],[40,32,40,35],[39,53,39,56],[36,36,36,37],[38,67,38,73],[32,81,32,84],[33,83,34,96],[35,93,35,95],[35,68,35,72],[33,60,33,64],[35,80,35,83],[34,60,34,64],[31,40,31,46],[34,36,34,37],[65,39,65,42],[30,49,30,51],[42,60,42,64],[42,36,42,37],[37,93,37,95],[36,93,36,95],[38,93,38,95],[40,85,40,91],[39,85,39,91],[39,93,39,95],[37,79,37,82],[37,75,37,77],[42,49,42,51],[55,43,55,45],[55,39,55,42],[32,40,32,46],[41,40,41,46],[37,60,37,64],[39,79,39,82],[42,67,42,73],[38,40,38,46],[39,67,39,73],[38,79,38,82],[21,77,21,80],[21,81,21,84],[22,86,22,90],[23,68,23,72],[25,25,25,26],[30,53,30,56],[32,53,32,56],[33,53,33,56],[34,53,34,56],[34,40,34,46],[33,49,33,51],[29,53,29,56],[29,60,29,64],[34,49,34,51],[37,40,37,46],[38,49,38,51],[32,49,32,51],[26,25,26,26],[29,49,29,51],[29,86,29,90],[30,68,30,72],[32,68,32,72],[32,73,32,76],[32,77,32,80],[30,60,30,64],[31,49,31,51],[31,53,31,56],[34,29,34,30],[33,40,33,46],[35,49,35,51],[35,40,35,46],[30,40,30,46],[27,22,27,24],[20,21,20,23],[47,22,47,24],[27,25,27,26],[34,5,34,7],[44,0,45,1],[27,31,27,32],[45,32,45,35],[46,32,46,35],[16,74,16,95],[56,7,56,9],[21,32,21,34],[21,35,21,38],[20,60,20,64],[21,60,21,64],[49,39,49,45],[49,46,49,49],[49,50,49,53],[51,33,51,35],[16,36,16,37],[17,36,17,38],[18,35,18,38],[26,40,26,46],[21,40,21,46],[21,49,21,51],[20,91,20,94],[17,91,17,94],[22,91,22,94],[21,53,21,56],[21,86,21,90],[44,25,44,28],[45,25,45,28],[27,27,27,28],[55,25,55,30],[18,28,18,30],[16,32,16,33],[19,25,19,28],[19,29,19,31],[19,32,19,34],[26,27,26,28],[17,32,17,34],[18,31,18,34],[50,25,50,28],[25,29,26,30],[17,86,17,89],[19,73,19,76],[19,77,19,80],[24,73,24,76],[29,77,29,80],[31,68,31,72],[31,73,31,76],[31,77,31,80],[31,81,31,84],[29,73,29,76],[31,60,31,64],[29,81,29,84],[30,73,30,76],[30,77,30,80],[45,29,45,30],[44,29,44,30],[30,81,30,84],[30,86,30,90],[32,60,32,64],[24,77,24,80],[29,18,29,19],[41,13,41,15],[33,5,33,7],[33,8,33,10],[30,5,30,7],[29,14,29,16],[32,11,32,13],[41,16,41,18],[30,14,30,16],[32,8,32,10],[32,22,32,24],[40,4,40,6],[30,20,30,21],[30,18,30,19],[32,18,32,19],[32,20,32,21],[33,18,33,19],[33,22,33,24],[29,22,29,24],[35,8,35,10],[30,11,30,13],[30,8,30,10],[29,20,29,21],[34,22,34,24],[31,22,31,24],[30,22,30,24],[33,11,33,13],[33,20,33,21],[34,20,34,21],[31,8,31,10],[31,11,31,13],[31,14,31,16],[5,0,5,9],[6,0,8,9],[22,7,22,8],[27,5,27,7],[29,8,29,10],[29,11,29,13],[19,3,19,5],[23,11,23,13],[20,11,20,13],[24,0,25,24],[51,25,51,28],[48,22,48,24],[55,19,55,21],[26,22,26,24],[44,19,44,24],[21,25,21,28],[55,22,55,24],[47,19,47,21],[48,19,48,21],[22,25,22,28],[54,25,54,32],[15,29,15,30],[15,32,15,33],[14,26,15,28],[20,29,20,31],[20,32,20,34],[25,33,26,34],[25,27,25,28],[24,27,24,28],[40,2,40,3],[32,5,32,7],[35,5,35,7],[14,0,15,24],[17,40,17,46],[17,48,17,52],[20,40,20,46],[23,21,23,23],[25,40,25,46],[47,13,47,15],[15,35,15,37],[20,35,20,38],[25,35,26,36],[25,37,26,38],[22,32,22,34],[22,35,22,38],[23,29,23,31],[23,32,23,34],[23,35,23,38],[23,25,23,28],[22,29,22,31],[19,35,19,38],[20,25,20,28],[25,31,26,32],[21,29,21,31],[14,25,15,25],[27,29,27,30],[46,25,46,28],[27,33,27,34],[27,35,27,36],[34,11,34,13],[26,49,26,51],[28,40,28,46],[27,40,27,46],[36,40,36,46],[17,100,17,101],[19,40,19,46],[19,49,19,51],[19,53,19,56],[19,60,19,64],[17,59,17,65],[19,99,19,102],[19,95,19,98],[19,91,19,94],[17,53,17,57],[20,53,20,56],[20,49,20,51],[19,81,19,84],[20,73,20,76],[20,77,20,80],[20,81,20,84],[20,86,20,90],[17,68,17,71],[17,73,17,76],[17,82,17,83],[22,95,22,98],[22,77,22,80],[22,81,22,84],[20,99,20,102],[20,95,20,98],[25,99,25,102],[25,81,25,84],[25,86,25,90],[26,95,26,98],[26,99,26,102],[25,53,25,56],[21,95,21,98],[21,99,21,102],[22,40,22,46],[22,49,22,51],[22,53,22,56],[22,60,22,64],[22,99,22,102],[22,68,22,72],[22,73,22,76],[21,91,21,94],[23,73,23,76],[24,86,24,90],[23,40,23,46],[23,49,23,51],[24,53,24,56],[24,60,24,64],[24,99,24,102],[24,95,24,98],[24,91,24,94],[21,73,21,76],[24,68,24,72],[24,81,24,84],[23,99,23,102],[23,91,23,94],[23,95,23,98],[25,73,25,76],[23,77,23,80],[23,81,23,84],[23,53,23,56],[23,60,23,64],[26,53,26,56],[26,60,26,64],[25,77,25,80],[26,86,26,90],[23,86,23,90],[24,29,24,30],[24,31,24,32],[24,33,24,34],[24,40,24,46],[24,35,24,36],[24,49,24,51],[24,37,24,38],[28,91,28,94],[26,91,26,94],[27,91,27,94],[27,49,27,51],[27,53,27,56],[27,60,27,64],[26,68,26,72],[26,73,26,76],[26,77,26,80],[26,81,26,84],[25,49,25,51],[25,95,25,98],[28,77,28,80],[28,81,28,84],[28,86,28,90],[27,68,27,72],[27,73,27,76],[27,77,27,80],[27,81,27,84],[27,86,27,90],[28,68,28,72],[25,91,25,94],[28,60,28,64],[28,49,28,51],[28,53,28,56],[28,73,28,76],[25,60,25,64],[31,18,31,19],[31,20,31,21],[29,40,29,46],[34,14,34,16],[34,18,34,19],[40,7,40,9],[41,7,41,9],[40,13,40,15],[41,36,41,37],[41,32,41,35],[41,29,41,30],[41,19,41,21],[41,10,41,12],[40,16,40,18],[40,10,40,12],[40,19,40,21],[38,60,38,64],[35,53,35,56],[35,60,35,64],[37,53,37,56],[36,60,36,64],[39,40,39,46],[41,22,41,24],[41,49,41,51],[41,53,41,56],[35,11,35,13],[35,14,35,16],[35,18,35,19],[35,20,35,21],[41,60,41,64],[35,29,35,30],[40,22,40,24],[39,49,39,51],[37,67,37,73],[36,75,36,77],[42,93,42,95],[42,19,42,21],[43,40,43,46],[42,32,42,35],[42,22,42,24],[40,29,40,30],[40,40,40,46],[40,49,40,51],[41,85,41,91],[37,49,37,51],[40,79,41,82],[40,75,41,77],[49,77,49,79],[46,29,46,30],[48,87,48,90],[48,91,48,94],[48,95,48,98],[49,87,49,90],[42,40,42,46],[42,75,42,77],[42,97,42,100],[42,53,42,56],[42,79,42,82],[45,92,45,101],[43,60,43,64],[45,36,45,37],[48,99,48,102],[43,53,43,56],[44,36,44,37],[46,99,46,102],[47,91,47,94],[47,99,47,102],[44,32,44,35],[50,80,50,82],[50,63,50,66],[50,68,50,75],[50,77,50,79],[46,36,46,37],[48,50,48,53],[43,67,44,82],[50,95,50,98],[50,47,50,49],[50,50,50,53],[50,55,50,57],[49,99,49,102],[50,99,50,102],[50,29,50,32],[51,80,51,82],[51,83,51,86],[50,83,50,86],[50,87,50,90],[50,91,50,94],[51,91,51,94],[47,95,47,98],[43,49,43,51],[51,95,51,98],[49,54,49,57],[48,83,48,86],[48,77,48,79],[48,56,48,59],[46,95,46,98],[49,83,49,86],[49,80,49,82],[49,68,49,75],[45,77,45,82],[49,91,49,94],[49,95,49,98],[51,68,51,75],[51,87,51,90],[51,77,51,79],[49,62,49,66],[45,57,45,61],[46,69,46,74],[45,84,45,89],[48,80,48,82],[48,62,48,65],[48,68,48,75],[62,87,62,89],[55,83,55,86],[54,95,54,98],[52,87,52,90],[54,83,54,86],[63,16,63,18],[53,25,53,27],[53,29,53,31],[53,68,53,75],[53,77,53,79],[52,77,52,79],[56,19,56,21],[55,35,55,38],[61,13,61,15],[57,22,57,24],[61,36,61,37],[59,22,59,24],[58,19,58,21],[62,22,62,24],[60,19,60,21],[61,19,61,21],[61,16,61,18],[60,16,60,18],[58,13,58,15],[57,13,57,15],[56,13,56,15],[54,55,54,58],[54,43,54,46],[54,47,54,50],[53,33,53,34],[61,68,61,71],[53,36,53,37],[59,10,59,12],[55,13,55,15],[56,10,56,12],[58,61,58,63],[58,52,58,54],[56,22,56,24],[58,22,58,24],[61,29,61,30],[58,44,58,46],[59,7,59,9],[60,7,60,9],[62,19,62,21],[60,22,60,24],[58,7,58,9],[55,16,55,18],[55,7,55,9],[62,16,62,18],[61,22,61,24],[60,39,60,42],[55,31,55,34],[58,39,58,42],[58,16,58,18],[56,48,56,53],[60,36,60,37],[61,10,61,12],[59,19,59,21],[60,29,60,30],[59,13,59,15],[57,25,57,29],[57,31,57,33],[57,35,57,37],[62,29,62,30],[73,35,73,37],[61,63,61,66],[69,32,69,33],[70,32,70,33],[68,32,68,33],[71,32,71,33],[61,7,61,9],[62,10,62,12],[60,10,60,12],[62,7,62,9],[60,13,60,15],[62,13,62,15],[63,10,63,12],[64,19,64,21],[65,13,65,15],[64,16,64,18],[69,10,69,12],[66,13,66,15],[66,16,66,18],[65,19,65,21],[65,7,65,9],[65,10,65,12],[69,13,69,15],[73,29,73,30],[63,13,63,15],[65,16,65,18],[70,7,70,9],[69,22,69,24],[70,22,70,24],[66,29,66,31],[68,13,68,15],[66,19,66,21],[67,67,70,71],[67,79,67,81],[78,39,78,42],[70,72,70,75],[76,62,76,66],[73,95,73,101],[74,96,74,100],[78,87,78,90],[80,78,80,80],[77,62,77,66],[78,67,78,71],[78,57,78,61],[78,72,78,76],[80,68,80,70],[77,77,77,81],[72,62,72,66],[73,53,73,56],[72,43,72,47],[72,48,72,52],[72,53,72,56],[71,53,71,56],[71,43,71,47],[71,48,71,52],[73,57,73,61],[71,57,71,61],[71,62,71,66],[74,87,74,91],[75,57,75,61],[74,57,74,61],[70,101,70,102],[67,53,67,56],[67,62,67,66],[76,96,76,99],[67,43,67,47],[67,48,67,52],[80,48,80,52],[78,99,78,102],[69,39,69,66],[71,67,72,82],[68,76,68,78],[68,82,68,84],[71,83,72,102],[70,97,70,99],[70,91,70,93],[68,91,68,93],[68,100,68,102],[68,57,68,61],[73,48,73,52],[68,88,68,90],[78,95,78,98],[79,97,79,98],[79,39,79,42],[79,43,79,47],[79,48,79,52],[79,53,79,56],[80,39,80,42],[78,43,78,47],[78,48,78,52],[73,77,73,83],[73,86,73,92],[77,57,77,61],[76,87,76,90],[70,88,70,90],[70,79,70,81],[68,94,68,96],[70,77,70,78],[68,43,68,47],[68,48,68,52],[77,48,77,52],[69,25,69,28],[70,25,70,28],[70,29,70,30],[82,43,82,47],[77,39,77,42],[74,48,74,52],[83,29,83,30],[69,29,69,30],[83,39,83,42],[82,39,82,42],[74,29,74,30],[75,29,75,30],[70,83,70,84],[72,57,72,61],[70,62,70,66],[68,53,68,56],[77,43,77,47],[76,43,76,47],[68,39,68,42],[68,72,68,75],[73,62,73,66],[76,78,76,81],[74,77,74,83],[80,35,81,38],[71,35,71,37],[73,25,73,28],[75,32,75,33],[75,35,75,37],[76,39,76,42],[80,25,81,28],[74,39,74,42],[75,43,75,47],[75,48,75,52],[74,43,74,47],[83,22,83,24],[81,32,81,34],[81,39,81,42],[81,43,81,47],[73,32,73,33],[74,0,75,24],[76,2,76,8],[84,22,84,24],[71,7,71,9],[71,16,71,18],[72,7,72,9],[72,0,72,6],[73,16,73,18],[73,19,73,21],[73,7,73,9],[73,10,73,12],[73,13,73,15],[73,22,73,24],[77,2,78,5],[77,6,78,8],[77,9,78,13],[77,14,78,16],[77,17,78,21],[77,22,78,24],[76,9,76,16],[92,32,92,34],[88,28,88,29],[91,61,91,66],[91,35,91,36],[91,37,91,38],[91,39,91,42],[91,43,91,45],[88,44,88,47],[90,64,90,66],[91,46,91,48],[90,44,90,45],[88,61,88,66],[88,50,88,53],[89,32,89,34],[90,61,90,63],[90,46,90,48],[90,50,90,51],[90,58,90,60],[91,28,91,29],[91,30,91,31],[91,32,91,34],[88,32,88,34],[88,30,88,31],[92,39,92,42],[92,43,92,45],[92,46,92,48],[92,49,92,51],[91,52,91,57],[89,39,89,42],[91,49,91,51],[90,52,90,54],[90,39,90,42],[27,99,27,102],[27,95,27,98],[92,52,92,57],[92,61,92,66],[83,62,83,66],[77,53,77,56],[80,62,80,66],[81,57,81,61],[84,62,84,66],[84,53,84,56],[83,48,83,52],[81,53,81,56],[80,88,80,90],[80,82,80,86],[78,91,78,94],[78,62,78,66],[80,73,80,75],[79,101,79,102],[80,100,80,102],[78,77,78,81],[78,82,78,86],[80,92,80,94],[80,96,80,98],[31,91,31,94],[56,99,56,102],[56,83,56,86],[40,97,40,100],[61,80,61,83],[67,88,67,90],[70,94,70,96],[41,93,41,95],[74,53,74,56],[29,99,29,102],[67,82,67,84],[67,97,67,102],[62,81,62,83],[62,75,62,77],[66,76,66,90],[63,74,63,76],[65,73,65,76],[62,68,62,71],[65,88,65,91],[39,97,39,100],[55,99,55,102],[65,93,65,96],[64,68,64,71],[65,68,65,71],[56,87,56,90],[56,91,56,94],[56,95,56,98],[65,98,65,101],[62,93,62,95],[60,85,60,90],[60,91,60,96],[55,87,55,90],[55,91,55,94],[52,99,52,102],[53,99,53,102],[55,68,55,75],[55,77,55,79],[55,80,55,82],[56,68,56,75],[51,99,51,102],[52,91,52,94],[39,75,39,77],[49,58,49,61],[54,68,54,75],[56,80,56,82],[39,60,39,64],[40,60,40,64],[56,77,56,79],[42,85,42,91],[54,87,54,90],[52,95,52,98],[31,95,31,98],[41,97,41,100],[35,98,35,101],[37,97,37,100],[40,93,40,95],[32,99,32,102],[32,91,32,94],[32,95,32,98],[54,91,54,94],[53,91,53,94],[54,99,54,102],[53,83,53,86],[55,95,55,98],[54,80,54,82],[54,77,54,79],[53,95,53,98],[53,80,53,82],[52,80,52,82],[52,83,52,86],[36,97,36,100],[53,87,53,90],[52,68,52,75],[36,85,36,91],[31,99,31,102],[43,83,44,102],[36,67,36,73],[28,95,28,98],[47,68,47,75],[47,77,47,79],[47,80,47,82],[47,83,47,86],[47,87,47,90],[81,67,82,102],[14,67,15,81],[14,82,15,95],[35,75,35,77],[37,85,37,91],[38,85,38,91],[36,79,36,82],[30,95,30,98],[29,95,29,98],[35,86,35,90],[33,67,34,80],[28,99,28,102],[29,91,29,94],[30,91,30,94],[65,78,65,81],[65,83,65,86],[70,85,70,87],[30,99,30,102],[63,84,63,86],[63,89,63,91],[38,97,38,100],[60,97,60,102],[90,55,90,57],[82,57,82,61],[89,61,89,63],[83,53,83,56],[83,57,83,61],[78,53,78,56],[83,43,83,47],[55,55,55,57],[70,43,70,47],[70,53,70,56],[70,48,70,52],[57,61,57,63],[79,57,79,61],[68,62,68,66],[80,57,80,61],[60,63,60,66],[60,59,60,62],[58,58,58,60],[65,53,65,56],[65,57,65,63],[66,39,66,66],[58,55,58,57],[84,39,84,42],[84,43,84,47],[82,48,82,52],[76,48,76,52],[67,57,67,61],[75,39,75,42],[75,62,75,66],[75,53,75,56],[61,39,61,42],[70,57,70,61],[74,32,74,33],[71,29,71,30],[84,48,84,52],[88,72,89,102],[55,63,55,65],[63,94,63,96],[76,53,76,56],[74,62,74,66],[77,91,77,94],[77,82,77,86],[76,69,76,72],[74,68,74,74],[81,48,81,52],[80,43,80,47],[62,99,62,101],[63,99,63,101],[63,19,63,21],[63,22,63,24],[65,22,65,24],[67,22,67,24],[81,22,81,24],[82,22,82,24],[83,32,83,33],[83,36,83,37],[83,26,83,27],[81,29,81,31],[76,32,76,33],[76,35,76,37],[66,32,66,34],[68,25,68,28],[71,25,71,28],[84,57,84,61],[57,67,58,102],[73,43,73,47],[73,39,73,42],[63,0,63,6],[72,10,72,12],[69,7,69,9],[70,10,70,12],[64,10,64,12],[68,29,68,30],[72,25,72,28],[70,19,70,21],[72,32,72,33],[70,35,70,37],[68,35,68,37],[64,0,64,6],[66,7,66,9],[67,7,67,9],[71,22,71,24],[70,16,70,18],[64,7,64,9]],"merged_total":1106,"flags":["merged_cut"]}
[{"$f":"+データ一覧!K2","v":0}]
[{"$f":"+データ一覧!K5","v":0}]
[null,null,null,null,null,null,null,null,null,null,null,null,null,null,null,null,null,null,null,null,null,null,null,null,null,null,null,null,null,null,null,null,null,null,null,null,null,null,null,0]
[null,null,null,null,null,null,null,null,null,null,null,null,null,null,null,null,null,null,null,null,null,null,null,null,null,null,null,"【市章とそのいわれ】カツ山をもって勝山を意味する。                      ",null,null,null,null,null,null,null,null,null,null,null,"  【位置および地勢】勝山市は福井県の北東部に位置し、南東は大野市に、",null,null,null,null,null,null,null,null,null,null,null,null,null,null,null,null,null,null,null,null,null,null,null,null,null,null,null,null,null,null,"所在地",null,null,null,null,null,null,null,"〒911-8501"]
[null,null,null,null,null,null,null,null,null,null,null,null,null,null,null,null,null,null,null,null,null,null,null,null,null,null,null,"                  　福井、大野、金沢の三方面への発展を                                        ",null,null,null,null,null,null,null,null,null,null,null,"                  ","南西は福井市、北西に坂井市、西に永平寺町、北は石川県に隣接し、",null,null,null,null,null,null,null,null,null,null,null,null,null,null,null,null,null,null,null,null,null,null,null,null,null,null,null,null,null,null,null,null,null,null,null,null,null,"勝山市元町１丁目１番１号"]
[{"$f":"+データ一覧!K3","v":"かつやまし"},null,null,null,null,null,null,null,null,null,null,null,null,null,null,null,null,null,null,null,null,null,null,null,null,null,null,"                 　 三角の各頂点であらわし、丸は和合、                                     ",null,null,null,null,null,null,null,null,null,null,null,"  ","市の周辺は1,000m級の山々に囲まれ、中心部は県下最大河川 である九頭竜川の"]
[{"$f":"データ一覧!K6","v":"勝山市"},null,null,null,null,null,null,null,null,null,null,null,null,null,null,null,null,null,null,null,null,null,null,null,null,null,null,"                 　 三角は、どっしりとした安定性を意味",null,null,null,null,null,null,null,null,null,null,null," ","中流域に位置している。",null,null,null,null,null,null,null,null,null,null,null,null,null,null,null,null,null,null,null,null,null,null,null,null,null,null,null,null,null,"電話番号",null,null,null,null,null,null,null,"（０７７９）８８－１１１１"]
[null,null,null,null,null,null,null,null,null,null,null,null,null,null,null,null,null,null,null,null,null,null,null,null,null,null,null,"              　    し、三角と丸を組み合わせて勝山市と",null,null,null,null,null,null,null,null,null,null,null," ","市街地は九頭竜川の流れに沿って形成された河岸段丘に位置しており、",null,null,null,null,null,null,null,null,null,null,null,null,null,null,null,null,null,null,null,null,null,null,null,null,null,null,null,null,null,"FAX番号",null,null,null,null,null,null,null,"     〃     ８８－１１１９"]
[null,null,null,null,null,null,null,null,null,null,null,null,null,null,null,null,null,null,null,null,null,null,null,null,null,null,null,"            　      しての将来の発展を意味する。",null,null,null,null,null,null,null,null,null,null,null,"  ","明治以来の地場産業である繊維産業を中心とした商工業、古くから盛んな"]
[null,null,null,null,null,null,null,null,null,null,null,null,null,null,null,null,null,null,null,null,null,null,null,null,null,null,null,0,null,null,null,null,null,null,null,null,null,null,null," ","農林業を基幹産業とする水と緑の豊かな田園都市である。",null,null,null,null,null,null,null,null,null,null,null,null,null,null,null,null,null,null,null,null,null,null,null,null,null,null,null,null,null,"最寄駅および距離",null,null,null,null,null,null,null,"えちぜん鉄道勝山永平寺線勝山駅　下車１ｋｍ"]
[null,null,null,null,null,null,null,null,null,null,null,null,null,null,null,null,null,null,null,null,null,null,null,null,null,null,null,0]
[]
[null,null,null,null,null,null,null,null,null,null,null,null,null,null,null,null,null,null,null,null,null,null,null,null,null,null,null,"【市が掲げる標語】わいわい　わくわく　安全安心のまち　かつやま",null,null,null,null,null,null,null,null,null,null,null,null,null,null,null,null,null,null,null,null,null,null,null,null,null,null,null,null,null,null,null,null,null,null,null,null,null,null,null,null,null,null,"ホームページ",null,null,null,null,null,null,null,"https://www.city.katsuyama.fukui.jp/"]
[]
["  １  土            　　地",null,null,null,null,null,null,null,null,null,null,null,null,null,null,null,null,null,null,null,null,null,null,null,null,{"$f":"データ一覧!$A$240","v":"5年"},"産米収穫量",null,null,"　 収　穫　量",null,null," 　作 付 面 積",null,null,"   10a当たり収量",null,null,null,null,null,null,null,null,null,null,null,null,null,null,null,null,null,null,null,null,null,null,null,null,null,null,null,null,null,null,null," １５  労　　　　　　　働",null,null,null,null,null,null,null,null,null,null,null,null,null,null,"2.10.1"]
[null,null,null,null,null,null,null,null,null,null,null,null,null,null,null,null,null,null,null,null,null,null,null,null,null,null,null,null,null,{"$f":"データ一覧!$K$240","v":5150},null,"t",{"$f":"データ一覧!$K$241","v":1050},null,"ha",{"$f":"データ一覧!K242","v":490},null,null,"kg"," １０  工　　　　　　業 ",null,null,null,null,null,null,null,null,null,null,null,null,null,{"$f":"データ一覧!$A$332","v":"4.6.1（令和3年実績）"}]
["   総          面           積",null,null,null,null,null,null,null,null,null," 固 定 資 産 概 要 調 書 に よ る 地 目 別 面 積",null,null,null,null,null,null,null,null,null,null,null,null,null,null,null,null,null,"   総　　　数",null,null,null,"うち　　田",null,null,null,"うち　　畑",null,null,null,null,null,null,null,null,null,null,null,null,null,null,null,null,null,null,null,null,null,null,null,null,null,null,null,null,null,null,null,null,null,null,null,null,null,"産業別就業者数   "]
[null,null,{"$f":"データ一覧!$A$7","v":"6.10.1"},null,null,null,null,null,null,null,null,null,null,null,null,null,{"$f":"データ一覧!$A$9","v":"6.1.1"},null,null,null,null,null,null,null,null," 耕  地  面  積",null,null,null,"       ha",null,null,"ha ",null,null,null,"ha ",null,null,"      ","産業分類",null,null,null,null,null,null,null,"事業所数",null,null,null,null,"従業者数",null,null,null,null,null,"年間製造品出荷額等",null,null,null,null,null,null,null,null,"区  分",null,null,null,null,"総    数",null,null,null,null,"男",null,null,null,"女",null,null,"  ","区  分",null,null,null,null,"総    数",null,null,null,null,"男",null,null,null,"女"]
[null,null,null,null,null,null,"㎢",null,null,null,"   総       数",null,null,null,null,"  う ち     田",null,null,null,null,"  う ち     畑",null,null,null,null,{"$f":"データ一覧!A243","v":"5.7.15"},null,null,{"$f":"データ一覧!$K$243","v":1900},null,null,{"$f":"データ一覧!$K$244","v":1750},null,null,null,{"$f":"データ一覧!$K$245","v":145},null,null,null,null,null,null,null,null,null,null,null,null,"　　   ",null,null,"事業所",null,"　　　　　　　 人",null,null,"人",null,"　　　　　　　　　　　　　　万円",null,null,null,null,null,null,"万円",null,null,null,null,null,null,null,"      人",null,null,null,null,null," 人",null,null,null," 人",null,null,null,null,null,null,null,"      人",null,null,null,"      人",null,null,null,"      人"]
[null,null,null,{"$f":"データ一覧!K7","v":253.88},null,null,null,null,null,null,null,null,null,null,"ha",null,null,null,null,"ha",null,null,null,null,"ha","農 業 生 産 物",null,null,null,"作 付 面 積",null,null,"収 穫 量",null,null,"10a当たり収量",null,null,null,"     ","総数",null,null,null,null,null,null,null,null,{"$f":"データ一覧!K332","v":65},null,null,null,{"$f":"+データ一覧!K357","v":2369},null,null,null,null,null,null,{"$f":"データ一覧!K382","v":6215077},null,null,null,null,null,null," 総　　　数",null,null,null,null,null,{"$f":"BZ20+CD20","v":11491},null,null,null,{"$f":"データ一覧!K507","v":5984},null,null,null,{"$f":"データ一覧!K532","v":5507}]
[null,null,null,null,null,null,null,null,null,null,null,{"$f":"データ一覧!K9","v":20781.900000000001},null,null,null,null,{"$f":"データ一覧!K10","v":1899.8},null,null,null,null,{"$f":"データ一覧!K11","v":135.5},null,null,null,{"$f":"データ一覧!$A$246","v":"5年産"},null,null,null,"ha",null,null,"t",null,null,"kg",null,null,null,"     食料品","食料品",null,null,null,null,null,null,null,null,{"$f":"データ一覧!K333","v":3},null,null,null,{"$f":"+データ一覧!K358","v":80},null,null,null,null,null,null,{"$f":"データ一覧!K383","v":116694},null,null,null,null,null,null,null,null,null,null,null,null,null,null,null,null,null,null,null,null,null,null,null,null,null,"卸売業,小売業",null,null,null,null,{"$f":"CR21+CV21","v":1424},null,null,null,{"$f":"データ一覧!K520","v":723},null,null,null,{"$f":"データ一覧!K545","v":701}]
["  町 ･ 丁 ･ 大 字",null,null,null,null,null,null,null,null,null,"  う ち  宅 地",null,null,null,null,"  う ち  山 林",null,null,null,null,"  う ち  原 野",null,null,null,null,"水　　　　　稲",null,null,null,{"$f":"データ一覧!K246","v":1050},null,null,{"$f":"データ一覧!K247","v":5150},null,null,{"$f":"データ一覧!K248","v":490},null,null,null,"     飲料・飼料","飲料・飼料",null,null,null,null,null,null,null,null,{"$f":"データ一覧!K334","v":1},null,null,null,{"$f":"+データ一覧!K359","v":42},null,null,null,null,null,null,{"$f":"データ一覧!K384","v":"x"},null,null,null,null,null,null," 第１次産業",null,null,null,null,null,{"$f":"BZ22+CD22","v":599},null,null,null,{"$f":"データ一覧!K508","v":412},null,null,null,{"$f":"データ一覧!K533","v":187},null,null,null,null,"金融業,保険業",null,null,null,null,{"$f":"CR22+CV22","v":196},null,null,null,{"$f":"データ一覧!K521","v":77},null,null,null,{"$f":"データ一覧!K546","v":119}]
["  区    画    数",null,null,null,null,null,null,{"$f":"データ一覧!K8","v":118},null,null,null,null,null,null,"ha",null,null,null,null,"ha",null,null,null,null,"ha","六　条　大　麦",null,null,null,{"$f":"データ一覧!K249","v":262},null,null,{"$f":"データ一覧!K250","v":571},null,null,{"$f":"データ一覧!K251","v":218},null,null,null,"     繊維","繊維",null,null,null,null,null,null,null,null,{"$f":"データ一覧!K335","v":34},null,null,null,{"$f":"+データ一覧!K360","v":1162},null,null,null,null,null,null,{"$f":"データ一覧!K385","v":1218072},null,null,null,null,null,null,"  ","農業",null,null,null,null,{"$f":"BZ23+CD23","v":547},null,null,null,{"$f":"データ一覧!K509","v":363},null,null,null,{"$f":"データ一覧!K534","v":184},null,null,null,"  ","不動産業",null,null,null,null,51,null,null,null,{"$f":"データ一覧!K522","v":30},null,null,null,{"$f":"データ一覧!K547","v":21}]
[{"$f":"データ一覧!$A$8","v":"5.4.1"},null,null,null,null,null,null,null,null,null,null,{"$f":"データ一覧!K12","v":603.4},null,null,null,null,{"$f":"データ一覧!K13","v":9280.1},null,null,null,null,{"$f":"データ一覧!K14","v":335.5},null,null,null,"大　　      豆",null,null,null,{"$f":"データ一覧!K252","v":11},null,null,{"$f":"データ一覧!K253","v":11},null,null,{"$f":"データ一覧!K254","v":96},null,null,null,"     衣服","木材",null,null,null,null,null,null,null,null,{"$f":"データ一覧!K336","v":0},null,null,null,{"$f":"+データ一覧!K361","v":0},null,null,null,null,null,null,{"$f":"データ一覧!K386","v":0},null,null,null,null,null,null,"  ","林業",null,null,null,null,51,null,null,null,{"$f":"データ一覧!K510","v":49},null,null,null,{"$f":"データ一覧!K535","v":2},null,null,null,"  ","学術研究",null,null,null,null,184,null,null,null,{"$f":"データ一覧!K523","v":111},null,null,null,{"$f":"データ一覧!K548","v":73}]
["  ２  世　帯　数　と　人　口",null,null,null,null,null,null,null,null,null,null,null,null,null,null,null,null,null,null,null,null,null,null,null,null,null,null,"  区　分",null," 乳 用 牛",null," 肉 用 牛",null,"豚",null,"採卵鶏",null,"ブロイラー",null,"     木材","家具",null,null,null,null,null,null,null,null,{"$f":"データ一覧!K337","v":2},null,null,null,{"$f":"+データ一覧!K362","v":26},null,null,null,null,null,null,{"$f":"データ一覧!K387","v":"x"},null,null,null,null,null,null,"  ","漁業",null,null,null,null,1,null,null,null,{"$f":"データ一覧!K511","v":"-"},null,null,null,{"$f":"データ一覧!K536","v":1},null,null,null,"  ","宿泊業,飲食ｻｰﾋﾞｽ",null,null,null,null,506,null,null,null,{"$f":"データ一覧!K524","v":201},null,null,null,{"$f":"データ一覧!K549","v":305}]
[null,null,null,null,null,null,null,null,null,null,null,null,null,null,null,null,null,null,null,null,null,null,null,null,null,"畜　産",null," 飼養農家",null,{"$f":"データ一覧!$K$255","v":3},null,{"$f":"データ一覧!$K$257","v":2},null,{"$f":"データ一覧!$K$259","v":0},null,{"$f":"データ一覧!$K$261","v":1},null,{"$f":"データ一覧!$K$263","v":0},null,"     家具","パルプ・紙",null,null,null,null,null,null,null,null,{"$f":"データ一覧!K338","v":0},null,null,null,{"$f":"+データ一覧!K363","v":0},null,null,null,null,null,null,{"$f":"データ一覧!K388","v":0},null,null,null,null,null,null," 第２次産業",null,null,null,null,null,3818,null,null,null,{"$f":"データ一覧!K512","v":2396},null,null,null,{"$f":"データ一覧!K537","v":1422},null,null,null,"  ","生活関連ｻｰﾋﾞｽ業",null,null,null,null,337,null,null,null,{"$f":"データ一覧!K525","v":110},null,null,null,{"$f":"データ一覧!K550","v":227}]
[null,null,null,null,null,null,null,null,"        人　　　　　　　　　　口",null,null,null,null,null,null,null,null,null,null,null,"１世帯当",null,"人    口",null,null,{"$f":"データ一覧!$A$255","v":"6.3.31"},null,"（戸）",null,null,null,null,null,null,null,null,null,null,null,"     パルプ・紙","印刷",null,null,null,null,null,null,null,null,{"$f":"データ一覧!K339","v":2},null,null,null,{"$f":"+データ一覧!K364","v":27},null,null,null,null,null,null,{"$f":"データ一覧!K389","v":"x"},null,null,null,null,null,null,null,"鉱業，採石業",null,null,null,null,6,null,null,null,{"$f":"データ一覧!K513","v":5},null,null,null,{"$f":"データ一覧!K538","v":1},null,null,null,"  ","教育,学習支援業",null,null,null,null,591,null,null,null,{"$f":"データ一覧!K526","v":209},null,null,null,{"$f":"データ一覧!K551","v":382}]
[" 区　　　　分",null,null,null,null,"世帯数",null,null," 総   数",null,null,"    男",null,null,"    女",null,null,"  男／女",null,null,"たり人員",null,"密    度",null,null,null,null," 頭 羽",null,{"$f":"データ一覧!$K$256","v":128},null,{"$f":"データ一覧!$K$258","v":5},null,{"$f":"データ一覧!$K$260","v":0},null,{"$f":"データ一覧!$K$262","v":115},null,{"$f":"データ一覧!$K$264","v":0},null,"     出版・印刷","化学",null,null,null,null,null,null,null,null,{"$f":"データ一覧!K340","v":1},null,null,null,{"$f":"+データ一覧!K365","v":310},null,null,null,null,null,null,{"$f":"データ一覧!K390","v":"x"},null,null,null,null,null,null,"  ","建設業",null,null,null,null,1019,null,null,null,{"$f":"データ一覧!K514","v":862},null,null,null,{"$f":"データ一覧!K539","v":157},null,null,null,null,"医療，福祉",null,null,null,null,1675,null,null,null,{"$f":"データ一覧!K527","v":346},null,null,null,{"$f":"データ一覧!K552","v":1329}]
[null,null,null,null,null,"    世 帯",null,null,"       人",null,null,"       人",null,null,"       人",null,null,null,"　　％",null,"    人",null,"    人/㎢",null,null,null,null,null,null,null,null,null,null,null,null,null,null,null,null,"     化学","石油・石炭",null,null,null,null,null,null,null,null,{"$f":"データ一覧!K341","v":0},null,null,null,{"$f":"+データ一覧!K366","v":0},null,null,null,null,null,null,{"$f":"データ一覧!K391","v":0},null,null,null,null,null,null,null,"製造業",null,null,null,null,2793,null,null,null,{"$f":"データ一覧!K515","v":1529},null,null,null,{"$f":"データ一覧!K540","v":1264},null,null,null,null,"複合サービス事業",null,null,null,null,151,null,null,null,{"$f":"データ一覧!K528","v":83},null,null,null,{"$f":"データ一覧!K553","v":68}]
[{"$f":"データ一覧!$A$22","v":" 2.10.1"},null,null,null,null,{"$f":"データ一覧!K22","v":7701},null,null,{"$f":"+L30+O30","v":29805},null,null,{"$f":"データ一覧!K24","v":14400},null,null,{"$f":"データ一覧!K25","v":15405},null,null,null,{"$f":"+L30/O30*100","v":93.476144109055497},null,{"$f":"データ一覧!K27","v":3.87},null,{"$f":"データ一覧!K28","v":117.5},null,null,"  ５  林               業",null,null,null,null,null,null,null,null,null,null,null,null,null,"     石油・石炭","プラスチック",null,null,null,null,null,null,null,null,{"$f":"データ一覧!K342","v":1},null,null,null,{"$f":"+データ一覧!K367","v":6},null,null,null,null,null,null,{"$f":"データ一覧!K392","v":"x"},null,null,null,null,null,null," 第３次産業",null,null,null,null,null,6654,null,null,null,{"$f":"データ一覧!K516","v":2966},null,null,null,{"$f":"データ一覧!K541","v":3688},null,null,null,null,"サービス業",null,null,null,null,578,null,null,null,{"$f":"データ一覧!K529","v":360},null,null,null,{"$f":"データ一覧!K554","v":218}]
[{"$f":"データ一覧!$A$29","v":" 7.10.1"},null,null,null,null,{"$f":"データ一覧!K29","v":7733},null,null,{"$f":"+L31+O31","v":29162},null,null,{"$f":"データ一覧!K31","v":14033},null,null,{"$f":"データ一覧!K32","v":15129},null,null,null,92.755634873421911,null,{"$f":"データ一覧!K34","v":3.77},null,{"$f":"データ一覧!K35","v":115},null,null,null,null,null,null,null,null,null,null,null,null,null,null,null,null,"     プラスチック","ゴム",null,null,null,null,null,null,null,null,{"$f":"データ一覧!K343","v":0},null,null,null,{"$f":"+データ一覧!K368","v":0},null,null,null,null,null,null,{"$f":"データ一覧!K393","v":0},null,null,null,null,null,null,null,"電気･ｶﾞｽ･水道業",null,null,null,null,48,null,null,null,{"$f":"データ一覧!K517","v":42},null,null,null,{"$f":"データ一覧!K542","v":6},null,null,null,null,"公務",null,null,null,null,395,null,null,null,{"$f":"データ一覧!K530","v":264},null,null,null,{"$f":"データ一覧!K555","v":131}]
[{"$f":"データ一覧!$A$36","v":"12.10.1"},null,null,null,null,{"$f":"データ一覧!K36","v":7942},null,null,{"$f":"+L32+O32","v":28143},null,null,{"$f":"データ一覧!K38","v":13391},null,null,{"$f":"データ一覧!K39","v":14752},null,null,null,90.774132321041208,null,{"$f":"データ一覧!K41","v":3.54},null,{"$f":"データ一覧!K42","v":110.9},null,null,"    　森　　　林　　　総　　　面　　　積   ",null,null,null,null,null,null,null,{"$f":"データ一覧!$A$265","v":"5.3.31"},null,null,null,null,null,"     ゴム","皮革",null,null,null,null,null,null,null,null,{"$f":"データ一覧!K344","v":0},null,null,null,{"$f":"+データ一覧!K369","v":0},null,null,null,null,null,null,{"$f":"データ一覧!K394","v":0},null,null,null,null,null,null,null,"情報通信業",null,null,null,null,126,null,null,null,{"$f":"データ一覧!K518","v":89},null,null,null,{"$f":"データ一覧!K543","v":37},null,null,null," 分類不能の産業",null,null,null,null,null,420,null,null,null,{"$f":"データ一覧!K531","v":210},null,null,null,{"$f":"データ一覧!K556","v":210}]
[{"$f":"+データ一覧!$A$43","v":"17.10.1"},null,null,null,null,{"$f":"データ一覧!K43","v":7990},null,null,{"$f":"+L33+O33","v":26961},null,null,{"$f":"データ一覧!K45","v":12777},null,null,{"$f":"データ一覧!K46","v":14184},null,null,null,90.080372250423011,null,{"$f":"データ一覧!K48","v":3.37},null,{"$f":"データ一覧!K49","v":106.3},null,null,"　　　森　　　　　　　林　　　　　　　の　　　　　　　構　　　　　　　成",null,null,null,null,null,null,null,null,null,null,null,null,null,"     皮革","窯業・土石",null,null,null,null,null,null,null,null,{"$f":"データ一覧!K345","v":3},null,null,null,{"$f":"+データ一覧!K370","v":43},null,null,null,null,null,null,{"$f":"データ一覧!K395","v":144179},null,null,null,null,null,null,"  ","運輸業,郵便業",null,null,null,null,{"$f":"BZ33+CD33","v":392},null,null,null,{"$f":"データ一覧!K519","v":321},null,null,null,{"$f":"データ一覧!K544","v":71}]
[{"$f":"+データ一覧!$A$50","v":"22.10.1"},null,null,null,null,{"$f":"+データ一覧!K50","v":7773},null,null,{"$f":"+L34+O34","v":25466},null,null,{"$f":"+データ一覧!K52","v":12072},null,null,{"$f":"+データ一覧!K53","v":13394},null,null,null,90.129908914439312,null,{"$f":"+データ一覧!K55","v":3.28},null,{"$f":"+データ一覧!K56","v":100.4},null,null,null,null,null,null,null,"       ha",null,null,null,null,null,null,"       ha",null,"     窯業・土石","鉄鋼",null,null,null,null,null,null,null,null,{"$f":"データ一覧!K346","v":2},null,null,null,{"$f":"+データ一覧!K371","v":82},null,null,null,null,null,null,{"$f":"データ一覧!K396","v":"x"},null,null,null,null,null,null," １６  社　 会 　福　 祉",null,null,null,null,null,null,null,null,null,null,null,null,null,null,null,{"$f":"データ一覧!$A$557","v":"6.4.1"}]
[{"$f":"データ一覧!$A$57","v":"27.10.1"},null,null,null,null,{"$f":"データ一覧!K57","v":7703},null,null,{"$f":"データ一覧!K58","v":24125},null,null,{"$f":"データ一覧!K59","v":11478},null,null,{"$f":"データ一覧!K60","v":12647},null,null,null,90.756701193959046,null,{"$f":"データ一覧!K62","v":3.1318966636375438},null,{"$f":"データ一覧!K63","v":95},null,null,"  総　　　　　   数",null,null,null,{"$f":"データ一覧!K265","v":20184.689999999999},null,null," 天然林       針葉樹",null,null,null,{"$f":"データ一覧!K268","v":220.34},null,null,"     鉄鋼","非鉄金属",null,null,null,null,null,null,null,null,{"$f":"データ一覧!K347","v":1},null,null,null,{"$f":"+データ一覧!K372","v":7},null,null,null,null,null,null,{"$f":"データ一覧!K397","v":"x"}]
["令　2.10.1（国調）",null,null,null,null,{"$f":"データ一覧!K64","v":7524},null,null,{"$f":"データ一覧!K65","v":22150},null,null,{"$f":"データ一覧!K66","v":10581},null,null,{"$f":"データ一覧!K67","v":11569},null,null,null,{"$f":"+L36/O36*100","v":91.459936035958165},null,{"$f":"データ一覧!K69","v":2.9439128123338651},null,{"$f":"データ一覧!K70","v":87.245942965180404},null,null,"  人工林     針葉樹",null,null,null,{"$f":"データ一覧!K266","v":7906.53},null,null," 天然林       広葉樹",null,null,null,{"$f":"データ一覧!K269","v":11069.77},null,null,"     非鉄金属","金属",null,null,null,null,null,null,null,null,{"$f":"データ一覧!K348","v":2},null,null,null,{"$f":"+データ一覧!K373","v":81},null,null,null,null,null,null,{"$f":"データ一覧!K398","v":"x"},null,null,null,null,null,null,"    ","区分",null,null,null,null,null,null,"施設数",null,null,null,null,"収容定員",null,null,null,null,null,"区分",null,null,null,null,null,null,"施設数",null,null,null,null,"収容定員"]
["年",null,"  区",null," 0歳",null,null,"15歳",null,null,"25歳",null,null,"35歳",null,null,"45歳",null,null,"55歳",null,null,"65歳",null,null,"  人工林     広葉樹",null,null,null,{"$f":"データ一覧!K267","v":222.27},null,null," 竹               林",null,null,null,{"$f":"データ一覧!K270","v":9.4},null,null,"     金属","はん用機械",null,null,null,null,null,null,null,null,{"$f":"データ一覧!K349","v":1},null,null,null,{"$f":"+データ一覧!K374","v":5},null,null,null,null,null,null,{"$f":"データ一覧!K399","v":"x"},null,null,null,null,null,null,"生活保護施設",null,null,null,null,null,null,null,{"$f":"データ一覧!K557","v":"-"},null,null,null,{"$f":"データ一覧!K570","v":"-"},null,null,null,"人",null,"指定障害者支援施設",null,null,null,null,null,null,null,{"$f":"データ一覧!K563","v":4},null,null,null,{"$f":"データ一覧!K576","v":215},null,null,null,"人"]
["齢","令",null,null,null,"～",null,null,"～",null,null,"～",null,null,"～",null,null,"～",null,null,"～",null,null,null,null,null,null,null,null,null,null,null,null,null,null,null,null,null,null,"     一般機械","生産用機械",null,null,null,null,null,null,null,null,{"$f":"データ一覧!K350","v":3},null,null,null,{"$f":"+データ一覧!K375","v":25},null,null,null,null,null,null,{"$f":"データ一覧!K400","v":36722},null,null,null,null,null,null,"地域福祉施設",null,null,null,null,null,null,null,{"$f":"データ一覧!K558","v":"-"},null,null,null,{"$f":"データ一覧!K571","v":"-"},null,null,null,null,null,"指定相談支援事業所",null,null,null,null,null,null,null,{"$f":"データ一覧!K564","v":"-"},null,null,null,{"$f":"データ一覧!K577","v":"-"}]
["階",{"$f":"+LEFT(データ一覧!$A$83,1)","v":"6"},"  分",null,null,null,"14歳",null,null,"24歳",null,null,"34歳",null,null,"44歳",null,null,"54歳",null,null,"64歳",null,null,"以上","    林     野     の     構     成",null,null,null,null,null,null,"保     有     形     態     別",null,null,null,null,null,null,"     電気機械","業務用機械",null,null,null,null,null,null,null,null,{"$f":"データ一覧!K351","v":0},null,null,null,{"$f":"+データ一覧!K376","v":0},null,null,null,null,null,null,{"$f":"データ一覧!K401","v":0},null,null,null,null,null,null,"老人福祉施設",null,null,null,null,null,null,null,{"$f":"データ一覧!K559","v":5},null,null,null,{"$f":"データ一覧!K572","v":76},null,null,null,null,null,"児童福祉施設",null,null,null,null,null,null,null,{"$f":"データ一覧!K565","v":11},null,null,null,{"$f":"データ一覧!K578","v":764}]
["級","・",null,null,null,null,"人",null,null,"人",null,"    人",null,null,"    人",null,null,"    人",null,null,"    人",null,null,"    人",null,null,null,null,null,null,null,"ha",null,null,null,null,null,"       ha",null,null,"電子・デバイス",null,null,null,null,null,null,null,null,{"$f":"データ一覧!K352","v":2},null,null,null,{"$f":"+データ一覧!K377","v":57},null,null,null,null,null,null,{"$f":"データ一覧!K402","v":"x"},null,null,null,null,null,null,"介護保険施設",null,null,null,null,null,null,null,{"$f":"データ一覧!K560","v":40},null,null,null,{"$f":"データ一覧!K573","v":827},null,null,null,null,null,"母子福祉施設",null,null,null,null,null,null,null,{"$f":"データ一覧!K566","v":"-"},null,null,null,{"$f":"データ一覧!K579","v":"-"}]
["別",{"$f":"+MID(データ一覧!$A$83,3,2)","v":"10"},"総 数",null,{"$f":"+E42+E43","v":2086},null,null,{"$f":"+H42+H43","v":1656},null,null,{"$f":"+K42+K43","v":1347},null,null,{"$f":"+N42+N43","v":2021},null,null,{"$f":"+Q42+Q43","v":2622},null,null,{"$f":"+T42+T43","v":2592},null,null,{"$f":"+W42+W43","v":8205},null,null," 無立木地   伐採跡地",null,null,null,{"$f":"データ一覧!K271","v":27.17},null,null,"国   　　　 　 有",null,null,null,{"$f":"データ一覧!K273","v":2002.02},null,null,null,"電気機械",null,null,null,null,null,null,null,null,{"$f":"データ一覧!K353","v":2},null,null,null,{"$f":"+データ一覧!K378","v":123},null,null,null,null,null,null,{"$f":"データ一覧!K403","v":"x"},null,null,null,null,null,null,"障害者自立支援法施行前からの身体障害者福祉施設",null,null,null,null,null,null,null,{"$f":"データ一覧!K561","v":"-"},null,null,null,{"$f":"データ一覧!K574","v":"-"},null,null,null,null,null,"婦人保護施設",null,null,null,null,null,null,null,{"$f":"データ一覧!K567","v":"-"},null,null,null,{"$f":"データ一覧!K580","v":"-"}]
["人","・","  男",null,{"$f":"データ一覧!K83","v":1062},null,null,{"$f":"データ一覧!K84","v":848},null,null,{"$f":"データ一覧!K85","v":692},null,null,{"$f":"データ一覧!K86","v":1025},null,null,{"$f":"データ一覧!K87","v":1336},null,null,{"$f":"データ一覧!K88","v":1238},null,null,{"$f":"データ一覧!K89","v":3600},null,null," 無立木地   未立木地",null,null,null,{"$f":"データ一覧!K272","v":729.21},null,null,"公       　　  有",null,null,null,{"$f":"データ一覧!K274","v":4132.22},null,null,"     輸送機械","情報通信機械",null,null,null,null,null,null,null,null,{"$f":"データ一覧!K354","v":0},null,null,null,{"$f":"+データ一覧!K379","v":0},null,null,null,null,null,null,{"$f":"データ一覧!K404","v":0},null,null,null,null,null,null,null,null,null,null,null,null,null,null,null,null,null,null,null,null,null,null,null,null,"その他の社会福祉施設",null,null,null,null,null,null,null,{"$f":"データ一覧!K568+データ一覧!K569","v":0},null,null,null,0]
["口",{"$f":"+RIGHT(データ一覧!$A$83,1)","v":"1"},"  女",null,{"$f":"データ一覧!K91","v":1024},null,null,{"$f":"データ一覧!K92","v":808},null,null,{"$f":"データ一覧!K93","v":655},null,null,{"$f":"データ一覧!K94","v":996},null,null,{"$f":"データ一覧!K95","v":1286},null,null,{"$f":"データ一覧!K96","v":1354},null,null,{"$f":"データ一覧!K97","v":4605},null,null,null,null,null,null,null,null,null,"私          　 有",null,null,null,{"$f":"データ一覧!K275","v":14050.45},null,null,"     精密機械","輸送機械",null,null,null,null,null,null,null,null,{"$f":"データ一覧!K355","v":4},null,null,null,{"$f":"+データ一覧!K380","v":283},null,null,null,null,null,null,{"$f":"データ一覧!K405","v":896930},null,null,null,null,null,null,"障害福祉サービス事業所",null,null,null,null,null,null,null,{"$f":"データ一覧!K562","v":20},null,null,null,{"$f":"データ一覧!K575","v":239}]
[null,null,null,null,null,null,null,null,null,null,null,null,null,null,null,null,null,null,null,null,null,null,null,null,null,"            林     産     物     生     産     量 ",null,null,null,null,null,null,null,null,null,{"$f":"データ一覧!$A$276","v":"5年中"},null,null,null,"     その他","その他",null,null,null,null,null,null,null,null,{"$f":"データ一覧!K356","v":1},null,null,null,{"$f":"+データ一覧!K381","v":10},null,null,null,null,null,null,{"$f":"データ一覧!K406","v":"x"},null,null,null,null,null,null," １７  教　　　　　　　育",null,null,null,null,null,null,null,null,null,null,null,null,null,null,null,{"$f":"データ一覧!$A$583","v":"6.5.1"}]
["人口動態",null,null,null,null,null,null,"   自　然　動　態",null,null,null,null,null,"   社  会  動  態",null,null,null,null,null,{"$f":"データ一覧!$A78","v":"5.1.1～5.12.31"},null,null,null,null,null,"生椎茸",null,null,null,{"$f":"データ一覧!K276","v":0},null,"㎏","乾椎茸",null,null,null,{"$f":"データ一覧!K277","v":0},null,"㎏"]
[null,null,"   区       分",null,null,null,null," 出   生",null,null," 死   亡",null,null," 転   入",null,null," 転   出",null,null," 婚   姻",null,null," 離   婚",null,null,"えのきだけ",null,null,null,{"$f":"データ一覧!K279","v":0},null,"㎏","なめこ",null,null,null,{"$f":"データ一覧!K278","v":0},null,"㎏","    ","工　業　用　水　量",null,null,null,null,null,"（従業者30人以上の事業所）",null,null,null,null,null,null,null,null,null,null,{"$f":"データ一覧!K407","v":6705},null,null,null,null,"㎥／日",null,null,null,null,null,null,null,null,null,null,null,null,null,null,"学校数（校）",null,null,null,null,null,null,"教員数（人）",null,null,null,null,null,null,null,"学生・生徒・児童数（人）"]
[{"$f":"LEFT(データ一覧!$A74,6)","v":"5.10.1"},null,null,null,null,null,null,"       人",null,null,"       人",null,null,"       人",null,null,"       人",null,null,null,"    件",null,null,"    件",null,"ひらたけ",null,null,null,{"$f":"+データ一覧!K280","v":0},null,"㎏","まいたけ",null,null,null,{"$f":"+データ一覧!K281","v":114912},null,"㎏",null,null,null,null,null,null,null,null,null,null,null,null,null,null,null,null,null,null,null,null,null,null,null,null,null,null,null,null,null,"　","区分",null,null,null,null,null,null,null," 本 校",null,null," 分 校",null,null," 本   務",null,null,null," 兼   務",null,null,null," 総   数",null,null,null,"男",null,null,null,"女"]
["～",null," 実          数",null,null,null,null,{"$f":"データ一覧!K74","v":87},null,null,{"$f":"データ一覧!K75","v":337},null,null,{"$f":"データ一覧!K76","v":375},null,null,{"$f":"データ一覧!K77","v":526},null,null,{"$f":"データ一覧!K78","v":53},null,null,{"$f":"データ一覧!K79","v":19},null,null,null,null,null,null,null,null,null,null,null,null,null,null,null,null," １１ 　上　・　下　水　道",null,null,null,null,null,null,null,null,null,null,null,null,null,null,null,null,null,null,null,null,null,null,null,null,null,null,null,null,"小学校",null,null,null,null,null,null,null,null,{"$f":"データ一覧!K584","v":10},null,null,{"$f":"データ一覧!K585","v":0},null,null,{"$f":"データ一覧!K586","v":119},null,null,null,{"$f":"データ一覧!K587","v":24},null,null,null,{"$f":"データ一覧!K588","v":955},null,null,null,{"$f":"データ一覧!K589","v":496},null,null,null,{"$f":"データ一覧!K590","v":459}]
[{"$f":"RIGHT(データ一覧!$A76,6)","v":"6.9.30"},null,"比率(対1,000人)",null,null,null,null,{"$f":"+H48/I36*1000","v":3.9277652370203162},null,null,{"$f":"+K48/I36*1000","v":15.214446952595937},null,null,"- ",null,null,"- ",null,null,{"$f":"+T48/I36*1000","v":2.3927765237020315},null,null,{"$f":"+W48/I36*1000","v":0.85778781038374718},null,null,"  ６  漁               業",null,null,null,null,null,null,null,null,null,null,null,null,null,null,null,null,null,null,null,null,null,null,null,null,null,null,null,null,null,null,null,null,null,null,null,null,null,null,null,null,null,"  ","中学校",null,null,null,null,null,null,null,null,{"$f":"データ一覧!K592","v":4},null,null,{"$f":"データ一覧!K593","v":0},null,null,{"$f":"データ一覧!K594","v":63},null,null,null,{"$f":"データ一覧!K595","v":11},null,null,null,{"$f":"データ一覧!K596","v":528},null,null,null,{"$f":"データ一覧!K597","v":275},null,null,null,{"$f":"データ一覧!K598","v":253}]
[null,null,null,null,null,null,null,null,null,null,null,null,null,null,null,null,null,null,null,null,null,null,null,null,null,null,null,null,null,null,null,null,null,null,null,null,null,null,null,"水 道 供 給 人 口",null,null,null,null,null,null,"上 水 道",null,null,null,"簡易水道",null,null,null,"専用水道",null,null,null,"飲料水供給施設",null,null,null,"下水道処理人口",null,null,null,null,"  ","高等学校",null,null,null,null,null,null,null,null,{"$f":"データ一覧!K600","v":1},null,null,{"$f":"データ一覧!K601","v":0},null,null,{"$f":"データ一覧!K602","v":35},null,null,null,{"$f":"データ一覧!K603","v":14},null,null,null,{"$f":"データ一覧!K604","v":294},null,null,null,{"$f":"データ一覧!K605","v":154},null,null,null,{"$f":"データ一覧!K606","v":140}]
["  ３  事　　業　　所（民　　営）",null,null,null,null,null,null,null,null,null,null,"3.6.1",null,null,null,null,null,null,null,null,null,null,null,null,null,"漁船隻数・トン数",null,null,null,{"$f":"データ一覧!$A$282","v":"5.12.31"},null,null,null,"動　力　船",null,null,null,null,null,{"$f":"データ一覧!$A$408","v":"6.3.31"},null,null,null,null,null,"人",null,{"$f":"データ一覧!K408","v":20552},null,null,{"$f":"データ一覧!K409","v":0},null,null,null,null,{"$f":"データ一覧!K410","v":120},null,null,null,{"$f":"データ一覧!K411","v":0},null,null,null,{"$f":"データ一覧!K412","v":18422},null,null,null,"  ","大学・短期大学",null,null,null,null,null,null,null,null,{"$f":"データ一覧!K607","v":0},null,null,{"$f":"データ一覧!K608","v":0},null,null,{"$f":"データ一覧!K609","v":0},null,null,null,{"$f":"データ一覧!K610","v":0},null,null,null,{"$f":"データ一覧!K611","v":0},null,null,null,{"$f":"データ一覧!K612","v":0},null,null,null,{"$f":"データ一覧!K613","v":0}]
[null,null,null,null,null,null,null,null,null,null,null,null,null,null,null,null,null,null,null,null,null,null,null,null,null,"無動力船隻数",null,null,null,"船外機付漁船隻数",null,null,null,"隻　数",null,null,"総 ト ン 数",null,null,null,null,null,null,null,null,null,null,null,null,null,null,null,null,null,null,null,null,null,null,null,null,null,null,null,null,null,null,"  ","高等専門学校",null,null,null,null,null,null,null,null,{"$f":"データ一覧!K614","v":0},null,null,{"$f":"データ一覧!K615","v":0},null,null,{"$f":"データ一覧!K616","v":0},null,null,null,{"$f":"データ一覧!K617","v":0},null,null,null,{"$f":"データ一覧!K618","v":0},null,null,null,{"$f":"データ一覧!K619","v":0},null,null,null,{"$f":"データ一覧!K620","v":0}]
[null,null,null,null,null,null,null,"    総　　　　　数",null,null,null,null,null,"    民　　　　　営",null,null,null,null,null,"  国 ･ 地方公共団体",null,null,null,null,null,null,null,null,"隻",null,null,null,"隻",null,null,"隻",null,null,"t"," １２  交   通　・　通   信",null,null,null,null,null,null,null,null,null,null,null,null,null,null,null,null,null,null,null,null,null,null,null,null,null,null,null,"  ","特別支援学校",null,null,null,null,null,null,null,null,{"$f":"データ一覧!K622","v":1},null,null,{"$f":"データ一覧!K623","v":0},null,null,{"$f":"+データ一覧!K624","v":57},null,null,null,{"$f":"+データ一覧!K625","v":2},null,null,null,{"$f":"+データ一覧!K626","v":55},null,null,null,{"$f":"+データ一覧!K627","v":35},null,null,null,{"$f":"+データ一覧!K628","v":20}]
["  　区　　　　　　分",null,null,null,null,null,null," 事業所数",null,null," 従業者数",null,null," 事業所数",null,null," 従業者数",null,null," 事業所数",null,null," 従業者数",null,null,{"$f":"データ一覧!$K$282","v":0},null,null,null,{"$f":"データ一覧!$K$283","v":0},null,null,null,{"$f":"データ一覧!K284","v":0},null,null,{"$f":"データ一覧!K285","v":0},null,null,null,null,null,null,null,null,null,null,null,null,null,null,null,null,null,null,null,null,null,null,null,null,null,null,null,null,null,null,"  ","幼稚園",null,null,null,null,null,null,null,null,{"$f":"データ一覧!K630","v":1},null,null,{"$f":"データ一覧!K631","v":0},null,null,{"$f":"データ一覧!K632","v":2},null,null,null,{"$f":"データ一覧!K633","v":1},null,null,null,{"$f":"データ一覧!K634","v":10},null,null,null,{"$f":"データ一覧!K635","v":8},null,null,null,{"$f":"データ一覧!K636","v":2}]
[null,null,null,null,null,null,null,null,null,null,"       人",null,null,null,null,null,"       人",null,null,null,null,null,"       人",null,null,"  男女別就業者数",null,null,null,null,null,null,null,{"$f":"データ一覧!$A$286","v":"5.11.1"},null,null,null,null,null,"道     路",null,null,null,"実 延 長",null,null,null,"国     道",null,null,null,"県     道",null,null,null,"市町道",null,null,null," 鉄 道 営 業 キ ロ 数",null,null,null,null,null,null,null,"  ","幼保連携認定こども園",null,null,null,null,null,null,null,null,{"$f":"データ一覧!K638","v":7},null,null,{"$f":"データ一覧!K639","v":0},null,null,{"$f":"データ一覧!K640","v":109},null,null,null,{"$f":"データ一覧!K641","v":8},null,null,null,{"$f":"データ一覧!K642","v":512},null,null,null,{"$f":"データ一覧!K643","v":257},null,null,null,{"$f":"データ一覧!K644","v":255}]
["総数",null,null,null,null,null,null,{"$f":"データ一覧!K99","v":"…"},null,null,{"$f":"データ一覧!K156","v":"…"},null,null,{"$f":"データ一覧!K100","v":1091},null,null,{"$f":"データ一覧!K157","v":8633},null,null,{"$f":"データ一覧!K101","v":"…"},null,null,{"$f":"データ一覧!K158","v":"…"},null,null,"総　　数",null,null,null,null,null,"男",null,null,null,"女",null,null,null,{"$f":"データ一覧!$A$413","v":"5.4.1"},null,null,null,{"$f":"データ一覧!K413","v":568.70000000000005},null,null,"㎞",{"$f":"データ一覧!K414","v":39.700000000000003},null,null,"㎞",{"$f":"データ一覧!K415","v":82.7},null,null,"㎞",{"$f":"データ一覧!K416","v":446.3},null,null,"km",{"$f":"データ一覧!$A$417","v":"6.4.1"},null,null,null,{"$f":"データ一覧!K417","v":6.6},null,null,"㎞","  ","各種学校",null,null,null,null,null,null,null,null,{"$f":"データ一覧!K646","v":1},null,null,{"$f":"データ一覧!K647","v":0},null,null,{"$f":"データ一覧!K648","v":19},null,null,null,{"$f":"データ一覧!K649","v":0},null,null,null,{"$f":"データ一覧!K650","v":94},null,null,null,{"$f":"データ一覧!K651","v":60},null,null,null,{"$f":"データ一覧!K652","v":34}]
["農林漁業",null,null,null,null,null,null,{"$f":"データ一覧!K102","v":"…"},null,null,{"$f":"データ一覧!K159","v":"…"},null,null,{"$f":"データ一覧!K103","v":19},null,null,{"$f":"データ一覧!K160","v":342},null,null,{"$f":"データ一覧!K104","v":"…"},null,null,{"$f":"データ一覧!K161","v":"…"},null,null,null,null,null,null,null,"人",null,null,"　　　　人",null,null,null,null,"  人","自動車",null,null,null,null,null,null,null,null,"乗用車",null,null,null,null,null,null,null,null,null,null,null,null,null,null,null,null,null,null,"  ","専修学校",null,null,null,null,null,null,null,null,{"$f":"データ一覧!K654","v":0},null,null,{"$f":"データ一覧!K655","v":0},null,null,{"$f":"データ一覧!K656","v":0},null,null,null,{"$f":"データ一覧!K657","v":0},null,null,null,{"$f":"データ一覧!K658","v":0},null,null,null,{"$f":"データ一覧!K659","v":0},null,null,null,{"$f":"データ一覧!K660","v":0}]
["鉱業",null,null,null,null,null,null,{"$f":"データ一覧!K105","v":"…"},null,null,{"$f":"データ一覧!K162","v":"…"},null,null,{"$f":"データ一覧!K106","v":"-"},null,null,{"$f":"データ一覧!K163","v":"-"},null,null,{"$f":"データ一覧!K107","v":"…"},null,null,{"$f":"データ一覧!K164","v":"…"},null,null,{"$f":"データ一覧!K286","v":0},null,null,null,null,null,{"$f":"データ一覧!$K$287","v":0},null,null,null,{"$f":"データ一覧!K288","v":0},null,null,null,"台  数",null,null,null,"貨    物",null,null,null,"普     通",null,null,null,"小     型",null,null,null,"乗  合",null,null,"特  種",null,null,"小型二輪",null,null,"軽自動車",null,null," １８  衛　　　　　　　生"]
["建設業",null,null,null,null,null,null,{"$f":"データ一覧!K108","v":"…"},null,null,{"$f":"データ一覧!K165","v":"…"},null,null,{"$f":"データ一覧!K109","v":150},null,null,{"$f":"データ一覧!K166","v":752},null,null,{"$f":"データ一覧!K110","v":"…"},null,null,{"$f":"データ一覧!K167","v":"…"},null,null,"　　　　海 面 漁 業 漁 獲 量 （属人）",null,null,null,null,null,null,null,{"$f":"データ一覧!$A$289","v":"30年中"},null,null,null,null,null,{"$f":"データ一覧!$A$418","v":"6.3.31"},null,null,null,null,{"$f":"データ一覧!K418","v":899},null,null,null,{"$f":"データ一覧!K420","v":4052},null,null,null,{"$f":"データ一覧!K421","v":4000},null,null,{"$f":"データ一覧!K419","v":62},null,null,{"$f":"データ一覧!K422","v":518},null,null,{"$f":"データ一覧!K423","v":247},null,null,{"$f":"データ一覧!K424","v":9061}]
["製造業",null,null,null,null,null,null,{"$f":"データ一覧!K111","v":"…"},null,null,{"$f":"データ一覧!K168","v":"…"},null,null,{"$f":"データ一覧!K112","v":146},null,null,{"$f":"データ一覧!K169","v":2736},null,null,{"$f":"データ一覧!K113","v":"…"},null,null,{"$f":"データ一覧!K170","v":"…"},null,null,null,null,null,null,null,"       ","ｔ",null,null,null,null,null,null,"t",null,null,"     ",null,"郵　便　局　数",null,null,null,null,null,null,null,null,null,null,null,null,null,{"$f":"+MID(データ一覧!$A$428,3,2)","v":"3."},"令","一般加入",null,null,null,"ＩＮＳネット",null,null,null,null,null,null,null,"医療関係施設",null,null,null,null,null,{"$f":"データ一覧!$A$661","v":"5.10.1"},null,null,null,null,null,null,"および医療関係者数",null,null,null,null,null,null,null,{"$f":"データ一覧!$A$666","v":"4.12.31"}]
["電気・ｶﾞ ｽ・熱供給・水道業",null,null,null,null,null,null,{"$f":"データ一覧!K114","v":"…"},null,null,{"$f":"データ一覧!K171","v":"…"},null,null,{"$f":"データ一覧!K115","v":1},null,null,{"$f":"データ一覧!K172","v":9},null,null,{"$f":"データ一覧!K116","v":"…"},null,null,{"$f":"データ一覧!K173","v":"…"},null,null,"   総　　　　　　数",null,null,null,{"$f":"データ一覧!K289","v":0},null,null,"   藻　　　　　　類",null,null,null,{"$f":"データ一覧!K292","v":0},null,null,"通  信",null,null,null," 総     数",null,null,null,null," 郵 便 局",null,null,null,null," 簡 易 局",null,null,null,"・",{"$f":"+LEFT(データ一覧!$A$428,1)","v":"6"},"電話数",null,null,null,"加入数",null,null,null,null,null,null,null,null,null,"　","病",null,null,"院",null,"　",null,null,null,null," ","一般診療所",null,null,null,null,null,null,null,null,null,null,null,"歯科診療所"]
["情報通信業",null,null,null,null,null,null,{"$f":"データ一覧!K117","v":"…"},null,null,{"$f":"データ一覧!K174","v":"…"},null,null,{"$f":"データ一覧!K118","v":6},null,null,{"$f":"データ一覧!K175","v":43},null,null,{"$f":"データ一覧!K119","v":"…"},null,null,{"$f":"データ一覧!K176","v":"…"},null,null,"   魚　　　　　　類",null,null,null,{"$f":"データ一覧!K290","v":0},null,null,"   そ　   の　　 他",null,null,null,{"$f":"データ一覧!K293","v":0},null,null,{"$f":"データ一覧!$A$428","v":"6.3.31"},null,null,null,{"$f":"データ一覧!K425","v":10},null,null,null,null,{"$f":"データ一覧!K426","v":9},null,null,null,null,{"$f":"データ一覧!K427","v":1},null,null,null,{"$f":"+RIGHT(データ一覧!$A$428,2)","v":"31"},"・",{"$f":"データ一覧!K428","v":2253},null,null,null,{"$f":"データ一覧!K429","v":170},null,null,null," ","医療関係",null,null,null,null,null,null,null,null,null,null,null,"一般病院",null,null,null,null,null,null,null,null,null,null,null,"有",null,null,"床"]
["運輸業、郵便業",null,null,null,null,null,null,{"$f":"データ一覧!K120","v":"…"},null,null,{"$f":"データ一覧!K177","v":"…"},null,null,{"$f":"データ一覧!K121","v":16},null,null,{"$f":"データ一覧!K178","v":156},null,null,{"$f":"データ一覧!K122","v":"…"},null,null,{"$f":"データ一覧!K179","v":"…"},null,null,"   貝　　　　　　類",null,null,null,{"$f":"データ一覧!K291","v":0},null,null,null,null,null,null,null,null,null,null,null,null,null,null,null,null,null,null,null,null,null,null,null,null,null,null,null,null,null,null,null,null,null,null,null,null,null,null,"施設数",null,null,null,null,null,null,{"$f":"データ一覧!K661","v":2},null,null,null,null,null,{"$f":"データ一覧!K662","v":1},null,null,null,null,null,{"$f":"データ一覧!K663","v":12},null,null,null,null,null,{"$f":"データ一覧!K664","v":2},null,null,null,null,null,{"$f":"データ一覧!K665","v":7}]
["卸売業、小売業",null,null,null,null,null,null,{"$f":"データ一覧!K123","v":"…"},null,null,{"$f":"データ一覧!K180","v":"…"},null,null,{"$f":"データ一覧!K124","v":256},null,null,{"$f":"データ一覧!K181","v":1309},null,null,{"$f":"データ一覧!K125","v":"…"},null,null,{"$f":"データ一覧!K182","v":"…"},null,null,null,null,null,null,null,null,null,null,null,null,null,null,null,null," １３  税　　・　　財　　政",null,null,null,null,null,null,null,null,null,null,null,null,null,null,null,null,null,null,null,null,null,null,null,null,null,null,null,null,null,null,null,null,null,null,"医師",null,null,null,null,"歯科医師",null,null,null,null,"薬剤師",null,null,null,null,"保健師",null,null,null,null,"助産師",null,null," ",null,"看護師",null,null," "]
["金融業、保険業",null,null,null,null,null,null,{"$f":"データ一覧!K126","v":"…"},null,null,{"$f":"データ一覧!K183","v":"…"},null,null,{"$f":"データ一覧!K127","v":15},null,null,{"$f":"データ一覧!K184","v":102},null,null,{"$f":"データ一覧!K128","v":"…"},null,null,{"$f":"データ一覧!K185","v":"…"},null,null,"  ７  商        　　　業 ",null,null,null,null,null,null,{"$f":"データ一覧!$A$294","v":"3.6.1(令和2年実績）"},null,null,null,null,null,null,null,null,null,null,null,null,null,null,null,null,null,null,null,null,null,null,null,null,null,null,null,null,null,null,null,null,null,null," ","医療",null,null,null,null,null,null,null,null,"人",null,null,null,null,"人",null,null,null,null,"人",null,null,null,null,"人",null,null,null,null,"人",null,null,null,null,"人"]
["不動産業、物品賃貸業",null,null,null,null,null,null,{"$f":"データ一覧!K129","v":"…"},null,null,{"$f":"データ一覧!K186","v":"…"},null,null,{"$f":"データ一覧!K130","v":21},null,null,{"$f":"データ一覧!K187","v":51},null,null,{"$f":"データ一覧!K131","v":"…"},null,null,{"$f":"データ一覧!K188","v":"…"},null,null,null,null,null,null,null,null,null,null,null,null,null,null,null,null,"           ",null,null,null,"歳入",null,null,null,null,null,null,null,null,"(千円）"," ",null,null,null,"歳出",null,null,null,null,null,null,null,null,"(千円）",null,"関係者",null,null,null,null,{"$f":"データ一覧!K666","v":43},null,null,null,null,{"$f":"データ一覧!K667","v":12},null,null,null,null,{"$f":"データ一覧!K668","v":48},null,null,null,null,{"$f":"データ一覧!K669","v":19},null,null,null,null,{"$f":"データ一覧!K670","v":0},null,null,null,null,{"$f":"データ一覧!K671","v":339}]
["学術研究、専門・技術ｻｰﾋﾞｽ業",null,null,null,null,null,null,{"$f":"データ一覧!K132","v":"…"},null,null,{"$f":"データ一覧!K189","v":"…"},null,null,{"$f":"データ一覧!K133","v":30},null,null,{"$f":"データ一覧!K190","v":95},null,null,{"$f":"データ一覧!K134","v":"…"},null,null,{"$f":"データ一覧!K191","v":"…"},null,null,"  産   業　 分　 類",null,null,null," 事　業　所　数",null,null," 従　業　者　数",null,null,"年　間　販　売　額",null,null,null,"一人当たり歳入歳出予算決算額",null,null,null,null,null,null,null,null,null,null,null,null,null,null,null,null,null,null,null,null,null,null,null,null,null,null,null,"                   ",null,null,null,null,null,null,null,null,"死因別死亡数　　　　　    ",null,null,null,null,null,null,null,null,null,null,null,null,null,null,null,{"$f":"データ一覧!$A$672","v":"5年中"},null,null,null,null,null,null,null,null,"      単 位：人"]
["宿泊業、飲食サービス業",null,null,null,null,null,null,{"$f":"データ一覧!K135","v":"…"},null,null,{"$f":"データ一覧!K192","v":"…"},null,null,{"$f":"データ一覧!K136","v":135},null,null,{"$f":"データ一覧!K193","v":672},null,null,{"$f":"データ一覧!K137","v":"…"},null,null,{"$f":"データ一覧!K194","v":"…"},null,null,null,null,null,null,null,null,null,null,null,"　人",null,"         百万円",null,null,"区分",null,null,null,{"$f":"データ一覧!$A$438","v":"6年度"},null,null,null,null,{"$f":"データ一覧!$A$452","v":"5年度"},null,null,null,null,"区分",null,null,null,{"$f":"+AR68","v":"6年度"},null,null,null,null,{"$f":"データ一覧!$A$452","v":"5年度"},null,null,null,null," 死     因",null,null,null,null,null,null,null,null,null,null,null,"悪  性",null,null,"高血圧",null,null,null,null,null,"脳血管",null,null,null,null,null," ",null,null,"不慮の事故"]
["生活関連サービス業、娯楽業",null,null,null,null,null,null,{"$f":"データ一覧!K138","v":"…"},null,null,{"$f":"データ一覧!K195","v":"…"},null,null,{"$f":"データ一覧!K139","v":108},null,null,{"$f":"データ一覧!K196","v":258},null,null,{"$f":"データ一覧!K140","v":"…"},null,null,{"$f":"データ一覧!K197","v":"…"},null,null,"総　　　　　　計",null,null,null,{"$f":"データ一覧!K294","v":227},null,null,{"$f":"データ一覧!K303","v":1126},null,null,{"$f":"データ一覧!K312","v":20107},null,null,null,null,null,null,null,{"$f":"データ一覧!K434","v":722587.53392787906},null,null,null,null,{"$f":"データ一覧!K435","v":744333.76123234921},null,null,null,null,null,null,null,null,{"$f":"データ一覧!K436","v":722587.53392787906},null,null,null,null,{"$f":"データ一覧!K437","v":691148.57604716392},null,null,null,null,null,null,null,null,null,"全 死 因",null,null,null,"結 核",null,null,"新生物",null,null,"性疾患",null,null,"心疾患",null,null,"疾  患",null,null,"肺  炎",null,null,"老  衰",null,null,null,null," ","交通事故"]
["教育、学習支援業",null,null,null,null,null,null,{"$f":"データ一覧!K141","v":"…"},null,null,{"$f":"データ一覧!K198","v":"…"},null,null,{"$f":"データ一覧!K142","v":32},null,null,{"$f":"データ一覧!K199","v":232},null,null,{"$f":"データ一覧!K143","v":"…"},null,null,{"$f":"データ一覧!K200","v":"…"},null,null,"卸売業",null,null,null,{"$f":"データ一覧!K295","v":23},null,null,{"$f":"データ一覧!K304","v":73},null,null,{"$f":"データ一覧!K313","v":4241},null,null,null,"項目別歳入歳出予算決算額"]
["医療、福祉",null,null,null,null,null,null,{"$f":"データ一覧!K144","v":"…"},null,null,{"$f":"データ一覧!K201","v":"…"},null,null,{"$f":"データ一覧!K145","v":67},null,null,{"$f":"データ一覧!K202","v":1545},null,null,{"$f":"データ一覧!K146","v":"…"},null,null,{"$f":"データ一覧!K203","v":"…"},null,null,"小売業",null,null,null,{"$f":"データ一覧!K296","v":204},null,null,{"$f":"データ一覧!K305","v":1053},null,null,{"$f":"データ一覧!K314","v":15866},null,null,null,"区分",null,null,null,{"$f":"データ一覧!$A$438","v":"6年度"},null,null,null,null,{"$f":"データ一覧!$A$452","v":"5年度"},null,null,null,null,"区分",null,null,null,{"$f":"+AR71","v":"6年度"},null,null,null,null,{"$f":"データ一覧!$A$452","v":"5年度"},null,null,null,null,null,null,null,null,null,{"$f":"データ一覧!K672","v":342},null,null,null,"   －",{"$f":"データ一覧!K673","v":1},null,{"$f":"データ一覧!K674","v":77},null,null,null,{"$f":"データ一覧!K675","v":2},null,{"$f":"データ一覧!K676","v":46},null,null,{"$f":"データ一覧!K677","v":47},null,null,{"$f":"データ一覧!K678","v":18},null,null,{"$f":"データ一覧!K679","v":44},null,null,{"$f":"データ一覧!K680","v":9},null,null,null,{"$f":"データ一覧!K681","v":"-"}]
["複合サービス事業",null,null,null,null,null,null,{"$f":"データ一覧!K147","v":"…"},null,null,{"$f":"データ一覧!K204","v":"…"},null,null,{"$f":"データ一覧!K148","v":10},null,null,{"$f":"データ一覧!K205","v":81},null,null,{"$f":"データ一覧!K149","v":"…"},null,null,{"$f":"データ一覧!K206","v":"…"},null,null,"各種商品",null,null,null,{"$f":"データ一覧!K297","v":1},null,null,{"$f":"データ一覧!K306","v":3},null,null,{"$f":"データ一覧!K315","v":"x"},null,null,null,"総額",null,null,null,{"$f":"SUM(AR73:AV85)","v":14908426},null,null,null,null,{"$f":"SUM(AW73:BA85)","v":15655572},null,null,null,null,"総額",null,null,null,{"$f":"SUM(BF73:BJ85)","v":14908426},null,null,null,null,{"$f":"SUM(BK73:BO85)","v":14536928},null,null,null,null," １９  警　察　・　消　防  ",null,null,null,null,null,null,null,null,null,null,null,null,null,null,null,{"$f":"+データ一覧!$A682","v":"6.4.1"}]
["サービス業",null,null,null,null,null,null,{"$f":"データ一覧!K150","v":"…"},null,null,{"$f":"データ一覧!K207","v":"…"},null,null,{"$f":"データ一覧!K151","v":79},null,null,{"$f":"データ一覧!K208","v":250},null,null,{"$f":"データ一覧!K152","v":"…"},null,null,{"$f":"データ一覧!K209","v":"…"},null,null,"織物・衣服・身の回り品",null,null,null,{"$f":"データ一覧!K298","v":20},null,null,{"$f":"データ一覧!K307","v":45},null,null,{"$f":"データ一覧!K316","v":453},null,null,null,"地方税",null,null,null,{"$f":"データ一覧!K439","v":2640505},null,null,null,null,{"$f":"データ一覧!K453","v":2775739},null,null,null,null,"議会費",null,null,null,{"$f":"データ一覧!K467","v":145051},null,null,null,null,{"$f":"データ一覧!K481","v":149819}]
["公務",null,null,null,null,null,null,{"$f":"データ一覧!K153","v":"…"},null,null,{"$f":"データ一覧!K210","v":"…"},null,null,{"$f":"データ一覧!K154","v":"…"},null,null,{"$f":"データ一覧!K211","v":"…"},null,null,{"$f":"データ一覧!K155","v":"…"},null,null,{"$f":"データ一覧!K212","v":"…"},null,null,"飲食料品",null,null,null,{"$f":"データ一覧!K299","v":70},null,null,{"$f":"データ一覧!K308","v":445},null,null,{"$f":"データ一覧!K317","v":6507},null,null,null,"地方譲与税",null,null,null,{"$f":"データ一覧!K440","v":170300},null,null,null,null,{"$f":"データ一覧!K454","v":158706},null,null,null,null,"総務費",null,null,null,{"$f":"データ一覧!K468","v":1782709},null,null,null,null,{"$f":"データ一覧!K482","v":3073530},null,null,null,null,null,null,null,null,null,null,null,null,null,null,"交番・駐在所",null,null,null,null,null,null,null,null,"刑法犯認知件数",null,null,null,null,null,null,null,null,"交通人身事故発生件数"]
["  ４  農        　　　業 ",null,null,null,null,null,null,null,null,null,null,null,null,null,null,null,null,null,null,null,null,null,null,null,null,"機械器具",null,null,null,{"$f":"データ一覧!K300","v":35},null,null,{"$f":"データ一覧!K309","v":137},null,null,{"$f":"データ一覧!K318","v":1587},null,null,null,"各種交付金",null,null,null,{"$f":"データ一覧!K441","v":639832},null,null,null,null,{"$f":"データ一覧!K455","v":652954},null,null,null,null,"民生費",null,null,null,{"$f":"データ一覧!K469","v":3946485},null,null,null,null,{"$f":"データ一覧!K483","v":4345966},null,null,null,null,null,"警察署数",null,null,null,null,null,null,null,null,"検問所数",null,null,null,null,null,null,null,null,null,{"$f":"データ一覧!$A$684","v":"5年中"},null,null,null,null,null,null,null,null,{"$f":"データ一覧!$A$684","v":"5年中"}]
[null,null,null,null,null,null,null,null,null,null,null,null,null,null,null,null,null,null,null,null,null,null,null,null,null,"その他",null,null,null,{"$f":"データ一覧!K301","v":73},null,null,{"$f":"データ一覧!K310","v":378},null,null,{"$f":"データ一覧!K319","v":"x"},null,null,null,"地方特例交付金",null,null,null,{"$f":"データ一覧!K442","v":108176},null,null,null,null,{"$f":"データ一覧!K456","v":17709},null,null,null,null,"衛生費",null,null,null,{"$f":"データ一覧!K470","v":1637953},null,null,null,null,{"$f":"データ一覧!K484","v":798690},null,null,null,null,null,null,null,null,null,null,null,null,null,null,null,null,null,null,null,null,null,null,null,null,null,null,null,null," 件",null,null,null,null,null,null,null,null,"　件"]
[null,null,"農業経営体数",null,null,null,null,null,null,"農産物販売額規模別経営体数",null,null,null,null,null,null,null,"経営耕地面積規模別経営体数",null,null,null,null,null,null,null,"無店舗",null,null,null,{"$f":"データ一覧!K302","v":5},null,null,{"$f":"データ一覧!K311","v":45},null,null,{"$f":"データ一覧!K320","v":1257},null,null,null,"地方交付税",null,null,null,{"$f":"データ一覧!K443","v":4193000},null,null,null,null,{"$f":"データ一覧!K457","v":4660547},null,null,null,null,"労働費",null,null,null,{"$f":"データ一覧!K471","v":104839},null,null,null,null,{"$f":"データ一覧!K485","v":104839},null,null,null,null,null,null,{"$f":"データ一覧!K682","v":1},null,null,null,null,null,null,null,null,{"$f":"データ一覧!K683","v":5},null,null,null,null,null,null,null,null,{"$f":"データ一覧!K684","v":29},null,null,null,null,null,null,null,null,{"$f":"データ一覧!K685","v":16}]
["農",null,"区　分",null,null,null,"経営体数\n（経営体）",null,null,"区　分",null,null,null,null,"経営体数\n（経営体）",null,null,"区　分",null,null,null,null,"経営体数\n（経営体）",null,null,null,null,null,null,null,null,null,null,null,null,null,null,null,null,"分担金および負担金",null,null,null,{"$f":"データ一覧!K444","v":7049},null,null,null,null,{"$f":"データ一覧!K458","v":17172},null,null,null,null,"農林水産業費",null,null,null,{"$f":"データ一覧!K472","v":712496},null,null,null,null,{"$f":"データ一覧!K486","v":668981},null,null,null,null,"火災発生件数",null,null,null,null,null,null,null,null,null,"林野焼損",null,null,null,null,"損      害",null,null,null,null,"消 防 自",null,null,null,"その他の",null,null,null," ",null,null,null,null," "]
["業","令",null,null,null,null,null,null,null,null,null,null,null,null,null,null,null,null,null,null,null,null,null,null,null,"  ８  住　　　　　　 　宅",null,null,null,null,null,null,null,null,null,null,null,null,null,"使用料および手数料",null,null,null,{"$f":"データ一覧!K445","v":138368},null,null,null,null,{"$f":"データ一覧!K459","v":149889},null,null,null,null,"商工費",null,null,null,{"$f":"データ一覧!K473","v":602500},null,null,null,null,{"$f":"データ一覧!K487","v":552714},null,null,null,null,{"$f":"+データ一覧!$A$686","v":"5年中"},null,null,null,null,"焼損棟数",null,null,null,null,"面    積",null,null,null,null,"見  積  額",null,null,null,null,"動 車 数",null,null,null,"ﾎﾟﾝﾌﾟ数",null,null,null," 消防吏員",null,null,null," 消防団員"]
["経",{"$f":"+LEFT(データ一覧!$A$213)","v":"2"},"計",null,null,null,{"$f":"データ一覧!K213","v":580},null,null,"総　　　 数",null,null,null,null,{"$f":"データ一覧!K217","v":580},null,null,"総　　　 数",null,null,null,null,{"$f":"データ一覧!K233","v":1416},null,null,null,null,null,null,null,null,null,null,null,null,null,null,null,null,"国庫支出金",null,null,null,{"$f":"データ一覧!K446","v":2500211},null,null,null,null,{"$f":"データ一覧!K460","v":2279445},null,null,null,null,"土木費",null,null,null,{"$f":"データ一覧!K474","v":1843240},null,null,null,null,{"$f":"データ一覧!K488","v":1423556},null,null,null,null,"         件",null,null,null,null,null,"      棟",null,null,null,null,null,null,"  ａ",null,null,null,"  千円",null,null,"        ",null,null,null,null,null,null,null,null,null,"  人",null,null,null,"  人"]
["営","・","個人経営体",null,null,null,{"$f":"データ一覧!K214","v":554},null,null,"販 売 な し",null,null,null,null,{"$f":"データ一覧!K218","v":68},null,null,"0.5 ha 未満",null,null,null,null,{"$f":"データ一覧!K234","v":40},null,null,{"$f":"+データ一覧!$A$321","v":"4年"},null,null,null,null,{"$f":"データ一覧!$A$324","v":"5年"},"中の増減",null,null,null,{"$f":"+データ一覧!$A$324","v":"5年"},null,null,null,"県支出金",null,null,null,{"$f":"データ一覧!K447","v":1253866},null,null,null,null,{"$f":"データ一覧!K461","v":1525027},null,null,null,null,"消防費",null,null,null,{"$f":"データ一覧!K475","v":353246},null,null,null,null,{"$f":"データ一覧!K489","v":358223},null,null,null,null,null,{"$f":"データ一覧!K686","v":6},null,null,null,null,{"$f":"データ一覧!K687","v":3},null,null,null,null,{"$f":"データ一覧!K688","v":0},null,null,null,{"$f":"データ一覧!K689","v":13073},null,null,null,null,null,{"$f":"データ一覧!K690","v":7},null,null,null,{"$f":"データ一覧!K691","v":37},null,null,null,{"$f":"データ一覧!K692","v":36},null,null,null,{"$f":"データ一覧!K693","v":290}]
["体",{"$f":"+LEFT(データ一覧!$A$213,1)","v":"2"},"団体経営体",null,null,null,{"$f":"データ一覧!K215","v":26},null,null,"50万円未満",null,null,null,null,{"$f":"データ一覧!K219","v":225},null,null,"0.5 ha ～ 1.0 ha",null,null,null,null,{"$f":"データ一覧!K235","v":150},null,null,null,null,null,null,"建設した住宅",null,null,"消失した住宅",null,null,null,null,null,null,"財産収入",null,null,null,{"$f":"データ一覧!K448","v":27817},null,null,null,null,{"$f":"データ一覧!K462","v":22061},null,null,null,null,"教育費",null,null,null,{"$f":"データ一覧!K476","v":2537381},null,null,null,null,{"$f":"データ一覧!K490","v":1153345},null,null,null,null," ２０  そ　　　の　　　他　"]
["数","・",null,"法人経営",null,null,{"$f":"データ一覧!K216","v":18},null,null,"50～300万円",null,null,null,null,{"$f":"データ一覧!K220","v":219},null,null,"1.0 ha ～ 2.0 ha",null,null,null,null,{"$f":"データ一覧!K236","v":225},null,null,null,null,null,null,null,null,null,null,null,null,null,null,null,null,"繰入金",null,null,null,{"$f":"データ一覧!K449","v":758123},null,null,null,null,{"$f":"データ一覧!K463","v":1068204},null,null,null,null,"災害復旧費",null,null,null,{"$f":"データ一覧!K477","v":0},null,null,null,null,{"$f":"データ一覧!K491","v":708570}]
["（",{"$f":"+RIGHT(データ一覧!$A$213)","v":"1"},null,null,null,null,null,null,null,"300～500万円",null,null,null,null,{"$f":"データ一覧!K221","v":18},null,null,"2.0 ha ～ 3.0 ha",null,null,null,null,{"$f":"データ一覧!K237","v":84},null,null,null,{"$f":"データ一覧!K321","v":8265},null,"戸",{"$f":"データ一覧!K322","v":65},null,"戸",{"$f":"データ一覧!K323","v":110},null,"戸",null,{"$f":"データ一覧!K324","v":8220},null,"戸","地方債",null,null,null,{"$f":"データ一覧!K450","v":1723800},null,null,null,null,{"$f":"データ一覧!K464","v":1107048},null,null,null,null,"公債費",null,null,null,{"$f":"データ一覧!K478","v":1192426},null,null,null,null,{"$f":"データ一覧!K492","v":1198695},null,null,null,null,null,null,null,null,null,"越前大仏、勝山温泉センター｢水芭蕉｣、平泉寺白山神社、弁天桜、県立恐竜博物館、"]
["総",null,null,null,null,null,null,null,null,"500～1,000万円",null,null,null,null,{"$f":"データ一覧!K222","v":18},null,null,"3.0 ha ～ 5.0 ha",null,null,null,null,{"$f":"データ一覧!K238","v":53},null,null,null,null,null,null,null,null,null,null,null,null,null,null,null,null,"その他",null,null,null,{"$f":"データ一覧!K451","v":747379},null,null,null,null,{"$f":"データ一覧!K465","v":1221071},null,null,null,null,"その他",null,null,null,{"$f":"データ一覧!K479","v":50100},null,null,null,null,{"$f":"データ一覧!K493","v":0},null,null,null,null,"　名所・旧跡",null,null,null,null,"道の駅 恐竜渓谷かつやま、勝山城博物館、弁ヶ滝、岩屋観音、"]
["数",null,null,null,null,null,null,null,null,"1,000万円以上",null,null,null,null,{"$f":"データ一覧!K223","v":32},null,null,"5.0 ha以上",null,null,null,null,{"$f":"データ一覧!K239","v":863},null,null,null,null,null,null,null,null,null,null,null,null,null,null,null,null,null,null,null,null,null,null,null,null,null,null,null,null,null,null,null,null,null,null,null,null,null,null,null,null,null,null,null,null,"  文化財等",null,null,null,null,"スキージャム勝山、はたや記念館 ゆめおーれ勝山、加越国境と取立山「水芭蕉群生地」、"]
["）",null,"15歳以上の常雇い数",null,null,null,null,null,null,"農業に60日以上従事した世帯員、役員・構成員\n（経営主を含む）の平均年齢",null,null,null,null,null,null,null,null,null,null,null,null,null,null,null,"  ９  議　 員　・　職 　員",null,null,null,null,null,null,null,null,null,null,null,null,null," １４  文　　　化",null,null,null,null,null,null,null," ( ",{"$f":"\"令\"&データ一覧!$A$498","v":"令6.3.31"},null,null,"ただし図書館・公民館・児童館・ 社会教育学級講座",null,null,null,null,null,null,null,null,null,null,null,{"$f":"データ一覧!$A$494","v":"6.4.1"},null,null,null,null,null,null,null,null,"史跡白山平泉寺旧境内、旧木下家住宅、藩校｢旧成器堂講堂」外３棟、"]
["と",null,null,null,null,null,null,null,null,null,null,null,null,null,null,null,null,null,null,null,null,null,null,null,null,null,null,null,null,null,null,null,null,null,null,null,null,null,null,null,null,null,null,null,null,null,null,null,null,null,null,null,"　宗教法人数 ",null,null,null,null,null,null,null,null,null,null,{"$f":"データ一覧!$A$502","v":"5.12.31"},null,null,null,null,null,null,null,null,"えちぜん鉄道勝山駅本屋・ホーム待合所、白山平泉寺歴史探遊館まほろば"]
["就",null,null,null,null,null,null,null,null,"農業に60日以上従事",null,null,null,null,null,null,null,"農業に150日以上従事",null,null,null,null,null,null,null," 市 町 議 会",null,null,"有権者数",null,{"$f":"データ一覧!$A$328","v":"6.9.1"},null,"市 町 議 会",null,null,"  職      員      数",null,null,null,null,null,null,null,null,"図書館",null,null,null,null,null,"公　民　館",null,null,null,null,null,null,null,null,null,null," 社会教育学級講座",null,null,null,null,null,"　　特産物",null,null,null,null,"繊維製品、勝ち山おろしそば、勝ち山ボッカケ、勝ち山おやき、勝山水菜、鯖の熟れ鮨し、若猪野メロン、のむきのエゴマ、西ヶ原にんにく、九頭竜勝山あゆ、勝山　やまのサーモン"]
["業",null,"区分",null,null,null,"人",null,null,"区分",null,null,null,null,"歳",null,null,"区　　分",null,null,null,null,"歳",null,null," 議  員  定  数",null,null,"    男",null,"    女",null,"選 挙 投 票 率",null,null," 総     数",null,"一般行政職",null,"公    共",null,null,null," 館  数",null,null," 図書数",null,null," 本  館",null,null," 分  館",null,null," 公  園",null,null," 児童館",null,null,"学級講座数",null,null,"受講者数"]
["状",null,"総数",null,null,null,{"$f":"データ一覧!K230","v":15},null,null,"総数",null,null,null,null,{"$f":"データ一覧!K224","v":69.3},null,null,"総数",null,null,null,null,{"$f":"データ一覧!K227","v":69.900000000000006},null,null,null,null,"人",null,"人",null,"人",null,null,"　％",null,"人",null,"人","施 設 数",null,null,null,null,{"$f":"データ一覧!K494","v":1},null,{"$f":"データ一覧!K495","v":154680},null,null,null,{"$f":"データ一覧!K496","v":10},null,{"$f":"データ一覧!K497","v":0},null,null,{"$f":"データ一覧!K498","v":33},null,null,{"$f":"データ一覧!K499","v":"-"},null,null,{"$f":"データ一覧!K500","v":95},null,null,{"$f":"データ一覧!K501","v":5181},null,null," 　年中行事",null,null,null,null,"勝山年の市、勝山左義長まつり、弁天桜まつり、"]
["況",null,"男",null,null,null,{"$f":"データ一覧!K231","v":7},null,null,"男",null,null,null,null,{"$f":"データ一覧!K225","v":68.3},null,null,"男",null,null,null,null,{"$f":"データ一覧!K228","v":69.400000000000006},null,null,null,{"$f":"データ一覧!K325","v":14},null,{"$f":"データ一覧!K328","v":8733},null,{"$f":"データ一覧!K329","v":9538},null,{"$f":"データ一覧!K327","v":61.9},null,null,{"$f":"データ一覧!K330","v":243},null,{"$f":"データ一覧!K331","v":152},null,"宗    教",null,null,null," 仏教系",null,null,"ｷﾘｽﾄ教系",null,null,"神道諸派",null,null,"公会堂・市民会館",null,null,null,null,null," テレビ",null,null,"衛星放送契約数",null,null,null,null,null,null,null,null,null,null,"顕如講、神明神社祭礼、走りやんこ、勝山恐竜クロカンマラソン"]
[null,null,"女",null,null,null,{"$f":"データ一覧!K232","v":8},null,null,"女",null,null,null,null,{"$f":"データ一覧!K226","v":71.8},null,null,"女",null,null,null,null,{"$f":"データ一覧!K229","v":71.2},null,null,null,null,null,null,null,null,null,{"$f":"データ一覧!K326","v":"5.8.6"},null,null,null,null,null,null,"法 人 数",null,null,null,{"$f":"データ一覧!K502","v":47},null,null,{"$f":"データ一覧!K503","v":2},null,null,{"$f":"データ一覧!K504","v":83},null,null,{"$f":"データ一覧!K505","v":2},null,null,null,null,null,"      等",null,null,{"$f":"データ一覧!K506","v":4968}]

{"sheet":"鯖江市","index":10,"n_rows":93,"n_cols":103,"rows_kept":93,"cut":false,"hidden":false,"merged":[[49,39,49,45],[50,11,51,24],[47,80,47,82],[48,77,48,79],[33,53,33,56],[33,83,34,96],[32,68,32,72],[31,22,31,24],[59,10,59,12],[57,7,57,9],[48,7,48,9],[47,7,47,9],[84,6,84,8],[90,17,90,21],[91,2,91,5],[91,9,91,13],[91,17,91,21],[80,6,80,8],[80,9,80,13],[80,14,80,16],[80,17,80,21],[80,22,80,24],[77,2,78,5],[47,83,47,86],[51,36,51,38],[49,54,49,57],[50,0,51,10],[48,0,48,1],[48,10,48,12],[56,16,56,18],[59,22,59,24],[58,0,58,6],[54,39,54,42],[55,25,55,30],[55,35,55,38],[50,29,50,32],[77,22,78,24],[46,95,46,98],[48,87,48,90],[40,4,40,6],[28,91,28,94],[28,95,28,98],[29,91,29,94],[32,99,32,102],[28,99,28,102],[29,95,29,98],[28,81,28,84],[28,77,28,80],[35,36,35,37],[35,75,35,77],[37,79,37,82],[38,75,38,77],[38,79,38,82],[40,16,40,18],[40,32,40,35],[34,18,34,19],[32,14,32,16],[38,67,38,73],[40,36,40,37],[31,53,31,56],[34,14,34,16],[29,53,29,56],[29,60,29,64],[31,18,31,19],[92,2,92,5],[92,9,92,13],[92,14,92,16],[92,17,92,21],[91,6,91,8],[91,14,91,16],[66,92,66,96],[85,6,85,8],[85,9,85,13],[85,14,85,16],[85,22,85,24],[85,17,85,21],[81,22,81,24],[86,2,88,8],[86,9,87,24],[88,9,88,16],[88,17,88,24],[89,2,89,5],[89,9,89,13],[89,17,89,21],[90,2,90,5],[90,9,90,13],[77,6,78,8],[77,9,78,13],[77,14,78,16],[77,17,78,21],[21,60,21,64],[23,60,23,64],[24,60,24,64],[40,40,40,46],[36,36,36,37],[41,53,41,56],[42,36,42,37],[40,2,40,3],[35,22,35,24],[29,22,29,24],[40,22,40,24],[34,20,34,21],[41,19,41,21],[31,20,31,21],[32,11,32,13],[37,49,37,51],[37,53,37,56],[36,53,36,56],[35,18,35,19],[30,20,30,21],[32,49,32,51],[42,4,42,6],[42,16,42,18],[33,8,33,10],[41,10,41,12],[33,11,33,13],[40,13,40,15],[41,16,41,18],[5,0,5,9],[19,49,19,51],[20,11,20,13],[20,16,20,18],[20,21,20,23],[19,3,19,5],[20,40,20,46],[14,26,15,28],[20,49,20,51],[19,40,19,46],[30,5,30,7],[31,5,31,7],[31,8,31,10],[31,11,31,13],[31,14,31,16],[30,11,30,13],[6,0,8,9],[27,5,27,7],[30,40,30,46],[22,32,22,34],[27,0,27,4],[22,7,22,8],[14,25,15,25],[15,35,15,37],[26,22,26,24],[29,14,29,16],[30,18,30,19],[29,20,29,21],[29,40,29,46],[29,49,29,51],[17,40,17,46],[27,22,27,24],[17,48,17,52],[15,29,15,30],[27,27,27,28],[27,29,27,30],[32,5,32,7],[40,7,40,9],[40,10,40,12],[42,19,42,21],[42,7,42,9],[29,5,29,7],[33,5,33,7],[29,8,29,10],[29,11,29,13],[21,25,21,28],[21,49,21,51],[24,35,24,36],[24,49,24,51],[31,49,31,51],[41,32,41,35],[27,33,27,34],[40,49,40,51],[37,40,37,46],[39,49,39,51],[38,49,38,51],[36,49,36,51],[34,40,34,46],[42,22,42,24],[40,19,40,21],[34,22,34,24],[41,22,41,24],[20,53,20,56],[22,35,22,38],[25,53,25,56],[26,40,26,46],[22,29,22,31],[35,20,35,21],[29,18,29,19],[32,22,32,24],[33,22,33,24],[30,22,30,24],[25,29,26,30],[26,49,26,51],[31,40,31,46],[27,31,27,32],[21,29,21,31],[20,32,20,34],[28,49,28,51],[33,40,33,46],[41,7,41,9],[30,14,30,16],[35,5,35,7],[35,8,35,10],[30,8,30,10],[22,25,22,28],[27,25,27,26],[27,37,27,38],[41,36,41,37],[35,49,35,51],[24,53,24,56],[32,53,32,56],[35,53,35,56],[32,40,32,46],[32,20,32,21],[34,5,34,7],[32,18,32,19],[34,11,34,13],[32,8,32,10],[34,49,34,51],[33,49,33,51],[30,49,30,51],[27,49,27,51],[38,40,38,46],[34,8,34,10],[35,14,35,16],[41,13,41,15],[41,4,41,6],[35,11,35,13],[36,40,36,46],[14,82,15,95],[16,74,16,95],[19,73,19,76],[19,77,19,80],[14,67,15,81],[18,31,18,34],[18,35,18,38],[19,35,19,38],[14,0,15,24],[18,28,18,30],[23,49,23,51],[23,53,23,56],[23,40,23,46],[21,53,21,56],[21,40,21,46],[17,36,17,38],[17,53,17,57],[20,91,20,94],[20,95,20,98],[21,95,21,98],[19,91,19,94],[21,91,21,94],[21,81,21,84],[23,95,23,98],[22,95,22,98],[17,25,17,27],[18,25,18,27],[17,59,17,65],[15,32,15,33],[16,32,16,33],[16,36,16,37],[17,32,17,34],[17,100,17,101],[20,99,20,102],[17,68,17,71],[17,73,17,76],[17,82,17,83],[20,81,20,84],[20,86,20,90],[17,86,17,89],[17,91,17,94],[19,95,19,98],[19,60,19,64],[20,60,20,64],[21,86,21,90],[24,99,24,102],[24,95,24,98],[24,91,24,94],[23,99,23,102],[19,81,19,84],[22,73,22,76],[22,77,22,80],[22,81,22,84],[21,77,21,80],[22,68,22,72],[20,77,20,80],[20,73,20,76],[21,73,21,76],[23,77,23,80],[23,81,23,84],[23,86,23,90],[24,77,24,80],[21,99,21,102],[19,99,19,102],[22,99,22,102],[23,73,23,76],[23,68,23,72],[24,68,24,72],[24,73,24,76],[22,91,22,94],[22,86,22,90],[28,86,28,90],[23,11,23,13],[23,16,23,18],[23,21,23,23],[24,40,24,46],[23,25,23,28],[23,29,23,31],[23,32,23,34],[23,35,23,38],[24,27,24,28],[24,33,24,34],[24,29,24,30],[24,0,25,24],[23,91,23,94],[25,60,25,64],[26,60,26,64],[25,27,25,28],[25,31,26,32],[25,86,25,90],[25,49,25,51],[24,81,24,84],[24,86,24,90],[27,73,27,76],[26,99,26,102],[27,53,27,56],[56,99,56,102],[54,77,54,79],[56,91,56,94],[27,99,27,102],[26,77,26,80],[27,91,27,94],[42,97,42,100],[55,91,55,94],[31,99,31,102],[39,97,39,100],[41,93,41,95],[36,75,36,77],[53,80,53,82],[31,95,31,98],[46,99,46,102],[52,87,52,90],[50,68,50,75],[47,95,47,98],[47,99,47,102],[28,73,28,76],[28,68,28,72],[30,73,30,76],[30,68,30,72],[40,93,40,95],[27,77,27,80],[27,81,27,84],[27,86,27,90],[55,68,55,75],[55,87,55,90],[55,99,55,102],[38,85,38,91],[50,80,50,82],[42,32,42,35],[42,40,42,46],[25,35,26,36],[25,37,26,38],[25,40,25,46],[31,68,31,72],[31,60,31,64],[42,60,42,64],[41,49,41,51],[40,67,41,73],[30,77,30,80],[31,73,31,76],[31,77,31,80],[35,86,35,90],[27,95,27,98],[31,81,31,84],[56,80,56,82],[49,87,49,90],[49,77,49,79],[49,80,49,82],[56,77,56,79],[50,87,50,90],[52,80,52,82],[51,83,51,86],[51,87,51,90],[50,83,50,86],[55,83,55,86],[55,80,55,82],[55,47,55,49],[55,51,55,53],[53,95,53,98],[50,95,50,98],[42,93,42,95],[42,79,42,82],[45,84,45,89],[45,92,45,101],[41,97,41,100],[48,95,48,98],[29,99,29,102],[25,95,25,98],[26,95,26,98],[42,53,42,56],[25,73,25,76],[25,77,25,80],[25,81,25,84],[26,86,26,90],[38,53,38,56],[49,99,49,102],[52,95,52,98],[37,67,37,73],[39,75,39,77],[39,67,39,73],[25,99,25,102],[37,75,37,77],[35,80,35,83],[32,81,32,84],[33,60,33,64],[34,60,34,64],[30,60,30,64],[35,60,35,64],[39,60,39,64],[41,60,41,64],[55,10,55,12],[57,10,57,12],[55,13,55,15],[50,25,50,28],[51,25,51,28],[55,19,55,21],[57,16,57,18],[44,36,44,37],[57,0,57,6],[55,0,55,6],[46,25,46,28],[44,29,44,30],[46,36,46,37],[53,29,53,31],[56,0,56,6],[56,7,56,9],[55,7,55,9],[56,10,56,12],[48,13,48,15],[48,16,48,18],[47,19,47,21],[48,19,48,21],[47,16,47,18],[44,19,44,24],[63,19,63,21],[55,59,55,62],[60,16,60,18],[64,16,64,18],[33,14,33,16],[33,18,33,19],[33,20,33,21],[55,22,55,24],[55,16,55,18],[56,19,56,21],[47,10,47,12],[47,13,47,15],[48,22,48,24],[47,22,47,24],[50,47,50,49],[57,55,57,57],[42,10,42,12],[42,13,42,15],[57,13,57,15],[55,43,55,45],[50,33,50,38],[57,31,57,33],[40,53,40,56],[40,60,40,64],[39,40,39,46],[41,40,41,46],[45,36,45,37],[45,57,45,61],[57,35,57,37],[55,63,55,65],[54,51,54,54],[54,59,54,66],[65,98,65,101],[63,99,63,101],[62,99,62,101],[60,97,60,102],[60,63,60,66],[63,89,63,91],[57,51,57,54],[58,48,58,50],[58,52,58,54],[57,67,58,102],[61,39,61,42],[57,39,57,42],[58,44,58,46],[58,61,58,63],[57,47,57,50],[67,39,67,42],[61,43,61,47],[57,43,57,46],[60,39,60,42],[67,43,67,47],[67,57,67,61],[67,62,67,66],[67,79,67,81],[67,82,67,84],[67,88,67,90],[66,39,66,66],[65,39,65,42],[68,48,68,52],[68,53,68,56],[68,85,68,87],[68,76,68,78],[73,86,73,92],[61,68,61,71],[62,81,62,83],[60,91,60,96],[65,53,65,56],[59,59,59,62],[65,68,65,71],[70,91,70,93],[70,72,70,75],[70,77,70,78],[61,48,61,52],[59,43,59,56],[60,43,60,47],[60,48,60,52],[60,59,60,62],[61,59,61,62],[63,94,63,96],[64,68,64,71],[60,53,60,56],[65,57,65,63],[68,82,68,84],[70,62,70,66],[68,88,68,90],[66,76,66,90],[65,88,65,91],[65,83,65,86],[65,93,65,96],[65,73,65,76],[68,100,68,102],[67,97,67,102],[68,94,68,96],[63,74,63,76],[61,53,61,56],[65,78,65,81],[71,67,72,82],[71,53,71,56],[78,77,78,81],[90,46,90,48],[71,57,71,61],[72,48,72,52],[75,43,75,47],[74,43,74,47],[74,48,74,52],[72,62,72,66],[74,57,74,61],[74,62,74,66],[67,67,70,71],[74,68,74,74],[74,77,74,83],[70,94,70,96],[68,79,68,81],[68,91,68,93],[71,43,71,47],[71,48,71,52],[71,62,71,66],[73,62,73,66],[68,72,68,75],[67,48,67,52],[67,53,67,56],[68,43,68,47],[70,88,70,90],[73,95,73,101],[91,32,91,34],[91,43,91,45],[91,46,91,48],[84,48,84,52],[90,58,90,60],[91,52,91,57],[91,61,91,66],[80,82,80,86],[79,57,79,61],[79,62,79,66],[83,53,83,56],[83,57,83,61],[82,53,82,56],[81,62,81,66],[80,39,80,42],[83,62,83,66],[79,43,79,47],[79,48,79,52],[79,53,79,56],[90,50,90,51],[70,100,70,102],[70,97,70,99],[91,35,91,36],[91,37,91,38],[91,39,91,42],[84,43,84,47],[77,77,77,81],[80,78,80,80],[80,73,80,75],[76,62,76,66],[73,77,73,83],[77,43,77,47],[82,62,82,66],[82,39,82,42],[82,57,82,61],[74,96,74,100],[74,53,74,56],[74,87,74,91],[90,61,90,63],[90,64,90,66],[88,61,88,66],[81,67,82,102],[80,100,80,102],[80,57,80,61],[80,68,80,70],[77,57,77,61],[77,62,77,66],[76,78,76,81],[80,62,80,66],[90,39,90,42],[89,72,92,102],[90,52,90,54],[90,55,90,57],[90,44,90,45],[91,49,91,51],[76,96,76,99],[73,53,73,56],[73,57,73,61],[73,48,73,52],[68,62,68,66],[80,92,80,94],[80,96,80,98],[78,91,78,94],[78,95,78,98],[79,97,79,98],[78,99,78,102],[76,87,76,90],[79,101,79,102],[77,91,77,94],[79,39,79,42],[78,39,78,42],[84,39,84,42],[88,50,88,53],[78,72,78,76],[89,32,89,34],[89,39,89,42],[89,61,89,63],[88,32,88,34],[88,44,88,47],[84,53,84,56],[84,57,84,61],[84,62,84,66],[78,82,78,86],[77,87,77,90],[78,87,78,90],[80,88,80,90],[77,82,77,86],[76,69,76,72],[76,57,76,61],[78,62,78,66],[78,67,78,71],[48,99,48,102],[33,67,34,80],[38,60,38,64],[54,95,54,98],[54,91,54,94],[55,95,55,98],[51,68,51,75],[52,91,52,94],[50,99,50,102],[51,99,51,102],[51,91,51,94],[53,83,53,86],[51,95,51,98],[52,83,52,86],[40,85,40,91],[35,93,35,95],[36,85,36,91],[40,97,40,100],[40,75,41,77],[47,77,47,79],[45,77,45,82],[46,69,46,74],[42,67,42,73],[43,83,44,102],[43,60,43,64],[36,93,36,95],[36,97,36,100],[36,60,36,64],[35,68,35,72],[54,99,54,102],[52,99,52,102],[48,91,48,94],[39,79,39,82],[39,85,39,91],[36,79,36,82],[30,95,30,98],[39,93,39,95],[25,33,26,34],[49,91,49,94],[53,99,53,102],[53,91,53,94],[49,95,49,98],[32,73,32,76],[49,83,49,86],[47,87,47,90],[47,91,47,94],[51,80,51,82],[51,77,51,79],[42,75,42,77],[48,83,48,86],[49,68,49,75],[48,68,48,75],[47,68,47,75],[50,77,50,79],[36,67,36,73],[41,85,41,91],[34,53,34,56],[30,53,30,56],[38,93,38,95],[37,93,37,95],[37,85,37,91],[30,99,30,102],[38,97,38,100],[50,59,50,61],[27,60,27,64],[26,68,26,72],[37,97,37,100],[35,98,35,101],[29,81,29,84],[32,60,32,64],[29,73,29,76],[30,91,30,94],[29,86,29,90],[29,77,29,80],[19,25,19,28],[20,25,20,28],[34,29,34,30],[21,32,21,34],[21,35,21,38],[20,35,20,38],[19,29,19,31],[19,32,19,34],[20,29,20,31],[19,53,19,56],[26,91,26,94],[26,53,26,56],[32,95,32,98],[24,31,24,32],[36,29,36,30],[24,37,24,38],[22,49,22,51],[22,40,22,46],[22,53,22,56],[27,35,27,36],[30,81,30,84],[26,81,26,84],[49,50,49,53],[27,40,27,46],[28,60,28,64],[50,55,50,57],[41,29,41,30],[22,60,22,64],[42,85,42,91],[57,58,57,60],[56,68,56,75],[54,83,54,86],[55,39,55,42],[54,47,54,50],[26,73,26,76],[49,46,49,49],[57,64,57,66],[56,39,56,42],[56,48,56,53],[55,55,55,57],[27,68,27,72],[39,53,39,56],[34,36,34,37],[35,29,35,30],[40,29,40,30],[42,49,42,51],[54,68,54,75],[48,62,48,65],[32,77,32,80],[37,60,37,64],[30,86,30,90],[31,91,31,94],[25,91,25,94],[32,91,32,94],[70,79,70,81],[70,85,70,87],[71,83,72,102],[70,83,70,84],[68,57,68,61],[63,84,63,86],[58,64,58,66],[60,85,60,90],[61,80,61,83],[62,93,62,95],[50,91,50,94],[61,63,61,66],[56,95,56,98],[26,25,26,26],[26,27,26,28],[25,25,25,26],[44,32,44,35],[54,80,54,82],[53,68,53,75],[53,77,53,79],[54,43,54,46],[54,25,54,32],[40,79,41,82],[48,80,48,82],[52,77,52,79],[50,63,50,66],[49,58,49,61],[56,83,56,86],[46,32,46,35],[28,53,28,56],[28,40,28,46],[35,40,35,46],[60,36,60,37],[57,61,57,63],[62,75,62,77],[56,87,56,90],[54,87,54,90],[61,36,61,37],[54,55,54,58],[58,39,58,42],[55,77,55,79],[44,25,44,28],[43,67,44,82],[53,33,53,34],[49,62,49,66],[45,29,45,30],[45,32,45,35],[53,36,53,37],[58,55,58,57],[62,87,62,89],[62,68,62,71],[58,58,58,60],[53,87,53,90],[52,68,52,75],[55,31,55,34],[50,50,50,53],[53,25,53,27],[51,29,51,32],[43,40,43,46],[43,49,43,51],[43,53,43,56],[48,56,48,59],[48,50,48,53],[51,33,51,35],[81,6,81,8],[72,39,72,42],[74,39,74,42],[83,26,83,27],[73,0,73,6],[71,0,71,6],[72,7,72,9],[83,43,83,47],[65,43,65,49],[75,53,75,56],[69,32,69,33],[73,43,73,47],[71,39,71,42],[70,53,70,56],[75,39,75,42],[72,25,72,28],[76,32,76,33],[72,35,72,37],[76,48,76,52],[71,35,71,37],[78,48,78,52],[69,35,69,37],[70,29,70,30],[76,39,76,42],[77,39,77,42],[71,25,71,28],[83,36,83,37],[66,32,66,34],[68,32,68,33],[72,53,72,56],[76,17,76,24],[70,39,70,42],[71,32,71,33],[72,29,72,30],[72,32,72,33],[75,32,75,33],[76,35,76,37],[73,32,73,33],[73,35,73,37],[74,32,74,33],[74,35,74,37],[70,25,70,28],[68,35,68,37],[83,48,83,52],[81,39,81,42],[81,32,81,34],[80,35,81,38],[81,48,81,52],[71,29,71,30],[70,35,70,37],[70,32,70,33],[74,29,74,30],[75,48,75,52],[77,48,77,52],[70,43,70,47],[69,39,69,66],[70,48,70,52],[70,57,70,61],[83,29,83,30],[83,32,83,33],[75,62,75,66],[68,39,68,42],[78,57,78,61],[76,29,76,30],[59,16,59,18],[60,10,60,12],[65,0,65,6],[68,7,68,9],[80,25,81,28],[81,29,81,31],[73,10,73,12],[71,13,71,15],[69,29,69,30],[70,19,70,21],[71,10,71,12],[68,13,68,15],[73,13,73,15],[72,13,72,15],[70,0,70,6],[70,10,70,12],[70,7,70,9],[73,16,73,18],[70,16,70,18],[67,22,67,24],[68,10,68,12],[68,0,68,6],[73,29,73,30],[72,0,72,6],[73,19,73,21],[79,2,79,5],[79,6,79,8],[79,9,79,13],[79,14,79,16],[76,2,76,8],[76,9,76,16],[79,17,79,21],[70,13,70,15],[60,7,60,9],[59,7,59,9],[61,7,61,9],[46,29,46,30],[64,10,64,12],[65,10,65,12],[61,16,61,18],[64,0,64,6],[62,0,62,6],[60,0,60,6],[62,19,62,21],[66,0,66,6],[67,0,67,6],[47,0,47,1],[71,7,71,9],[68,16,68,18],[66,10,66,12],[68,22,68,24],[66,13,66,15],[67,10,67,12],[69,7,69,9],[67,13,67,15],[69,19,69,21],[56,13,56,15],[60,13,60,15],[58,13,58,15],[62,22,62,24],[62,16,62,18],[69,16,69,18],[69,10,69,12],[58,22,58,24],[92,22,92,24],[89,6,89,8],[89,14,89,16],[89,22,89,24],[90,6,90,8],[90,14,90,16],[90,22,90,24],[71,19,71,21],[63,22,63,24],[72,19,72,21],[74,0,75,24],[91,26,91,27],[91,28,91,29],[88,28,88,29],[91,30,91,31],[72,10,72,12],[79,22,79,24],[73,25,73,28],[81,9,81,13],[81,14,81,16],[65,22,65,24],[64,19,64,21]],"merged_total":1106,"flags":["merged_cut"]}
[{"$f":"+データ一覧!L2","v":0}]
[{"$f":"+データ一覧!L5","v":0},null,null,null,null,null,null,null,null,null,null,null,null,null,null,null,null,null,null,null,null,null,null,null,null,null,null,null,null,null,null,null,null,null,null,null,null,null,null,0]
[null,null,null,null,null,null,null,null,null,null,null,null,null,null,null,null,null,null,null,null,null,null,null,null,null,null,null,null,null,null,null,null,null,null,null,null,null,null,null,0]
[null,null,null,null,null,null,null,null,null,null,null,null,null,null,null,null,null,null,null,null,null,null,null,null,null,null,null,"【市章とそのいわれ】　サの図案化にて飛鳥の上昇を形象し、                     ",null,null,null,null,null,null,null,null,null,null,null,"  【位置および地勢】鯖江市は福井県のほぼ中央、福井平野の南に位置し、",null,null,null,null,null,null,null,null,null,null,null,null,null,null,null,null,null,null,null,null,null,null,null,null,null,null,null,null,null,null,"所在地",null,null,null,null,null,null,null,"〒916-8666"]
[null,null,null,null,null,null,null,null,null,null,null,null,null,null,null,null,null,null,null,null,null,null,null,null,null,null,null,"                  市将来の向上発展を意味づけたもの。                                                      ",null,null,null,null,null,null,null,null,null,null,null,"                 ","北は福井市、南は越前市に接している。東西約19.2㎞南北約 8.3㎞に",null,null,null,null,null,null,null,null,null,null,null,null,null,null,null,null,null,null,null,null,null,null,null,null,null,null,null,null,null,null,null,null,null,null,null,null,null,"鯖江市西山町１３番１号"]
[{"$f":"+データ一覧!L3","v":"さばえし"},null,null,null,null,null,null,null,null,null,null,null,null,null,null,null,null,null,null,null,null,null,null,null,null,null,null,0,null,null,null,null,null,null,null,null,null,null,null,"  ","わたる地域のうち、その多くが平坦地であり、東部及び南西の一部が山地と"]
[{"$f":"データ一覧!L6","v":"鯖江市"},null,null,null,null,null,null,null,null,null,null,null,null,null,null,null,null,null,null,null,null,null,null,null,null,null,null,0,null,null,null,null,null,null,null,null,null,null,null," ","なっている。市の中央を低い丘陵が南北に細長く延び、これに沿って市街地が",null,null,null,null,null,null,null,null,null,null,null,null,null,null,null,null,null,null,null,null,null,null,null,null,null,null,null,null,null,"電話番号",null,null,null,null,null,null,null,"（０７７８）５１－２２００"]
[null,null,null,null,null,null,null,null,null,null,null,null,null,null,null,null,null,null,null,null,null,null,null,null,null,null,null,0,null,null,null,null,null,null,null,null,null,null,null," ","形成されている。この丘陵に沿って国道８号、東側を北陸自動車道が走り、",null,null,null,null,null,null,null,null,null,null,null,null,null,null,null,null,null,null,null,null,null,null,null,null,null,null,null,null,null,"FAX番号",null,null,null,null,null,null,null,"     〃     ５１－８１５０"]
[null,null,null,null,null,null,null,null,null,null,null,null,null,null,null,null,null,null,null,null,null,null,null,null,null,null,null,0,null,null,null,null,null,null,null,null,null,null,null," ","また日野川が北方に向かって流れている。"]
[null,null,null,null,null,null,null,null,null,null,null,null,null,null,null,null,null,null,null,null,null,null,null,null,null,null,null,0,null,null,null,null,null,null,null,null,null,null,null,0,null,null,null,null,null,null,null,null,null,null,null,null,null,null,null,null,null,null,null,null,null,null,null,null,null,null,null,null,null,null,"最寄駅および距離",null,null,null,null,null,null,null,"福井鉄道福武線西山公園駅  下車５００ｍ"]
[null,null,null,null,null,null,null,null,null,null,null,null,null,null,null,null,null,null,null,null,null,null,null,null,null,null,null,null,null,null,null,null,null,null,null,null,null,null,null,0]
[]
[null,null,null,null,null,null,null,null,null,null,null,null,null,null,null,null,null,null,null,null,null,null,null,null,null,null,null,"【市が掲げる標語】若者が住みたくなる・住み続けたくなるまち鯖江",null,null,null,null,null,null,null,null,null,null,null,null,null,null,null,null,null,null,null,null,null,null,null,null,null,null,null,null,null,null,null,null,null,null,null,null,null,null,null,null,null,null,"ホームページ",null,null,null,null,null,null,null,"https://www.city.sabae.fukui.jp/"]
[]
["  １  土            　　地",null,null,null,null,null,null,null,null,null,null,null,null,null,null,null,null,null,null,null,null,null,null,null,null,{"$f":"データ一覧!$A$240","v":"5年"},"産米収穫量",null,null,"　 収　穫　量",null,null," 　作 付 面 積",null,null,"   10a当たり収量",null,null,null,null,null,null,null,null,null,null,null,null,null,null,null,null,null,null,null,null,null,null,null,null,null,null,null,null,null,null,null," １５  労　　　　　　　働",null,null,null,null,null,null,null,null,null,null,null,null,null,null,"2.10.1"]
[null,null,null,null,null,null,null,null,null,null,null,null,null,null,null,null,null,null,null,null,null,null,null,null,null,null,null,null,null,{"$f":"データ一覧!$L$240","v":7070},null,"t",{"$f":"データ一覧!$L$241","v":1410},null,"ha",{"$f":"データ一覧!L242","v":501},null,null,"kg"," １０  工　　　　　　業 ",null,null,null,null,null,null,null,null,null,null,null,null,null,{"$f":"データ一覧!$A$332","v":"4.6.1（令和3年実績）"}]
["   総          面           積",null,null,null,null,null,null,null,null,null," 固 定 資 産 概 要 調 書 に よ る 地 目 別 面 積",null,null,null,null,null,null,null,null,null,null,null,null,null,null,null,null,null,"   総　　　数",null,null,null,"うち　　田",null,null,null,"うち　　畑",null,null,null,null,null,null,null,null,null,null,null,null,null,null,null,null,null,null,null,null,null,null,null,null,null,null,null,null,null,null,null,null,null,null,null,null,null,"産業別就業者数   "]
[null,null,{"$f":"データ一覧!$A$7","v":"6.10.1"},null,null,null,null,null,null,null,null,null,null,null,null,null,{"$f":"データ一覧!$A$9","v":"6.1.1"},null,null,null,null,null,null,null,null," 耕  地  面  積",null,null,null,"       ha",null,null,"ha ",null,null,null,"ha ",null,null,"      ","産業分類",null,null,null,null,null,null,null,"事業所数",null,null,null,null,"従業者数",null,null,null,null,null,"年間製造品出荷額等",null,null,null,null,null,null,null,null,"区  分",null,null,null,null,"総    数",null,null,null,null,"男",null,null,null,"女",null,null,"  ","区  分",null,null,null,null,"総    数",null,null,null,null,"男",null,null,null,"女"]
[null,null,null,null,null,null,"㎢",null,null,null,"   総       数",null,null,null,null,"  う ち     田",null,null,null,null,"  う ち     畑",null,null,null,null,{"$f":"データ一覧!A243","v":"5.7.15"},null,null,{"$f":"データ一覧!$L$243","v":2020},null,null,{"$f":"データ一覧!$L$244","v":1950},null,null,null,{"$f":"データ一覧!$L$245","v":71},null,null,null,null,null,null,null,null,null,null,null,null,"　　   ",null,null,"事業所",null,"　　　　　　　 人",null,null,"人",null,"　　　　　　　　　　　　　　万円",null,null,null,null,null,null,"万円",null,null,null,null,null,null,null,"      人",null,null,null,null,null," 人",null,null,null," 人",null,null,null,null,null,null,null,"      人",null,null,null,"      人",null,null,null,"      人"]
[null,null,null,{"$f":"データ一覧!L7","v":84.59},null,null,null,null,null,null,null,null,null,null,"ha",null,null,null,null,"ha",null,null,null,null,"ha","農 業 生 産 物",null,null,null,"作 付 面 積",null,null,"収 穫 量",null,null,"10a当たり収量",null,null,null,"     ","総数",null,null,null,null,null,null,null,null,{"$f":"データ一覧!L332","v":304},null,null,null,{"$f":"+データ一覧!L357","v":8990},null,null,null,null,null,null,{"$f":"データ一覧!L382","v":22484395},null,null,null,null,null,null," 総　　　数",null,null,null,null,null,{"$f":"BZ20+CD20","v":35021},null,null,null,{"$f":"データ一覧!L507","v":18633},null,null,null,{"$f":"データ一覧!L532","v":16388}]
[null,null,null,null,null,null,null,null,null,null,null,{"$f":"データ一覧!L9","v":8459},null,null,null,null,{"$f":"データ一覧!L10","v":1992.6},null,null,null,null,{"$f":"データ一覧!L11","v":120.2},null,null,null,{"$f":"データ一覧!$A$246","v":"5年産"},null,null,null,"ha",null,null,"t",null,null,"kg",null,null,null,"     食料品","食料品",null,null,null,null,null,null,null,null,{"$f":"データ一覧!L333","v":6},null,null,null,{"$f":"+データ一覧!L358","v":116},null,null,null,null,null,null,{"$f":"データ一覧!L383","v":79533},null,null,null,null,null,null,null,null,null,null,null,null,null,null,null,null,null,null,null,null,null,null,null,null,null,"卸売業,小売業",null,null,null,null,{"$f":"CR21+CV21","v":4948},null,null,null,{"$f":"データ一覧!L520","v":2304},null,null,null,{"$f":"データ一覧!L545","v":2644}]
["  町 ･ 丁 ･ 大 字",null,null,null,null,null,null,null,null,null,"  う ち  宅 地",null,null,null,null,"  う ち  山 林",null,null,null,null,"  う ち  原 野",null,null,null,null,"水　　　　　稲",null,null,null,{"$f":"データ一覧!L246","v":1410},null,null,{"$f":"データ一覧!L247","v":7070},null,null,{"$f":"データ一覧!L248","v":501},null,null,null,"     飲料・飼料","飲料・飼料",null,null,null,null,null,null,null,null,{"$f":"データ一覧!L334","v":2},null,null,null,{"$f":"+データ一覧!L359","v":126},null,null,null,null,null,null,{"$f":"データ一覧!L384","v":"x"},null,null,null,null,null,null," 第１次産業",null,null,null,null,null,{"$f":"BZ22+CD22","v":531},null,null,null,{"$f":"データ一覧!L508","v":384},null,null,null,{"$f":"データ一覧!L533","v":147},null,null,null,null,"金融業,保険業",null,null,null,null,{"$f":"CR22+CV22","v":703},null,null,null,{"$f":"データ一覧!L521","v":261},null,null,null,{"$f":"データ一覧!L546","v":442}]
["  区    画    数",null,null,null,null,null,null,{"$f":"データ一覧!L8","v":153},null,null,null,null,null,null,"ha",null,null,null,null,"ha",null,null,null,null,"ha","六　条　大　麦",null,null,null,{"$f":"データ一覧!L249","v":279},null,null,{"$f":"データ一覧!L250","v":743},null,null,{"$f":"データ一覧!L251","v":266},null,null,null,"     繊維","繊維",null,null,null,null,null,null,null,null,{"$f":"データ一覧!L335","v":49},null,null,null,{"$f":"+データ一覧!L360","v":1772},null,null,null,null,null,null,{"$f":"データ一覧!L385","v":3862572},null,null,null,null,null,null,"  ","農業",null,null,null,null,{"$f":"BZ23+CD23","v":496},null,null,null,{"$f":"データ一覧!L509","v":358},null,null,null,{"$f":"データ一覧!L534","v":138},null,null,null,"  ","不動産業",null,null,null,null,286,null,null,null,{"$f":"データ一覧!L522","v":155},null,null,null,{"$f":"データ一覧!L547","v":131}]
[{"$f":"データ一覧!$A$8","v":"5.4.1"},null,null,null,null,null,null,null,null,null,null,{"$f":"データ一覧!L12","v":1490.4},null,null,null,null,{"$f":"データ一覧!L13","v":1168.2},null,null,null,null,{"$f":"データ一覧!L14","v":0},null,null,null,"大　　      豆",null,null,null,{"$f":"データ一覧!L252","v":116},null,null,{"$f":"データ一覧!L253","v":133},null,null,{"$f":"データ一覧!L254","v":115},null,null,null,"     衣服","木材",null,null,null,null,null,null,null,null,{"$f":"データ一覧!L336","v":6},null,null,null,{"$f":"+データ一覧!L361","v":215},null,null,null,null,null,null,{"$f":"データ一覧!L386","v":636600},null,null,null,null,null,null,"  ","林業",null,null,null,null,30,null,null,null,{"$f":"データ一覧!L510","v":22},null,null,null,{"$f":"データ一覧!L535","v":8},null,null,null,"  ","学術研究",null,null,null,null,769,null,null,null,{"$f":"データ一覧!L523","v":461},null,null,null,{"$f":"データ一覧!L548","v":308}]
["  ２  世　帯　数　と　人　口",null,null,null,null,null,null,null,null,null,null,null,null,null,null,null,null,null,null,null,null,null,null,null,null,null,null,"  区　分",null," 乳 用 牛",null," 肉 用 牛",null,"豚",null,"採卵鶏",null,"ブロイラー",null,"     木材","家具",null,null,null,null,null,null,null,null,{"$f":"データ一覧!L337","v":2},null,null,null,{"$f":"+データ一覧!L362","v":40},null,null,null,null,null,null,{"$f":"データ一覧!L387","v":"x"},null,null,null,null,null,null,"  ","漁業",null,null,null,null,5,null,null,null,{"$f":"データ一覧!L511","v":4},null,null,null,{"$f":"データ一覧!L536","v":1},null,null,null,"  ","宿泊業,飲食ｻｰﾋﾞｽ",null,null,null,null,1313,null,null,null,{"$f":"データ一覧!L524","v":461},null,null,null,{"$f":"データ一覧!L549","v":852}]
[null,null,null,null,null,null,null,null,null,null,null,null,null,null,null,null,null,null,null,null,null,null,null,null,null,"畜　産",null," 飼養農家",null,{"$f":"データ一覧!$L$255","v":0},null,{"$f":"データ一覧!$L$257","v":0},null,{"$f":"データ一覧!$L$259","v":0},null,{"$f":"データ一覧!$L$261","v":1},null,{"$f":"データ一覧!$L$263","v":0},null,"     家具","パルプ・紙",null,null,null,null,null,null,null,null,{"$f":"データ一覧!L338","v":4},null,null,null,{"$f":"+データ一覧!L363","v":104},null,null,null,null,null,null,{"$f":"データ一覧!L388","v":172308},null,null,null,null,null,null," 第２次産業",null,null,null,null,null,13675,null,null,null,{"$f":"データ一覧!L512","v":9020},null,null,null,{"$f":"データ一覧!L537","v":4655},null,null,null,"  ","生活関連ｻｰﾋﾞｽ業",null,null,null,null,997,null,null,null,{"$f":"データ一覧!L525","v":356},null,null,null,{"$f":"データ一覧!L550","v":641}]
[null,null,null,null,null,null,null,null,"        人　　　　　　　　　　口",null,null,null,null,null,null,null,null,null,null,null,"１世帯当",null,"人    口",null,null,{"$f":"データ一覧!$A$255","v":"6.3.31"},null,"（戸）",null,null,null,null,null,null,null,null,null,null,null,"     パルプ・紙","印刷",null,null,null,null,null,null,null,null,{"$f":"データ一覧!L339","v":8},null,null,null,{"$f":"+データ一覧!L364","v":171},null,null,null,null,null,null,{"$f":"データ一覧!L389","v":409880},null,null,null,null,null,null,null,"鉱業，採石業",null,null,null,null,7,null,null,null,{"$f":"データ一覧!L513","v":6},null,null,null,{"$f":"データ一覧!L538","v":1},null,null,null,"  ","教育,学習支援業",null,null,null,null,1577,null,null,null,{"$f":"データ一覧!L526","v":582},null,null,null,{"$f":"データ一覧!L551","v":995}]
[" 区　　　　分",null,null,null,null,"世帯数",null,null," 総   数",null,null,"    男",null,null,"    女",null,null,"  男／女",null,null,"たり人員",null,"密    度",null,null,null,null," 頭 羽",null,{"$f":"データ一覧!$L$256","v":0},null,{"$f":"データ一覧!$L$258","v":0},null,{"$f":"データ一覧!$L$260","v":0},null,{"$f":"データ一覧!$L$262","v":200},null,{"$f":"データ一覧!$L$264","v":0},null,"     出版・印刷","化学",null,null,null,null,null,null,null,null,{"$f":"データ一覧!L340","v":3},null,null,null,{"$f":"+データ一覧!L365","v":129},null,null,null,null,null,null,{"$f":"データ一覧!L390","v":1557119},null,null,null,null,null,null,"  ","建設業",null,null,null,null,2356,null,null,null,{"$f":"データ一覧!L514","v":1956},null,null,null,{"$f":"データ一覧!L539","v":400},null,null,null,null,"医療，福祉",null,null,null,null,4533,null,null,null,{"$f":"データ一覧!L527","v":847},null,null,null,{"$f":"データ一覧!L552","v":3686}]
[null,null,null,null,null,"    世 帯",null,null,"       人",null,null,"       人",null,null,"       人",null,null,null,"　　％",null,"    人",null,"    人/㎢",null,null,null,null,null,null,null,null,null,null,null,null,null,null,null,null,"     化学","石油・石炭",null,null,null,null,null,null,null,null,{"$f":"データ一覧!L341","v":0},null,null,null,{"$f":"+データ一覧!L366","v":0},null,null,null,null,null,null,{"$f":"データ一覧!L391","v":0},null,null,null,null,null,null,null,"製造業",null,null,null,null,11312,null,null,null,{"$f":"データ一覧!L515","v":7058},null,null,null,{"$f":"データ一覧!L540","v":4254},null,null,null,null,"複合サービス事業",null,null,null,null,360,null,null,null,{"$f":"データ一覧!L528","v":196},null,null,null,{"$f":"データ一覧!L553","v":164}]
[{"$f":"データ一覧!$A$22","v":" 2.10.1"},null,null,null,null,{"$f":"データ一覧!L22","v":16053},null,null,{"$f":"+L30+O30","v":62283},null,null,{"$f":"データ一覧!L24","v":30164},null,null,{"$f":"データ一覧!L25","v":32119},null,null,null,{"$f":"+L30/O30*100","v":93.913260064136495},null,{"$f":"データ一覧!L27","v":3.88},null,{"$f":"データ一覧!L28","v":734.9},null,null,"  ５  林               業",null,null,null,null,null,null,null,null,null,null,null,null,null,"     石油・石炭","プラスチック",null,null,null,null,null,null,null,null,{"$f":"データ一覧!L342","v":13},null,null,null,{"$f":"+データ一覧!L367","v":382},null,null,null,null,null,null,{"$f":"データ一覧!L392","v":2665498},null,null,null,null,null,null," 第３次産業",null,null,null,null,null,19992,null,null,null,{"$f":"データ一覧!L516","v":8781},null,null,null,{"$f":"データ一覧!L541","v":11211},null,null,null,null,"サービス業",null,null,null,null,1640,null,null,null,{"$f":"データ一覧!L529","v":1059},null,null,null,{"$f":"データ一覧!L554","v":581}]
[{"$f":"データ一覧!$A$29","v":" 7.10.1"},null,null,null,null,{"$f":"データ一覧!L29","v":16919},null,null,{"$f":"+L31+O31","v":62890},null,null,{"$f":"データ一覧!L31","v":30376},null,null,{"$f":"データ一覧!L32","v":32514},null,null,null,93.424371040167316,null,{"$f":"データ一覧!L34","v":3.72},null,{"$f":"データ一覧!L35","v":742.1},null,null,null,null,null,null,null,null,null,null,null,null,null,null,null,null,"     プラスチック","ゴム",null,null,null,null,null,null,null,null,{"$f":"データ一覧!L343","v":1},null,null,null,{"$f":"+データ一覧!L368","v":7},null,null,null,null,null,null,{"$f":"データ一覧!L393","v":"x"},null,null,null,null,null,null,null,"電気･ｶﾞｽ･水道業",null,null,null,null,124,null,null,null,{"$f":"データ一覧!L517","v":94},null,null,null,{"$f":"データ一覧!L542","v":30},null,null,null,null,"公務",null,null,null,null,1035,null,null,null,{"$f":"データ一覧!L530","v":685},null,null,null,{"$f":"データ一覧!L555","v":350}]
[{"$f":"データ一覧!$A$36","v":"12.10.1"},null,null,null,null,{"$f":"データ一覧!L36","v":18598},null,null,{"$f":"+L32+O32","v":64898},null,null,{"$f":"データ一覧!L38","v":31448},null,null,{"$f":"データ一覧!L39","v":33450},null,null,null,94.014947683109114,null,{"$f":"データ一覧!L41","v":3.49},null,{"$f":"データ一覧!L42","v":765.8},null,null,"    　森　　　林　　　総　　　面　　　積   ",null,null,null,null,null,null,null,{"$f":"データ一覧!$A$265","v":"5.3.31"},null,null,null,null,null,"     ゴム","皮革",null,null,null,null,null,null,null,null,{"$f":"データ一覧!L344","v":0},null,null,null,{"$f":"+データ一覧!L369","v":0},null,null,null,null,null,null,{"$f":"データ一覧!L394","v":0},null,null,null,null,null,null,null,"情報通信業",null,null,null,null,486,null,null,null,{"$f":"データ一覧!L518","v":331},null,null,null,{"$f":"データ一覧!L543","v":155},null,null,null," 分類不能の産業",null,null,null,null,null,823,null,null,null,{"$f":"データ一覧!L531","v":448},null,null,null,{"$f":"データ一覧!L556","v":375}]
[{"$f":"+データ一覧!$A$43","v":"17.10.1"},null,null,null,null,{"$f":"データ一覧!L43","v":20177},null,null,{"$f":"+L33+O33","v":66831},null,null,{"$f":"データ一覧!L45","v":32263},null,null,{"$f":"データ一覧!L46","v":34568},null,null,null,93.331983337190465,null,{"$f":"データ一覧!L48","v":3.31},null,{"$f":"データ一覧!L49","v":788.6},null,null,"　　　森　　　　　　　林　　　　　　　の　　　　　　　構　　　　　　　成",null,null,null,null,null,null,null,null,null,null,null,null,null,"     皮革","窯業・土石",null,null,null,null,null,null,null,null,{"$f":"データ一覧!L345","v":4},null,null,null,{"$f":"+データ一覧!L370","v":96},null,null,null,null,null,null,{"$f":"データ一覧!L395","v":309512},null,null,null,null,null,null,"  ","運輸業,郵便業",null,null,null,null,{"$f":"BZ33+CD33","v":1221},null,null,null,{"$f":"データ一覧!L519","v":989},null,null,null,{"$f":"データ一覧!L544","v":232}]
[{"$f":"+データ一覧!$A$50","v":"22.10.1"},null,null,null,null,{"$f":"+データ一覧!L50","v":21028},null,null,{"$f":"+L34+O34","v":67450},null,null,{"$f":"+データ一覧!L52","v":32507},null,null,{"$f":"+データ一覧!L53","v":34943},null,null,null,93.028646653120788,null,{"$f":"+データ一覧!L55","v":3.21},null,{"$f":"+データ一覧!L56","v":795.9},null,null,null,null,null,null,null,"       ha",null,null,null,null,null,null,"       ha",null,"     窯業・土石","鉄鋼",null,null,null,null,null,null,null,null,{"$f":"データ一覧!L346","v":1},null,null,null,{"$f":"+データ一覧!L371","v":15},null,null,null,null,null,null,{"$f":"データ一覧!L396","v":"x"},null,null,null,null,null,null," １６  社　 会 　福　 祉",null,null,null,null,null,null,null,null,null,null,null,null,null,null,null,{"$f":"データ一覧!$A$557","v":"6.4.1"}]
[{"$f":"データ一覧!$A$57","v":"27.10.1"},null,null,null,null,{"$f":"データ一覧!L57","v":22335},null,null,{"$f":"データ一覧!L58","v":68284},null,null,{"$f":"データ一覧!L59","v":33105},null,null,{"$f":"データ一覧!L60","v":35179},null,null,null,94.104437306347535,null,{"$f":"データ一覧!L62","v":3.0572643832549811},null,{"$f":"データ一覧!L63","v":807.2},null,null,"  総　　　　　   数",null,null,null,{"$f":"データ一覧!L265","v":3148.4199999999996},null,null," 天然林       針葉樹",null,null,null,{"$f":"データ一覧!L268","v":72.23},null,null,"     鉄鋼","非鉄金属",null,null,null,null,null,null,null,null,{"$f":"データ一覧!L347","v":1},null,null,null,{"$f":"+データ一覧!L372","v":10},null,null,null,null,null,null,{"$f":"データ一覧!L397","v":"x"}]
["令　2.10.1（国調）",null,null,null,null,{"$f":"データ一覧!L64","v":23915},null,null,{"$f":"データ一覧!L65","v":68302},null,null,{"$f":"データ一覧!L66","v":33323},null,null,{"$f":"データ一覧!L67","v":34979},null,null,null,{"$f":"+L36/O36*100","v":95.265730867091676},null,{"$f":"データ一覧!L69","v":2.8560317792180641},null,{"$f":"データ一覧!L70","v":807.4476888521101},null,null,"  人工林     針葉樹",null,null,null,{"$f":"データ一覧!L266","v":2093.15},null,null," 天然林       広葉樹",null,null,null,{"$f":"データ一覧!L269","v":899.78},null,null,"     非鉄金属","金属",null,null,null,null,null,null,null,null,{"$f":"データ一覧!L348","v":20},null,null,null,{"$f":"+データ一覧!L373","v":771},null,null,null,null,null,null,{"$f":"データ一覧!L398","v":1460675},null,null,null,null,null,null,"    ","区分",null,null,null,null,null,null,"施設数",null,null,null,null,"収容定員",null,null,null,null,null,"区分",null,null,null,null,null,null,"施設数",null,null,null,null,"収容定員"]
["年",null,"  区",null," 0歳",null,null,"15歳",null,null,"25歳",null,null,"35歳",null,null,"45歳",null,null,"55歳",null,null,"65歳",null,null,"  人工林     広葉樹",null,null,null,{"$f":"データ一覧!L267","v":40.33},null,null," 竹               林",null,null,null,{"$f":"データ一覧!L270","v":18.62},null,null,"     金属","はん用機械",null,null,null,null,null,null,null,null,{"$f":"データ一覧!L349","v":5},null,null,null,{"$f":"+データ一覧!L374","v":84},null,null,null,null,null,null,{"$f":"データ一覧!L399","v":169883},null,null,null,null,null,null,"生活保護施設",null,null,null,null,null,null,null,{"$f":"データ一覧!L557","v":"-"},null,null,null,{"$f":"データ一覧!L570","v":"-"},null,null,null,"人",null,"指定障害者支援施設",null,null,null,null,null,null,null,{"$f":"データ一覧!L563","v":2},null,null,null,{"$f":"データ一覧!L576","v":190},null,null,null,"人"]
["齢","令",null,null,null,"～",null,null,"～",null,null,"～",null,null,"～",null,null,"～",null,null,"～",null,null,null,null,null,null,null,null,null,null,null,null,null,null,null,null,null,null,"     一般機械","生産用機械",null,null,null,null,null,null,null,null,{"$f":"データ一覧!L350","v":24},null,null,null,{"$f":"+データ一覧!L375","v":388},null,null,null,null,null,null,{"$f":"データ一覧!L400","v":856440},null,null,null,null,null,null,"地域福祉施設",null,null,null,null,null,null,null,{"$f":"データ一覧!L558","v":"-"},null,null,null,{"$f":"データ一覧!L571","v":"-"},null,null,null,null,null,"指定相談支援事業所",null,null,null,null,null,null,null,{"$f":"データ一覧!L564","v":3},null,null,null,{"$f":"データ一覧!L577","v":"-"}]
["階",{"$f":"+LEFT(データ一覧!$A$83,1)","v":"6"},"  分",null,null,null,"14歳",null,null,"24歳",null,null,"34歳",null,null,"44歳",null,null,"54歳",null,null,"64歳",null,null,"以上","    林     野     の     構     成",null,null,null,null,null,null,"保     有     形     態     別",null,null,null,null,null,null,"     電気機械","業務用機械",null,null,null,null,null,null,null,null,{"$f":"データ一覧!L351","v":3},null,null,null,{"$f":"+データ一覧!L376","v":149},null,null,null,null,null,null,{"$f":"データ一覧!L401","v":237219},null,null,null,null,null,null,"老人福祉施設",null,null,null,null,null,null,null,{"$f":"データ一覧!L559","v":11},null,null,null,{"$f":"データ一覧!L572","v":167},null,null,null,null,null,"児童福祉施設",null,null,null,null,null,null,null,{"$f":"データ一覧!L565","v":49},null,null,null,{"$f":"データ一覧!L578","v":2950}]
["級","・",null,null,null,null,"人",null,null,"人",null,"    人",null,null,"    人",null,null,"    人",null,null,"    人",null,null,"    人",null,null,null,null,null,null,null,"ha",null,null,null,null,null,"       ha",null,null,"電子・デバイス",null,null,null,null,null,null,null,null,{"$f":"データ一覧!L352","v":6},null,null,null,{"$f":"+データ一覧!L377","v":1125},null,null,null,null,null,null,{"$f":"データ一覧!L402","v":3304236},null,null,null,null,null,null,"介護保険施設",null,null,null,null,null,null,null,{"$f":"データ一覧!L560","v":93},null,null,null,{"$f":"データ一覧!L573","v":1837},null,null,null,null,null,"母子福祉施設",null,null,null,null,null,null,null,{"$f":"データ一覧!L566","v":"-"},null,null,null,{"$f":"データ一覧!L579","v":"-"}]
["別",{"$f":"+MID(データ一覧!$A$83,3,2)","v":"10"},"総 数",null,{"$f":"+E42+E43","v":8849},null,null,{"$f":"+H42+H43","v":6754},null,null,{"$f":"+K42+K43","v":6141},null,null,{"$f":"+N42+N43","v":7896},null,null,{"$f":"+Q42+Q43","v":10231},null,null,{"$f":"+T42+T43","v":8017},null,null,{"$f":"+W42+W43","v":18879},null,null," 無立木地   伐採跡地",null,null,null,{"$f":"データ一覧!L271","v":0},null,null,"国   　　　 　 有",null,null,null,{"$f":"データ一覧!L273","v":16.96},null,null,null,"電気機械",null,null,null,null,null,null,null,null,{"$f":"データ一覧!L353","v":2},null,null,null,{"$f":"+データ一覧!L378","v":26},null,null,null,null,null,null,{"$f":"データ一覧!L403","v":"x"},null,null,null,null,null,null,"障害者自立支援法施行前からの身体障害者福祉施設",null,null,null,null,null,null,null,{"$f":"データ一覧!L561","v":"-"},null,null,null,{"$f":"データ一覧!L574","v":"-"},null,null,null,null,null,"婦人保護施設",null,null,null,null,null,null,null,{"$f":"データ一覧!L567","v":"-"},null,null,null,{"$f":"データ一覧!L580","v":"-"}]
["人","・","  男",null,{"$f":"データ一覧!L83","v":4530},null,null,{"$f":"データ一覧!L84","v":3514},null,null,{"$f":"データ一覧!L85","v":3183},null,null,{"$f":"データ一覧!L86","v":3945},null,null,{"$f":"データ一覧!L87","v":5220},null,null,{"$f":"データ一覧!L88","v":3983},null,null,{"$f":"データ一覧!L89","v":8260},null,null," 無立木地   未立木地",null,null,null,{"$f":"データ一覧!L272","v":24.31},null,null,"公       　　  有",null,null,null,{"$f":"データ一覧!L274","v":126.77},null,null,"     輸送機械","情報通信機械",null,null,null,null,null,null,null,null,{"$f":"データ一覧!L354","v":0},null,null,null,{"$f":"+データ一覧!L379","v":0},null,null,null,null,null,null,{"$f":"データ一覧!L404","v":0},null,null,null,null,null,null,null,null,null,null,null,null,null,null,null,null,null,null,null,null,null,null,null,null,"その他の社会福祉施設",null,null,null,null,null,null,null,{"$f":"データ一覧!L568+データ一覧!L569","v":0},null,null,null,0]
["口",{"$f":"+RIGHT(データ一覧!$A$83,1)","v":"1"},"  女",null,{"$f":"データ一覧!L91","v":4319},null,null,{"$f":"データ一覧!L92","v":3240},null,null,{"$f":"データ一覧!L93","v":2958},null,null,{"$f":"データ一覧!L94","v":3951},null,null,{"$f":"データ一覧!L95","v":5011},null,null,{"$f":"データ一覧!L96","v":4034},null,null,{"$f":"データ一覧!L97","v":10619},null,null,null,null,null,null,null,null,null,"私          　 有",null,null,null,{"$f":"データ一覧!L275","v":3004.69},null,null,"     精密機械","輸送機械",null,null,null,null,null,null,null,null,{"$f":"データ一覧!L355","v":2},null,null,null,{"$f":"+データ一覧!L380","v":21},null,null,null,null,null,null,{"$f":"データ一覧!L405","v":"x"},null,null,null,null,null,null,"障害福祉サービス事業所",null,null,null,null,null,null,null,{"$f":"データ一覧!L562","v":54},null,null,null,{"$f":"データ一覧!L575","v":641}]
[null,null,null,null,null,null,null,null,null,null,null,null,null,null,null,null,null,null,null,null,null,null,null,null,null,"            林     産     物     生     産     量 ",null,null,null,null,null,null,null,null,null,{"$f":"データ一覧!$A$276","v":"5年中"},null,null,null,"     その他","その他",null,null,null,null,null,null,null,null,{"$f":"データ一覧!L356","v":142},null,null,null,{"$f":"+データ一覧!L381","v":3243},null,null,null,null,null,null,{"$f":"データ一覧!L406","v":5541276},null,null,null,null,null,null," １７  教　　　　　　　育",null,null,null,null,null,null,null,null,null,null,null,null,null,null,null,{"$f":"データ一覧!$A$583","v":"6.5.1"}]
["人口動態",null,null,null,null,null,null,"   自　然　動　態",null,null,null,null,null,"   社  会  動  態",null,null,null,null,null,{"$f":"データ一覧!$A78","v":"5.1.1～5.12.31"},null,null,null,null,null,"生椎茸",null,null,null,{"$f":"データ一覧!L276","v":1515},null,"㎏","乾椎茸",null,null,null,{"$f":"データ一覧!L277","v":486},null,"㎏"]
[null,null,"   区       分",null,null,null,null," 出   生",null,null," 死   亡",null,null," 転   入",null,null," 転   出",null,null," 婚   姻",null,null," 離   婚",null,null,"えのきだけ",null,null,null,{"$f":"データ一覧!L279","v":0},null,"㎏","なめこ",null,null,null,{"$f":"データ一覧!L278","v":0},null,"㎏","    ","工　業　用　水　量",null,null,null,null,null,"（従業者30人以上の事業所）",null,null,null,null,null,null,null,null,null,null,{"$f":"データ一覧!L407","v":37236},null,null,null,null,"㎥／日",null,null,null,null,null,null,null,null,null,null,null,null,null,null,"学校数（校）",null,null,null,null,null,null,"教員数（人）",null,null,null,null,null,null,null,"学生・生徒・児童数（人）"]
[{"$f":"LEFT(データ一覧!$A74,6)","v":"5.10.1"},null,null,null,null,null,null,"       人",null,null,"       人",null,null,"       人",null,null,"       人",null,null,null,"    件",null,null,"    件",null,"ひらたけ",null,null,null,{"$f":"+データ一覧!L280","v":0},null,"㎏","まいたけ",null,null,null,{"$f":"+データ一覧!L281","v":0},null,"㎏",null,null,null,null,null,null,null,null,null,null,null,null,null,null,null,null,null,null,null,null,null,null,null,null,null,null,null,null,null,"　","区分",null,null,null,null,null,null,null," 本 校",null,null," 分 校",null,null," 本   務",null,null,null," 兼   務",null,null,null," 総   数",null,null,null,"男",null,null,null,"女"]
["～",null," 実          数",null,null,null,null,{"$f":"データ一覧!L74","v":494},null,null,{"$f":"データ一覧!L75","v":802},null,null,{"$f":"データ一覧!L76","v":2048},null,null,{"$f":"データ一覧!L77","v":1880},null,null,{"$f":"データ一覧!L78","v":260},null,null,{"$f":"データ一覧!L79","v":91},null,null,null,null,null,null,null,null,null,null,null,null,null,null,null,null," １１ 　上　・　下　水　道",null,null,null,null,null,null,null,null,null,null,null,null,null,null,null,null,null,null,null,null,null,null,null,null,null,null,null,null,"小学校",null,null,null,null,null,null,null,null,{"$f":"データ一覧!L584","v":12},null,null,{"$f":"データ一覧!L585","v":0},null,null,{"$f":"データ一覧!L586","v":266},null,null,null,{"$f":"データ一覧!L587","v":34},null,null,null,{"$f":"データ一覧!L588","v":3716},null,null,null,{"$f":"データ一覧!L589","v":1924},null,null,null,{"$f":"データ一覧!L590","v":1792}]
[{"$f":"RIGHT(データ一覧!$A76,6)","v":"6.9.30"},null,"比率(対1,000人)",null,null,null,null,{"$f":"+H48/I36*1000","v":7.2325846973734302},null,null,{"$f":"+K48/I36*1000","v":11.741969488448362},null,null,"- ",null,null,"- ",null,null,{"$f":"+T48/I36*1000","v":3.806623524933384},null,null,{"$f":"+W48/I36*1000","v":1.3323182337266843},null,null,"  ６  漁               業",null,null,null,null,null,null,null,null,null,null,null,null,null,null,null,null,null,null,null,null,null,null,null,null,null,null,null,null,null,null,null,null,null,null,null,null,null,null,null,null,null,"  ","中学校",null,null,null,null,null,null,null,null,{"$f":"データ一覧!L592","v":3},null,null,{"$f":"データ一覧!L593","v":0},null,null,{"$f":"データ一覧!L594","v":137},null,null,null,{"$f":"データ一覧!L595","v":11},null,null,null,{"$f":"データ一覧!L596","v":2061},null,null,null,{"$f":"データ一覧!L597","v":1045},null,null,null,{"$f":"データ一覧!L598","v":1016}]
[null,null,null,null,null,null,null,null,null,null,null,null,null,null,null,null,null,null,null,null,null,null,null,null,null,null,null,null,null,null,null,null,null,null,null,null,null,null,null,"水 道 供 給 人 口",null,null,null,null,null,null,"上 水 道",null,null,null,"簡易水道",null,null,null,"専用水道",null,null,null,"飲料水供給施設",null,null,null,"下水道処理人口",null,null,null,null,"  ","高等学校",null,null,null,null,null,null,null,null,{"$f":"データ一覧!L600","v":1},null,null,{"$f":"データ一覧!L601","v":0},null,null,{"$f":"データ一覧!L602","v":65},null,null,null,{"$f":"データ一覧!L603","v":19},null,null,null,{"$f":"データ一覧!L604","v":815},null,null,null,{"$f":"データ一覧!L605","v":442},null,null,null,{"$f":"データ一覧!L606","v":373}]
["  ３  事　　業　　所（民　　営）",null,null,null,null,null,null,null,null,null,null,"3.6.1",null,null,null,null,null,null,null,null,null,null,null,null,null,"漁船隻数・トン数",null,null,null,{"$f":"データ一覧!$A$282","v":"5.12.31"},null,null,null,"動　力　船",null,null,null,null,null,{"$f":"データ一覧!$A$408","v":"6.3.31"},null,null,null,null,null,"人",null,{"$f":"データ一覧!L408","v":68221},null,null,{"$f":"データ一覧!L409","v":0},null,null,null,null,{"$f":"データ一覧!L410","v":0},null,null,null,{"$f":"データ一覧!L411","v":0},null,null,null,{"$f":"データ一覧!L412","v":50658},null,null,null,"  ","大学・短期大学",null,null,null,null,null,null,null,null,{"$f":"データ一覧!L607","v":0},null,null,{"$f":"データ一覧!L608","v":0},null,null,{"$f":"データ一覧!L609","v":0},null,null,null,{"$f":"データ一覧!L610","v":0},null,null,null,{"$f":"データ一覧!L611","v":0},null,null,null,{"$f":"データ一覧!L612","v":0},null,null,null,{"$f":"データ一覧!L613","v":0}]
[null,null,null,null,null,null,null,null,null,null,null,null,null,null,null,null,null,null,null,null,null,null,null,null,null,"無動力船隻数",null,null,null,"船外機付漁船隻数",null,null,null,"隻　数",null,null,"総 ト ン 数",null,null,null,null,null,null,null,null,null,null,null,null,null,null,null,null,null,null,null,null,null,null,null,null,null,null,null,null,null,null,"  ","高等専門学校",null,null,null,null,null,null,null,null,{"$f":"データ一覧!L614","v":1},null,null,{"$f":"データ一覧!L615","v":0},null,null,{"$f":"データ一覧!L616","v":77},null,null,null,{"$f":"データ一覧!L617","v":42},null,null,null,{"$f":"データ一覧!L618","v":1063},null,null,null,{"$f":"データ一覧!L619","v":828},null,null,null,{"$f":"データ一覧!L620","v":235}]
[null,null,null,null,null,null,null,"    総　　　　　数",null,null,null,null,null,"    民　　　　　営",null,null,null,null,null,"  国 ･ 地方公共団体",null,null,null,null,null,null,null,null,"隻",null,null,null,"隻",null,null,"隻",null,null,"t"," １２  交   通　・　通   信",null,null,null,null,null,null,null,null,null,null,null,null,null,null,null,null,null,null,null,null,null,null,null,null,null,null,null,"  ","特別支援学校",null,null,null,null,null,null,null,null,{"$f":"データ一覧!L622","v":0},null,null,{"$f":"データ一覧!L623","v":0},null,null,{"$f":"データ一覧!L624","v":0},null,null,null,{"$f":"データ一覧!L625","v":0},null,null,null,{"$f":"データ一覧!L626","v":0},null,null,null,{"$f":"データ一覧!L627","v":0},null,null,null,{"$f":"データ一覧!L628","v":0}]
["  　区　　　　　　分",null,null,null,null,null,null," 事業所数",null,null," 従業者数",null,null," 事業所数",null,null," 従業者数",null,null," 事業所数",null,null," 従業者数",null,null,{"$f":"データ一覧!$L$282","v":0},null,null,null,{"$f":"データ一覧!$L$283","v":0},null,null,null,{"$f":"データ一覧!L284","v":0},null,null,{"$f":"データ一覧!L285","v":0},null,null,null,null,null,null,null,null,null,null,null,null,null,null,null,null,null,null,null,null,null,null,null,null,null,null,null,null,null,null,"  ","幼稚園",null,null,null,null,null,null,null,null,{"$f":"データ一覧!L630","v":4},null,null,{"$f":"データ一覧!L631","v":0},null,null,{"$f":"データ一覧!L632","v":13},null,null,null,{"$f":"データ一覧!L633","v":4},null,null,null,{"$f":"データ一覧!L634","v":62},null,null,null,{"$f":"データ一覧!L635","v":31},null,null,null,{"$f":"データ一覧!L636","v":31}]
[null,null,null,null,null,null,null,null,null,null,"       人",null,null,null,null,null,"       人",null,null,null,null,null,"       人",null,null,"  男女別就業者数",null,null,null,null,null,null,null,{"$f":"データ一覧!$A$286","v":"5.11.1"},null,null,null,null,null,"道     路",null,null,null,"実 延 長",null,null,null,"国     道",null,null,null,"県     道",null,null,null,"市町道",null,null,null," 鉄 道 営 業 キ ロ 数",null,null,null,null,null,null,null,"  ","幼保連携認定こども園",null,null,null,null,null,null,null,null,{"$f":"データ一覧!L638","v":5},null,null,{"$f":"データ一覧!L639","v":0},null,null,{"$f":"データ一覧!L640","v":118},null,null,null,{"$f":"データ一覧!L641","v":22},null,null,null,{"$f":"データ一覧!L642","v":772},null,null,null,{"$f":"データ一覧!L643","v":405},null,null,null,{"$f":"データ一覧!L644","v":367}]
["総数",null,null,null,null,null,null,{"$f":"データ一覧!L99","v":"…"},null,null,{"$f":"データ一覧!L156","v":"…"},null,null,{"$f":"データ一覧!L100","v":3399},null,null,{"$f":"データ一覧!L157","v":30197},null,null,{"$f":"データ一覧!L101","v":"…"},null,null,{"$f":"データ一覧!L158","v":"…"},null,null,"総　　数",null,null,null,null,null,"男",null,null,null,"女",null,null,null,{"$f":"データ一覧!$A$413","v":"5.4.1"},null,null,null,{"$f":"データ一覧!L413","v":702.8},null,null,"㎞",{"$f":"データ一覧!L414","v":11.1},null,null,"㎞",{"$f":"データ一覧!L415","v":66.900000000000006},null,null,"㎞",{"$f":"データ一覧!L416","v":624.79999999999995},null,null,"km",{"$f":"データ一覧!$A$417","v":"6.4.1"},null,null,null,{"$f":"データ一覧!L417","v":7.4},null,null,"㎞","  ","各種学校",null,null,null,null,null,null,null,null,{"$f":"データ一覧!L646","v":0},null,null,{"$f":"データ一覧!L647","v":0},null,null,{"$f":"データ一覧!L648","v":0},null,null,null,{"$f":"データ一覧!L649","v":0},null,null,null,{"$f":"データ一覧!L650","v":0},null,null,null,{"$f":"データ一覧!L651","v":0},null,null,null,{"$f":"データ一覧!L652","v":0}]
["農林漁業",null,null,null,null,null,null,{"$f":"データ一覧!L102","v":"…"},null,null,{"$f":"データ一覧!L159","v":"…"},null,null,{"$f":"データ一覧!L103","v":22},null,null,{"$f":"データ一覧!L160","v":221},null,null,{"$f":"データ一覧!L104","v":"…"},null,null,{"$f":"データ一覧!L161","v":"…"},null,null,null,null,null,null,null,"人",null,null,"　　　　人",null,null,null,null,"  人","自動車",null,null,null,null,null,null,null,null,"乗用車",null,null,null,null,null,null,null,null,null,null,null,null,null,null,null,null,null,null,"  ","専修学校",null,null,null,null,null,null,null,null,{"$f":"データ一覧!L654","v":0},null,null,{"$f":"データ一覧!L655","v":0},null,null,{"$f":"データ一覧!L656","v":0},null,null,null,{"$f":"データ一覧!L657","v":0},null,null,null,{"$f":"データ一覧!L658","v":0},null,null,null,{"$f":"データ一覧!L659","v":0},null,null,null,{"$f":"データ一覧!L660","v":0}]
["鉱業",null,null,null,null,null,null,{"$f":"データ一覧!L105","v":"…"},null,null,{"$f":"データ一覧!L162","v":"…"},null,null,{"$f":"データ一覧!L106","v":"-"},null,null,{"$f":"データ一覧!L163","v":"-"},null,null,{"$f":"データ一覧!L107","v":"…"},null,null,{"$f":"データ一覧!L164","v":"…"},null,null,{"$f":"データ一覧!L286","v":0},null,null,null,null,null,{"$f":"データ一覧!$L$287","v":0},null,null,null,{"$f":"データ一覧!L288","v":0},null,null,null,"台  数",null,null,null,"貨    物",null,null,null,"普     通",null,null,null,"小     型",null,null,null,"乗  合",null,null,"特  種",null,null,"小型二輪",null,null,"軽自動車",null,null," １８  衛　　　　　　　生"]
["建設業",null,null,null,null,null,null,{"$f":"データ一覧!L108","v":"…"},null,null,{"$f":"データ一覧!L165","v":"…"},null,null,{"$f":"データ一覧!L109","v":258},null,null,{"$f":"データ一覧!L166","v":1575},null,null,{"$f":"データ一覧!L110","v":"…"},null,null,{"$f":"データ一覧!L167","v":"…"},null,null,"　　　　海 面 漁 業 漁 獲 量 （属人）",null,null,null,null,null,null,null,{"$f":"データ一覧!$A$289","v":"30年中"},null,null,null,null,null,{"$f":"データ一覧!$A$418","v":"6.3.31"},null,null,null,null,{"$f":"データ一覧!L418","v":2782},null,null,null,{"$f":"データ一覧!L420","v":13986},null,null,null,{"$f":"データ一覧!L421","v":12185},null,null,{"$f":"データ一覧!L419","v":99},null,null,{"$f":"データ一覧!L422","v":827},null,null,{"$f":"データ一覧!L423","v":838},null,null,{"$f":"データ一覧!L424","v":25384}]
["製造業",null,null,null,null,null,null,{"$f":"データ一覧!L111","v":"…"},null,null,{"$f":"データ一覧!L168","v":"…"},null,null,{"$f":"データ一覧!L112","v":973},null,null,{"$f":"データ一覧!L169","v":10921},null,null,{"$f":"データ一覧!L113","v":"…"},null,null,{"$f":"データ一覧!L170","v":"…"},null,null,null,null,null,null,null,"       ","ｔ",null,null,null,null,null,null,"t",null,null,"     ",null,"郵　便　局　数",null,null,null,null,null,null,null,null,null,null,null,null,null,{"$f":"+MID(データ一覧!$A$428,3,2)","v":"3."},"令","一般加入",null,null,null,"ＩＮＳネット",null,null,null,null,null,null,null,"医療関係施設",null,null,null,null,null,{"$f":"データ一覧!$A$661","v":"5.10.1"},null,null,null,null,null,null,"および医療関係者数",null,null,null,null,null,null,null,{"$f":"データ一覧!$A$666","v":"4.12.31"}]
["電気・ｶﾞ ｽ・熱供給・水道業",null,null,null,null,null,null,{"$f":"データ一覧!L114","v":"…"},null,null,{"$f":"データ一覧!L171","v":"…"},null,null,{"$f":"データ一覧!L115","v":1},null,null,{"$f":"データ一覧!L172","v":2},null,null,{"$f":"データ一覧!L116","v":"…"},null,null,{"$f":"データ一覧!L173","v":"…"},null,null,"   総　　　　　　数",null,null,null,{"$f":"データ一覧!L289","v":0},null,null,"   藻　　　　　　類",null,null,null,{"$f":"データ一覧!L292","v":0},null,null,"通  信",null,null,null," 総     数",null,null,null,null," 郵 便 局",null,null,null,null," 簡 易 局",null,null,null,"・",{"$f":"+LEFT(データ一覧!$A$428,1)","v":"6"},"電話数",null,null,null,"加入数",null,null,null,null,null,null,null,null,null,"　","病",null,null,"院",null,"　",null,null,null,null," ","一般診療所",null,null,null,null,null,null,null,null,null,null,null,"歯科診療所"]
["情報通信業",null,null,null,null,null,null,{"$f":"データ一覧!L117","v":"…"},null,null,{"$f":"データ一覧!L174","v":"…"},null,null,{"$f":"データ一覧!L118","v":17},null,null,{"$f":"データ一覧!L175","v":356},null,null,{"$f":"データ一覧!L119","v":"…"},null,null,{"$f":"データ一覧!L176","v":"…"},null,null,"   魚　　　　　　類",null,null,null,{"$f":"データ一覧!L290","v":0},null,null,"   そ　   の　　 他",null,null,null,{"$f":"データ一覧!L293","v":0},null,null,{"$f":"データ一覧!$A$428","v":"6.3.31"},null,null,null,{"$f":"データ一覧!L425","v":14},null,null,null,null,{"$f":"データ一覧!L426","v":12},null,null,null,null,{"$f":"データ一覧!L427","v":2},null,null,null,{"$f":"+RIGHT(データ一覧!$A$428,2)","v":"31"},"・",{"$f":"データ一覧!L428","v":4104},null,null,null,{"$f":"データ一覧!L429","v":426},null,null,null," ","医療関係",null,null,null,null,null,null,null,null,null,null,null,"一般病院",null,null,null,null,null,null,null,null,null,null,null,"有",null,null,"床"]
["運輸業、郵便業",null,null,null,null,null,null,{"$f":"データ一覧!L120","v":"…"},null,null,{"$f":"データ一覧!L177","v":"…"},null,null,{"$f":"データ一覧!L121","v":48},null,null,{"$f":"データ一覧!L178","v":713},null,null,{"$f":"データ一覧!L122","v":"…"},null,null,{"$f":"データ一覧!L179","v":"…"},null,null,"   貝　　　　　　類",null,null,null,{"$f":"データ一覧!L291","v":0},null,null,null,null,null,null,null,null,null,null,null,null,null,null,null,null,null,null,null,null,null,null,null,null,null,null,null,null,null,null,null,null,null,null,null,null,null,null,"施設数",null,null,null,null,null,null,{"$f":"データ一覧!L661","v":7},null,null,null,null,null,{"$f":"データ一覧!L662","v":6},null,null,null,null,null,{"$f":"データ一覧!L663","v":41},null,null,null,null,null,{"$f":"データ一覧!L664","v":2},null,null,null,null,null,{"$f":"データ一覧!L665","v":25}]
["卸売業、小売業",null,null,null,null,null,null,{"$f":"データ一覧!L123","v":"…"},null,null,{"$f":"データ一覧!L180","v":"…"},null,null,{"$f":"データ一覧!L124","v":737},null,null,{"$f":"データ一覧!L181","v":5676},null,null,{"$f":"データ一覧!L125","v":"…"},null,null,{"$f":"データ一覧!L182","v":"…"},null,null,null,null,null,null,null,null,null,null,null,null,null,null,null,null," １３  税　　・　　財　　政",null,null,null,null,null,null,null,null,null,null,null,null,null,null,null,null,null,null,null,null,null,null,null,null,null,null,null,null,null,null,null,null,null,null,"医師",null,null,null,null,"歯科医師",null,null,null,null,"薬剤師",null,null,null,null,"保健師",null,null,null,null,"助産師",null,null," ",null,"看護師",null,null," "]
["金融業、保険業",null,null,null,null,null,null,{"$f":"データ一覧!L126","v":"…"},null,null,{"$f":"データ一覧!L183","v":"…"},null,null,{"$f":"データ一覧!L127","v":51},null,null,{"$f":"データ一覧!L184","v":604},null,null,{"$f":"データ一覧!L128","v":"…"},null,null,{"$f":"データ一覧!L185","v":"…"},null,null,"  ７  商        　　　業 ",null,null,null,null,null,null,{"$f":"データ一覧!$A$294","v":"3.6.1(令和2年実績）"},null,null,null,null,null,null,null,null,null,null,null,null,null,null,null,null,null,null,null,null,null,null,null,null,null,null,null,null,null,null,null,null,null,null," ","医療",null,null,null,null,null,null,null,null,"人",null,null,null,null,"人",null,null,null,null,"人",null,null,null,null,"人",null,null,null,null,"人",null,null,null,null,"人"]
["不動産業、物品賃貸業",null,null,null,null,null,null,{"$f":"データ一覧!L129","v":"…"},null,null,{"$f":"データ一覧!L186","v":"…"},null,null,{"$f":"データ一覧!L130","v":85},null,null,{"$f":"データ一覧!L187","v":218},null,null,{"$f":"データ一覧!L131","v":"…"},null,null,{"$f":"データ一覧!L188","v":"…"},null,null,null,null,null,null,null,null,null,null,null,null,null,null,null,null,"           ",null,null,null,"歳入",null,null,null,null,null,null,null,null,"(千円）"," ",null,null,null,"歳出",null,null,null,null,null,null,null,null,"(千円）",null,"関係者",null,null,null,null,{"$f":"データ一覧!L666","v":124},null,null,null,null,{"$f":"データ一覧!L667","v":38},null,null,null,null,{"$f":"データ一覧!L668","v":107},null,null,null,null,{"$f":"データ一覧!L669","v":34},null,null,null,null,{"$f":"データ一覧!L670","v":13},null,null,null,null,{"$f":"データ一覧!L671","v":862}]
["学術研究、専門・技術ｻｰﾋﾞｽ業",null,null,null,null,null,null,{"$f":"データ一覧!L132","v":"…"},null,null,{"$f":"データ一覧!L189","v":"…"},null,null,{"$f":"データ一覧!L133","v":105},null,null,{"$f":"データ一覧!L190","v":466},null,null,{"$f":"データ一覧!L134","v":"…"},null,null,{"$f":"データ一覧!L191","v":"…"},null,null,"  産   業　 分　 類",null,null,null," 事　業　所　数",null,null," 従　業　者　数",null,null,"年　間　販　売　額",null,null,null,"一人当たり歳入歳出予算決算額",null,null,null,null,null,null,null,null,null,null,null,null,null,null,null,null,null,null,null,null,null,null,null,null,null,null,null,"                   ",null,null,null,null,null,null,null,null,"死因別死亡数　　　　　　    ",null,null,null,null,null,null,null,null,null,null,null,null,null,null,null,{"$f":"データ一覧!$A$672","v":"5年中"},null,null,null,null,null,null,null,null,"      単 位：人"]
["宿泊業、飲食サービス業",null,null,null,null,null,null,{"$f":"データ一覧!L135","v":"…"},null,null,{"$f":"データ一覧!L192","v":"…"},null,null,{"$f":"データ一覧!L136","v":300},null,null,{"$f":"データ一覧!L193","v":2348},null,null,{"$f":"データ一覧!L137","v":"…"},null,null,{"$f":"データ一覧!L194","v":"…"},null,null,null,null,null,null,null,null,null,null,null,"　人",null,"         百万円",null,null,"区分",null,null,null,{"$f":"データ一覧!$A$438","v":"6年度"},null,null,null,null,{"$f":"データ一覧!$A$452","v":"5年度"},null,null,null,null,"区分",null,null,null,{"$f":"+AR68","v":"6年度"},null,null,null,null,{"$f":"データ一覧!$A$452","v":"5年度"},null,null,null,null," 死     因",null,null,null,null,null,null,null,null,null,null,null,"悪  性",null,null,"高血圧",null,null,null,null,null,"脳血管",null,null,null,null,null," ",null,null,"不慮の事故"]
["生活関連サービス業、娯楽業",null,null,null,null,null,null,{"$f":"データ一覧!L138","v":"…"},null,null,{"$f":"データ一覧!L195","v":"…"},null,null,{"$f":"データ一覧!L139","v":266},null,null,{"$f":"データ一覧!L196","v":983},null,null,{"$f":"データ一覧!L140","v":"…"},null,null,{"$f":"データ一覧!L197","v":"…"},null,null,"総　　　　　　計",null,null,null,{"$f":"データ一覧!L294","v":650},null,null,{"$f":"データ一覧!L303","v":5058},null,null,{"$f":"データ一覧!L312","v":125738},null,null,null,null,null,null,null,{"$f":"データ一覧!L434","v":441241.06678552856},null,null,null,null,{"$f":"データ一覧!L435","v":458108.45874416188},null,null,null,null,null,null,null,null,{"$f":"データ一覧!L436","v":441241.06678552856},null,null,null,null,{"$f":"データ一覧!L437","v":435364.66750685743},null,null,null,null,null,null,null,null,null,"全 死 因",null,null,null,"結 核",null,null,"新生物",null,null,"性疾患",null,null,"心疾患",null,null,"疾  患",null,null,"肺  炎",null,null,"老  衰",null,null,null,null," ","交通事故"]
["教育、学習支援業",null,null,null,null,null,null,{"$f":"データ一覧!L141","v":"…"},null,null,{"$f":"データ一覧!L198","v":"…"},null,null,{"$f":"データ一覧!L142","v":83},null,null,{"$f":"データ一覧!L199","v":430},null,null,{"$f":"データ一覧!L143","v":"…"},null,null,{"$f":"データ一覧!L200","v":"…"},null,null,"卸売業",null,null,null,{"$f":"データ一覧!L295","v":178},null,null,{"$f":"データ一覧!L304","v":1494},null,null,{"$f":"データ一覧!L313","v":64358},null,null,null,"項目別歳入歳出予算決算額"]
["医療、福祉",null,null,null,null,null,null,{"$f":"データ一覧!L144","v":"…"},null,null,{"$f":"データ一覧!L201","v":"…"},null,null,{"$f":"データ一覧!L145","v":200},null,null,{"$f":"データ一覧!L202","v":4206},null,null,{"$f":"データ一覧!L146","v":"…"},null,null,{"$f":"データ一覧!L203","v":"…"},null,null,"小売業",null,null,null,{"$f":"データ一覧!L296","v":472},null,null,{"$f":"データ一覧!L305","v":3564},null,null,{"$f":"データ一覧!L314","v":61381},null,null,null,"区分",null,null,null,{"$f":"データ一覧!$A$438","v":"6年度"},null,null,null,null,{"$f":"データ一覧!$A$452","v":"5年度"},null,null,null,null,"区分",null,null,null,{"$f":"+AR71","v":"6年度"},null,null,null,null,{"$f":"データ一覧!$A$452","v":"5年度"},null,null,null,null,null,null,null,null,null,{"$f":"データ一覧!L672","v":764},null,null,null,"   －",{"$f":"データ一覧!L673","v":"-"},null,{"$f":"データ一覧!L674","v":181},null,null,null,{"$f":"データ一覧!L675","v":2},null,{"$f":"データ一覧!L676","v":129},null,null,{"$f":"データ一覧!L677","v":63},null,null,{"$f":"データ一覧!L678","v":38},null,null,{"$f":"データ一覧!L679","v":56},null,null,{"$f":"データ一覧!L680","v":35},null,null,{"$f":"データ一覧!L681","v":4}]
["複合サービス事業",null,null,null,null,null,null,{"$f":"データ一覧!L147","v":"…"},null,null,{"$f":"データ一覧!L204","v":"…"},null,null,{"$f":"データ一覧!L148","v":23},null,null,{"$f":"データ一覧!L205","v":308},null,null,{"$f":"データ一覧!L149","v":"…"},null,null,{"$f":"データ一覧!L206","v":"…"},null,null,"各種商品",null,null,null,{"$f":"データ一覧!L297","v":1},null,null,{"$f":"データ一覧!L306","v":177},null,null,{"$f":"データ一覧!L315","v":"x"},null,null,null,"総額",null,null,null,{"$f":"SUM(AR73:AV85)","v":29697730},null,null,null,null,{"$f":"SUM(AW73:BA85)","v":30897125},null,null,null,null,"総額",null,null,null,{"$f":"SUM(BF73:BJ85)","v":29697730},null,null,null,null,{"$f":"SUM(BK73:BO85)","v":29363170},null,null,null,null," １９  警　察　・　消　防  ",null,null,null,null,null,null,null,null,null,null,null,null,null,null,null,{"$f":"+データ一覧!$A682","v":"6.4.1"}]
["サービス業",null,null,null,null,null,null,{"$f":"データ一覧!L150","v":"…"},null,null,{"$f":"データ一覧!L207","v":"…"},null,null,{"$f":"データ一覧!L151","v":230},null,null,{"$f":"データ一覧!L208","v":1170},null,null,{"$f":"データ一覧!L152","v":"…"},null,null,{"$f":"データ一覧!L209","v":"…"},null,null,"織物・衣服・身の回り品",null,null,null,{"$f":"データ一覧!L298","v":64},null,null,{"$f":"データ一覧!L307","v":221},null,null,{"$f":"データ一覧!L316","v":2622},null,null,null,"地方税",null,null,null,{"$f":"データ一覧!L439","v":9747000},null,null,null,null,{"$f":"データ一覧!L453","v":10269906},null,null,null,null,"議会費",null,null,null,{"$f":"データ一覧!L467","v":253140},null,null,null,null,{"$f":"データ一覧!L481","v":229780}]
["公務",null,null,null,null,null,null,{"$f":"データ一覧!L153","v":"…"},null,null,{"$f":"データ一覧!L210","v":"…"},null,null,{"$f":"データ一覧!L154","v":"…"},null,null,{"$f":"データ一覧!L211","v":"…"},null,null,{"$f":"データ一覧!L155","v":"…"},null,null,{"$f":"データ一覧!L212","v":"…"},null,null,"飲食料品",null,null,null,{"$f":"データ一覧!L299","v":141},null,null,{"$f":"データ一覧!L308","v":1491},null,null,{"$f":"データ一覧!L317","v":21131},null,null,null,"地方譲与税",null,null,null,{"$f":"データ一覧!L440","v":262000},null,null,null,null,{"$f":"データ一覧!L454","v":258676},null,null,null,null,"総務費",null,null,null,{"$f":"データ一覧!L468","v":3592152},null,null,null,null,{"$f":"データ一覧!L482","v":3477102},null,null,null,null,null,null,null,null,null,null,null,null,null,null,"交番・駐在所",null,null,null,null,null,null,null,null,"刑法犯認知件数",null,null,null,null,null,null,null,null,"交通人身事故発生件数"]
["  ４  農        　　　業 ",null,null,null,null,null,null,null,null,null,null,null,null,null,null,null,null,null,null,null,null,null,null,null,null,"機械器具",null,null,null,{"$f":"データ一覧!L300","v":69},null,null,{"$f":"データ一覧!L309","v":406},null,null,{"$f":"データ一覧!L318","v":9335},null,null,null,"各種交付金",null,null,null,{"$f":"データ一覧!L441","v":2144300},null,null,null,null,{"$f":"データ一覧!L455","v":2056990},null,null,null,null,"民生費",null,null,null,{"$f":"データ一覧!L469","v":11838906},null,null,null,null,{"$f":"データ一覧!L483","v":11844921},null,null,null,null,null,"警察署数",null,null,null,null,null,null,null,null,"検問所数",null,null,null,null,null,null,null,null,null,{"$f":"データ一覧!$A$684","v":"5年中"},null,null,null,null,null,null,null,null,{"$f":"データ一覧!$A$684","v":"5年中"}]
[null,null,null,null,null,null,null,null,null,null,null,null,null,null,null,null,null,null,null,null,null,null,null,null,null,"その他",null,null,null,{"$f":"データ一覧!L301","v":177},null,null,{"$f":"データ一覧!L310","v":1032},null,null,{"$f":"データ一覧!L319","v":"x"},null,null,null,"地方特例交付金",null,null,null,{"$f":"データ一覧!L442","v":410000},null,null,null,null,{"$f":"データ一覧!L456","v":101321},null,null,null,null,"衛生費",null,null,null,{"$f":"データ一覧!L470","v":2814715},null,null,null,null,{"$f":"データ一覧!L484","v":2960778},null,null,null,null,null,null,null,null,null,null,null,null,null,null,null,null,null,null,null,null,null,null,null,null,null,null,null,null," 件",null,null,null,null,null,null,null,null,"　件"]
[null,null,"農業経営体数",null,null,null,null,null,null,"農産物販売額規模別経営体数",null,null,null,null,null,null,null,"経営耕地面積規模別経営体数",null,null,null,null,null,null,null,"無店舗",null,null,null,{"$f":"データ一覧!L302","v":20},null,null,{"$f":"データ一覧!L311","v":237},null,null,{"$f":"データ一覧!L320","v":6214},null,null,null,"地方交付税",null,null,null,{"$f":"データ一覧!L443","v":5320000},null,null,null,null,{"$f":"データ一覧!L457","v":5467260},null,null,null,null,"労働費",null,null,null,{"$f":"データ一覧!L471","v":67035},null,null,null,null,{"$f":"データ一覧!L485","v":59831},null,null,null,null,null,null,{"$f":"データ一覧!L682","v":1},null,null,null,null,null,null,null,null,{"$f":"データ一覧!L683","v":8},null,null,null,null,null,null,null,null,{"$f":"データ一覧!L684","v":207},null,null,null,null,null,null,null,null,{"$f":"データ一覧!L685","v":78}]
["農",null,"区　分",null,null,null,"経営体数\n（経営体）",null,null,"区　分",null,null,null,null,"経営体数\n（経営体）",null,null,"区　分",null,null,null,null,"経営体数\n（経営体）",null,null,null,null,null,null,null,null,null,null,null,null,null,null,null,null,"分担金および負担金",null,null,null,{"$f":"データ一覧!L444","v":128370},null,null,null,null,{"$f":"データ一覧!L458","v":154264},null,null,null,null,"農林水産業費",null,null,null,{"$f":"データ一覧!L472","v":984224},null,null,null,null,{"$f":"データ一覧!L486","v":772981},null,null,null,null,"火災発生件数",null,null,null,null,null,null,null,null,null,"林野焼損",null,null,null,null,"損      害",null,null,null,null,"消 防 自",null,null,null,"その他の",null,null,null," ",null,null,null,null," "]
["業","令",null,null,null,null,null,null,null,null,null,null,null,null,null,null,null,null,null,null,null,null,null,null,null,"  ８  住　　　　　　 　宅",null,null,null,null,null,null,null,null,null,null,null,null,null,"使用料および手数料",null,null,null,{"$f":"データ一覧!L445","v":264163},null,null,null,null,{"$f":"データ一覧!L459","v":251885},null,null,null,null,"商工費",null,null,null,{"$f":"データ一覧!L473","v":810510},null,null,null,null,{"$f":"データ一覧!L487","v":887786},null,null,null,null,{"$f":"+データ一覧!$A$686","v":"5年中"},null,null,null,null,"焼損棟数",null,null,null,null,"面    積",null,null,null,null,"見  積  額",null,null,null,null,"動 車 数",null,null,null,"ﾎﾟﾝﾌﾟ数",null,null,null," 消防吏員",null,null,null," 消防団員"]
["経",{"$f":"+LEFT(データ一覧!$A$213)","v":"2"},"計",null,null,null,{"$f":"データ一覧!L213","v":445},null,null,"総　　　 数",null,null,null,null,{"$f":"データ一覧!L217","v":445},null,null,"総　　　 数",null,null,null,null,{"$f":"データ一覧!L233","v":1850},null,null,null,null,null,null,null,null,null,null,null,null,null,null,null,null,"国庫支出金",null,null,null,{"$f":"データ一覧!L446","v":4217721},null,null,null,null,{"$f":"データ一覧!L460","v":4930571},null,null,null,null,"土木費",null,null,null,{"$f":"データ一覧!L474","v":2735213},null,null,null,null,{"$f":"データ一覧!L488","v":2898597},null,null,null,null,"         件",null,null,null,null,null,"      棟",null,null,null,null,null,null,"  ａ",null,null,null,"  千円",null,null,"        ",null,null,null,null,null,null,null,null,null,"  人",null,null,null,"  人"]
["営","・","個人経営体",null,null,null,{"$f":"データ一覧!L214","v":412},null,null,"販 売 な し",null,null,null,null,{"$f":"データ一覧!L218","v":23},null,null,"0.5 ha 未満",null,null,null,null,{"$f":"データ一覧!L234","v":27},null,null,{"$f":"+データ一覧!$A$321","v":"4年"},null,null,null,null,{"$f":"データ一覧!$A$324","v":"5年"},"中の増減",null,null,null,{"$f":"+データ一覧!$A$324","v":"5年"},null,null,null,"県支出金",null,null,null,{"$f":"データ一覧!L447","v":2772009},null,null,null,null,{"$f":"データ一覧!L461","v":2593752},null,null,null,null,"消防費",null,null,null,{"$f":"データ一覧!L475","v":914588},null,null,null,null,{"$f":"データ一覧!L489","v":888256},null,null,null,null,null,{"$f":"データ一覧!L686","v":7},null,null,null,null,{"$f":"データ一覧!L687","v":9},null,null,null,null,{"$f":"データ一覧!L688","v":0},null,null,null,{"$f":"データ一覧!L689","v":12345},null,null,null,null,null,{"$f":"データ一覧!L690","v":20},null,null,null,{"$f":"データ一覧!L691","v":2},null,null,null,{"$f":"データ一覧!L692","v":84},null,null,null,{"$f":"データ一覧!L693","v":221}]
["体",{"$f":"+LEFT(データ一覧!$A$213,1)","v":"2"},"団体経営体",null,null,null,{"$f":"データ一覧!L215","v":33},null,null,"50万円未満",null,null,null,null,{"$f":"データ一覧!L219","v":125},null,null,"0.5 ha ～ 1.0 ha",null,null,null,null,{"$f":"データ一覧!L235","v":84},null,null,null,null,null,null,"建設した住宅",null,null,"消失した住宅",null,null,null,null,null,null,"財産収入",null,null,null,{"$f":"データ一覧!L448","v":53945},null,null,null,null,{"$f":"データ一覧!L462","v":53637},null,null,null,null,"教育費",null,null,null,{"$f":"データ一覧!L476","v":3028092},null,null,null,null,{"$f":"データ一覧!L490","v":2894191},null,null,null,null," ２０  そ　　　の　　　他　"]
["数","・",null,"法人経営",null,null,{"$f":"データ一覧!L216","v":17},null,null,"50～300万円",null,null,null,null,{"$f":"データ一覧!L220","v":224},null,null,"1.0 ha ～ 2.0 ha",null,null,null,null,{"$f":"データ一覧!L236","v":182},null,null,null,null,null,null,null,null,null,null,null,null,null,null,null,null,"繰入金",null,null,null,{"$f":"データ一覧!L449","v":632460},null,null,null,null,{"$f":"データ一覧!L463","v":24587},null,null,null,null,"災害復旧費",null,null,null,{"$f":"データ一覧!L477","v":0},null,null,null,null,{"$f":"データ一覧!L491","v":0}]
["（",{"$f":"+RIGHT(データ一覧!$A$213)","v":"1"},null,null,null,null,null,null,null,"300～500万円",null,null,null,null,{"$f":"データ一覧!L221","v":19},null,null,"2.0 ha ～ 3.0 ha",null,null,null,null,{"$f":"データ一覧!L237","v":85},null,null,null,{"$f":"データ一覧!L321","v":23892},null,"戸",{"$f":"データ一覧!L322","v":660},null,"戸",{"$f":"データ一覧!L323","v":164},null,"戸",null,{"$f":"データ一覧!L324","v":24388},null,"戸","地方債",null,null,null,{"$f":"データ一覧!L450","v":1572800},null,null,null,null,{"$f":"データ一覧!L464","v":1047900},null,null,null,null,"公債費",null,null,null,{"$f":"データ一覧!L478","v":2639155},null,null,null,null,{"$f":"データ一覧!L492","v":2448947},null,null,null,null,null,null,null,null,null,"西山公園、本山誠照寺、本山證誠寺、王山古墳群、兜山古墳、木地屋資料、旧瓜生家住宅、"]
["総",null,null,null,null,null,null,null,null,"500～1,000万円",null,null,null,null,{"$f":"データ一覧!L222","v":20},null,null,"3.0 ha ～ 5.0 ha",null,null,null,null,{"$f":"データ一覧!L238","v":53},null,null,null,null,null,null,null,null,null,null,null,null,null,null,null,null,"その他",null,null,null,{"$f":"データ一覧!L451","v":2172962},null,null,null,null,{"$f":"データ一覧!L465","v":3686376},null,null,null,null,"その他",null,null,null,{"$f":"データ一覧!L479","v":20000},null,null,null,null,{"$f":"データ一覧!L493","v":0},null,null,null,null,"　名所・旧跡",null,null,null,null,"春日神社本殿、鳥ヶ森社叢、三六の桜、加多志波神社の追儺面、木造聖観音菩薩立像、"]
["数",null,null,null,null,null,null,null,null,"1,000万円以上",null,null,null,null,{"$f":"データ一覧!L223","v":34},null,null,"5.0 ha以上",null,null,null,null,{"$f":"データ一覧!L239","v":1419},null,null,null,null,null,null,null,null,null,null,null,null,null,null,null,null,null,null,null,null,null,null,null,null,null,null,null,null,null,null,null,null,null,null,null,null,null,null,null,null,null,null,null,null,"  文化財等",null,null,null,null,"日吉神社の相生の大杉、鯖江藩家老植田家長屋門、舟津神社本殿、神明社中雀門、"]
["）",null,"15歳以上の常雇い数",null,null,null,null,null,null,"農業に60日以上従事した世帯員、役員・構成員\n（経営主を含む）の平均年齢",null,null,null,null,null,null,null,null,null,null,null,null,null,null,null,"  ９  議　 員　・　職 　員",null,null,null,null,null,null,null,null,null,null,null,null,null," １４  文　　　化",null,null,null,null,null,null,null," ( ",{"$f":"\"令\"&データ一覧!$A$498","v":"令6.3.31"},null,null,"ただし図書館・公民館・児童館・ 社会教育学級講座",null,null,null,null,null,null,null,null,null,null,null,{"$f":"データ一覧!$A$494","v":"6.4.1"},null,null,null,null,null,null,null,null,"上河内の薄墨桜、薬師堂古樹林、三峯城跡、萬慶寺本堂天井絵"]
["と",null,null,null,null,null,null,null,null,null,null,null,null,null,null,null,null,null,null,null,null,null,null,null,null,null,null,null,null,null,null,null,null,null,null,null,null,null,null,null,null,null,null,null,null,null,null,null,null,null,null,null,"　宗教法人数 ",null,null,null,null,null,null,null,null,null,null,{"$f":"データ一覧!$A$502","v":"5.12.31"},null,null,null,"　　特産物",null,null,null,null,"眼鏡枠、織物、漆器、吉川ナス、ブロッコリー、マルセイユメロン、さばえ菜花、"]
["就",null,null,null,null,null,null,null,null,"農業に60日以上従事",null,null,null,null,null,null,null,"農業に150日以上従事",null,null,null,null,null,null,null," 市 町 議 会",null,null,"有権者数",null,{"$f":"データ一覧!$A$328","v":"6.9.1"},null,"市 町 議 会",null,null,"  職      員      数",null,null,null,null,null,null,null,null,"図書館",null,null,null,null,null,"公　民　館",null,null,null,null,null,null,null,null,null,null," 社会教育学級講座",null,null,null,null,null,null,null,null,null,null,"ミディトマト、山うに、さばえ菜花米、川島ごぼう"]
["業",null,"区分",null,null,null,"人",null,null,"区分",null,null,null,null,"歳",null,null,"区　　分",null,null,null,null,"歳",null,null," 議  員  定  数",null,null,"    男",null,"    女",null,"選 挙 投 票 率",null,null," 総     数",null,"一般行政職",null,"公    共",null,null,null," 館  数",null,null," 図書数",null,null," 本  館",null,null," 分  館",null,null," 公  園",null,null," 児童館",null,null,"学級講座数",null,null,"受講者数",null,null," 　年中行事",null,null,null,null,"すりばちやいと(2月20日・3月2日)、誠市(3月～12月第2日曜)、\nかたかみ春たんぼ(4月29日)､越前漆器まつり(5月3･4日)､\nさばえつつじまつり(5月上旬)、つつじマラソン、\nやっしきまつり(7月下旬)、じゃぼんこう(11月17日)"]
["状",null,"総数",null,null,null,{"$f":"データ一覧!L230","v":17},null,null,"総数",null,null,null,null,{"$f":"データ一覧!L224","v":67.3},null,null,"総数",null,null,null,null,{"$f":"データ一覧!L227","v":65.3},null,null,null,null,"人",null,"人",null,"人",null,null,"　％",null,"人",null,"人","施 設 数",null,null,null,null,{"$f":"データ一覧!L494","v":1},null,{"$f":"データ一覧!L495","v":378222},null,null,null,{"$f":"データ一覧!L496","v":10},null,{"$f":"データ一覧!L497","v":0},null,null,{"$f":"データ一覧!L498","v":193},null,null,{"$f":"データ一覧!L499","v":15},null,null,{"$f":"データ一覧!L500","v":416},null,null,{"$f":"データ一覧!L501","v":56362}]
["況",null,"男",null,null,null,{"$f":"データ一覧!L231","v":13},null,null,"男",null,null,null,null,{"$f":"データ一覧!L225","v":66.900000000000006},null,null,"男",null,null,null,null,{"$f":"データ一覧!L228","v":65},null,null,null,{"$f":"データ一覧!L325","v":20},null,{"$f":"データ一覧!L328","v":27258},null,{"$f":"データ一覧!L329","v":28883},null,{"$f":"データ一覧!L327","v":50.85},null,null,{"$f":"データ一覧!L330","v":405},null,{"$f":"データ一覧!L331","v":278},null,"宗    教",null,null,null," 仏教系",null,null,"ｷﾘｽﾄ教系",null,null,"神道諸派",null,null,"公会堂・市民会館",null,null,null,null,null," テレビ",null,null,"衛星放送契約数"]
[null,null,"女",null,null,null,{"$f":"データ一覧!L232","v":4},null,null,"女",null,null,null,null,{"$f":"データ一覧!L226","v":68.599999999999994},null,null,"女",null,null,null,null,{"$f":"データ一覧!L229","v":66},null,null,null,null,null,null,null,null,null,{"$f":"データ一覧!L326","v":"5.7.2"},null,null,null,null,null,null,"法 人 数",null,null,null,{"$f":"データ一覧!L502","v":111},null,null,{"$f":"データ一覧!L503","v":3},null,null,{"$f":"データ一覧!L504","v":63},null,null,{"$f":"データ一覧!L505","v":5},null,null,null,null,null,"      等",null,null,{"$f":"データ一覧!L506","v":15453}]

{"sheet":"あわら市","index":11,"n_rows":93,"n_cols":103,"rows_kept":93,"cut":false,"hidden":false,"merged":[[85,9,85,13],[85,14,85,16],[32,91,32,94],[32,40,32,46],[90,17,90,21],[91,2,91,5],[91,9,91,13],[91,17,91,21],[92,22,92,24],[91,6,91,8],[91,14,91,16],[91,22,91,24],[92,6,92,8],[66,92,66,96],[81,6,81,8],[81,9,81,13],[81,14,81,16],[82,6,82,8],[82,9,82,13],[82,14,82,16],[83,6,83,8],[83,9,83,13],[83,14,83,16],[84,6,84,8],[84,9,84,13],[84,14,84,16],[84,22,84,24],[83,22,83,24],[92,2,92,5],[92,9,92,13],[92,14,92,16],[92,17,92,21],[85,17,85,21],[85,6,85,8],[19,53,19,56],[19,60,19,64],[29,11,29,13],[29,14,29,16],[30,11,30,13],[85,22,85,24],[86,2,88,8],[86,9,87,24],[88,9,88,16],[88,17,88,24],[89,2,89,5],[89,9,89,13],[89,17,89,21],[90,2,90,5],[90,9,90,13],[19,35,19,38],[22,35,22,38],[20,29,20,31],[21,35,21,38],[20,35,20,38],[19,40,19,46],[19,49,19,51],[83,43,83,47],[84,39,84,42],[53,29,53,31],[48,62,48,65],[27,5,27,7],[27,22,27,24],[27,25,27,26],[27,37,27,38],[23,77,23,80],[40,2,40,3],[28,77,28,80],[31,68,31,72],[31,73,31,76],[35,36,35,37],[35,29,35,30],[30,22,30,24],[33,14,33,16],[34,11,34,13],[35,22,35,24],[35,5,35,7],[35,8,35,10],[35,11,35,13],[35,14,35,16],[35,18,35,19],[35,20,35,21],[24,35,24,36],[24,37,24,38],[23,29,23,31],[23,32,23,34],[24,33,24,34],[23,35,23,38],[23,25,23,28],[24,27,24,28],[29,5,29,7],[29,8,29,10],[25,60,25,64],[26,60,26,64],[27,60,27,64],[25,49,25,51],[39,40,39,46],[15,35,15,37],[16,36,16,37],[17,36,17,38],[18,35,18,38],[17,25,17,27],[18,25,18,27],[19,32,19,34],[21,29,21,31],[18,28,18,30],[24,31,24,32],[91,26,91,27],[91,28,91,29],[91,30,91,31],[60,29,60,30],[61,29,61,30],[79,57,79,61],[56,22,56,24],[88,61,88,66],[79,62,79,66],[83,57,83,61],[68,53,68,56],[68,57,68,61],[91,43,91,45],[15,32,15,33],[91,35,91,36],[91,37,91,38],[83,48,83,52],[83,39,83,42],[49,46,49,49],[37,49,37,51],[38,40,38,46],[41,49,41,51],[91,32,91,34],[90,46,90,48],[91,52,91,57],[30,53,30,56],[38,49,38,51],[40,22,40,24],[34,53,34,56],[23,53,23,56],[22,40,22,46],[22,49,22,51],[91,61,91,66],[92,52,92,57],[92,61,92,66],[92,39,92,42],[92,43,92,45],[92,46,92,48],[92,49,92,51],[91,46,91,48],[91,39,91,42],[84,62,84,66],[83,62,83,66],[88,30,88,31],[88,32,88,34],[90,39,90,42],[90,44,90,45],[89,32,89,34],[89,39,89,42],[90,55,90,57],[90,58,90,60],[84,57,84,61],[88,44,88,47],[92,32,92,34],[5,0,5,9],[6,0,8,9],[19,3,19,5],[19,25,19,28],[19,29,19,31],[20,40,20,46],[16,32,16,33],[17,32,17,34],[15,29,15,30],[14,0,15,24],[33,18,33,19],[31,18,31,19],[32,20,32,21],[27,27,27,28],[27,0,27,4],[33,8,33,10],[23,40,23,46],[18,31,18,34],[22,32,22,34],[27,35,27,36],[25,37,26,38],[28,40,28,46],[23,16,23,18],[23,21,23,23],[30,18,30,19],[33,22,33,24],[33,11,33,13],[27,31,27,32],[14,25,15,25],[14,26,15,28],[22,25,22,28],[26,40,26,46],[27,33,27,34],[33,40,33,46],[34,36,34,37],[32,8,32,10],[32,11,32,13],[32,14,32,16],[32,18,32,19],[34,29,34,30],[33,20,33,21],[33,5,33,7],[32,49,32,51],[33,49,33,51],[29,60,29,64],[30,60,30,64],[32,22,32,24],[26,22,26,24],[29,22,29,24],[31,22,31,24],[25,29,26,30],[29,40,29,46],[30,20,30,21],[23,99,23,102],[22,53,22,56],[22,60,22,64],[22,91,22,94],[22,68,22,72],[22,73,22,76],[30,49,30,51],[31,49,31,51],[24,53,24,56],[29,53,29,56],[28,53,28,56],[25,40,25,46],[27,40,27,46],[26,53,26,56],[35,53,35,56],[23,60,23,64],[23,91,23,94],[25,99,25,102],[24,91,24,94],[22,95,22,98],[22,99,22,102],[22,77,22,80],[22,81,22,84],[22,86,22,90],[23,81,23,84],[23,95,23,98],[31,40,31,46],[23,68,23,72],[23,73,23,76],[32,53,32,56],[31,53,31,56],[32,95,32,98],[17,40,17,46],[17,48,17,52],[19,91,19,94],[19,95,19,98],[19,99,19,102],[20,91,20,94],[21,60,21,64],[21,91,21,94],[20,60,20,64],[21,73,21,76],[17,68,17,71],[17,73,17,76],[17,82,17,83],[20,77,20,80],[21,77,21,80],[17,59,17,65],[21,40,21,46],[21,49,21,51],[21,53,21,56],[20,53,20,56],[20,49,20,51],[17,86,17,89],[19,73,19,76],[19,77,19,80],[19,81,19,84],[20,73,20,76],[17,53,17,57],[20,81,20,84],[21,95,21,98],[17,91,17,94],[21,81,21,84],[17,100,17,101],[24,95,24,98],[25,91,25,94],[29,91,29,94],[28,60,28,64],[24,68,24,72],[26,73,26,76],[25,86,25,90],[29,73,29,76],[27,29,27,30],[20,99,20,102],[22,7,22,8],[20,11,20,13],[22,29,22,31],[20,16,20,18],[20,21,20,23],[20,25,20,28],[26,25,26,26],[24,29,24,30],[25,25,25,26],[25,27,25,28],[25,31,26,32],[21,25,21,28],[21,32,21,34],[20,32,20,34],[20,86,20,90],[23,49,23,51],[25,53,25,56],[28,49,28,51],[27,53,27,56],[29,49,29,51],[21,99,21,102],[29,20,29,21],[23,11,23,13],[26,27,26,28],[29,18,29,19],[39,67,39,73],[34,49,34,51],[34,40,34,46],[36,40,36,46],[36,29,36,30],[36,75,36,77],[40,13,40,15],[37,75,37,77],[40,16,40,18],[39,49,39,51],[40,29,40,30],[38,67,38,73],[24,49,24,51],[30,77,30,80],[26,77,26,80],[30,68,30,72],[25,73,25,76],[25,77,25,80],[27,68,27,72],[27,73,27,76],[28,68,28,72],[28,73,28,76],[40,32,40,35],[39,60,39,64],[39,53,39,56],[24,0,25,24],[30,14,30,16],[40,7,40,9],[40,10,40,12],[41,16,41,18],[41,19,41,21],[42,16,42,18],[24,99,24,102],[25,95,25,98],[24,60,24,64],[24,73,24,76],[24,77,24,80],[25,33,26,34],[26,81,26,84],[25,35,26,36],[24,40,24,46],[26,49,26,51],[27,49,27,51],[33,53,33,56],[34,18,34,19],[34,60,34,64],[31,14,31,16],[31,20,31,21],[30,81,30,84],[29,81,29,84],[29,86,29,90],[30,86,30,90],[27,81,27,84],[24,86,24,90],[25,81,25,84],[26,68,26,72],[30,73,30,76],[27,77,27,80],[27,86,27,90],[24,81,24,84],[29,77,29,80],[40,4,40,6],[40,19,40,21],[35,40,35,46],[34,20,34,21],[34,14,34,16],[34,22,34,24],[37,40,37,46],[36,36,36,37],[30,40,30,46],[38,60,38,64],[36,49,36,51],[36,53,36,56],[37,53,37,56],[37,60,37,64],[38,53,38,56],[34,5,34,7],[34,8,34,10],[31,11,31,13],[30,5,30,7],[30,8,30,10],[36,60,36,64],[32,60,32,64],[32,5,32,7],[31,8,31,10],[31,60,31,64],[35,60,35,64],[33,60,33,64],[31,5,31,7],[40,53,40,56],[40,40,40,46],[40,49,40,51],[35,49,35,51],[41,60,41,64],[41,40,41,46],[42,22,42,24],[40,36,40,37],[40,75,41,77],[43,67,44,82],[43,60,43,64],[39,79,39,82],[40,79,41,82],[42,79,42,82],[40,67,41,73],[42,67,42,73],[40,60,40,64],[42,53,42,56],[42,40,42,46],[41,36,41,37],[41,32,41,35],[44,19,44,24],[43,49,43,51],[43,40,43,46],[42,36,42,37],[42,19,42,21],[41,22,41,24],[42,32,42,35],[41,53,41,56],[56,0,56,6],[56,10,56,12],[57,7,57,9],[64,22,64,24],[63,22,63,24],[63,7,63,9],[51,25,51,28],[53,33,53,34],[60,22,60,24],[57,25,57,29],[57,31,57,33],[46,32,46,35],[53,25,53,27],[50,25,50,28],[48,22,48,24],[46,25,46,28],[55,13,55,15],[55,31,55,34],[61,19,61,21],[58,13,58,15],[61,7,61,9],[57,16,57,18],[55,19,55,21],[55,22,55,24],[48,10,48,12],[47,10,47,12],[55,16,55,18],[62,22,62,24],[56,13,56,15],[56,7,56,9],[58,0,58,6],[60,0,60,6],[45,36,45,37],[42,49,42,51],[41,4,41,6],[41,7,41,9],[41,10,41,12],[46,29,46,30],[47,16,47,18],[44,25,44,28],[42,4,42,6],[42,7,42,9],[55,0,55,6],[47,7,47,9],[55,10,55,12],[48,0,48,1],[48,7,48,9],[55,7,55,9],[44,0,45,1],[42,10,42,12],[44,32,44,35],[42,13,42,15],[44,29,44,30],[41,13,41,15],[47,22,47,24],[45,32,45,35],[46,0,46,1],[54,25,54,32],[51,33,51,35],[47,19,47,21],[47,0,47,1],[41,29,41,30],[45,25,45,28],[45,29,45,30],[46,36,46,37],[55,39,55,42],[54,47,54,50],[55,47,55,49],[55,43,55,45],[54,43,54,46],[45,84,45,89],[50,87,50,90],[42,75,42,77],[43,53,43,56],[52,80,52,82],[50,50,50,53],[48,80,48,82],[45,57,45,61],[42,60,42,64],[49,77,49,79],[49,68,49,75],[48,56,48,59],[50,68,50,75],[50,59,50,61],[50,77,50,79],[52,77,52,79],[53,80,53,82],[52,68,52,75],[51,80,51,82],[51,77,51,79],[49,87,49,90],[49,62,49,66],[50,55,50,57],[50,47,50,49],[49,39,49,45],[44,36,44,37],[52,87,52,90],[51,91,51,94],[53,68,53,75],[56,83,56,86],[56,68,56,75],[55,68,55,75],[54,80,54,82],[55,80,55,82],[53,83,53,86],[56,77,56,79],[56,80,56,82],[54,77,54,79],[50,80,50,82],[51,83,51,86],[53,77,53,79],[50,83,50,86],[52,83,52,86],[56,19,56,21],[56,48,56,53],[47,13,47,15],[48,50,48,53],[49,50,49,53],[54,51,54,54],[57,51,57,54],[57,43,57,46],[57,47,57,50],[59,13,59,15],[60,53,60,56],[56,16,56,18],[50,63,50,66],[48,13,48,15],[48,16,48,18],[48,19,48,21],[48,68,48,75],[49,54,49,57],[58,61,58,63],[51,36,51,38],[53,36,53,37],[50,29,50,32],[50,33,50,38],[51,29,51,32],[55,25,55,30],[58,55,58,57],[60,7,60,9],[62,10,62,12],[61,0,61,6],[61,22,61,24],[61,16,61,18],[58,39,58,42],[60,19,60,21],[62,0,62,6],[57,0,57,6],[60,16,60,18],[58,16,58,18],[59,0,59,6],[61,39,61,42],[60,48,60,52],[61,43,61,47],[61,48,61,52],[57,13,57,15],[60,10,60,12],[57,35,57,37],[58,10,58,12],[57,39,57,42],[57,10,57,12],[58,22,58,24],[57,22,57,24],[58,52,58,54],[58,44,58,46],[59,7,59,9],[62,7,62,9],[58,19,58,21],[58,48,58,50],[57,19,57,21],[60,39,60,42],[68,0,68,6],[65,7,65,9],[66,7,66,9],[67,0,67,6],[66,0,66,6],[65,0,65,6],[67,7,67,9],[66,10,66,12],[68,35,68,37],[68,19,68,21],[63,19,63,21],[65,19,65,21],[64,0,64,6],[64,10,64,12],[64,7,64,9],[63,0,63,6],[68,25,68,28],[68,10,68,12],[68,22,68,24],[68,16,68,18],[67,16,67,18],[67,13,67,15],[66,13,66,15],[64,19,64,21],[63,13,63,15],[65,10,65,12],[65,22,65,24],[68,7,68,9],[67,10,67,12],[66,29,66,31],[62,19,62,21],[59,10,59,12],[61,10,61,12],[68,13,68,15],[67,19,67,21],[68,82,68,84],[62,87,62,89],[63,16,63,18],[64,13,64,15],[64,16,64,18],[63,10,63,12],[59,43,59,56],[60,43,60,47],[67,43,67,47],[61,36,61,37],[68,79,68,81],[68,43,68,47],[62,16,62,18],[61,53,61,56],[65,83,65,86],[67,62,67,66],[64,68,64,71],[62,29,62,30],[65,57,65,63],[61,68,61,71],[59,19,59,21],[59,16,59,18],[59,22,59,24],[60,13,60,15],[70,48,70,52],[67,67,70,71],[69,29,69,30],[71,83,72,102],[54,59,54,66],[70,79,70,81],[70,100,70,102],[70,94,70,96],[62,75,62,77],[66,76,66,90],[65,88,65,91],[68,88,68,90],[65,78,65,81],[68,85,68,87],[65,73,65,76],[62,68,62,71],[56,39,56,42],[57,58,57,60],[58,58,58,60],[55,35,55,38],[67,39,67,42],[59,59,59,62],[60,59,60,62],[70,77,70,78],[57,61,57,63],[68,91,68,93],[67,48,67,52],[67,53,67,56],[71,43,71,47],[68,48,68,52],[57,55,57,57],[54,91,54,94],[77,57,77,61],[71,62,71,66],[68,62,68,66],[69,39,69,66],[68,39,68,42],[77,39,77,42],[76,69,76,72],[67,88,67,90],[68,94,68,96],[67,82,67,84],[68,76,68,78],[67,79,67,81],[67,57,67,61],[65,68,65,71],[68,72,68,75],[55,83,55,86],[55,87,55,90],[73,62,73,66],[61,63,61,66],[60,85,60,90],[70,62,70,66],[73,77,73,83],[70,72,70,75],[74,68,74,74],[74,77,74,83],[70,85,70,87],[60,63,60,66],[72,62,72,66],[76,43,76,47],[72,43,72,47],[70,43,70,47],[61,59,61,62],[23,86,23,90],[14,67,15,81],[14,82,15,95],[16,74,16,95],[20,95,20,98],[30,91,30,94],[47,83,47,86],[47,87,47,90],[26,95,26,98],[39,97,39,100],[36,97,36,100],[27,99,27,102],[29,99,29,102],[41,97,41,100],[40,93,40,95],[37,93,37,95],[26,99,26,102],[28,99,28,102],[29,95,29,98],[30,99,30,102],[46,99,46,102],[35,98,35,101],[36,93,36,95],[37,97,37,100],[28,95,28,98],[26,91,26,94],[30,95,30,98],[32,73,32,76],[32,77,32,80],[47,95,47,98],[47,99,47,102],[31,77,31,80],[26,86,26,90],[28,86,28,90],[27,91,27,94],[27,95,27,98],[28,91,28,94],[36,79,36,82],[38,75,38,77],[48,95,48,98],[48,83,48,86],[45,77,45,82],[47,68,47,75],[47,77,47,79],[47,80,47,82],[48,77,48,79],[38,97,38,100],[39,93,39,95],[38,79,38,82],[32,68,32,72],[35,68,35,72],[35,75,35,77],[31,91,31,94],[35,80,35,83],[47,91,47,94],[39,75,39,77],[37,67,37,73],[36,67,36,73],[40,97,40,100],[46,95,46,98],[31,81,31,84],[33,67,34,80],[28,81,28,84],[33,83,34,96],[76,57,76,61],[21,86,21,90],[55,51,55,53],[57,64,57,66],[77,48,77,52],[52,95,52,98],[53,99,53,102],[51,87,51,90],[48,87,48,90],[49,58,49,61],[49,99,49,102],[46,69,46,74],[32,81,32,84],[42,97,42,100],[49,95,49,98],[49,83,49,86],[48,99,48,102],[41,93,41,95],[42,93,42,95],[48,91,48,94],[49,91,49,94],[50,99,50,102],[51,99,51,102],[51,95,51,98],[50,95,50,98],[53,95,53,98],[52,99,52,102],[50,91,50,94],[52,91,52,94],[45,92,45,101],[40,85,40,91],[70,83,70,84],[78,67,78,71],[78,62,78,66],[63,74,63,76],[55,63,55,65],[55,59,55,62],[54,55,54,58],[78,95,78,98],[78,53,78,56],[78,87,78,90],[78,91,78,94],[56,95,56,98],[56,87,56,90],[63,94,63,96],[57,67,58,102],[60,91,60,96],[78,72,78,76],[73,95,73,101],[61,80,61,83],[56,91,56,94],[70,97,70,99],[67,97,67,102],[70,91,70,93],[54,68,54,75],[55,77,55,79],[55,55,55,57],[76,96,76,99],[73,86,73,92],[74,87,74,91],[70,53,70,56],[55,99,55,102],[78,57,78,61],[77,77,77,81],[31,95,31,98],[37,79,37,82],[70,88,70,90],[60,97,60,102],[62,99,62,101],[56,99,56,102],[62,93,62,95],[63,99,63,101],[55,91,55,94],[55,95,55,98],[68,100,68,102],[31,99,31,102],[41,85,41,91],[32,99,32,102],[39,85,39,91],[35,86,35,90],[35,93,35,95],[38,93,38,95],[37,85,37,91],[38,85,38,91],[36,85,36,91],[54,99,54,102],[54,83,54,86],[43,83,44,102],[49,80,49,82],[65,98,65,101],[53,91,53,94],[54,87,54,90],[53,87,53,90],[54,95,54,98],[42,85,42,91],[63,89,63,91],[80,82,80,86],[82,48,82,52],[51,68,51,75],[81,53,81,56],[71,67,72,82],[70,57,70,61],[65,43,65,49],[81,67,82,102],[80,96,80,98],[65,53,65,56],[58,64,58,66],[71,53,71,56],[62,81,62,83],[63,84,63,86],[84,48,84,52],[77,91,77,94],[76,87,76,90],[65,93,65,96],[66,39,66,66],[80,43,80,47],[70,39,70,42],[82,43,82,47],[78,99,78,102],[77,87,77,90],[76,78,76,81],[71,57,71,61],[74,43,74,47],[72,39,72,42],[80,62,80,66],[78,82,78,86],[80,73,80,75],[80,78,80,80],[81,32,81,34],[74,39,74,42],[81,62,81,66],[89,72,92,102],[80,53,80,56],[91,49,91,51],[90,61,90,63],[90,64,90,66],[89,61,89,63],[84,53,84,56],[79,48,79,52],[75,53,75,56],[75,62,75,66],[74,62,74,66],[80,100,80,102],[82,62,82,66],[80,68,80,70],[90,50,90,51],[90,52,90,54],[88,50,88,53],[77,62,77,66],[77,82,77,86],[78,77,78,81],[76,62,76,66],[83,53,83,56],[77,53,77,56],[80,92,80,94],[79,97,79,98],[74,96,74,100],[79,101,79,102],[83,72,86,102],[80,88,80,90],[79,39,79,42],[70,32,70,33],[71,39,71,42],[81,57,81,61],[74,57,74,61],[75,57,75,61],[72,53,72,56],[82,57,82,61],[75,43,75,47],[73,43,73,47],[77,43,77,47],[73,53,73,56],[72,57,72,61],[73,57,73,61],[76,53,76,56],[74,53,74,56],[81,39,81,42],[75,48,75,52],[72,48,72,52],[74,48,74,52],[71,48,71,52],[78,48,78,52],[79,53,79,56],[81,43,81,47],[73,39,73,42],[80,39,80,42],[80,48,80,52],[75,39,75,42],[80,57,80,61],[82,53,82,56],[75,35,75,37],[78,39,78,42],[70,16,70,18],[73,22,73,24],[70,13,70,15],[71,13,71,15],[54,39,54,42],[69,13,69,15],[66,16,66,18],[65,16,65,18],[65,13,65,15],[67,22,67,24],[72,7,72,9],[65,39,65,42],[66,19,66,21],[66,22,66,24],[66,32,66,34],[72,16,72,18],[69,25,69,28],[73,35,73,37],[71,35,71,37],[69,22,69,24]],"merged_total":1108,"flags":["merged_cut"]}
[{"$f":"+データ一覧!M2","v":0}]
[{"$f":"+データ一覧!M5","v":0}]
[null,null,null,null,null,null,null,null,null,null,null,null,null,null,null,null,null,null,null,null,null,null,null,null,null,null,null,null,null,null,null,null,null,null,null,null,null,null,null,0]
[null,null,null,null,null,null,null,null,null,null,null,null,null,null,null,null,null,null,null,null,null,null,null,null,null,null,null,"【市章とそのいわれ】あわら市の頭文字である、アルファベット",null,null,null,null,null,null,null,null,null,null,null," 【位置および地勢】あわら市は、福井県の最北端に位置し、西および南は",null,null,null,null,null,null,null,null,null,null,null,null,null,null,null,null,null,null,null,null,null,null,null,null,null,null,null,null,null,null,"所在地",null,null,null,null,null,null,null,"〒919-0692"]
[null,null,null,null,null,null,null,null,null,null,null,null,null,null,null,null,null,null,null,null,null,null,null,null,null,null,null," 　　　　　　　  小文字の「a」をモチーフにデザイン化した。",null,null,null,null,null,null,null,null,null,null,null,null,"坂井市、北東は石川県加賀市に隣接し、北西は日本海に面している。",null,null,null,null,null,null,null,null,null,null,null,null,null,null,null,null,null,null,null,null,null,null,null,null,null,null,null,null,null,null,null,null,null,null,null,null,null,"あわら市市姫三丁目１番１号"]
[{"$f":"+データ一覧!M3","v":"あわらし"},null,null,null,null,null,null,null,null,null,null,null,null,null,null,null,null,null,null,null,null,null,null,null,null,null,null," 　　　　　　　　緑の山並みをバックに、自然に囲まれ、黄色く",null,null,null,null,null,null,null,null,null,null,null,null,"面積は、116.98ｋ㎡で、地形は北部の丘陵地、南西部の平坦地、東部の"]
[{"$f":"データ一覧!M6","v":"あわら市"},null,null,null,null,null,null,null,null,null,null,null,null,null,null,null,null,null,null,null,null,null,null,null,null,null,null," 　　　　　　　  輝くあわら市を表現している。 ",null,null,null,null,null,null,null,null,null,null,null,null,"山岳地帯と大きく３つに分かれており、南北に北潟湖が横たわり、東西には",null,null,null,null,null,null,null,null,null,null,null,null,null,null,null,null,null,null,null,null,null,null,null,null,null,null,null,null,null,"電話番号",null,null,null,null,null,null,null,"（０７７６）７３－１２２１"]
[null,null,null,null,null,null,null,null,null,null,null,null,null,null,null,null,null,null,null,null,null,null,null,null,null,null,null,null,null,null,null,null,null,null,null,null,null,null,null,null,"竹田川が流れている。美しい日本海と静かな湖や川、優れた泉質の温泉、",null,null,null,null,null,null,null,null,null,null,null,null,null,null,null,null,null,null,null,null,null,null,null,null,null,null,null,null,null,"FAX番号",null,null,null,null,null,null,null,"     〃     ７３－１３５０"]
[null,null,null,null,null,null,null,null,null,null,null,null,null,null,null,null,null,null,null,null,null,null,null,null,null,null,null,null,null,null,null,null,null,null,null,null,null,null,null,null,"太陽をいっぱいあびた農作物など、自然の恵みにあふれたところである。"]
[null,null,null,null,null,null,null,null,null,null,null,null,null,null,null,null,null,null,null,null,null,null,null,null,null,null,null,0,null,null,null,null,null,null,null,null,null,null,null,null,"気候は、北陸地方の中でも比較的温暖で、気象環境は過ごしやすいものと",null,null,null,null,null,null,null,null,null,null,null,null,null,null,null,null,null,null,null,null,null,null,null,null,null,null,null,null,null,"最寄駅および距離",null,null,null,null,null,null,null,"ＪＲ北陸新幹線芦原温泉駅　下車８００ｍ"]
[null,null,null,null,null,null,null,null,null,null,null,null,null,null,null,null,null,null,null,null,null,null,null,null,null,null,null,0,null,null,null,null,null,null,null,null,null,null,null,null,"なっている。"]
[]
[null,null,null,null,null,null,null,null,null,null,null,null,null,null,null,null,null,null,null,null,null,null,null,null,null,null,null,"【市が掲げる標語】暮らしやすくて　幸せを実感できるまち",null,null,null,null,null,null,null,null,null,null,null,null,null,null,null,null,null,null,null,null,null,null,null,null,null,null,null,null,null,null,null,null,null,null,null,null,null,null,null,null,null,null,"ホームページ",null,null,null,null,null,null,null,"https://www.city.awara.lg.jp/"]
[]
["  １  土            　　地",null,null,null,null,null,null,null,null,null,null,null,null,null,null,null,null,null,null,null,null,null,null,null,null,{"$f":"データ一覧!$A$240","v":"5年"},"産米収穫量",null,null,"　 収　穫　量",null,null," 　作 付 面 積",null,null,"   10a当たり収量",null,null,null,null,null,null,null,null,null,null,null,null,null,null,null,null,null,null,null,null,null,null,null,null,null,null,null,null,null,null,null," １５  労　　　　　　　働",null,null,null,null,null,null,null,null,null,null,null,null,null,null,"2.10.1"]
[null,null,null,null,null,null,null,null,null,null,null,null,null,null,null,null,null,null,null,null,null,null,null,null,null,null,null,null,null,{"$f":"データ一覧!$M$240","v":8640},null,"t",{"$f":"データ一覧!$M$241","v":1670},null,"ha",{"$f":"データ一覧!M242","v":516},null,null,"kg"," １０  工　　　　　　業 ",null,null,null,null,null,null,null,null,null,null,null,null,null,{"$f":"データ一覧!$A$332","v":"4.6.1（令和3年実績）"}]
["   総          面           積",null,null,null,null,null,null,null,null,null," 固 定 資 産 概 要 調 書 に よ る 地 目 別 面 積",null,null,null,null,null,null,null,null,null,null,null,null,null,null,null,null,null,"   総　　　数",null,null,null,"うち　　田",null,null,null,"うち　　畑",null,null,null,null,null,null,null,null,null,null,null,null,null,null,null,null,null,null,null,null,null,null,null,null,null,null,null,null,null,null,null,null,null,null,null,null,null,"産業別就業者数   "]
[null,null,{"$f":"データ一覧!$A$7","v":"6.10.1"},null,null,null,null,null,null,null,null,null,null,null,null,null,{"$f":"データ一覧!$A$9","v":"6.1.1"},null,null,null,null,null,null,null,null," 耕  地  面  積",null,null,null,"       ha",null,null,"ha ",null,null,null,"ha ",null,null,"      ","産業分類",null,null,null,null,null,null,null,"事業所数",null,null,null,null,"従業者数",null,null,null,null,null,"年間製造品出荷額等",null,null,null,null,null,null,null,null,"区  分",null,null,null,null,"総    数",null,null,null,null,"男",null,null,null,"女",null,null,"  ","区  分",null,null,null,null,"総    数",null,null,null,null,"男",null,null,null,"女"]
[null,null,null,null,null,null,"㎢",null,null,null,"   総       数",null,null,null,null,"  う ち     田",null,null,null,null,"  う ち     畑",null,null,null,null,{"$f":"データ一覧!A243","v":"5.7.15"},null,null,{"$f":"データ一覧!$M$243","v":3380},null,null,{"$f":"データ一覧!$M$244","v":2580},null,null,null,{"$f":"データ一覧!$M$245","v":797},null,null,null,null,null,null,null,null,null,null,null,null,"　　   ",null,null,"事業所",null,"　　　　　　　 人",null,null,"人",null,"　　　　　　　　　　　　　　万円",null,null,null,null,null,null,"万円",null,null,null,null,null,null,null,"      人",null,null,null,null,null," 人",null,null,null," 人",null,null,null,null,null,null,null,"      人",null,null,null,"      人",null,null,null,"      人"]
[null,null,null,{"$f":"データ一覧!M7","v":116.98},null,null,null,null,null,null,null,null,null,null,"ha",null,null,null,null,"ha",null,null,null,null,"ha","農 業 生 産 物",null,null,null,"作 付 面 積",null,null,"収 穫 量",null,null,"10a当たり収量",null,null,null,"     ","総数",null,null,null,null,null,null,null,null,{"$f":"データ一覧!M332","v":83},null,null,null,{"$f":"+データ一覧!M357","v":3995},null,null,null,null,null,null,{"$f":"データ一覧!M382","v":15097947},null,null,null,null,null,null," 総　　　数",null,null,null,null,null,{"$f":"BZ20+CD20","v":14287},null,null,null,{"$f":"データ一覧!M507","v":7536},null,null,null,{"$f":"データ一覧!M532","v":6751}]
[null,null,null,null,null,null,null,null,null,null,null,{"$f":"データ一覧!M9","v":8984.2000000000007},null,null,null,null,{"$f":"データ一覧!M10","v":2669.7},null,null,null,null,{"$f":"データ一覧!M11","v":891.3},null,null,null,{"$f":"データ一覧!$A$246","v":"5年産"},null,null,null,"ha",null,null,"t",null,null,"kg",null,null,null,"     食料品","食料品",null,null,null,null,null,null,null,null,{"$f":"データ一覧!M333","v":5},null,null,null,{"$f":"+データ一覧!M358","v":63},null,null,null,null,null,null,{"$f":"データ一覧!M383","v":58829},null,null,null,null,null,null,null,null,null,null,null,null,null,null,null,null,null,null,null,null,null,null,null,null,null,"卸売業,小売業",null,null,null,null,{"$f":"CR21+CV21","v":1767},null,null,null,{"$f":"データ一覧!M520","v":771},null,null,null,{"$f":"データ一覧!M545","v":996}]
["  町 ･ 丁 ･ 大 字",null,null,null,null,null,null,null,null,null,"  う ち  宅 地",null,null,null,null,"  う ち  山 林",null,null,null,null,"  う ち  原 野",null,null,null,null,"水　　　　　稲",null,null,null,{"$f":"データ一覧!M246","v":1670},null,null,{"$f":"データ一覧!M247","v":8640},null,null,{"$f":"データ一覧!M248","v":516},null,null,null,"     飲料・飼料","飲料・飼料",null,null,null,null,null,null,null,null,{"$f":"データ一覧!M334","v":0},null,null,null,{"$f":"+データ一覧!M359","v":0},null,null,null,null,null,null,{"$f":"データ一覧!M384","v":0},null,null,null,null,null,null," 第１次産業",null,null,null,null,null,{"$f":"BZ22+CD22","v":847},null,null,null,{"$f":"データ一覧!M508","v":571},null,null,null,{"$f":"データ一覧!M533","v":276},null,null,null,null,"金融業,保険業",null,null,null,null,{"$f":"CR22+CV22","v":279},null,null,null,{"$f":"データ一覧!M521","v":121},null,null,null,{"$f":"データ一覧!M546","v":158}]
["  区    画    数",null,null,null,null,null,null,{"$f":"データ一覧!M8","v":120},null,null,null,null,null,null,"ha",null,null,null,null,"ha",null,null,null,null,"ha","六　条　大　麦",null,null,null,{"$f":"データ一覧!M249","v":615},null,null,{"$f":"データ一覧!M250","v":2160},null,null,{"$f":"データ一覧!M251","v":351},null,null,null,"     繊維","繊維",null,null,null,null,null,null,null,null,{"$f":"データ一覧!M335","v":21},null,null,null,{"$f":"+データ一覧!M360","v":461},null,null,null,null,null,null,{"$f":"データ一覧!M385","v":570469},null,null,null,null,null,null,"  ","農業",null,null,null,null,{"$f":"BZ23+CD23","v":814},null,null,null,{"$f":"データ一覧!M509","v":541},null,null,null,{"$f":"データ一覧!M534","v":273},null,null,null,"  ","不動産業",null,null,null,null,92,null,null,null,{"$f":"データ一覧!M522","v":63},null,null,null,{"$f":"データ一覧!M547","v":29}]
[{"$f":"データ一覧!$A$8","v":"5.4.1"},null,null,null,null,null,null,null,null,null,null,{"$f":"データ一覧!M12","v":878},null,null,null,null,{"$f":"データ一覧!M13","v":2162.8000000000002},null,null,null,null,{"$f":"データ一覧!M14","v":94.1},null,null,null,"大　　      豆",null,null,null,{"$f":"データ一覧!M252","v":353},null,null,{"$f":"データ一覧!M253","v":420},null,null,{"$f":"データ一覧!M254","v":119},null,null,null,"     衣服","木材",null,null,null,null,null,null,null,null,{"$f":"データ一覧!M336","v":0},null,null,null,{"$f":"+データ一覧!M361","v":0},null,null,null,null,null,null,{"$f":"データ一覧!M386","v":0},null,null,null,null,null,null,"  ","林業",null,null,null,null,28,null,null,null,{"$f":"データ一覧!M510","v":25},null,null,null,{"$f":"データ一覧!M535","v":3},null,null,null,"  ","学術研究",null,null,null,null,306,null,null,null,{"$f":"データ一覧!M523","v":192},null,null,null,{"$f":"データ一覧!M548","v":114}]
["  ２  世　帯　数　と　人　口",null,null,null,null,null,null,null,null,null,null,null,null,null,null,null,null,null,null,null,null,null,null,null,null,null,null,"  区　分",null," 乳 用 牛",null," 肉 用 牛",null,"豚",null,"採卵鶏",null,"ブロイラー",null,"     木材","家具",null,null,null,null,null,null,null,null,{"$f":"データ一覧!M337","v":2},null,null,null,{"$f":"+データ一覧!M362","v":35},null,null,null,null,null,null,{"$f":"データ一覧!M387","v":"x"},null,null,null,null,null,null,"  ","漁業",null,null,null,null,5,null,null,null,{"$f":"データ一覧!M511","v":5},null,null,null,0,null,null,null,"  ","宿泊業,飲食ｻｰﾋﾞｽ",null,null,null,null,1020,null,null,null,{"$f":"データ一覧!M524","v":356},null,null,null,{"$f":"データ一覧!M549","v":664}]
[null,null,null,null,null,null,null,null,null,null,null,null,null,null,null,null,null,null,null,null,null,null,null,null,null,"畜　産",null," 飼養農家",null,{"$f":"データ一覧!$M$255","v":2},null,{"$f":"データ一覧!$M$257","v":0},null,{"$f":"データ一覧!$M$259","v":0},null,{"$f":"データ一覧!$M$261","v":2},null,{"$f":"データ一覧!$M$263","v":"x"},null,"     家具","パルプ・紙",null,null,null,null,null,null,null,null,{"$f":"データ一覧!M338","v":4},null,null,null,{"$f":"+データ一覧!M363","v":190},null,null,null,null,null,null,{"$f":"データ一覧!M388","v":2691381},null,null,null,null,null,null," 第２次産業",null,null,null,null,null,4651,null,null,null,{"$f":"データ一覧!M512","v":3042},null,null,null,{"$f":"データ一覧!M537","v":1609},null,null,null,"  ","生活関連ｻｰﾋﾞｽ業",null,null,null,null,522,null,null,null,{"$f":"データ一覧!M525","v":186},null,null,null,{"$f":"データ一覧!M550","v":336}]
[null,null,null,null,null,null,null,null,"        人　　　　　　　　　　口",null,null,null,null,null,null,null,null,null,null,null,"１世帯当",null,"人    口",null,null,{"$f":"データ一覧!$A$255","v":"6.3.31"},null,"（戸）",null,null,null,null,null,null,null,null,null,null,null,"     パルプ・紙","印刷",null,null,null,null,null,null,null,null,{"$f":"データ一覧!M339","v":1},null,null,null,{"$f":"+データ一覧!M364","v":9},null,null,null,null,null,null,{"$f":"データ一覧!M389","v":"x"},null,null,null,null,null,null,null,"鉱業，採石業",null,null,null,null,2,null,null,null,{"$f":"データ一覧!M513","v":1},null,null,null,{"$f":"データ一覧!M538","v":1},null,null,null,"  ","教育,学習支援業",null,null,null,null,667,null,null,null,{"$f":"データ一覧!M526","v":236},null,null,null,{"$f":"データ一覧!M551","v":431}]
[" 区　　　　分",null,null,null,null,"世帯数",null,null," 総   数",null,null,"    男",null,null,"    女",null,null,"  男／女",null,null,"たり人員",null,"密    度",null,null,null,null," 頭 羽",null,{"$f":"データ一覧!$M$256","v":149},null,{"$f":"データ一覧!$M$258","v":0},null,{"$f":"データ一覧!$M$260","v":0},null,{"$f":"データ一覧!$M$262","v":201653},null,{"$f":"データ一覧!$M$264","v":36000},null,"     出版・印刷","化学",null,null,null,null,null,null,null,null,{"$f":"データ一覧!M340","v":2},null,null,null,{"$f":"+データ一覧!M365","v":365},null,null,null,null,null,null,{"$f":"データ一覧!M390","v":"x"},null,null,null,null,null,null,"  ","建設業",null,null,null,null,1019,null,null,null,{"$f":"データ一覧!M514","v":856},null,null,null,{"$f":"データ一覧!M539","v":163},null,null,null,null,"医療，福祉",null,null,null,null,1641,null,null,null,{"$f":"データ一覧!M527","v":338},null,null,null,{"$f":"データ一覧!M552","v":1303}]
[null,null,null,null,null,"    世 帯",null,null,"       人",null,null,"       人",null,null,"       人",null,null,null,"　　％",null,"    人",null,"    人/㎢",null,null,null,null,null,null,null,null,null,null,null,null,null,null,null,null,"     化学","石油・石炭",null,null,null,null,null,null,null,null,{"$f":"データ一覧!M341","v":0},null,null,null,{"$f":"+データ一覧!M366","v":0},null,null,null,null,null,null,{"$f":"データ一覧!M391","v":0},null,null,null,null,null,null,null,"製造業",null,null,null,null,3630,null,null,null,{"$f":"データ一覧!M515","v":2185},null,null,null,{"$f":"データ一覧!M540","v":1445},null,null,null,null,"複合サービス事業",null,null,null,null,215,null,null,null,{"$f":"データ一覧!M528","v":137},null,null,null,{"$f":"データ一覧!M553","v":78}]
[{"$f":"データ一覧!$A$22","v":" 2.10.1"},null,null,null,null,{"$f":"データ一覧!M22","v":8708},null,null,{"$f":"+L30+O30","v":31743},null,null,{"$f":"データ一覧!M24","v":14885},null,null,{"$f":"データ一覧!M25","v":16858},null,null,null,{"$f":"+L30/O30*100","v":88.296357812314625},null,{"$f":"データ一覧!M27","v":3.65},null,{"$f":"データ一覧!M21","v":0},null,null,"  ５  林               業",null,null,null,null,null,null,null,null,null,null,null,null,null,"     石油・石炭","プラスチック",null,null,null,null,null,null,null,null,{"$f":"データ一覧!M342","v":5},null,null,null,{"$f":"+データ一覧!M367","v":117},null,null,null,null,null,null,{"$f":"データ一覧!M392","v":118790},null,null,null,null,null,null," 第３次産業",null,null,null,null,null,8620,null,null,null,{"$f":"データ一覧!M516","v":3831},null,null,null,{"$f":"データ一覧!M541","v":4789},null,null,null,null,"サービス業",null,null,null,null,736,null,null,null,{"$f":"データ一覧!M529","v":461},null,null,null,{"$f":"データ一覧!M554","v":275}]
[{"$f":"データ一覧!$A$29","v":" 7.10.1"},null,null,null,null,{"$f":"データ一覧!M29","v":9327},null,null,{"$f":"+L31+O31","v":32432},null,null,{"$f":"データ一覧!M31","v":15174},null,null,{"$f":"データ一覧!M32","v":17258},null,null,null,87.924440839031178,null,{"$f":"データ一覧!M34","v":3.48},null,{"$f":"データ一覧!M28","v":0},null,null,null,null,null,null,null,null,null,null,null,null,null,null,null,null,"     プラスチック","ゴム",null,null,null,null,null,null,null,null,{"$f":"データ一覧!M343","v":0},null,null,null,{"$f":"+データ一覧!M368","v":0},null,null,null,null,null,null,{"$f":"データ一覧!M393","v":0},null,null,null,null,null,null,null,"電気･ｶﾞｽ･水道業",null,null,null,null,55,null,null,null,{"$f":"データ一覧!M517","v":42},null,null,null,{"$f":"データ一覧!M542","v":13},null,null,null,null,"公務",null,null,null,null,486,null,null,null,{"$f":"データ一覧!M530","v":316},null,null,null,{"$f":"データ一覧!M555","v":170}]
[{"$f":"データ一覧!$A$36","v":"12.10.1"},null,null,null,null,{"$f":"データ一覧!M36","v":9562},null,null,{"$f":"+L32+O32","v":32178},null,null,{"$f":"データ一覧!M38","v":15072},null,null,{"$f":"データ一覧!M39","v":17106},null,null,null,88.109435285864606,null,{"$f":"データ一覧!M41","v":3.37},null,{"$f":"データ一覧!M35","v":0},null,null,"    　森　　　林　　　総　　　面　　　積   ",null,null,null,null,null,null,null,{"$f":"データ一覧!$A$265","v":"5.3.31"},null,null,null,null,null,"     ゴム","皮革",null,null,null,null,null,null,null,null,{"$f":"データ一覧!M344","v":1},null,null,null,{"$f":"+データ一覧!M369","v":6},null,null,null,null,null,null,{"$f":"データ一覧!M394","v":"x"},null,null,null,null,null,null,null,"情報通信業",null,null,null,null,167,null,null,null,{"$f":"データ一覧!M518","v":129},null,null,null,{"$f":"データ一覧!M543","v":38},null,null,null," 分類不能の産業",null,null,null,null,null,169,null,null,null,{"$f":"データ一覧!M531","v":92},null,null,null,{"$f":"データ一覧!M556","v":77}]
[{"$f":"+データ一覧!$A$43","v":"17.10.1"},null,null,null,null,{"$f":"データ一覧!M43","v":9658},null,null,{"$f":"+L33+O33","v":31081},null,null,{"$f":"データ一覧!M45","v":14498},null,null,{"$f":"データ一覧!M46","v":16583},null,null,null,87.426882952421153,null,{"$f":"データ一覧!M48","v":3.22},null,{"$f":"データ一覧!M49","v":265.7},null,null,"　　　森　　　　　　　林　　　　　　　の　　　　　　　構　　　　　　　成",null,null,null,null,null,null,null,null,null,null,null,null,null,"     皮革","窯業・土石",null,null,null,null,null,null,null,null,{"$f":"データ一覧!M345","v":6},null,null,null,{"$f":"+データ一覧!M370","v":88},null,null,null,null,null,null,{"$f":"データ一覧!M395","v":446559},null,null,null,null,null,null,"  ","運輸業,郵便業",null,null,null,null,{"$f":"BZ33+CD33","v":667},null,null,null,{"$f":"データ一覧!M519","v":483},null,null,null,{"$f":"データ一覧!M544","v":184}]
[{"$f":"+データ一覧!$A$50","v":"22.10.1"},null,null,null,null,{"$f":"+データ一覧!M50","v":9735},null,null,{"$f":"+L34+O34","v":29989},null,null,{"$f":"+データ一覧!M52","v":14081},null,null,{"$f":"+データ一覧!M53","v":15908},null,null,null,88.515212471712346,null,{"$f":"+データ一覧!M55","v":3.08},null,{"$f":"+データ一覧!M56","v":256.3},null,null,null,null,null,null,null,"       ha",null,null,null,null,null,null,"       ha",null,"     窯業・土石","鉄鋼",null,null,null,null,null,null,null,null,{"$f":"データ一覧!M346","v":1},null,null,null,{"$f":"+データ一覧!M371","v":5},null,null,null,null,null,null,{"$f":"データ一覧!M396","v":"x"},null,null,null,null,null,null," １６  社　 会 　福　 祉",null,null,null,null,null,null,null,null,null,null,null,null,null,null,null,{"$f":"データ一覧!$A$557","v":"6.4.1"}]
[{"$f":"データ一覧!$A$57","v":"27.10.1"},null,null,null,null,{"$f":"データ一覧!M57","v":9697},null,null,{"$f":"データ一覧!M58","v":28729},null,null,{"$f":"データ一覧!M59","v":13555},null,null,{"$f":"データ一覧!M60","v":15174},null,null,null,89.330433636483463,null,{"$f":"データ一覧!M62","v":2.9626688666597918},null,{"$f":"データ一覧!M63","v":245.6},null,null,"  総　　　　　   数",null,null,null,{"$f":"データ一覧!M265","v":4425.51},null,null," 天然林       針葉樹",null,null,null,{"$f":"データ一覧!M268","v":281.2},null,null,"     鉄鋼","非鉄金属",null,null,null,null,null,null,null,null,{"$f":"データ一覧!M347","v":2},null,null,null,{"$f":"+データ一覧!M372","v":21},null,null,null,null,null,null,{"$f":"データ一覧!M397","v":"x"}]
["令　2.10.1（国調）",null,null,null,null,{"$f":"データ一覧!M64","v":9933},null,null,{"$f":"データ一覧!M65","v":27524},null,null,{"$f":"データ一覧!M66","v":13067},null,null,{"$f":"データ一覧!M67","v":14457},null,null,null,{"$f":"+L36/O36*100","v":90.385280486961335},null,{"$f":"データ一覧!M69","v":2.7709654686398872},null,{"$f":"データ一覧!M70","v":235.28808343306548},null,null,"  人工林     針葉樹",null,null,null,{"$f":"データ一覧!M266","v":3171.31},null,null," 天然林       広葉樹",null,null,null,{"$f":"データ一覧!M269","v":851.73},null,null,"     非鉄金属","金属",null,null,null,null,null,null,null,null,{"$f":"データ一覧!M348","v":6},null,null,null,{"$f":"+データ一覧!M373","v":399},null,null,null,null,null,null,{"$f":"データ一覧!M398","v":1076857},null,null,null,null,null,null,"    ","区分",null,null,null,null,null,null,"施設数",null,null,null,null,"収容定員",null,null,null,null,null,"区分",null,null,null,null,null,null,"施設数",null,null,null,null,"収容定員"]
["年",null,"  区",null," 0歳",null,null,"15歳",null,null,"25歳",null,null,"35歳",null,null,"45歳",null,null,"55歳",null,null,"65歳",null,null,"  人工林     広葉樹",null,null,null,{"$f":"データ一覧!M267","v":27.53},null,null," 竹               林",null,null,null,{"$f":"データ一覧!M270","v":15.75},null,null,"     金属","はん用機械",null,null,null,null,null,null,null,null,{"$f":"データ一覧!M349","v":1},null,null,null,{"$f":"+データ一覧!M374","v":4},null,null,null,null,null,null,{"$f":"データ一覧!M399","v":"x"},null,null,null,null,null,null,"生活保護施設",null,null,null,null,null,null,null,{"$f":"データ一覧!M557","v":"-"},null,null,null,{"$f":"データ一覧!M570","v":"-"},null,null,null,"人",null,"指定障害者支援施設",null,null,null,null,null,null,null,{"$f":"データ一覧!M563","v":1},null,null,null,{"$f":"データ一覧!M576","v":50},null,null,null,"人"]
["齢","令",null,null,null,"～",null,null,"～",null,null,"～",null,null,"～",null,null,"～",null,null,"～",null,null,null,null,null,null,null,null,null,null,null,null,null,null,null,null,null,null,"     一般機械","生産用機械",null,null,null,null,null,null,null,null,{"$f":"データ一覧!M350","v":10},null,null,null,{"$f":"+データ一覧!M375","v":675},null,null,null,null,null,null,{"$f":"データ一覧!M400","v":2006436},null,null,null,null,null,null,"地域福祉施設",null,null,null,null,null,null,null,{"$f":"データ一覧!M558","v":"-"},null,null,null,{"$f":"データ一覧!M571","v":"-"},null,null,null,null,null,"指定相談支援事業所",null,null,null,null,null,null,null,{"$f":"データ一覧!M564","v":3},null,null,null,{"$f":"データ一覧!M577","v":"-"}]
["階",{"$f":"+LEFT(データ一覧!$A$83,1)","v":"6"},"  分",null,null,null,"14歳",null,null,"24歳",null,null,"34歳",null,null,"44歳",null,null,"54歳",null,null,"64歳",null,null,"以上","    林     野     の     構     成",null,null,null,null,null,null,"保     有     形     態     別",null,null,null,null,null,null,"     電気機械","業務用機械",null,null,null,null,null,null,null,null,{"$f":"データ一覧!M351","v":0},null,null,null,{"$f":"+データ一覧!M376","v":0},null,null,null,null,null,null,{"$f":"データ一覧!M401","v":0},null,null,null,null,null,null,"老人福祉施設",null,null,null,null,null,null,null,{"$f":"データ一覧!M559","v":7},null,null,null,{"$f":"データ一覧!M572","v":658},null,null,null,null,null,"児童福祉施設",null,null,null,null,null,null,null,{"$f":"データ一覧!M565","v":22},null,null,null,{"$f":"データ一覧!M578","v":1029}]
["級","・",null,null,null,null,"人",null,null,"人",null,"    人",null,null,"    人",null,null,"    人",null,null,"    人",null,null,"    人",null,null,null,null,null,null,null,"ha",null,null,null,null,null,"       ha",null,null,"電子・デバイス",null,null,null,null,null,null,null,null,{"$f":"データ一覧!M352","v":9},null,null,null,{"$f":"+データ一覧!M377","v":1382},null,null,null,null,null,null,{"$f":"データ一覧!M402","v":4537657},null,null,null,null,null,null,"介護保険施設",null,null,null,null,null,null,null,{"$f":"データ一覧!M560","v":47},null,null,null,{"$f":"データ一覧!M573","v":988},null,null,null,null,null,"母子福祉施設",null,null,null,null,null,null,null,{"$f":"データ一覧!M566","v":"-"},null,null,null,{"$f":"データ一覧!M579","v":"-"}]
["別",{"$f":"+MID(データ一覧!$A$83,3,2)","v":"10"},"総 数",null,{"$f":"+E42+E43","v":2730},null,null,{"$f":"+H42+H43","v":2118},null,null,{"$f":"+K42+K43","v":2029},null,null,{"$f":"+N42+N43","v":2734},null,null,{"$f":"+Q42+Q43","v":3408},null,null,{"$f":"+T42+T43","v":3602},null,null,{"$f":"+W42+W43","v":9218},null,null," 無立木地   伐採跡地",null,null,null,{"$f":"データ一覧!M271","v":7.61},null,null,"国   　　　 　 有",null,null,null,{"$f":"データ一覧!M273","v":44.33},null,null,null,"電気機械",null,null,null,null,null,null,null,null,{"$f":"データ一覧!M353","v":4},null,null,null,{"$f":"+データ一覧!M378","v":80},null,null,null,null,null,null,{"$f":"データ一覧!M403","v":128104},null,null,null,null,null,null,"障害者自立支援法施行前からの身体障害者福祉施設",null,null,null,null,null,null,null,{"$f":"データ一覧!M561","v":"-"},null,null,null,{"$f":"データ一覧!M574","v":"-"},null,null,null,null,null,"婦人保護施設",null,null,null,null,null,null,null,{"$f":"データ一覧!M567","v":"-"},null,null,null,{"$f":"データ一覧!M580","v":"-"}]
["人","・","  男",null,{"$f":"データ一覧!M83","v":1372},null,null,{"$f":"データ一覧!M84","v":1086},null,null,{"$f":"データ一覧!M85","v":1049},null,null,{"$f":"データ一覧!M86","v":1401},null,null,{"$f":"データ一覧!M87","v":1730},null,null,{"$f":"データ一覧!M88","v":1724},null,null,{"$f":"データ一覧!M89","v":3945},null,null," 無立木地   未立木地",null,null,null,{"$f":"データ一覧!M272","v":70.38},null,null,"公       　　  有",null,null,null,{"$f":"データ一覧!M274","v":572.01},null,null,"     輸送機械","情報通信機械",null,null,null,null,null,null,null,null,{"$f":"データ一覧!M354","v":0},null,null,null,{"$f":"+データ一覧!M379","v":0},null,null,null,null,null,null,{"$f":"データ一覧!M404","v":0},null,null,null,null,null,null,null,null,null,null,null,null,null,null,null,null,null,null,null,null,null,null,null,null,"その他の社会福祉施設",null,null,null,null,null,null,null,{"$f":"データ一覧!M568+データ一覧!M569","v":0},null,null,null,0]
["口",{"$f":"+RIGHT(データ一覧!$A$83,1)","v":"1"},"  女",null,{"$f":"データ一覧!M91","v":1358},null,null,{"$f":"データ一覧!M92","v":1032},null,null,{"$f":"データ一覧!M93","v":980},null,null,{"$f":"データ一覧!M94","v":1333},null,null,{"$f":"データ一覧!M95","v":1678},null,null,{"$f":"データ一覧!M96","v":1878},null,null,{"$f":"データ一覧!M97","v":5273},null,null,null,null,null,null,null,null,null,"私          　 有",null,null,null,{"$f":"データ一覧!M275","v":3809.17},null,null,"     精密機械","輸送機械",null,null,null,null,null,null,null,null,{"$f":"データ一覧!M355","v":2},null,null,null,{"$f":"+データ一覧!M380","v":88},null,null,null,null,null,null,{"$f":"データ一覧!M405","v":"x"},null,null,null,null,null,null,"障害福祉サービス事業所",null,null,null,null,null,null,null,{"$f":"データ一覧!M562","v":33},null,null,null,{"$f":"データ一覧!M575","v":463}]
[null,null,null,null,null,null,null,null,null,null,null,null,null,null,null,null,null,null,null,null,null,null,null,null,null,"            林     産     物     生     産     量 ",null,null,null,null,null,null,null,null,null,{"$f":"データ一覧!$A$276","v":"5年中"},null,null,null,"     その他","その他",null,null,null,null,null,null,null,null,{"$f":"データ一覧!M356","v":1},null,null,null,{"$f":"+データ一覧!M381","v":7},null,null,null,null,null,null,{"$f":"データ一覧!M406","v":"x"},null,null,null,null,null,null," １７  教　　　　　　　育",null,null,null,null,null,null,null,null,null,null,null,null,null,null,null,{"$f":"データ一覧!$A$583","v":"6.5.1"}]
["人口動態",null,null,null,null,null,null,"   自　然　動　態",null,null,null,null,null,"   社  会  動  態",null,null,null,null,null,{"$f":"データ一覧!$A78","v":"5.1.1～5.12.31"},null,null,null,null,null,"生椎茸",null,null,null,{"$f":"データ一覧!M276","v":0},null,"㎏","乾椎茸",null,null,null,{"$f":"データ一覧!M277","v":0},null,"㎏"]
[null,null,"   区       分",null,null,null,null," 出   生",null,null," 死   亡",null,null," 転   入",null,null," 転   出",null,null," 婚   姻",null,null," 離   婚",null,null,"えのきだけ",null,null,null,{"$f":"データ一覧!M279","v":0},null,"㎏","なめこ",null,null,null,{"$f":"データ一覧!M278","v":0},null,"㎏","    ","工　業　用　水　量",null,null,null,null,null,"（従業者30人以上の事業所）",null,null,null,null,null,null,null,null,null,null,{"$f":"データ一覧!M407","v":14823},null,null,null,null,"㎥／日",null,null,null,null,null,null,null,null,null,null,null,null,null,null,"学校数（校）",null,null,null,null,null,null,"教員数（人）",null,null,null,null,null,null,null,"学生・生徒・児童数（人）"]
[{"$f":"LEFT(データ一覧!$A74,6)","v":"5.10.1"},null,null,null,null,null,null,"       人",null,null,"       人",null,null,"       人",null,null,"       人",null,null,null,"    件",null,null,"    件",null,"ひらたけ",null,null,null,{"$f":"+データ一覧!M280","v":0},null,"㎏","まいたけ",null,null,null,{"$f":"+データ一覧!M281","v":0},null,"㎏",null,null,null,null,null,null,null,null,null,null,null,null,null,null,null,null,null,null,null,null,null,null,null,null,null,null,null,null,null,"　","区分",null,null,null,null,null,null,null," 本 校",null,null," 分 校",null,null," 本   務",null,null,null," 兼   務",null,null,null," 総   数",null,null,null,"男",null,null,null,"女"]
["～",null," 実          数",null,null,null,null,{"$f":"データ一覧!M74","v":109},null,null,{"$f":"データ一覧!M75","v":438},null,null,{"$f":"データ一覧!M76","v":901},null,null,{"$f":"データ一覧!M77","v":865},null,null,{"$f":"データ一覧!M78","v":66},null,null,{"$f":"データ一覧!M79","v":26},null,null,null,null,null,null,null,null,null,null,null,null,null,null,null,null," １１ 　上　・　下　水　道",null,null,null,null,null,null,null,null,null,null,null,null,null,null,null,null,null,null,null,null,null,null,null,null,null,null,null,null,"小学校",null,null,null,null,null,null,null,null,{"$f":"データ一覧!M584","v":10},null,null,{"$f":"データ一覧!M585","v":0},null,null,{"$f":"データ一覧!M586","v":115},null,null,null,{"$f":"データ一覧!M587","v":29},null,null,null,{"$f":"データ一覧!M588","v":1168},null,null,null,{"$f":"データ一覧!M589","v":587},null,null,null,{"$f":"データ一覧!M590","v":581}]
[{"$f":"RIGHT(データ一覧!$A76,6)","v":"6.9.30"},null,"比率(対1,000人)",null,null,null,null,{"$f":"+H48/I36*1000","v":3.9601802063653544},null,null,{"$f":"+K48/I36*1000","v":15.913384682458947},null,null,"- ",null,null,"- ",null,null,{"$f":"+T48/I36*1000","v":2.3979072809184712},null,null,{"$f":"+W48/I36*1000","v":0.94463014096788256},null,null,"  ６  漁               業",null,null,null,null,null,null,null,null,null,null,null,null,null,null,null,null,null,null,null,null,null,null,null,null,null,null,null,null,null,null,null,null,null,null,null,null,null,null,null,null,null,"  ","中学校",null,null,null,null,null,null,null,null,{"$f":"データ一覧!M592","v":2},null,null,{"$f":"データ一覧!M593","v":0},null,null,{"$f":"データ一覧!M594","v":56},null,null,null,{"$f":"データ一覧!M595","v":6},null,null,null,{"$f":"データ一覧!M596","v":608},null,null,null,{"$f":"データ一覧!M597","v":301},null,null,null,{"$f":"データ一覧!M598","v":307}]
[null,null,null,null,null,null,null,null,null,null,null,null,null,null,null,null,null,null,null,null,null,null,null,null,null,null,null,null,null,null,null,null,null,null,null,null,null,null,null,"水 道 供 給 人 口",null,null,null,null,null,null,"上 水 道",null,null,null,"簡易水道",null,null,null,"専用水道",null,null,null,"飲料水供給施設",null,null,null,"下水道処理人口",null,null,null,null,"  ","高等学校",null,null,null,null,null,null,null,null,{"$f":"データ一覧!M600","v":1},null,null,{"$f":"データ一覧!M601","v":0},null,null,{"$f":"データ一覧!M602","v":52},null,null,null,{"$f":"データ一覧!M603","v":10},null,null,null,{"$f":"データ一覧!M604","v":658},null,null,null,{"$f":"データ一覧!M605","v":381},null,null,null,{"$f":"データ一覧!M606","v":277}]
["  ３  事　　業　　所（民　　営）",null,null,null,null,null,null,null,null,null,null,"3.6.1",null,null,null,null,null,null,null,null,null,null,null,null,null,"漁船隻数・トン数",null,null,null,{"$f":"データ一覧!$A$282","v":"5.12.31"},null,null,null,"動　力　船",null,null,null,null,null,{"$f":"データ一覧!$A$408","v":"6.3.31"},null,null,null,null,null,"人",null,{"$f":"データ一覧!M408","v":23887},null,null,{"$f":"データ一覧!M409","v":2516},null,null,null,null,{"$f":"データ一覧!M410","v":34},null,null,null,{"$f":"データ一覧!M411","v":0},null,null,null,{"$f":"データ一覧!M412","v":25522},null,null,null,"  ","大学・短期大学",null,null,null,null,null,null,null,null,{"$f":"データ一覧!M607","v":0},null,null,{"$f":"データ一覧!M608","v":1},null,null,{"$f":"データ一覧!M609","v":7},null,null,null,{"$f":"データ一覧!M610","v":0},null,null,null,{"$f":"データ一覧!M611","v":90},null,null,null,{"$f":"データ一覧!M612","v":38},null,null,null,{"$f":"データ一覧!M613","v":52}]
[null,null,null,null,null,null,null,null,null,null,null,null,null,null,null,null,null,null,null,null,null,null,null,null,null,"無動力船隻数",null,null,null,"船外機付漁船隻数",null,null,null,"隻　数",null,null,"総 ト ン 数",null,null,null,null,null,null,null,null,null,null,null,null,null,null,null,null,null,null,null,null,null,null,null,null,null,null,null,null,null,null,"  ","高等専門学校",null,null,null,null,null,null,null,null,{"$f":"データ一覧!M614","v":0},null,null,{"$f":"データ一覧!M615","v":0},null,null,{"$f":"データ一覧!M616","v":0},null,null,null,{"$f":"データ一覧!M617","v":0},null,null,null,{"$f":"データ一覧!M618","v":0},null,null,null,{"$f":"データ一覧!M619","v":0},null,null,null,{"$f":"データ一覧!M620","v":0}]
[null,null,null,null,null,null,null,"    総　　　　　数",null,null,null,null,null,"    民　　　　　営",null,null,null,null,null,"  国 ･ 地方公共団体",null,null,null,null,null,null,null,null,"隻",null,null,null,"隻",null,null,"隻",null,null,"t"," １２  交   通　・　通   信",null,null,null,null,null,null,null,null,null,null,null,null,null,null,null,null,null,null,null,null,null,null,null,null,null,null,null,"  ","特別支援学校",null,null,null,null,null,null,null,null,{"$f":"データ一覧!M622","v":0},null,null,{"$f":"データ一覧!M623","v":0},null,null,{"$f":"+データ一覧!M624","v":0},null,null,null,{"$f":"+データ一覧!M625","v":0},null,null,null,{"$f":"+データ一覧!M626","v":0},null,null,null,{"$f":"+データ一覧!M627","v":0},null,null,null,{"$f":"+データ一覧!M628","v":0}]
["  　区　　　　　　分",null,null,null,null,null,null," 事業所数",null,null," 従業者数",null,null," 事業所数",null,null," 従業者数",null,null," 事業所数",null,null," 従業者数",null,null,{"$f":"データ一覧!$M$282","v":0},null,null,null,{"$f":"データ一覧!$M$283","v":26},null,null,null,{"$f":"データ一覧!M284","v":9},null,null,{"$f":"データ一覧!M285","v":14},null,null,null,null,null,null,null,null,null,null,null,null,null,null,null,null,null,null,null,null,null,null,null,null,null,null,null,null,null,null,"  ","幼稚園",null,null,null,null,null,null,null,null,{"$f":"データ一覧!M630","v":0},null,null,{"$f":"データ一覧!M631","v":0},null,null,{"$f":"データ一覧!M632","v":0},null,null,null,{"$f":"データ一覧!M633","v":0},null,null,null,{"$f":"データ一覧!M634","v":0},null,null,null,{"$f":"データ一覧!M635","v":0},null,null,null,{"$f":"データ一覧!M636","v":0}]
[null,null,null,null,null,null,null,null,null,null,"       人",null,null,null,null,null,"       人",null,null,null,null,null,"       人",null,null,"  男女別就業者数",null,null,null,null,null,null,null,{"$f":"データ一覧!$A$286","v":"5.11.1"},null,null,null,null,null,"道     路",null,null,null,"実 延 長",null,null,null,"国     道",null,null,null,"県     道",null,null,null,"市町道",null,null,null," 鉄 道 営 業 キ ロ 数",null,null,null,null,null,null,null,"  ","幼保連携認定こども園",null,null,null,null,null,null,null,null,{"$f":"データ一覧!M638","v":12},null,null,{"$f":"データ一覧!M639","v":0},null,null,{"$f":"データ一覧!M640","v":199},null,null,null,{"$f":"データ一覧!M641","v":15},null,null,null,{"$f":"データ一覧!M642","v":783},null,null,null,{"$f":"データ一覧!M643","v":392},null,null,null,{"$f":"データ一覧!M644","v":391}]
["総数",null,null,null,null,null,null,{"$f":"データ一覧!M99","v":"…"},null,null,{"$f":"データ一覧!M156","v":"…"},null,null,{"$f":"データ一覧!M100","v":1242},null,null,{"$f":"データ一覧!M157","v":12932},null,null,{"$f":"データ一覧!M101","v":"…"},null,null,{"$f":"データ一覧!M158","v":"…"},null,null,"総　　数",null,null,null,null,null,"男",null,null,null,"女",null,null,null,{"$f":"データ一覧!$A$413","v":"5.4.1"},null,null,null,{"$f":"データ一覧!M413","v":416.20000000000005},null,null,"㎞",{"$f":"データ一覧!M414","v":11.2},null,null,"㎞",{"$f":"データ一覧!M415","v":70.900000000000006},null,null,"㎞",{"$f":"データ一覧!M416","v":334.1},null,null,"km",{"$f":"データ一覧!$A$417","v":"6.4.1"},null,null,null,{"$f":"データ一覧!M417","v":4.5999999999999996},null,null,"㎞","  ","各種学校",null,null,null,null,null,null,null,null,{"$f":"データ一覧!M646","v":0},null,null,{"$f":"データ一覧!M647","v":0},null,null,{"$f":"データ一覧!M648","v":0},null,null,null,{"$f":"データ一覧!M649","v":0},null,null,null,{"$f":"データ一覧!M650","v":0},null,null,null,{"$f":"データ一覧!M651","v":0},null,null,null,{"$f":"データ一覧!M652","v":0}]
["農林漁業",null,null,null,null,null,null,{"$f":"データ一覧!M102","v":"…"},null,null,{"$f":"データ一覧!M159","v":"…"},null,null,{"$f":"データ一覧!M103","v":44},null,null,{"$f":"データ一覧!M160","v":559},null,null,{"$f":"データ一覧!M104","v":"…"},null,null,{"$f":"データ一覧!M161","v":"…"},null,null,null,null,null,null,null,"人",null,null,"　　　　人",null,null,null,null,"  人","自動車",null,null,null,null,null,null,null,null,"乗用車",null,null,null,null,null,null,null,null,null,null,null,null,null,null,null,null,null,null,"  ","専修学校",null,null,null,null,null,null,null,null,{"$f":"データ一覧!M654","v":0},null,null,{"$f":"データ一覧!M655","v":0},null,null,{"$f":"データ一覧!M656","v":0},null,null,null,{"$f":"データ一覧!M657","v":0},null,null,null,{"$f":"データ一覧!M658","v":0},null,null,null,{"$f":"データ一覧!M659","v":0},null,null,null,{"$f":"データ一覧!M660","v":0}]
["鉱業",null,null,null,null,null,null,{"$f":"データ一覧!M105","v":"…"},null,null,{"$f":"データ一覧!M162","v":"…"},null,null,{"$f":"データ一覧!M106","v":2},null,null,{"$f":"データ一覧!M163","v":9},null,null,{"$f":"データ一覧!M107","v":"…"},null,null,{"$f":"データ一覧!M164","v":"…"},null,null,{"$f":"データ一覧!M286","v":3},null,null,null,null,null,{"$f":"データ一覧!$M$287","v":0},null,null,null,{"$f":"データ一覧!M288","v":0},null,null,null,"台  数",null,null,null,"貨    物",null,null,null,"普     通",null,null,null,"小     型",null,null,null,"乗  合",null,null,"特  種",null,null,"小型二輪",null,null,"軽自動車",null,null," １８  衛　　　　　　　生"]
["建設業",null,null,null,null,null,null,{"$f":"データ一覧!M108","v":"…"},null,null,{"$f":"データ一覧!M165","v":"…"},null,null,{"$f":"データ一覧!M109","v":140},null,null,{"$f":"データ一覧!M166","v":683},null,null,{"$f":"データ一覧!M110","v":"…"},null,null,{"$f":"データ一覧!M167","v":"…"},null,null,"　　　　海 面 漁 業 漁 獲 量 （属人）",null,null,null,null,null,null,null,{"$f":"データ一覧!$A$289","v":"30年中"},null,null,null,null,null,{"$f":"データ一覧!$A$418","v":"6.3.31"},null,null,null,null,{"$f":"データ一覧!M418","v":1310},null,null,null,{"$f":"データ一覧!M420","v":5744},null,null,null,{"$f":"データ一覧!M421","v":5431},null,null,{"$f":"データ一覧!M419","v":108},null,null,{"$f":"データ一覧!M422","v":500},null,null,{"$f":"データ一覧!M423","v":317},null,null,{"$f":"データ一覧!M424","v":11005}]
["製造業",null,null,null,null,null,null,{"$f":"データ一覧!M111","v":"…"},null,null,{"$f":"データ一覧!M168","v":"…"},null,null,{"$f":"データ一覧!M112","v":160},null,null,{"$f":"データ一覧!M169","v":4537},null,null,{"$f":"データ一覧!M113","v":"…"},null,null,{"$f":"データ一覧!M170","v":"…"},null,null,null,null,null,null,null,"       ","ｔ",null,null,null,null,null,null,"t",null,null,"     ",null,"郵　便　局　数",null,null,null,null,null,null,null,null,null,null,null,null,null,{"$f":"+MID(データ一覧!$A$428,3,2)","v":"3."},"令","一般加入",null,null,null,"ＩＮＳネット",null,null,null,null,null,null,null,"医療関係施設",null,null,null,null,null,{"$f":"データ一覧!$A$661","v":"5.10.1"},null,null,null,null,null,null,"および医療関係者数",null,null,null,null,null,null,null,{"$f":"データ一覧!$A$666","v":"4.12.31"}]
["電気・ｶﾞ ｽ・熱供給・水道業",null,null,null,null,null,null,{"$f":"データ一覧!M114","v":"…"},null,null,{"$f":"データ一覧!M171","v":"…"},null,null,{"$f":"データ一覧!M115","v":1},null,null,{"$f":"データ一覧!M172","v":"-"},null,null,{"$f":"データ一覧!M116","v":"…"},null,null,{"$f":"データ一覧!M173","v":"…"},null,null,"   総　　　　　　数",null,null,null,{"$f":"データ一覧!M289","v":3},null,null,"   藻　　　　　　類",null,null,null,{"$f":"データ一覧!M292","v":1},null,null,"通  信",null,null,null," 総     数",null,null,null,null," 郵 便 局",null,null,null,null," 簡 易 局",null,null,null,"・",{"$f":"+LEFT(データ一覧!$A$428,1)","v":"6"},"電話数",null,null,null,"加入数",null,null,null,null,null,null,null,null,null,"　","病",null,null,"院",null,"　",null,null,null,null," ","一般診療所",null,null,null,null,null,null,null,null,null,null,null,"歯科診療所"]
["情報通信業",null,null,null,null,null,null,{"$f":"データ一覧!M117","v":"…"},null,null,{"$f":"データ一覧!M174","v":"…"},null,null,{"$f":"データ一覧!M118","v":3},null,null,{"$f":"データ一覧!M175","v":11},null,null,{"$f":"データ一覧!M119","v":"…"},null,null,{"$f":"データ一覧!M176","v":"…"},null,null,"   魚　　　　　　類",null,null,null,{"$f":"データ一覧!M290","v":2},null,null,"   そ　   の　　 他",null,null,null,{"$f":"データ一覧!M293","v":0},null,null,{"$f":"データ一覧!$A$428","v":"6.3.31"},null,null,null,{"$f":"データ一覧!M425","v":9},null,null,null,null,{"$f":"データ一覧!M426","v":7},null,null,null,null,{"$f":"データ一覧!M427","v":2},null,null,null,{"$f":"+RIGHT(データ一覧!$A$428,2)","v":"31"},"・",{"$f":"データ一覧!M428","v":1837},null,null,null,{"$f":"データ一覧!M429","v":335},null,null,null," ","医療関係",null,null,null,null,null,null,null,null,null,null,null,"一般病院",null,null,null,null,null,null,null,null,null,null,null,"有",null,null,"床"]
["運輸業、郵便業",null,null,null,null,null,null,{"$f":"データ一覧!M120","v":"…"},null,null,{"$f":"データ一覧!M177","v":"…"},null,null,{"$f":"データ一覧!M121","v":36},null,null,{"$f":"データ一覧!M178","v":529},null,null,{"$f":"データ一覧!M122","v":"…"},null,null,{"$f":"データ一覧!M179","v":"…"},null,null,"   貝　　　　　　類",null,null,null,{"$f":"データ一覧!M291","v":1},null,null,null,null,null,null,null,null,null,null,null,null,null,null,null,null,null,null,null,null,null,null,null,null,null,null,null,null,null,null,null,null,null,null,null,null,null,null,"施設数",null,null,null,null,null,null,{"$f":"データ一覧!M661","v":3},null,null,null,null,null,{"$f":"データ一覧!M662","v":3},null,null,null,null,null,{"$f":"データ一覧!M663","v":18},null,null,null,null,null,{"$f":"データ一覧!M664","v":0},null,null,null,null,null,{"$f":"データ一覧!M665","v":7}]
["卸売業、小売業",null,null,null,null,null,null,{"$f":"データ一覧!M123","v":"…"},null,null,{"$f":"データ一覧!M180","v":"…"},null,null,{"$f":"データ一覧!M124","v":273},null,null,{"$f":"データ一覧!M181","v":1648},null,null,{"$f":"データ一覧!M125","v":"…"},null,null,{"$f":"データ一覧!M182","v":"…"},null,null,null,null,null,null,null,null,null,null,null,null,null,null,null,null," １３  税　　・　　財　　政",null,null,null,null,null,null,null,null,null,null,null,null,null,null,null,null,null,null,null,null,null,null,null,null,null,null,null,null,null,null,null,null,null,null,"医師",null,null,null,null,"歯科医師",null,null,null,null,"薬剤師",null,null,null,null,"保健師",null,null,null,null,"助産師",null,null," ",null,"看護師",null,null," "]
["金融業、保険業",null,null,null,null,null,null,{"$f":"データ一覧!M126","v":"…"},null,null,{"$f":"データ一覧!M183","v":"…"},null,null,{"$f":"データ一覧!M127","v":18},null,null,{"$f":"データ一覧!M184","v":127},null,null,{"$f":"データ一覧!M128","v":"…"},null,null,{"$f":"データ一覧!M185","v":"…"},null,null,"  ７  商        　　　業 ",null,null,null,null,null,null,{"$f":"データ一覧!$A$294","v":"3.6.1(令和2年実績）"},null,null,null,null,null,null,null,null,null,null,null,null,null,null,null,null,null,null,null,null,null,null,null,null,null,null,null,null,null,null,null,null,null,null," ","医療",null,null,null,null,null,null,null,null,"人",null,null,null,null,"人",null,null,null,null,"人",null,null,null,null,"人",null,null,null,null,"人",null,null,null,null,"人"]
["不動産業、物品賃貸業",null,null,null,null,null,null,{"$f":"データ一覧!M129","v":"…"},null,null,{"$f":"データ一覧!M186","v":"…"},null,null,{"$f":"データ一覧!M130","v":20},null,null,{"$f":"データ一覧!M187","v":77},null,null,{"$f":"データ一覧!M131","v":"…"},null,null,{"$f":"データ一覧!M188","v":"…"},null,null,null,null,null,null,null,null,null,null,null,null,null,null,null,null,"           ",null,null,null,"歳入",null,null,null,null,null,null,null,null,"(千円）"," ",null,null,null,"歳出",null,null,null,null,null,null,null,null,"(千円）",null,"関係者",null,null,null,null,{"$f":"データ一覧!M666","v":40},null,null,null,null,{"$f":"データ一覧!M667","v":15},null,null,null,null,{"$f":"データ一覧!M668","v":46},null,null,null,null,{"$f":"データ一覧!M669","v":23},null,null,null,null,{"$f":"データ一覧!M670","v":2},null,null,null,null,{"$f":"データ一覧!M671","v":329}]
["学術研究、専門・技術ｻｰﾋﾞｽ業",null,null,null,null,null,null,{"$f":"データ一覧!M132","v":"…"},null,null,{"$f":"データ一覧!M189","v":"…"},null,null,{"$f":"データ一覧!M133","v":38},null,null,{"$f":"データ一覧!M190","v":139},null,null,{"$f":"データ一覧!M134","v":"…"},null,null,{"$f":"データ一覧!M191","v":"…"},null,null,"  産   業　 分　 類",null,null,null," 事　業　所　数",null,null," 従　業　者　数",null,null,"年　間　販　売　額",null,null,null,"一人当たり歳入歳出予算決算額",null,null,null,null,null,null,null,null,null,null,null,null,null,null,null,null,null,null,null,null,null,null,null,null,null,null,null,"                   ",null,null,null,null,null,null,null,null,"死因別死亡数　　　　　　    ",null,null,null,null,null,null,null,null,null,null,null,null,null,null,null,{"$f":"データ一覧!$A$672","v":"5年中"},null,null,null,null,null,null,null,null,"      単 位：人"]
["宿泊業、飲食サービス業",null,null,null,null,null,null,{"$f":"データ一覧!M135","v":"…"},null,null,{"$f":"データ一覧!M192","v":"…"},null,null,{"$f":"データ一覧!M136","v":180},null,null,{"$f":"データ一覧!M193","v":1574},null,null,{"$f":"データ一覧!M137","v":"…"},null,null,{"$f":"データ一覧!M194","v":"…"},null,null,null,null,null,null,null,null,null,null,null,"　人",null,"         百万円",null,null,"区分",null,null,null,{"$f":"データ一覧!$A$438","v":"6年度"},null,null,null,null,{"$f":"データ一覧!$A$452","v":"5年度"},null,null,null,null,"区分",null,null,null,{"$f":"+AR68","v":"6年度"},null,null,null,null,{"$f":"データ一覧!$A$452","v":"5年度"},null,null,null,null," 死     因",null,null,null,null,null,null,null,null,null,null,null,"悪  性",null,null,"高血圧",null,null,null,null,null,"脳血管",null,null,null,null,null," ",null,null,"不慮の事故"]
["生活関連サービス業、娯楽業",null,null,null,null,null,null,{"$f":"データ一覧!M138","v":"…"},null,null,{"$f":"データ一覧!M195","v":"…"},null,null,{"$f":"データ一覧!M139","v":110},null,null,{"$f":"データ一覧!M196","v":567},null,null,{"$f":"データ一覧!M140","v":"…"},null,null,{"$f":"データ一覧!M197","v":"…"},null,null,"総　　　　　　計",null,null,null,{"$f":"データ一覧!M294","v":247},null,null,{"$f":"データ一覧!M303","v":1412},null,null,{"$f":"データ一覧!M312","v":32174},null,null,null,null,null,null,null,{"$f":"データ一覧!M434","v":605663.49351989897},null,null,null,null,{"$f":"データ一覧!M435","v":678224.00756143662},null,null,null,null,null,null,null,null,{"$f":"データ一覧!M436","v":605663.49351989897},null,null,null,null,{"$f":"データ一覧!M437","v":635127.41020793957},null,null,null,null,null,null,null,null,null,"全 死 因",null,null,null,"結 核",null,null,"新生物",null,null,"性疾患",null,null,"心疾患",null,null,"疾  患",null,null,"肺  炎",null,null,"老  衰",null,null,null,null," ","交通事故"]
["教育、学習支援業",null,null,null,null,null,null,{"$f":"データ一覧!M141","v":"…"},null,null,{"$f":"データ一覧!M198","v":"…"},null,null,{"$f":"データ一覧!M142","v":40},null,null,{"$f":"データ一覧!M199","v":354},null,null,{"$f":"データ一覧!M143","v":"…"},null,null,{"$f":"データ一覧!M200","v":"…"},null,null,"卸売業",null,null,null,{"$f":"データ一覧!M295","v":36},null,null,{"$f":"データ一覧!M304","v":207},null,null,{"$f":"データ一覧!M313","v":12644},null,null,null,"項目別歳入歳出予算決算額"]
["医療、福祉",null,null,null,null,null,null,{"$f":"データ一覧!M144","v":"…"},null,null,{"$f":"データ一覧!M201","v":"…"},null,null,{"$f":"データ一覧!M145","v":76},null,null,{"$f":"データ一覧!M202","v":1517},null,null,{"$f":"データ一覧!M146","v":"…"},null,null,{"$f":"データ一覧!M203","v":"…"},null,null,"小売業",null,null,null,{"$f":"データ一覧!M296","v":211},null,null,{"$f":"データ一覧!M305","v":1205},null,null,{"$f":"データ一覧!M314","v":19530},null,null,null,"区分",null,null,null,{"$f":"データ一覧!$A$438","v":"6年度"},null,null,null,null,{"$f":"データ一覧!$A$452","v":"5年度"},null,null,null,null,"区分",null,null,null,{"$f":"+AR71","v":"6年度"},null,null,null,null,{"$f":"データ一覧!$A$452","v":"5年度"},null,null,null,null,null,null,null,null,null,{"$f":"データ一覧!M672","v":454},null,null,null,"   －",{"$f":"データ一覧!M673","v":"-"},null,{"$f":"データ一覧!M674","v":98},null,null,null,{"$f":"データ一覧!M675","v":1},null,{"$f":"データ一覧!M676","v":83},null,null,{"$f":"データ一覧!M677","v":37},null,null,{"$f":"データ一覧!M678","v":30},null,null,{"$f":"データ一覧!M679","v":38},null,null,{"$f":"データ一覧!M680","v":12},null,null,{"$f":"データ一覧!M681","v":2}]
["複合サービス事業",null,null,null,null,null,null,{"$f":"データ一覧!M147","v":"…"},null,null,{"$f":"データ一覧!M204","v":"…"},null,null,{"$f":"データ一覧!M148","v":11},null,null,{"$f":"データ一覧!M205","v":121},null,null,{"$f":"データ一覧!M149","v":"…"},null,null,{"$f":"データ一覧!M206","v":"…"},null,null,"各種商品",null,null,null,{"$f":"データ一覧!M297","v":"-"},null,null,{"$f":"データ一覧!M306","v":"-"},null,null,{"$f":"データ一覧!M315","v":"-"},null,null,null,"総額",null,null,null,{"$f":"SUM(AR73:AV85)","v":15842340},null,null,null,null,{"$f":"SUM(AW73:BA85)","v":17939025},null,null,null,null,"総額",null,null,null,{"$f":"SUM(BF73:BJ85)","v":15842340},null,null,null,null,{"$f":"SUM(BK73:BO85)","v":16799120},null,null,null,null," １９  警　察　・　消　防  ",null,null,null,null,null,null,null,null,null,null,null,null,null,null,null,{"$f":"+データ一覧!$A682","v":"6.4.1"}]
["サービス業",null,null,null,null,null,null,{"$f":"データ一覧!M150","v":"…"},null,null,{"$f":"データ一覧!M207","v":"…"},null,null,{"$f":"データ一覧!M151","v":90},null,null,{"$f":"データ一覧!M208","v":480},null,null,{"$f":"データ一覧!M152","v":"…"},null,null,{"$f":"データ一覧!M209","v":"…"},null,null,"織物・衣服・身の回り品",null,null,null,{"$f":"データ一覧!M298","v":24},null,null,{"$f":"データ一覧!M307","v":51},null,null,{"$f":"データ一覧!M316","v":156},null,null,null,"地方税",null,null,null,{"$f":"データ一覧!M439","v":4204426},null,null,null,null,{"$f":"データ一覧!M453","v":4462315},null,null,null,null,"議会費",null,null,null,{"$f":"データ一覧!M467","v":146451},null,null,null,null,{"$f":"データ一覧!M481","v":145476}]
["公務",null,null,null,null,null,null,{"$f":"データ一覧!M153","v":"…"},null,null,{"$f":"データ一覧!M210","v":"…"},null,null,{"$f":"データ一覧!M154","v":"…"},null,null,{"$f":"データ一覧!M211","v":"…"},null,null,{"$f":"データ一覧!M155","v":"…"},null,null,{"$f":"データ一覧!M212","v":"…"},null,null,"飲食料品",null,null,null,{"$f":"データ一覧!M299","v":79},null,null,{"$f":"データ一覧!M308","v":529},null,null,{"$f":"データ一覧!M317","v":6247},null,null,null,"地方譲与税",null,null,null,{"$f":"データ一覧!M440","v":133000},null,null,null,null,{"$f":"データ一覧!M454","v":136224},null,null,null,null,"総務費",null,null,null,{"$f":"データ一覧!M468","v":2427386},null,null,null,null,{"$f":"データ一覧!M482","v":3317199},null,null,null,null,null,null,null,null,null,null,null,null,null,null,"交番・駐在所",null,null,null,null,null,null,null,null,"刑法犯認知件数",null,null,null,null,null,null,null,null,"交通人身事故発生件数"]
["  ４  農        　　　業 ",null,null,null,null,null,null,null,null,null,null,null,null,null,null,null,null,null,null,null,null,null,null,null,null,"機械器具",null,null,null,{"$f":"データ一覧!M300","v":29},null,null,{"$f":"データ一覧!M309","v":103},null,null,{"$f":"データ一覧!M318","v":1426},null,null,null,"各種交付金",null,null,null,{"$f":"データ一覧!M441","v":856000},null,null,null,null,{"$f":"データ一覧!M455","v":909722},null,null,null,null,"民生費",null,null,null,{"$f":"データ一覧!M469","v":5042544},null,null,null,null,{"$f":"データ一覧!M483","v":4994083},null,null,null,null,null,"警察署数",null,null,null,null,null,null,null,null,"検問所数",null,null,null,null,null,null,null,null,null,{"$f":"データ一覧!$A$684","v":"5年中"},null,null,null,null,null,null,null,null,{"$f":"データ一覧!$A$684","v":"5年中"}]
[null,null,null,null,null,null,null,null,null,null,null,null,null,null,null,null,null,null,null,null,null,null,null,null,null,"その他",null,null,null,{"$f":"データ一覧!M301","v":68},null,null,{"$f":"データ一覧!M310","v":355},null,null,{"$f":"データ一覧!M319","v":7120},null,null,null,"地方特例交付金",null,null,null,{"$f":"データ一覧!M442","v":142000},null,null,null,null,{"$f":"データ一覧!M456","v":30736},null,null,null,null,"衛生費",null,null,null,{"$f":"データ一覧!M470","v":902780},null,null,null,null,{"$f":"データ一覧!M484","v":879100},null,null,null,null,null,null,null,null,null,null,null,null,null,null,null,null,null,null,null,null,null,null,null,null,null,null,null,null," 件",null,null,null,null,null,null,null,null,"　件"]
[null,null,"農業経営体数",null,null,null,null,null,null,"農産物販売額規模別経営体数",null,null,null,null,null,null,null,"経営耕地面積規模別経営体数",null,null,null,null,null,null,null,"無店舗",null,null,null,{"$f":"データ一覧!M302","v":11},null,null,{"$f":"データ一覧!M311","v":167},null,null,{"$f":"データ一覧!M320","v":4580},null,null,null,"地方交付税",null,null,null,{"$f":"データ一覧!M443","v":3380000},null,null,null,null,{"$f":"データ一覧!M457","v":4035882},null,null,null,null,"労働費",null,null,null,{"$f":"データ一覧!M471","v":32235},null,null,null,null,{"$f":"データ一覧!M485","v":22098},null,null,null,null,null,null,{"$f":"データ一覧!M682","v":1},null,null,null,null,null,null,null,null,{"$f":"データ一覧!M683","v":6},null,null,null,null,null,null,null,null,{"$f":"データ一覧!M684","v":117},null,null,null,null,null,null,null,null,{"$f":"データ一覧!M685","v":21}]
["農",null,"区　分",null,null,null,"経営体数\n（経営体）",null,null,"区　分",null,null,null,null,"経営体数\n（経営体）",null,null,"区　分",null,null,null,null,"経営体数\n（経営体）",null,null,null,null,null,null,null,null,null,null,null,null,null,null,null,null,"分担金および負担金",null,null,null,{"$f":"データ一覧!M444","v":84359},null,null,null,null,{"$f":"データ一覧!M458","v":216661},null,null,null,null,"農林水産業費",null,null,null,{"$f":"データ一覧!M472","v":865081},null,null,null,null,{"$f":"データ一覧!M486","v":829385},null,null,null,null,"火災発生件数",null,null,null,null,null,null,null,null,null,"林野焼損",null,null,null,null,"損      害",null,null,null,null,"消 防 自",null,null,null,"その他の",null,null,null," ",null,null,null,null," "]
["業","令",null,null,null,null,null,null,null,null,null,null,null,null,null,null,null,null,null,null,null,null,null,null,null,"  ８  住　　　　　　 　宅",null,null,null,null,null,null,null,null,null,null,null,null,null,"使用料および手数料",null,null,null,{"$f":"データ一覧!M445","v":179961},null,null,null,null,{"$f":"データ一覧!M459","v":182623},null,null,null,null,"商工費",null,null,null,{"$f":"データ一覧!M473","v":664912},null,null,null,null,{"$f":"データ一覧!M487","v":714436},null,null,null,null,{"$f":"+データ一覧!$A$686","v":"5年中"},null,null,null,null,"焼損棟数",null,null,null,null,"面    積",null,null,null,null,"見  積  額",null,null,null,null,"動 車 数",null,null,null,"ﾎﾟﾝﾌﾟ数",null,null,null," 消防吏員",null,null,null," 消防団員"]
["経",{"$f":"+LEFT(データ一覧!$A$213)","v":"2"},"計",null,null,null,{"$f":"データ一覧!M213","v":508},null,null,"総　　　 数",null,null,null,null,{"$f":"データ一覧!M217","v":508},null,null,"総　　　 数",null,null,null,null,{"$f":"データ一覧!M233","v":2560},null,null,null,null,null,null,null,null,null,null,null,null,null,null,null,null,"国庫支出金",null,null,null,{"$f":"データ一覧!M446","v":2035150},null,null,null,null,{"$f":"データ一覧!M460","v":2271044},null,null,null,null,"土木費",null,null,null,{"$f":"データ一覧!M474","v":1577624},null,null,null,null,{"$f":"データ一覧!M488","v":2164250},null,null,null,null,"         件",null,null,null,null,null,"      棟",null,null,null,null,null,null,"  ａ",null,null,null,"  千円",null,null,"        ",null,null,null,null,null,null,null,null,null,"  人",null,null,null,"  人"]
["営","・","個人経営体",null,null,null,{"$f":"データ一覧!M214","v":457},null,null,"販 売 な し",null,null,null,null,{"$f":"データ一覧!M218","v":14},null,null,"0.5 ha 未満",null,null,null,null,{"$f":"データ一覧!M234","v":31},null,null,{"$f":"+データ一覧!$A$321","v":"4年"},null,null,null,null,{"$f":"データ一覧!$A$324","v":"5年"},"中の増減",null,null,null,{"$f":"+データ一覧!$A$324","v":"5年"},null,null,null,"県支出金",null,null,null,{"$f":"データ一覧!M447","v":1456235},null,null,null,null,{"$f":"データ一覧!M461","v":1335117},null,null,null,null,"消防費",null,null,null,{"$f":"データ一覧!M475","v":598585},null,null,null,null,{"$f":"データ一覧!M489","v":586705},null,null,null,null,null,{"$f":"データ一覧!M686","v":7},null,null,null,null,{"$f":"データ一覧!M687","v":7},null,null,null,null,{"$f":"データ一覧!M688","v":1},null,null,null,{"$f":"データ一覧!M689","v":25846},null,null,null,null,null,{"$f":"データ一覧!M690","v":19},null,null,null,{"$f":"データ一覧!M691","v":11},null,null,null,{"$f":"データ一覧!M692","v":46},null,null,null,{"$f":"データ一覧!M693","v":252}]
["体",{"$f":"+LEFT(データ一覧!$A$213,1)","v":"2"},"団体経営体",null,null,null,{"$f":"データ一覧!M215","v":51},null,null,"50万円未満",null,null,null,null,{"$f":"データ一覧!M219","v":113},null,null,"0.5 ha ～ 1.0 ha",null,null,null,null,{"$f":"データ一覧!M235","v":86},null,null,null,null,null,null,"建設した住宅",null,null,"消失した住宅",null,null,null,null,null,null,"財産収入",null,null,null,{"$f":"データ一覧!M448","v":27340},null,null,null,null,{"$f":"データ一覧!M462","v":72912},null,null,null,null,"教育費",null,null,null,{"$f":"データ一覧!M476","v":1626368},null,null,null,null,{"$f":"データ一覧!M490","v":1427279},null,null,null,null," ２０  そ　　　の　　　他　"]
["数","・",null,"法人経営",null,null,{"$f":"データ一覧!M216","v":46},null,null,"50～300万円",null,null,null,null,{"$f":"データ一覧!M220","v":253},null,null,"1.0 ha ～ 2.0 ha",null,null,null,null,{"$f":"データ一覧!M236","v":215},null,null,null,null,null,null,null,null,null,null,null,null,null,null,null,null,"繰入金",null,null,null,{"$f":"データ一覧!M449","v":2040450},null,null,null,null,{"$f":"データ一覧!M463","v":994689},null,null,null,null,"災害復旧費",null,null,null,{"$f":"データ一覧!M477","v":1300},null,null,null,null,{"$f":"データ一覧!M491","v":167854}]
["（",{"$f":"+RIGHT(データ一覧!$A$213)","v":"1"},null,null,null,null,null,null,null,"300～500万円",null,null,null,null,{"$f":"データ一覧!M221","v":29},null,null,"2.0 ha ～ 3.0 ha",null,null,null,null,{"$f":"データ一覧!M237","v":105},null,null,null,{"$f":"データ一覧!M321","v":12944},null,"戸",{"$f":"データ一覧!M322","v":76},null,"戸",{"$f":"データ一覧!M323","v":89},null,"戸",null,{"$f":"データ一覧!M324","v":12931},null,"戸","地方債",null,null,null,{"$f":"データ一覧!M450","v":538600},null,null,null,null,{"$f":"データ一覧!M464","v":991533},null,null,null,null,"公債費",null,null,null,{"$f":"データ一覧!M478","v":1925151},null,null,null,null,{"$f":"データ一覧!M492","v":1551255},null,null,null,null,null,null,null,null,null,"あわら温泉、芦湯（足湯）、セントピアあわら、あわら温泉屋台村　湯けむり横丁、藤野厳九郎記念館、越前加賀海岸国定公園、北潟湖畔花菖蒲園、北潟湖畔公園、あわら夢ぐるま公園、刈安山森林自然公園、金津創作の森美術館、あわら市郷土歴史資料館、越前加賀県境の館、桑野遺跡出土品、吉崎御坊跡、本荘春日神社本殿、紙本著色法然上人図像（福円寺）、絹本著色梅山聞本禅師像（龍澤寺）、絹本著色法然上人像（浄光寺）、木造執金剛神像（安楽寺）、石造狛犬（永正十二年銘）、北潟古謡どっしゃどっしゃ、横山古墳群、椚古墳（石室）、千束一里塚、多賀谷左近三経公墓所"]
["総",null,null,null,null,null,null,null,null,"500～1,000万円",null,null,null,null,{"$f":"データ一覧!M222","v":30},null,null,"3.0 ha ～ 5.0 ha",null,null,null,null,{"$f":"データ一覧!M238","v":98},null,null,null,null,null,null,null,null,null,null,null,null,null,null,null,null,"その他",null,null,null,{"$f":"データ一覧!M451","v":764819},null,null,null,null,{"$f":"データ一覧!M465","v":2299567},null,null,null,null,"その他",null,null,null,{"$f":"データ一覧!M479","v":31923},null,null,null,null,{"$f":"データ一覧!M493","v":0},null,null,null,null,"　名所・旧跡"]
["数",null,null,null,null,null,null,null,null,"1,000万円以上",null,null,null,null,{"$f":"データ一覧!M223","v":69},null,null,"5.0 ha以上",null,null,null,null,{"$f":"データ一覧!M239","v":2026},null,null,null,null,null,null,null,null,null,null,null,null,null,null,null,null,null,null,null,null,null,null,null,null,null,null,null,null,null,null,null,null,null,null,null,null,null,null,null,null,null,null,null,null,"  文化財等"]
["）",null,"15歳以上の常雇い数",null,null,null,null,null,null,"農業に60日以上従事した世帯員、役員・構成員\n（経営主を含む）の平均年齢",null,null,null,null,null,null,null,null,null,null,null,null,null,null,null,"  ９  議　 員　・　職 　員",null,null,null,null,null,null,null,null,null,null,null,null,null," １４  文　　　化",null,null,null,null,null,null,null," ( ",{"$f":"\"令\"&データ一覧!$A$498","v":"令6.3.31"},null,null,"ただし図書館・公民館・児童館・ 社会教育学級講座",null,null,null,null,null,null,null,null,null,null,null,{"$f":"データ一覧!$A$494","v":"6.4.1"}]
["と",null,null,null,null,null,null,null,null,null,null,null,null,null,null,null,null,null,null,null,null,null,null,null,null,null,null,null,null,null,null,null,null,null,null,null,null,null,null,null,null,null,null,null,null,null,null,null,null,null,null,null,"　宗教法人数 ",null,null,null,null,null,null,null,null,null,null,{"$f":"データ一覧!$A$502","v":"5.12.31"},null,null,null,"　特産物",null,null,null,null,"メロン、スイカ、とみつ金時（サツマイモ）、越のルビー（トマト）、越前柿、芦原梨、剱岳そば、コシヒカリ、ハナエチゼン"]
["就",null,null,null,null,null,null,null,null,"農業に60日以上従事",null,null,null,null,null,null,null,"農業に150日以上従事",null,null,null,null,null,null,null," 市 町 議 会",null,null,"有権者数",null,{"$f":"データ一覧!$A$328","v":"6.9.1"},null,"市 町 議 会",null,null,"  職      員      数",null,null,null,null,null,null,null,null,"図書館",null,null,null,null,null,"公　民　館",null,null,null,null,null,null,null,null,null,null," 社会教育学級講座"]
["業",null,"区分",null,null,null,"人",null,null,"区分",null,null,null,null,"歳",null,null,"区　　分",null,null,null,null,"歳",null,null," 議  員  定  数",null,null,"    男",null,"    女",null,"選 挙 投 票 率",null,null," 総     数",null,"一般行政職",null,"公    共",null,null,null," 館  数",null,null," 図書数",null,null," 本  館",null,null," 分  館",null,null," 公  園",null,null," 児童館",null,null,"学級講座数",null,null,"受講者数",null,null,null,null,null,null,null,"芦原温泉春まつり、蓮如忌、あわら市トリムマラソン、あわら北潟湖畔花菖蒲まつり、金津祭、あわら湯かけまつり、あわらカップカヌーポロ大会、あわら湯けむり映画祭、あわら灯源郷、剱岳かりんて祭"]
["状",null,"総数",null,null,null,{"$f":"データ一覧!M230","v":63},null,null,"総数",null,null,null,null,{"$f":"データ一覧!M224","v":66},null,null,"総数",null,null,null,null,{"$f":"データ一覧!M227","v":64.599999999999994},null,null,null,null,"人",null,"人",null,"人",null,null,"　％",null,"人",null,"人","施 設 数",null,null,null,null,{"$f":"データ一覧!M494","v":2},null,{"$f":"データ一覧!M495","v":177235},null,null,null,{"$f":"データ一覧!M496","v":9},null,{"$f":"データ一覧!M497","v":0},null,null,{"$f":"データ一覧!M498","v":24},null,null,{"$f":"データ一覧!M499","v":"-"},null,null,{"$f":"データ一覧!M500","v":832},null,null,{"$f":"データ一覧!M501","v":13441},null,null,"　年中行事"]
["況",null,"男",null,null,null,{"$f":"データ一覧!M231","v":46},null,null,"男",null,null,null,null,{"$f":"データ一覧!M225","v":65.099999999999994},null,null,"男",null,null,null,null,{"$f":"データ一覧!M228","v":63.7},null,null,null,{"$f":"データ一覧!M325","v":16},null,{"$f":"データ一覧!M328","v":10617},null,{"$f":"データ一覧!M329","v":11784},null,{"$f":"データ一覧!M327","v":63.98},null,null,{"$f":"データ一覧!M330","v":305},null,{"$f":"データ一覧!M331","v":214},null,"宗    教",null,null,null," 仏教系",null,null,"ｷﾘｽﾄ教系",null,null,"神道諸派",null,null,"公会堂・市民会館",null,null,null,null,null," テレビ",null,null,"衛星放送契約数"]
[null,null,"女",null,null,null,{"$f":"データ一覧!M232","v":17},null,null,"女",null,null,null,null,{"$f":"データ一覧!M226","v":68},null,null,"女",null,null,null,null,{"$f":"データ一覧!M229","v":66.400000000000006},null,null,null,null,null,null,null,null,null,{"$f":"データ一覧!M326","v":"3.6.20"},null,null,null,null,null,null,"法 人 数",null,null,null,{"$f":"データ一覧!M502","v":65},null,null,{"$f":"データ一覧!M503","v":2},null,null,{"$f":"データ一覧!M504","v":95},null,null,{"$f":"データ一覧!M505","v":0},null,null,null,null,null,"      等",null,null,{"$f":"データ一覧!M506","v":6872}]

{"sheet":"越前市","index":12,"n_rows":93,"n_cols":103,"rows_kept":93,"cut":false,"hidden":false,"merged":[[83,72,87,102],[60,39,60,42],[17,25,17,27],[18,25,18,27],[25,77,25,80],[27,86,27,90],[35,75,35,77],[35,80,35,83],[36,75,36,77],[28,81,28,84],[28,86,28,90],[27,81,27,84],[30,77,30,80],[30,81,30,84],[30,86,30,90],[24,53,24,56],[24,40,24,46],[23,60,23,64],[24,60,24,64],[25,40,25,46],[25,49,25,51],[25,53,25,56],[25,60,25,64],[25,73,25,76],[28,73,28,76],[28,77,28,80],[49,58,49,61],[32,68,32,72],[29,86,29,90],[30,68,30,72],[29,73,29,76],[29,81,29,84],[30,73,30,76],[35,22,35,24],[35,5,35,7],[35,8,35,10],[35,11,35,13],[35,14,35,16],[35,18,35,19],[35,20,35,21],[40,79,41,82],[40,75,41,77],[40,60,40,64],[40,19,40,21],[40,22,40,24],[29,11,29,13],[34,20,34,21],[41,22,41,24],[40,10,40,12],[31,18,31,19],[30,18,30,19],[40,13,40,15],[29,22,29,24],[31,8,31,10],[31,11,31,13],[38,67,38,73],[37,40,37,46],[41,53,41,56],[37,60,37,64],[35,68,35,72],[32,5,32,7],[32,8,32,10],[32,11,32,13],[41,19,41,21],[71,0,71,6],[42,19,42,21],[42,22,42,24],[47,7,47,9],[55,31,55,34],[46,0,46,1],[47,10,47,12],[47,13,47,15],[47,16,47,18],[47,22,47,24],[47,0,47,1],[41,4,41,6],[41,7,41,9],[41,10,41,12],[33,8,33,10],[33,11,33,13],[33,14,33,16],[40,16,40,18],[33,5,33,7],[41,13,41,15],[41,16,41,18],[48,10,48,12],[34,5,34,7],[40,2,40,3],[42,16,42,18],[54,25,54,32],[34,8,34,10],[50,0,51,10],[50,11,51,24],[66,29,66,31],[67,0,67,6],[71,10,71,12],[66,0,66,6],[65,0,65,6],[64,0,64,6],[56,0,56,6],[48,0,48,1],[55,0,55,6],[44,0,45,1],[69,16,69,18],[40,4,40,6],[40,7,40,9],[48,7,48,9],[48,13,48,15],[48,16,48,18],[63,13,63,15],[69,10,69,12],[70,16,70,18],[42,4,42,6],[42,7,42,9],[42,10,42,12],[42,13,42,15],[63,0,63,6],[62,0,62,6],[61,0,61,6],[68,7,68,9],[59,0,59,6],[58,0,58,6],[57,0,57,6],[59,7,59,9],[55,10,55,12],[56,13,56,15],[58,7,58,9],[57,10,57,12],[16,74,16,95],[5,0,5,9],[6,0,8,9],[22,7,22,8],[23,11,23,13],[23,16,23,18],[20,11,20,13],[20,16,20,18],[19,32,19,34],[17,53,17,57],[17,91,17,94],[17,59,17,65],[29,20,29,21],[20,40,20,46],[20,49,20,51],[20,53,20,56],[17,68,17,71],[21,53,21,56],[21,49,21,51],[24,49,24,51],[26,22,26,24],[24,27,24,28],[20,21,20,23],[23,21,23,23],[20,25,20,28],[21,25,21,28],[21,29,21,31],[22,25,22,28],[19,3,19,5],[23,77,23,80],[23,81,23,84],[23,86,23,90],[23,25,23,28],[25,27,25,28],[26,25,26,26],[21,32,21,34],[19,99,19,102],[19,91,19,94],[21,60,21,64],[21,95,21,98],[20,60,20,64],[22,40,22,46],[22,49,22,51],[22,53,22,56],[22,60,22,64],[21,40,21,46],[19,95,19,98],[20,91,20,94],[22,68,22,72],[22,73,22,76],[22,95,22,98],[23,40,23,46],[23,49,23,51],[23,53,23,56],[21,73,21,76],[21,77,21,80],[21,81,21,84],[21,86,21,90],[23,68,23,72],[23,73,23,76],[22,77,22,80],[22,81,22,84],[22,86,22,90],[24,68,24,72],[17,100,17,101],[19,40,19,46],[19,49,19,51],[19,53,19,56],[19,60,19,64],[17,40,17,46],[17,48,17,52],[17,86,17,89],[19,73,19,76],[19,77,19,80],[19,81,19,84],[20,73,20,76],[20,77,20,80],[20,81,20,84],[20,86,20,90],[17,73,17,76],[17,82,17,83],[20,99,20,102],[24,73,24,76],[24,77,24,80],[24,81,24,84],[24,86,24,90],[28,91,28,94],[27,91,27,94],[27,95,27,98],[27,99,27,102],[28,99,28,102],[28,95,28,98],[26,40,26,46],[26,49,26,51],[26,53,26,56],[26,60,26,64],[27,68,27,72],[27,73,27,76],[27,40,27,46],[27,49,27,51],[27,53,27,56],[27,60,27,64],[26,99,26,102],[26,91,26,94],[26,95,26,98],[26,68,26,72],[26,73,26,76],[26,77,26,80],[26,81,26,84],[26,86,26,90],[25,91,25,94],[25,81,25,84],[25,86,25,90],[29,53,29,56],[29,5,29,7],[29,8,29,10],[29,14,29,16],[29,18,29,19],[30,60,30,64],[30,40,30,46],[31,20,31,21],[30,53,30,56],[31,49,31,51],[31,53,31,56],[31,60,31,64],[31,22,31,24],[31,40,31,46],[30,22,30,24],[29,60,29,64],[28,40,28,46],[28,49,28,51],[28,53,28,56],[28,60,28,64],[30,20,30,21],[30,5,30,7],[30,8,30,10],[30,11,30,13],[30,14,30,16],[31,5,31,7],[32,40,32,46],[33,49,33,51],[34,36,34,37],[32,22,32,24],[34,11,34,13],[34,14,34,16],[34,29,34,30],[33,20,33,21],[32,14,32,16],[32,20,32,21],[32,49,32,51],[33,18,33,19],[33,22,33,24],[27,0,27,4],[27,5,27,7],[27,22,27,24],[29,40,29,46],[29,49,29,51],[27,29,27,30],[31,14,31,16],[34,49,34,51],[39,60,39,64],[35,60,35,64],[36,49,36,51],[37,49,37,51],[37,53,37,56],[36,60,36,64],[35,49,35,51],[35,53,35,56],[36,53,36,56],[36,67,36,73],[35,40,35,46],[36,40,36,46],[38,79,38,82],[37,67,37,73],[37,75,37,77],[37,79,37,82],[39,67,39,73],[39,75,39,77],[31,68,31,72],[31,73,31,76],[31,77,31,80],[31,81,31,84],[33,60,33,64],[33,40,33,46],[34,40,34,46],[34,22,34,24],[34,18,34,19],[34,60,34,64],[32,18,32,19],[34,53,34,56],[32,53,32,56],[49,91,49,94],[49,95,49,98],[51,91,51,94],[51,99,51,102],[42,40,42,46],[42,79,42,82],[42,36,42,37],[42,67,42,73],[42,60,42,64],[42,75,42,77],[43,49,43,51],[43,60,43,64],[48,19,48,21],[48,22,48,24],[44,19,44,24],[47,19,47,21],[47,95,47,98],[40,53,40,56],[41,49,41,51],[58,64,58,66],[58,58,58,60],[54,91,54,94],[54,95,54,98],[45,92,45,101],[45,57,45,61],[46,95,46,98],[48,99,48,102],[47,91,47,94],[50,77,50,79],[50,68,50,75],[46,69,46,74],[51,68,51,75],[49,99,49,102],[48,80,48,82],[50,87,50,90],[49,87,49,90],[51,80,51,82],[48,87,48,90],[51,87,51,90],[51,83,51,86],[49,80,49,82],[50,99,50,102],[48,68,48,75],[50,95,50,98],[49,83,49,86],[48,91,48,94],[50,91,50,94],[47,99,47,102],[47,83,47,86],[47,87,47,90],[48,83,48,86],[63,74,63,76],[62,99,62,101],[61,68,61,71],[61,80,61,83],[62,87,62,89],[63,94,63,96],[65,73,65,76],[66,76,66,90],[65,88,65,91],[64,68,64,71],[63,89,63,91],[63,84,63,86],[65,68,65,71],[50,83,50,86],[58,52,58,54],[61,63,61,66],[57,67,58,102],[62,68,62,71],[62,75,62,77],[57,55,57,57],[60,97,60,102],[60,91,60,96],[61,59,61,62],[54,55,54,58],[55,63,55,65],[60,85,60,90],[58,61,58,63],[56,68,56,75],[54,83,54,86],[57,58,57,60],[56,77,56,79],[56,83,56,86],[58,13,58,15],[55,13,55,15],[60,0,60,6],[60,13,60,15],[58,16,58,18],[57,16,57,18],[57,13,57,15],[60,10,60,12],[60,22,60,24],[56,16,56,18],[57,19,57,21],[57,22,57,24],[55,16,55,18],[55,19,55,21],[59,19,59,21],[58,19,58,21],[56,19,56,21],[56,22,56,24],[59,13,59,15],[60,19,60,21],[60,16,60,18],[59,16,59,18],[72,62,72,66],[69,35,69,37],[73,39,73,42],[73,7,73,9],[67,53,67,56],[67,57,67,61],[67,62,67,66],[68,48,68,52],[68,53,68,56],[68,57,68,61],[68,62,68,66],[67,43,67,47],[67,48,67,52],[71,39,71,42],[71,32,71,33],[73,10,73,12],[70,39,70,42],[72,10,72,12],[72,32,72,33],[72,57,72,61],[70,29,70,30],[71,29,71,30],[71,35,71,37],[68,32,68,33],[68,29,68,30],[69,13,69,15],[69,7,69,9],[70,13,70,15],[67,39,67,42],[73,53,73,56],[70,10,70,12],[59,59,59,62],[73,48,73,52],[68,13,68,15],[72,22,72,24],[76,35,76,37],[74,39,74,42],[75,29,75,30],[69,19,69,21],[73,86,73,92],[74,77,74,83],[74,87,74,91],[73,77,73,83],[80,35,81,38],[81,39,81,42],[81,67,82,102],[79,101,79,102],[80,96,80,98],[79,97,79,98],[78,91,78,94],[78,67,78,71],[74,68,74,74],[81,57,81,61],[80,62,80,66],[80,78,80,80],[80,57,80,61],[79,57,79,61],[78,77,78,81],[70,43,70,47],[80,53,80,56],[81,43,81,47],[75,53,75,56],[77,77,77,81],[75,39,75,42],[62,29,62,30],[62,22,62,24],[72,43,72,47],[68,35,68,37],[70,32,70,33],[73,25,73,28],[75,43,75,47],[72,39,72,42],[75,35,75,37],[73,43,73,47],[74,35,74,37],[71,43,71,47],[71,25,71,28],[73,16,73,18],[70,35,70,37],[69,32,69,33],[75,32,75,33],[74,32,74,33],[65,19,65,21],[65,22,65,24],[75,25,75,28],[69,39,69,66],[68,39,68,42],[68,43,68,47],[70,57,70,61],[66,22,66,24],[70,53,70,56],[73,62,73,66],[72,35,72,37],[70,62,70,66],[71,62,71,66],[62,13,62,15],[61,16,61,18],[61,13,61,15],[68,22,68,24],[70,7,70,9],[65,7,65,9],[63,22,63,24],[61,22,61,24],[71,22,71,24],[67,16,67,18],[61,19,61,21],[63,19,63,21],[62,16,62,18],[68,16,68,18],[64,10,64,12],[64,13,64,15],[66,13,66,15],[68,10,68,12],[76,2,76,8],[76,17,76,24],[77,2,78,5],[77,6,78,8],[77,9,78,13],[77,14,78,16],[77,17,78,21],[77,22,78,24],[79,2,79,5],[79,6,79,8],[79,9,79,13],[91,17,91,21],[92,9,92,13],[92,14,92,16],[92,17,92,21],[72,19,72,21],[73,19,73,21],[84,6,84,8],[84,9,84,13],[84,14,84,16],[84,22,84,24],[85,6,85,8],[85,9,85,13],[85,14,85,16],[85,22,85,24],[85,17,85,21],[81,22,81,24],[79,14,79,16],[79,17,79,21],[79,22,79,24],[80,6,80,8],[80,9,80,13],[81,32,81,34],[81,29,81,31],[76,25,76,28],[70,19,70,21],[73,13,73,15],[88,17,88,24],[89,9,89,13],[89,17,89,21],[90,9,90,13],[90,17,90,21],[73,32,73,33],[72,29,72,30],[73,35,73,37],[76,29,76,30],[80,14,80,16],[80,17,80,21],[80,22,80,24],[74,29,74,30],[73,29,73,30],[72,25,72,28],[76,9,76,16],[73,22,73,24],[72,7,72,9],[81,6,81,8],[81,9,81,13],[81,14,81,16],[82,6,82,8],[82,9,82,13],[82,14,82,16],[83,6,83,8],[83,9,83,13],[83,14,83,16],[92,39,92,42],[92,43,92,45],[92,46,92,48],[91,52,91,57],[88,44,88,47],[89,39,89,42],[84,39,84,42],[83,36,83,37],[82,39,82,42],[84,48,84,52],[90,39,90,42],[90,61,90,63],[83,48,83,52],[84,53,84,56],[90,44,90,45],[90,55,90,57],[89,61,89,63],[83,43,83,47],[88,50,88,53],[82,57,82,61],[82,62,82,66],[82,43,82,47],[83,39,83,42],[90,64,90,66],[91,49,91,51],[83,57,83,61],[92,61,92,66],[91,35,91,36],[91,32,91,34],[91,43,91,45],[92,52,92,57],[90,52,90,54],[83,62,83,66],[92,49,92,51],[91,61,91,66],[74,53,74,56],[82,48,82,52],[81,53,81,56],[83,53,83,56],[74,48,74,52],[88,61,88,66],[74,57,74,61],[74,62,74,66],[78,48,78,52],[79,53,79,56],[77,48,77,52],[91,46,91,48],[82,53,82,56],[84,43,84,47],[81,48,81,52],[90,46,90,48],[79,43,79,47],[78,53,78,56],[90,50,90,51],[80,43,80,47],[84,57,84,61],[90,58,90,60],[81,62,81,66],[79,62,79,66],[75,57,75,61],[77,43,77,47],[80,92,80,94],[78,99,78,102],[77,87,77,90],[80,73,80,75],[78,72,78,76],[80,100,80,102],[80,82,80,86],[78,95,78,98],[78,87,78,90],[80,88,80,90],[80,68,80,70],[68,91,68,93],[68,82,68,84],[68,79,68,81],[70,79,70,81],[70,77,70,78],[68,72,68,75],[71,83,72,102],[68,94,68,96],[77,91,77,94],[73,95,73,101],[70,72,70,75],[71,67,72,82],[76,78,76,81],[70,83,70,84],[78,82,78,86],[74,96,74,100],[76,69,76,72],[77,82,77,86],[70,94,70,96],[67,67,70,71],[68,88,68,90],[62,81,62,83],[65,78,65,81],[62,93,62,95],[70,88,70,90],[68,76,68,78],[67,79,67,81],[55,99,55,102],[53,99,53,102],[56,91,56,94],[52,95,52,98],[54,99,54,102],[67,88,67,90],[68,100,68,102],[56,95,56,98],[56,80,56,82],[52,80,52,82],[53,95,53,98],[70,100,70,102],[70,97,70,99],[70,91,70,93],[70,85,70,87],[52,77,52,79],[53,80,53,82],[53,83,53,86],[53,87,53,90],[52,99,52,102],[56,87,56,90],[55,91,55,94],[66,92,66,96],[55,95,55,98],[63,99,63,101],[23,91,23,94],[23,95,23,98],[22,99,22,102],[20,95,20,98],[23,99,23,102],[22,91,22,94],[21,99,21,102],[21,91,21,94],[76,87,76,90],[76,96,76,99],[54,87,54,90],[42,93,42,95],[40,85,40,91],[40,93,40,95],[24,91,24,94],[24,95,24,98],[24,99,24,102],[25,95,25,98],[25,99,25,102],[56,99,56,102],[52,91,52,94],[51,95,51,98],[48,95,48,98],[46,99,46,102],[65,98,65,101],[67,97,67,102],[65,93,65,96],[65,83,65,86],[53,91,53,94],[52,87,52,90],[67,82,67,84],[68,85,68,87],[14,82,15,95],[55,80,55,82],[55,83,55,86],[55,87,55,90],[42,85,42,91],[36,93,36,95],[30,95,30,98],[38,85,38,91],[35,93,35,95],[14,67,15,81],[29,95,29,98],[41,97,41,100],[37,93,37,95],[29,99,29,102],[30,99,30,102],[29,91,29,94],[35,98,35,101],[36,97,36,100],[36,85,36,91],[39,97,39,100],[38,97,38,100],[37,97,37,100],[38,93,38,95],[39,93,39,95],[31,99,31,102],[40,97,40,100],[37,85,37,91],[35,86,35,90],[32,99,32,102],[41,85,41,91],[45,84,45,89],[43,83,44,102],[19,25,19,28],[19,29,19,31],[20,29,20,31],[22,29,22,31],[22,32,22,34],[23,29,23,31],[23,32,23,34],[23,35,23,38],[17,36,17,38],[49,39,49,45],[14,25,15,25],[14,26,15,28],[15,29,15,30],[15,32,15,33],[18,28,18,30],[16,32,16,33],[17,32,17,34],[18,31,18,34],[15,35,15,37],[20,35,20,38],[45,36,45,37],[16,36,16,37],[40,40,40,46],[41,36,41,37],[41,40,41,46],[39,40,39,46],[38,40,38,46],[35,36,35,37],[36,29,36,30],[24,29,24,30],[24,31,24,32],[24,33,24,34],[24,37,24,38],[25,25,25,26],[42,97,42,100],[41,32,41,35],[42,32,42,35],[40,49,40,51],[40,36,40,37],[45,32,45,35],[44,25,44,28],[45,25,45,28],[27,33,27,34],[40,29,40,30],[44,29,44,30],[35,29,35,30],[40,32,40,35],[26,27,26,28],[27,25,27,26],[24,35,24,36],[30,49,30,51],[33,53,33,56],[43,67,44,82],[31,95,31,98],[31,91,31,94],[32,60,32,64],[32,91,32,94],[33,83,34,96],[33,67,34,80],[32,95,32,98],[30,91,30,94],[27,77,27,80],[29,77,29,80],[28,68,28,72],[25,29,26,30],[25,31,26,32],[46,25,46,28],[25,35,26,36],[44,36,44,37],[41,29,41,30],[45,29,45,30],[27,35,27,36],[46,29,46,30],[46,32,46,35],[27,27,27,28],[25,33,26,34],[53,68,53,75],[53,77,53,79],[52,68,52,75],[50,55,50,57],[49,46,49,49],[49,50,49,53],[49,54,49,57],[48,62,48,65],[49,62,49,66],[50,25,50,28],[38,49,38,51],[38,53,38,56],[38,60,38,64],[38,75,38,77],[51,25,51,28],[51,29,51,32],[50,29,50,32],[51,36,51,38],[50,59,50,61],[51,77,51,79],[45,77,45,82],[47,68,47,75],[47,77,47,79],[47,80,47,82],[57,43,57,46],[55,39,55,42],[50,47,50,49],[50,50,50,53],[48,50,48,53],[54,43,54,46],[50,63,50,66],[50,80,50,82],[43,40,43,46],[43,53,43,56],[42,49,42,51],[42,53,42,56],[56,39,56,42],[57,39,57,42],[55,68,55,75],[55,77,55,79],[54,80,54,82],[54,68,54,75],[54,77,54,79],[57,64,57,66],[55,47,55,49],[57,61,57,63],[55,59,55,62],[54,59,54,66],[55,55,55,57],[18,35,18,38],[41,93,41,95],[22,35,22,38],[21,35,21,38],[19,35,19,38],[46,36,46,37],[32,73,32,76],[32,77,32,80],[32,81,32,84],[39,85,39,91],[50,33,50,38],[25,37,26,38],[27,37,27,38],[36,36,36,37],[36,79,36,82],[20,32,20,34],[54,47,54,50],[54,51,54,54],[51,33,51,35],[54,39,54,42],[27,31,27,32],[44,32,44,35],[48,56,48,59],[48,77,48,79],[49,77,49,79],[49,68,49,75],[52,83,52,86],[40,67,41,73],[39,79,39,82],[39,49,39,51],[41,60,41,64],[39,53,39,56],[60,36,60,37],[55,35,55,38],[58,39,58,42],[61,39,61,42],[65,39,65,42],[61,36,61,37],[61,29,61,30],[74,0,75,24],[72,13,72,15],[73,0,73,6],[60,29,60,30],[58,48,58,50],[57,51,57,54],[55,43,55,45],[70,0,70,6],[71,16,71,18],[69,29,69,30],[56,48,56,53],[62,19,62,21],[64,19,64,21],[64,22,64,24],[60,7,60,9],[62,10,62,12],[62,7,62,9],[63,7,63,9],[67,22,67,24],[65,16,65,18],[67,13,67,15],[63,16,63,18],[64,16,64,18],[65,10,65,12],[67,10,67,12],[91,26,91,27],[88,28,88,29],[88,32,88,34],[83,32,83,33],[66,39,66,66],[76,53,76,56],[75,62,75,66],[57,47,57,50],[75,48,75,52],[71,57,71,61],[73,57,73,61],[59,43,59,56],[60,43,60,47],[60,48,60,52],[60,53,60,56],[61,43,61,47],[78,57,78,61],[76,57,76,61],[77,62,77,66],[78,62,78,66],[77,57,77,61],[84,62,84,66]],"merged_total":1106,"flags":["merged_cut"]}
[{"$f":"+データ一覧!N2","v":0}]
[{"$f":"+データ一覧!N5","v":0}]
[]
[null,null,null,null,null,null,null,null,null,null,null,null,null,null,null,null,null,null,null,null,null,null,null,null,null,null,null,null,"【市章とそのいわれ】","越前（ECHIZEN）市の頭文字である「Ｅ」をモチーフに",null,null,null,null,null,null,null,null,null,"　【位置および地勢】越前市は、福井県のほぼ中央に位置し、市の中央を北陸自動車道と",null,null,null,null,null,null,null,null,null,null,null,null,null,null,null,null,null,null,null,null,null,null,null,null,null,null,null,null,null,null,"所在地",null,null,null,null,null,null,null,"〒915-8530"]
[null,null,null,null,null,null,null,null,null,null,null,null,null,null,null,null,null,null,null,null,null,null,null,null,null,null,null,null,null,"デザイン化しています。",null,null,null,null,null,null,null,null,null,null,"国道８号が縦断し、関西・中央圏などの主要都市や福井市・敦賀市など周辺都市との",null,null,null,null,null,null,null,null,null,null,null,null,null,null,null,null,null,null,null,null,null,null,null,null,null,null,null,null,null,null,null,null,null,null,null,null,null,"越前市府中一丁目１３番７号"]
[{"$f":"+データ一覧!N3","v":"えちぜんし"},null,null,null,null,null,null,null,null,null,null,null,null,null,null,null,null,null,null,null,null,null,null,null,null,null,null,null,null,"３つの太く流れるようなラインは、かつて越前の国府が",null,null,null,null,null,null,null,null,null,null,"交通の動脈となっている。"]
[{"$f":"データ一覧!N6","v":"越前市"},null,null,null,null,null,null,null,null,null,null,null,null,null,null,null,null,null,null,null,null,null,null,null,null,null,null,null,null,"置かれて以来連綿と積み重ねられてきた歴史、伝統、",null,null,null,null,null,null,null,null,null,null,"また、両路線に交差するように国道417号や県道、主要地方道が横断している。",null,null,null,null,null,null,null,null,null,null,null,null,null,null,null,null,null,null,null,null,null,null,null,null,null,null,null,null,null,"電話番号",null,null,null,null,null,null,null,"（０７７８）２２－３０００"]
[null,null,null,null,null,null,null,null,null,null,null,null,null,null,null,null,null,null,null,null,null,null,null,null,null,null,null,null,null,"文化そして豊かな自然を、また、越前市の将来像である",null,null,null,null,null,null,null,null,null,null,"地形は、東部の越前中央山脈、西部の丹生山地、南部の「越前冨士」と呼ばれる"]
[null,null,null,null,null,null,null,null,null,null,null,null,null,null,null,null,null,null,null,null,null,null,null,null,null,null,null,null,null,"「生活快適都市」、「伝統文化都市」、「交流拠点都市」",null,null,null,null,null,null,null,null,null,null,"日野山など、４００～７００メートル級の山々に囲まれ、武生盆地を作っている。"]
[null,null,null,null,null,null,null,null,null,null,null,null,null,null,null,null,null,null,null,null,null,null,null,null,null,null,null,null,null,"を表現している。",null,null,null,null,null,null,null,null,null,null,"武生盆地の中央を、県内三大河川のひとつ日野川が南北に貫流し、九頭竜川と名を",null,null,null,null,null,null,null,null,null,null,null,null,null,null,null,null,null,null,null,null,null,null,null,null,null,null,null,null,null,"最寄駅および距離",null,null,null,null,null,null,null,"ハピラインふくい線武生駅  下車１００ｍ"]
[null,null,null,null,null,null,null,null,null,null,null,null,null,null,null,null,null,null,null,null,null,null,null,null,null,null,null,null,null,null,null,null,null,null,null,null,null,null,null,null,"変えて日本海に注いでいる。旧今立町内に流れる五つの川は、鞍谷川に合流した後、"]
[null,null,null,null,null,null,null,null,null,null,null,null,null,null,null,null,null,null,null,null,null,null,null,null,null,"【市が掲げる標語】　　幸せを実感できるふるさと（ウェルビーイング越前市）",null,null,null,null,null,null,null,null,null,null,null,null,null,null,"福井市内で日野川に合流している。"]
[null,null,null,null,null,null,null,null,null,null,null,null,null,null,null,null,null,null,null,null,null,null,null,null,null,null,null,null,null,null,null,null,null,null,null,null,null,null,null,null,null,null,null,null,null,null,null,null,null,null,null,null,null,null,null,null,null,null,null,null,null,null,null,null,null,null,null,null,null,null,"ホームページ",null,null,null,null,null,null,null,"https://www.city.echizen.lg.jp/"]
[]
["  １  土            　　地",null,null,null,null,null,null,null,null,null,null,null,null,null,null,null,null,null,null,null,null,null,null,null,null,{"$f":"データ一覧!$A$240","v":"5年"},"産米収穫量",null,null,"　 収　穫　量",null,null," 　作 付 面 積",null,null,"   10a当たり収量",null,null,null,null,null,null,null,null,null,null,null,null,null,null,null,null,null,null,null,null,null,null,null,null,null,null,null,null,null,null,null," １５  労　　　　　　　働",null,null,null,null,null,null,null,null,null,null,null,null,null,null,"2.10.1"]
[null,null,null,null,null,null,null,null,null,null,null,null,null,null,null,null,null,null,null,null,null,null,null,null,null,null,null,null,null,{"$f":"データ一覧!$N$240","v":12100},null,"t",{"$f":"データ一覧!$N$241","v":2420},null,"ha",{"$f":"データ一覧!N242","v":500},null,null,"kg"," １０  工　　　　　　業 ",null,null,null,null,null,null,null,null,null,null,null,null,null,{"$f":"データ一覧!$A$332","v":"4.6.1（令和3年実績）"}]
["   総          面           積",null,null,null,null,null,null,null,null,null," 固 定 資 産 概 要 調 書 に よ る 地 目 別 面 積",null,null,null,null,null,null,null,null,null,null,null,null,null,null,null,null,null,"   総　　　数",null,null,null,"うち　　田",null,null,null,"うち　　畑",null,null,null,null,null,null,null,null,null,null,null,null,null,null,null,null,null,null,null,null,null,null,null,null,null,null,null,null,null,null,null,null,null,null,null,null,null,"産業別就業者数   "]
[null,null,{"$f":"データ一覧!$A$7","v":"6.10.1"},null,null,null,null,null,null,null,null,null,null,null,null,null,{"$f":"データ一覧!$A$9","v":"6.1.1"},null,null,null,null,null,null,null,null," 耕  地  面  積",null,null,null,"       ha",null,null,"ha ",null,null,null,"ha ",null,null,"      ","産業分類",null,null,null,null,null,null,null,"事業所数",null,null,null,null,"従業者数",null,null,null,null,null,"年間製造品出荷額等",null,null,null,null,null,null,null,null,"区  分",null,null,null,null,"総    数",null,null,null,null,"男",null,null,null,"女",null,null,"  ","区  分",null,null,null,null,"総    数",null,null,null,null,"男",null,null,null,"女"]
[null,null,null,null,null,null,"㎢",null,null,null,"   総       数",null,null,null,null,"  う ち     田",null,null,null,null,"  う ち     畑",null,null,null,null,{"$f":"データ一覧!A243","v":"5.7.15"},null,null,{"$f":"データ一覧!$N$243","v":3590},null,null,{"$f":"データ一覧!$N$244","v":3400},null,null,null,{"$f":"データ一覧!$N$245","v":187},null,null,null,null,null,null,null,null,null,null,null,null,"　　   ",null,null,"事業所",null,"　　　　　　　 人",null,null,"人",null,"　　　　　　　　　　　　　　万円",null,null,null,null,null,null,"万円",null,null,null,null,null,null,null,"      人",null,null,null,null,null," 人",null,null,null," 人",null,null,null,null,null,null,null,"      人",null,null,null,"      人",null,null,null,"      人"]
[null,null,null,{"$f":"データ一覧!N7","v":230.7},null,null,null,null,null,null,null,null,null,null,"ha",null,null,null,null,"ha",null,null,null,null,"ha","農 業 生 産 物",null,null,null,"作 付 面 積",null,null,"収 穫 量",null,null,"10a当たり収量",null,null,null,"     ","総数",null,null,null,null,null,null,null,null,{"$f":"データ一覧!N332","v":255},null,null,null,{"$f":"+データ一覧!N357","v":16537},null,null,null,null,null,null,{"$f":"データ一覧!N382","v":69160832},null,null,null,null,null,null," 総　　　数",null,null,null,null,null,{"$f":"BZ20+CD20","v":42876},null,null,null,{"$f":"データ一覧!N507","v":23174},null,null,null,{"$f":"データ一覧!N532","v":19702}]
[null,null,null,null,null,null,null,null,null,null,null,{"$f":"データ一覧!N9","v":13161.4},null,null,null,null,{"$f":"データ一覧!N10","v":3667.6},null,null,null,null,{"$f":"データ一覧!N11","v":330.2},null,null,null,{"$f":"データ一覧!$A$246","v":"5年産"},null,null,null,"ha",null,null,"t",null,null,"kg",null,null,null,"     食料品","食料品",null,null,null,null,null,null,null,null,{"$f":"データ一覧!N333","v":19},null,null,null,{"$f":"+データ一覧!N358","v":792},null,null,null,null,null,null,{"$f":"データ一覧!N383","v":1269723},null,null,null,null,null,null,null,null,null,null,null,null,null,null,null,null,null,null,null,null,null,null,null,null,null,"卸売業,小売業",null,null,null,null,{"$f":"CR21+CV21","v":5665},null,null,null,{"$f":"データ一覧!N520","v":2515},null,null,null,{"$f":"データ一覧!N545","v":3150}]
["  町 ･ 丁 ･ 大 字",null,null,null,null,null,null,null,null,null,"  う ち  宅 地",null,null,null,null,"  う ち  山 林",null,null,null,null,"  う ち  原 野",null,null,null,null,"水　　　　　稲",null,null,null,{"$f":"データ一覧!N246","v":2420},null,null,{"$f":"データ一覧!N247","v":12100},null,null,{"$f":"データ一覧!N248","v":500},null,null,null,"     飲料・飼料","飲料・飼料",null,null,null,null,null,null,null,null,{"$f":"データ一覧!N334","v":1},null,null,null,{"$f":"+データ一覧!N359","v":7},null,null,null,null,null,null,{"$f":"データ一覧!N384","v":"x"},null,null,null,null,null,null," 第１次産業",null,null,null,null,null,{"$f":"BZ22+CD22","v":1043},null,null,null,{"$f":"データ一覧!N508","v":744},null,null,null,{"$f":"データ一覧!N533","v":299},null,null,null,null,"金融業,保険業",null,null,null,null,{"$f":"CR22+CV22","v":693},null,null,null,{"$f":"データ一覧!N521","v":277},null,null,null,{"$f":"データ一覧!N546","v":416}]
["  区    画    数",null,null,null,null,null,null,{"$f":"データ一覧!N8","v":253},null,null,null,null,null,null,"ha",null,null,null,null,"ha",null,null,null,null,"ha","六　条　大　麦",null,null,null,{"$f":"データ一覧!N249","v":303},null,null,{"$f":"データ一覧!N250","v":840},null,null,{"$f":"データ一覧!N251","v":277},null,null,null,"     繊維","繊維",null,null,null,null,null,null,null,null,{"$f":"データ一覧!N335","v":58},null,null,null,{"$f":"+データ一覧!N360","v":1436},null,null,null,null,null,null,{"$f":"データ一覧!N385","v":1603126},null,null,null,null,null,null,"  ","農業",null,null,null,null,{"$f":"BZ23+CD23","v":997},null,null,null,{"$f":"データ一覧!N509","v":702},null,null,null,{"$f":"データ一覧!N534","v":295},null,null,null,"  ","不動産業",null,null,null,null,344,null,null,null,{"$f":"データ一覧!N522","v":171},null,null,null,{"$f":"データ一覧!N547","v":173}]
[{"$f":"データ一覧!$A$8","v":"5.4.1"},null,null,null,null,null,null,null,null,null,null,{"$f":"データ一覧!N12","v":1971.3},null,null,null,null,{"$f":"データ一覧!N13","v":4832.3999999999996},null,null,null,null,{"$f":"データ一覧!N14","v":108.1},null,null,null,"大　　      豆",null,null,null,{"$f":"データ一覧!N252","v":74},null,null,{"$f":"データ一覧!N253","v":78},null,null,{"$f":"データ一覧!N254","v":105},null,null,null,"     衣服","木材",null,null,null,null,null,null,null,null,{"$f":"データ一覧!N336","v":9},null,null,null,{"$f":"+データ一覧!N361","v":144},null,null,null,null,null,null,{"$f":"データ一覧!N386","v":323406},null,null,null,null,null,null,"  ","林業",null,null,null,null,38,null,null,null,{"$f":"データ一覧!N510","v":34},null,null,null,{"$f":"データ一覧!N535","v":4},null,null,null,"  ","学術研究",null,null,null,null,873,null,null,null,{"$f":"データ一覧!N523","v":499},null,null,null,{"$f":"データ一覧!N548","v":374}]
["  ２  世　帯　数　と　人　口",null,null,null,null,null,null,null,null,null,null,null,null,null,null,null,null,null,null,null,null,null,null,null,null,null,null,"  区　分",null," 乳 用 牛",null," 肉 用 牛",null,"豚",null,"採卵鶏",null,"ブロイラー",null,"     木材","家具",null,null,null,null,null,null,null,null,{"$f":"データ一覧!N337","v":3},null,null,null,{"$f":"+データ一覧!N362","v":119},null,null,null,null,null,null,{"$f":"データ一覧!N387","v":307304},null,null,null,null,null,null,"  ","漁業",null,null,null,null,8,null,null,null,{"$f":"データ一覧!N511","v":8},null,null,null,0,null,null,null,"  ","宿泊業,飲食ｻｰﾋﾞｽ",null,null,null,null,1692,null,null,null,{"$f":"データ一覧!N524","v":555},null,null,null,{"$f":"データ一覧!N549","v":1137}]
[null,null,null,null,null,null,null,null,null,null,null,null,null,null,null,null,null,null,null,null,null,null,null,null,null,"畜　産",null," 飼養農家",null,{"$f":"データ一覧!$N$255","v":0},null,{"$f":"データ一覧!$N$257","v":1},null,{"$f":"データ一覧!$N$259","v":"x"},null,{"$f":"データ一覧!$N$261","v":3},null,{"$f":"データ一覧!$N$263","v":0},null,"     家具","パルプ・紙",null,null,null,null,null,null,null,null,{"$f":"データ一覧!N338","v":31},null,null,null,{"$f":"+データ一覧!N363","v":533},null,null,null,null,null,null,{"$f":"データ一覧!N388","v":1328420},null,null,null,null,null,null," 第２次産業",null,null,null,null,null,18778,null,null,null,{"$f":"データ一覧!N512","v":12417},null,null,null,{"$f":"データ一覧!N537","v":6361},null,null,null,"  ","生活関連ｻｰﾋﾞｽ業",null,null,null,null,1117,null,null,null,{"$f":"データ一覧!N525","v":399},null,null,null,{"$f":"データ一覧!N550","v":718}]
[null,null,null,null,null,null,null,null,"        人　　　　　　　　　　口",null,null,null,null,null,null,null,null,null,null,null,"１世帯当",null,"人    口",null,null,{"$f":"データ一覧!$A$255","v":"6.3.31"},null,"（戸）",null,null,null,null,null,null,null,null,null,null,null,"     パルプ・紙","印刷",null,null,null,null,null,null,null,null,{"$f":"データ一覧!N339","v":5},null,null,null,{"$f":"+データ一覧!N364","v":75},null,null,null,null,null,null,{"$f":"データ一覧!N389","v":90358},null,null,null,null,null,null,null,"鉱業，採石業",null,null,null,null,17,null,null,null,{"$f":"データ一覧!N513","v":13},null,null,null,{"$f":"データ一覧!N538","v":4},null,null,null,"  ","教育,学習支援業",null,null,null,null,1773,null,null,null,{"$f":"データ一覧!N526","v":622},null,null,null,{"$f":"データ一覧!N551","v":1151}]
[" 区　　　　分",null,null,null,null,"世帯数",null,null," 総   数",null,null,"    男",null,null,"    女",null,null,"  男／女",null,null,"たり人員",null,"密    度",null,null,null,null," 頭 羽",null,{"$f":"データ一覧!$N$256","v":0},null,{"$f":"データ一覧!$N$258","v":20},null,{"$f":"データ一覧!$N$260","v":2261},null,{"$f":"データ一覧!$N$262","v":39070},null,{"$f":"データ一覧!$N$264","v":0},null,"     出版・印刷","化学",null,null,null,null,null,null,null,null,{"$f":"データ一覧!N340","v":7},null,null,null,{"$f":"+データ一覧!N365","v":462},null,null,null,null,null,null,{"$f":"データ一覧!N390","v":2742317},null,null,null,null,null,null,"  ","建設業",null,null,null,null,3194,null,null,null,{"$f":"データ一覧!N514","v":2634},null,null,null,{"$f":"データ一覧!N539","v":560},null,null,null,null,"医療，福祉",null,null,null,null,4585,null,null,null,{"$f":"データ一覧!N527","v":834},null,null,null,{"$f":"データ一覧!N552","v":3751}]
[null,null,null,null,null,"    世 帯",null,null,"       人",null,null,"       人",null,null,"       人",null,null,null,"　　％",null,"    人",null,"    人/㎢",null,null,null,null,null,null,null,null,null,null,null,null,null,null,null,null,"     化学","石油・石炭",null,null,null,null,null,null,null,null,{"$f":"データ一覧!N341","v":1},null,null,null,{"$f":"+データ一覧!N366","v":7},null,null,null,null,null,null,{"$f":"データ一覧!N391","v":"x"},null,null,null,null,null,null,null,"製造業",null,null,null,null,15567,null,null,null,{"$f":"データ一覧!N515","v":9770},null,null,null,{"$f":"データ一覧!N540","v":5797},null,null,null,null,"複合サービス事業",null,null,null,null,421,null,null,null,{"$f":"データ一覧!N528","v":231},null,null,null,{"$f":"データ一覧!N553","v":190}]
[{"$f":"データ一覧!$A$22","v":" 2.10.1"},null,null,null,null,{"$f":"データ一覧!N22","v":22678},null,null,{"$f":"+L30+O30","v":84897},null,null,{"$f":"データ一覧!N24","v":41272},null,null,{"$f":"データ一覧!N25","v":43625},null,null,null,{"$f":"+L30/O30*100","v":94.606303724928367},null,{"$f":"データ一覧!N27","v":3.74},null,{"$f":"データ一覧!N21","v":0},null,null,"  ５  林               業",null,null,null,null,null,null,null,null,null,null,null,null,null,"     石油・石炭","プラスチック",null,null,null,null,null,null,null,null,{"$f":"データ一覧!N342","v":24},null,null,null,{"$f":"+データ一覧!N367","v":1175},null,null,null,null,null,null,{"$f":"データ一覧!N392","v":2939466},null,null,null,null,null,null," 第３次産業",null,null,null,null,null,21976,null,null,null,{"$f":"データ一覧!N516","v":9433},null,null,null,{"$f":"データ一覧!N541","v":12543},null,null,null,null,"サービス業",null,null,null,null,1783,null,null,null,{"$f":"データ一覧!N529","v":1125},null,null,null,{"$f":"データ一覧!N554","v":658}]
[{"$f":"データ一覧!$A$29","v":" 7.10.1"},null,null,null,null,{"$f":"データ一覧!N29","v":24233},null,null,{"$f":"+L31+O31","v":85533},null,null,{"$f":"データ一覧!N31","v":41641},null,null,{"$f":"データ一覧!N32","v":43892},null,null,null,94.8715027795498,null,{"$f":"データ一覧!N34","v":3.53},null,{"$f":"データ一覧!N28","v":0},null,null,null,null,null,null,null,null,null,null,null,null,null,null,null,null,"     プラスチック","ゴム",null,null,null,null,null,null,null,null,{"$f":"データ一覧!N343","v":1},null,null,null,{"$f":"+データ一覧!N368","v":100},null,null,null,null,null,null,{"$f":"データ一覧!N393","v":"x"},null,null,null,null,null,null,null,"電気･ｶﾞｽ･水道業",null,null,null,null,159,null,null,null,{"$f":"データ一覧!N517","v":123},null,null,null,{"$f":"データ一覧!N542","v":36},null,null,null,null,"公務",null,null,null,null,1086,null,null,null,{"$f":"データ一覧!N530","v":678},null,null,null,{"$f":"データ一覧!N555","v":408}]
[{"$f":"データ一覧!$A$36","v":"12.10.1"},null,null,null,null,{"$f":"データ一覧!N36","v":26461},null,null,{"$f":"+L32+O32","v":87699},null,null,{"$f":"データ一覧!N38","v":42858},null,null,{"$f":"データ一覧!N39","v":44841},null,null,null,95.577707901251088,null,{"$f":"データ一覧!N41","v":3.31},null,{"$f":"データ一覧!N35","v":0},null,null,"    　森　　　林　　　総　　　面　　　積   ",null,null,null,null,null,null,null,{"$f":"データ一覧!$A$265","v":"5.3.31"},null,null,null,null,null,"     ゴム","皮革",null,null,null,null,null,null,null,null,{"$f":"データ一覧!N344","v":0},null,null,null,{"$f":"+データ一覧!N369","v":0},null,null,null,null,null,null,{"$f":"データ一覧!N394","v":0},null,null,null,null,null,null,null,"情報通信業",null,null,null,null,408,null,null,null,{"$f":"データ一覧!N518","v":286},null,null,null,{"$f":"データ一覧!N543","v":122},null,null,null," 分類不能の産業",null,null,null,null,null,1079,null,null,null,{"$f":"データ一覧!N531","v":580},null,null,null,{"$f":"データ一覧!N556","v":499}]
[{"$f":"+データ一覧!$A$43","v":"17.10.1"},null,null,null,null,{"$f":"データ一覧!N43","v":27916},null,null,{"$f":"+L33+O33","v":87742},null,null,{"$f":"データ一覧!N45","v":42706},null,null,{"$f":"データ一覧!N46","v":45036},null,null,null,94.826361133315572,null,{"$f":"データ一覧!N48","v":3.14},null,{"$f":"データ一覧!N49","v":380.2},null,null,"　　　森　　　　　　　林　　　　　　　の　　　　　　　構　　　　　　　成",null,null,null,null,null,null,null,null,null,null,null,null,null,"     皮革","窯業・土石",null,null,null,null,null,null,null,null,{"$f":"データ一覧!N345","v":15},null,null,null,{"$f":"+データ一覧!N370","v":510},null,null,null,null,null,null,{"$f":"データ一覧!N395","v":1702936},null,null,null,null,null,null,"  ","運輸業,郵便業",null,null,null,null,{"$f":"BZ33+CD33","v":1377},null,null,null,{"$f":"データ一覧!N519","v":1118},null,null,null,{"$f":"データ一覧!N544","v":259}]
[{"$f":"+データ一覧!$A$50","v":"22.10.1"},null,null,null,null,{"$f":"+データ一覧!N50","v":27601},null,null,{"$f":"+L34+O34","v":85614},null,null,{"$f":"+データ一覧!N52","v":41762},null,null,{"$f":"+データ一覧!N53","v":43852},null,null,null,95.233968804159446,null,{"$f":"+データ一覧!N55","v":3.1},null,{"$f":"+データ一覧!N56","v":371},null,null,null,null,null,null,null,"       ha",null,null,null,null,null,null,"       ha",null,"     窯業・土石","鉄鋼",null,null,null,null,null,null,null,null,{"$f":"データ一覧!N346","v":7},null,null,null,{"$f":"+データ一覧!N371","v":127},null,null,null,null,null,null,{"$f":"データ一覧!N396","v":1163690},null,null,null,null,null,null," １６  社　 会 　福　 祉",null,null,null,null,null,null,null,null,null,null,null,null,null,null,null,{"$f":"データ一覧!$A$557","v":"6.4.1"}]
[{"$f":"データ一覧!$A$57","v":"27.10.1"},null,null,null,null,{"$f":"データ一覧!N57","v":27889},null,null,{"$f":"データ一覧!N58","v":81524},null,null,{"$f":"データ一覧!N59","v":39859},null,null,{"$f":"データ一覧!N60","v":41665},null,null,null,95.665426617064682,null,{"$f":"データ一覧!N62","v":2.9231596686865791},null,{"$f":"データ一覧!N63","v":353.4},null,null,"  総　　　　　   数",null,null,null,{"$f":"データ一覧!N265","v":14186.150000000001},null,null," 天然林       針葉樹",null,null,null,{"$f":"データ一覧!N268","v":628.61},null,null,"     鉄鋼","非鉄金属",null,null,null,null,null,null,null,null,{"$f":"データ一覧!N347","v":5},null,null,null,{"$f":"+データ一覧!N372","v":348},null,null,null,null,null,null,{"$f":"データ一覧!N397","v":2973105}]
["令　2.10.1（国調）",null,null,null,null,{"$f":"データ一覧!N64","v":29634},null,null,{"$f":"データ一覧!N65","v":80611},null,null,{"$f":"データ一覧!N66","v":39657},null,null,{"$f":"データ一覧!N67","v":40954},null,null,null,{"$f":"+L36/O36*100","v":96.833032182448591},null,{"$f":"データ一覧!N69","v":2.7202200175474118},null,{"$f":"データ一覧!N70","v":349.41915908105767},null,null,"  人工林     針葉樹",null,null,null,{"$f":"データ一覧!N266","v":7775.37},null,null," 天然林       広葉樹",null,null,null,{"$f":"データ一覧!N269","v":5466.1},null,null,"     非鉄金属","金属",null,null,null,null,null,null,null,null,{"$f":"データ一覧!N348","v":18},null,null,null,{"$f":"+データ一覧!N373","v":292},null,null,null,null,null,null,{"$f":"データ一覧!N398","v":605741},null,null,null,null,null,null,"    ","区分",null,null,null,null,null,null,"施設数",null,null,null,null,"収容定員",null,null,null,null,null,"区分",null,null,null,null,null,null,"施設数",null,null,null,null,"収容定員"]
["年",null,"  区",null," 0歳",null,null,"15歳",null,null,"25歳",null,null,"35歳",null,null,"45歳",null,null,"55歳",null,null,"65歳",null,null,"  人工林     広葉樹",null,null,null,{"$f":"データ一覧!N267","v":59.06},null,null," 竹               林",null,null,null,{"$f":"データ一覧!N270","v":135.77000000000001},null,null,"     金属","はん用機械",null,null,null,null,null,null,null,null,{"$f":"データ一覧!N349","v":3},null,null,null,{"$f":"+データ一覧!N374","v":21},null,null,null,null,null,null,{"$f":"データ一覧!N399","v":21087},null,null,null,null,null,null,"生活保護施設",null,null,null,null,null,null,null,{"$f":"データ一覧!N557","v":"-"},null,null,null,{"$f":"データ一覧!N570","v":"-"},null,null,null,"人",null,"指定障害者支援施設",null,null,null,null,null,null,null,{"$f":"データ一覧!N563","v":2},null,null,null,{"$f":"データ一覧!N576","v":138},null,null,null,"人"]
["齢","令",null,null,null,"～",null,null,"～",null,null,"～",null,null,"～",null,null,"～",null,null,"～",null,null,null,null,null,null,null,null,null,null,null,null,null,null,null,null,null,null,"     一般機械","生産用機械",null,null,null,null,null,null,null,null,{"$f":"データ一覧!N350","v":12},null,null,null,{"$f":"+データ一覧!N375","v":275},null,null,null,null,null,null,{"$f":"データ一覧!N400","v":1195088},null,null,null,null,null,null,"地域福祉施設",null,null,null,null,null,null,null,{"$f":"データ一覧!N558","v":"-"},null,null,null,{"$f":"データ一覧!N571","v":"-"},null,null,null,null,null,"指定相談支援事業所",null,null,null,null,null,null,null,{"$f":"データ一覧!N564","v":2},null,null,null,{"$f":"データ一覧!N577","v":"-"}]
["階",{"$f":"+LEFT(データ一覧!$A$83,1)","v":"6"},"  分",null,null,null,"14歳",null,null,"24歳",null,null,"34歳",null,null,"44歳",null,null,"54歳",null,null,"64歳",null,null,"以上","    林     野     の     構     成",null,null,null,null,null,null,"保     有     形     態     別",null,null,null,null,null,null,"     電気機械","業務用機械",null,null,null,null,null,null,null,null,{"$f":"データ一覧!N351","v":2},null,null,null,{"$f":"+データ一覧!N376","v":351},null,null,null,null,null,null,{"$f":"データ一覧!N401","v":"x"},null,null,null,null,null,null,"老人福祉施設",null,null,null,null,null,null,null,{"$f":"データ一覧!N559","v":22},null,null,null,{"$f":"データ一覧!N572","v":580},null,null,null,null,null,"児童福祉施設",null,null,null,null,null,null,null,{"$f":"データ一覧!N565","v":63},null,null,null,{"$f":"データ一覧!N578","v":3402}]
["級","・",null,null,null,null,"人",null,null,"人",null,"    人",null,null,"    人",null,null,"    人",null,null,"    人",null,null,"    人",null,null,null,null,null,null,null,"ha",null,null,null,null,null,"       ha",null,null,"電子・デバイス",null,null,null,null,null,null,null,null,{"$f":"データ一覧!N352","v":6},null,null,null,{"$f":"+データ一覧!N377","v":5097},null,null,null,null,null,null,{"$f":"データ一覧!N402","v":19153261},null,null,null,null,null,null,"介護保険施設",null,null,null,null,null,null,null,{"$f":"データ一覧!N560","v":115},null,null,null,{"$f":"データ一覧!N573","v":2361},null,null,null,null,null,"母子福祉施設",null,null,null,null,null,null,null,{"$f":"データ一覧!N566","v":"-"},null,null,null,{"$f":"データ一覧!N579","v":"-"}]
["別",{"$f":"+MID(データ一覧!$A$83,3,2)","v":"10"},"総 数",null,{"$f":"+E42+E43","v":9405},null,null,{"$f":"+H42+H43","v":7341},null,null,{"$f":"+K42+K43","v":7715},null,null,{"$f":"+N42+N43","v":8762},null,null,{"$f":"+Q42+Q43","v":11218},null,null,{"$f":"+T42+T43","v":9633},null,null,{"$f":"+W42+W43","v":23751},null,null," 無立木地   伐採跡地",null,null,null,{"$f":"データ一覧!N271","v":0},null,null,"国   　　　 　 有",null,null,null,{"$f":"データ一覧!N273","v":54.83},null,null,null,"電気機械",null,null,null,null,null,null,null,null,{"$f":"データ一覧!N353","v":11},null,null,null,{"$f":"+データ一覧!N378","v":1089},null,null,null,null,null,null,{"$f":"データ一覧!N403","v":14489841},null,null,null,null,null,null,"障害者自立支援法施行前からの身体障害者福祉施設",null,null,null,null,null,null,null,{"$f":"データ一覧!N561","v":"-"},null,null,null,{"$f":"データ一覧!N574","v":"-"},null,null,null,null,null,"婦人保護施設",null,null,null,null,null,null,null,{"$f":"データ一覧!N567","v":"-"},null,null,null,{"$f":"データ一覧!N580","v":"-"}]
["人","・","  男",null,{"$f":"データ一覧!N83","v":4876},null,null,{"$f":"データ一覧!N84","v":3821},null,null,{"$f":"データ一覧!N85","v":4035},null,null,{"$f":"データ一覧!N86","v":4554},null,null,{"$f":"データ一覧!N87","v":5824},null,null,{"$f":"データ一覧!N88","v":4805},null,null,{"$f":"データ一覧!N89","v":10444},null,null," 無立木地   未立木地",null,null,null,{"$f":"データ一覧!N272","v":121.24},null,null,"公       　　  有",null,null,null,{"$f":"データ一覧!N274","v":996.81},null,null,"     輸送機械","情報通信機械",null,null,null,null,null,null,null,null,{"$f":"データ一覧!N354","v":1},null,null,null,{"$f":"+データ一覧!N379","v":190},null,null,null,null,null,null,{"$f":"データ一覧!N404","v":"x"},null,null,null,null,null,null,null,null,null,null,null,null,null,null,null,null,null,null,null,null,null,null,null,null,"その他の社会福祉施設",null,null,null,null,null,null,null,{"$f":"データ一覧!N568+データ一覧!N569","v":1},null,null,null,0]
["口",{"$f":"+RIGHT(データ一覧!$A$83,1)","v":"1"},"  女",null,{"$f":"データ一覧!N91","v":4529},null,null,{"$f":"データ一覧!N92","v":3520},null,null,{"$f":"データ一覧!N93","v":3680},null,null,{"$f":"データ一覧!N94","v":4208},null,null,{"$f":"データ一覧!N95","v":5394},null,null,{"$f":"データ一覧!N96","v":4828},null,null,{"$f":"データ一覧!N97","v":13307},null,null,null,null,null,null,null,null,null,"私          　 有",null,null,null,{"$f":"データ一覧!N275","v":13134.51},null,null,"     精密機械","輸送機械",null,null,null,null,null,null,null,null,{"$f":"データ一覧!N355","v":2},null,null,null,{"$f":"+データ一覧!N380","v":3242},null,null,null,null,null,null,{"$f":"データ一覧!N405","v":"x"},null,null,null,null,null,null,"障害福祉サービス事業所",null,null,null,null,null,null,null,{"$f":"データ一覧!N562","v":61},null,null,null,{"$f":"データ一覧!N575","v":852}]
[null,null,null,null,null,null,null,null,null,null,null,null,null,null,null,null,null,null,null,null,null,null,null,null,null,"            林     産     物     生     産     量 ",null,null,null,null,null,null,null,null,null,{"$f":"データ一覧!$A$276","v":"5年中"},null,null,null,"     その他","その他",null,null,null,null,null,null,null,null,{"$f":"データ一覧!N356","v":14},null,null,null,{"$f":"+データ一覧!N381","v":145},null,null,null,null,null,null,{"$f":"データ一覧!N406","v":198338},null,null,null,null,null,null," １７  教　　　　　　　育",null,null,null,null,null,null,null,null,null,null,null,null,null,null,null,{"$f":"データ一覧!$A$583","v":"6.5.1"}]
["人口動態",null,null,null,null,null,null,"   自　然　動　態",null,null,null,null,null,"   社  会  動  態",null,null,null,null,null,{"$f":"データ一覧!$A78","v":"5.1.1～5.12.31"},null,null,null,null,null,"生椎茸",null,null,null,{"$f":"データ一覧!N276","v":17725},null,"㎏","乾椎茸",null,null,null,{"$f":"データ一覧!N277","v":6},null,"㎏"]
[null,null,"   区       分",null,null,null,null," 出   生",null,null," 死   亡",null,null," 転   入",null,null," 転   出",null,null," 婚   姻",null,null," 離   婚",null,null,"えのきだけ",null,null,null,{"$f":"データ一覧!N279","v":0},null,"㎏","なめこ",null,null,null,{"$f":"データ一覧!N278","v":0},null,"㎏","    ","工　業　用　水　量",null,null,null,null,null,"（従業者30人以上の事業所）",null,null,null,null,null,null,null,null,null,null,{"$f":"データ一覧!N407","v":45851},null,null,null,null,"㎥／日",null,null,null,null,null,null,null,null,null,null,null,null,null,null,"学校数（校）",null,null,null,null,null,null,"教員数（人）",null,null,null,null,null,null,null,"学生・生徒・児童数（人）"]
[{"$f":"LEFT(データ一覧!$A74,6)","v":"5.10.1"},null,null,null,null,null,null,"       人",null,null,"       人",null,null,"       人",null,null,"       人",null,null,null,"    件",null,null,"    件",null,"ひらたけ",null,null,null,{"$f":"+データ一覧!N280","v":0},null,"㎏","まいたけ",null,null,null,{"$f":"+データ一覧!N281","v":0},null,"㎏",null,null,null,null,null,null,null,null,null,null,null,null,null,null,null,null,null,null,null,null,null,null,null,null,null,null,null,null,null,"　","区分",null,null,null,null,null,null,null," 本 校",null,null," 分 校",null,null," 本   務",null,null,null," 兼   務",null,null,null," 総   数",null,null,null,"男",null,null,null,"女"]
["～",null," 実          数",null,null,null,null,{"$f":"データ一覧!N74","v":508},null,null,{"$f":"データ一覧!N75","v":1073},null,null,{"$f":"データ一覧!N76","v":3985},null,null,{"$f":"データ一覧!N77","v":2895},null,null,{"$f":"データ一覧!N78","v":282},null,null,{"$f":"データ一覧!N79","v":95},null,null,null,null,null,null,null,null,null,null,null,null,null,null,null,null," １１ 　上　・　下　水　道",null,null,null,null,null,null,null,null,null,null,null,null,null,null,null,null,null,null,null,null,null,null,null,null,null,null,null,null,"小学校",null,null,null,null,null,null,null,null,{"$f":"データ一覧!N584","v":17},null,null,{"$f":"データ一覧!N585","v":0},null,null,{"$f":"データ一覧!N586","v":310},null,null,null,{"$f":"データ一覧!N587","v":50},null,null,null,{"$f":"データ一覧!N588","v":3939},null,null,null,{"$f":"データ一覧!N589","v":2054},null,null,null,{"$f":"データ一覧!N590","v":1885}]
[{"$f":"RIGHT(データ一覧!$A76,6)","v":"6.9.30"},null,"比率(対1,000人)",null,null,null,null,{"$f":"+H48/I36*1000","v":6.3018694719083008},null,null,{"$f":"+K48/I36*1000","v":13.310838471176389},null,null,"- ",null,null,"- ",null,null,{"$f":"+T48/I36*1000","v":3.4982818722010642},null,null,{"$f":"+W48/I36*1000","v":1.178499212266316},null,null,"  ６  漁               業",null,null,null,null,null,null,null,null,null,null,null,null,null,null,null,null,null,null,null,null,null,null,null,null,null,null,null,null,null,null,null,null,null,null,null,null,null,null,null,null,null,"  ","中学校",null,null,null,null,null,null,null,null,{"$f":"データ一覧!N592","v":7},null,null,{"$f":"データ一覧!N593","v":1},null,null,{"$f":"データ一覧!N594","v":182},null,null,null,{"$f":"データ一覧!N595","v":30},null,null,null,{"$f":"データ一覧!N596","v":2065},null,null,null,{"$f":"データ一覧!N597","v":1092},null,null,null,{"$f":"データ一覧!N598","v":973}]
[null,null,null,null,null,null,null,null,null,null,null,null,null,null,null,null,null,null,null,null,null,null,null,null,null,null,null,null,null,null,null,null,null,null,null,null,null,null,null,"水 道 供 給 人 口",null,null,null,null,null,null,"上 水 道",null,null,null,"簡易水道",null,null,null,"専用水道",null,null,null,"飲料水供給施設",null,null,null,"下水道処理人口",null,null,null,null,"  ","高等学校",null,null,null,null,null,null,null,null,{"$f":"データ一覧!N600","v":3},null,null,{"$f":"データ一覧!N601","v":0},null,null,{"$f":"データ一覧!N602","v":186},null,null,null,{"$f":"データ一覧!N603","v":42},null,null,null,{"$f":"データ一覧!N604","v":2230},null,null,null,{"$f":"データ一覧!N605","v":1166},null,null,null,{"$f":"データ一覧!N606","v":1064}]
["  ３  事　　業　　所（民　　営）",null,null,null,null,null,null,null,null,null,null,"3.6.1",null,null,null,null,null,null,null,null,null,null,null,null,null,"漁船隻数・トン数",null,null,null,{"$f":"データ一覧!$A$282","v":"5.12.31"},null,null,null,"動　力　船",null,null,null,null,null,{"$f":"データ一覧!$A$408","v":"6.3.31"},null,null,null,null,null,"人",null,{"$f":"データ一覧!N408","v":78381},null,null,{"$f":"データ一覧!N409","v":242},null,null,null,null,{"$f":"データ一覧!N410","v":0},null,null,null,{"$f":"データ一覧!N411","v":0},null,null,null,{"$f":"データ一覧!N412","v":65603},null,null,null,"  ","大学・短期大学",null,null,null,null,null,null,null,null,{"$f":"データ一覧!N607","v":1},null,null,{"$f":"データ一覧!N608","v":0},null,null,{"$f":"データ一覧!N609","v":63},null,null,null,{"$f":"データ一覧!N610","v":68},null,null,null,{"$f":"データ一覧!N611","v":1054},null,null,null,{"$f":"データ一覧!N612","v":320},null,null,null,{"$f":"データ一覧!N613","v":734}]
[null,null,null,null,null,null,null,null,null,null,null,null,null,null,null,null,null,null,null,null,null,null,null,null,null,"無動力船隻数",null,null,null,"船外機付漁船隻数",null,null,null,"隻　数",null,null,"総 ト ン 数",null,null,null,null,null,null,null,null,null,null,null,null,null,null,null,null,null,null,null,null,null,null,null,null,null,null,null,null,null,null,"  ","高等専門学校",null,null,null,null,null,null,null,null,{"$f":"データ一覧!N614","v":0},null,null,{"$f":"データ一覧!N615","v":0},null,null,{"$f":"データ一覧!N616","v":0},null,null,null,{"$f":"データ一覧!N617","v":0},null,null,null,{"$f":"データ一覧!N618","v":0},null,null,null,{"$f":"データ一覧!N619","v":0},null,null,null,{"$f":"データ一覧!N620","v":0}]
[null,null,null,null,null,null,null,"    総　　　　　数",null,null,null,null,null,"    民　　　　　営",null,null,null,null,null,"  国 ･ 地方公共団体",null,null,null,null,null,null,null,null,"隻",null,null,null,"隻",null,null,"隻",null,null,"t"," １２  交   通　・　通   信",null,null,null,null,null,null,null,null,null,null,null,null,null,null,null,null,null,null,null,null,null,null,null,null,null,null,null,"  ","特別支援学校",null,null,null,null,null,null,null,null,{"$f":"+データ一覧!N622","v":1},null,null,{"$f":"+データ一覧!N623","v":0},null,null,{"$f":"+データ一覧!N624","v":81},null,null,null,{"$f":"+データ一覧!N625","v":8},null,null,null,{"$f":"+データ一覧!N626","v":138},null,null,null,{"$f":"+データ一覧!N627","v":87},null,null,null,{"$f":"+データ一覧!N628","v":51}]
["  　区　　　　　　分",null,null,null,null,null,null," 事業所数",null,null," 従業者数",null,null," 事業所数",null,null," 従業者数",null,null," 事業所数",null,null," 従業者数",null,null,{"$f":"データ一覧!$N$282","v":0},null,null,null,{"$f":"データ一覧!$N$283","v":0},null,null,null,{"$f":"データ一覧!N284","v":0},null,null,{"$f":"データ一覧!N285","v":0},null,null,null,null,null,null,null,null,null,null,null,null,null,null,null,null,null,null,null,null,null,null,null,null,null,null,null,null,null,null,"  ","幼稚園",null,null,null,null,null,null,null,null,{"$f":"データ一覧!N630","v":10},null,null,{"$f":"データ一覧!N631","v":0},null,null,{"$f":"データ一覧!N632","v":36},null,null,null,{"$f":"データ一覧!N633","v":6},null,null,null,{"$f":"データ一覧!N634","v":178},null,null,null,{"$f":"データ一覧!N635","v":92},null,null,null,{"$f":"データ一覧!N636","v":86}]
[null,null,null,null,null,null,null,null,null,null,"       人",null,null,null,null,null,"       人",null,null,null,null,null,"       人",null,null,"  男女別就業者数",null,null,null,null,null,null,null,{"$f":"データ一覧!$A$286","v":"5.11.1"},null,null,null,null,null,"道     路",null,null,null,"実 延 長",null,null,null,"国     道",null,null,null,"県     道",null,null,null,"市町道",null,null,null," 鉄 道 営 業 キ ロ 数",null,null,null,null,null,null,null,"  ","幼保連携認定こども園",null,null,null,null,null,null,null,null,{"$f":"データ一覧!N638","v":19},null,null,{"$f":"データ一覧!N639","v":0},null,null,{"$f":"データ一覧!N640","v":342},null,null,null,{"$f":"データ一覧!N641","v":71},null,null,null,{"$f":"データ一覧!N642","v":2162},null,null,null,{"$f":"データ一覧!N643","v":1089},null,null,null,{"$f":"データ一覧!N644","v":1073}]
["総数",null,null,null,null,null,null,{"$f":"データ一覧!N99","v":"…"},null,null,{"$f":"データ一覧!N156","v":"…"},null,null,{"$f":"データ一覧!N100","v":4151},null,null,{"$f":"データ一覧!N157","v":42890},null,null,{"$f":"データ一覧!N101","v":"…"},null,null,{"$f":"データ一覧!N158","v":"…"},null,null,"総　　数",null,null,null,null,null,"男",null,null,null,"女",null,null,null,{"$f":"データ一覧!$A$413","v":"5.4.1"},null,null,null,{"$f":"データ一覧!N413","v":1066.7},null,null,"㎞",{"$f":"データ一覧!N414","v":24.7},null,null,"㎞",{"$f":"データ一覧!N415","v":149.6},null,null,"㎞",{"$f":"データ一覧!N416","v":892.4},null,null,"km",{"$f":"データ一覧!$A$417","v":"6.4.1"},null,null,null,{"$f":"データ一覧!N417","v":3.4},null,null,"㎞","  ","各種学校",null,null,null,null,null,null,null,null,{"$f":"データ一覧!N646","v":1},null,null,{"$f":"データ一覧!N647","v":0},null,null,{"$f":"データ一覧!N648","v":40},null,null,null,{"$f":"データ一覧!N649","v":2},null,null,null,{"$f":"データ一覧!N650","v":221},null,null,null,{"$f":"データ一覧!N651","v":146},null,null,null,{"$f":"データ一覧!N652","v":75}]
["農林漁業",null,null,null,null,null,null,{"$f":"データ一覧!N102","v":"…"},null,null,{"$f":"データ一覧!N159","v":"…"},null,null,{"$f":"データ一覧!N103","v":49},null,null,{"$f":"データ一覧!N160","v":493},null,null,{"$f":"データ一覧!N104","v":"…"},null,null,{"$f":"データ一覧!N161","v":"…"},null,null,null,null,null,null,null,"人",null,null,"　　　　人",null,null,null,null,"  人","自動車",null,null,null,null,null,null,null,null,"乗用車",null,null,null,null,null,null,null,null,null,null,null,null,null,null,null,null,null,null,"  ","専修学校",null,null,null,null,null,null,null,null,{"$f":"データ一覧!N654","v":1},null,null,{"$f":"データ一覧!N655","v":0},null,null,{"$f":"データ一覧!N656","v":11},null,null,null,{"$f":"データ一覧!N657","v":0},null,null,null,{"$f":"データ一覧!N658","v":68},null,null,null,{"$f":"データ一覧!N659","v":14},null,null,null,{"$f":"データ一覧!N660","v":54}]
["鉱業",null,null,null,null,null,null,{"$f":"データ一覧!N105","v":"…"},null,null,{"$f":"データ一覧!N162","v":"…"},null,null,{"$f":"データ一覧!N106","v":1},null,null,{"$f":"データ一覧!N163","v":10},null,null,{"$f":"データ一覧!N107","v":"…"},null,null,{"$f":"データ一覧!N164","v":"…"},null,null,{"$f":"データ一覧!N286","v":0},null,null,null,null,null,{"$f":"データ一覧!$N$287","v":0},null,null,null,{"$f":"データ一覧!N288","v":0},null,null,null,"台  数",null,null,null,"貨    物",null,null,null,"普     通",null,null,null,"小     型",null,null,null,"乗  合",null,null,"特  種",null,null,"小型二輪",null,null,"軽自動車",null,null," １８  衛　　　　　　　生"]
["建設業",null,null,null,null,null,null,{"$f":"データ一覧!N108","v":"…"},null,null,{"$f":"データ一覧!N165","v":"…"},null,null,{"$f":"データ一覧!N109","v":454},null,null,{"$f":"データ一覧!N166","v":2736},null,null,{"$f":"データ一覧!N110","v":"…"},null,null,{"$f":"データ一覧!N167","v":"…"},null,null,"　　　　海 面 漁 業 漁 獲 量 （属人）",null,null,null,null,null,null,null,{"$f":"データ一覧!$A$289","v":"30年中"},null,null,null,null,null,{"$f":"データ一覧!$A$418","v":"6.3.31"},null,null,null,null,{"$f":"データ一覧!N418","v":4727},null,null,null,{"$f":"データ一覧!N420","v":16772},null,null,null,{"$f":"データ一覧!N421","v":14657},null,null,{"$f":"データ一覧!N419","v":167},null,null,{"$f":"データ一覧!N422","v":1377},null,null,{"$f":"データ一覧!N423","v":1022},null,null,{"$f":"データ一覧!N424","v":30758}]
["製造業",null,null,null,null,null,null,{"$f":"データ一覧!N111","v":"…"},null,null,{"$f":"データ一覧!N168","v":"…"},null,null,{"$f":"データ一覧!N112","v":610},null,null,{"$f":"データ一覧!N169","v":16284},null,null,{"$f":"データ一覧!N113","v":"…"},null,null,{"$f":"データ一覧!N170","v":"…"},null,null,null,null,null,null,null,"       ","ｔ",null,null,null,null,null,null,"t",null,null,"     ",null,"郵　便　局　数",null,null,null,null,null,null,null,null,null,null,null,null,null,{"$f":"+MID(データ一覧!$A$428,3,2)","v":"3."},"令","一般加入",null,null,null,"ＩＮＳネット",null,null,null,null,null,null,null,"医療関係施設",null,null,null,null,null,{"$f":"データ一覧!$A$661","v":"5.10.1"},null,null,null,null,null,null,"および医療関係者数",null,null,null,null,null,null,null,{"$f":"データ一覧!$A$666","v":"4.12.31"}]
["電気・ｶﾞ ｽ・熱供給・水道業",null,null,null,null,null,null,{"$f":"データ一覧!N114","v":"…"},null,null,{"$f":"データ一覧!N171","v":"…"},null,null,{"$f":"データ一覧!N115","v":7},null,null,{"$f":"データ一覧!N172","v":89},null,null,{"$f":"データ一覧!N116","v":"…"},null,null,{"$f":"データ一覧!N173","v":"…"},null,null,"   総　　　　　　数",null,null,null,{"$f":"データ一覧!N289","v":0},null,null,"   藻　　　　　　類",null,null,null,{"$f":"データ一覧!N292","v":0},null,null,"通  信",null,null,null," 総     数",null,null,null,null," 郵 便 局",null,null,null,null," 簡 易 局",null,null,null,"・",{"$f":"+LEFT(データ一覧!$A$428,1)","v":"6"},"電話数",null,null,null,"加入数",null,null,null,null,null,null,null,null,null,"　","病",null,null,"院",null,"　",null,null,null,null," ","一般診療所",null,null,null,null,null,null,null,null,null,null,null,"歯科診療所"]
["情報通信業",null,null,null,null,null,null,{"$f":"データ一覧!N117","v":"…"},null,null,{"$f":"データ一覧!N174","v":"…"},null,null,{"$f":"データ一覧!N118","v":23},null,null,{"$f":"データ一覧!N175","v":145},null,null,{"$f":"データ一覧!N119","v":"…"},null,null,{"$f":"データ一覧!N176","v":"…"},null,null,"   魚　　　　　　類",null,null,null,{"$f":"データ一覧!N290","v":0},null,null,"   そ　   の　　 他",null,null,null,{"$f":"データ一覧!N293","v":0},null,null,{"$f":"データ一覧!$A$428","v":"6.3.31"},null,null,null,{"$f":"データ一覧!N425","v":23},null,null,null,null,{"$f":"データ一覧!N426","v":21},null,null,null,null,{"$f":"データ一覧!N427","v":2},null,null,null,{"$f":"+RIGHT(データ一覧!$A$428,2)","v":"31"},"・",{"$f":"データ一覧!N428","v":4941},null,null,null,{"$f":"データ一覧!N429","v":531},null,null,null," ","医療関係",null,null,null,null,null,null,null,null,null,null,null,"一般病院",null,null,null,null,null,null,null,null,null,null,null,"有",null,null,"床"]
["運輸業、郵便業",null,null,null,null,null,null,{"$f":"データ一覧!N120","v":"…"},null,null,{"$f":"データ一覧!N177","v":"…"},null,null,{"$f":"データ一覧!N121","v":84},null,null,{"$f":"データ一覧!N178","v":1684},null,null,{"$f":"データ一覧!N122","v":"…"},null,null,{"$f":"データ一覧!N179","v":"…"},null,null,"   貝　　　　　　類",null,null,null,{"$f":"データ一覧!N291","v":0},null,null,null,null,null,null,null,null,null,null,null,null,null,null,null,null,null,null,null,null,null,null,null,null,null,null,null,null,null,null,null,null,null,null,null,null,null,null,"施設数",null,null,null,null,null,null,{"$f":"データ一覧!N661","v":7},null,null,null,null,null,{"$f":"データ一覧!N662","v":6},null,null,null,null,null,{"$f":"データ一覧!N663","v":48},null,null,null,null,null,{"$f":"データ一覧!N664","v":6},null,null,null,null,null,{"$f":"データ一覧!N665","v":31}]
["卸売業、小売業",null,null,null,null,null,null,{"$f":"データ一覧!N123","v":"…"},null,null,{"$f":"データ一覧!N180","v":"…"},null,null,{"$f":"データ一覧!N124","v":1056},null,null,{"$f":"データ一覧!N181","v":6732},null,null,{"$f":"データ一覧!N125","v":"…"},null,null,{"$f":"データ一覧!N182","v":"…"},null,null,null,null,null,null,null,null,null,null,null,null,null,null,null,null," １３  税　　・　　財　　政",null,null,null,null,null,null,null,null,null,null,null,null,null,null,null,null,null,null,null,null,null,null,null,null,null,null,null,null,null,null,null,null,null,null,"医師",null,null,null,null,"歯科医師",null,null,null,null,"薬剤師",null,null,null,null,"保健師",null,null,null,null,"助産師",null,null," ",null,"看護師",null,null," "]
["金融業、保険業",null,null,null,null,null,null,{"$f":"データ一覧!N126","v":"…"},null,null,{"$f":"データ一覧!N183","v":"…"},null,null,{"$f":"データ一覧!N127","v":63},null,null,{"$f":"データ一覧!N184","v":641},null,null,{"$f":"データ一覧!N128","v":"…"},null,null,{"$f":"データ一覧!N185","v":"…"},null,null,"  ７  商        　　　業 ",null,null,null,null,null,null,{"$f":"データ一覧!$A$294","v":"3.6.1(令和2年実績）"},null,null,null,null,null,null,null,null,null,null,null,null,null,null,null,null,null,null,null,null,null,null,null,null,null,null,null,null,null,null,null,null,null,null," ","医療",null,null,null,null,null,null,null,null,"人",null,null,null,null,"人",null,null,null,null,"人",null,null,null,null,"人",null,null,null,null,"人",null,null,null,null,"人"]
["不動産業、物品賃貸業",null,null,null,null,null,null,{"$f":"データ一覧!N129","v":"…"},null,null,{"$f":"データ一覧!N186","v":"…"},null,null,{"$f":"データ一覧!N130","v":155},null,null,{"$f":"データ一覧!N187","v":545},null,null,{"$f":"データ一覧!N131","v":"…"},null,null,{"$f":"データ一覧!N188","v":"…"},null,null,null,null,null,null,null,null,null,null,null,null,null,null,null,null,"           ",null,null,null,"歳入",null,null,null,null,null,null,null,null,"(千円）"," ",null,null,null,"歳出",null,null,null,null,null,null,null,null,"(千円）",null,"関係者",null,null,null,null,{"$f":"データ一覧!N666","v":102},null,null,null,null,{"$f":"データ一覧!N667","v":42},null,null,null,null,{"$f":"データ一覧!N668","v":132},null,null,null,null,{"$f":"データ一覧!N669","v":51},null,null,null,null,{"$f":"データ一覧!N670","v":7},null,null,null,null,{"$f":"データ一覧!N671","v":887}]
["学術研究、専門・技術ｻｰﾋﾞｽ業",null,null,null,null,null,null,{"$f":"データ一覧!N132","v":"…"},null,null,{"$f":"データ一覧!N189","v":"…"},null,null,{"$f":"データ一覧!N133","v":133},null,null,{"$f":"データ一覧!N190","v":677},null,null,{"$f":"データ一覧!N134","v":"…"},null,null,{"$f":"データ一覧!N191","v":"…"},null,null,"  産   業　 分　 類",null,null,null," 事　業　所　数",null,null," 従　業　者　数",null,null,"年　間　販　売　額",null,null,null,"一人当たり歳入歳出予算決算額",null,null,null,null,null,null,null,null,null,null,null,null,null,null,null,null,null,null,null,null,null,null,null,null,null,null,null,"                   ",null,null,null,null,null,null,null,null,"死因別死亡数　　　　　　    ",null,null,null,null,null,null,null,null,null,null,null,null,null,null,null,{"$f":"データ一覧!$A$672","v":"5年中"},null,null,null,null,null,null,null,null,"      単 位：人"]
["宿泊業、飲食サービス業",null,null,null,null,null,null,{"$f":"データ一覧!N135","v":"…"},null,null,{"$f":"データ一覧!N192","v":"…"},null,null,{"$f":"データ一覧!N136","v":386},null,null,{"$f":"データ一覧!N193","v":2385},null,null,{"$f":"データ一覧!N137","v":"…"},null,null,{"$f":"データ一覧!N194","v":"…"},null,null,null,null,null,null,null,null,null,null,null,"　人",null,"         百万円",null,null,"区分",null,null,null,{"$f":"データ一覧!$A$438","v":"6年度"},null,null,null,null,{"$f":"データ一覧!$A$452","v":"5年度"},null,null,null,null,"区分",null,null,null,{"$f":"+AR68","v":"6年度"},null,null,null,null,{"$f":"データ一覧!$A$452","v":"5年度"},null,null,null,null," 死     因",null,null,null,null,null,null,null,null,null,null,null,"悪  性",null,null,"高血圧",null,null,null,null,null,"脳血管",null,null,null,null,null," ",null,null,"不慮の事故"]
["生活関連サービス業、娯楽業",null,null,null,null,null,null,{"$f":"データ一覧!N138","v":"…"},null,null,{"$f":"データ一覧!N195","v":"…"},null,null,{"$f":"データ一覧!N139","v":342},null,null,{"$f":"データ一覧!N196","v":1015},null,null,{"$f":"データ一覧!N140","v":"…"},null,null,{"$f":"データ一覧!N197","v":"…"},null,null,"総　　　　　　計",null,null,null,{"$f":"データ一覧!N294","v":952},null,null,{"$f":"データ一覧!N303","v":5968},null,null,{"$f":"データ一覧!N312","v":149403},null,null,null,null,null,null,null,{"$f":"データ一覧!N434","v":483303.8408167942},null,null,null,null,{"$f":"データ一覧!N435","v":530802.95029861841},null,null,null,null,null,null,null,null,{"$f":"データ一覧!N436","v":483303.8408167942},null,null,null,null,{"$f":"データ一覧!N437","v":518307.03867941455},null,null,null,null,null,null,null,null,null,"全 死 因",null,null,null,"結 核",null,null,"新生物",null,null,"性疾患",null,null,"心疾患",null,null,"疾  患",null,null,"肺  炎",null,null,"老  衰",null,null,null,null," ","交通事故"]
["教育、学習支援業",null,null,null,null,null,null,{"$f":"データ一覧!N141","v":"…"},null,null,{"$f":"データ一覧!N198","v":"…"},null,null,{"$f":"データ一覧!N142","v":113},null,null,{"$f":"データ一覧!N199","v":990},null,null,{"$f":"データ一覧!N143","v":"…"},null,null,{"$f":"データ一覧!N200","v":"…"},null,null,"卸売業",null,null,null,{"$f":"データ一覧!N295","v":247},null,null,{"$f":"データ一覧!N304","v":1504},null,null,{"$f":"データ一覧!N313","v":63185},null,null,null,"項目別歳入歳出予算決算額"]
["医療、福祉",null,null,null,null,null,null,{"$f":"データ一覧!N144","v":"…"},null,null,{"$f":"データ一覧!N201","v":"…"},null,null,{"$f":"データ一覧!N145","v":263},null,null,{"$f":"データ一覧!N202","v":4331},null,null,{"$f":"データ一覧!N146","v":"…"},null,null,{"$f":"データ一覧!N203","v":"…"},null,null,"小売業",null,null,null,{"$f":"データ一覧!N296","v":705},null,null,{"$f":"データ一覧!N305","v":4464},null,null,{"$f":"データ一覧!N314","v":86218},null,null,null,"区分",null,null,null,{"$f":"データ一覧!$A$438","v":"6年度"},null,null,null,null,{"$f":"データ一覧!$A$452","v":"5年度"},null,null,null,null,"区分",null,null,null,{"$f":"+AR71","v":"6年度"},null,null,null,null,{"$f":"データ一覧!$A$452","v":"5年度"},null,null,null,null,null,null,null,null,null,{"$f":"データ一覧!N672","v":1081},null,null,null,"   －",{"$f":"データ一覧!N673","v":"-"},null,{"$f":"データ一覧!N674","v":250},null,null,null,{"$f":"データ一覧!N675","v":6},null,{"$f":"データ一覧!N676","v":238},null,null,{"$f":"データ一覧!N677","v":67},null,null,{"$f":"データ一覧!N678","v":68},null,null,{"$f":"データ一覧!N679","v":121},null,null,{"$f":"データ一覧!N680","v":34},null,null,{"$f":"データ一覧!N681","v":5}]
["複合サービス事業",null,null,null,null,null,null,{"$f":"データ一覧!N147","v":"…"},null,null,{"$f":"データ一覧!N204","v":"…"},null,null,{"$f":"データ一覧!N148","v":33},null,null,{"$f":"データ一覧!N205","v":470},null,null,{"$f":"データ一覧!N149","v":"…"},null,null,{"$f":"データ一覧!N206","v":"…"},null,null,"各種商品",null,null,null,{"$f":"データ一覧!N297","v":3},null,null,{"$f":"データ一覧!N306","v":153},null,null,{"$f":"データ一覧!N315","v":3271},null,null,null,"総額",null,null,null,{"$f":"SUM(AR73:AV85)","v":37964000},null,null,null,null,{"$f":"SUM(AW73:BA85)","v":41416431},null,null,null,null,"総額",null,null,null,{"$f":"SUM(BF73:BJ85)","v":37964000},null,null,null,null,{"$f":"SUM(BK73:BO85)","v":40441425},null,null,null,null," １９  警　察　・　消　防  ",null,null,null,null,null,null,null,null,null,null,null,null,null,null,null,{"$f":"+データ一覧!$A682","v":"6.4.1"}]
["サービス業",null,null,null,null,null,null,{"$f":"データ一覧!N150","v":"…"},null,null,{"$f":"データ一覧!N207","v":"…"},null,null,{"$f":"データ一覧!N151","v":379},null,null,{"$f":"データ一覧!N208","v":3663},null,null,{"$f":"データ一覧!N152","v":"…"},null,null,{"$f":"データ一覧!N209","v":"…"},null,null,"織物・衣服・身の回り品",null,null,null,{"$f":"データ一覧!N298","v":97},null,null,{"$f":"データ一覧!N307","v":329},null,null,{"$f":"データ一覧!N316","v":2697},null,null,null,"地方税",null,null,null,{"$f":"データ一覧!N439","v":13285000},null,null,null,null,{"$f":"データ一覧!N453","v":13805520},null,null,null,null,"議会費",null,null,null,{"$f":"データ一覧!N467","v":243952},null,null,null,null,{"$f":"データ一覧!N481","v":232762}]
["公務",null,null,null,null,null,null,{"$f":"データ一覧!N153","v":"…"},null,null,{"$f":"データ一覧!N210","v":"…"},null,null,{"$f":"データ一覧!N154","v":"…"},null,null,{"$f":"データ一覧!N211","v":"…"},null,null,{"$f":"データ一覧!N155","v":"…"},null,null,{"$f":"データ一覧!N212","v":"…"},null,null,"飲食料品",null,null,null,{"$f":"データ一覧!N299","v":205},null,null,{"$f":"データ一覧!N308","v":1574},null,null,{"$f":"データ一覧!N317","v":23463},null,null,null,"地方譲与税",null,null,null,{"$f":"データ一覧!N440","v":335000},null,null,null,null,{"$f":"データ一覧!N454","v":324839},null,null,null,null,"総務費",null,null,null,{"$f":"データ一覧!N468","v":5399477},null,null,null,null,{"$f":"データ一覧!N482","v":5554533},null,null,null,null,null,null,null,null,null,null,null,null,null,null,"交番・駐在所",null,null,null,null,null,null,null,null,"刑法犯認知件数",null,null,null,null,null,null,null,null,"交通人身事故発生件数"]
["  ４  農        　　　業 ",null,null,null,null,null,null,null,null,null,null,null,null,null,null,null,null,null,null,null,null,null,null,null,null,"機械器具",null,null,null,{"$f":"データ一覧!N300","v":130},null,null,{"$f":"データ一覧!N309","v":787},null,null,{"$f":"データ一覧!N318","v":21430},null,null,null,"各種交付金",null,null,null,{"$f":"データ一覧!N441","v":2682000},null,null,null,null,{"$f":"データ一覧!N455","v":2577304},null,null,null,null,"民生費",null,null,null,{"$f":"データ一覧!N469","v":13614045},null,null,null,null,{"$f":"データ一覧!N483","v":14626890},null,null,null,null,null,"警察署数",null,null,null,null,null,null,null,null,"検問所数",null,null,null,null,null,null,null,null,null,{"$f":"データ一覧!$A$684","v":"5年中"},null,null,null,null,null,null,null,null,{"$f":"データ一覧!$A$684","v":"5年中"}]
[null,null,null,null,null,null,null,null,null,null,null,null,null,null,null,null,null,null,null,null,null,null,null,null,null,"その他",null,null,null,{"$f":"データ一覧!N301","v":250},null,null,{"$f":"データ一覧!N310","v":1467},null,null,{"$f":"データ一覧!N319","v":31772},null,null,null,"地方特例交付金",null,null,null,{"$f":"データ一覧!N442","v":465000},null,null,null,null,{"$f":"データ一覧!N456","v":101252},null,null,null,null,"衛生費",null,null,null,{"$f":"データ一覧!N470","v":2490612},null,null,null,null,{"$f":"データ一覧!N484","v":2413119},null,null,null,null,null,null,null,null,null,null,null,null,null,null,null,null,null,null,null,null,null,null,null,null,null,null,null,null," 件",null,null,null,null,null,null,null,null,"　件"]
[null,null,"農業経営体数",null,null,null,null,null,null,"農産物販売額規模別経営体数",null,null,null,null,null,null,null,"経営耕地面積規模別経営体数",null,null,null,null,null,null,null,"無店舗",null,null,null,{"$f":"データ一覧!N302","v":20},null,null,{"$f":"データ一覧!N311","v":154},null,null,{"$f":"データ一覧!N320","v":3586},null,null,null,"地方交付税",null,null,null,{"$f":"データ一覧!N443","v":6330000},null,null,null,null,{"$f":"データ一覧!N457","v":6232087},null,null,null,null,"労働費",null,null,null,{"$f":"データ一覧!N471","v":84597},null,null,null,null,{"$f":"データ一覧!N485","v":88907},null,null,null,null,null,null,{"$f":"データ一覧!N682","v":1},null,null,null,null,null,null,null,null,{"$f":"データ一覧!N683","v":15},null,null,null,null,null,null,null,null,{"$f":"データ一覧!N684","v":265},null,null,null,null,null,null,null,null,{"$f":"データ一覧!N685","v":83}]
["農",null,"区　分",null,null,null,"経営体数\n（経営体）",null,null,"区　分",null,null,null,null,"経営体数\n（経営体）",null,null,"区　分",null,null,null,null,"経営体数\n（経営体）",null,null,null,null,null,null,null,null,null,null,null,null,null,null,null,null,"分担金および負担金",null,null,null,{"$f":"データ一覧!N444","v":63367},null,null,null,null,{"$f":"データ一覧!N458","v":122159},null,null,null,null,"農林水産業費",null,null,null,{"$f":"データ一覧!N472","v":1069847},null,null,null,null,{"$f":"データ一覧!N486","v":1378537},null,null,null,null,"火災発生件数",null,null,null,null,null,null,null,null,null,"林野焼損",null,null,null,null,"損      害",null,null,null,null,"消 防 自",null,null,null,"その他の",null,null,null," ",null,null,null,null," "]
["業","令",null,null,null,null,null,null,null,null,null,null,null,null,null,null,null,null,null,null,null,null,null,null,null,"  ８  住　　　　　　 　宅",null,null,null,null,null,null,null,null,null,null,null,null,null,"使用料および手数料",null,null,null,{"$f":"データ一覧!N445","v":498789},null,null,null,null,{"$f":"データ一覧!N459","v":444622},null,null,null,null,"商工費",null,null,null,{"$f":"データ一覧!N473","v":1853894},null,null,null,null,{"$f":"データ一覧!N487","v":2007207},null,null,null,null,{"$f":"+データ一覧!$A$686","v":"5年中"},null,null,null,null,"焼損棟数",null,null,null,null,"面    積",null,null,null,null,"見  積  額",null,null,null,null,"動 車 数",null,null,null,"ﾎﾟﾝﾌﾟ数",null,null,null," 消防吏員",null,null,null," 消防団員"]
["経",{"$f":"+LEFT(データ一覧!$A$213)","v":"2"},"計",null,null,null,{"$f":"データ一覧!N213","v":1196},null,null,"総　　　 数",null,null,null,null,{"$f":"データ一覧!N217","v":1196},null,null,"総　　　 数",null,null,null,null,{"$f":"データ一覧!N233","v":3053},null,null,null,null,null,null,null,null,null,null,null,null,null,null,null,null,"国庫支出金",null,null,null,{"$f":"データ一覧!N446","v":5620457},null,null,null,null,{"$f":"データ一覧!N460","v":6328935},null,null,null,null,"土木費",null,null,null,{"$f":"データ一覧!N474","v":2589382},null,null,null,null,{"$f":"データ一覧!N488","v":4374979},null,null,null,null,"         件",null,null,null,null,null,"      棟",null,null,null,null,null,null,"  ａ",null,null,null,"  千円",null,null,"        ",null,null,null,null,null,null,null,null,null,"  人",null,null,null,"  人"]
["営","・","個人経営体",null,null,null,{"$f":"データ一覧!N214","v":1128},null,null,"販 売 な し",null,null,null,null,{"$f":"データ一覧!N218","v":95},null,null,"0.5 ha 未満",null,null,null,null,{"$f":"データ一覧!N234","v":83},null,null,{"$f":"+データ一覧!$A$321","v":"4年"},null,null,null,null,{"$f":"データ一覧!$A$324","v":"5年"},"中の増減",null,null,null,{"$f":"+データ一覧!$A$324","v":"5年"},null,null,null,"県支出金",null,null,null,{"$f":"データ一覧!N447","v":3415231},null,null,null,null,{"$f":"データ一覧!N461","v":3330356},null,null,null,null,"消防費",null,null,null,{"$f":"データ一覧!N475","v":1358729},null,null,null,null,{"$f":"データ一覧!N489","v":1368336},null,null,null,null,null,{"$f":"データ一覧!N686","v":26},null,null,null,null,{"$f":"データ一覧!N687","v":32},null,null,null,null,{"$f":"データ一覧!N688","v":0},null,null,null,{"$f":"データ一覧!N689","v":100105},null,null,null,null,null,{"$f":"データ一覧!N690","v":9},null,null,null,{"$f":"データ一覧!N691","v":1},null,null,null,{"$f":"データ一覧!N692","v":98},null,null,null,{"$f":"データ一覧!N693","v":529}]
["体",{"$f":"+LEFT(データ一覧!$A$213,1)","v":"2"},"団体経営体",null,null,null,{"$f":"データ一覧!N215","v":68},null,null,"50万円未満",null,null,null,null,{"$f":"データ一覧!N219","v":450},null,null,"0.5 ha ～ 1.0 ha",null,null,null,null,{"$f":"データ一覧!N235","v":302},null,null,null,null,null,null,"建設した住宅",null,null,"消失した住宅",null,null,null,null,null,null,"財産収入",null,null,null,{"$f":"データ一覧!N448","v":211243},null,null,null,null,{"$f":"データ一覧!N462","v":77536},null,null,null,null,"教育費",null,null,null,{"$f":"データ一覧!N476","v":3767630},null,null,null,null,{"$f":"データ一覧!N490","v":3912319},null,null,null,null," ２０  そ　　　の　　　他　"]
["数","・",null,"法人経営",null,null,{"$f":"データ一覧!N216","v":40},null,null,"50～300万円",null,null,null,null,{"$f":"データ一覧!N220","v":527},null,null,"1.0 ha ～ 2.0 ha",null,null,null,null,{"$f":"データ一覧!N236","v":463},null,null,null,null,null,null,null,null,null,null,null,null,null,null,null,null,"繰入金",null,null,null,{"$f":"データ一覧!N449","v":1049146},null,null,null,null,{"$f":"データ一覧!N463","v":1989456},null,null,null,null,"災害復旧費",null,null,null,{"$f":"データ一覧!N477","v":30500},null,null,null,null,{"$f":"データ一覧!N491","v":30209}]
["（",{"$f":"+RIGHT(データ一覧!$A$213)","v":"1"},null,null,null,null,null,null,null,"300～500万円",null,null,null,null,{"$f":"データ一覧!N221","v":35},null,null,"2.0 ha ～ 3.0 ha",null,null,null,null,{"$f":"データ一覧!N237","v":166},null,null,null,{"$f":"データ一覧!N321","v":32025},null,"戸",{"$f":"データ一覧!N322","v":662},null,"戸",{"$f":"データ一覧!N323","v":251},null,"戸",null,{"$f":"データ一覧!N324","v":32436},null,"戸","地方債",null,null,null,{"$f":"データ一覧!N450","v":1883900},null,null,null,null,{"$f":"データ一覧!N464","v":2930428},null,null,null,null,"公債費",null,null,null,{"$f":"データ一覧!N478","v":4208267},null,null,null,null,{"$f":"データ一覧!N492","v":4453627},null,null,null,null,null,null,null,null,null,"毫摂寺、龍泉寺、引接寺、正覚寺、龍門寺、大塩八幡宮、大虫神社、成願寺、旧谷口家住宅、越前和紙の里(紙の文化博物館・卯立の工芸館、パピルス館）、城福寺、小丸城跡、野々宮廃寺跡、茶臼山古墳群、大虫廃寺塔跡、越前の里味真野苑、紫式部公園、花筐公園、小次郎公園、八ッ杉自然公園、岡太神社・大瀧神社、聖徳太子堂、武生公会堂記念館、蔵の辻、万葉菊花園、タケフナイフビレッジ、蓑脇の時水、コウノトリ、アベサンショウウオ"]
["総",null,null,null,null,null,null,null,null,"500～1,000万円",null,null,null,null,{"$f":"データ一覧!N222","v":36},null,null,"3.0 ha ～ 5.0 ha",null,null,null,null,{"$f":"データ一覧!N238","v":142},null,null,null,null,null,null,null,null,null,null,null,null,null,null,null,null,"その他",null,null,null,{"$f":"データ一覧!N451","v":2124867},null,null,null,null,{"$f":"データ一覧!N465","v":3151937},null,null,null,null,"その他",null,null,null,{"$f":"データ一覧!N479","v":1253068},null,null,null,null,{"$f":"データ一覧!N493","v":0},null,null,null,null,"　名所・旧跡"]
["数",null,null,null,null,null,null,null,null,"1,000万円以上",null,null,null,null,{"$f":"データ一覧!N223","v":53},null,null,"5.0 ha以上",null,null,null,null,{"$f":"データ一覧!N239","v":1896},null,null,null,null,null,null,null,null,null,null,null,null,null,null,null,null,null,null,null,null,null,null,null,null,null,null,null,null,null,null,null,null,null,null,null,null,null,null,null,null,null,null,null,null,"  文化財等"]
["）",null,"15歳以上の常雇い数",null,null,null,null,null,null,"農業に60日以上従事した世帯員、役員・構成員\n（経営主を含む）の平均年齢",null,null,null,null,null,null,null,null,null,null,null,null,null,null,null,"  ９  議　 員　・　職 　員",null,null,null,null,null,null,null,null,null,null,null,null,null," １４  文　　　化",null,null,null,null,null,null,null," ( ",{"$f":"\"令\"&データ一覧!$A$498","v":"令6.3.31"},null,null,"ただし図書館・公民館・児童館・ 社会教育学級講座",null,null,null,null,null,null,null,null,null,null,null,{"$f":"データ一覧!$A$494","v":"6.4.1"}]
["と",null,null,null,null,null,null,null,null,null,null,null,null,null,null,null,null,null,null,null,null,null,null,null,null,null,null,null,null,null,null,null,null,null,null,null,null,null,null,null,null,null,null,null,null,null,null,null,null,null,null,null,"　宗教法人数 ",null,null,null,null,null,null,null,null,null,null,{"$f":"データ一覧!$A$502","v":"5.12.31"}]
["就",null,null,null,null,null,null,null,null,"農業に60日以上従事",null,null,null,null,null,null,null,"農業に150日以上従事",null,null,null,null,null,null,null," 市 町 議 会",null,null,"有権者数",null,{"$f":"データ一覧!$A$328","v":"6.9.1"},null,"市 町 議 会",null,null,"  職      員      数",null,null,null,null,null,null,null,null,"図書館",null,null,null,null,null,"公　民　館",null,null,null,null,null,null,null,null,null,null," 社会教育学級講座",null,null,null,null,null,"　　特産物",null,null,null,null,"越前和紙、越前打刃物、越前箪笥、家具建具、野球バット、スポーツウェア、"]
["業",null,"区分",null,null,null,"人",null,null,"区分",null,null,null,null,"歳",null,null,"区　　分",null,null,null,null,"歳",null,null," 議  員  定  数",null,null,"    男",null,"    女",null,"選 挙 投 票 率",null,null," 総     数",null,"一般行政職",null,"公    共",null,null,null," 館  数",null,null," 図書数",null,null," 本  館",null,null," 分  館",null,null," 公  園",null,null," 児童館",null,null,"学級講座数",null,null,"受講者数",null,null,null,null,null,null,null,"白山スイカ、越前おろしそば、ボルガライス、たけふ駅前中華そば"]
["状",null,"総数",null,null,null,{"$f":"データ一覧!N230","v":33},null,null,"総数",null,null,null,null,{"$f":"データ一覧!N224","v":68.2},null,null,"総数",null,null,null,null,{"$f":"データ一覧!N227","v":66.599999999999994},null,null,null,null,"人",null,"人",null,"人",null,null,"　％",null,"人",null,"人","施 設 数",null,null,null,null,{"$f":"データ一覧!N494","v":2},null,{"$f":"データ一覧!N495","v":584508},null,null,null,{"$f":"データ一覧!N496","v":17},null,{"$f":"データ一覧!N497","v":0},null,null,{"$f":"データ一覧!N498","v":94},null,null,{"$f":"データ一覧!N499","v":15},null,null,{"$f":"データ一覧!N500","v":2227},null,null,{"$f":"データ一覧!N501","v":25281},null,null," 　年中行事",null,null,null,null,"たけふ菊人形（10月初旬から11月初旬）、"]
["況",null,"男",null,null,null,{"$f":"データ一覧!N231","v":28},null,null,"男",null,null,null,null,{"$f":"データ一覧!N225","v":67.400000000000006},null,null,"男",null,null,null,null,{"$f":"データ一覧!N228","v":65.7},null,null,null,{"$f":"データ一覧!N325","v":20},null,{"$f":"データ一覧!N328","v":31243},null,{"$f":"データ一覧!N329","v":32635},null,{"$f":"データ一覧!N327","v":63.37},null,null,{"$f":"データ一覧!N330","v":596},null,{"$f":"データ一覧!N331","v":368},null,"宗    教",null,null,null," 仏教系",null,null,"ｷﾘｽﾄ教系",null,null,"神道諸派",null,null,"公会堂・市民会館",null,null,null,null,null," テレビ",null,null,"衛星放送契約数",null,null,null,null,null,null,null,null,null,null,"越前市サマーフェスティバル（8月中旬）、"]
[null,null,"女",null,null,null,{"$f":"データ一覧!N232","v":5},null,null,"女",null,null,null,null,{"$f":"データ一覧!N226","v":70.599999999999994},null,null,"女",null,null,null,null,{"$f":"データ一覧!N229","v":69.3},null,null,null,null,null,null,null,null,null,{"$f":"データ一覧!$N$326","v":"4.7.10"},null,null,null,null,null,null,"法 人 数",null,null,null,{"$f":"データ一覧!N502","v":218},null,null,{"$f":"データ一覧!N503","v":2},null,null,{"$f":"データ一覧!N504","v":164},null,null,{"$f":"データ一覧!N505","v":3},null,null,null,null,null,"      等",null,null,{"$f":"データ一覧!N506","v":18092},null,null,null,null,null,null,null,null,null,null,"千年未来工藝祭（8月下旬）"]

{"sheet":"坂井市","index":13,"n_rows":93,"n_cols":103,"rows_kept":93,"cut":false,"hidden":false,"merged":[[81,6,81,8],[81,9,81,13],[81,14,81,16],[82,6,82,8],[82,9,82,13],[82,14,82,16],[83,6,83,8],[83,9,83,13],[83,14,83,16],[86,2,88,8],[86,9,87,24],[88,9,88,16],[88,17,88,24],[89,2,89,5],[89,9,89,13],[89,17,89,21],[90,2,90,5],[90,9,90,13],[90,17,90,21],[90,6,90,8],[90,14,90,16],[90,22,90,24],[91,2,91,5],[91,9,91,13],[91,17,91,21],[92,2,92,5],[92,9,92,13],[92,14,92,16],[92,17,92,21],[92,6,92,8],[92,22,92,24],[89,6,89,8],[89,14,89,16],[89,22,89,24],[24,40,24,46],[25,40,25,46],[84,6,84,8],[84,9,84,13],[84,14,84,16],[84,22,84,24],[85,6,85,8],[85,9,85,13],[85,14,85,16],[85,22,85,24],[85,17,85,21],[76,2,76,8],[76,9,76,16],[76,17,76,24],[77,2,78,5],[77,6,78,8],[77,9,78,13],[77,14,78,16],[77,17,78,21],[77,22,78,24],[79,2,79,5],[79,6,79,8],[79,9,79,13],[79,14,79,16],[79,17,79,21],[79,22,79,24],[80,6,80,8],[80,9,80,13],[80,14,80,16],[80,17,80,21],[80,22,80,24],[66,29,66,31],[41,4,41,6],[41,7,41,9],[41,10,41,12],[11,106,22,113],[73,86,73,92],[73,77,73,83],[69,39,69,66],[67,43,67,47],[67,48,67,52],[67,53,67,56],[67,57,67,61],[67,62,67,66],[68,39,68,42],[68,43,68,47],[68,48,68,52],[67,39,67,42],[17,82,17,83],[17,86,17,89],[19,73,19,76],[19,77,19,80],[46,25,46,28],[46,0,46,1],[48,0,48,1],[47,0,47,1],[48,16,48,18],[48,19,48,21],[27,22,27,24],[31,14,31,16],[24,31,24,32],[21,25,21,28],[25,29,26,30],[25,25,25,26],[31,5,31,7],[21,29,21,31],[26,25,26,26],[26,27,26,28],[23,32,23,34],[47,13,47,15],[42,10,42,12],[46,29,46,30],[47,10,47,12],[27,0,27,4],[27,5,27,7],[29,18,29,19],[29,20,29,21],[33,20,33,21],[33,11,33,13],[40,2,40,3],[33,8,33,10],[34,22,34,24],[34,18,34,19],[30,5,30,7],[51,29,51,32],[47,16,47,18],[47,19,47,21],[47,22,47,24],[44,0,45,1],[42,19,42,21],[48,22,48,24],[32,20,32,21],[35,36,35,37],[34,20,34,21],[35,22,35,24],[41,29,41,30],[42,16,42,18],[40,16,40,18],[42,4,42,6],[47,7,47,9],[42,7,42,9],[41,16,41,18],[35,5,35,7],[35,8,35,10],[35,11,35,13],[35,14,35,16],[35,18,35,19],[35,20,35,21],[42,32,42,35],[45,29,45,30],[48,7,48,9],[48,10,48,12],[48,13,48,15],[42,13,42,15],[46,36,46,37],[34,11,34,13],[53,33,53,34],[53,36,53,37],[45,25,45,28],[46,32,46,35],[45,32,45,35],[29,81,29,84],[44,32,44,35],[27,31,27,32],[27,33,27,34],[34,36,34,37],[51,25,51,28],[51,33,51,35],[50,33,50,38],[55,25,55,30],[55,31,55,34],[50,25,50,28],[50,29,50,32],[54,25,54,32],[53,25,53,27],[53,29,53,31],[36,36,36,37],[27,29,27,30],[27,27,27,28],[27,35,27,36],[27,37,27,38],[27,25,27,26],[39,49,39,51],[35,75,35,77],[33,67,34,80],[31,49,31,51],[38,49,38,51],[38,40,38,46],[29,8,29,10],[29,11,29,13],[29,14,29,16],[34,14,34,16],[40,4,40,6],[40,7,40,9],[40,10,40,12],[40,13,40,15],[34,8,34,10],[31,8,31,10],[31,11,31,13],[40,22,40,24],[33,14,33,16],[33,18,33,19],[25,33,26,34],[23,25,23,28],[30,11,30,13],[30,14,30,16],[30,22,30,24],[23,16,23,18],[32,18,32,19],[31,22,31,24],[30,8,30,10],[22,32,22,34],[23,29,23,31],[22,29,22,31],[24,29,24,30],[24,33,24,34],[25,31,26,32],[18,35,18,38],[16,32,16,33],[18,28,18,30],[20,32,20,34],[14,25,15,25],[14,26,15,28],[15,35,15,37],[18,31,18,34],[20,25,20,28],[21,32,21,34],[20,35,20,38],[24,35,24,36],[22,35,22,38],[20,11,20,13],[20,16,20,18],[17,25,17,27],[18,25,18,27],[19,40,19,46],[19,49,19,51],[19,53,19,56],[19,60,19,64],[21,40,21,46],[24,53,24,56],[21,53,21,56],[15,29,15,30],[15,32,15,33],[25,27,25,28],[17,40,17,46],[17,48,17,52],[24,27,24,28],[20,53,20,56],[17,53,17,57],[19,29,19,31],[19,32,19,34],[23,40,23,46],[23,49,23,51],[21,49,21,51],[20,49,20,51],[23,11,23,13],[16,36,16,37],[17,32,17,34],[17,36,17,38],[19,35,19,38],[20,29,20,31],[24,37,24,38],[24,91,24,94],[24,95,24,98],[24,68,24,72],[24,60,24,64],[22,95,22,98],[22,91,22,94],[22,77,22,80],[22,81,22,84],[22,86,22,90],[16,74,16,95],[5,0,5,9],[6,0,8,9],[22,7,22,8],[19,81,19,84],[20,73,20,76],[21,81,21,84],[21,86,21,90],[24,77,24,80],[24,81,24,84],[24,86,24,90],[19,3,19,5],[21,95,21,98],[20,91,20,94],[20,60,20,64],[22,40,22,46],[20,40,20,46],[22,49,22,51],[17,59,17,65],[23,21,23,23],[20,21,20,23],[21,35,21,38],[23,35,23,38],[20,77,20,80],[20,81,20,84],[20,86,20,90],[22,73,22,76],[23,60,23,64],[23,53,23,56],[19,25,19,28],[22,53,22,56],[22,25,22,28],[25,37,26,38],[25,35,26,36],[19,99,19,102],[19,91,19,94],[19,95,19,98],[17,68,17,71],[17,73,17,76],[24,49,24,51],[17,91,17,94],[25,86,25,90],[24,99,24,102],[25,95,25,98],[25,99,25,102],[25,91,25,94],[21,60,21,64],[21,73,21,76],[21,77,21,80],[22,68,22,72],[23,95,23,98],[25,49,25,51],[25,53,25,56],[23,91,23,94],[23,68,23,72],[23,73,23,76],[23,77,23,80],[26,73,26,76],[26,77,26,80],[25,73,25,76],[26,40,26,46],[26,49,26,51],[26,53,26,56],[30,18,30,19],[30,20,30,21],[30,40,30,46],[30,49,30,51],[30,53,30,56],[30,60,30,64],[32,99,32,102],[29,60,29,64],[30,86,30,90],[31,73,31,76],[31,77,31,80],[31,60,31,64],[30,68,30,72],[30,73,30,76],[30,77,30,80],[30,81,30,84],[31,95,31,98],[31,91,31,94],[28,99,28,102],[26,22,26,24],[28,40,28,46],[28,49,28,51],[28,53,28,56],[28,60,28,64],[27,40,27,46],[27,49,27,51],[27,53,27,56],[27,60,27,64],[40,67,41,73],[42,36,42,37],[29,40,29,46],[29,49,29,51],[29,53,29,56],[29,22,29,24],[29,77,29,80],[32,5,32,7],[32,11,32,13],[32,8,32,10],[33,5,33,7],[31,18,31,19],[31,20,31,21],[31,53,31,56],[36,29,36,30],[32,14,32,16],[35,53,35,56],[35,60,35,64],[32,22,32,24],[34,29,34,30],[35,29,35,30],[33,22,33,24],[32,40,32,46],[41,13,41,15],[42,53,42,56],[40,53,40,56],[34,5,34,7],[29,5,29,7],[34,49,34,51],[34,53,34,56],[34,60,34,64],[32,49,32,51],[33,40,33,46],[31,40,31,46],[33,49,33,51],[32,68,32,72],[32,73,32,76],[32,77,32,80],[40,29,40,30],[41,36,41,37],[41,32,41,35],[40,32,40,35],[35,49,35,51],[32,53,32,56],[34,40,34,46],[33,53,33,56],[35,40,35,46],[32,60,32,64],[41,49,41,51],[37,53,37,56],[36,53,36,56],[36,40,36,46],[37,40,37,46],[37,49,37,51],[39,40,39,46],[36,67,36,73],[36,60,36,64],[37,75,37,77],[38,79,38,82],[38,53,38,56],[42,40,42,46],[41,19,41,21],[41,60,41,64],[40,19,40,21],[40,36,40,37],[41,53,41,56],[41,22,41,24],[40,49,40,51],[41,40,41,46],[42,22,42,24],[49,99,49,102],[49,95,49,98],[48,95,48,98],[48,83,48,86],[48,68,48,75],[48,77,48,79],[40,40,40,46],[49,58,49,61],[44,36,44,37],[47,77,47,79],[47,80,47,82],[46,95,46,98],[44,25,44,28],[45,84,45,89],[44,29,44,30],[42,93,42,95],[44,19,44,24],[45,92,45,101],[46,99,46,102],[42,97,42,100],[46,69,46,74],[45,36,45,37],[50,55,50,57],[49,46,49,49],[43,40,43,46],[43,49,43,51],[48,56,48,59],[51,99,51,102],[55,99,55,102],[54,43,54,46],[54,99,54,102],[50,99,50,102],[50,87,50,90],[51,83,51,86],[50,91,50,94],[49,83,49,86],[49,91,49,94],[49,87,49,90],[54,47,54,50],[52,91,52,94],[48,99,48,102],[48,87,48,90],[51,80,51,82],[53,87,53,90],[51,95,51,98],[51,87,51,90],[51,91,51,94],[54,77,54,79],[54,95,54,98],[55,80,55,82],[55,83,55,86],[53,80,53,82],[47,83,47,86],[43,60,43,64],[57,39,57,42],[60,39,60,42],[61,80,61,83],[65,39,65,42],[60,85,60,90],[59,59,59,62],[63,84,63,86],[66,92,66,96],[66,39,66,66],[58,39,58,42],[60,63,60,66],[58,55,58,57],[60,59,60,62],[61,48,61,52],[61,53,61,56],[60,36,60,37],[65,53,65,56],[58,61,58,63],[61,63,61,66],[65,0,65,6],[65,13,65,15],[65,16,65,18],[64,0,64,6],[66,7,66,9],[62,19,62,21],[64,19,64,21],[64,22,64,24],[65,19,65,21],[63,13,63,15],[68,13,68,15],[63,19,63,21],[62,16,62,18],[67,10,67,12],[67,13,67,15],[66,19,66,21],[68,19,68,21],[67,16,67,18],[63,0,63,6],[62,0,62,6],[63,10,63,12],[68,16,68,18],[68,10,68,12],[62,10,62,12],[62,13,62,15],[67,19,67,21],[68,7,68,9],[62,22,62,24],[67,0,67,6],[56,19,56,21],[55,16,55,18],[56,13,56,15],[71,39,71,42],[73,39,73,42],[68,29,68,30],[68,25,68,28],[68,32,68,33],[68,22,68,24],[65,22,65,24],[71,22,71,24],[58,19,58,21],[64,7,64,9],[63,7,63,9],[61,7,61,9],[64,13,64,15],[64,16,64,18],[63,16,63,18],[69,19,69,21],[70,10,70,12],[62,29,62,30],[66,32,66,34],[57,31,57,33],[65,10,65,12],[59,10,59,12],[61,29,61,30],[61,36,61,37],[59,7,59,9],[62,7,62,9],[60,16,60,18],[59,19,59,21],[61,39,61,42],[70,29,70,30],[57,35,57,37],[57,19,57,21],[63,99,63,101],[63,74,63,76],[68,100,68,102],[68,94,68,96],[68,91,68,93],[67,82,67,84],[57,67,58,102],[68,76,68,78],[67,67,70,71],[70,53,70,56],[70,43,70,47],[65,73,65,76],[70,77,70,78],[70,72,70,75],[68,53,68,56],[61,22,61,24],[61,19,61,21],[60,19,60,21],[68,72,68,75],[61,59,61,62],[65,57,65,63],[65,43,65,49],[57,43,57,46],[57,47,57,50],[64,68,64,71],[65,93,65,96],[62,75,62,77],[62,81,62,83],[66,35,66,38],[70,57,70,61],[58,58,58,60],[76,78,76,81],[76,87,76,90],[73,48,73,52],[72,62,72,66],[74,62,74,66],[72,53,72,56],[72,57,72,61],[71,67,72,82],[71,53,71,56],[71,62,71,66],[73,57,73,61],[74,48,74,52],[63,89,63,91],[78,95,78,98],[78,91,78,94],[78,67,78,71],[78,72,78,76],[73,95,73,101],[62,68,62,71],[80,92,80,94],[77,57,77,61],[78,53,78,56],[76,57,76,61],[75,48,75,52],[78,82,78,86],[78,87,78,90],[77,91,77,94],[80,62,80,66],[78,57,78,61],[80,88,80,90],[79,57,79,61],[75,62,75,66],[76,62,76,66],[80,96,80,98],[80,68,80,70],[80,73,80,75],[75,57,75,61],[77,87,77,90],[77,82,77,86],[79,43,79,47],[80,57,80,61],[80,39,80,42],[83,72,87,102],[74,77,74,83],[74,87,74,91],[78,39,78,42],[78,43,78,47],[76,43,76,47],[77,48,77,52],[76,48,76,52],[75,43,75,47],[77,39,77,42],[77,43,77,47],[80,48,80,52],[80,53,80,56],[75,39,75,42],[80,100,80,102],[80,82,80,86],[77,62,77,66],[77,77,77,81],[78,62,78,66],[76,96,76,99],[76,69,76,72],[76,53,76,56],[77,53,77,56],[79,48,79,52],[78,99,78,102],[78,77,78,81],[80,78,80,80],[74,96,74,100],[79,97,79,98],[69,25,69,28],[70,32,70,33],[70,22,70,24],[69,32,69,33],[74,0,75,24],[71,7,71,9],[74,57,74,61],[70,97,70,99],[71,57,71,61],[69,10,69,12],[71,25,71,28],[66,0,66,6],[69,29,69,30],[69,35,69,37],[67,22,67,24],[68,35,68,37],[72,7,72,9],[66,16,66,18],[71,35,71,37],[69,22,69,24],[70,25,70,28],[74,43,74,47],[73,19,73,21],[73,16,73,18],[72,48,72,52],[71,19,71,21],[73,13,73,15],[74,29,74,30],[72,19,72,21],[74,53,74,56],[70,13,70,15],[72,10,72,12],[60,29,60,30],[60,22,60,24],[59,22,59,24],[70,39,70,42],[68,82,68,84],[71,32,71,33],[71,29,71,30],[71,83,72,102],[70,85,70,87],[65,98,65,101],[65,88,65,91],[67,97,67,102],[65,7,65,9],[60,13,60,15],[61,10,61,12],[61,16,61,18],[59,16,59,18],[63,94,63,96],[65,78,65,81],[65,68,65,71],[65,83,65,86],[72,16,72,18],[70,35,70,37],[72,13,72,15],[71,10,71,12],[71,16,71,18],[72,25,72,28],[59,43,59,56],[60,43,60,47],[60,48,60,52],[60,53,60,56],[61,43,61,47],[71,43,71,47],[74,32,74,33],[66,10,66,12],[66,13,66,15],[91,37,91,38],[76,35,76,37],[75,25,75,28],[72,32,72,33],[81,22,81,24],[79,39,79,42],[79,53,79,56],[76,39,76,42],[74,39,74,42],[76,25,76,28],[76,29,76,30],[75,29,75,30],[75,32,75,33],[76,32,76,33],[75,35,75,37],[78,48,78,52],[73,53,73,56],[74,35,74,37],[72,39,72,42],[72,43,72,47],[75,53,75,56],[72,35,72,37],[73,43,73,47],[73,22,73,24],[81,53,81,56],[81,48,81,52],[81,39,81,42],[91,22,91,24],[92,52,92,57],[92,61,92,66],[92,39,92,42],[92,43,92,45],[92,46,92,48],[92,49,92,51],[82,22,82,24],[83,22,83,24],[83,29,83,30],[81,32,81,34],[91,39,91,42],[82,39,82,42],[91,52,91,57],[70,19,70,21],[73,32,73,33],[82,57,82,61],[83,48,83,52],[79,62,79,66],[80,25,81,28],[88,50,88,53],[84,39,84,42],[83,32,83,33],[73,35,73,37],[72,29,72,30],[72,22,72,24],[74,25,74,28],[73,29,73,30],[73,25,73,28],[82,48,82,52],[73,62,73,66],[71,48,71,52],[92,32,92,34],[88,28,88,29],[88,30,88,31],[91,28,91,29],[88,32,88,34],[89,39,89,42],[84,48,84,52],[48,91,48,94],[48,80,48,82],[48,62,48,65],[49,68,49,75],[51,77,51,79],[70,79,70,81],[68,79,68,81],[70,94,70,96],[70,88,70,90],[56,80,56,82],[70,91,70,93],[68,88,68,90],[67,88,67,90],[58,64,58,66],[91,61,91,66],[90,39,90,42],[91,43,91,45],[91,46,91,48],[91,49,91,51],[84,62,84,66],[89,61,89,63],[90,52,90,54],[49,80,49,82],[90,50,90,51],[81,62,81,66],[90,44,90,45],[90,46,90,48],[90,58,90,60],[81,57,81,61],[84,53,84,56],[84,57,84,61],[88,44,88,47],[82,43,82,47],[48,50,48,53],[42,75,42,77],[42,60,42,64],[39,53,39,56],[50,50,50,53],[83,36,83,37],[91,35,91,36],[82,62,82,66],[89,32,89,34],[80,35,81,38],[81,43,81,47],[80,43,80,47],[61,68,61,71],[83,39,83,42],[91,32,91,34],[74,68,74,74],[81,67,82,102],[79,101,79,102],[70,48,70,52],[68,57,68,61],[68,62,68,66],[60,97,60,102],[70,83,70,84],[70,62,70,66],[39,85,39,91],[81,29,81,31],[55,77,55,79],[62,87,62,89],[43,53,43,56],[39,60,39,64],[49,50,49,53],[50,59,50,61],[45,57,45,61],[40,60,40,64],[91,30,91,31],[84,43,84,47],[82,53,82,56],[83,57,83,61],[83,43,83,47],[88,61,88,66],[83,53,83,56],[83,62,83,66],[90,61,90,63],[90,64,90,66],[90,55,90,57],[42,79,42,82],[42,85,42,91],[43,83,44,102],[42,49,42,51],[42,67,42,73],[39,97,39,100],[43,67,44,82],[39,75,39,77],[45,77,45,82],[47,68,47,75],[41,97,41,100],[40,93,40,95],[40,85,40,91],[41,85,41,91],[40,79,41,82],[40,75,41,77],[62,99,62,101],[49,77,49,79],[68,85,68,87],[66,76,66,90],[62,93,62,95],[50,77,50,79],[50,68,50,75],[56,99,56,102],[55,95,55,98],[54,87,54,90],[70,100,70,102],[55,68,55,75],[56,68,56,75],[56,95,56,98],[56,91,56,94],[54,91,54,94],[52,99,52,102],[53,99,53,102],[55,87,55,90],[52,95,52,98],[53,95,53,98],[56,83,56,86],[52,83,52,86],[56,77,56,79],[54,80,54,82],[50,95,50,98],[60,91,60,96],[67,79,67,81],[38,85,38,91],[47,91,47,94],[47,95,47,98],[47,99,47,102],[14,82,15,95],[56,87,56,90],[55,91,55,94],[31,81,31,84],[32,95,32,98],[31,68,31,72],[23,81,23,84],[23,86,23,90],[24,73,24,76],[22,60,22,64],[17,100,17,101],[21,91,21,94],[25,60,25,64],[25,77,25,80],[25,81,25,84],[28,86,28,90],[54,59,54,66],[36,93,36,95],[35,68,35,72],[37,79,37,82],[33,83,34,96],[54,68,54,75],[54,83,54,86],[53,91,53,94],[50,80,50,82],[52,87,52,90],[14,67,15,81],[47,87,47,90],[20,99,20,102],[36,85,36,91],[35,86,35,90],[29,95,29,98],[37,93,37,95],[37,85,37,91],[29,99,29,102],[30,99,30,102],[30,91,30,94],[37,97,37,100],[32,81,32,84],[23,99,23,102],[31,99,31,102],[22,99,22,102],[39,67,39,73],[53,83,53,86],[41,93,41,95],[53,68,53,75],[52,68,52,75],[51,68,51,75],[50,83,50,86],[53,77,53,79],[52,77,52,79],[52,80,52,82],[38,93,38,95],[36,79,36,82],[35,80,35,83],[38,97,38,100],[21,99,21,102],[26,99,26,102],[26,91,26,94],[27,68,27,72],[27,73,27,76],[26,81,26,84],[26,86,26,90],[26,95,26,98],[28,91,28,94],[28,68,28,72],[28,73,28,76],[28,77,28,80],[28,81,28,84],[27,77,27,80],[30,95,30,98],[29,91,29,94],[36,97,36,100],[33,60,33,64],[35,93,35,95]],"merged_total":1107,"flags":["merged_cut"]}
[{"$f":"+データ一覧!O2","v":0}]
[{"$f":"+データ一覧!O5","v":0}]
[null,null,null,null,null,null,null,null,null,null,null,null,null,null,null,null,null,null,null,null,null,null,null,null,null,null,null,null,null,"【市章とそのいわれ】",null,"坂井市のイニシャル「S」と日本海をモチーフに",null,null,null,null,null,null,null,"　【位置および地勢】坂井市は、福井県の北部に位置し、南北約17km、東西約31kmに"]
[null,null,null,null,null,null,null,null,null,null,null,null,null,null,null,null,null,null,null,null,null,null,null,null,null,null,null,null,null,null,null,"デザイン化している。",null,null,null,null,null,null,null,null,"およぶ東西に長い行政区域で、面積は約210ｋ㎡となっている。",null,null,null,null,null,null,null,null,null,null,null,null,null,null,null,null,null,null,null,null,null,null,null,null,null,null,null,null,null,"所在地",null,null,null,null,null,null,null,"〒919-0592"]
[null,null,null,null,null,null,null,null,null,null,null,null,null,null,null,null,null,null,null,null,null,null,null,null,null,null,null,null,null,null,null,"豊かな自然の緑を基調として、坂井平野と",null,null,null,null,null,null,null,null,"西は日本海に面し、東は勝山市、北はあわら市および石川県、南は福井市、",null,null,null,null,null,null,null,null,null,null,null,null,null,null,null,null,null,null,null,null,null,null,null,null,null,null,null,null,null,null,null,null,null,null,null,null,null,"坂井市坂井町下新庄第1号1番地"]
[{"$f":"+データ一覧!O3","v":"さかいし"},null,null,null,null,null,null,null,null,null,null,null,null,null,null,null,null,null,null,null,null,null,null,null,null,null,null,null,null,null,null,"日本海を照らし出す太陽に明日への熱い情熱を",null,null,null,null,null,null,null,null,"永平寺町に接している。"]
[{"$f":"データ一覧!O6","v":"坂井市"},null,null,null,null,null,null,null,null,null,null,null,null,null,null,null,null,null,null,null,null,null,null,null,null,null,null,null,null,null,null,"重ねている。",null,null,null,null,null,null,null,null,"坂井市の南部を九頭竜川が、東部の森林地域を源流とする竹田川が北部を流れ、",null,null,null,null,null,null,null,null,null,null,null,null,null,null,null,null,null,null,null,null,null,null,null,null,null,null,null,null,null,"電話番号",null,null,null,null,null,null,null,"（０７７６）６６－１５００"]
[null,null,null,null,null,null,null,null,null,null,null,null,null,null,null,null,null,null,null,null,null,null,null,null,null,null,null,null,null,null,null,"主役である市民と市が一緒になって「輝く",null,null,null,null,null,null,null,null,"西部で合流し日本海に注ぎ込んでいる。中部には福井県随一の穀倉地帯である",null,null,null,null,null,null,null,null,null,null,null,null,null,null,null,null,null,null,null,null,null,null,null,null,null,null,null,null,null,"FAX番号",null,null,null,null,null,null,null,"　　〃　　　６６－４８３７"]
[null,null,null,null,null,null,null,null,null,null,null,null,null,null,null,null,null,null,null,null,null,null,null,null,null,null,null,null,null,null,null,"未来へ・・・みんなで創る希望の都市（まち）」",null,null,null,null,null,null,null,null,"広大な坂井平野が広がり、西部には砂丘地および丘陵地が広がっている。"]
[null,null,null,null,null,null,null,null,null,null,null,null,null,null,null,null,null,null,null,null,null,null,null,null,null,null,null,null,null,null,null,"を目指します。",null,null,null,null,null,null,null,null,"道路網は、東部に北陸自動車道・丸岡インターチェンジや国道３６４号、西部に",null,null,null,null,null,null,null,null,null,null,null,null,null,null,null,null,null,null,null,null,null,null,null,null,null,null,null,null,null,"最寄駅および距離",null,null,null,null,null,null,null,"ハピラインふくい線丸岡駅　下車４００ｍ"]
[null,null,null,null,null,null,null,null,null,null,null,null,null,null,null,null,null,null,null,null,null,null,null,null,null,null,null,null,null,null,null,"躍動感と力強さを表現した。",null,null,null,null,null,null,null,null,"国道３０５号、中部に国道８号、主要地方道福井金津線（嶺北縦貫線）および"]
[null,null,null,null,null,null,null,null,null,null,null,null,null,null,null,null,null,null,null,null,null,null,null,null,null,null,null,null,null,null,null,null,null,null,null,null,null,null,null,null,"主要地方道福井加賀線（芦原街道）が走るなど、主要な基幹道路は南北方向を中心に",null,null,null,null,null,null,null,null,null,null,null,null,null,null,null,null,null,null,null,null,null,null,null,null,null,null,null,null,null,"ホームページ",null,null,null,null,null,null,null,"https://www.city.fukui-sakai.lg.jp"]
[null,null,null,null,null,null,null,null,null,null,null,null,null,null,null,null,null,null,null,null,null,null,null,null,null,null,"【市が掲げる標語】 らしさ、かがやく。坂井市",null,null,null,null,null,null,null,null,null,null,null,null,null,"発達している。また、鉄道網も坂井市の中央を南北に走り、ハピラインふくい線が２駅、"]
[null,null,null,null,null,null,null,null,null,null,null,null,null,null,null,null,null,null,null,null,null,null,null,null,null,null,null,null,null,null,null,null,null,null,null,null,null,null,null,null,"えちぜん鉄道三国芦原線が９駅設置されている。"]
["  １  土            　　地",null,null,null,null,null,null,null,null,null,null,null,null,null,null,null,null,null,null,null,null,null,null,null,null,{"$f":"データ一覧!$A$240","v":"5年"},"産米収穫量",null,null,"　 収　穫　量",null,null," 　作 付 面 積",null,null,"   10a当たり収量",null,null,null,null,null,null,null,null,null,null,null,null,null,null,null,null,null,null,null,null,null,null,null,null,null,null,null,null,null,null,null," １５  労　　　　　　　働",null,null,null,null,null,null,null,null,null,null,null,null,null,null,"2.10.1"]
[null,null,null,null,null,null,null,null,null,null,null,null,null,null,null,null,null,null,null,null,null,null,null,null,null,null,null,null,null,{"$f":"データ一覧!$O$240","v":19400},null,"t",{"$f":"データ一覧!$O$241","v":3790},null,"ha",{"$f":"データ一覧!O242","v":512},null,null,"kg"," １０  工　　　　　　業 ",null,null,null,null,null,null,null,null,null,null,null,null,null,{"$f":"データ一覧!$A$332","v":"4.6.1（令和3年実績）"}]
["   総          面           積",null,null,null,null,null,null,null,null,null," 固 定 資 産 概 要 調 書 に よ る 地 目 別 面 積",null,null,null,null,null,null,null,null,null,null,null,null,null,null,null,null,null,"   総　　　数",null,null,null,"うち　　田",null,null,null,"うち　　畑",null,null,null,null,null,null,null,null,null,null,null,null,null,null,null,null,null,null,null,null,null,null,null,null,null,null,null,null,null,null,null,null,null,null,null,null,null,"産業別就業者数   "]
[null,null,{"$f":"データ一覧!$A$7","v":"6.10.1"},null,null,null,null,null,null,null,null,null,null,null,null,null,{"$f":"データ一覧!$A$9","v":"6.1.1"},null,null,null,null,null,null,null,null," 耕  地  面  積",null,null,null,"       ha",null,null,"ha ",null,null,null,"ha ",null,null,"      ","産業分類",null,null,null,null,null,null,null,"事業所数",null,null,null,null,"従業者数",null,null,null,null,null,"年間製造品出荷額等",null,null,null,null,null,null,null,null,"区  分",null,null,null,null,"総    数",null,null,null,null,"男",null,null,null,"女",null,null,"  ","区  分",null,null,null,null,"総    数",null,null,null,null,"男",null,null,null,"女"]
[null,null,null,null,null,null,"㎢",null,null,null,"   総       数",null,null,null,null,"  う ち     田",null,null,null,null,"  う ち     畑",null,null,null,null,{"$f":"データ一覧!A243","v":"5.7.15"},null,null,{"$f":"データ一覧!$O$243","v":6580},null,null,{"$f":"データ一覧!$O$244","v":5850},null,null,null,{"$f":"データ一覧!$O$245","v":731},null,null,null,null,null,null,null,null,null,null,null,null,"　　   ",null,null,"事業所",null,"　　　　　　　 人",null,null,"人",null,"　　　　　　　　　　　　　　万円",null,null,null,null,null,null,"万円",null,null,null,null,null,null,null,"      人",null,null,null,null,null," 人",null,null,null," 人",null,null,null,null,null,null,null,"      人",null,null,null,"      人",null,null,null,"      人"]
[null,null,null,{"$f":"データ一覧!O7","v":209.67},null,null,null,null,null,null,null,null,null,null,"ha",null,null,null,null,"ha",null,null,null,null,"ha","農 業 生 産 物",null,null,null,"作 付 面 積",null,null,"収 穫 量",null,null,"10a当たり収量",null,null,null,"     ","総数",null,null,null,null,null,null,null,null,{"$f":"データ一覧!O332","v":319},null,null,null,{"$f":"+データ一覧!O357","v":10388},null,null,null,null,null,null,{"$f":"データ一覧!O382","v":33486733},null,null,null,null,null,null," 総　　　数",null,null,null,null,null,{"$f":"BZ20+CD20","v":46022},null,null,null,{"$f":"データ一覧!O507","v":24404},null,null,null,{"$f":"データ一覧!O532","v":21618}]
[null,null,null,null,null,null,null,null,null,null,null,{"$f":"データ一覧!O9","v":20331.599999999999},null,null,null,null,{"$f":"データ一覧!O10","v":6033.1},null,null,null,null,{"$f":"データ一覧!O11","v":894.5},null,null,null,{"$f":"データ一覧!$A$246","v":"5年産"},null,null,null,"ha",null,null,"t",null,null,"kg",null,null,null,"     食料品","食料品",null,null,null,null,null,null,null,null,{"$f":"データ一覧!O333","v":13},null,null,null,{"$f":"+データ一覧!O358","v":356},null,null,null,null,null,null,{"$f":"データ一覧!O383","v":426840},null,null,null,null,null,null,null,null,null,null,null,null,null,null,null,null,null,null,null,null,null,null,null,null,null,"卸売業,小売業",null,null,null,null,{"$f":"CR21+CV21","v":6734},null,null,null,{"$f":"データ一覧!O520","v":3146},null,null,null,{"$f":"データ一覧!O545","v":3588}]
["  町 ･ 丁 ･ 大 字",null,null,null,null,null,null,null,null,null,"  う ち  宅 地",null,null,null,null,"  う ち  山 林",null,null,null,null,"  う ち  原 野",null,null,null,null,"水　　　　　稲",null,null,null,{"$f":"データ一覧!O246","v":3790},null,null,{"$f":"データ一覧!O247","v":19400},null,null,{"$f":"データ一覧!O248","v":512},null,null,null,"     飲料・飼料","飲料・飼料",null,null,null,null,null,null,null,null,{"$f":"データ一覧!O334","v":3},null,null,null,{"$f":"+データ一覧!O359","v":44},null,null,null,null,null,null,{"$f":"データ一覧!O384","v":47253},null,null,null,null,null,null," 第１次産業",null,null,null,null,null,{"$f":"BZ22+CD22","v":1739},null,null,null,{"$f":"データ一覧!O508","v":1141},null,null,null,{"$f":"データ一覧!O533","v":598},null,null,null,null,"金融業,保険業",null,null,null,null,{"$f":"CR22+CV22","v":965},null,null,null,{"$f":"データ一覧!O521","v":355},null,null,null,{"$f":"データ一覧!O546","v":610}]
["  区    画    数",null,null,null,null,null,null,{"$f":"データ一覧!O8","v":359},null,null,null,null,null,null,"ha",null,null,null,null,"ha",null,null,null,null,"ha","六　条　大　麦",null,null,null,{"$f":"データ一覧!O249","v":1520},null,null,{"$f":"データ一覧!O250","v":5780},null,null,{"$f":"データ一覧!O251","v":380},null,null,null,"     繊維","繊維",null,null,null,null,null,null,null,null,{"$f":"データ一覧!O335","v":109},null,null,null,{"$f":"+データ一覧!O360","v":2955},null,null,null,null,null,null,{"$f":"データ一覧!O385","v":3535484},null,null,null,null,null,null,"  ","農業",null,null,null,null,{"$f":"BZ23+CD23","v":1635},null,null,null,{"$f":"データ一覧!O509","v":1055},null,null,null,{"$f":"データ一覧!O534","v":580},null,null,null,"  ","不動産業",null,null,null,null,403,null,null,null,{"$f":"データ一覧!O522","v":226},null,null,null,{"$f":"データ一覧!O547","v":177}]
[{"$f":"データ一覧!$A$8","v":"5.4.1"},null,null,null,null,null,null,null,null,null,null,{"$f":"データ一覧!O12","v":2415.1999999999998},null,null,null,null,{"$f":"データ一覧!O13","v":5982.5},null,null,null,null,{"$f":"データ一覧!O14","v":98.1},null,null,null,"大　　      豆",null,null,null,{"$f":"データ一覧!O252","v":713},null,null,{"$f":"データ一覧!O253","v":849},null,null,{"$f":"データ一覧!O254","v":119},null,null,null,"     衣服","木材",null,null,null,null,null,null,null,null,{"$f":"データ一覧!O336","v":1},null,null,null,{"$f":"+データ一覧!O361","v":4},null,null,null,null,null,null,{"$f":"データ一覧!O386","v":"x"},null,null,null,null,null,null,"  ","林業",null,null,null,null,30,null,null,null,{"$f":"データ一覧!O510","v":25},null,null,null,{"$f":"データ一覧!O535","v":5},null,null,null,"  ","学術研究",null,null,null,null,1068,null,null,null,{"$f":"データ一覧!O523","v":640},null,null,null,{"$f":"データ一覧!O548","v":428}]
["  ２  世　帯　数　と　人　口",null,null,null,null,null,null,null,null,null,null,null,null,null,null,null,null,null,null,null,null,null,null,null,null,null,null,"  区　分",null," 乳 用 牛",null," 肉 用 牛",null,"豚",null,"採卵鶏",null,"ブロイラー",null,"     木材","家具",null,null,null,null,null,null,null,null,{"$f":"データ一覧!O337","v":6},null,null,null,{"$f":"+データ一覧!O362","v":208},null,null,null,null,null,null,{"$f":"データ一覧!O387","v":396418},null,null,null,null,null,null,"  ","漁業",null,null,null,null,74,null,null,null,{"$f":"データ一覧!O511","v":61},null,null,null,{"$f":"データ一覧!O536","v":13},null,null,null,"  ","宿泊業,飲食ｻｰﾋﾞｽ",null,null,null,null,2176,null,null,null,{"$f":"データ一覧!O524","v":749},null,null,null,{"$f":"データ一覧!O549","v":1427}]
[null,null,null,null,null,null,null,null,null,null,null,null,null,null,null,null,null,null,null,null,null,null,null,null,null,"畜　産",null," 飼養農家",null,{"$f":"データ一覧!$O$255","v":3},null,{"$f":"データ一覧!$O$257","v":16},null,{"$f":"データ一覧!$O$259","v":0},null,{"$f":"データ一覧!$O$261","v":4},null,{"$f":"データ一覧!$O$263","v":"x"},null,"     家具","パルプ・紙",null,null,null,null,null,null,null,null,{"$f":"データ一覧!O338","v":4},null,null,null,{"$f":"+データ一覧!O363","v":283},null,null,null,null,null,null,{"$f":"データ一覧!O388","v":1407382},null,null,null,null,null,null," 第２次産業",null,null,null,null,null,15592,null,null,null,{"$f":"データ一覧!O512","v":10437},null,null,null,{"$f":"データ一覧!O537","v":5155},null,null,null,"  ","生活関連ｻｰﾋﾞｽ業",null,null,null,null,1570,null,null,null,{"$f":"データ一覧!O525","v":632},null,null,null,{"$f":"データ一覧!O550","v":938}]
[null,null,null,null,null,null,null,null,"        人　　　　　　　　　　口",null,null,null,null,null,null,null,null,null,null,null,"１世帯当",null,"人    口",null,null,{"$f":"データ一覧!$A$255","v":"6.3.31"},null,"（戸）",null,null,null,null,null,null,null,null,null,null,null,"     パルプ・紙","印刷",null,null,null,null,null,null,null,null,{"$f":"データ一覧!O339","v":17},null,null,null,{"$f":"+データ一覧!O364","v":506},null,null,null,null,null,null,{"$f":"データ一覧!O389","v":848295},null,null,null,null,null,null,null,"鉱業，採石業",null,null,null,null,11,null,null,null,{"$f":"データ一覧!O513","v":9},null,null,null,{"$f":"データ一覧!O538","v":2},null,null,null,"  ","教育,学習支援業",null,null,null,null,2086,null,null,null,{"$f":"データ一覧!O526","v":775},null,null,null,{"$f":"データ一覧!O551","v":1311}]
[" 区　　　　分",null,null,null,null,"世帯数",null,null," 総   数",null,null,"    男",null,null,"    女",null,null,"  男／女",null,null,"たり人員",null,"密    度",null,null,null,null," 頭 羽",null,{"$f":"データ一覧!$O$256","v":64},null,{"$f":"データ一覧!$O$258","v":1094},null,{"$f":"データ一覧!$O$260","v":0},null,{"$f":"データ一覧!$O$262","v":476554},null,{"$f":"データ一覧!$O$264","v":16500},null,"     出版・印刷","化学",null,null,null,null,null,null,null,null,{"$f":"データ一覧!O340","v":18},null,null,null,{"$f":"+データ一覧!O365","v":644},null,null,null,null,null,null,{"$f":"データ一覧!O390","v":3254969},null,null,null,null,null,null,"  ","建設業",null,null,null,null,3857,null,null,null,{"$f":"データ一覧!O514","v":3198},null,null,null,{"$f":"データ一覧!O539","v":659},null,null,null,null,"医療，福祉",null,null,null,null,6068,null,null,null,{"$f":"データ一覧!O527","v":1238},null,null,null,{"$f":"データ一覧!O552","v":4830}]
[null,null,null,null,null,"    世 帯",null,null,"       人",null,null,"       人",null,null,"       人",null,null,null,"　　％",null,"    人",null,"    人/㎢",null,null,null,null,null,null,null,null,null,null,null,null,null,null,null,null,"     化学","石油・石炭",null,null,null,null,null,null,null,null,{"$f":"データ一覧!O341","v":1},null,null,null,{"$f":"+データ一覧!O366","v":8},null,null,null,null,null,null,{"$f":"データ一覧!O391","v":"x"},null,null,null,null,null,null,null,"製造業",null,null,null,null,11724,null,null,null,{"$f":"データ一覧!O515","v":7230},null,null,null,{"$f":"データ一覧!O540","v":4494},null,null,null,null,"複合サービス事業",null,null,null,null,581,null,null,null,{"$f":"データ一覧!O528","v":324},null,null,null,{"$f":"データ一覧!O553","v":257}]
[{"$f":"データ一覧!$A$22","v":" 2.10.1"},null,null,null,null,{"$f":"データ一覧!O22","v":21981},null,null,{"$f":"+L30+O30","v":83372},null,null,{"$f":"データ一覧!O24","v":40152},null,null,{"$f":"データ一覧!O25","v":43220},null,null,null,{"$f":"+L30/O30*100","v":92.901434521055066},null,{"$f":"データ一覧!O27","v":3.79},null,{"$f":"データ一覧!O21","v":0},null,null,"  ５  林               業",null,null,null,null,null,null,null,null,null,null,null,null,null,"     石油・石炭","プラスチック",null,null,null,null,null,null,null,null,{"$f":"データ一覧!O342","v":18},null,null,null,{"$f":"+データ一覧!O367","v":858},null,null,null,null,null,null,{"$f":"データ一覧!O392","v":1138737},null,null,null,null,null,null," 第３次産業",null,null,null,null,null,28591,null,null,null,{"$f":"データ一覧!O516","v":12782},null,null,null,{"$f":"データ一覧!O541","v":15809},null,null,null,null,"サービス業",null,null,null,null,2302,null,null,null,{"$f":"データ一覧!O529","v":1382},null,null,null,{"$f":"データ一覧!O554","v":920}]
[{"$f":"データ一覧!$A$29","v":" 7.10.1"},null,null,null,null,{"$f":"データ一覧!O29","v":23882},null,null,{"$f":"+L31+O31","v":86870},null,null,{"$f":"データ一覧!O31","v":41942},null,null,{"$f":"データ一覧!O32","v":44928},null,null,null,93.353810541310551,null,{"$f":"データ一覧!O34","v":3.64},null,{"$f":"データ一覧!O28","v":0},null,null,null,null,null,null,null,null,null,null,null,null,null,null,null,null,"     プラスチック","ゴム",null,null,null,null,null,null,null,null,{"$f":"データ一覧!O343","v":0},null,null,null,{"$f":"+データ一覧!O368","v":0},null,null,null,null,null,null,{"$f":"データ一覧!O393","v":0},null,null,null,null,null,null,null,"電気･ｶﾞｽ･水道業",null,null,null,null,206,null,null,null,{"$f":"データ一覧!O517","v":177},null,null,null,{"$f":"データ一覧!O542","v":29},null,null,null,null,"公務",null,null,null,null,1427,null,null,null,{"$f":"データ一覧!O530","v":949},null,null,null,{"$f":"データ一覧!O555","v":478}]
[{"$f":"データ一覧!$A$36","v":"12.10.1"},null,null,null,null,{"$f":"データ一覧!O36","v":26278},null,null,{"$f":"+L32+O32","v":91173},null,null,{"$f":"データ一覧!O38","v":43972},null,null,{"$f":"データ一覧!O39","v":47201},null,null,null,93.159043240609307,null,{"$f":"データ一覧!O41","v":3.47},null,{"$f":"データ一覧!O35","v":0},null,null,"    　森　　　林　　　総　　　面　　　積   ",null,null,null,null,null,null,null,{"$f":"データ一覧!$A$265","v":"5.3.31"},null,null,null,null,null,"     ゴム","皮革",null,null,null,null,null,null,null,null,{"$f":"データ一覧!O344","v":0},null,null,null,{"$f":"+データ一覧!O369","v":0},null,null,null,null,null,null,{"$f":"データ一覧!O394","v":0},null,null,null,null,null,null,null,"情報通信業",null,null,null,null,730,null,null,null,{"$f":"データ一覧!O518","v":493},null,null,null,{"$f":"データ一覧!O543","v":237},null,null,null," 分類不能の産業",null,null,null,null,null,100,null,null,null,{"$f":"データ一覧!O531","v":44},null,null,null,{"$f":"データ一覧!O556","v":56}]
[{"$f":"+データ一覧!$A$43","v":"17.10.1"},null,null,null,null,{"$f":"データ一覧!O43","v":28035},null,null,{"$f":"+L33+O33","v":92318},null,null,{"$f":"データ一覧!O45","v":44349},null,null,{"$f":"データ一覧!O46","v":47969},null,null,null,92.453459525943842,null,{"$f":"データ一覧!O48","v":3.29},null,{"$f":"データ一覧!O49","v":439.8},null,null,"　　　森　　　　　　　林　　　　　　　の　　　　　　　構　　　　　　　成",null,null,null,null,null,null,null,null,null,null,null,null,null,"     皮革","窯業・土石",null,null,null,null,null,null,null,null,{"$f":"データ一覧!O345","v":15},null,null,null,{"$f":"+データ一覧!O370","v":280},null,null,null,null,null,null,{"$f":"データ一覧!O395","v":531838},null,null,null,null,null,null,"  ","運輸業,郵便業",null,null,null,null,{"$f":"BZ33+CD33","v":2275},null,null,null,{"$f":"データ一覧!O519","v":1696},null,null,null,{"$f":"データ一覧!O544","v":579}]
[{"$f":"+データ一覧!$A$50","v":"22.10.1"},null,null,null,null,{"$f":"データ一覧!O50","v":28744},null,null,{"$f":"+L34+O34","v":91900},null,null,{"$f":"+データ一覧!O52","v":44235},null,null,{"$f":"+データ一覧!O53","v":47665},null,null,null,92.803944193852928,null,{"$f":"+データ一覧!O55","v":3.2},null,{"$f":"+データ一覧!O56","v":437.8},null,null,null,null,null,null,null,"       ha",null,null,null,null,null,null,"       ha",null,"     窯業・土石","鉄鋼",null,null,null,null,null,null,null,null,{"$f":"データ一覧!O346","v":5},null,null,null,{"$f":"+データ一覧!O371","v":53},null,null,null,null,null,null,{"$f":"データ一覧!O396","v":160346},null,null,null,null,null,null," １６  社　 会 　福　 祉",null,null,null,null,null,null,null,null,null,null,null,null,null,null,null,{"$f":"データ一覧!$A$557","v":"6.4.1"}]
[{"$f":"データ一覧!$A$57","v":"27.10.1"},null,null,null,null,{"$f":"データ一覧!O57","v":29454},null,null,{"$f":"データ一覧!O58","v":90280},null,null,{"$f":"データ一覧!O59","v":43526},null,null,{"$f":"データ一覧!O60","v":46754},null,null,null,93.09577790135603,null,{"$f":"データ一覧!O62","v":3.0651184898485773},null,{"$f":"データ一覧!O63","v":430.6},null,null,"  総　　　　　   数",null,null,null,{"$f":"データ一覧!O265","v":7362.5100000000011},null,null," 天然林       針葉樹",null,null,null,{"$f":"データ一覧!O268","v":148.91},null,null,"     鉄鋼","非鉄金属",null,null,null,null,null,null,null,null,{"$f":"データ一覧!O347","v":4},null,null,null,{"$f":"+データ一覧!O372","v":1047},null,null,null,null,null,null,{"$f":"データ一覧!O397","v":14004264}]
["令　2.10.1（国調）",null,null,null,null,{"$f":"データ一覧!O64","v":31067},null,null,{"$f":"データ一覧!O65","v":88481},null,null,{"$f":"データ一覧!O66","v":42719},null,null,{"$f":"データ一覧!O67","v":45762},null,null,null,{"$f":"+L36/O36*100","v":93.350378042917697},null,{"$f":"データ一覧!O69","v":2.8480702996748963},null,{"$f":"データ一覧!O70","v":422.00124004387851},null,null,"  人工林     針葉樹",null,null,null,{"$f":"データ一覧!O266","v":3969.34},null,null," 天然林       広葉樹",null,null,null,{"$f":"データ一覧!O269","v":3075.28},null,null,"     非鉄金属","金属",null,null,null,null,null,null,null,null,{"$f":"データ一覧!O348","v":36},null,null,null,{"$f":"+データ一覧!O373","v":785},null,null,null,null,null,null,{"$f":"データ一覧!O398","v":2304753},null,null,null,null,null,null,"    ","区分",null,null,null,null,null,null,"施設数",null,null,null,null,"収容定員",null,null,null,null,null,"区分",null,null,null,null,null,null,"施設数",null,null,null,null,"収容定員"]
["年",null,"  区",null," 0歳",null,null,"15歳",null,null,"25歳",null,null,"35歳",null,null,"45歳",null,null,"55歳",null,null,"65歳",null,null,"  人工林     広葉樹",null,null,null,{"$f":"データ一覧!O267","v":30.84},null,null," 竹               林",null,null,null,{"$f":"データ一覧!O270","v":2.64},null,null,"     金属","はん用機械",null,null,null,null,null,null,null,null,{"$f":"データ一覧!O349","v":7},null,null,null,{"$f":"+データ一覧!O374","v":393},null,null,null,null,null,null,{"$f":"データ一覧!O399","v":1144540},null,null,null,null,null,null,"生活保護施設",null,null,null,null,null,null,null,{"$f":"データ一覧!O557","v":"-"},null,null,null,{"$f":"データ一覧!O570","v":"-"},null,null,null,"人",null,"指定障害者支援施設",null,null,null,null,null,null,null,{"$f":"データ一覧!O563","v":1},null,null,null,{"$f":"データ一覧!O576","v":125},null,null,null,"人"]
["齢","令",null,null,null,"～",null,null,"～",null,null,"～",null,null,"～",null,null,"～",null,null,"～",null,null,null,null,null,null,null,null,null,null,null,null,null,null,null,null,null,null,"     一般機械","生産用機械",null,null,null,null,null,null,null,null,{"$f":"データ一覧!O350","v":35},null,null,null,{"$f":"+データ一覧!O375","v":406},null,null,null,null,null,null,{"$f":"データ一覧!O400","v":612516},null,null,null,null,null,null,"地域福祉施設",null,null,null,null,null,null,null,{"$f":"データ一覧!O558","v":"-"},null,null,null,{"$f":"データ一覧!O571","v":"-"},null,null,null,null,null,"指定相談支援事業所",null,null,null,null,null,null,null,{"$f":"データ一覧!O564","v":3},null,null,null,{"$f":"データ一覧!O577","v":"-"}]
["階",{"$f":"+LEFT(データ一覧!$A$83,1)","v":"6"},"  分",null,null,null,"14歳",null,null,"24歳",null,null,"34歳",null,null,"44歳",null,null,"54歳",null,null,"64歳",null,null,"以上","    林     野     の     構     成",null,null,null,null,null,null,"保     有     形     態     別",null,null,null,null,null,null,"     電気機械","業務用機械",null,null,null,null,null,null,null,null,{"$f":"データ一覧!O351","v":0},null,null,null,{"$f":"+データ一覧!O376","v":0},null,null,null,null,null,null,{"$f":"データ一覧!O401","v":0},null,null,null,null,null,null,"老人福祉施設",null,null,null,null,null,null,null,{"$f":"データ一覧!O559","v":19},null,null,null,{"$f":"データ一覧!O572","v":683},null,null,null,null,null,"児童福祉施設",null,null,null,null,null,null,null,{"$f":"データ一覧!O565","v":58},null,null,null,{"$f":"データ一覧!O578","v":3860}]
["級","・",null,null,null,null,"人",null,null,"人",null,"    人",null,null,"    人",null,null,"    人",null,null,"    人",null,null,"    人",null,null,null,null,null,null,null,"ha",null,null,null,null,null,"       ha",null,null,"電子・デバイス",null,null,null,null,null,null,null,null,{"$f":"データ一覧!O352","v":8},null,null,null,{"$f":"+データ一覧!O377","v":949},null,null,null,null,null,null,{"$f":"データ一覧!O402","v":2404768},null,null,null,null,null,null,"介護保険施設",null,null,null,null,null,null,null,{"$f":"データ一覧!O560","v":129},null,null,null,{"$f":"データ一覧!O573","v":2493},null,null,null,null,null,"母子福祉施設",null,null,null,null,null,null,null,{"$f":"データ一覧!O566","v":"-"},null,null,null,{"$f":"データ一覧!O579","v":"-"}]
["別",{"$f":"+MID(データ一覧!$A$83,3,2)","v":"10"},"総 数",null,{"$f":"+E42+E43","v":10449},null,null,{"$f":"+H42+H43","v":8434},null,null,{"$f":"+K42+K43","v":7416},null,null,{"$f":"+N42+N43","v":9261},null,null,{"$f":"+Q42+Q43","v":12545},null,null,{"$f":"+T42+T43","v":11318},null,null,{"$f":"+W42+W43","v":25793},null,null," 無立木地   伐採跡地",null,null,null,{"$f":"データ一覧!O271","v":2.1},null,null,"国   　　　 　 有",null,null,null,{"$f":"データ一覧!O273","v":46.34},null,null,null,"電気機械",null,null,null,null,null,null,null,null,{"$f":"データ一覧!O353","v":9},null,null,null,{"$f":"+データ一覧!O378","v":343},null,null,null,null,null,null,{"$f":"データ一覧!O403","v":583461},null,null,null,null,null,null,"障害者自立支援法施行前からの身体障害者福祉施設",null,null,null,null,null,null,null,{"$f":"データ一覧!O561","v":"-"},null,null,null,{"$f":"データ一覧!O574","v":"-"},null,null,null,null,null,"婦人保護施設",null,null,null,null,null,null,null,{"$f":"データ一覧!O567","v":"-"},null,null,null,{"$f":"データ一覧!O580","v":"-"}]
["人","・","  男",null,{"$f":"データ一覧!O83","v":5331},null,null,{"$f":"データ一覧!O84","v":4421},null,null,{"$f":"データ一覧!O85","v":3836},null,null,{"$f":"データ一覧!O86","v":4628},null,null,{"$f":"データ一覧!O87","v":6325},null,null,{"$f":"データ一覧!O88","v":5484},null,null,{"$f":"データ一覧!O89","v":11313},null,null," 無立木地   未立木地",null,null,null,{"$f":"データ一覧!O272","v":133.4},null,null,"公       　　  有",null,null,null,{"$f":"データ一覧!O274","v":1451.21},null,null,"     輸送機械","情報通信機械",null,null,null,null,null,null,null,null,{"$f":"データ一覧!O354","v":0},null,null,null,{"$f":"+データ一覧!O379","v":0},null,null,null,null,null,null,{"$f":"データ一覧!O404","v":0},null,null,null,null,null,null,null,null,null,null,null,null,null,null,null,null,null,null,null,null,null,null,null,null,"その他の社会福祉施設",null,null,null,null,null,null,null,{"$f":"データ一覧!O568+データ一覧!O569","v":1},null,null,null,0]
["口",{"$f":"+RIGHT(データ一覧!$A$83,1)","v":"1"},"  女",null,{"$f":"データ一覧!O91","v":5118},null,null,{"$f":"データ一覧!O92","v":4013},null,null,{"$f":"データ一覧!O93","v":3580},null,null,{"$f":"データ一覧!O94","v":4633},null,null,{"$f":"データ一覧!O95","v":6220},null,null,{"$f":"データ一覧!O96","v":5834},null,null,{"$f":"データ一覧!O97","v":14480},null,null,null,null,null,null,null,null,null,"私          　 有",null,null,null,{"$f":"データ一覧!O275","v":5864.96},null,null,"     精密機械","輸送機械",null,null,null,null,null,null,null,null,{"$f":"データ一覧!O355","v":1},null,null,null,{"$f":"+データ一覧!O380","v":4},null,null,null,null,null,null,{"$f":"データ一覧!O405","v":"x"},null,null,null,null,null,null,"障害福祉サービス事業所",null,null,null,null,null,null,null,{"$f":"データ一覧!O562","v":55},null,null,null,{"$f":"データ一覧!O575","v":737}]
[null,null,null,null,null,null,null,null,null,null,null,null,null,null,null,null,null,null,null,null,null,null,null,null,null,"            林     産     物     生     産     量 ",null,null,null,null,null,null,null,null,null,{"$f":"データ一覧!$A$276","v":"5年中"},null,null,null,"     その他","その他",null,null,null,null,null,null,null,null,{"$f":"データ一覧!O356","v":9},null,null,null,{"$f":"+データ一覧!O381","v":262},null,null,null,null,null,null,{"$f":"データ一覧!O406","v":600727},null,null,null,null,null,null," １７  教　　　　　　　育",null,null,null,null,null,null,null,null,null,null,null,null,null,null,null,{"$f":"データ一覧!$A$583","v":"6.5.1"}]
["人口動態",null,null,null,null,null,null,"   自　然　動　態",null,null,null,null,null,"   社  会  動  態",null,null,null,null,null,{"$f":"データ一覧!$A78","v":"5.1.1～5.12.31"},null,null,null,null,null,"生椎茸",null,null,null,{"$f":"データ一覧!O276","v":517},null,"㎏","乾椎茸",null,null,null,{"$f":"データ一覧!O277","v":0},null,"㎏"]
[null,null,"   区       分",null,null,null,null," 出   生",null,null," 死   亡",null,null," 転   入",null,null," 転   出",null,null," 婚   姻",null,null," 離   婚",null,null,"えのきだけ",null,null,null,{"$f":"データ一覧!O279","v":0},null,"㎏","なめこ",null,null,null,{"$f":"データ一覧!O278","v":21000},null,"㎏","    ","工　業　用　水　量",null,null,null,null,null,"（従業者30人以上の事業所）",null,null,null,null,null,null,null,null,null,null,{"$f":"データ一覧!O407","v":28298},null,null,null,null,"㎥／日",null,null,null,null,null,null,null,null,null,null,null,null,null,null,"学校数（校）",null,null,null,null,null,null,"教員数（人）",null,null,null,null,null,null,null,"学生・生徒・児童数（人）"]
[{"$f":"LEFT(データ一覧!$A74,6)","v":"5.10.1"},null,null,null,null,null,null,"       人",null,null,"       人",null,null,"       人",null,null,"       人",null,null,null,"    件",null,null,"    件",null,"ひらたけ",null,null,null,{"$f":"+データ一覧!O280","v":0},null,"㎏","まいたけ",null,null,null,{"$f":"+データ一覧!O281","v":0},null,"㎏",null,null,null,null,null,null,null,null,null,null,null,null,null,null,null,null,null,null,null,null,null,null,null,null,null,null,null,null,null,"　","区分",null,null,null,null,null,null,null," 本 校",null,null," 分 校",null,null," 本   務",null,null,null," 兼   務",null,null,null," 総   数",null,null,null,"男",null,null,null,"女"]
["～",null," 実          数",null,null,null,null,{"$f":"データ一覧!O74","v":527},null,null,{"$f":"データ一覧!O75","v":1151},null,null,{"$f":"データ一覧!O76","v":2854},null,null,{"$f":"データ一覧!O77","v":2811},null,null,{"$f":"データ一覧!O78","v":307},null,null,{"$f":"データ一覧!O79","v":111},null,null,null,null,null,null,null,null,null,null,null,null,null,null,null,null," １１ 　上　・　下　水　道",null,null,null,null,null,null,null,null,null,null,null,null,null,null,null,null,null,null,null,null,null,null,null,null,null,null,null,null,"小学校",null,null,null,null,null,null,null,null,{"$f":"データ一覧!O584","v":19},null,null,{"$f":"データ一覧!O585","v":0},null,null,{"$f":"データ一覧!O586","v":357},null,null,null,{"$f":"データ一覧!O587","v":43},null,null,null,{"$f":"データ一覧!O588","v":4540},null,null,null,{"$f":"データ一覧!O589","v":2291},null,null,null,{"$f":"データ一覧!O590","v":2249}]
[{"$f":"RIGHT(データ一覧!$A76,6)","v":"6.9.30"},null,"比率(対1,000人)",null,null,null,null,{"$f":"+H48/I36*1000","v":5.9560809665351888},null,null,{"$f":"+K48/I36*1000","v":13.008442490478181},null,null,"- ",null,null,"- ",null,null,{"$f":"+T48/I36*1000","v":3.4696714548886201},null,null,{"$f":"+W48/I36*1000","v":1.2545066172398593},null,null,"  ６  漁               業",null,null,null,null,null,null,null,null,null,null,null,null,null,null,null,null,null,null,null,null,null,null,null,null,null,null,null,null,null,null,null,null,null,null,null,null,null,null,null,null,null,"  ","中学校",null,null,null,null,null,null,null,null,{"$f":"データ一覧!O592","v":5},null,null,{"$f":"データ一覧!O593","v":0},null,null,{"$f":"データ一覧!O594","v":188},null,null,null,{"$f":"データ一覧!O595","v":7},null,null,null,{"$f":"データ一覧!O596","v":2428},null,null,null,{"$f":"データ一覧!O597","v":1198},null,null,null,{"$f":"データ一覧!O598","v":1230}]
[null,null,null,null,null,null,null,null,null,null,null,null,null,null,null,null,null,null,null,null,null,null,null,null,null,null,null,null,null,null,null,null,null,null,null,null,null,null,null,"水 道 供 給 人 口",null,null,null,null,null,null,"上 水 道",null,null,null,"簡易水道",null,null,null,"専用水道",null,null,null,"飲料水供給施設",null,null,null,"下水道処理人口",null,null,null,null,"  ","高等学校",null,null,null,null,null,null,null,null,{"$f":"データ一覧!O600","v":3},null,null,{"$f":"データ一覧!O601","v":0},null,null,{"$f":"データ一覧!O602","v":148},null,null,null,{"$f":"データ一覧!O603","v":47},null,null,null,{"$f":"データ一覧!O604","v":1419},null,null,null,{"$f":"データ一覧!O605","v":850},null,null,null,{"$f":"データ一覧!O606","v":569}]
["  ３  事　　業　　所（民　　営）",null,null,null,null,null,null,null,null,null,null,"3.6.1",null,null,null,null,null,null,null,null,null,null,null,null,null,"漁船隻数・トン数",null,null,null,{"$f":"データ一覧!$A$282","v":"5.12.31"},null,null,null,"動　力　船",null,null,null,null,null,{"$f":"データ一覧!$A$408","v":"6.3.31"},null,null,null,null,null,"人",null,{"$f":"データ一覧!O408","v":88634},null,null,{"$f":"データ一覧!O409","v":0},null,null,null,null,{"$f":"データ一覧!O410","v":0},null,null,null,{"$f":"データ一覧!O411","v":0},null,null,null,{"$f":"データ一覧!O412","v":88116},null,null,null,"  ","大学・短期大学",null,null,null,null,null,null,null,null,{"$f":"データ一覧!O607","v":0},null,null,{"$f":"データ一覧!O608","v":0},null,null,{"$f":"データ一覧!O609","v":0},null,null,null,{"$f":"データ一覧!O610","v":0},null,null,null,{"$f":"データ一覧!O611","v":0},null,null,null,{"$f":"データ一覧!O612","v":0},null,null,null,{"$f":"データ一覧!O613","v":0}]
[null,null,null,null,null,null,null,null,null,null,null,null,null,null,null,null,null,null,null,null,null,null,null,null,null,"無動力船隻数",null,null,null,"船外機付漁船隻数",null,null,null,"隻　数",null,null,"総 ト ン 数",null,null,null,null,null,null,null,null,null,null,null,null,null,null,null,null,null,null,null,null,null,null,null,null,null,null,null,null,null,null,"  ","高等専門学校",null,null,null,null,null,null,null,null,{"$f":"データ一覧!O614","v":0},null,null,{"$f":"データ一覧!O615","v":0},null,null,{"$f":"データ一覧!O616","v":0},null,null,null,{"$f":"データ一覧!O617","v":0},null,null,null,{"$f":"データ一覧!O618","v":0},null,null,null,{"$f":"データ一覧!O619","v":0},null,null,null,{"$f":"データ一覧!O620","v":0}]
[null,null,null,null,null,null,null,"    総　　　　　数",null,null,null,null,null,"    民　　　　　営",null,null,null,null,null,"  国 ･ 地方公共団体",null,null,null,null,null,null,null,null,"隻",null,null,null,"隻",null,null,"隻",null,null,"t"," １２  交   通　・　通   信",null,null,null,null,null,null,null,null,null,null,null,null,null,null,null,null,null,null,null,null,null,null,null,null,null,null,null,"  ","特別支援学校",null,null,null,null,null,null,null,null,{"$f":"+データ一覧!O622","v":1},null,null,{"$f":"+データ一覧!O623","v":0},null,null,{"$f":"+データ一覧!O624","v":129},null,null,null,{"$f":"+データ一覧!O625","v":9},null,null,null,{"$f":"+データ一覧!O626","v":243},null,null,null,{"$f":"+データ一覧!O627","v":163},null,null,null,{"$f":"+データ一覧!O628","v":80}]
["  　区　　　　　　分",null,null,null,null,null,null," 事業所数",null,null," 従業者数",null,null," 事業所数",null,null," 従業者数",null,null," 事業所数",null,null," 従業者数",null,null,{"$f":"データ一覧!$O$282","v":7},null,null,null,{"$f":"データ一覧!$O$283","v":62},null,null,null,{"$f":"データ一覧!O284","v":49},null,null,{"$f":"データ一覧!O285","v":543.35},null,null,null,null,null,null,null,null,null,null,null,null,null,null,null,null,null,null,null,null,null,null,null,null,null,null,null,null,null,null,"  ","幼稚園",null,null,null,null,null,null,null,null,{"$f":"データ一覧!O630","v":12},null,null,{"$f":"データ一覧!O631","v":0},null,null,{"$f":"データ一覧!O632","v":36},null,null,null,{"$f":"データ一覧!O633","v":5},null,null,null,{"$f":"データ一覧!O634","v":30},null,null,null,{"$f":"データ一覧!O635","v":22},null,null,null,{"$f":"データ一覧!O636","v":8}]
[null,null,null,null,null,null,null,null,null,null,"       人",null,null,null,null,null,"       人",null,null,null,null,null,"       人",null,null,"  男女別就業者数",null,null,null,null,null,null,null,{"$f":"データ一覧!$A$286","v":"5.11.1"},null,null,null,null,null,"道     路",null,null,null,"実 延 長",null,null,null,"国     道",null,null,null,"県     道",null,null,null,"市町道",null,null,null," 鉄 道 営 業 キ ロ 数",null,null,null,null,null,null,null,"  ","幼保連携認定こども園",null,null,null,null,null,null,null,null,{"$f":"データ一覧!O638","v":13},null,null,{"$f":"データ一覧!O639","v":0},null,null,{"$f":"データ一覧!O640","v":260},null,null,null,{"$f":"データ一覧!O641","v":54},null,null,null,{"$f":"データ一覧!O642","v":1371},null,null,null,{"$f":"データ一覧!O643","v":723},null,null,null,{"$f":"データ一覧!O644","v":648}]
["総数",null,null,null,null,null,null,{"$f":"データ一覧!O99","v":"…"},null,null,{"$f":"データ一覧!O156","v":"…"},null,null,{"$f":"データ一覧!O100","v":3592},null,null,{"$f":"データ一覧!O157","v":35608},null,null,{"$f":"データ一覧!O101","v":"…"},null,null,{"$f":"データ一覧!O158","v":"…"},null,null,"総　　数",null,null,null,null,null,"男",null,null,null,"女",null,null,null,{"$f":"データ一覧!$A$413","v":"5.4.1"},null,null,null,{"$f":"データ一覧!O413","v":999.8},null,null,"㎞",{"$f":"データ一覧!O414","v":25.3},null,null,"㎞",{"$f":"データ一覧!O415","v":183.7},null,null,"㎞",{"$f":"データ一覧!O416","v":790.8},null,null,"km",{"$f":"データ一覧!$A$417","v":"6.4.1"},null,null,null,{"$f":"データ一覧!O417","v":12.5},null,null,"㎞","  ","各種学校",null,null,null,null,null,null,null,null,{"$f":"データ一覧!O646","v":1},null,null,{"$f":"データ一覧!O647","v":0},null,null,{"$f":"データ一覧!O648","v":9},null,null,null,{"$f":"データ一覧!O649","v":0},null,null,null,{"$f":"データ一覧!O650","v":110},null,null,null,{"$f":"データ一覧!O651","v":80},null,null,null,{"$f":"データ一覧!O652","v":30}]
["農林漁業",null,null,null,null,null,null,{"$f":"データ一覧!O102","v":"…"},null,null,{"$f":"データ一覧!O159","v":"…"},null,null,{"$f":"データ一覧!O103","v":73},null,null,{"$f":"データ一覧!O160","v":752},null,null,{"$f":"データ一覧!O104","v":"…"},null,null,{"$f":"データ一覧!O161","v":"…"},null,null,null,null,null,null,null,"人",null,null,"　　　　人",null,null,null,null,"  人","自動車",null,null,null,null,null,null,null,null,"乗用車",null,null,null,null,null,null,null,null,null,null,null,null,null,null,null,null,null,null,"  ","専修学校",null,null,null,null,null,null,null,null,{"$f":"データ一覧!O654","v":1},null,null,{"$f":"データ一覧!O655","v":0},null,null,{"$f":"データ一覧!O656","v":3},null,null,null,{"$f":"データ一覧!O657","v":7},null,null,null,{"$f":"データ一覧!O658","v":67},null,null,null,{"$f":"データ一覧!O659","v":8},null,null,null,{"$f":"データ一覧!O660","v":59}]
["鉱業",null,null,null,null,null,null,{"$f":"データ一覧!O105","v":"…"},null,null,{"$f":"データ一覧!O162","v":"…"},null,null,{"$f":"データ一覧!O106","v":1},null,null,{"$f":"データ一覧!O163","v":1},null,null,{"$f":"データ一覧!O107","v":"…"},null,null,{"$f":"データ一覧!O164","v":"…"},null,null,{"$f":"データ一覧!O286","v":79},null,null,null,null,null,{"$f":"データ一覧!$O$287","v":0},null,null,null,{"$f":"データ一覧!O288","v":0},null,null,null,"台  数",null,null,null,"貨    物",null,null,null,"普     通",null,null,null,"小     型",null,null,null,"乗  合",null,null,"特  種",null,null,"小型二輪",null,null,"軽自動車",null,null," １８  衛　　　　　　　生"]
["建設業",null,null,null,null,null,null,{"$f":"データ一覧!O108","v":"…"},null,null,{"$f":"データ一覧!O165","v":"…"},null,null,{"$f":"データ一覧!O109","v":414},null,null,{"$f":"データ一覧!O166","v":2610},null,null,{"$f":"データ一覧!O110","v":"…"},null,null,{"$f":"データ一覧!O167","v":"…"},null,null,"　　　　海 面 漁 業 漁 獲 量 （属人）",null,null,null,null,null,null,null,{"$f":"データ一覧!$A$289","v":"30年中"},null,null,null,null,null,{"$f":"データ一覧!$A$418","v":"6.3.31"},null,null,null,null,{"$f":"データ一覧!O418","v":5016},null,null,null,{"$f":"データ一覧!O420","v":19236},null,null,null,{"$f":"データ一覧!O421","v":17240},null,null,{"$f":"データ一覧!O419","v":135},null,null,{"$f":"データ一覧!O422","v":1566},null,null,{"$f":"データ一覧!O423","v":1241},null,null,{"$f":"データ一覧!O424","v":33660}]
["製造業",null,null,null,null,null,null,{"$f":"データ一覧!O111","v":"…"},null,null,{"$f":"データ一覧!O168","v":"…"},null,null,{"$f":"データ一覧!O112","v":575},null,null,{"$f":"データ一覧!O169","v":11064},null,null,{"$f":"データ一覧!O113","v":"…"},null,null,{"$f":"データ一覧!O170","v":"…"},null,null,null,null,null,null,null,"       ","ｔ",null,null,null,null,null,null,"t",null,null,"     ",null,"郵　便　局　数",null,null,null,null,null,null,null,null,null,null,null,null,null,{"$f":"+MID(データ一覧!$A$428,3,2)","v":"3."},"令","一般加入",null,null,null,"ＩＮＳネット",null,null,null,null,null,null,null,"医療関係施設",null,null,null,null,null,{"$f":"データ一覧!$A$661","v":"5.10.1"},null,null,null,null,null,null,"および医療関係者数",null,null,null,null,null,null,null,{"$f":"データ一覧!$A$666","v":"4.12.31"}]
["電気・ｶﾞ ｽ・熱供給・水道業",null,null,null,null,null,null,{"$f":"データ一覧!O114","v":"…"},null,null,{"$f":"データ一覧!O171","v":"…"},null,null,{"$f":"データ一覧!O115","v":7},null,null,{"$f":"データ一覧!O172","v":124},null,null,{"$f":"データ一覧!O116","v":"…"},null,null,{"$f":"データ一覧!O173","v":"…"},null,null,"   総　　　　　　数",null,null,null,{"$f":"データ一覧!O289","v":507},null,null,"   藻　　　　　　類",null,null,null,{"$f":"データ一覧!O292","v":4},null,null,"通  信",null,null,null," 総     数",null,null,null,null," 郵 便 局",null,null,null,null," 簡 易 局",null,null,null,"・",{"$f":"+LEFT(データ一覧!$A$428,1)","v":"6"},"電話数",null,null,null,"加入数",null,null,null,null,null,null,null,null,null,"　","病",null,null,"院",null,"　",null,null,null,null," ","一般診療所",null,null,null,null,null,null,null,null,null,null,null,"歯科診療所"]
["情報通信業",null,null,null,null,null,null,{"$f":"データ一覧!O117","v":"…"},null,null,{"$f":"データ一覧!O174","v":"…"},null,null,{"$f":"データ一覧!O118","v":42},null,null,{"$f":"データ一覧!O175","v":914},null,null,{"$f":"データ一覧!O119","v":"…"},null,null,{"$f":"データ一覧!O176","v":"…"},null,null,"   魚　　　　　　類",null,null,null,{"$f":"データ一覧!O290","v":94},null,null,"   そ　   の　　 他",null,null,null,{"$f":"データ一覧!O293","v":389},null,null,{"$f":"データ一覧!$A$428","v":"6.3.31"},null,null,null,{"$f":"データ一覧!O425","v":21},null,null,null,null,{"$f":"データ一覧!O426","v":17},null,null,null,null,{"$f":"データ一覧!O427","v":4},null,null,null,{"$f":"+RIGHT(データ一覧!$A$428,2)","v":"31"},"・",{"$f":"データ一覧!O428","v":4489},null,null,null,{"$f":"データ一覧!O429","v":588},null,null,null," ","医療関係",null,null,null,null,null,null,null,null,null,null,null,"一般病院",null,null,null,null,null,null,null,null,null,null,null,"有",null,null,"床"]
["運輸業、郵便業",null,null,null,null,null,null,{"$f":"データ一覧!O120","v":"…"},null,null,{"$f":"データ一覧!O177","v":"…"},null,null,{"$f":"データ一覧!O121","v":115},null,null,{"$f":"データ一覧!O178","v":2000},null,null,{"$f":"データ一覧!O122","v":"…"},null,null,{"$f":"データ一覧!O179","v":"…"},null,null,"   貝　　　　　　類",null,null,null,{"$f":"データ一覧!O291","v":20},null,null,null,null,null,null,null,null,null,null,null,null,null,null,null,null,null,null,null,null,null,null,null,null,null,null,null,null,null,null,null,null,null,null,null,null,null,null,"施設数",null,null,null,null,null,null,{"$f":"データ一覧!O661","v":4},null,null,null,null,null,{"$f":"データ一覧!O662","v":4},null,null,null,null,null,{"$f":"データ一覧!O663","v":47},null,null,null,null,null,{"$f":"データ一覧!O664","v":2},null,null,null,null,null,{"$f":"データ一覧!O665","v":25}]
["卸売業、小売業",null,null,null,null,null,null,{"$f":"データ一覧!O123","v":"…"},null,null,{"$f":"データ一覧!O180","v":"…"},null,null,{"$f":"データ一覧!O124","v":880},null,null,{"$f":"データ一覧!O181","v":6852},null,null,{"$f":"データ一覧!O125","v":"…"},null,null,{"$f":"データ一覧!O182","v":"…"},null,null,null,null,null,null,null,null,null,null,null,null,null,null,null,null," １３  税　　・　　財　　政",null,null,null,null,null,null,null,null,null,null,null,null,null,null,null,null,null,null,null,null,null,null,null,null,null,null,null,null,null,null,null,null,null,null,"医師",null,null,null,null,"歯科医師",null,null,null,null,"薬剤師",null,null,null,null,"保健師",null,null,null,null,"助産師",null,null," ",null,"看護師",null,null," "]
["金融業、保険業",null,null,null,null,null,null,{"$f":"データ一覧!O126","v":"…"},null,null,{"$f":"データ一覧!O183","v":"…"},null,null,{"$f":"データ一覧!O127","v":39},null,null,{"$f":"データ一覧!O184","v":489},null,null,{"$f":"データ一覧!O128","v":"…"},null,null,{"$f":"データ一覧!O185","v":"…"},null,null,"  ７  商        　　　業 ",null,null,null,null,null,null,{"$f":"データ一覧!$A$294","v":"3.6.1(令和2年実績）"},null,null,null,null,null,null,null,null,null,null,null,null,null,null,null,null,null,null,null,null,null,null,null,null,null,null,null,null,null,null,null,null,null,null," ","医療",null,null,null,null,null,null,null,null,"人",null,null,null,null,"人",null,null,null,null,"人",null,null,null,null,"人",null,null,null,null,"人",null,null,null,null,"人"]
["不動産業、物品賃貸業",null,null,null,null,null,null,{"$f":"データ一覧!O129","v":"…"},null,null,{"$f":"データ一覧!O186","v":"…"},null,null,{"$f":"データ一覧!O130","v":83},null,null,{"$f":"データ一覧!O187","v":246},null,null,{"$f":"データ一覧!O131","v":"…"},null,null,{"$f":"データ一覧!O188","v":"…"},null,null,null,null,null,null,null,null,null,null,null,null,null,null,null,null,"           ",null,null,null,"歳入",null,null,null,null,null,null,null,null,"(千円）"," ",null,null,null,"歳出",null,null,null,null,null,null,null,null,"(千円）",null,"関係者",null,null,null,null,{"$f":"データ一覧!O666","v":81},null,null,null,null,{"$f":"データ一覧!O667","v":33},null,null,null,null,{"$f":"データ一覧!O668","v":108},null,null,null,null,{"$f":"データ一覧!O669","v":37},null,null,null,null,{"$f":"データ一覧!O670","v":5},null,null,null,null,{"$f":"データ一覧!O671","v":726}]
["学術研究、専門・技術ｻｰﾋﾞｽ業",null,null,null,null,null,null,{"$f":"データ一覧!O132","v":"…"},null,null,{"$f":"データ一覧!O189","v":"…"},null,null,{"$f":"データ一覧!O133","v":125},null,null,{"$f":"データ一覧!O190","v":1018},null,null,{"$f":"データ一覧!O134","v":"…"},null,null,{"$f":"データ一覧!O191","v":"…"},null,null,"  産   業　 分　 類",null,null,null," 事　業　所　数",null,null," 従　業　者　数",null,null,"年　間　販　売　額",null,null,null,"一人当たり歳入歳出予算決算額",null,null,null,null,null,null,null,null,null,null,null,null,null,null,null,null,null,null,null,null,null,null,null,null,null,null,null,"                   ",null,null,null,null,null,null,null,null,"死因別死亡数　　　　　　    ",null,null,null,null,null,null,null,null,null,null,null,null,null,null,null,{"$f":"データ一覧!$A$672","v":"5年中"},null,null,null,null,null,null,null,null,"      単 位：人"]
["宿泊業、飲食サービス業",null,null,null,null,null,null,{"$f":"データ一覧!O135","v":"…"},null,null,{"$f":"データ一覧!O192","v":"…"},null,null,{"$f":"データ一覧!O136","v":338},null,null,{"$f":"データ一覧!O193","v":2287},null,null,{"$f":"データ一覧!O137","v":"…"},null,null,{"$f":"データ一覧!O194","v":"…"},null,null,null,null,null,null,null,null,null,null,null,"　人",null,"         百万円",null,null,"区分",null,null,null,{"$f":"データ一覧!$A$438","v":"6年度"},null,null,null,null,{"$f":"データ一覧!$A$452","v":"5年度"},null,null,null,null,"区分",null,null,null,{"$f":"+AR68","v":"6年度"},null,null,null,null,{"$f":"データ一覧!$A$452","v":"5年度"},null,null,null,null," 死     因",null,null,null,null,null,null,null,null,null,null,null,"悪  性",null,null,"高血圧",null,null,null,null,null,"脳血管",null,null,null,null,null," ",null,null,"不慮の事故"]
["生活関連サービス業、娯楽業",null,null,null,null,null,null,{"$f":"データ一覧!O138","v":"…"},null,null,{"$f":"データ一覧!O195","v":"…"},null,null,{"$f":"データ一覧!O139","v":303},null,null,{"$f":"データ一覧!O196","v":1105},null,null,{"$f":"データ一覧!O140","v":"…"},null,null,{"$f":"データ一覧!O197","v":"…"},null,null,"総　　　　　　計",null,null,null,{"$f":"データ一覧!O294","v":771},null,null,{"$f":"データ一覧!O303","v":5504},null,null,{"$f":"データ一覧!O312","v":131440},null,null,null,null,null,null,null,{"$f":"データ一覧!O434","v":520976.46087856143},null,null,null,null,{"$f":"データ一覧!O435","v":591304.5215222612},null,null,null,null,null,null,null,null,{"$f":"データ一覧!O436","v":520976.46087856143},null,null,null,null,{"$f":"データ一覧!O437","v":577871.22436726396},null,null,null,null,null,null,null,null,null,"全 死 因",null,null,null,"結 核",null,null,"新生物",null,null,"性疾患",null,null,"心疾患",null,null,"疾  患",null,null,"肺  炎",null,null,"老  衰",null,null,null,null," ","交通事故"]
["教育、学習支援業",null,null,null,null,null,null,{"$f":"データ一覧!O141","v":"…"},null,null,{"$f":"データ一覧!O198","v":"…"},null,null,{"$f":"データ一覧!O142","v":86},null,null,{"$f":"データ一覧!O199","v":445},null,null,{"$f":"データ一覧!O143","v":"…"},null,null,{"$f":"データ一覧!O200","v":"…"},null,null,"卸売業",null,null,null,{"$f":"データ一覧!O295","v":142},null,null,{"$f":"データ一覧!O304","v":1349},null,null,{"$f":"データ一覧!O313","v":58610},null,null,null,"項目別歳入歳出予算決算額"]
["医療、福祉",null,null,null,null,null,null,{"$f":"データ一覧!O144","v":"…"},null,null,{"$f":"データ一覧!O201","v":"…"},null,null,{"$f":"データ一覧!O145","v":209},null,null,{"$f":"データ一覧!O202","v":3597},null,null,{"$f":"データ一覧!O146","v":"…"},null,null,{"$f":"データ一覧!O203","v":"…"},null,null,"小売業",null,null,null,{"$f":"データ一覧!O296","v":629},null,null,{"$f":"データ一覧!O305","v":4155},null,null,{"$f":"データ一覧!O314","v":72830},null,null,null,"区分",null,null,null,{"$f":"データ一覧!$A$438","v":"6年度"},null,null,null,null,{"$f":"データ一覧!$A$452","v":"5年度"},null,null,null,null,"区分",null,null,null,{"$f":"+AR71","v":"6年度"},null,null,null,null,{"$f":"データ一覧!$A$452","v":"5年度"},null,null,null,null,null,null,null,null,null,{"$f":"データ一覧!O672","v":1165},null,null,null,"   －",{"$f":"データ一覧!O673","v":"-"},null,{"$f":"データ一覧!O674","v":297},null,null,null,{"$f":"データ一覧!O675","v":12},null,{"$f":"データ一覧!O676","v":148},null,null,{"$f":"データ一覧!O677","v":69},null,null,{"$f":"データ一覧!O678","v":87},null,null,{"$f":"データ一覧!O679","v":126},null,null,{"$f":"データ一覧!O680","v":35},null,null,{"$f":"データ一覧!O681","v":3}]
["複合サービス事業",null,null,null,null,null,null,{"$f":"データ一覧!O147","v":"…"},null,null,{"$f":"データ一覧!O204","v":"…"},null,null,{"$f":"データ一覧!O148","v":33},null,null,{"$f":"データ一覧!O205","v":739},null,null,{"$f":"データ一覧!O149","v":"…"},null,null,{"$f":"データ一覧!O206","v":"…"},null,null,"各種商品",null,null,null,{"$f":"データ一覧!O297","v":2},null,null,{"$f":"データ一覧!O306","v":308},null,null,{"$f":"データ一覧!O315","v":"x"},null,null,null,"総額",null,null,null,{"$f":"SUM(AR73:AV85)","v":44818042},null,null,null,null,{"$f":"SUM(AW73:BA85)","v":51211702},null,null,null,null,"総額",null,null,null,{"$f":"SUM(BF73:BJ85)","v":44818042},null,null,null,null,{"$f":"SUM(BK73:BO85)","v":50048271},null,null,null,null," １９  警　察　・　消　防  ",null,null,null,null,null,null,null,null,null,null,null,null,null,null,null,{"$f":"+データ一覧!$A682","v":"6.4.1"}]
["サービス業",null,null,null,null,null,null,{"$f":"データ一覧!O150","v":"…"},null,null,{"$f":"データ一覧!O207","v":"…"},null,null,{"$f":"データ一覧!O151","v":269},null,null,{"$f":"データ一覧!O208","v":1365},null,null,{"$f":"データ一覧!O152","v":"…"},null,null,{"$f":"データ一覧!O209","v":"…"},null,null,"織物・衣服・身の回り品",null,null,null,{"$f":"データ一覧!O298","v":65},null,null,{"$f":"データ一覧!O307","v":176},null,null,{"$f":"データ一覧!O316","v":1524},null,null,null,"地方税",null,null,null,{"$f":"データ一覧!O439","v":12220000},null,null,null,null,{"$f":"データ一覧!O453","v":12982257},null,null,null,null,"議会費",null,null,null,{"$f":"データ一覧!O467","v":264300},null,null,null,null,{"$f":"データ一覧!O481","v":252791}]
["公務",null,null,null,null,null,null,{"$f":"データ一覧!O153","v":"…"},null,null,{"$f":"データ一覧!O210","v":"…"},null,null,{"$f":"データ一覧!O154","v":"…"},null,null,{"$f":"データ一覧!O211","v":"…"},null,null,{"$f":"データ一覧!O155","v":"…"},null,null,{"$f":"データ一覧!O212","v":"…"},null,null,"飲食料品",null,null,null,{"$f":"データ一覧!O299","v":203},null,null,{"$f":"データ一覧!O308","v":1598},null,null,{"$f":"データ一覧!O317","v":23702},null,null,null,"地方譲与税",null,null,null,{"$f":"データ一覧!O440","v":344700},null,null,null,null,{"$f":"データ一覧!O454","v":340432},null,null,null,null,"総務費",null,null,null,{"$f":"データ一覧!O468","v":7166242},null,null,null,null,{"$f":"データ一覧!O482","v":9974914},null,null,null,null,null,null,null,null,null,null,null,null,null,null,"交番・駐在所",null,null,null,null,null,null,null,null,"刑法犯認知件数",null,null,null,null,null,null,null,null,"交通人身事故発生件数"]
["  ４  農        　　　業 ",null,null,null,null,null,null,null,null,null,null,null,null,null,null,null,null,null,null,null,null,null,null,null,null,"機械器具",null,null,null,{"$f":"データ一覧!O300","v":97},null,null,{"$f":"データ一覧!O309","v":512},null,null,{"$f":"データ一覧!O318","v":12068},null,null,null,"各種交付金",null,null,null,{"$f":"データ一覧!O441","v":2749000},null,null,null,null,{"$f":"データ一覧!O455","v":2640583},null,null,null,null,"民生費",null,null,null,{"$f":"データ一覧!O469","v":15275774},null,null,null,null,{"$f":"データ一覧!O483","v":15947980},null,null,null,null,null,"警察署数",null,null,null,null,null,null,null,null,"検問所数",null,null,null,null,null,null,null,null,null,{"$f":"データ一覧!$A$684","v":"5年中"},null,null,null,null,null,null,null,null,{"$f":"データ一覧!$A$684","v":"5年中"}]
[null,null,null,null,null,null,null,null,null,null,null,null,null,null,null,null,null,null,null,null,null,null,null,null,null,"その他",null,null,null,{"$f":"データ一覧!O301","v":236},null,null,{"$f":"データ一覧!O310","v":1294},null,null,{"$f":"データ一覧!O319","v":"x"},null,null,null,"地方特例交付金",null,null,null,{"$f":"データ一覧!O442","v":487000},null,null,null,null,{"$f":"データ一覧!O456","v":148855},null,null,null,null,"衛生費",null,null,null,{"$f":"データ一覧!O470","v":2618985},null,null,null,null,{"$f":"データ一覧!O484","v":3002441},null,null,null,null,null,null,null,null,null,null,null,null,null,null,null,null,null,null,null,null,null,null,null,null,null,null,null,null," 件",null,null,null,null,null,null,null,null,"　件"]
[null,null,"農業経営体数",null,null,null,null,null,null,"農産物販売額規模別経営体数",null,null,null,null,null,null,null,"経営耕地面積規模別経営体数",null,null,null,null,null,null,null,"無店舗",null,null,null,{"$f":"データ一覧!O302","v":26},null,null,{"$f":"データ一覧!O311","v":267},null,null,{"$f":"データ一覧!O320","v":1745},null,null,null,"地方交付税",null,null,null,{"$f":"データ一覧!O443","v":8500000},null,null,null,null,{"$f":"データ一覧!O457","v":9237634},null,null,null,null,"労働費",null,null,null,{"$f":"データ一覧!O471","v":63218},null,null,null,null,{"$f":"データ一覧!O485","v":53507},null,null,null,null,null,null,{"$f":"データ一覧!O682","v":2},null,null,null,null,null,null,null,null,{"$f":"データ一覧!O683","v":12},null,null,null,null,null,null,null,null,{"$f":"データ一覧!O684","v":271},null,null,null,null,null,null,null,null,{"$f":"データ一覧!O685","v":95}]
["農",null,"区　分",null,null,null,"経営体数\n（経営体）",null,null,"区　分",null,null,null,null,"経営体数\n（経営体）",null,null,"区　分",null,null,null,null,"経営体数\n（経営体）",null,null,null,null,null,null,null,null,null,null,null,null,null,null,null,null,"分担金および負担金",null,null,null,{"$f":"データ一覧!O444","v":398362},null,null,null,null,{"$f":"データ一覧!O458","v":361326},null,null,null,null,"農林水産業費",null,null,null,{"$f":"データ一覧!O472","v":2348070},null,null,null,null,{"$f":"データ一覧!O486","v":2366368},null,null,null,null,"火災発生件数",null,null,null,null,null,null,null,null,null,"林野焼損",null,null,null,null,"損      害",null,null,null,null,"消 防 自",null,null,null,"その他の",null,null,null," ",null,null,null,null," "]
["業","令",null,null,null,null,null,null,null,null,null,null,null,null,null,null,null,null,null,null,null,null,null,null,null,"  ８  住　　　　　　 　宅",null,null,null,null,null,null,null,null,null,null,null,null,null,"使用料および手数料",null,null,null,{"$f":"データ一覧!O445","v":493894},null,null,null,null,{"$f":"データ一覧!O459","v":490734},null,null,null,null,"商工費",null,null,null,{"$f":"データ一覧!O473","v":3614202},null,null,null,null,{"$f":"データ一覧!O487","v":2280189},null,null,null,null,{"$f":"+データ一覧!$A$686","v":"5年中"},null,null,null,null,"焼損棟数",null,null,null,null,"面    積",null,null,null,null,"見  積  額",null,null,null,null,"動 車 数",null,null,null,"ﾎﾟﾝﾌﾟ数",null,null,null," 消防吏員",null,null,null," 消防団員"]
["経",{"$f":"+LEFT(データ一覧!$A$213)","v":"2"},"計",null,null,null,{"$f":"データ一覧!O213","v":1454},null,null,"総　　　 数",null,null,null,null,{"$f":"データ一覧!O217","v":1454},null,null,"総　　　 数",null,null,null,null,{"$f":"データ一覧!O233","v":5920},null,null,null,null,null,null,null,null,null,null,null,null,null,null,null,null,"国庫支出金",null,null,null,{"$f":"データ一覧!O446","v":5047940},null,null,null,null,{"$f":"データ一覧!O460","v":6774159},null,null,null,null,"土木費",null,null,null,{"$f":"データ一覧!O474","v":2758534},null,null,null,null,{"$f":"データ一覧!O488","v":4247737},null,null,null,null,"         件",null,null,null,null,null,"      棟",null,null,null,null,null,null,"  ａ",null,null,null,"  千円",null,null,"        ",null,null,null,null,null,null,null,null,null,"  人",null,null,null,"  人"]
["営","・","個人経営体",null,null,null,{"$f":"データ一覧!O214","v":1316},null,null,"販 売 な し",null,null,null,null,{"$f":"データ一覧!O218","v":29},null,null,"0.5 ha 未満",null,null,null,null,{"$f":"データ一覧!O234","v":55},null,null,{"$f":"+データ一覧!$A$321","v":"4年"},null,null,null,null,{"$f":"データ一覧!$A$324","v":"5年"},"中の増減",null,null,null,{"$f":"+データ一覧!$A$324","v":"5年"},null,null,null,"県支出金",null,null,null,{"$f":"データ一覧!O447","v":4345977},null,null,null,null,{"$f":"データ一覧!O461","v":3911509},null,null,null,null,"消防費",null,null,null,{"$f":"データ一覧!O475","v":1726749},null,null,null,null,{"$f":"データ一覧!O489","v":1658349},null,null,null,null,null,{"$f":"データ一覧!O686","v":24},null,null,null,null,{"$f":"データ一覧!O687","v":33},null,null,null,null,{"$f":"データ一覧!O688","v":0},null,null,null,{"$f":"データ一覧!O689","v":520569},null,null,null,null,null,{"$f":"データ一覧!O690","v":48},null,null,null,{"$f":"データ一覧!O691","v":36},null,null,null,{"$f":"データ一覧!O692","v":157},null,null,null,{"$f":"データ一覧!O693","v":454}]
["体",{"$f":"+LEFT(データ一覧!$A$213,1)","v":"2"},"団体経営体",null,null,null,{"$f":"データ一覧!O215","v":138},null,null,"50万円未満",null,null,null,null,{"$f":"データ一覧!O219","v":319},null,null,"0.5 ha ～ 1.0 ha",null,null,null,null,{"$f":"データ一覧!O235","v":230},null,null,null,null,null,null,"建設した住宅",null,null,"消失した住宅",null,null,null,null,null,null,"財産収入",null,null,null,{"$f":"データ一覧!O448","v":155661},null,null,null,null,{"$f":"データ一覧!O462","v":167600},null,null,null,null,"教育費",null,null,null,{"$f":"データ一覧!O476","v":4413138},null,null,null,null,{"$f":"データ一覧!O490","v":5855987},null,null,null,null," ２０  そ　　　の　　　他　"]
["数","・",null,"法人経営",null,null,{"$f":"データ一覧!O216","v":54},null,null,"50～300万円",null,null,null,null,{"$f":"データ一覧!O220","v":778},null,null,"1.0 ha ～ 2.0 ha",null,null,null,null,{"$f":"データ一覧!O236","v":711},null,null,null,null,null,null,null,null,null,null,null,null,null,null,null,null,"繰入金",null,null,null,{"$f":"データ一覧!O449","v":5306941},null,null,null,null,{"$f":"データ一覧!O463","v":3112520},null,null,null,null,"災害復旧費",null,null,null,{"$f":"データ一覧!O477","v":0},null,null,null,null,{"$f":"データ一覧!O491","v":7062}]
["（",{"$f":"+RIGHT(データ一覧!$A$213)","v":"1"},null,null,null,null,null,null,null,"300～500万円",null,null,null,null,{"$f":"データ一覧!O221","v":103},null,null,"2.0 ha ～ 3.0 ha",null,null,null,null,{"$f":"データ一覧!O237","v":431},null,null,null,{"$f":"データ一覧!O321","v":32716},null,"棟",{"$f":"データ一覧!O322","v":377},null,"棟",{"$f":"データ一覧!O323","v":280},null,"棟",null,{"$f":"データ一覧!O324","v":32813},null,"棟","地方債",null,null,null,{"$f":"データ一覧!O450","v":1872300},null,null,null,null,{"$f":"データ一覧!O464","v":2547045},null,null,null,null,"公債費",null,null,null,{"$f":"データ一覧!O478","v":4558830},null,null,null,null,{"$f":"データ一覧!O492","v":4400946},null,null,null,null,null,null,null,null,null,"越前加賀海岸国定公園（東尋坊、雄島、越前松島）、瀧谷寺の金銅宝相華文磬、三国港突堤、三國神社、龍翔博物館、丸岡城、坪川家住宅、六呂瀬山古墳群、新田義貞公墓所、中野重治記念文庫、竹田水車メロディーパーク、一筆啓上 日本一短い手紙の館、藤鷲塚のフジ、エンゼルランドふくい、文化の森、ゆりの里公園、大善寺の金剛孔雀文磬、春日神社の黒仏"]
["総",null,null,null,null,null,null,null,null,"500～1,000万円",null,null,null,null,{"$f":"データ一覧!O222","v":100},null,null,"3.0 ha ～ 5.0 ha",null,null,null,null,{"$f":"データ一覧!O238","v":333},null,null,null,null,null,null,null,null,null,null,null,null,null,null,null,null,"その他",null,null,null,{"$f":"データ一覧!O451","v":2896267},null,null,null,null,{"$f":"データ一覧!O465","v":8497048},null,null,null,null,"その他",null,null,null,{"$f":"データ一覧!O479","v":10000},null,null,null,null,{"$f":"データ一覧!O493","v":0},null,null,null,null,"　名所・旧跡"]
["数",null,null,null,null,null,null,null,null,"1,000万円以上",null,null,null,null,{"$f":"データ一覧!O223","v":125},null,null,"5.0 ha以上",null,null,null,null,{"$f":"データ一覧!O239","v":4161},null,null,null,null,null,null,null,null,null,null,null,null,null,null,null,null,null,null,null,null,null,null,null,null,null,null,null,null,null,null,null,null,null,null,null,null,null,null,null,null,null,null,null,null,"  文化財等"]
["）",null,"15歳以上の常雇い数",null,null,null,null,null,null,"農業に60日以上従事した世帯員、役員・構成員\n（経営主を含む）の平均年齢",null,null,null,null,null,null,null,null,null,null,null,null,null,null,null,"  ９  議　 員　・　職 　員",null,null,null,null,null,null,null,null,null,null,null,null,null," １４  文　　　化",null,null,null,null,null,null,null," ( ",{"$f":"\"令\"&データ一覧!$A$498","v":"令6.3.31"},null,null,"ただし図書館・公民館・児童館・ 社会教育学級講座",null,null,null,null,null,null,null,null,null,null,null,{"$f":"データ一覧!$A$494","v":"6.4.1"}]
["と",null,null,null,null,null,null,null,null,null,null,null,null,null,null,null,null,null,null,null,null,null,null,null,null,null,null,null,null,null,null,null,null,null,null,null,null,null,null,null,null,null,null,null,null,null,null,null,null,null,null,null,"　宗教法人数 ",null,null,null,null,null,null,null,null,null,null,{"$f":"データ一覧!$A$502","v":"5.12.31"}]
["就",null,null,null,null,null,null,null,null,"農業に60日以上従事",null,null,null,null,null,null,null,"農業に150日以上従事",null,null,null,null,null,null,null," 市 町 議 会",null,null,"有権者数",null,{"$f":"データ一覧!$A$328","v":"6.9.1"},null,"市 町 議 会",null,null,"  職      員      数",null,null,null,null,null,null,null,null,"図書館",null,null,null,null,null,"公　民　館",null,null,null,null,null,null,null,null,null,null," 社会教育学級講座",null,null,null,null,null,"　　特産物",null,null,null,null,"越前がに、甘えび、もみわかめ、酒まんじゅう、焼き鯖寿司、花らっきょ、若狭牛、"]
["業",null,"区分",null,null,null,"人",null,null,"区分",null,null,null,null,"歳",null,null,"区　　分",null,null,null,null,"歳",null,null," 議  員  定  数",null,null,"    男",null,"    女",null,"選 挙 投 票 率",null,null," 総     数",null,"一般行政職",null,"公    共",null,null,null," 館  数",null,null," 図書数",null,null," 本  館",null,null," 分  館",null,null," 公  園",null,null," 児童館",null,null,"学級講座数",null,null,"受講者数",null,null,null,null,null,null,null,"丸岡産おろしそば、地酒、竹田の油揚げ、コシヒカリ、織ネーム、越前竹人形"]
["状",null,"総数",null,null,null,{"$f":"データ一覧!O230","v":154},null,null,"総数",null,null,null,null,{"$f":"データ一覧!O224","v":66.8},null,null,"総数",null,null,null,null,{"$f":"データ一覧!O227","v":66.400000000000006},null,null,null,null,"人",null,"人",null,"人",null,null,"　％",null,"人",null,"人","施 設 数",null,null,null,null,{"$f":"データ一覧!O494","v":4},null,{"$f":"データ一覧!O495","v":639589},null,null,null,{"$f":"データ一覧!O496","v":23},null,{"$f":"データ一覧!O497","v":3},null,null,{"$f":"データ一覧!O498","v":81},null,null,{"$f":"データ一覧!O499","v":11},null,null,{"$f":"データ一覧!O500","v":364},null,null,{"$f":"データ一覧!O501","v":14950},null,null," 　年中行事",null,null,null,null,"三国祭、三国花火大会、三國湊帯のまち流し、丸岡城桜まつり、丸岡古城まつり、"]
["況",null,"男",null,null,null,{"$f":"データ一覧!O231","v":109},null,null,"男",null,null,null,null,{"$f":"データ一覧!O225","v":66.2},null,null,"男",null,null,null,null,{"$f":"データ一覧!O228","v":66},null,null,null,{"$f":"データ一覧!O325","v":24},null,{"$f":"データ一覧!O328","v":35372},null,{"$f":"データ一覧!O329","v":38034},null,{"$f":"データ一覧!O327","v":54.63},null,null,{"$f":"データ一覧!O330","v":815},null,{"$f":"データ一覧!O331","v":389},null,"宗    教",null,null,null," 仏教系",null,null,"ｷﾘｽﾄ教系",null,null,"神道諸派",null,null,"公会堂・市民会館",null,null,null,null,null," テレビ",null,null,"衛星放送契約数",null,null,null,null,null,null,null,null,null,null,"丸岡新そばまつり、坂井市古城マラソン、ゆりフェスタ、"]
[null,null,"女",null,null,null,{"$f":"データ一覧!O232","v":45},null,null,"女",null,null,null,null,{"$f":"データ一覧!O226","v":68.3},null,null,"女",null,null,null,null,{"$f":"データ一覧!O229","v":67.5},null,null,null,null,null,null,null,null,null,{"$f":"データ一覧!O326","v":"4.4.17"},null,null,null,null,null,null,"法 人 数",null,null,null,{"$f":"データ一覧!O502","v":121},null,null,{"$f":"データ一覧!O503","v":2},null,null,{"$f":"データ一覧!O504","v":205},null,null,{"$f":"データ一覧!O505","v":2},null,null,null,null,null,"      等",null,null,{"$f":"データ一覧!O506","v":19516},null,null,null,null,null,null,null,null,null,null,"はるえイッチョライでんすけ祭り、さかい夏まつり"]

{"sheet":"永平寺町","index":14,"n_rows":93,"n_cols":103,"rows_kept":93,"cut":false,"hidden":false,"merged":[[92,2,92,5],[92,9,92,13],[92,14,92,16],[92,17,92,21],[92,6,92,8],[92,22,92,24],[89,6,89,8],[89,14,89,16],[89,22,89,24],[90,6,90,8],[90,14,90,16],[90,22,90,24],[91,6,91,8],[91,14,91,16],[85,9,85,13],[85,14,85,16],[81,6,81,8],[81,9,81,13],[84,14,84,16],[84,22,84,24],[85,6,85,8],[86,2,88,8],[86,9,87,24],[88,9,88,16],[88,17,88,24],[89,2,89,5],[89,9,89,13],[89,17,89,21],[90,2,90,5],[90,9,90,13],[90,17,90,21],[91,2,91,5],[91,9,91,13],[91,17,91,21],[66,0,66,6],[61,0,61,6],[85,22,85,24],[85,17,85,21],[83,22,83,24],[76,17,76,24],[77,2,78,5],[77,6,78,8],[77,9,78,13],[77,14,78,16],[77,17,78,21],[77,22,78,24],[79,2,79,5],[79,6,79,8],[79,9,79,13],[79,14,79,16],[79,17,79,21],[79,22,79,24],[80,6,80,8],[80,9,80,13],[80,14,80,16],[80,17,80,21],[82,22,82,24],[82,9,82,13],[82,6,82,8],[83,6,83,8],[83,9,83,13],[83,14,83,16],[82,14,82,16],[76,9,76,16],[42,4,42,6],[63,16,63,18],[61,13,61,15],[62,13,62,15],[55,13,55,15],[56,16,56,18],[59,16,59,18],[42,16,42,18],[42,19,42,21],[84,6,84,8],[84,9,84,13],[61,22,61,24],[62,22,62,24],[56,19,56,21],[56,22,56,24],[48,10,48,12],[59,22,59,24],[64,13,64,15],[65,10,65,12],[68,13,68,15],[58,19,58,21],[42,10,42,12],[56,10,56,12],[48,22,48,24],[61,16,61,18],[60,16,60,18],[60,22,60,24],[63,22,63,24],[74,0,75,24],[70,19,70,21],[72,19,72,21],[70,0,70,6],[34,11,34,13],[57,16,57,18],[58,16,58,18],[60,19,60,21],[35,11,35,13],[40,16,40,18],[40,13,40,15],[58,22,58,24],[58,13,58,15],[29,20,29,21],[33,18,33,19],[32,20,32,21],[47,22,47,24],[63,0,63,6],[62,0,62,6],[44,0,45,1],[58,0,58,6],[57,0,57,6],[62,16,62,18],[55,10,55,12],[58,7,58,9],[57,7,57,9],[59,7,59,9],[48,7,48,9],[42,13,42,15],[48,19,48,21],[57,19,57,21],[60,13,60,15],[62,7,62,9],[60,10,60,12],[63,10,63,12],[42,7,42,9],[27,0,27,4],[56,7,56,9],[34,5,34,7],[33,5,33,7],[41,10,41,12],[47,7,47,9],[47,10,47,12],[56,13,56,15],[60,7,60,9],[30,11,30,13],[29,8,29,10],[30,5,30,7],[59,10,59,12],[58,10,58,12],[57,10,57,12],[48,0,48,1],[47,0,47,1],[46,0,46,1],[55,0,55,6],[60,0,60,6],[59,0,59,6],[33,8,33,10],[56,0,56,6],[41,7,41,9],[35,5,35,7],[40,2,40,3],[40,4,40,6],[41,4,41,6],[27,5,27,7],[41,13,41,15],[30,8,30,10],[34,14,34,16],[33,14,33,16],[65,43,65,49],[57,61,57,63],[47,19,47,21],[45,25,45,28],[53,29,53,31],[49,39,49,45],[45,32,45,35],[61,80,61,83],[62,81,62,83],[60,36,60,37],[27,27,27,28],[27,29,27,30],[27,33,27,34],[34,53,34,56],[34,18,34,19],[51,68,51,75],[54,68,54,75],[55,47,55,49],[49,54,49,57],[55,51,55,53],[38,40,38,46],[38,67,38,73],[36,49,36,51],[61,19,61,21],[57,67,58,102],[56,99,56,102],[56,95,56,98],[56,77,56,79],[56,80,56,82],[40,19,40,21],[41,22,41,24],[30,14,30,16],[29,11,29,13],[14,82,15,95],[17,86,17,89],[19,81,19,84],[16,74,16,95],[20,40,20,46],[20,49,20,51],[23,60,23,64],[14,67,15,81],[21,73,21,76],[21,77,21,80],[21,81,21,84],[17,82,17,83],[19,77,19,80],[23,68,23,72],[23,73,23,76],[21,86,21,90],[23,11,23,13],[24,81,24,84],[27,35,27,36],[29,14,29,16],[29,22,29,24],[30,22,30,24],[30,20,30,21],[21,25,21,28],[21,29,21,31],[20,95,20,98],[25,49,25,51],[27,40,27,46],[26,77,26,80],[24,95,24,98],[17,100,17,101],[20,99,20,102],[23,99,23,102],[34,49,34,51],[29,49,29,51],[29,53,29,56],[30,40,30,46],[30,95,30,98],[30,86,30,90],[27,73,27,76],[32,91,32,94],[19,73,19,76],[21,53,21,56],[20,53,20,56],[22,40,22,46],[17,68,17,71],[17,73,17,76],[24,91,24,94],[20,86,20,90],[22,86,22,90],[33,60,33,64],[21,40,21,46],[22,53,22,56],[23,77,23,80],[24,49,24,51],[24,53,24,56],[24,86,24,90],[30,68,30,72],[32,77,32,80],[19,99,19,102],[24,40,24,46],[25,40,25,46],[23,40,23,46],[27,53,27,56],[26,49,26,51],[26,53,26,56],[27,49,27,51],[28,53,28,56],[30,53,30,56],[30,60,30,64],[28,49,28,51],[29,60,29,64],[22,49,22,51],[20,81,20,84],[22,73,22,76],[22,77,22,80],[19,95,19,98],[19,91,19,94],[25,77,25,80],[32,68,32,72],[25,53,25,56],[26,60,26,64],[24,68,24,72],[20,91,20,94],[21,95,21,98],[22,91,22,94],[21,60,21,64],[28,60,28,64],[27,60,27,64],[23,91,23,94],[23,95,23,98],[20,73,20,76],[31,68,31,72],[25,73,25,76],[24,73,24,76],[24,77,24,80],[26,81,26,84],[27,68,27,72],[21,91,21,94],[25,81,25,84],[25,86,25,90],[25,95,25,98],[31,81,31,84],[5,0,5,9],[6,0,8,9],[17,40,17,46],[17,48,17,52],[19,3,19,5],[17,53,17,57],[15,32,15,33],[15,35,15,37],[14,26,15,28],[15,29,15,30],[17,59,17,65],[19,40,19,46],[19,49,19,51],[19,53,19,56],[18,28,18,30],[16,32,16,33],[20,60,20,64],[20,25,20,28],[20,35,20,38],[20,11,20,13],[21,32,21,34],[21,35,21,38],[17,91,17,94],[22,7,22,8],[23,16,23,18],[20,16,20,18],[23,53,23,56],[23,49,23,51],[17,32,17,34],[19,60,19,64],[17,36,17,38],[18,35,18,38],[18,31,18,34],[19,25,19,28],[19,29,19,31],[19,32,19,34],[14,0,15,24],[16,36,16,37],[14,25,15,25],[17,25,17,27],[18,25,18,27],[22,29,22,31],[22,32,22,34],[23,25,23,28],[22,25,22,28],[23,29,23,31],[23,32,23,34],[19,35,19,38],[21,49,21,51],[20,77,20,80],[22,81,22,84],[22,68,22,72],[24,31,24,32],[23,35,23,38],[24,29,24,30],[20,21,20,23],[23,21,23,23],[20,29,20,31],[20,32,20,34],[24,27,24,28],[22,35,22,38],[34,29,34,30],[34,40,34,46],[34,36,34,37],[31,20,31,21],[28,40,28,46],[33,40,33,46],[34,20,34,21],[31,22,31,24],[33,20,33,21],[27,22,27,24],[29,40,29,46],[25,37,26,38],[25,27,25,28],[25,29,26,30],[27,25,27,26],[32,22,32,24],[31,40,31,46],[26,40,26,46],[24,0,25,24],[24,33,24,34],[24,35,24,36],[29,5,29,7],[30,18,30,19],[32,40,32,46],[31,49,31,51],[31,53,31,56],[37,49,37,51],[34,60,34,64],[36,40,36,46],[36,53,36,56],[36,60,36,64],[40,36,40,37],[42,32,42,35],[43,53,43,56],[32,49,32,51],[35,53,35,56],[35,49,35,51],[30,49,30,51],[37,60,37,64],[41,40,41,46],[42,49,42,51],[35,40,35,46],[38,60,38,64],[41,36,41,37],[35,36,35,37],[33,49,33,51],[39,49,39,51],[33,53,33,56],[32,60,32,64],[37,40,37,46],[31,60,31,64],[43,40,43,46],[56,48,56,53],[41,49,41,51],[47,99,47,102],[42,93,42,95],[41,93,41,95],[46,99,46,102],[42,75,42,77],[42,97,42,100],[40,79,41,82],[40,75,41,77],[40,93,40,95],[41,60,41,64],[50,95,50,98],[50,99,50,102],[53,99,53,102],[51,99,51,102],[42,60,42,64],[49,58,49,61],[49,62,49,66],[56,87,56,90],[56,91,56,94],[55,77,55,79],[53,77,53,79],[47,83,47,86],[48,95,48,98],[49,95,49,98],[56,83,56,86],[41,53,41,56],[48,56,48,59],[48,77,48,79],[51,77,51,79],[55,59,55,62],[92,32,92,34],[54,55,54,58],[54,47,54,50],[58,55,58,57],[52,80,52,82],[53,68,53,75],[59,59,59,62],[55,31,55,34],[61,36,61,37],[68,39,68,42],[68,32,68,33],[65,57,65,63],[66,39,66,66],[61,68,61,71],[57,35,57,37],[60,53,60,56],[56,39,56,42],[60,39,60,42],[58,48,58,50],[66,29,66,31],[66,35,66,38],[57,25,57,29],[66,32,66,34],[64,68,64,71],[58,39,58,42],[56,68,56,75],[58,44,58,46],[57,58,57,60],[57,64,57,66],[60,43,60,47],[60,48,60,52],[53,25,53,27],[75,35,75,37],[80,43,80,47],[73,53,73,56],[82,57,82,61],[91,52,91,57],[89,72,92,102],[92,39,92,42],[92,43,92,45],[92,46,92,48],[76,48,76,52],[76,43,76,47],[75,48,75,52],[89,39,89,42],[88,44,88,47],[82,48,82,52],[92,49,92,51],[88,61,88,66],[84,48,84,52],[80,92,80,94],[80,39,80,42],[82,43,82,47],[81,48,81,52],[78,48,78,52],[92,52,92,57],[80,48,80,52],[79,53,79,56],[81,57,81,61],[82,39,82,42],[74,39,74,42],[81,67,82,102],[92,61,92,66],[90,58,90,60],[34,8,34,10],[35,20,35,21],[57,13,57,15],[33,22,33,24],[55,7,55,9],[35,8,35,10],[55,19,55,21],[47,16,47,18],[40,10,40,12],[36,29,36,30],[45,29,45,30],[44,32,44,35],[46,36,46,37],[74,29,74,30],[78,57,78,61],[89,61,89,63],[90,61,90,63],[76,29,76,30],[72,43,72,47],[71,48,71,52],[70,48,70,52],[72,57,72,61],[72,53,72,56],[72,48,72,52],[67,39,67,42],[70,39,70,42],[72,32,72,33],[70,43,70,47],[57,31,57,33],[57,47,57,50],[57,51,57,54],[57,55,57,57],[65,22,65,24],[72,16,72,18],[69,13,69,15],[70,29,70,30],[68,29,68,30],[69,29,69,30],[72,25,72,28],[73,29,73,30],[73,35,73,37],[79,43,79,47],[72,35,72,37],[75,29,75,30],[83,29,83,30],[84,57,84,61],[73,32,73,33],[77,57,77,61],[76,57,76,61],[74,43,74,47],[81,53,81,56],[71,32,71,33],[71,29,71,30],[71,39,71,42],[73,25,73,28],[71,43,71,47],[74,25,74,28],[70,25,70,28],[69,32,69,33],[70,32,70,33],[72,29,72,30],[76,25,76,28],[77,43,77,47],[76,39,76,42],[25,31,26,32],[25,33,26,34],[25,35,26,36],[26,25,26,26],[26,27,26,28],[27,37,27,38],[69,39,69,66],[68,57,68,61],[68,43,68,47],[70,57,70,61],[61,59,61,62],[57,39,57,42],[58,58,58,60],[60,59,60,62],[54,51,54,54],[49,46,49,49],[67,48,67,52],[61,39,61,42],[59,43,59,56],[27,31,27,32],[62,29,62,30],[60,29,60,30],[55,25,55,30],[67,43,67,47],[68,48,68,52],[67,62,67,66],[51,36,51,38],[44,29,44,30],[41,29,41,30],[40,32,40,35],[44,36,44,37],[60,63,60,66],[0,0,0,9],[1,0,3,9],[58,61,58,63],[58,64,58,66],[90,50,90,51],[88,50,88,53],[84,53,84,56],[73,57,73,61],[70,62,70,66],[82,53,82,56],[67,53,67,56],[71,53,71,56],[61,43,61,47],[61,48,61,52],[61,53,61,56],[73,43,73,47],[68,25,68,28],[77,62,77,66],[78,39,78,42],[71,62,71,66],[71,35,71,37],[72,62,72,66],[81,43,81,47],[74,48,74,52],[79,48,79,52],[77,53,77,56],[75,43,75,47],[69,22,69,24],[68,22,68,24],[65,39,65,42],[69,35,69,37],[68,35,68,37],[91,22,91,24],[90,55,90,57],[78,62,78,66],[79,39,79,42],[83,32,83,33],[90,52,90,54],[74,62,74,66],[80,25,81,28],[83,36,83,37],[81,29,81,31],[75,39,75,42],[74,53,74,56],[83,57,83,61],[83,43,83,47],[83,48,83,52],[83,39,83,42],[76,53,76,56],[80,53,80,56],[75,25,75,28],[76,32,76,33],[76,35,76,37],[74,35,74,37],[84,43,84,47],[83,26,83,27],[74,32,74,33],[75,53,75,56],[81,22,81,24],[83,53,83,56],[80,57,80,61],[76,62,76,66],[75,57,75,61],[75,62,75,66],[88,28,88,29],[88,30,88,31],[88,32,88,34],[79,57,79,61],[78,53,78,56],[81,32,81,34],[91,46,91,48],[91,49,91,51],[75,32,75,33],[90,64,90,66],[83,62,83,66],[78,43,78,47],[80,35,81,38],[77,39,77,42],[84,39,84,42],[81,39,81,42],[91,35,91,36],[91,43,91,45],[90,44,90,45],[91,28,91,29],[91,30,91,31],[91,37,91,38],[80,62,80,66],[84,62,84,66],[82,62,82,66],[91,39,91,42],[91,32,91,34],[77,48,77,52],[81,62,81,66],[89,32,89,34],[90,46,90,48],[91,61,91,66],[77,87,77,90],[77,91,77,94],[78,77,78,81],[70,94,70,96],[78,87,78,90],[76,69,76,72],[77,77,77,81],[74,68,74,74],[71,83,72,102],[71,57,71,61],[73,39,73,42],[77,82,77,86],[71,67,72,82],[80,68,80,70],[73,48,73,52],[73,77,73,83],[80,88,80,90],[72,39,72,42],[91,26,91,27],[90,39,90,42],[73,62,73,66],[67,67,70,71],[70,91,70,93],[70,88,70,90],[70,77,70,78],[74,57,74,61],[80,100,80,102],[80,82,80,86],[78,91,78,94],[78,67,78,71],[78,82,78,86],[68,88,68,90],[67,57,67,61],[80,78,80,80],[68,82,68,84],[68,79,68,81],[79,62,79,66],[67,82,67,84],[68,62,68,66],[80,96,80,98],[76,96,76,99],[70,72,70,75],[80,73,80,75],[74,87,74,91],[70,85,70,87],[73,95,73,101],[74,77,74,83],[73,86,73,92],[76,87,76,90],[68,85,68,87],[60,91,60,96],[66,92,66,96],[68,72,68,75],[79,101,79,102],[78,99,78,102],[79,97,79,98],[74,96,74,100],[76,78,76,81],[67,88,67,90],[68,76,68,78],[62,87,62,89],[63,74,63,76],[62,68,62,71],[63,84,63,86],[63,89,63,91],[65,73,65,76],[70,79,70,81],[70,100,70,102],[65,93,65,96],[65,88,65,91],[60,97,60,102],[60,85,60,90],[62,93,62,95],[66,76,66,90],[65,78,65,81],[62,75,62,77],[65,68,65,71],[65,83,65,86],[78,95,78,98],[70,83,70,84],[78,72,78,76],[70,97,70,99],[71,25,71,28],[68,53,68,56],[61,63,61,66],[32,73,32,76],[36,75,36,77],[36,79,36,82],[33,83,34,96],[32,95,32,98],[45,57,45,61],[35,93,35,95],[46,69,46,74],[47,77,47,79],[47,80,47,82],[48,62,48,65],[38,97,38,100],[38,85,38,91],[39,93,39,95],[68,100,68,102],[68,94,68,96],[67,97,67,102],[68,91,68,93],[63,99,63,101],[62,99,62,101],[65,98,65,101],[67,79,67,81],[63,94,63,96],[54,99,54,102],[54,95,54,98],[55,87,55,90],[55,95,55,98],[55,91,55,94],[50,63,50,66],[37,85,37,91],[45,77,45,82],[35,86,35,90],[37,93,37,95],[38,49,38,51],[38,53,38,56],[43,83,44,102],[40,97,40,100],[37,75,37,77],[38,93,38,95],[38,75,38,77],[40,67,41,73],[39,67,39,73],[41,85,41,91],[38,79,38,82],[35,60,35,64],[36,85,36,91],[37,79,37,82],[39,85,39,91],[37,53,37,56],[52,99,52,102],[53,91,53,94],[55,99,55,102],[40,85,40,91],[42,79,42,82],[41,97,41,100],[45,92,45,101],[45,84,45,89],[54,80,54,82],[50,87,50,90],[52,77,52,79],[52,95,52,98],[53,95,53,98],[51,91,51,94],[53,80,53,82],[55,68,55,75],[49,83,49,86],[54,87,54,90],[49,99,49,102],[53,83,53,86],[47,68,47,75],[22,99,22,102],[26,95,26,98],[36,93,36,95],[31,95,31,98],[29,73,29,76],[27,77,27,80],[28,68,28,72],[28,73,28,76],[28,77,28,80],[22,95,22,98],[23,81,23,84],[23,86,23,90],[26,68,26,72],[26,73,26,76],[29,77,29,80],[33,67,34,80],[36,67,36,73],[31,99,31,102],[29,81,29,84],[29,86,29,90],[24,99,24,102],[30,81,30,84],[30,73,30,76],[30,77,30,80],[28,86,28,90],[28,81,28,84],[36,97,36,100],[35,68,35,72],[35,75,35,77],[35,80,35,83],[31,73,31,76],[31,77,31,80],[25,99,25,102],[26,99,26,102],[30,99,30,102],[26,86,26,90],[29,99,29,102],[29,91,29,94],[29,95,29,98],[30,91,30,94],[48,83,48,86],[48,80,48,82],[48,68,48,75],[48,91,48,94],[50,80,50,82],[52,91,52,94],[39,75,39,77],[42,67,42,73],[37,67,37,73],[48,99,48,102],[27,95,27,98],[32,99,32,102],[25,91,25,94],[52,83,52,86],[27,81,27,84],[27,86,27,90],[51,95,51,98],[27,99,27,102],[28,99,28,102],[28,95,28,98],[26,91,26,94],[28,91,28,94],[27,91,27,94],[49,91,49,94],[48,50,48,53],[43,49,43,51],[39,60,39,64],[40,53,40,56],[40,49,40,51],[50,77,50,79],[50,68,50,75],[49,68,49,75],[54,77,54,79],[42,85,42,91],[55,63,55,65],[50,50,50,53],[50,47,50,49],[48,87,48,90],[50,91,50,94],[55,55,55,57],[53,87,53,90],[54,91,54,94],[43,60,43,64],[43,67,44,82],[39,53,39,56],[40,60,40,64],[49,87,49,90],[55,80,55,82],[55,83,55,86],[49,77,49,79],[52,87,52,90],[51,83,51,86],[51,80,51,82],[54,83,54,86],[52,68,52,75],[40,29,40,30],[42,40,42,46],[36,36,36,37],[35,29,35,30],[39,97,39,100],[39,79,39,82],[37,97,37,100],[31,91,31,94],[69,25,69,28],[53,33,53,34],[54,25,54,32],[57,43,57,46],[55,39,55,42],[55,35,55,38],[53,36,53,37],[50,55,50,57],[50,59,50,61],[49,80,49,82],[50,83,50,86],[51,87,51,90],[46,95,46,98],[47,87,47,90],[47,91,47,94],[47,95,47,98],[35,98,35,101],[42,53,42,56],[32,53,32,56],[49,50,49,53],[54,59,54,66],[54,39,54,42],[55,43,55,45],[54,43,54,46],[21,99,21,102],[70,7,70,9],[67,16,67,18],[65,13,65,15],[68,7,68,9],[68,10,68,12],[70,16,70,18],[41,32,41,35],[70,53,70,56],[51,33,51,35],[46,25,46,28],[44,25,44,28],[45,36,45,37],[24,37,24,38],[68,19,68,21],[70,35,70,37],[51,29,51,32],[50,0,51,10],[50,11,51,24],[25,25,25,26]],"merged_total":1108,"flags":["merged_cut"]}
[{"$f":"+データ一覧!P2","v":"よしだぐん"}]
[{"$f":"+データ一覧!P5","v":"吉田郡"}]
[null,null,null,null,null,null,null,null,null,null,null,null,null,null,null,null,null,null,null,null,null,null,null,null,null,null,null,null,null,"【町章とそのいわれ】",null,"将来に向かって波紋が広がっていくように、",null,null,null,null,null,null,null,null,"【位置および地勢】永平寺町は、福井県の北部に位置し、町土の中央には"]
[null,null,null,null,null,null,null,null,null,null,null,null,null,null,null,null,null,null,null,null,null,null,null,null,null,null,null,null,null,null,null,"人々が両手を広げて豊かな未来をつかもうと",null,null,null,null,null,null,null,null,null,"九頭竜川に平行して国道４１６号とえちぜん鉄道（勝山永平寺線）",null,null,null,null,null,null,null,null,null,null,null,null,null,null,null,null,null,null,null,null,null,null,null,null,null,null,null,null,"所在地",null,null,null,null,null,null,null,"〒910-1192"]
[null,null,null,null,null,null,null,null,null,null,null,null,null,null,null,null,null,null,null,null,null,null,null,null,null,null,null,null,null,null,null,"している様子をイメージし、町の発展と人の",null,null,null,null,null,null,null,null,null,"が走っており、西部の福井北ジャンクションでは、南北に走る北陸",null,null,null,null,null,null,null,null,null,null,null,null,null,null,null,null,null,null,null,null,null,null,null,null,null,null,null,null,null,null,null,null,null,null,null,null,"吉田郡永平寺町松岡春日１－４"]
[{"$f":"+データ一覧!P3","v":"えいへいじちょう"},null,null,null,null,null,null,null,null,null,null,null,null,null,null,null,null,null,null,null,null,null,null,null,null,null,null,null,null,null,null,"つながりへの願いが込められている。",null,null,null,null,null,null,null,null,null,"自動車道と東西に走る中部縦貫自動車道が結節し、広域交通の要衝と"]
[{"$f":"データ一覧!P6","v":"永平寺町"},null,null,null,null,null,null,null,null,null,null,null,null,null,null,null,null,null,null,null,null,null,null,null,null,null,null,null,null,null,null,null,null,null,null,null,null,null,null,null,null,"なっている。",null,null,null,null,null,null,null,null,null,null,null,null,null,null,null,null,null,null,null,null,null,null,null,null,null,null,null,null,"電話番号",null,null,null,null,null,null,null,"（０７７６）６１－１１１１"]
[null,null,null,null,null,null,null,null,null,null,null,null,null,null,null,null,null,null,null,null,null,null,null,null,null,null,null,null,null,null,null,null,null,null,null,null,null,null,null,null,null,null,null,null,null,null,null,null,null,null,null,null,null,null,null,null,null,null,null,null,null,null,null,null,null,null,null,null,null,null,"FAX番号",null,null,null,null,null,null,null,"　　〃　　　６１－２４３４"]
[]
[null,null,null,null,null,null,null,null,null,null,null,null,null,null,null,null,null,null,null,null,null,null,null,null,null,null,null,null,null,null,null,null,null,null,null,null,null,null,null,null,null,null,null,null,null,null,null,null,null,null,null,null,null,null,null,null,null,null,null,null,null,null,null,null,null,null,null,null,null,null,"最寄駅および距離",null,null,null,null,null,null,null,"えちぜん鉄道勝山永平寺線松岡駅　下車４００ｍ"]
[]
[null,null,null,null,null,null,null,null,null,null,null,null,null,null,null,null,null,null,null,null,null,null,null,null,null,null,null,null,null,null,null,null,null,null,null,null,null,null,null,null,null,null,null,null,null,null,null,null,null,null,null,null,null,null,null,null,null,null,null,null,null,null,null,null,null,null,null,null,null,null,"ホームページ",null,null,null,null,null,null,null,"https://www.town.eiheiji.lg.jp/"]
[null,null,null,null,null,null,null,null,null,null,null,null,null,null,null,null,null,null,null,null,null,null,null,null,null,null,"【町が掲げる標語】めぐる感動　心つながる清流のまち　えいへいじ"]
[]
["  １  土            　　地",null,null,null,null,null,null,null,null,null,null,null,null,null,null,null,null,null,null,null,null,null,null,null,null,{"$f":"データ一覧!$A$240","v":"5年"},"産米収穫量",null,null,"　 収　穫　量",null,null," 　作 付 面 積",null,null,"   10a当たり収量",null,null,null,null,null,null,null,null,null,null,null,null,null,null,null,null,null,null,null,null,null,null,null,null,null,null,null,null,null,null,null," １５  労　　　　　　　働",null,null,null,null,null,null,null,null,null,null,null,null,null,null,"2.10.1"]
[null,null,null,null,null,null,null,null,null,null,null,null,null,null,null,null,null,null,null,null,null,null,null,null,null,null,null,null,null,{"$f":"データ一覧!$P$240","v":2990},null,"t",{"$f":"データ一覧!$P$241","v":630},null,"ha",{"$f":"データ一覧!P242","v":475},null,null,"kg"," １０  工　　　　　　業 ",null,null,null,null,null,null,null,null,null,null,null,null,null,{"$f":"データ一覧!$A$332","v":"4.6.1（令和3年実績）"}]
["   総          面           積",null,null,null,null,null,null,null,null,null," 固 定 資 産 概 要 調 書 に よ る 地 目 別 面 積",null,null,null,null,null,null,null,null,null,null,null,null,null,null,null,null,null,"   総　　　数",null,null,null,"うち　　田",null,null,null,"うち　　畑",null,null,null,null,null,null,null,null,null,null,null,null,null,null,null,null,null,null,null,null,null,null,null,null,null,null,null,null,null,null,null,null,null,null,null,null,null,"産業別就業者数   "]
[null,null,{"$f":"データ一覧!$A$7","v":"6.10.1"},null,null,null,null,null,null,null,null,null,null,null,null,null,{"$f":"データ一覧!$A$9","v":"6.1.1"},null,null,null,null,null,null,null,null," 耕  地  面  積",null,null,null,"       ha",null,null,"ha ",null,null,null,"ha ",null,null,"      ","産業分類",null,null,null,null,null,null,null,"事業所数",null,null,null,null,"従業者数",null,null,null,null,null,"年間製造品出荷額等",null,null,null,null,null,null,null,null,"区  分",null,null,null,null,"総    数",null,null,null,null,"男",null,null,null,"女",null,null,"  ","区  分",null,null,null,null,"総    数",null,null,null,null,"男",null,null,null,"女"]
[null,null,null,null,null,null,"㎢",null,null,null,"   総       数",null,null,null,null,"  う ち     田",null,null,null,null,"  う ち     畑",null,null,null,null,{"$f":"データ一覧!A243","v":"5.7.15"},null,null,{"$f":"データ一覧!$P$243","v":987},null,null,{"$f":"データ一覧!$P$244","v":926},null,null,null,{"$f":"データ一覧!$P$245","v":61},null,null,null,null,null,null,null,null,null,null,null,null,"　　   ",null,null,"事業所",null,"　　　　　　　 人",null,null,"人",null,"　　　　　　　　　　　　　　万円",null,null,null,null,null,null,"万円",null,null,null,null,null,null,null,"      人",null,null,null,null,null," 人",null,null,null," 人",null,null,null,null,null,null,null,"      人",null,null,null,"      人",null,null,null,"      人"]
[null,null,null,{"$f":"データ一覧!P7","v":94.43},null,null,null,null,null,null,null,null,null,null,"ha",null,null,null,null,"ha",null,null,null,null,"ha","農 業 生 産 物",null,null,null,"作 付 面 積",null,null,"収 穫 量",null,null,"10a当たり収量",null,null,null,"     ","総数",null,null,null,null,null,null,null,null,{"$f":"データ一覧!P332","v":46},null,null,null,{"$f":"+データ一覧!P357","v":986},null,null,null,null,null,null,{"$f":"データ一覧!P382","v":1996615},null,null,null,null,null,null," 総　　　数",null,null,null,null,null,{"$f":"BZ20+CD20","v":9955},null,null,null,{"$f":"データ一覧!P507","v":5316},null,null,null,{"$f":"データ一覧!P532","v":4639}]
[null,null,null,null,null,null,null,null,null,null,null,{"$f":"データ一覧!P9","v":6157.6},null,null,null,null,{"$f":"データ一覧!P10","v":1014.8},null,null,null,null,{"$f":"データ一覧!P11","v":87.3},null,null,null,{"$f":"データ一覧!$A$246","v":"5年産"},null,null,null,"ha",null,null,"t",null,null,"kg",null,null,null,"     食料品","食料品",null,null,null,null,null,null,null,null,{"$f":"データ一覧!P333","v":7},null,null,null,{"$f":"+データ一覧!P358","v":115},null,null,null,null,null,null,{"$f":"データ一覧!P383","v":290861},null,null,null,null,null,null,null,null,null,null,null,null,null,null,null,null,null,null,null,null,null,null,null,null,null,"卸売業,小売業",null,null,null,null,{"$f":"CR21+CV21","v":1473},null,null,null,{"$f":"データ一覧!P520","v":764},null,null,null,{"$f":"データ一覧!P545","v":709}]
["  町 ･ 丁 ･ 大 字",null,null,null,null,null,null,null,null,null,"  う ち  宅 地",null,null,null,null,"  う ち  山 林",null,null,null,null,"  う ち  原 野",null,null,null,null,"水　　　　　稲",null,null,null,{"$f":"データ一覧!P246","v":630},null,null,{"$f":"データ一覧!P247","v":2990},null,null,{"$f":"データ一覧!P248","v":475},null,null,null,"     飲料・飼料","飲料・飼料",null,null,null,null,null,null,null,null,{"$f":"データ一覧!P334","v":4},null,null,null,{"$f":"+データ一覧!P359","v":71},null,null,null,null,null,null,{"$f":"データ一覧!P384","v":189039},null,null,null,null,null,null," 第１次産業",null,null,null,null,null,{"$f":"BZ22+CD22","v":295},null,null,null,{"$f":"データ一覧!P508","v":220},null,null,null,{"$f":"データ一覧!P533","v":75},null,null,null,null,"金融業,保険業",null,null,null,null,{"$f":"CR22+CV22","v":221},null,null,null,{"$f":"データ一覧!P521","v":90},null,null,null,{"$f":"データ一覧!P546","v":131}]
["  区    画    数",null,null,null,null,null,null,{"$f":"データ一覧!P8","v":93},null,null,null,null,null,null,"ha",null,null,null,null,"ha",null,null,null,null,"ha","六　条　大　麦",null,null,null,{"$f":"データ一覧!P249","v":"-"},null,null,{"$f":"データ一覧!P250","v":"-"},null,null,{"$f":"データ一覧!P251","v":"-"},null,null,null,"     繊維","繊維",null,null,null,null,null,null,null,null,{"$f":"データ一覧!P335","v":19},null,null,null,{"$f":"+データ一覧!P360","v":280},null,null,null,null,null,null,{"$f":"データ一覧!P385","v":351020},null,null,null,null,null,null,"  ","農業",null,null,null,null,{"$f":"BZ23+CD23","v":284},null,null,null,{"$f":"データ一覧!P509","v":212},null,null,null,{"$f":"データ一覧!P534","v":72},null,null,null,"  ","不動産業",null,null,null,null,107,null,null,null,{"$f":"データ一覧!P522","v":72},null,null,null,{"$f":"データ一覧!P547","v":35}]
[{"$f":"データ一覧!$A$8","v":"5.4.1"},null,null,null,null,null,null,null,null,null,null,{"$f":"データ一覧!P12","v":408.9},null,null,null,null,{"$f":"データ一覧!P13","v":4017.1},null,null,null,null,{"$f":"データ一覧!P14","v":49},null,null,null,"大　　      豆",null,null,null,{"$f":"データ一覧!P252","v":3},null,null,{"$f":"データ一覧!P253","v":2},null,null,{"$f":"データ一覧!P254","v":72},null,null,null,"     衣服","木材",null,null,null,null,null,null,null,null,{"$f":"データ一覧!P336","v":2},null,null,null,{"$f":"+データ一覧!P361","v":111},null,null,null,null,null,null,{"$f":"データ一覧!P386","v":"x"},null,null,null,null,null,null,"  ","林業",null,null,null,null,9,null,null,null,{"$f":"データ一覧!P510","v":6},null,null,null,{"$f":"データ一覧!P535","v":3},null,null,null,"  ","学術研究",null,null,null,null,250,null,null,null,{"$f":"データ一覧!P523","v":143},null,null,null,{"$f":"データ一覧!P548","v":107}]
["  ２  世　帯　数　と　人　口",null,null,null,null,null,null,null,null,null,null,null,null,null,null,null,null,null,null,null,null,null,null,null,null,null,null,"  区　分",null," 乳 用 牛",null," 肉 用 牛",null,"豚",null,"採卵鶏",null,"ブロイラー",null,"     木材","家具",null,null,null,null,null,null,null,null,{"$f":"データ一覧!P337","v":0},null,null,null,{"$f":"+データ一覧!P362","v":0},null,null,null,null,null,null,{"$f":"データ一覧!P387","v":0},null,null,null,null,null,null,"  ","漁業",null,null,null,null,2,null,null,null,{"$f":"データ一覧!P511","v":2},null,null,null,0,null,null,null,"  ","宿泊業,飲食ｻｰﾋﾞｽ",null,null,null,null,470,null,null,null,{"$f":"データ一覧!P524","v":190},null,null,null,{"$f":"データ一覧!P549","v":280}]
[null,null,null,null,null,null,null,null,null,null,null,null,null,null,null,null,null,null,null,null,null,null,null,null,null,"畜　産",null," 飼養農家",null,{"$f":"データ一覧!$P$255","v":0},null,{"$f":"データ一覧!$P$257","v":0},null,{"$f":"データ一覧!$P$259","v":0},null,{"$f":"データ一覧!$P$261","v":0},null,{"$f":"データ一覧!$P$263","v":0},null,"     家具","パルプ・紙",null,null,null,null,null,null,null,null,{"$f":"データ一覧!P338","v":0},null,null,null,{"$f":"+データ一覧!P363","v":0},null,null,null,null,null,null,{"$f":"データ一覧!P388","v":0},null,null,null,null,null,null," 第２次産業",null,null,null,null,null,2611,null,null,null,{"$f":"データ一覧!P512","v":1766},null,null,null,{"$f":"データ一覧!P537","v":845},null,null,null,"  ","生活関連ｻｰﾋﾞｽ業",null,null,null,null,273,null,null,null,{"$f":"データ一覧!P525","v":100},null,null,null,{"$f":"データ一覧!P550","v":173}]
[null,null,null,null,null,null,null,null,"        人　　　　　　　　　　口",null,null,null,null,null,null,null,null,null,null,null,"１世帯当",null,"人    口",null,null,{"$f":"データ一覧!$A$255","v":"6.3.31"},null,"（戸）",null,null,null,null,null,null,null,null,null,null,null,"     パルプ・紙","印刷",null,null,null,null,null,null,null,null,{"$f":"データ一覧!P339","v":2},null,null,null,{"$f":"+データ一覧!P364","v":48},null,null,null,null,null,null,{"$f":"データ一覧!P389","v":"x"},null,null,null,null,null,null,null,"鉱業，採石業",null,null,null,null,3,null,null,null,{"$f":"データ一覧!P513","v":2},null,null,null,{"$f":"データ一覧!P538","v":1},null,null,null,"  ","教育,学習支援業",null,null,null,null,624,null,null,null,{"$f":"データ一覧!P526","v":260},null,null,null,{"$f":"データ一覧!P551","v":364}]
[" 区　　　　分",null,null,null,null,"世帯数",null,null," 総   数",null,null,"    男",null,null,"    女",null,null,"  男／女",null,null,"たり人員",null,"密    度",null,null,null,null," 頭 羽",null,{"$f":"データ一覧!$P$256","v":0},null,{"$f":"データ一覧!$P$258","v":0},null,{"$f":"データ一覧!$P$260","v":0},null,{"$f":"データ一覧!$P$262","v":0},null,{"$f":"データ一覧!$P$264","v":0},null,"     出版・印刷","化学",null,null,null,null,null,null,null,null,{"$f":"データ一覧!P340","v":0},null,null,null,{"$f":"+データ一覧!P365","v":0},null,null,null,null,null,null,{"$f":"データ一覧!P390","v":0},null,null,null,null,null,null,"  ","建設業",null,null,null,null,874,null,null,null,{"$f":"データ一覧!P514","v":731},null,null,null,{"$f":"データ一覧!P539","v":143},null,null,null,null,"医療，福祉",null,null,null,null,1665,null,null,null,{"$f":"データ一覧!P527","v":382},null,null,null,{"$f":"データ一覧!P552","v":1283}]
[null,null,null,null,null,"    世 帯",null,null,"       人",null,null,"       人",null,null,"       人",null,null,null,"　　％",null,"    人",null,"    人/㎢",null,null,null,null,null,null,null,null,null,null,null,null,null,null,null,null,"     化学","石油・石炭",null,null,null,null,null,null,null,null,{"$f":"データ一覧!P341","v":0},null,null,null,{"$f":"+データ一覧!P366","v":0},null,null,null,null,null,null,{"$f":"データ一覧!P391","v":0},null,null,null,null,null,null,null,"製造業",null,null,null,null,1734,null,null,null,{"$f":"データ一覧!P515","v":1033},null,null,null,{"$f":"データ一覧!P540","v":701},null,null,null,null,"複合サービス事業",null,null,null,null,121,null,null,null,{"$f":"データ一覧!P528","v":71},null,null,null,{"$f":"データ一覧!P553","v":50}]
[{"$f":"データ一覧!$A$22","v":" 2.10.1"},null,null,null,null,{"$f":"データ一覧!P22","v":5159},null,null,{"$f":"+L30+O30","v":19387},null,null,{"$f":"データ一覧!P24","v":9427},null,null,{"$f":"データ一覧!P25","v":9960},null,null,null,{"$f":"+L30/O30*100","v":94.648594377510037},null,{"$f":"データ一覧!P27","v":3.76},null,{"$f":"データ一覧!P21","v":0},null,null,"  ５  林               業",null,null,null,null,null,null,null,null,null,null,null,null,null,"     石油・石炭","プラスチック",null,null,null,null,null,null,null,null,{"$f":"データ一覧!P342","v":2},null,null,null,{"$f":"+データ一覧!P367","v":22},null,null,null,null,null,null,{"$f":"データ一覧!P392","v":"x"},null,null,null,null,null,null," 第３次産業",null,null,null,null,null,6877,null,null,null,{"$f":"データ一覧!P516","v":3247},null,null,null,{"$f":"データ一覧!P541","v":3630},null,null,null,null,"サービス業",null,null,null,null,650,null,null,null,{"$f":"データ一覧!P529","v":438},null,null,null,{"$f":"データ一覧!P554","v":212}]
[{"$f":"データ一覧!$A$29","v":" 7.10.1"},null,null,null,null,{"$f":"データ一覧!P29","v":6049},null,null,{"$f":"+L31+O31","v":20183},null,null,{"$f":"データ一覧!P31","v":9907},null,null,{"$f":"データ一覧!P32","v":10276},null,null,null,96.409108602569091,null,{"$f":"データ一覧!P34","v":3.34},null,{"$f":"データ一覧!P28","v":0},null,null,null,null,null,null,null,null,null,null,null,null,null,null,null,null,"     プラスチック","ゴム",null,null,null,null,null,null,null,null,{"$f":"データ一覧!P343","v":0},null,null,null,{"$f":"+データ一覧!P368","v":0},null,null,null,null,null,null,{"$f":"データ一覧!P393","v":0},null,null,null,null,null,null,null,"電気･ｶﾞｽ･水道業",null,null,null,null,64,null,null,null,{"$f":"データ一覧!P517","v":48},null,null,null,{"$f":"データ一覧!P542","v":16},null,null,null,null,"公務",null,null,null,null,372,null,null,null,{"$f":"データ一覧!P530","v":253},null,null,null,{"$f":"データ一覧!P555","v":119}]
[{"$f":"データ一覧!$A$36","v":"12.10.1"},null,null,null,null,{"$f":"データ一覧!P36","v":6781},null,null,{"$f":"+L32+O32","v":21182},null,null,{"$f":"データ一覧!P38","v":10225},null,null,{"$f":"データ一覧!P39","v":10957},null,null,null,93.319339235192118,null,{"$f":"データ一覧!P41","v":3.12},null,{"$f":"データ一覧!P35","v":0},null,null,"    　森　　　林　　　総　　　面　　　積   ",null,null,null,null,null,null,null,{"$f":"データ一覧!$A$265","v":"5.3.31"},null,null,null,null,null,"     ゴム","皮革",null,null,null,null,null,null,null,null,{"$f":"データ一覧!P344","v":0},null,null,null,{"$f":"+データ一覧!P369","v":0},null,null,null,null,null,null,{"$f":"データ一覧!P394","v":0},null,null,null,null,null,null,null,"情報通信業",null,null,null,null,146,null,null,null,{"$f":"データ一覧!P518","v":99},null,null,null,{"$f":"データ一覧!P543","v":47},null,null,null," 分類不能の産業",null,null,null,null,null,172,null,null,null,{"$f":"データ一覧!P531","v":83},null,null,null,{"$f":"データ一覧!P556","v":89}]
[{"$f":"+データ一覧!$A$43","v":"17.10.1"},null,null,null,null,{"$f":"データ一覧!P43","v":6868},null,null,{"$f":"+L33+O33","v":20764},null,null,{"$f":"データ一覧!P45","v":10085},null,null,{"$f":"データ一覧!P46","v":10679},null,null,null,94.437681430845586,null,{"$f":"データ一覧!P48","v":3.02},null,{"$f":"データ一覧!P49","v":220.1},null,null,"　　　森　　　　　　　林　　　　　　　の　　　　　　　構　　　　　　　成",null,null,null,null,null,null,null,null,null,null,null,null,null,"     皮革","窯業・土石",null,null,null,null,null,null,null,null,{"$f":"データ一覧!P345","v":2},null,null,null,{"$f":"+データ一覧!P370","v":28},null,null,null,null,null,null,{"$f":"データ一覧!P395","v":"x"},null,null,null,null,null,null,"  ","運輸業,郵便業",null,null,null,null,{"$f":"BZ33+CD33","v":441},null,null,null,{"$f":"データ一覧!P519","v":337},null,null,null,{"$f":"データ一覧!P544","v":104}]
[{"$f":"+データ一覧!$A$50","v":"22.10.1"},null,null,null,null,{"$f":"+データ一覧!P50","v":7217},null,null,{"$f":"+L34+O34","v":20647},null,null,{"$f":"+データ一覧!P52","v":10026},null,null,{"$f":"+データ一覧!P53","v":10621},null,null,null,94.397890970718393,null,{"$f":"+データ一覧!P55","v":2.86},null,{"$f":"+データ一覧!P56","v":218.9},null,null,null,null,null,null,null,"       ha",null,null,null,null,null,null,"       ha",null,"     窯業・土石","鉄鋼",null,null,null,null,null,null,null,null,{"$f":"データ一覧!P346","v":0},null,null,null,{"$f":"+データ一覧!P371","v":0},null,null,null,null,null,null,{"$f":"データ一覧!P396","v":0},null,null,null,null,null,null," １６  社　 会 　福　 祉",null,null,null,null,null,null,null,null,null,null,null,null,null,null,null,{"$f":"データ一覧!$A$557","v":"6.4.1"}]
[{"$f":"データ一覧!$A$57","v":"27.10.1"},null,null,null,null,{"$f":"データ一覧!P57","v":7276},null,null,{"$f":"データ一覧!P58","v":19883},null,null,{"$f":"データ一覧!P59","v":9621},null,null,{"$f":"データ一覧!P60","v":10262},null,null,null,93.753654258429151,null,{"$f":"データ一覧!P62","v":2.7326827927432653},null,{"$f":"データ一覧!P63","v":210.6},null,null,"  総　　　　　   数",null,null,null,{"$f":"データ一覧!P265","v":6865.21},null,null," 天然林       針葉樹",null,null,null,{"$f":"データ一覧!P268","v":68.23},null,null,"     鉄鋼","非鉄金属",null,null,null,null,null,null,null,null,{"$f":"データ一覧!P347","v":0},null,null,null,{"$f":"+データ一覧!P372","v":0},null,null,null,null,null,null,{"$f":"データ一覧!P397","v":0}]
["令　2.10.1（国調）",null,null,null,null,{"$f":"データ一覧!P64","v":7285},null,null,{"$f":"データ一覧!P65","v":18965},null,null,{"$f":"データ一覧!P66","v":9231},null,null,{"$f":"データ一覧!P67","v":9734},null,null,null,{"$f":"+L36/O36*100","v":94.832545716046852},null,{"$f":"データ一覧!P69","v":2.6032944406314344},null,{"$f":"データ一覧!P70","v":200.83659853860001},null,null,"  人工林     針葉樹",null,null,null,{"$f":"データ一覧!P266","v":3102.87},null,null," 天然林       広葉樹",null,null,null,{"$f":"データ一覧!P269","v":3606.76},null,null,"     非鉄金属","金属",null,null,null,null,null,null,null,null,{"$f":"データ一覧!P348","v":3},null,null,null,{"$f":"+データ一覧!P373","v":102},null,null,null,null,null,null,{"$f":"データ一覧!P398","v":320537},null,null,null,null,null,null,"    ","区分",null,null,null,null,null,null,"施設数",null,null,null,null,"収容定員",null,null,null,null,null,"区分",null,null,null,null,null,null,"施設数",null,null,null,null,"収容定員"]
["年",null,"  区",null," 0歳",null,null,"15歳",null,null,"25歳",null,null,"35歳",null,null,"45歳",null,null,"55歳",null,null,"65歳",null,null,"  人工林     広葉樹",null,null,null,{"$f":"データ一覧!P267","v":14.31},null,null," 竹               林",null,null,null,{"$f":"データ一覧!P270","v":18.34},null,null,"     金属","はん用機械",null,null,null,null,null,null,null,null,{"$f":"データ一覧!P349","v":2},null,null,null,{"$f":"+データ一覧!P374","v":78},null,null,null,null,null,null,{"$f":"データ一覧!P399","v":"x"},null,null,null,null,null,null,"生活保護施設",null,null,null,null,null,null,null,{"$f":"データ一覧!P557","v":"-"},null,null,null,{"$f":"データ一覧!P570","v":"-"},null,null,null,"人",null,"指定障害者支援施設",null,null,null,null,null,null,null,{"$f":"データ一覧!P563","v":"-"},null,null,null,{"$f":"データ一覧!P576","v":"-"},null,null,null,"人"]
["齢","令",null,null,null,"～",null,null,"～",null,null,"～",null,null,"～",null,null,"～",null,null,"～",null,null,null,null,null,null,null,null,null,null,null,null,null,null,null,null,null,null,"     一般機械","生産用機械",null,null,null,null,null,null,null,null,{"$f":"データ一覧!P350","v":0},null,null,null,{"$f":"+データ一覧!P375","v":0},null,null,null,null,null,null,{"$f":"データ一覧!P400","v":0},null,null,null,null,null,null,"地域福祉施設",null,null,null,null,null,null,null,{"$f":"データ一覧!P558","v":"-"},null,null,null,{"$f":"データ一覧!P571","v":"-"},null,null,null,null,null,"指定相談支援事業所",null,null,null,null,null,null,null,{"$f":"データ一覧!P564","v":"-"},null,null,null,{"$f":"データ一覧!P577","v":"-"}]
["階",{"$f":"+LEFT(データ一覧!$A$83,1)","v":"6"},"  分",null,null,null,"14歳",null,null,"24歳",null,null,"34歳",null,null,"44歳",null,null,"54歳",null,null,"64歳",null,null,"以上","    林     野     の     構     成",null,null,null,null,null,null,"保     有     形     態     別",null,null,null,null,null,null,"     電気機械","業務用機械",null,null,null,null,null,null,null,null,{"$f":"データ一覧!P351","v":0},null,null,null,{"$f":"+データ一覧!P376","v":0},null,null,null,null,null,null,{"$f":"データ一覧!P401","v":0},null,null,null,null,null,null,"老人福祉施設",null,null,null,null,null,null,null,{"$f":"データ一覧!P559","v":4},null,null,null,{"$f":"データ一覧!P572","v":525},null,null,null,null,null,"児童福祉施設",null,null,null,null,null,null,null,{"$f":"データ一覧!P565","v":17},null,null,null,{"$f":"データ一覧!P578","v":856}]
["級","・",null,null,null,null,"人",null,null,"人",null,"    人",null,null,"    人",null,null,"    人",null,null,"    人",null,null,"    人",null,null,null,null,null,null,null,"ha",null,null,null,null,null,"       ha",null,null,"電子・デバイス",null,null,null,null,null,null,null,null,{"$f":"データ一覧!P352","v":0},null,null,null,{"$f":"+データ一覧!P377","v":0},null,null,null,null,null,null,{"$f":"データ一覧!P402","v":0},null,null,null,null,null,null,"介護保険施設",null,null,null,null,null,null,null,{"$f":"データ一覧!P560","v":27},null,null,null,{"$f":"データ一覧!P573","v":614},null,null,null,null,null,"母子福祉施設",null,null,null,null,null,null,null,{"$f":"データ一覧!P566","v":"-"},null,null,null,{"$f":"データ一覧!P579","v":"-"}]
["別",{"$f":"+MID(データ一覧!$A$83,3,2)","v":"10"},"総 数",null,{"$f":"+E42+E43","v":1932},null,null,{"$f":"+H42+H43","v":2048},null,null,{"$f":"+K42+K43","v":1965},null,null,{"$f":"+N42+N43","v":1771},null,null,{"$f":"+Q42+Q43","v":2350},null,null,{"$f":"+T42+T43","v":2306},null,null,{"$f":"+W42+W43","v":5585},null,null," 無立木地   伐採跡地",null,null,null,{"$f":"データ一覧!P271","v":0},null,null,"国   　　　 　 有",null,null,null,{"$f":"データ一覧!P273","v":41.63},null,null,null,"電気機械",null,null,null,null,null,null,null,null,{"$f":"データ一覧!P353","v":1},null,null,null,{"$f":"+データ一覧!P378","v":102},null,null,null,null,null,null,{"$f":"データ一覧!P403","v":"x"},null,null,null,null,null,null,"障害者自立支援法施行前からの身体障害者福祉施設",null,null,null,null,null,null,null,{"$f":"データ一覧!P561","v":"-"},null,null,null,{"$f":"データ一覧!P574","v":"-"},null,null,null,null,null,"婦人保護施設",null,null,null,null,null,null,null,{"$f":"データ一覧!P567","v":"-"},null,null,null,{"$f":"データ一覧!P580","v":"-"}]
["人","・","  男",null,{"$f":"データ一覧!P83","v":956},null,null,{"$f":"データ一覧!P84","v":1050},null,null,{"$f":"データ一覧!P85","v":1026},null,null,{"$f":"データ一覧!P86","v":932},null,null,{"$f":"データ一覧!P87","v":1175},null,null,{"$f":"データ一覧!P88","v":1111},null,null,{"$f":"データ一覧!P89","v":2471},null,null," 無立木地   未立木地",null,null,null,{"$f":"データ一覧!P272","v":54.7},null,null,"公       　　  有",null,null,null,{"$f":"データ一覧!P274","v":393.91},null,null,"     輸送機械","情報通信機械",null,null,null,null,null,null,null,null,{"$f":"データ一覧!P354","v":0},null,null,null,{"$f":"+データ一覧!P379","v":0},null,null,null,null,null,null,{"$f":"データ一覧!P404","v":0},null,null,null,null,null,null,null,null,null,null,null,null,null,null,null,null,null,null,null,null,null,null,null,null,"その他の社会福祉施設",null,null,null,null,null,null,null,{"$f":"データ一覧!P568+データ一覧!P569","v":0},null,null,null,0]
["口",{"$f":"+RIGHT(データ一覧!$A$83,1)","v":"1"},"  女",null,{"$f":"データ一覧!P91","v":976},null,null,{"$f":"データ一覧!P92","v":998},null,null,{"$f":"データ一覧!P93","v":939},null,null,{"$f":"データ一覧!P94","v":839},null,null,{"$f":"データ一覧!P95","v":1175},null,null,{"$f":"データ一覧!P96","v":1195},null,null,{"$f":"データ一覧!P97","v":3114},null,null,null,null,null,null,null,null,null,"私          　 有",null,null,null,{"$f":"データ一覧!P275","v":6429.67},null,null,"     精密機械","輸送機械",null,null,null,null,null,null,null,null,{"$f":"データ一覧!P355","v":0},null,null,null,{"$f":"+データ一覧!P380","v":0},null,null,null,null,null,null,{"$f":"データ一覧!P405","v":0},null,null,null,null,null,null,"障害福祉サービス事業所",null,null,null,null,null,null,null,{"$f":"データ一覧!P562","v":9},null,null,null,{"$f":"データ一覧!P575","v":68}]
[null,null,null,null,null,null,null,null,null,null,null,null,null,null,null,null,null,null,null,null,null,null,null,null,null,"            林     産     物     生     産     量 ",null,null,null,null,null,null,null,null,null,{"$f":"データ一覧!$A$276","v":"5年中"},null,null,null,"     その他","その他",null,null,null,null,null,null,null,null,{"$f":"データ一覧!P356","v":2},null,null,null,{"$f":"+データ一覧!P381","v":29},null,null,null,null,null,null,{"$f":"データ一覧!P406","v":"x"},null,null,null,null,null,null," １７  教　　　　　　　育",null,null,null,null,null,null,null,null,null,null,null,null,null,null,null,{"$f":"データ一覧!$A$583","v":"6.5.1"}]
["人口動態",null,null,null,null,null,null,"   自　然　動　態",null,null,null,null,null,"   社  会  動  態",null,null,null,null,null,{"$f":"データ一覧!$A78","v":"5.1.1～5.12.31"},null,null,null,null,null,"生椎茸",null,null,null,{"$f":"データ一覧!P276","v":4183},null,"㎏","乾椎茸",null,null,null,{"$f":"データ一覧!P277","v":0},null,"㎏"]
[null,null,"   区       分",null,null,null,null," 出   生",null,null," 死   亡",null,null," 転   入",null,null," 転   出",null,null," 婚   姻",null,null," 離   婚",null,null,"えのきだけ",null,null,null,{"$f":"データ一覧!P279","v":0},null,"㎏","なめこ",null,null,null,{"$f":"データ一覧!P278","v":0},null,"㎏","    ","工　業　用　水　量",null,null,null,null,null,"（従業者30人以上の事業所）",null,null,null,null,null,null,null,null,null,null,{"$f":"データ一覧!P407","v":264},null,null,null,null,"㎥／日",null,null,null,null,null,null,null,null,null,null,null,null,null,null,"学校数（校）",null,null,null,null,null,null,"教員数（人）",null,null,null,null,null,null,null,"学生・生徒・児童数（人）"]
[{"$f":"LEFT(データ一覧!$A74,6)","v":"5.10.1"},null,null,null,null,null,null,"       人",null,null,"       人",null,null,"       人",null,null,"       人",null,null,null,"    件",null,null,"    件",null,"ひらたけ",null,null,null,{"$f":"+データ一覧!P280","v":0},null,"㎏","まいたけ",null,null,null,{"$f":"+データ一覧!P281","v":0},null,"㎏",null,null,null,null,null,null,null,null,null,null,null,null,null,null,null,null,null,null,null,null,null,null,null,null,null,null,null,null,null,"　","区分",null,null,null,null,null,null,null," 本 校",null,null," 分 校",null,null," 本   務",null,null,null," 兼   務",null,null,null," 総   数",null,null,null,"男",null,null,null,"女"]
["～",null," 実          数",null,null,null,null,{"$f":"データ一覧!P74","v":87},null,null,{"$f":"データ一覧!P75","v":251},null,null,{"$f":"データ一覧!P76","v":482},null,null,{"$f":"データ一覧!P77","v":580},null,null,{"$f":"データ一覧!P78","v":51},null,null,{"$f":"データ一覧!P79","v":14},null,null,null,null,null,null,null,null,null,null,null,null,null,null,null,null," １１ 　上　・　下　水　道",null,null,null,null,null,null,null,null,null,null,null,null,null,null,null,null,null,null,null,null,null,null,null,null,null,null,null,null,"小学校",null,null,null,null,null,null,null,null,{"$f":"データ一覧!P584","v":7},null,null,{"$f":"データ一覧!P585","v":0},null,null,{"$f":"データ一覧!P586","v":86},null,null,null,{"$f":"データ一覧!P587","v":13},null,null,null,{"$f":"データ一覧!P588","v":784},null,null,null,{"$f":"データ一覧!P589","v":395},null,null,null,{"$f":"データ一覧!P590","v":389}]
[{"$f":"RIGHT(データ一覧!$A76,6)","v":"6.9.30"},null,"比率(対1,000人)",null,null,null,null,{"$f":"+H48/I36*1000","v":4.5873978381228575},null,null,{"$f":"+K48/I36*1000","v":13.234906406538359},null,null,"- ",null,null,"- ",null,null,{"$f":"+T48/I36*1000","v":2.6891642499340889},null,null,{"$f":"+W48/I36*1000","v":0.73820195096229901},null,null,"  ６  漁               業",null,null,null,null,null,null,null,null,null,null,null,null,null,null,null,null,null,null,null,null,null,null,null,null,null,null,null,null,null,null,null,null,null,null,null,null,null,null,null,null,null,"  ","中学校",null,null,null,null,null,null,null,null,{"$f":"データ一覧!P592","v":3},null,null,{"$f":"データ一覧!P593","v":0},null,null,{"$f":"データ一覧!P594","v":53},null,null,null,{"$f":"データ一覧!P595","v":7},null,null,null,{"$f":"データ一覧!P596","v":471},null,null,null,{"$f":"データ一覧!P597","v":236},null,null,null,{"$f":"データ一覧!P598","v":235}]
[null,null,null,null,null,null,null,null,null,null,null,null,null,null,null,null,null,null,null,null,null,null,null,null,null,null,null,null,null,null,null,null,null,null,null,null,null,null,null,"水 道 供 給 人 口",null,null,null,null,null,null,"上 水 道",null,null,null,"簡易水道",null,null,null,"専用水道",null,null,null,"飲料水供給施設",null,null,null,"下水道処理人口",null,null,null,null,"  ","高等学校",null,null,null,null,null,null,null,null,{"$f":"データ一覧!P600","v":0},null,null,{"$f":"データ一覧!P601","v":0},null,null,{"$f":"データ一覧!P602","v":0},null,null,null,{"$f":"データ一覧!P603","v":0},null,null,null,{"$f":"データ一覧!P604","v":0},null,null,null,{"$f":"データ一覧!P605","v":0},null,null,null,{"$f":"データ一覧!P606","v":0}]
["  ３  事　　業　　所（民　　営）",null,null,null,null,null,null,null,null,null,null,"3.6.1",null,null,null,null,null,null,null,null,null,null,null,null,null,"漁船隻数・トン数",null,null,null,{"$f":"データ一覧!$A$282","v":"5.12.31"},null,null,null,"動　力　船",null,null,null,null,null,{"$f":"データ一覧!$A$408","v":"6.3.31"},null,null,null,null,null,"人",null,{"$f":"データ一覧!P408","v":17693},null,null,{"$f":"データ一覧!P409","v":0},null,null,null,null,{"$f":"データ一覧!P410","v":0},null,null,null,{"$f":"データ一覧!P411","v":0},null,null,null,{"$f":"データ一覧!P412","v":14377},null,null,null,"  ","大学・短期大学",null,null,null,null,null,null,null,null,{"$f":"データ一覧!P607","v":2},null,null,{"$f":"データ一覧!P608","v":0},null,null,{"$f":"データ一覧!P609","v":479},null,null,null,{"$f":"データ一覧!P610","v":123},null,null,null,{"$f":"データ一覧!P611","v":2801},null,null,null,{"$f":"データ一覧!P612","v":1311},null,null,null,{"$f":"データ一覧!P613","v":1490}]
[null,null,null,null,null,null,null,null,null,null,null,null,null,null,null,null,null,null,null,null,null,null,null,null,null,"無動力船隻数",null,null,null,"船外機付漁船隻数",null,null,null,"隻　数",null,null,"総 ト ン 数",null,null,null,null,null,null,null,null,null,null,null,null,null,null,null,null,null,null,null,null,null,null,null,null,null,null,null,null,null,null,"  ","高等専門学校",null,null,null,null,null,null,null,null,{"$f":"データ一覧!P614","v":0},null,null,{"$f":"データ一覧!P615","v":0},null,null,{"$f":"データ一覧!P616","v":0},null,null,null,{"$f":"データ一覧!P617","v":0},null,null,null,{"$f":"データ一覧!P618","v":0},null,null,null,{"$f":"データ一覧!P619","v":0},null,null,null,{"$f":"データ一覧!P620","v":0}]
[null,null,null,null,null,null,null,"    総　　　　　数",null,null,null,null,null,"    民　　　　　営",null,null,null,null,null,"  国 ･ 地方公共団体",null,null,null,null,null,null,null,null,"隻",null,null,null,"隻",null,null,"隻",null,null,"t"," １２  交   通　・　通   信",null,null,null,null,null,null,null,null,null,null,null,null,null,null,null,null,null,null,null,null,null,null,null,null,null,null,null,"  ","特別支援学校",null,null,null,null,null,null,null,null,{"$f":"+データ一覧!P622","v":0},null,null,{"$f":"+データ一覧!P623","v":0},null,null,{"$f":"+データ一覧!P624","v":0},null,null,null,{"$f":"+データ一覧!P625","v":0},null,null,null,{"$f":"+データ一覧!P626","v":0},null,null,null,{"$f":"+データ一覧!P627","v":0},null,null,null,{"$f":"+データ一覧!P628","v":0}]
["  　区　　　　　　分",null,null,null,null,null,null," 事業所数",null,null," 従業者数",null,null," 事業所数",null,null," 従業者数",null,null," 事業所数",null,null," 従業者数",null,null,{"$f":"データ一覧!$P$282","v":10},null,null,null,{"$f":"データ一覧!$P$283","v":0},null,null,null,{"$f":"データ一覧!P284","v":0},null,null,{"$f":"データ一覧!P285","v":0},null,null,null,null,null,null,null,null,null,null,null,null,null,null,null,null,null,null,null,null,null,null,null,null,null,null,null,null,null,null,"  ","幼稚園",null,null,null,null,null,null,null,null,{"$f":"データ一覧!P630","v":1},null,null,{"$f":"データ一覧!P631","v":0},null,null,{"$f":"データ一覧!P632","v":2},null,null,null,{"$f":"データ一覧!P633","v":0},null,null,null,{"$f":"データ一覧!P634","v":16},null,null,null,{"$f":"データ一覧!P635","v":7},null,null,null,{"$f":"データ一覧!P636","v":9}]
[null,null,null,null,null,null,null,null,null,null,"       人",null,null,null,null,null,"       人",null,null,null,null,null,"       人",null,null,"  男女別就業者数",null,null,null,null,null,null,null,{"$f":"データ一覧!$A$286","v":"5.11.1"},null,null,null,null,null,"道     路",null,null,null,"実 延 長",null,null,null,"国     道",null,null,null,"県     道",null,null,null,"市町道",null,null,null," 鉄 道 営 業 キ ロ 数",null,null,null,null,null,null,null,"  ","幼保連携認定こども園",null,null,null,null,null,null,null,null,{"$f":"データ一覧!P638","v":1},null,null,{"$f":"データ一覧!P639","v":0},null,null,{"$f":"データ一覧!P640","v":19},null,null,null,{"$f":"データ一覧!P641","v":2},null,null,null,{"$f":"データ一覧!P642","v":140},null,null,null,{"$f":"データ一覧!P643","v":65},null,null,null,{"$f":"データ一覧!P644","v":75}]
["総数",null,null,null,null,null,null,{"$f":"データ一覧!P99","v":"…"},null,null,{"$f":"データ一覧!P156","v":"…"},null,null,{"$f":"データ一覧!P100","v":699},null,null,{"$f":"データ一覧!P157","v":7893},null,null,{"$f":"データ一覧!P101","v":"…"},null,null,{"$f":"データ一覧!P158","v":"…"},null,null,"総　　数",null,null,null,null,null,"男",null,null,null,"女",null,null,null,{"$f":"データ一覧!$A$413","v":"5.4.1"},null,null,null,{"$f":"データ一覧!P413","v":271},null,null,"㎞",{"$f":"データ一覧!P414","v":27.3},null,null,"㎞",{"$f":"データ一覧!P415","v":25.9},null,null,"㎞",{"$f":"データ一覧!P416","v":217.8},null,null,"km",{"$f":"データ一覧!$A$417","v":"6.4.1"},null,null,null,{"$f":"データ一覧!P417","v":15.2},null,null,"㎞","  ","各種学校",null,null,null,null,null,null,null,null,{"$f":"データ一覧!P646","v":0},null,null,{"$f":"データ一覧!P647","v":0},null,null,{"$f":"データ一覧!P648","v":0},null,null,null,{"$f":"データ一覧!P649","v":0},null,null,null,{"$f":"データ一覧!P650","v":0},null,null,null,{"$f":"データ一覧!P651","v":0},null,null,null,{"$f":"データ一覧!P652","v":0}]
["農林漁業",null,null,null,null,null,null,{"$f":"データ一覧!P102","v":"…"},null,null,{"$f":"データ一覧!P159","v":"…"},null,null,{"$f":"データ一覧!P103","v":15},null,null,{"$f":"データ一覧!P160","v":289},null,null,{"$f":"データ一覧!P104","v":"…"},null,null,{"$f":"データ一覧!P161","v":"…"},null,null,null,null,null,null,null,"人",null,null,"　　　　人",null,null,null,null,"  人","自動車",null,null,null,null,null,null,null,null,"乗用車",null,null,null,null,null,null,null,null,null,null,null,null,null,null,null,null,null,null,"  ","専修学校",null,null,null,null,null,null,null,null,{"$f":"データ一覧!P654","v":2},null,null,{"$f":"データ一覧!P655","v":0},null,null,{"$f":"データ一覧!P656","v":19},null,null,null,{"$f":"データ一覧!P657","v":19},null,null,null,{"$f":"データ一覧!P658","v":135},null,null,null,{"$f":"データ一覧!P659","v":54},null,null,null,{"$f":"データ一覧!P660","v":81}]
["鉱業",null,null,null,null,null,null,{"$f":"データ一覧!P105","v":"…"},null,null,{"$f":"データ一覧!P162","v":"…"},null,null,{"$f":"データ一覧!P106","v":1},null,null,{"$f":"データ一覧!P163","v":10},null,null,{"$f":"データ一覧!P107","v":"…"},null,null,{"$f":"データ一覧!P164","v":"…"},null,null,{"$f":"データ一覧!P286","v":0},null,null,null,null,null,{"$f":"データ一覧!$P$287","v":0},null,null,null,{"$f":"データ一覧!P288","v":0},null,null,null,"台  数",null,null,null,"貨    物",null,null,null,"普     通",null,null,null,"小     型",null,null,null,"乗  合",null,null,"特  種",null,null,"小型二輪",null,null,"軽自動車",null,null," １８  衛　　　　　　　生"]
["建設業",null,null,null,null,null,null,{"$f":"データ一覧!P108","v":"…"},null,null,{"$f":"データ一覧!P165","v":"…"},null,null,{"$f":"データ一覧!P109","v":98},null,null,{"$f":"データ一覧!P166","v":621},null,null,{"$f":"データ一覧!P110","v":"…"},null,null,{"$f":"データ一覧!P167","v":"…"},null,null,"　　　　海 面 漁 業 漁 獲 量 （属人）",null,null,null,null,null,null,null,{"$f":"データ一覧!$A$289","v":"30年中"},null,null,null,null,null,{"$f":"データ一覧!$A$418","v":"6.3.31"},null,null,null,null,{"$f":"データ一覧!P418","v":848},null,null,null,{"$f":"データ一覧!P420","v":3871},null,null,null,{"$f":"データ一覧!P421","v":3486},null,null,{"$f":"データ一覧!P419","v":16},null,null,{"$f":"データ一覧!P422","v":315},null,null,{"$f":"データ一覧!P423","v":207},null,null,{"$f":"データ一覧!P424","v":6510}]
["製造業",null,null,null,null,null,null,{"$f":"データ一覧!P111","v":"…"},null,null,{"$f":"データ一覧!P168","v":"…"},null,null,{"$f":"データ一覧!P112","v":116},null,null,{"$f":"データ一覧!P169","v":1199},null,null,{"$f":"データ一覧!P113","v":"…"},null,null,{"$f":"データ一覧!P170","v":"…"},null,null,null,null,null,null,null,"       ","ｔ",null,null,null,null,null,null,"t",null,null,"     ",null,"郵　便　局　数",null,null,null,null,null,null,null,null,null,null,null,null,null,{"$f":"+MID(データ一覧!$A$428,3,2)","v":"3."},"令","一般加入",null,null,null,"ＩＮＳネット",null,null,null,null,null,null,null,"医療関係施設",null,null,null,null,null,{"$f":"データ一覧!$A$661","v":"5.10.1"},null,null,null,null,null,null,"および医療関係者数",null,null,null,null,null,null,null,{"$f":"データ一覧!$A$666","v":"4.12.31"}]
["電気・ｶﾞ ｽ・熱供給・水道業",null,null,null,null,null,null,{"$f":"データ一覧!P114","v":"…"},null,null,{"$f":"データ一覧!P171","v":"…"},null,null,{"$f":"データ一覧!P115","v":"-"},null,null,{"$f":"データ一覧!P172","v":"-"},null,null,{"$f":"データ一覧!P116","v":"…"},null,null,{"$f":"データ一覧!P173","v":"…"},null,null,"   総　　　　　　数",null,null,null,{"$f":"データ一覧!P289","v":0},null,null,"   藻　　　　　　類",null,null,null,{"$f":"データ一覧!P292","v":0},null,null,"通  信",null,null,null," 総     数",null,null,null,null," 郵 便 局",null,null,null,null," 簡 易 局",null,null,null,"・",{"$f":"+LEFT(データ一覧!$A$428,1)","v":"6"},"電話数",null,null,null,"加入数",null,null,null,null,null,null,null,null,null,"　","病",null,null,"院",null,"　",null,null,null,null," ","一般診療所",null,null,null,null,null,null,null,null,null,null,null,"歯科診療所"]
["情報通信業",null,null,null,null,null,null,{"$f":"データ一覧!P117","v":"…"},null,null,{"$f":"データ一覧!P174","v":"…"},null,null,{"$f":"データ一覧!P118","v":3},null,null,{"$f":"データ一覧!P175","v":16},null,null,{"$f":"データ一覧!P119","v":"…"},null,null,{"$f":"データ一覧!P176","v":"…"},null,null,"   魚　　　　　　類",null,null,null,{"$f":"データ一覧!P290","v":0},null,null,"   そ　   の　　 他",null,null,null,{"$f":"データ一覧!P293","v":0},null,null,{"$f":"データ一覧!$A$428","v":"6.3.31"},null,null,null,{"$f":"データ一覧!P425","v":6},null,null,null,null,{"$f":"データ一覧!P426","v":6},null,null,null,null,{"$f":"データ一覧!P427","v":0},null,null,null,{"$f":"+RIGHT(データ一覧!$A$428,2)","v":"31"},"・",{"$f":"データ一覧!P428","v":1421},null,null,null,{"$f":"データ一覧!P429","v":169},null,null,null," ","医療関係",null,null,null,null,null,null,null,null,null,null,null,"一般病院",null,null,null,null,null,null,null,null,null,null,null,"有",null,null,"床"]
["運輸業、郵便業",null,null,null,null,null,null,{"$f":"データ一覧!P120","v":"…"},null,null,{"$f":"データ一覧!P177","v":"…"},null,null,{"$f":"データ一覧!P121","v":16},null,null,{"$f":"データ一覧!P178","v":232},null,null,{"$f":"データ一覧!P122","v":"…"},null,null,{"$f":"データ一覧!P179","v":"…"},null,null,"   貝　　　　　　類",null,null,null,{"$f":"データ一覧!P291","v":0},null,null,null,null,null,null,null,null,null,null,null,null,null,null,null,null,null,null,null,null,null,null,null,null,null,null,null,null,null,null,null,null,null,null,null,null,null,null,"施設数",null,null,null,null,null,null,{"$f":"データ一覧!P661","v":1},null,null,null,null,null,{"$f":"データ一覧!P662","v":1},null,null,null,null,null,{"$f":"データ一覧!P663","v":12},null,null,null,null,null,{"$f":"データ一覧!P664","v":0},null,null,null,null,null,{"$f":"データ一覧!P665","v":7}]
["卸売業、小売業",null,null,null,null,null,null,{"$f":"データ一覧!P123","v":"…"},null,null,{"$f":"データ一覧!P180","v":"…"},null,null,{"$f":"データ一覧!P124","v":133},null,null,{"$f":"データ一覧!P181","v":896},null,null,{"$f":"データ一覧!P125","v":"…"},null,null,{"$f":"データ一覧!P182","v":"…"},null,null,null,null,null,null,null,null,null,null,null,null,null,null,null,null," １３  税　　・　　財　　政",null,null,null,null,null,null,null,null,null,null,null,null,null,null,null,null,null,null,null,null,null,null,null,null,null,null,null,null,null,null,null,null,null,null,"医師",null,null,null,null,"歯科医師",null,null,null,null,"薬剤師",null,null,null,null,"保健師",null,null,null,null,"助産師",null,null," ",null,"看護師",null,null," "]
["金融業、保険業",null,null,null,null,null,null,{"$f":"データ一覧!P126","v":"…"},null,null,{"$f":"データ一覧!P183","v":"…"},null,null,{"$f":"データ一覧!P127","v":8},null,null,{"$f":"データ一覧!P184","v":53},null,null,{"$f":"データ一覧!P128","v":"…"},null,null,{"$f":"データ一覧!P185","v":"…"},null,null,"  ７  商        　　　業 ",null,null,null,null,null,null,{"$f":"データ一覧!$A$294","v":"3.6.1(令和2年実績）"},null,null,null,null,null,null,null,null,null,null,null,null,null,null,null,null,null,null,null,null,null,null,null,null,null,null,null,null,null,null,null,null,null,null," ","医療",null,null,null,null,null,null,null,null,"人",null,null,null,null,"人",null,null,null,null,"人",null,null,null,null,"人",null,null,null,null,"人",null,null,null,null,"人"]
["不動産業、物品賃貸業",null,null,null,null,null,null,{"$f":"データ一覧!P129","v":"…"},null,null,{"$f":"データ一覧!P186","v":"…"},null,null,{"$f":"データ一覧!P130","v":37},null,null,{"$f":"データ一覧!P187","v":75},null,null,{"$f":"データ一覧!P131","v":"…"},null,null,{"$f":"データ一覧!P188","v":"…"},null,null,null,null,null,null,null,null,null,null,null,null,null,null,null,null,"           ",null,null,null,"歳入",null,null,null,null,null,null,null,null,"(千円）"," ",null,null,null,"歳出",null,null,null,null,null,null,null,null,"(千円）",null,"関係者",null,null,null,null,{"$f":"データ一覧!P666","v":420},null,null,null,null,{"$f":"データ一覧!P667","v":21},null,null,null,null,{"$f":"データ一覧!P668","v":88},null,null,null,null,{"$f":"データ一覧!P669","v":17},null,null,null,null,{"$f":"データ一覧!P670","v":26},null,null,null,null,{"$f":"データ一覧!P671","v":909}]
["学術研究、専門・技術ｻｰﾋﾞｽ業",null,null,null,null,null,null,{"$f":"データ一覧!P132","v":"…"},null,null,{"$f":"データ一覧!P189","v":"…"},null,null,{"$f":"データ一覧!P133","v":23},null,null,{"$f":"データ一覧!P190","v":95},null,null,{"$f":"データ一覧!P134","v":"…"},null,null,{"$f":"データ一覧!P191","v":"…"},null,null,"  産   業　 分　 類",null,null,null," 事　業　所　数",null,null," 従　業　者　数",null,null,"年　間　販　売　額",null,null,null,"一人当たり歳入歳出予算決算額",null,null,null,null,null,null,null,null,null,null,null,null,null,null,null,null,null,null,null,null,null,null,null,null,null,null,null,"                   ",null,null,null,null,null,null,null,null,"死因別死亡数　　　　　　    ",null,null,null,null,null,null,null,null,null,null,null,null,null,null,null,{"$f":"データ一覧!$A$672","v":"5年中"},null,null,null,null,null,null,null,null,"      単 位：人"]
["宿泊業、飲食サービス業",null,null,null,null,null,null,{"$f":"データ一覧!P135","v":"…"},null,null,{"$f":"データ一覧!P192","v":"…"},null,null,{"$f":"データ一覧!P136","v":61},null,null,{"$f":"データ一覧!P193","v":331},null,null,{"$f":"データ一覧!P137","v":"…"},null,null,{"$f":"データ一覧!P194","v":"…"},null,null,null,null,null,null,null,null,null,null,null,"　人",null,"         百万円",null,null,"区分",null,null,null,{"$f":"データ一覧!$A$438","v":"6年度"},null,null,null,null,{"$f":"データ一覧!$A$452","v":"5年度"},null,null,null,null,"区分",null,null,null,{"$f":"+AR68","v":"6年度"},null,null,null,null,{"$f":"データ一覧!$A$452","v":"5年度"},null,null,null,null," 死     因",null,null,null,null,null,null,null,null,null,null,null,"悪  性",null,null,"高血圧",null,null,null,null,null,"脳血管",null,null,null,null,null," ",null,null,"不慮の事故"]
["生活関連サービス業、娯楽業",null,null,null,null,null,null,{"$f":"データ一覧!P138","v":"…"},null,null,{"$f":"データ一覧!P195","v":"…"},null,null,{"$f":"データ一覧!P139","v":60},null,null,{"$f":"データ一覧!P196","v":164},null,null,{"$f":"データ一覧!P140","v":"…"},null,null,{"$f":"データ一覧!P197","v":"…"},null,null,"総　　　　　　計",null,null,null,{"$f":"データ一覧!P294","v":127},null,null,{"$f":"データ一覧!P303","v":846},null,null,{"$f":"データ一覧!P312","v":14746},null,null,null,null,null,null,null,{"$f":"データ一覧!P434","v":536195.88135685807},null,null,null,null,{"$f":"データ一覧!P435","v":569162.04426732729},null,null,null,null,null,null,null,null,{"$f":"データ一覧!P436","v":536195.88135685807},null,null,null,null,{"$f":"データ一覧!P437","v":539478.10867574997},null,null,null,null,null,null,null,null,null,"全 死 因",null,null,null,"結 核",null,null,"新生物",null,null,"性疾患",null,null,"心疾患",null,null,"疾  患",null,null,"肺  炎",null,null,"老  衰",null,null,null,null," ","交通事故"]
["教育、学習支援業",null,null,null,null,null,null,{"$f":"データ一覧!P141","v":"…"},null,null,{"$f":"データ一覧!P198","v":"…"},null,null,{"$f":"データ一覧!P142","v":23},null,null,{"$f":"データ一覧!P199","v":1565},null,null,{"$f":"データ一覧!P143","v":"…"},null,null,{"$f":"データ一覧!P200","v":"…"},null,null,"卸売業",null,null,null,{"$f":"データ一覧!P295","v":18},null,null,{"$f":"データ一覧!P304","v":163},null,null,{"$f":"データ一覧!P313","v":6217},null,null,null,"項目別歳入歳出予算決算額"]
["医療、福祉",null,null,null,null,null,null,{"$f":"データ一覧!P144","v":"…"},null,null,{"$f":"データ一覧!P201","v":"…"},null,null,{"$f":"データ一覧!P145","v":40},null,null,{"$f":"データ一覧!P202","v":1924},null,null,{"$f":"データ一覧!P146","v":"…"},null,null,{"$f":"データ一覧!P203","v":"…"},null,null,"小売業",null,null,null,{"$f":"データ一覧!P296","v":109},null,null,{"$f":"データ一覧!P305","v":683},null,null,{"$f":"データ一覧!P314","v":8529},null,null,null,"区分",null,null,null,{"$f":"データ一覧!$A$438","v":"6年度"},null,null,null,null,{"$f":"データ一覧!$A$452","v":"5年度"},null,null,null,null,"区分",null,null,null,{"$f":"+AR71","v":"6年度"},null,null,null,null,{"$f":"データ一覧!$A$452","v":"5年度"},null,null,null,null,null,null,null,null,null,{"$f":"データ一覧!P672","v":230},null,null,null,"   －",{"$f":"データ一覧!P673","v":"-"},null,{"$f":"データ一覧!P674","v":56},null,null,null,{"$f":"データ一覧!P675","v":2},null,{"$f":"データ一覧!P676","v":29},null,null,{"$f":"データ一覧!P677","v":17},null,null,{"$f":"データ一覧!P678","v":11},null,null,{"$f":"データ一覧!P679","v":35},null,null,{"$f":"データ一覧!P680","v":6},null,null,{"$f":"データ一覧!P681","v":"-"}]
["複合サービス事業",null,null,null,null,null,null,{"$f":"データ一覧!P147","v":"…"},null,null,{"$f":"データ一覧!P204","v":"…"},null,null,{"$f":"データ一覧!P148","v":7},null,null,{"$f":"データ一覧!P205","v":31},null,null,{"$f":"データ一覧!P149","v":"…"},null,null,{"$f":"データ一覧!P206","v":"…"},null,null,"各種商品",null,null,null,{"$f":"データ一覧!P297","v":1},null,null,{"$f":"データ一覧!P306","v":9},null,null,{"$f":"データ一覧!P315","v":"x"},null,null,null,"総額",null,null,null,{"$f":"SUM(AR73:AV85)","v":9816138},null,null,null,null,{"$f":"SUM(AW73:BA85)","v":10568770},null,null,null,null,"総額",null,null,null,{"$f":"SUM(BF73:BJ85)","v":9816138},null,null,null,null,{"$f":"SUM(BK73:BO85)","v":10017569},null,null,null,null," １９  警　察　・　消　防  ",null,null,null,null,null,null,null,null,null,null,null,null,null,null,null,{"$f":"+データ一覧!$A682","v":"6.4.1"}]
["サービス業",null,null,null,null,null,null,{"$f":"データ一覧!P150","v":"…"},null,null,{"$f":"データ一覧!P207","v":"…"},null,null,{"$f":"データ一覧!P151","v":58},null,null,{"$f":"データ一覧!P208","v":392},null,null,{"$f":"データ一覧!P152","v":"…"},null,null,{"$f":"データ一覧!P209","v":"…"},null,null,"織物・衣服・身の回り品",null,null,null,{"$f":"データ一覧!P298","v":7},null,null,{"$f":"データ一覧!P307","v":15},null,null,{"$f":"データ一覧!P316","v":99},null,null,null,"地方税",null,null,null,{"$f":"データ一覧!P439","v":2063514},null,null,null,null,{"$f":"データ一覧!P453","v":2117150},null,null,null,null,"議会費",null,null,null,{"$f":"データ一覧!P467","v":92437},null,null,null,null,{"$f":"データ一覧!P481","v":94105}]
["公務",null,null,null,null,null,null,{"$f":"データ一覧!P153","v":"…"},null,null,{"$f":"データ一覧!P210","v":"…"},null,null,{"$f":"データ一覧!P154","v":"…"},null,null,{"$f":"データ一覧!P211","v":"…"},null,null,{"$f":"データ一覧!P155","v":"…"},null,null,{"$f":"データ一覧!P212","v":"…"},null,null,"飲食料品",null,null,null,{"$f":"データ一覧!P299","v":37},null,null,{"$f":"データ一覧!P308","v":289},null,null,{"$f":"データ一覧!P317","v":2936},null,null,null,"地方譲与税",null,null,null,{"$f":"データ一覧!P440","v":88800},null,null,null,null,{"$f":"データ一覧!P454","v":85009},null,null,null,null,"総務費",null,null,null,{"$f":"データ一覧!P468","v":1662012},null,null,null,null,{"$f":"データ一覧!P482","v":1301810},null,null,null,null,null,null,null,null,null,null,null,null,null,null,"交番・駐在所",null,null,null,null,null,null,null,null,"刑法犯認知件数",null,null,null,null,null,null,null,null,"交通人身事故発生件数"]
["  ４  農        　　　業 ",null,null,null,null,null,null,null,null,null,null,null,null,null,null,null,null,null,null,null,null,null,null,null,null,"機械器具",null,null,null,{"$f":"データ一覧!P300","v":12},null,null,{"$f":"データ一覧!P309","v":42},null,null,{"$f":"データ一覧!P318","v":334},null,null,null,"各種交付金",null,null,null,{"$f":"データ一覧!P441","v":588600},null,null,null,null,{"$f":"データ一覧!P455","v":564944},null,null,null,null,"民生費",null,null,null,{"$f":"データ一覧!P469","v":3011718},null,null,null,null,{"$f":"データ一覧!P483","v":3309783},null,null,null,null,null,"警察署数",null,null,null,null,null,null,null,null,"検問所数",null,null,null,null,null,null,null,null,null,{"$f":"データ一覧!$A$684","v":"5年中"},null,null,null,null,null,null,null,null,{"$f":"データ一覧!$A$684","v":"5年中"}]
[null,null,null,null,null,null,null,null,null,null,null,null,null,null,null,null,null,null,null,null,null,null,null,null,null,"その他",null,null,null,{"$f":"データ一覧!P301","v":50},null,null,{"$f":"データ一覧!P310","v":324},null,null,{"$f":"データ一覧!P319","v":5130},null,null,null,"地方特例交付金",null,null,null,{"$f":"データ一覧!P442","v":10000},null,null,null,null,{"$f":"データ一覧!P456","v":17637},null,null,null,null,"衛生費",null,null,null,{"$f":"データ一覧!P470","v":680826},null,null,null,null,{"$f":"データ一覧!P484","v":697939},null,null,null,null,null,null,null,null,null,null,null,null,null,null,null,null,null,null,null,null,null,null,null,null,null,null,null,null," 件",null,null,null,null,null,null,null,null,"　件"]
[null,null,"農業経営体数",null,null,null,null,null,null,"農産物販売額規模別経営体数",null,null,null,null,null,null,null,"経営耕地面積規模別経営体数",null,null,null,null,null,null,null,"無店舗",null,null,null,{"$f":"データ一覧!P302","v":2},null,null,{"$f":"データ一覧!P311","v":4},null,null,{"$f":"データ一覧!P320","v":"x"},null,null,null,"地方交付税",null,null,null,{"$f":"データ一覧!P443","v":3990000},null,null,null,null,{"$f":"データ一覧!P457","v":4189085},null,null,null,null,"労働費",null,null,null,{"$f":"データ一覧!P471","v":16600},null,null,null,null,{"$f":"データ一覧!P485","v":19100},null,null,null,null,null,null,{"$f":"データ一覧!P682","v":0},null,null,null,null,null,null,null,null,{"$f":"データ一覧!P683","v":4},null,null,null,null,null,null,null,null,{"$f":"データ一覧!P684","v":38},null,null,null,null,null,null,null,null,{"$f":"データ一覧!P685","v":6}]
["農",null,"区　分",null,null,null,"経営体数\n（経営体）",null,null,"区　分",null,null,null,null,"経営体数\n（経営体）",null,null,"区　分",null,null,null,null,"経営体数\n（経営体）",null,null,null,null,null,null,null,null,null,null,null,null,null,null,null,null,"分担金および負担金",null,null,null,{"$f":"データ一覧!P444","v":92168},null,null,null,null,{"$f":"データ一覧!P458","v":17245},null,null,null,null,"農林水産業費",null,null,null,{"$f":"データ一覧!P472","v":443711},null,null,null,null,{"$f":"データ一覧!P486","v":805390},null,null,null,null,"火災発生件数",null,null,null,null,null,null,null,null,null,"林野焼損",null,null,null,null,"損      害",null,null,null,null,"消 防 自",null,null,null,"その他の",null,null,null," ",null,null,null,null," "]
["業","令",null,null,null,null,null,null,null,null,null,null,null,null,null,null,null,null,null,null,null,null,null,null,null,"  ８  住　　　　　　 　宅",null,null,null,null,null,null,null,null,null,null,null,null,null,"使用料および手数料",null,null,null,{"$f":"データ一覧!P445","v":201893},null,null,null,null,{"$f":"データ一覧!P459","v":242337},null,null,null,null,"商工費",null,null,null,{"$f":"データ一覧!P473","v":175903},null,null,null,null,{"$f":"データ一覧!P487","v":198873},null,null,null,null,{"$f":"+データ一覧!$A$686","v":"5年中"},null,null,null,null,"焼損棟数",null,null,null,null,"面    積",null,null,null,null,"見  積  額",null,null,null,null,"動 車 数",null,null,null,"ﾎﾟﾝﾌﾟ数",null,null,null," 消防吏員",null,null,null," 消防団員"]
["経",{"$f":"+LEFT(データ一覧!$A$213)","v":"2"},"計",null,null,null,{"$f":"データ一覧!P213","v":269},null,null,"総　　　 数",null,null,null,null,{"$f":"データ一覧!P217","v":269},null,null,"総　　　 数",null,null,null,null,{"$f":"データ一覧!P233","v":653},null,null,null,null,null,null,null,null,null,null,null,null,null,null,null,null,"国庫支出金",null,null,null,{"$f":"データ一覧!P446","v":746020},null,null,null,null,{"$f":"データ一覧!P460","v":947638},null,null,null,null,"土木費",null,null,null,{"$f":"データ一覧!P474","v":1218290},null,null,null,null,{"$f":"データ一覧!P488","v":1039833},null,null,null,null,"         件",null,null,null,null,null,"      棟",null,null,null,null,null,null,"  ａ",null,null,null,"  千円",null,null,"        ",null,null,null,null,null,null,null,null,null,"  人",null,null,null,"  人"]
["営","・","個人経営体",null,null,null,{"$f":"データ一覧!P214","v":253},null,null,"販 売 な し",null,null,null,null,{"$f":"データ一覧!P218","v":17},null,null,"0.5 ha 未満",null,null,null,null,{"$f":"データ一覧!P234","v":18},null,null,{"$f":"+データ一覧!$A$321","v":"4年"},null,null,null,null,{"$f":"データ一覧!$A$324","v":"5年"},"中の増減",null,null,null,{"$f":"+データ一覧!$A$324","v":"5年"},null,null,null,"県支出金",null,null,null,{"$f":"データ一覧!P447","v":677614},null,null,null,null,{"$f":"データ一覧!P461","v":901871},null,null,null,null,"消防費",null,null,null,{"$f":"データ一覧!P475","v":372998},null,null,null,null,{"$f":"データ一覧!P489","v":417657},null,null,null,null,null,{"$f":"データ一覧!P686","v":3},null,null,null,null,{"$f":"データ一覧!P687","v":5},null,null,null,null,{"$f":"データ一覧!P688","v":0},null,null,null,{"$f":"データ一覧!P689","v":29061},null,null,null,null,null,{"$f":"データ一覧!P690","v":16},null,null,null,{"$f":"データ一覧!P691","v":14},null,null,null,{"$f":"データ一覧!P692","v":40},null,null,null,{"$f":"データ一覧!P693","v":356}]
["体",{"$f":"+LEFT(データ一覧!$A$213,1)","v":"2"},"団体経営体",null,null,null,{"$f":"データ一覧!P215","v":16},null,null,"50万円未満",null,null,null,null,{"$f":"データ一覧!P219","v":112},null,null,"0.5 ha ～ 1.0 ha",null,null,null,null,{"$f":"データ一覧!P235","v":70},null,null,null,null,null,null,"建設した住宅",null,null,"消失した住宅",null,null,null,null,null,null,"財産収入",null,null,null,{"$f":"データ一覧!P448","v":12742},null,null,null,null,{"$f":"データ一覧!P462","v":53575},null,null,null,null,"教育費",null,null,null,{"$f":"データ一覧!P476","v":1257394},null,null,null,null,{"$f":"データ一覧!P490","v":1127354},null,null,null,null," ２０  そ　　　の　　　他　"]
["数","・",null,"法人経営",null,null,{"$f":"データ一覧!P216","v":11},null,null,"50～300万円",null,null,null,null,{"$f":"データ一覧!P220","v":113},null,null,"1.0 ha ～ 2.0 ha",null,null,null,null,{"$f":"データ一覧!P236","v":99},null,null,null,null,null,null,null,null,null,null,null,null,null,null,null,null,"繰入金",null,null,null,{"$f":"データ一覧!P449","v":249040},null,null,null,null,{"$f":"データ一覧!P463","v":99567},null,null,null,null,"災害復旧費",null,null,null,{"$f":"データ一覧!P477","v":0},null,null,null,null,{"$f":"データ一覧!P491","v":110999}]
["（",{"$f":"+RIGHT(データ一覧!$A$213)","v":"1"},null,null,null,null,null,null,null,"300～500万円",null,null,null,null,{"$f":"データ一覧!P221","v":9},null,null,"2.0 ha ～ 3.0 ha",null,null,null,null,{"$f":"データ一覧!P237","v":33},null,null,null,{"$f":"データ一覧!P321","v":7536},null,"戸",{"$f":"データ一覧!P322","v":94},null,"戸",{"$f":"データ一覧!P323","v":44},null,"戸",null,{"$f":"データ一覧!P324","v":7586},null,"戸","地方債",null,null,null,{"$f":"データ一覧!P450","v":647800},null,null,null,null,{"$f":"データ一覧!P464","v":636600},null,null,null,null,"公債費",null,null,null,{"$f":"データ一覧!P478","v":881249},null,null,null,null,{"$f":"データ一覧!P492","v":894726},null,null,null,null,null,null,null,null,null,"曹洞宗大本山永平寺、手繰ケ城山古墳、石舟山古墳、鳥越山古墳、二本松山古墳、"]
["総",null,null,null,null,null,null,null,null,"500～1,000万円",null,null,null,null,{"$f":"データ一覧!P222","v":9},null,null,"3.0 ha ～ 5.0 ha",null,null,null,null,{"$f":"データ一覧!P238","v":43},null,null,null,null,null,null,null,null,null,null,null,null,null,null,null,null,"その他",null,null,null,{"$f":"データ一覧!P451","v":447947},null,null,null,null,{"$f":"データ一覧!P465","v":696112},null,null,null,null,"その他",null,null,null,{"$f":"データ一覧!P479","v":3000},null,null,null,null,{"$f":"データ一覧!P493","v":0},null,null,null,null,"　名所・旧跡",null,null,null,null,"波多野城跡、春日山古墳、東諏訪間１号墳、志比線刻磨崖仏、芭蕉塚、"]
["数",null,null,null,null,null,null,null,null,"1,000万円以上",null,null,null,null,{"$f":"データ一覧!P223","v":9},null,null,"5.0 ha以上",null,null,null,null,{"$f":"データ一覧!P239","v":390},null,null,null,null,null,null,null,null,null,null,null,null,null,null,null,null,null,null,null,null,null,null,null,null,null,null,null,null,null,null,null,null,null,null,null,null,null,null,null,null,null,null,null,null,"  文化財等",null,null,null,null,"島の宝篋印塔、吉峰寺、白山遙拝松と舟渡跡、火薬局跡碑、大廻り史跡、"]
["）",null,"15歳以上の常雇い数",null,null,null,null,null,null,"農業に60日以上従事した世帯員、役員・構成員\n（経営主を含む）の平均年齢",null,null,null,null,null,null,null,null,null,null,null,null,null,null,null,"  ９  議　 員　・　職 　員",null,null,null,null,null,null,null,null,null,null,null,null,null," １４  文　　　化",null,null,null,null,null,null,null," ( ",{"$f":"\"令\"&データ一覧!$A$498","v":"令6.3.31"},null,null,"ただし図書館・公民館・児童館・ 社会教育学級講座",null,null,null,null,null,null,null,null,null,null,null,{"$f":"データ一覧!$A$494","v":"6.4.1"},null,null,null,null,null,null,null,null,"天龍寺、赤井家高麗門"]
["と",null,null,null,null,null,null,null,null,null,null,null,null,null,null,null,null,null,null,null,null,null,null,null,null,null,null,null,null,null,null,null,null,null,null,null,null,null,null,null,null,null,null,null,null,null,null,null,null,null,null,null,"　宗教法人数 ",null,null,null,null,null,null,null,null,null,null,{"$f":"データ一覧!$A$502","v":"5.12.31"},null,null,null,"　　特産物",null,null,null,null,"鮎、ごまどうふ、精進料理、永平寺そば、サクラマス、日本酒"]
["就",null,null,null,null,null,null,null,null,"農業に60日以上従事",null,null,null,null,null,null,null,"農業に150日以上従事",null,null,null,null,null,null,null," 市 町 議 会",null,null,"有権者数",null,{"$f":"データ一覧!$A$328","v":"6.9.1"},null,"市 町 議 会",null,null,"  職      員      数",null,null,null,null,null,null,null,null,"図書館",null,null,null,null,null,"公　民　館",null,null,null,null,null,null,null,null,null,null," 社会教育学級講座",null,null,null,null,null,null,null,null,null,null,"油桐の葉っぱ寿し、れんげ米、にんにく、たまねぎ、スイートコーン、にんじん"]
["業",null,"区分",null,null,null,"人",null,null,"区分",null,null,null,null,"歳",null,null,"区　　分",null,null,null,null,"歳",null,null," 議  員  定  数",null,null,"    男",null,"    女",null,"選 挙 投 票 率",null,null," 総     数",null,"一般行政職",null,"公    共",null,null,null," 館  数",null,null," 図書数",null,null," 本  館",null,null," 分  館",null,null," 公  園",null,null," 児童館",null,null,"学級講座数",null,null,"受講者数",null,null," 　年中行事",null,null,null,null,"永平寺町大燈籠ながし、御像まつり、\n永平寺参ろーど禅ウォーキング、\n永平寺除夜の鐘とライトアップ、永平寺花祭り"]
["状",null,"総数",null,null,null,{"$f":"データ一覧!P230","v":9},null,null,"総数",null,null,null,null,{"$f":"データ一覧!P224","v":69.2},null,null,"総数",null,null,null,null,{"$f":"データ一覧!P227","v":70.7},null,null,null,null,"人",null,"人",null,"人",null,null,"　％",null,"人",null,"人","施 設 数",null,null,null,null,{"$f":"データ一覧!P494","v":3},null,{"$f":"データ一覧!P495","v":170253},null,null,null,{"$f":"データ一覧!P496","v":7},null,{"$f":"データ一覧!P497","v":0},null,null,{"$f":"データ一覧!P498","v":1},null,null,{"$f":"データ一覧!P499","v":3},null,null,{"$f":"データ一覧!P500","v":151},null,null,{"$f":"データ一覧!P501","v":4299}]
["況",null,"男",null,null,null,{"$f":"データ一覧!P231","v":7},null,null,"男",null,null,null,null,{"$f":"データ一覧!P225","v":68.8},null,null,"男",null,null,null,null,{"$f":"データ一覧!P228","v":70.3},null,null,null,{"$f":"データ一覧!P325","v":14},null,{"$f":"データ一覧!P328","v":7335},null,{"$f":"データ一覧!P329","v":7694},null,{"$f":"データ一覧!P327","v":"無投票"},null,null,{"$f":"データ一覧!P330","v":247},null,{"$f":"データ一覧!P331","v":101},null,"宗    教",null,null,null," 仏教系",null,null,"ｷﾘｽﾄ教系",null,null,"神道諸派",null,null,"公会堂・市民会館",null,null,null,null,null," テレビ",null,null,"衛星放送契約数"]
[null,null,"女",null,null,null,{"$f":"データ一覧!P232","v":2},null,null,"女",null,null,null,null,{"$f":"データ一覧!P226","v":70.3},null,null,"女",null,null,null,null,{"$f":"データ一覧!P229","v":71.599999999999994},null,null,null,null,null,null,null,null,null,{"$f":"データ一覧!P326","v":"4.7.10"},null,null,null,null,null,null,"法 人 数",null,null,null,{"$f":"データ一覧!P502","v":35},null,null,{"$f":"データ一覧!P503","v":1},null,null,{"$f":"データ一覧!P504","v":55},null,null,{"$f":"データ一覧!P505","v":3},null,null,null,null,null,"      等",null,null,{"$f":"データ一覧!P506","v":4654}]

{"sheet":"池田町","index":15,"n_rows":93,"n_cols":103,"rows_kept":93,"cut":false,"hidden":false,"merged":[[76,87,76,90],[76,69,76,72],[76,57,76,61],[75,62,75,66],[76,62,76,66],[76,39,76,42],[80,22,80,24],[92,14,92,16],[92,17,92,21],[85,17,85,21],[81,6,81,8],[81,9,81,13],[81,14,81,16],[82,6,82,8],[82,9,82,13],[82,14,82,16],[83,6,83,8],[83,9,83,13],[83,14,83,16],[84,6,84,8],[84,9,84,13],[84,14,84,16],[84,22,84,24],[85,6,85,8],[85,9,85,13],[85,14,85,16],[85,22,85,24],[92,6,92,8],[92,22,92,24],[90,17,90,21],[80,53,80,56],[81,53,81,56],[17,25,17,27],[18,25,18,27],[70,94,70,96],[70,79,70,81],[74,68,74,74],[72,62,72,66],[74,57,74,61],[74,62,74,66],[73,57,73,61],[68,100,68,102],[70,97,70,99],[68,94,68,96],[67,97,67,102],[27,81,27,84],[27,86,27,90],[28,68,28,72],[28,73,28,76],[28,77,28,80],[28,81,28,84],[28,86,28,90],[29,73,29,76],[29,77,29,80],[29,81,29,84],[29,86,29,90],[57,67,58,102],[71,67,72,82],[71,83,72,102],[28,91,28,94],[38,97,38,100],[32,99,32,102],[40,75,41,77],[45,57,45,61],[29,20,29,21],[35,75,35,77],[40,2,40,3],[30,68,30,72],[30,73,30,76],[30,77,30,80],[30,81,30,84],[30,86,30,90],[31,68,31,72],[31,73,31,76],[31,77,31,80],[31,81,31,84],[35,22,35,24],[35,5,35,7],[35,8,35,10],[35,11,35,13],[35,14,35,16],[35,18,35,19],[35,20,35,21],[33,83,34,96],[31,60,31,64],[30,49,30,51],[32,5,32,7],[32,8,32,10],[35,86,35,90],[35,93,35,95],[36,40,36,46],[38,60,38,64],[30,20,30,21],[31,18,31,19],[31,20,31,21],[34,18,34,19],[31,49,31,51],[31,53,31,56],[40,36,40,37],[36,29,36,30],[29,40,29,46],[28,49,28,51],[27,49,27,51],[27,53,27,56],[27,60,27,64],[35,53,35,56],[35,49,35,51],[35,60,35,64],[34,53,34,56],[39,53,39,56],[39,49,39,51],[39,40,39,46],[34,40,34,46],[34,29,34,30],[33,53,33,56],[36,49,36,51],[36,53,36,56],[36,60,36,64],[28,99,28,102],[32,91,32,94],[28,53,28,56],[30,95,30,98],[23,95,23,98],[24,91,24,94],[27,25,27,26],[27,27,27,28],[34,60,34,64],[32,95,32,98],[32,40,32,46],[31,40,31,46],[30,40,30,46],[26,73,26,76],[26,77,26,80],[26,81,26,84],[26,86,26,90],[27,68,27,72],[27,73,27,76],[27,77,27,80],[29,53,29,56],[27,35,27,36],[30,91,30,94],[28,40,28,46],[33,67,34,80],[28,60,28,64],[30,53,30,56],[27,40,27,46],[30,60,30,64],[24,37,24,38],[24,29,24,30],[27,33,27,34],[24,33,24,34],[27,31,27,32],[29,60,29,64],[29,49,29,51],[70,35,70,37],[27,99,27,102],[20,91,20,94],[21,99,21,102],[26,99,26,102],[24,95,24,98],[25,95,25,98],[21,95,21,98],[29,91,29,94],[29,95,29,98],[29,99,29,102],[26,91,26,94],[25,91,25,94],[27,95,27,98],[27,91,27,94],[22,99,22,102],[26,95,26,98],[28,95,28,98],[30,99,30,102],[31,91,31,94],[34,36,34,37],[33,40,33,46],[31,95,31,98],[31,99,31,102],[22,95,22,98],[25,99,25,102],[24,99,24,102],[25,40,25,46],[25,49,25,51],[25,53,25,56],[24,73,24,76],[23,99,23,102],[81,67,82,102],[70,32,70,33],[75,35,75,37],[70,48,70,52],[71,62,71,66],[72,53,72,56],[71,53,71,56],[73,62,73,66],[68,25,68,28],[69,25,69,28],[70,25,70,28],[38,75,38,77],[38,79,38,82],[38,67,38,73],[39,60,39,64],[39,67,39,73],[39,79,39,82],[39,75,39,77],[37,53,37,56],[37,67,37,73],[37,49,37,51],[42,75,42,77],[40,67,41,73],[40,79,41,82],[33,60,33,64],[35,68,35,72],[35,80,35,83],[37,60,37,64],[46,0,46,1],[47,0,47,1],[48,16,48,18],[48,19,48,21],[48,13,48,15],[48,0,48,1],[48,7,48,9],[49,39,49,45],[48,10,48,12],[71,57,71,61],[71,43,71,47],[71,0,71,6],[69,35,69,37],[50,25,50,28],[62,0,62,6],[72,57,72,61],[61,59,61,62],[47,19,47,21],[51,25,51,28],[50,33,50,38],[71,29,71,30],[72,19,72,21],[69,32,69,33],[72,35,72,37],[71,32,71,33],[60,0,60,6],[55,22,55,24],[55,35,55,38],[49,54,49,57],[55,0,55,6],[62,29,62,30],[49,58,49,61],[0,0,0,9],[1,0,3,9],[5,0,5,9],[14,25,15,25],[19,3,19,5],[29,5,29,7],[31,5,31,7],[31,8,31,10],[29,8,29,10],[41,16,41,18],[42,13,42,15],[47,13,47,15],[56,0,56,6],[56,16,56,18],[22,7,22,8],[42,4,42,6],[42,7,42,9],[44,0,45,1],[42,16,42,18],[22,25,22,28],[18,28,18,30],[40,29,40,30],[30,22,30,24],[31,22,31,24],[32,18,32,19],[32,20,32,21],[32,22,32,24],[54,25,54,32],[53,25,53,27],[53,29,53,31],[48,22,48,24],[33,22,33,24],[19,99,19,102],[19,81,19,84],[17,91,17,94],[17,86,17,89],[19,77,19,80],[19,25,19,28],[19,29,19,31],[21,25,21,28],[40,4,40,6],[41,4,41,6],[41,7,41,9],[29,18,29,19],[31,11,31,13],[25,31,26,32],[35,29,35,30],[21,29,21,31],[17,82,17,83],[17,100,17,101],[19,40,19,46],[19,49,19,51],[19,53,19,56],[19,60,19,64],[19,91,19,94],[19,95,19,98],[20,11,20,13],[20,16,20,18],[20,21,20,23],[20,95,20,98],[20,99,20,102],[20,25,20,28],[27,29,27,30],[21,86,21,90],[14,26,15,28],[15,29,15,30],[14,0,15,24],[16,74,16,95],[17,59,17,65],[6,0,8,9],[17,40,17,46],[17,48,17,52],[17,53,17,57],[15,32,15,33],[19,32,19,34],[15,35,15,37],[17,68,17,71],[17,73,17,76],[19,73,19,76],[19,35,19,38],[21,40,21,46],[21,49,21,51],[21,53,21,56],[21,60,21,64],[20,40,20,46],[16,32,16,33],[16,36,16,37],[21,91,21,94],[21,35,21,38],[20,73,20,76],[20,77,20,80],[20,81,20,84],[20,86,20,90],[21,73,21,76],[21,77,21,80],[21,81,21,84],[17,32,17,34],[17,36,17,38],[18,31,18,34],[18,35,18,38],[22,68,22,72],[22,73,22,76],[22,91,22,94],[22,77,22,80],[22,81,22,84],[22,86,22,90],[23,77,23,80],[20,29,20,31],[20,32,20,34],[22,40,22,46],[22,49,22,51],[22,53,22,56],[22,60,22,64],[20,35,20,38],[22,35,22,38],[22,29,22,31],[22,32,22,34],[23,29,23,31],[23,32,23,34],[23,68,23,72],[23,73,23,76],[20,60,20,64],[20,49,20,51],[20,53,20,56],[21,32,21,34],[23,91,23,94],[23,11,23,13],[23,16,23,18],[23,21,23,23],[23,25,23,28],[23,35,23,38],[23,81,23,84],[23,86,23,90],[23,40,23,46],[23,49,23,51],[23,53,23,56],[23,60,23,64],[24,68,24,72],[24,77,24,80],[24,81,24,84],[24,86,24,90],[25,73,25,76],[25,77,25,80],[25,81,25,84],[25,86,25,90],[25,25,25,26],[25,33,26,34],[26,60,26,64],[25,27,25,28],[25,37,26,38],[26,40,26,46],[26,49,26,51],[26,53,26,56],[24,40,24,46],[24,49,24,51],[24,53,24,56],[24,60,24,64],[26,68,26,72],[30,5,30,7],[30,8,30,10],[30,11,30,13],[30,14,30,16],[32,53,32,56],[32,60,32,64],[33,49,33,51],[34,49,34,51],[47,10,47,12],[34,14,34,16],[36,36,36,37],[46,25,46,28],[45,25,45,28],[41,36,41,37],[41,29,41,30],[45,29,45,30],[35,36,35,37],[41,32,41,35],[40,16,40,18],[41,19,41,21],[41,22,41,24],[32,14,32,16],[43,60,43,64],[32,11,32,13],[30,18,30,19],[33,5,33,7],[33,8,33,10],[33,11,33,13],[34,20,34,21],[34,22,34,24],[33,14,33,16],[32,49,32,51],[27,0,27,4],[27,5,27,7],[27,22,27,24],[26,22,26,24],[26,25,26,26],[26,27,26,28],[25,35,26,36],[25,60,25,64],[40,32,40,35],[42,22,42,24],[44,19,44,24],[42,19,42,21],[31,14,31,16],[24,0,25,24],[29,22,29,24],[24,31,24,32],[27,37,27,38],[24,35,24,36],[25,29,26,30],[24,27,24,28],[40,22,40,24],[40,19,40,21],[29,11,29,13],[29,14,29,16],[42,10,42,12],[40,7,40,9],[40,10,40,12],[34,8,34,10],[34,11,34,13],[41,10,41,12],[41,13,41,15],[40,13,40,15],[41,85,41,91],[34,5,34,7],[33,18,33,19],[33,20,33,21],[44,25,44,28],[44,29,44,30],[44,36,44,37],[42,32,42,35],[48,50,48,53],[48,56,48,59],[43,40,43,46],[43,49,43,51],[47,22,47,24],[43,53,43,56],[40,40,40,46],[46,29,46,30],[42,36,42,37],[35,40,35,46],[37,40,37,46],[38,40,38,46],[47,7,47,9],[47,16,47,18],[38,53,38,56],[38,49,38,51],[45,32,45,35],[46,32,46,35],[45,36,45,37],[44,32,44,35],[46,36,46,37],[41,53,41,56],[36,79,36,82],[36,85,36,91],[50,55,50,57],[48,95,48,98],[48,68,48,75],[48,80,48,82],[42,67,42,73],[45,92,45,101],[45,84,45,89],[48,99,48,102],[46,99,46,102],[48,83,48,86],[42,49,42,51],[42,79,42,82],[48,62,48,65],[48,77,48,79],[42,93,42,95],[42,53,42,56],[50,68,50,75],[50,77,50,79],[49,77,49,79],[50,59,50,61],[50,50,50,53],[57,7,57,9],[60,36,60,37],[57,22,57,24],[58,22,58,24],[60,22,60,24],[58,52,58,54],[57,47,57,50],[57,51,57,54],[59,22,59,24],[61,29,61,30],[61,0,61,6],[56,22,56,24],[59,0,59,6],[60,39,60,42],[60,29,60,30],[56,48,56,53],[60,19,60,21],[58,0,58,6],[57,0,57,6],[59,16,59,18],[58,16,58,18],[57,16,57,18],[60,16,60,18],[61,10,61,12],[61,39,61,42],[56,7,56,9],[59,7,59,9],[58,7,58,9],[60,7,60,9],[60,85,60,90],[57,58,57,60],[57,61,57,63],[62,93,62,95],[60,91,60,96],[62,16,62,18],[63,19,63,21],[64,68,64,71],[65,68,65,71],[63,94,63,96],[65,83,65,86],[65,88,65,91],[63,99,63,101],[67,57,67,61],[67,62,67,66],[66,92,66,96],[56,10,56,12],[57,13,57,15],[56,13,56,15],[60,13,60,15],[59,13,59,15],[64,16,64,18],[64,19,64,21],[67,16,67,18],[61,80,61,83],[61,63,61,66],[61,68,61,71],[62,68,62,71],[60,97,60,102],[60,59,60,62],[63,22,63,24],[58,44,58,46],[63,89,63,91],[65,73,65,76],[68,16,68,18],[68,19,68,21],[66,16,66,18],[66,32,66,34],[68,22,68,24],[66,35,66,38],[68,82,68,84],[67,82,67,84],[68,29,68,30],[65,19,65,21],[65,22,65,24],[63,74,63,76],[67,19,67,21],[68,79,68,81],[68,88,68,90],[67,53,67,56],[67,39,67,42],[67,22,67,24],[68,35,68,37],[65,39,65,42],[76,96,76,99],[73,77,73,83],[73,86,73,92],[73,95,73,101],[74,77,74,83],[74,87,74,91],[74,96,74,100],[76,78,76,81],[61,16,61,18],[61,22,61,24],[63,16,63,18],[62,22,62,24],[61,19,61,21],[65,98,65,101],[65,78,65,81],[70,72,70,75],[70,77,70,78],[67,67,70,71],[69,39,69,66],[68,39,68,42],[65,57,65,63],[66,39,66,66],[67,43,67,47],[67,48,67,52],[68,32,68,33],[68,53,68,56],[68,85,68,87],[64,22,64,24],[63,84,63,86],[66,29,66,31],[68,91,68,93],[65,16,65,18],[79,101,79,102],[79,39,79,42],[79,43,79,47],[79,48,79,52],[79,53,79,56],[79,57,79,61],[79,62,79,66],[78,95,78,98],[80,78,80,80],[80,82,80,86],[78,82,78,86],[78,87,78,90],[80,68,80,70],[80,73,80,75],[80,88,80,90],[77,91,77,94],[78,67,78,71],[79,97,79,98],[78,72,78,76],[78,77,78,81],[80,100,80,102],[78,99,78,102],[80,92,80,94],[80,96,80,98],[78,91,78,94],[77,57,77,61],[77,62,77,66],[77,82,77,86],[77,87,77,90],[77,77,77,81],[78,53,78,56],[78,62,78,66],[62,10,62,12],[60,10,60,12],[59,10,59,12],[69,10,69,12],[58,10,58,12],[55,10,55,12],[63,10,63,12],[63,13,63,15],[55,16,55,18],[59,19,59,21],[58,19,58,21],[57,19,57,21],[56,19,56,21],[55,13,55,15],[57,10,57,12],[62,19,62,21],[62,13,62,15],[65,10,65,12],[68,10,68,12],[69,19,69,21],[66,19,66,21],[67,10,67,12],[55,19,55,21],[68,13,68,15],[65,13,65,15],[66,7,66,9],[70,22,70,24],[69,13,69,15],[70,53,70,56],[71,35,71,37],[64,10,64,12],[72,39,72,42],[75,32,75,33],[69,22,69,24],[68,48,68,52],[70,19,70,21],[65,43,65,49],[70,39,70,42],[69,29,69,30],[71,25,71,28],[73,19,73,21],[72,10,72,12],[71,10,71,12],[70,10,70,12],[68,7,68,9],[69,7,69,9],[73,48,73,52],[72,48,72,52],[71,19,71,21],[72,13,72,15],[72,25,72,28],[67,7,67,9],[70,7,70,9],[70,13,70,15],[70,16,70,18],[72,29,72,30],[74,25,74,28],[83,29,83,30],[92,52,92,57],[92,61,92,66],[92,39,92,42],[92,43,92,45],[92,46,92,48],[92,49,92,51],[91,52,91,57],[91,43,91,45],[89,39,89,42],[84,57,84,61],[91,61,91,66],[90,46,90,48],[90,64,90,66],[90,61,90,63],[89,61,89,63],[88,44,88,47],[84,62,84,66],[88,61,88,66],[88,50,88,53],[91,39,91,42],[90,58,90,60],[91,49,91,51],[84,48,84,52],[84,53,84,56],[84,39,84,42],[84,43,84,47],[90,50,90,51],[92,32,92,34],[90,44,90,45],[88,30,88,31],[90,39,90,42],[75,57,75,61],[73,32,73,33],[73,35,73,37],[83,26,83,27],[83,32,83,33],[77,39,77,42],[75,39,75,42],[72,32,72,33],[83,39,83,42],[73,29,73,30],[73,25,73,28],[74,29,74,30],[82,53,82,56],[90,55,90,57],[88,32,88,34],[83,48,83,52],[83,43,83,47],[90,52,90,54],[82,39,82,42],[80,25,81,28],[83,36,83,37],[89,32,89,34],[75,43,75,47],[75,48,75,52],[75,25,75,28],[75,29,75,30],[81,43,81,47],[80,35,81,38],[80,39,80,42],[80,43,80,47],[78,57,78,61],[76,53,76,56],[81,32,81,34],[76,32,76,33],[76,35,76,37],[76,25,76,28],[73,0,73,6],[82,48,82,52],[71,7,71,9],[71,13,71,15],[71,16,71,18],[72,16,72,18],[73,7,73,9],[82,43,82,47],[80,48,80,52],[76,2,76,8],[76,9,76,16],[76,17,76,24],[77,2,78,5],[77,6,78,8],[77,9,78,13],[77,14,78,16],[77,17,78,21],[73,43,73,47],[73,39,73,42],[74,39,74,42],[81,29,81,31],[72,43,72,47],[71,48,71,52],[72,7,72,9],[78,39,78,42],[78,43,78,47],[78,48,78,52],[53,91,53,94],[52,99,52,102],[50,99,50,102],[50,80,50,82],[49,99,49,102],[42,85,42,91],[51,99,51,102],[51,87,51,90],[52,83,52,86],[53,99,53,102],[53,83,53,86],[56,99,56,102],[74,43,74,47],[74,53,74,56],[68,57,68,61],[68,62,68,66],[65,53,65,56],[70,62,70,66],[62,99,62,101],[62,87,62,89],[62,81,62,83],[62,75,62,77],[56,68,56,75],[56,77,56,79],[56,83,56,86],[55,59,55,62],[54,55,54,58],[49,62,49,66],[49,68,49,75],[73,53,73,56],[60,63,60,66],[59,59,59,62],[14,67,15,81],[14,82,15,95],[39,93,39,95],[38,93,38,95],[52,87,52,90],[52,91,52,94],[40,93,40,95],[35,98,35,101],[36,67,36,73],[56,87,56,90],[56,91,56,94],[48,87,48,90],[48,91,48,94],[50,91,50,94],[50,87,50,90],[49,87,49,90],[74,32,74,33],[74,48,74,52],[41,97,41,100],[42,97,42,100],[46,69,46,74],[46,95,46,98],[51,83,51,86],[52,68,52,75],[52,77,52,79],[51,68,51,75],[49,80,49,82],[49,83,49,86],[40,49,40,51],[40,60,40,64],[40,53,40,56],[38,85,38,91],[70,91,70,93],[55,31,55,34],[54,99,54,102],[55,68,55,75],[55,77,55,79],[55,80,55,82],[55,83,55,86],[55,99,55,102],[54,77,54,79],[54,83,54,86],[54,87,54,90],[54,91,54,94],[54,95,54,98],[55,43,55,45],[55,95,55,98],[74,35,74,37],[55,25,55,30],[56,95,56,98],[54,59,54,66],[70,57,70,61],[70,100,70,102],[70,83,70,84],[70,88,70,90],[70,85,70,87],[65,93,65,96],[66,76,66,90],[67,88,67,90],[67,79,67,81],[68,43,68,47],[68,72,68,75],[68,76,68,78],[70,29,70,30],[51,29,51,32],[51,33,51,35],[42,60,42,64],[56,39,56,42],[57,39,57,42],[51,36,51,38],[50,29,50,32],[53,33,53,34],[49,46,49,49],[83,62,83,66],[81,57,81,61],[82,57,82,61],[83,57,83,61],[81,62,81,66],[82,62,82,66],[58,64,58,66],[58,58,58,60],[58,61,58,63],[58,55,58,57],[58,48,58,50],[57,43,57,46],[77,43,77,47],[77,48,77,52],[76,43,76,47],[76,48,76,52],[77,53,77,56],[80,57,80,61],[81,39,81,42],[83,53,83,56],[81,48,81,52],[80,62,80,66],[75,53,75,56],[88,28,88,29],[74,0,75,24],[65,7,65,9],[64,13,64,15],[58,13,58,15],[65,0,65,6],[61,36,61,37],[63,0,63,6],[64,0,64,6],[71,39,71,42],[70,43,70,47],[83,22,83,24],[76,29,76,30],[91,26,91,27],[91,28,91,29],[91,30,91,31],[91,32,91,34],[91,35,91,36],[91,37,91,38],[91,46,91,48],[58,39,58,42],[73,10,73,12],[73,13,73,15],[73,16,73,18],[66,0,66,6],[72,0,72,6],[73,22,73,24],[69,16,69,18],[91,6,91,8],[91,14,91,16],[91,22,91,24],[89,6,89,8],[50,0,51,10],[89,14,89,16],[89,22,89,24],[90,6,90,8],[90,14,90,16],[90,22,90,24],[86,2,88,8],[86,9,87,24],[88,9,88,16],[88,17,88,24],[89,2,89,5],[89,9,89,13],[89,17,89,21],[90,2,90,5],[90,9,90,13],[77,22,78,24],[79,2,79,5],[79,6,79,8],[79,9,79,13],[79,14,79,16]],"merged_total":1108,"flags":["merged_cut"]}
[{"$f":"+データ一覧!Q2","v":"いまだてぐん"}]
[{"$f":"+データ一覧!Q5","v":"今立郡"}]
[null,null,null,null,null,null,null,null,null,null,null,null,null,null,null,null,null,null,null,null,null,null,null,null,null,null,null,null,null,null,null,null,null,null,null,null,null,null,null,0]
[null,null,null,null,null,null,null,null,null,null,null,null,null,null,null,null,null,null,null,null,null,null,null,null,null,null,null,"【町章とそのいわれ】「イケダ」の「イ」を簡潔明瞭に図案化し、",null,null,null,null,null,null,null,null,null,null,null,"【位置および地勢】池田町の南東は、部子山から冠山を経て岩谷山に結ぶ",null,null,null,null,null,null,null,null,null,null,null,null,null,null,null,null,null,null,null,null,null,null,null,null,null,null,null,null,null,null,"所在地",null,null,null,null,null,null,null,"〒910-2512"]
[null,null,null,null,null,null,null,null,null,null,null,null,null,null,null,null,null,null,null,null,null,null,null,null,null,null,null,"   　　　        上方に伸びるのは将来の躍進を意味し、円は和",null,null,null,null,null,null,null,null,null,null,null,"　山岳地帯で大野市、岐阜県の一部及び南条郡に接している。",null,null,null,null,null,null,null,null,null,null,null,null,null,null,null,null,null,null,null,null,null,null,null,null,null,null,null,null,null,null,null,null,null,null,null,null,null,null,"今立郡池田町稲荷第３５号４番地"]
[{"$f":"+データ一覧!Q3","v":"いけだちょう"},null,null,null,null,null,null,null,null,null,null,null,null,null,null,null,null,null,null,null,null,null,null,null,null,null,null,"   　　          と団結円満なる発展を印象づけたもの。",null,null,null,null,null,null,null,null,null,null,null,"  また北は福井市、西は越前市と連なる。  四囲山が入り組み、森林面積が"]
[{"$f":"データ一覧!Q6","v":"池田町"},null,null,null,null,null,null,null,null,null,null,null,null,null,null,null,null,null,null,null,null,null,null,null,null,null,null,0,null,null,null,null,null,null,null,null,null,null,null,"  91.7％を占める山間の地である。県境よりその源を発する足羽川は南北に",null,null,null,null,null,null,null,null,null,null,null,null,null,null,null,null,null,null,null,null,null,null,null,null,null,null,null,null,null,null,"電話番号",null,null,null,null,null,null,null,"（０７７８）４４－６０００"]
[null,null,null,null,null,null,null,null,null,null,null,null,null,null,null,null,null,null,null,null,null,null,null,null,null,null,null,0,null,null,null,null,null,null,null,null,null,null,null,"  流れ、その清流は岩をかんで渓谷をなし風光明媚である。魚見川、水海川、",null,null,null,null,null,null,null,null,null,null,null,null,null,null,null,null,null,null,null,null,null,null,null,null,null,null,null,null,null,null,"FAX番号",null,null,null,null,null,null,null,"     〃     ４４－６２９６"]
[null,null,null,null,null,null,null,null,null,null,null,null,null,null,null,null,null,null,null,null,null,null,null,null,null,null,null,0,null,null,null,null,null,null,null,null,null,null,null,"  部子川が合流する足羽川の流域に集落が点在しており、中央部は盆地を"]
[null,null,null,null,null,null,null,null,null,null,null,null,null,null,null,null,null,null,null,null,null,null,null,null,null,null,null,null,null,null,null,null,null,null,null,null,null,null,null,"  形成し560ha余りの肥沃な水田を有している。",null,null,null,null,null,null,null,null,null,null,null,null,null,null,null,null,null,null,null,null,null,null,null,null,null,null,null,null,null,null,"最寄駅および距離",null,null,null,null,null,null,null,"福鉄バス池田線稲荷　下車１００ｍ"]
[null,null,null,null,null,null,null,null,null,null,null,null,null,null,null,null,null,null,null,null,null,null,null,null,null,null,null,null,null,null,null,null,null,null,null,null,null,null,null,0,null,null,null,null,null,null,null,null,null,null,null,null,null,null,null,null,null,null,null,null,null,null,null,null,null,null,null,null,null,null,null,null,null,null,null,null,null,null,"池田町町民協働バス「マイバス」役場玄関前　下車0m"]
[]
[null,null,null,null,null,null,null,null,null,null,null,null,null,null,null,null,null,null,null,null,null,null,null,null,null,null,null,"【町が掲げる標語】あたりまえをたやさない 池田町",null,null,null,null,null,null,null,null,null,null,null,null,null,null,null,null,null,null,null,null,null,null,null,null,null,null,null,null,null,null,null,null,null,null,null,null,null,null,null,null,null,null,"ホームページ",null,null,null,null,null,null,null,"https://www.town.ikeda.fukui.jp/"]
[]
["  １  土            　　地",null,null,null,null,null,null,null,null,null,null,null,null,null,null,null,null,null,null,null,null,null,null,null,null,{"$f":"データ一覧!$A$240","v":"5年"},"産米収穫量",null,null,"　 収　穫　量",null,null," 　作 付 面 積",null,null,"   10a当たり収量",null,null,null,null,null,null,null,null,null,null,null,null,null,null,null,null,null,null,null,null,null,null,null,null,null,null,null,null,null,null,null," １５  労　　　　　　　働",null,null,null,null,null,null,null,null,null,null,null,null,null,null,"2.10.1"]
[null,null,null,null,null,null,null,null,null,null,null,null,null,null,null,null,null,null,null,null,null,null,null,null,null,null,null,null,null,{"$f":"データ一覧!$Q$240","v":1120},null,"t",{"$f":"データ一覧!$Q$241","v":265},null,"ha",{"$f":"データ一覧!Q242","v":423},null,null,"kg"," １０  工　　　　　　業 ",null,null,null,null,null,null,null,null,null,null,null,null,null,{"$f":"データ一覧!$A$332","v":"4.6.1（令和3年実績）"}]
["   総          面           積",null,null,null,null,null,null,null,null,null," 固 定 資 産 概 要 調 書 に よ る 地 目 別 面 積",null,null,null,null,null,null,null,null,null,null,null,null,null,null,null,null,null,"   総　　　数",null,null,null,"うち　　田",null,null,null,"うち　　畑",null,null,null,null,null,null,null,null,null,null,null,null,null,null,null,null,null,null,null,null,null,null,null,null,null,null,null,null,null,null,null,null,null,null,null,null,null,"産業別就業者数   "]
[null,null,{"$f":"データ一覧!$A$7","v":"6.10.1"},null,null,null,null,null,null,null,null,null,null,null,null,null,{"$f":"データ一覧!$A$9","v":"6.1.1"},null,null,null,null,null,null,null,null," 耕  地  面  積",null,null,null,"       ha",null,null,"ha ",null,null,null,"ha ",null,null,"      ","産業分類",null,null,null,null,null,null,null,"事業所数",null,null,null,null,"従業者数",null,null,null,null,null,"年間製造品出荷額等",null,null,null,null,null,null,null,null,"区  分",null,null,null,null,"総    数",null,null,null,null,"男",null,null,null,"女",null,null,"  ","区  分",null,null,null,null,"総    数",null,null,null,null,"男",null,null,null,"女"]
[null,null,null,null,null,null,"㎢",null,null,null,"   総       数",null,null,null,null,"  う ち     田",null,null,null,null,"  う ち     畑",null,null,null,null,{"$f":"データ一覧!A243","v":"5.7.15"},null,null,{"$f":"データ一覧!$Q$243","v":461},null,null,{"$f":"データ一覧!$Q$244","v":405},null,null,null,{"$f":"データ一覧!$Q$245","v":56},null,null,null,null,null,null,null,null,null,null,null,null,"　　   ",null,null,"事業所",null,"　　　　　　　 人",null,null,"人",null,"　　　　　　　　　　　　　　万円",null,null,null,null,null,null,"万円",null,null,null,null,null,null,null,"      人",null,null,null,null,null," 人",null,null,null," 人",null,null,null,null,null,null,null,"      人",null,null,null,"      人",null,null,null,"      人"]
[null,null,null,{"$f":"データ一覧!Q7","v":194.65},null,null,null,null,null,null,null,null,null,null,"ha",null,null,null,null,"ha",null,null,null,null,"ha","農 業 生 産 物",null,null,null,"作 付 面 積",null,null,"収 穫 量",null,null,"10a当たり収量",null,null,null,"     ","総数",null,null,null,null,null,null,null,null,{"$f":"データ一覧!Q332","v":7},null,null,null,{"$f":"+データ一覧!Q357","v":145},null,null,null,null,null,null,{"$f":"データ一覧!Q382","v":157044},null,null,null,null,null,null," 総　　　数",null,null,null,null,null,{"$f":"BZ20+CD20","v":1304},null,null,null,{"$f":"データ一覧!Q507","v":721},null,null,null,{"$f":"データ一覧!Q532","v":583}]
[null,null,null,null,null,null,null,null,null,null,null,{"$f":"データ一覧!Q9","v":6553.5},null,null,null,null,{"$f":"データ一覧!Q10","v":556},null,null,null,null,{"$f":"データ一覧!Q11","v":116.9},null,null,null,{"$f":"データ一覧!$A$246","v":"5年産"},null,null,null,"ha",null,null,"t",null,null,"kg",null,null,null,"     食料品","食料品",null,null,null,null,null,null,null,null,{"$f":"データ一覧!Q333","v":2},null,null,null,{"$f":"+データ一覧!Q358","v":14},null,null,null,null,null,null,{"$f":"データ一覧!Q383","v":"x"},null,null,null,null,null,null,null,null,null,null,null,null,null,null,null,null,null,null,null,null,null,null,null,null,null,"卸売業,小売業",null,null,null,null,{"$f":"CR21+CV21","v":150},null,null,null,{"$f":"データ一覧!Q520","v":70},null,null,null,{"$f":"データ一覧!Q545","v":80}]
["  町 ･ 丁 ･ 大 字",null,null,null,null,null,null,null,null,null,"  う ち  宅 地",null,null,null,null,"  う ち  山 林",null,null,null,null,"  う ち  原 野",null,null,null,null,"水　　　　　稲",null,null,null,{"$f":"データ一覧!Q246","v":265},null,null,{"$f":"データ一覧!Q247","v":1120},null,null,{"$f":"データ一覧!Q248","v":423},null,null,null,"     飲料・飼料","飲料・飼料",null,null,null,null,null,null,null,null,{"$f":"データ一覧!Q334","v":0},null,null,null,{"$f":"+データ一覧!Q359","v":0},null,null,null,null,null,null,{"$f":"データ一覧!Q384","v":0},null,null,null,null,null,null," 第１次産業",null,null,null,null,null,{"$f":"BZ22+CD22","v":124},null,null,null,{"$f":"データ一覧!Q508","v":73},null,null,null,{"$f":"データ一覧!Q533","v":51},null,null,null,null,"金融業,保険業",null,null,null,null,{"$f":"CR22+CV22","v":13},null,null,null,{"$f":"データ一覧!Q521","v":10},null,null,null,{"$f":"データ一覧!Q546","v":3}]
["  区    画    数",null,null,null,null,null,null,{"$f":"データ一覧!Q8","v":47},null,null,null,null,null,null,"ha",null,null,null,null,"ha",null,null,null,null,"ha","六　条　大　麦",null,null,null,{"$f":"データ一覧!Q249","v":"-"},null,null,{"$f":"データ一覧!Q250","v":"-"},null,null,{"$f":"データ一覧!Q251","v":"-"},null,null,null,"     繊維","繊維",null,null,null,null,null,null,null,null,{"$f":"データ一覧!Q335","v":1},null,null,null,{"$f":"+データ一覧!Q360","v":27},null,null,null,null,null,null,{"$f":"データ一覧!Q385","v":"x"},null,null,null,null,null,null,"  ","農業",null,null,null,null,{"$f":"BZ23+CD23","v":105},null,null,null,{"$f":"データ一覧!Q509","v":58},null,null,null,{"$f":"データ一覧!Q534","v":47},null,null,null,"  ","不動産業",null,null,null,null,7,null,null,null,{"$f":"データ一覧!Q522","v":3},null,null,null,{"$f":"データ一覧!Q547","v":4}]
[{"$f":"データ一覧!$A$8","v":"5.4.1"},null,null,null,null,null,null,null,null,null,null,{"$f":"データ一覧!Q12","v":96.9},null,null,null,null,{"$f":"データ一覧!Q13","v":2521.8000000000002},null,null,null,null,{"$f":"データ一覧!Q14","v":81.7},null,null,null,"大　　      豆",null,null,null,{"$f":"データ一覧!Q252","v":3},null,null,{"$f":"データ一覧!Q253","v":2},null,null,{"$f":"データ一覧!Q254","v":73},null,null,null,"     衣服","木材",null,null,null,null,null,null,null,null,{"$f":"データ一覧!Q336","v":0},null,null,null,{"$f":"+データ一覧!Q361","v":0},null,null,null,null,null,null,{"$f":"データ一覧!Q386","v":0},null,null,null,null,null,null,"  ","林業",null,null,null,null,19,null,null,null,{"$f":"データ一覧!Q510","v":15},null,null,null,{"$f":"データ一覧!Q535","v":4},null,null,null,"  ","学術研究",null,null,null,null,15,null,null,null,{"$f":"データ一覧!Q523","v":9},null,null,null,{"$f":"データ一覧!Q548","v":6}]
["  ２  世　帯　数　と　人　口",null,null,null,null,null,null,null,null,null,null,null,null,null,null,null,null,null,null,null,null,null,null,null,null,null,null,"  区　分",null," 乳 用 牛",null," 肉 用 牛",null,"豚",null,"採卵鶏",null,"ブロイラー",null,"     木材","家具",null,null,null,null,null,null,null,null,{"$f":"データ一覧!Q337","v":0},null,null,null,{"$f":"+データ一覧!Q362","v":0},null,null,null,null,null,null,{"$f":"データ一覧!Q387","v":0},null,null,null,null,null,null,"  ","漁業",null,null,null,null,0,null,null,null,0,null,null,null,0,null,null,null,"  ","宿泊業,飲食ｻｰﾋﾞｽ",null,null,null,null,77,null,null,null,{"$f":"データ一覧!Q524","v":28},null,null,null,{"$f":"データ一覧!Q549","v":49}]
[null,null,null,null,null,null,null,null,null,null,null,null,null,null,null,null,null,null,null,null,null,null,null,null,null,"畜　産",null," 飼養農家",null,{"$f":"データ一覧!$Q$255","v":0},null,{"$f":"データ一覧!$Q$257","v":3},null,{"$f":"データ一覧!$Q$259","v":0},null,{"$f":"データ一覧!$Q$261","v":1},null,{"$f":"データ一覧!$Q$263","v":0},null,"     家具","パルプ・紙",null,null,null,null,null,null,null,null,{"$f":"データ一覧!Q338","v":0},null,null,null,{"$f":"+データ一覧!Q363","v":0},null,null,null,null,null,null,{"$f":"データ一覧!Q388","v":0},null,null,null,null,null,null," 第２次産業",null,null,null,null,null,458,null,null,null,{"$f":"データ一覧!Q512","v":319},null,null,null,{"$f":"データ一覧!Q537","v":139},null,null,null,"  ","生活関連ｻｰﾋﾞｽ業",null,null,null,null,36,null,null,null,{"$f":"データ一覧!Q525","v":11},null,null,null,{"$f":"データ一覧!Q550","v":25}]
[null,null,null,null,null,null,null,null,"        人　　　　　　　　　　口",null,null,null,null,null,null,null,null,null,null,null,"１世帯当",null,"人    口",null,null,{"$f":"データ一覧!$A$255","v":"6.3.31"},null,"（戸）",null,null,null,null,null,null,null,null,null,null,null,"     パルプ・紙","印刷",null,null,null,null,null,null,null,null,{"$f":"データ一覧!Q339","v":0},null,null,null,{"$f":"+データ一覧!Q364","v":0},null,null,null,null,null,null,{"$f":"データ一覧!Q389","v":0},null,null,null,null,null,null,null,"鉱業，採石業",null,null,null,null,0,null,null,null,0,null,null,null,0,null,null,null,"  ","教育,学習支援業",null,null,null,null,46,null,null,null,{"$f":"データ一覧!Q526","v":20},null,null,null,{"$f":"データ一覧!Q551","v":26}]
[" 区　　　　分",null,null,null,null,"世帯数",null,null," 総   数",null,null,"    男",null,null,"    女",null,null,"  男／女",null,null,"たり人員",null,"密    度",null,null,null,null," 頭 羽",null,{"$f":"データ一覧!$Q$256","v":0},null,{"$f":"データ一覧!$Q$258","v":208},null,{"$f":"データ一覧!$Q$260","v":0},null,{"$f":"データ一覧!$Q$262","v":400},null,{"$f":"データ一覧!$Q$264","v":0},null,"     出版・印刷","化学",null,null,null,null,null,null,null,null,{"$f":"データ一覧!Q340","v":0},null,null,null,{"$f":"+データ一覧!Q365","v":0},null,null,null,null,null,null,{"$f":"データ一覧!Q390","v":0},null,null,null,null,null,null,"  ","建設業",null,null,null,null,200,null,null,null,{"$f":"データ一覧!Q514","v":183},null,null,null,{"$f":"データ一覧!Q539","v":17},null,null,null,null,"医療，福祉",null,null,null,null,187,null,null,null,{"$f":"データ一覧!Q527","v":37},null,null,null,{"$f":"データ一覧!Q552","v":150}]
[null,null,null,null,null,"    世 帯",null,null,"       人",null,null,"       人",null,null,"       人",null,null,null,"　　％",null,"    人",null,"    人/㎢",null,null,null,null,null,null,null,null,null,null,null,null,null,null,null,null,"     化学","石油・石炭",null,null,null,null,null,null,null,null,{"$f":"データ一覧!Q341","v":0},null,null,null,{"$f":"+データ一覧!Q366","v":0},null,null,null,null,null,null,{"$f":"データ一覧!Q391","v":0},null,null,null,null,null,null,null,"製造業",null,null,null,null,258,null,null,null,{"$f":"データ一覧!Q515","v":136},null,null,null,{"$f":"データ一覧!Q540","v":122},null,null,null,null,"複合サービス事業",null,null,null,null,18,null,null,null,{"$f":"データ一覧!Q528","v":11},null,null,null,{"$f":"データ一覧!Q553","v":7}]
[{"$f":"データ一覧!$A$22","v":" 2.10.1"},null,null,null,null,{"$f":"データ一覧!Q22","v":1130},null,null,{"$f":"+L30+O30","v":4203},null,null,{"$f":"データ一覧!Q24","v":2051},null,null,{"$f":"データ一覧!Q25","v":2152},null,null,null,{"$f":"+L30/O30*100","v":95.306691449814124},null,{"$f":"データ一覧!Q27","v":3.72},null,{"$f":"データ一覧!Q28","v":21.6},null,null,"  ５  林               業",null,null,null,null,null,null,null,null,null,null,null,null,null,"     石油・石炭","プラスチック",null,null,null,null,null,null,null,null,{"$f":"データ一覧!Q342","v":0},null,null,null,{"$f":"+データ一覧!Q367","v":0},null,null,null,null,null,null,{"$f":"データ一覧!Q392","v":0},null,null,null,null,null,null," 第３次産業",null,null,null,null,null,719,null,null,null,{"$f":"データ一覧!Q516","v":328},null,null,null,{"$f":"データ一覧!Q541","v":391},null,null,null,null,"サービス業",null,null,null,null,59,null,null,null,{"$f":"データ一覧!Q529","v":44},null,null,null,{"$f":"データ一覧!Q554","v":15}]
[{"$f":"データ一覧!$A$29","v":" 7.10.1"},null,null,null,null,{"$f":"データ一覧!Q29","v":1115},null,null,{"$f":"+L31+O31","v":4032},null,null,{"$f":"データ一覧!Q31","v":1957},null,null,{"$f":"データ一覧!Q32","v":2075},null,null,null,94.313253012048193,null,{"$f":"データ一覧!Q34","v":3.62},null,{"$f":"データ一覧!Q35","v":20.7},null,null,null,null,null,null,null,null,null,null,null,null,null,null,null,null,"     プラスチック","ゴム",null,null,null,null,null,null,null,null,{"$f":"データ一覧!Q343","v":0},null,null,null,{"$f":"+データ一覧!Q368","v":0},null,null,null,null,null,null,{"$f":"データ一覧!Q393","v":0},null,null,null,null,null,null,null,"電気･ｶﾞｽ･水道業",null,null,null,null,3,null,null,null,{"$f":"データ一覧!Q517","v":3},null,null,null,0,null,null,null,null,"公務",null,null,null,null,61,null,null,null,{"$f":"データ一覧!Q530","v":44},null,null,null,{"$f":"データ一覧!Q555","v":17}]
[{"$f":"データ一覧!$A$36","v":"12.10.1"},null,null,null,null,{"$f":"データ一覧!Q36","v":1095},null,null,{"$f":"+L32+O32","v":3759},null,null,{"$f":"データ一覧!Q38","v":1825},null,null,{"$f":"データ一覧!Q39","v":1934},null,null,null,94.364012409513961,null,{"$f":"データ一覧!Q41","v":3.43},null,{"$f":"データ一覧!Q42","v":19.3},null,null,"    　森　　　林　　　総　　　面　　　積   ",null,null,null,null,null,null,null,{"$f":"データ一覧!$A$265","v":"5.3.31"},null,null,null,null,null,"     ゴム","皮革",null,null,null,null,null,null,null,null,{"$f":"データ一覧!Q344","v":0},null,null,null,{"$f":"+データ一覧!Q369","v":0},null,null,null,null,null,null,{"$f":"データ一覧!Q394","v":0},null,null,null,null,null,null,null,"情報通信業",null,null,null,null,7,null,null,null,{"$f":"データ一覧!Q518","v":4},null,null,null,{"$f":"データ一覧!Q543","v":3},null,null,null," 分類不能の産業",null,null,null,null,null,3,null,null,null,{"$f":"データ一覧!Q531","v":1},null,null,null,{"$f":"データ一覧!Q556","v":2}]
[{"$f":"+データ一覧!$A$43","v":"17.10.1"},null,null,null,null,{"$f":"データ一覧!Q43","v":1060},null,null,{"$f":"+L33+O33","v":3405},null,null,{"$f":"データ一覧!Q45","v":1643},null,null,{"$f":"データ一覧!Q46","v":1762},null,null,null,93.246311010215663,null,{"$f":"データ一覧!Q48","v":3.21},null,{"$f":"データ一覧!Q49","v":17.5},null,null,"　　　森　　　　　　　林　　　　　　　の　　　　　　　構　　　　　　　成",null,null,null,null,null,null,null,null,null,null,null,null,null,"     皮革","窯業・土石",null,null,null,null,null,null,null,null,{"$f":"データ一覧!Q345","v":0},null,null,null,{"$f":"+データ一覧!Q370","v":0},null,null,null,null,null,null,{"$f":"データ一覧!Q395","v":0},null,null,null,null,null,null,"  ","運輸業,郵便業",null,null,null,null,{"$f":"BZ33+CD33","v":40},null,null,null,{"$f":"データ一覧!Q519","v":34},null,null,null,{"$f":"データ一覧!Q544","v":6}]
[{"$f":"+データ一覧!$A$50","v":"22.10.1"},null,null,null,null,{"$f":"+データ一覧!Q50","v":1006},null,null,{"$f":"+L34+O34","v":3046},null,null,{"$f":"+データ一覧!Q52","v":1449},null,null,{"$f":"+データ一覧!Q53","v":1597},null,null,null,90.732623669380089,null,{"$f":"+データ一覧!Q55","v":3.03},null,{"$f":"+データ一覧!Q56","v":15.6},null,null,null,null,null,null,null,"       ha",null,null,null,null,null,null,"       ha",null,"     窯業・土石","鉄鋼",null,null,null,null,null,null,null,null,{"$f":"データ一覧!Q346","v":0},null,null,null,{"$f":"+データ一覧!Q371","v":0},null,null,null,null,null,null,{"$f":"データ一覧!Q396","v":0},null,null,null,null,null,null," １６  社　 会 　福　 祉",null,null,null,null,null,null,null,null,null,null,null,null,null,null,null,{"$f":"データ一覧!$A$557","v":"6.4.1"}]
[{"$f":"データ一覧!$A$57","v":"27.10.1"},null,null,null,null,{"$f":"データ一覧!Q57","v":902},null,null,{"$f":"データ一覧!Q58","v":2638},null,null,{"$f":"データ一覧!Q59","v":1250},null,null,{"$f":"データ一覧!Q60","v":1388},null,null,null,90.057636887608069,null,{"$f":"データ一覧!Q62","v":2.9246119733924614},null,{"$f":"データ一覧!Q63","v":13.6},null,null,"  総　　　　　   数",null,null,null,{"$f":"データ一覧!Q265","v":17846.75},null,null," 天然林       針葉樹",null,null,null,{"$f":"データ一覧!Q268","v":30.63},null,null,"     鉄鋼","非鉄金属",null,null,null,null,null,null,null,null,{"$f":"データ一覧!Q347","v":0},null,null,null,{"$f":"+データ一覧!Q372","v":0},null,null,null,null,null,null,{"$f":"データ一覧!Q397","v":0}]
["令　2.10.1（国調）",null,null,null,null,{"$f":"データ一覧!Q64","v":948},null,null,{"$f":"データ一覧!Q65","v":2423},null,null,{"$f":"データ一覧!Q66","v":1196},null,null,{"$f":"データ一覧!Q67","v":1227},null,null,null,{"$f":"+L36/O36*100","v":97.473512632436837},null,{"$f":"データ一覧!Q69","v":2.5559071729957807},null,{"$f":"データ一覧!Q70","v":12.447983560236322},null,null,"  人工林     針葉樹",null,null,null,{"$f":"データ一覧!Q266","v":7955.16},null,null," 天然林       広葉樹",null,null,null,{"$f":"データ一覧!Q269","v":9256.43},null,null,"     非鉄金属","金属",null,null,null,null,null,null,null,null,{"$f":"データ一覧!Q348","v":0},null,null,null,{"$f":"+データ一覧!Q373","v":0},null,null,null,null,null,null,{"$f":"データ一覧!Q398","v":0},null,null,null,null,null,null,"    ","区分",null,null,null,null,null,null,"施設数",null,null,null,null,"収容定員",null,null,null,null,null,"区分",null,null,null,null,null,null,"施設数",null,null,null,null,"収容定員"]
["年",null,"  区",null," 0歳",null,null,"15歳",null,null,"25歳",null,null,"35歳",null,null,"45歳",null,null,"55歳",null,null,"65歳",null,null,"  人工林     広葉樹",null,null,null,{"$f":"データ一覧!Q267","v":185.21},null,null," 竹               林",null,null,null,{"$f":"データ一覧!Q270","v":1.62},null,null,"     金属","はん用機械",null,null,null,null,null,null,null,null,{"$f":"データ一覧!Q349","v":0},null,null,null,{"$f":"+データ一覧!Q374","v":0},null,null,null,null,null,null,{"$f":"データ一覧!Q399","v":0},null,null,null,null,null,null,"生活保護施設",null,null,null,null,null,null,null,{"$f":"データ一覧!Q557","v":"-"},null,null,null,{"$f":"データ一覧!Q570","v":"-"},null,null,null,"人",null,"指定障害者支援施設",null,null,null,null,null,null,null,{"$f":"データ一覧!Q563","v":"-"},null,null,null,{"$f":"データ一覧!Q576","v":"-"},null,null,null,"人"]
["齢","令",null,null,null,"～",null,null,"～",null,null,"～",null,null,"～",null,null,"～",null,null,"～",null,null,null,null,null,null,null,null,null,null,null,null,null,null,null,null,null,null,"     一般機械","生産用機械",null,null,null,null,null,null,null,null,{"$f":"データ一覧!Q350","v":0},null,null,null,{"$f":"+データ一覧!Q375","v":0},null,null,null,null,null,null,{"$f":"データ一覧!Q400","v":0},null,null,null,null,null,null,"地域福祉施設",null,null,null,null,null,null,null,{"$f":"データ一覧!Q558","v":"-"},null,null,null,{"$f":"データ一覧!Q571","v":"-"},null,null,null,null,null,"指定相談支援事業所",null,null,null,null,null,null,null,{"$f":"データ一覧!Q564","v":"-"},null,null,null,{"$f":"データ一覧!Q577","v":"-"}]
["階",{"$f":"+LEFT(データ一覧!$A$83,1)","v":"6"},"  分",null,null,null,"14歳",null,null,"24歳",null,null,"34歳",null,null,"44歳",null,null,"54歳",null,null,"64歳",null,null,"以上","    林     野     の     構     成",null,null,null,null,null,null,"保     有     形     態     別",null,null,null,null,null,null,"     電気機械","業務用機械",null,null,null,null,null,null,null,null,{"$f":"データ一覧!Q351","v":0},null,null,null,{"$f":"+データ一覧!Q376","v":0},null,null,null,null,null,null,{"$f":"データ一覧!Q401","v":0},null,null,null,null,null,null,"老人福祉施設",null,null,null,null,null,null,null,{"$f":"データ一覧!Q559","v":3},null,null,null,{"$f":"データ一覧!Q572","v":22},null,null,null,null,null,"児童福祉施設",null,null,null,null,null,null,null,{"$f":"データ一覧!Q565","v":2},null,null,null,{"$f":"データ一覧!Q578","v":80}]
["級","・",null,null,null,null,"人",null,null,"人",null,"    人",null,null,"    人",null,null,"    人",null,null,"    人",null,null,"    人",null,null,null,null,null,null,null,"ha",null,null,null,null,null,"       ha",null,null,"電子・デバイス",null,null,null,null,null,null,null,null,{"$f":"データ一覧!Q352","v":1},null,null,null,{"$f":"+データ一覧!Q377","v":5},null,null,null,null,null,null,{"$f":"データ一覧!Q402","v":"x"},null,null,null,null,null,null,"介護保険施設",null,null,null,null,null,null,null,{"$f":"データ一覧!Q560","v":6},null,null,null,{"$f":"データ一覧!Q573","v":107},null,null,null,null,null,"母子福祉施設",null,null,null,null,null,null,null,{"$f":"データ一覧!Q566","v":"-"},null,null,null,{"$f":"データ一覧!Q579","v":"-"}]
["別",{"$f":"+MID(データ一覧!$A$83,3,2)","v":"10"},"総 数",null,{"$f":"+E42+E43","v":159},null,null,{"$f":"+H42+H43","v":117},null,null,{"$f":"+K42+K43","v":138},null,null,{"$f":"+N42+N43","v":178},null,null,{"$f":"+Q42+Q43","v":242},null,null,{"$f":"+T42+T43","v":316},null,null,{"$f":"+W42+W43","v":998},null,null," 無立木地   伐採跡地",null,null,null,{"$f":"データ一覧!Q271","v":8.3699999999999992},null,null,"国   　　　 　 有",null,null,null,{"$f":"データ一覧!Q273","v":2264.64},null,null,null,"電気機械",null,null,null,null,null,null,null,null,{"$f":"データ一覧!Q353","v":1},null,null,null,{"$f":"+データ一覧!Q378","v":82},null,null,null,null,null,null,{"$f":"データ一覧!Q403","v":"x"},null,null,null,null,null,null,"障害者自立支援法施行前からの身体障害者福祉施設",null,null,null,null,null,null,null,{"$f":"データ一覧!Q561","v":"-"},null,null,null,{"$f":"データ一覧!Q574","v":"-"},null,null,null,null,null,"婦人保護施設",null,null,null,null,null,null,null,{"$f":"データ一覧!Q567","v":"-"},null,null,null,{"$f":"データ一覧!Q580","v":"-"}]
["人","・","  男",null,{"$f":"データ一覧!Q83","v":84},null,null,{"$f":"データ一覧!Q84","v":64},null,null,{"$f":"データ一覧!Q85","v":79},null,null,{"$f":"データ一覧!Q86","v":101},null,null,{"$f":"データ一覧!Q87","v":142},null,null,{"$f":"データ一覧!Q88","v":165},null,null,{"$f":"データ一覧!Q89","v":437},null,null," 無立木地   未立木地",null,null,null,{"$f":"データ一覧!Q272","v":409.33},null,null,"公       　　  有",null,null,null,{"$f":"データ一覧!Q274","v":2198.13},null,null,"     輸送機械","情報通信機械",null,null,null,null,null,null,null,null,{"$f":"データ一覧!Q354","v":0},null,null,null,{"$f":"+データ一覧!Q379","v":0},null,null,null,null,null,null,{"$f":"データ一覧!Q404","v":0},null,null,null,null,null,null,null,null,null,null,null,null,null,null,null,null,null,null,null,null,null,null,null,null,"その他の社会福祉施設",null,null,null,null,null,null,null,{"$f":"データ一覧!Q568+データ一覧!Q569","v":0},null,null,null,0]
["口",{"$f":"+RIGHT(データ一覧!$A$83,1)","v":"1"},"  女",null,{"$f":"データ一覧!Q91","v":75},null,null,{"$f":"データ一覧!Q92","v":53},null,null,{"$f":"データ一覧!Q93","v":59},null,null,{"$f":"データ一覧!Q94","v":77},null,null,{"$f":"データ一覧!Q95","v":100},null,null,{"$f":"データ一覧!Q96","v":151},null,null,{"$f":"データ一覧!Q97","v":561},null,null,null,null,null,null,null,null,null,"私          　 有",null,null,null,{"$f":"データ一覧!Q275","v":13383.98},null,null,"     精密機械","輸送機械",null,null,null,null,null,null,null,null,{"$f":"データ一覧!Q355","v":0},null,null,null,{"$f":"+データ一覧!Q380","v":0},null,null,null,null,null,null,{"$f":"データ一覧!Q405","v":0},null,null,null,null,null,null,"障害福祉サービス事業所",null,null,null,null,null,null,null,{"$f":"データ一覧!Q562","v":3},null,null,null,{"$f":"データ一覧!Q575","v":20}]
[null,null,null,null,null,null,null,null,null,null,null,null,null,null,null,null,null,null,null,null,null,null,null,null,null,"            林     産     物     生     産     量 ",null,null,null,null,null,null,null,null,null,{"$f":"データ一覧!$A$276","v":"5年中"},null,null,null,"     その他","その他",null,null,null,null,null,null,null,null,{"$f":"データ一覧!Q356","v":2},null,null,null,{"$f":"+データ一覧!Q381","v":17},null,null,null,null,null,null,{"$f":"データ一覧!Q406","v":"x"},null,null,null,null,null,null," １７  教　　　　　　　育",null,null,null,null,null,null,null,null,null,null,null,null,null,null,null,{"$f":"データ一覧!$A$583","v":"6.5.1"}]
["人口動態",null,null,null,null,null,null,"   自　然　動　態",null,null,null,null,null,"   社  会  動  態",null,null,null,null,null,{"$f":"データ一覧!$A78","v":"5.1.1～5.12.31"},null,null,null,null,null,"生椎茸",null,null,null,{"$f":"データ一覧!Q276","v":0},null,"㎏","乾椎茸",null,null,null,{"$f":"データ一覧!Q277","v":0},null,"㎏"]
[null,null,"   区       分",null,null,null,null," 出   生",null,null," 死   亡",null,null," 転   入",null,null," 転   出",null,null," 婚   姻",null,null," 離   婚",null,null,"えのきだけ",null,null,null,{"$f":"データ一覧!Q279","v":0},null,"㎏","なめこ",null,null,null,{"$f":"データ一覧!Q278","v":0},null,"㎏","    ","工　業　用　水　量",null,null,null,null,null,"（従業者30人以上の事業所）",null,null,null,null,null,null,null,null,null,null,{"$f":"データ一覧!Q407","v":"x"},null,null,null,null,"㎥／日",null,null,null,null,null,null,null,null,null,null,null,null,null,null,"学校数（校）",null,null,null,null,null,null,"教員数（人）",null,null,null,null,null,null,null,"学生・生徒・児童数（人）"]
[{"$f":"LEFT(データ一覧!$A74,6)","v":"5.10.1"},null,null,null,null,null,null,"       人",null,null,"       人",null,null,"       人",null,null,"       人",null,null,null,"    件",null,null,"    件",null,"ひらたけ",null,null,null,{"$f":"+データ一覧!Q280","v":0},null,"㎏","まいたけ",null,null,null,{"$f":"+データ一覧!Q281","v":0},null,"㎏",null,null,null,null,null,null,null,null,null,null,null,null,null,null,null,null,null,null,null,null,null,null,null,null,null,null,null,null,null,"　","区分",null,null,null,null,null,null,null," 本 校",null,null," 分 校",null,null," 本   務",null,null,null," 兼   務",null,null,null," 総   数",null,null,null,"男",null,null,null,"女"]
["～",null," 実          数",null,null,null,null,{"$f":"データ一覧!Q74","v":10},null,null,{"$f":"データ一覧!Q75","v":48},null,null,{"$f":"データ一覧!Q76","v":45},null,null,{"$f":"データ一覧!Q77","v":54},null,null,{"$f":"データ一覧!Q78","v":1},null,null,{"$f":"データ一覧!Q79","v":1},null,null,null,null,null,null,null,null,null,null,null,null,null,null,null,null," １１ 　上　・　下　水　道",null,null,null,null,null,null,null,null,null,null,null,null,null,null,null,null,null,null,null,null,null,null,null,null,null,null,null,null,"小学校",null,null,null,null,null,null,null,null,{"$f":"データ一覧!Q584","v":1},null,null,{"$f":"データ一覧!Q585","v":0},null,null,{"$f":"データ一覧!Q586","v":11},null,null,null,{"$f":"データ一覧!Q587","v":7},null,null,null,{"$f":"データ一覧!Q588","v":69},null,null,null,{"$f":"データ一覧!Q589","v":37},null,null,null,{"$f":"データ一覧!Q590","v":32}]
[{"$f":"RIGHT(データ一覧!$A76,6)","v":"6.9.30"},null,"比率(対1,000人)",null,null,null,null,{"$f":"+H48/I36*1000","v":4.1271151465125877},null,null,{"$f":"+K48/I36*1000","v":19.810152703260421},null,null,"- ",null,null,"- ",null,null,{"$f":"+T48/I36*1000","v":0.41271151465125877},null,null,{"$f":"+W48/I36*1000","v":0.41271151465125877},null,null,"  ６  漁               業",null,null,null,null,null,null,null,null,null,null,null,null,null,null,null,null,null,null,null,null,null,null,null,null,null,null,null,null,null,null,null,null,null,null,null,null,null,null,null,null,null,"  ","中学校",null,null,null,null,null,null,null,null,{"$f":"データ一覧!Q592","v":1},null,null,{"$f":"データ一覧!Q593","v":0},null,null,{"$f":"データ一覧!Q594","v":12},null,null,null,{"$f":"データ一覧!Q595","v":2},null,null,null,{"$f":"データ一覧!Q596","v":40},null,null,null,{"$f":"データ一覧!Q597","v":18},null,null,null,{"$f":"データ一覧!Q598","v":22}]
[null,null,null,null,null,null,null,null,null,null,null,null,null,null,null,null,null,null,null,null,null,null,null,null,null,null,null,null,null,null,null,null,null,null,null,null,null,null,null,"水 道 供 給 人 口",null,null,null,null,null,null,"上 水 道",null,null,null,"簡易水道",null,null,null,"専用水道",null,null,null,"飲料水供給施設",null,null,null,"下水道処理人口",null,null,null,null,"  ","高等学校",null,null,null,null,null,null,null,null,{"$f":"データ一覧!Q600","v":0},null,null,{"$f":"データ一覧!Q601","v":0},null,null,{"$f":"データ一覧!Q602","v":0},null,null,null,{"$f":"データ一覧!Q603","v":0},null,null,null,{"$f":"データ一覧!Q604","v":0},null,null,null,{"$f":"データ一覧!Q605","v":0},null,null,null,{"$f":"データ一覧!Q606","v":0}]
["  ３  事　　業　　所（民　　営）",null,null,null,null,null,null,null,null,null,null,"3.6.1",null,null,null,null,null,null,null,null,null,null,null,null,null,"漁船隻数・トン数",null,null,null,{"$f":"データ一覧!$A$282","v":"5.12.31"},null,null,null,"動　力　船",null,null,null,null,null,{"$f":"データ一覧!$A$408","v":"6.3.31"},null,null,null,null,null,"人",null,{"$f":"データ一覧!Q408","v":0},null,null,{"$f":"データ一覧!Q409","v":1995},null,null,null,null,{"$f":"データ一覧!Q410","v":0},null,null,null,{"$f":"データ一覧!Q411","v":0},null,null,null,{"$f":"データ一覧!Q412","v":1913},null,null,null,"  ","大学・短期大学",null,null,null,null,null,null,null,null,{"$f":"データ一覧!Q607","v":0},null,null,{"$f":"データ一覧!Q608","v":0},null,null,{"$f":"データ一覧!Q609","v":0},null,null,null,{"$f":"データ一覧!Q610","v":0},null,null,null,{"$f":"データ一覧!Q611","v":0},null,null,null,{"$f":"データ一覧!Q612","v":0},null,null,null,{"$f":"データ一覧!Q613","v":0}]
[null,null,null,null,null,null,null,null,null,null,null,null,null,null,null,null,null,null,null,null,null,null,null,null,null,"無動力船隻数",null,null,null,"船外機付漁船隻数",null,null,null,"隻　数",null,null,"総 ト ン 数",null,null,null,null,null,null,null,null,null,null,null,null,null,null,null,null,null,null,null,null,null,null,null,null,null,null,null,null,null,null,"  ","高等専門学校",null,null,null,null,null,null,null,null,{"$f":"データ一覧!Q614","v":0},null,null,{"$f":"データ一覧!Q615","v":0},null,null,{"$f":"データ一覧!Q616","v":0},null,null,null,{"$f":"データ一覧!Q617","v":0},null,null,null,{"$f":"データ一覧!Q618","v":0},null,null,null,{"$f":"データ一覧!Q619","v":0},null,null,null,{"$f":"データ一覧!Q620","v":0}]
[null,null,null,null,null,null,null,"    総　　　　　数",null,null,null,null,null,"    民　　　　　営",null,null,null,null,null,"  国 ･ 地方公共団体",null,null,null,null,null,null,null,null,"隻",null,null,null,"隻",null,null,"隻",null,null,"t"," １２  交   通　・　通   信",null,null,null,null,null,null,null,null,null,null,null,null,null,null,null,null,null,null,null,null,null,null,null,null,null,null,null,"  ","特別支援学校",null,null,null,null,null,null,null,null,{"$f":"+データ一覧!Q622","v":0},null,null,{"$f":"+データ一覧!Q623","v":0},null,null,{"$f":"+データ一覧!Q624","v":0},null,null,null,{"$f":"+データ一覧!Q625","v":0},null,null,null,{"$f":"+データ一覧!Q626","v":0},null,null,null,{"$f":"+データ一覧!Q627","v":0},null,null,null,{"$f":"+データ一覧!Q628","v":0}]
["  　区　　　　　　分",null,null,null,null,null,null," 事業所数",null,null," 従業者数",null,null," 事業所数",null,null," 従業者数",null,null," 事業所数",null,null," 従業者数",null,null,{"$f":"データ一覧!$Q$282","v":0},null,null,null,{"$f":"データ一覧!$Q$283","v":0},null,null,null,{"$f":"データ一覧!Q284","v":0},null,null,{"$f":"データ一覧!Q285","v":0},null,null,null,null,null,null,null,null,null,null,null,null,null,null,null,null,null,null,null,null,null,null,null,null,null,null,null,null,null,null,"  ","幼稚園",null,null,null,null,null,null,null,null,{"$f":"データ一覧!Q630","v":0},null,null,{"$f":"データ一覧!Q631","v":0},null,null,{"$f":"データ一覧!Q632","v":0},null,null,null,{"$f":"データ一覧!Q633","v":0},null,null,null,{"$f":"データ一覧!Q634","v":0},null,null,null,{"$f":"データ一覧!Q635","v":0},null,null,null,{"$f":"データ一覧!Q636","v":0}]
[null,null,null,null,null,null,null,null,null,null,"       人",null,null,null,null,null,"       人",null,null,null,null,null,"       人",null,null,"  男女別就業者数",null,null,null,null,null,null,null,{"$f":"データ一覧!$A$286","v":"5.11.1"},null,null,null,null,null,"道     路",null,null,null,"実 延 長",null,null,null,"国     道",null,null,null,"県     道",null,null,null,"市町道",null,null,null," 鉄 道 営 業 キ ロ 数",null,null,null,null,null,null,null,"  ","幼保連携認定こども園",null,null,null,null,null,null,null,null,{"$f":"データ一覧!Q638","v":1},null,null,{"$f":"データ一覧!Q639","v":0},null,null,{"$f":"データ一覧!Q640","v":9},null,null,null,{"$f":"データ一覧!Q641","v":4},null,null,null,{"$f":"データ一覧!Q642","v":48},null,null,null,{"$f":"データ一覧!Q643","v":21},null,null,null,{"$f":"データ一覧!Q644","v":27}]
["総数",null,null,null,null,null,null,{"$f":"データ一覧!Q99","v":"…"},null,null,{"$f":"データ一覧!Q156","v":"…"},null,null,{"$f":"データ一覧!Q100","v":151},null,null,{"$f":"データ一覧!Q157","v":932},null,null,{"$f":"データ一覧!Q101","v":"…"},null,null,{"$f":"データ一覧!Q158","v":"…"},null,null,"総　　数",null,null,null,null,null,"男",null,null,null,"女",null,null,null,{"$f":"データ一覧!$A$413","v":"5.4.1"},null,null,null,{"$f":"データ一覧!Q413","v":165.2},null,null,"㎞",{"$f":"データ一覧!Q414","v":37.200000000000003},null,null,"㎞",{"$f":"データ一覧!Q415","v":39},null,null,"㎞",{"$f":"データ一覧!Q416","v":89},null,null,"km",{"$f":"データ一覧!$A$417","v":"6.4.1"},null,null,null,{"$f":"データ一覧!Q417","v":0},null,null,"㎞","  ","各種学校",null,null,null,null,null,null,null,null,{"$f":"データ一覧!Q646","v":0},null,null,{"$f":"データ一覧!Q647","v":0},null,null,{"$f":"データ一覧!Q648","v":0},null,null,null,{"$f":"データ一覧!Q649","v":0},null,null,null,{"$f":"データ一覧!Q650","v":0},null,null,null,{"$f":"データ一覧!Q651","v":0},null,null,null,{"$f":"データ一覧!Q652","v":0}]
["農林漁業",null,null,null,null,null,null,{"$f":"データ一覧!Q102","v":"…"},null,null,{"$f":"データ一覧!Q159","v":"…"},null,null,{"$f":"データ一覧!Q103","v":12},null,null,{"$f":"データ一覧!Q160","v":137},null,null,{"$f":"データ一覧!Q104","v":"…"},null,null,{"$f":"データ一覧!Q161","v":"…"},null,null,null,null,null,null,null,"人",null,null,"　　　　人",null,null,null,null,"  人","自動車",null,null,null,null,null,null,null,null,"乗用車",null,null,null,null,null,null,null,null,null,null,null,null,null,null,null,null,null,null,"  ","専修学校",null,null,null,null,null,null,null,null,{"$f":"データ一覧!Q654","v":0},null,null,{"$f":"データ一覧!Q655","v":0},null,null,{"$f":"データ一覧!Q656","v":0},null,null,null,{"$f":"データ一覧!Q657","v":0},null,null,null,{"$f":"データ一覧!Q658","v":0},null,null,null,{"$f":"データ一覧!Q659","v":0},null,null,null,{"$f":"データ一覧!Q660","v":0}]
["鉱業",null,null,null,null,null,null,{"$f":"データ一覧!Q105","v":"…"},null,null,{"$f":"データ一覧!Q162","v":"…"},null,null,{"$f":"データ一覧!Q106","v":"-"},null,null,{"$f":"データ一覧!Q163","v":"-"},null,null,{"$f":"データ一覧!Q107","v":"…"},null,null,{"$f":"データ一覧!Q164","v":"…"},null,null,{"$f":"データ一覧!Q286","v":0},null,null,null,null,null,{"$f":"データ一覧!$Q$287","v":0},null,null,null,{"$f":"データ一覧!Q288","v":0},null,null,null,"台  数",null,null,null,"貨    物",null,null,null,"普     通",null,null,null,"小     型",null,null,null,"乗  合",null,null,"特  種",null,null,"小型二輪",null,null,"軽自動車",null,null," １８  衛　　　　　　　生"]
["建設業",null,null,null,null,null,null,{"$f":"データ一覧!Q108","v":"…"},null,null,{"$f":"データ一覧!Q165","v":"…"},null,null,{"$f":"データ一覧!Q109","v":23},null,null,{"$f":"データ一覧!Q166","v":122},null,null,{"$f":"データ一覧!Q110","v":"…"},null,null,{"$f":"データ一覧!Q167","v":"…"},null,null,"　　　　海 面 漁 業 漁 獲 量 （属人）",null,null,null,null,null,null,null,{"$f":"データ一覧!$A$289","v":"30年中"},null,null,null,null,null,{"$f":"データ一覧!$A$418","v":"6.3.31"},null,null,null,null,{"$f":"データ一覧!Q418","v":144},null,null,null,{"$f":"データ一覧!Q420","v":463},null,null,null,{"$f":"データ一覧!Q421","v":411},null,null,{"$f":"データ一覧!Q419","v":6},null,null,{"$f":"データ一覧!Q422","v":83},null,null,{"$f":"データ一覧!Q423","v":30},null,null,{"$f":"データ一覧!Q424","v":1258}]
["製造業",null,null,null,null,null,null,{"$f":"データ一覧!Q111","v":"…"},null,null,{"$f":"データ一覧!Q168","v":"…"},null,null,{"$f":"データ一覧!Q112","v":30},null,null,{"$f":"データ一覧!Q169","v":210},null,null,{"$f":"データ一覧!Q113","v":"…"},null,null,{"$f":"データ一覧!Q170","v":"…"},null,null,null,null,null,null,null,"       ","ｔ",null,null,null,null,null,null,"t",null,null,"     ",null,"郵　便　局　数",null,null,null,null,null,null,null,null,null,null,null,null,null,{"$f":"+MID(データ一覧!$A$428,3,2)","v":"3."},"令","一般加入",null,null,null,"ＩＮＳネット",null,null,null,null,null,null,null,"医療関係施設",null,null,null,null,null,{"$f":"データ一覧!$A$661","v":"5.10.1"},null,null,null,null,null,null,"および医療関係者数",null,null,null,null,null,null,null,{"$f":"データ一覧!$A$666","v":"4.12.31"}]
["電気・ｶﾞ ｽ・熱供給・水道業",null,null,null,null,null,null,{"$f":"データ一覧!Q114","v":"…"},null,null,{"$f":"データ一覧!Q171","v":"…"},null,null,{"$f":"データ一覧!Q115","v":"-"},null,null,{"$f":"データ一覧!Q172","v":"-"},null,null,{"$f":"データ一覧!Q116","v":"…"},null,null,{"$f":"データ一覧!Q173","v":"…"},null,null,"   総　　　　　　数",null,null,null,{"$f":"データ一覧!Q289","v":0},null,null,"   藻　　　　　　類",null,null,null,{"$f":"データ一覧!Q292","v":0},null,null,"通  信",null,null,null," 総     数",null,null,null,null," 郵 便 局",null,null,null,null," 簡 易 局",null,null,null,"・",{"$f":"+LEFT(データ一覧!$A$428,1)","v":"6"},"電話数",null,null,null,"加入数",null,null,null,null,null,null,null,null,null,"　","病",null,null,"院",null,"　",null,null,null,null," ","一般診療所",null,null,null,null,null,null,null,null,null,null,null,"歯科診療所"]
["情報通信業",null,null,null,null,null,null,{"$f":"データ一覧!Q117","v":"…"},null,null,{"$f":"データ一覧!Q174","v":"…"},null,null,{"$f":"データ一覧!Q118","v":1},null,null,{"$f":"データ一覧!Q175","v":1},null,null,{"$f":"データ一覧!Q119","v":"…"},null,null,{"$f":"データ一覧!Q176","v":"…"},null,null,"   魚　　　　　　類",null,null,null,{"$f":"データ一覧!Q290","v":0},null,null,"   そ　   の　　 他",null,null,null,{"$f":"データ一覧!Q293","v":0},null,null,{"$f":"データ一覧!$A$428","v":"6.3.31"},null,null,null,{"$f":"データ一覧!Q425","v":2},null,null,null,null,{"$f":"データ一覧!Q426","v":2},null,null,null,null,{"$f":"データ一覧!Q427","v":0},null,null,null,{"$f":"+RIGHT(データ一覧!$A$428,2)","v":"31"},"・",{"$f":"データ一覧!Q428","v":230},null,null,null,{"$f":"データ一覧!Q429","v":68},null,null,null," ","医療関係",null,null,null,null,null,null,null,null,null,null,null,"一般病院",null,null,null,null,null,null,null,null,null,null,null,"有",null,null,"床"]
["運輸業、郵便業",null,null,null,null,null,null,{"$f":"データ一覧!Q120","v":"…"},null,null,{"$f":"データ一覧!Q177","v":"…"},null,null,{"$f":"データ一覧!Q121","v":3},null,null,{"$f":"データ一覧!Q178","v":20},null,null,{"$f":"データ一覧!Q122","v":"…"},null,null,{"$f":"データ一覧!Q179","v":"…"},null,null,"   貝　　　　　　類",null,null,null,{"$f":"データ一覧!Q291","v":0},null,null,null,null,null,null,null,null,null,null,null,null,null,null,null,null,null,null,null,null,null,null,null,null,null,null,null,null,null,null,null,null,null,null,null,null,null,null,"施設数",null,null,null,null,null,null,{"$f":"データ一覧!Q661","v":0},null,null,null,null,null,{"$f":"データ一覧!Q662","v":0},null,null,null,null,null,{"$f":"データ一覧!Q663","v":4},null,null,null,null,null,{"$f":"データ一覧!Q664","v":0},null,null,null,null,null,{"$f":"データ一覧!Q665","v":1}]
["卸売業、小売業",null,null,null,null,null,null,{"$f":"データ一覧!Q123","v":"…"},null,null,{"$f":"データ一覧!Q180","v":"…"},null,null,{"$f":"データ一覧!Q124","v":27},null,null,{"$f":"データ一覧!Q181","v":109},null,null,{"$f":"データ一覧!Q125","v":"…"},null,null,{"$f":"データ一覧!Q182","v":"…"},null,null,null,null,null,null,null,null,null,null,null,null,null,null,null,null," １３  税　　・　　財　　政",null,null,null,null,null,null,null,null,null,null,null,null,null,null,null,null,null,null,null,null,null,null,null,null,null,null,null,null,null,null,null,null,null,null,"医師",null,null,null,null,"歯科医師",null,null,null,null,"薬剤師",null,null,null,null,"保健師",null,null,null,null,"助産師",null,null," ",null,"看護師",null,null," "]
["金融業、保険業",null,null,null,null,null,null,{"$f":"データ一覧!Q126","v":"…"},null,null,{"$f":"データ一覧!Q183","v":"…"},null,null,{"$f":"データ一覧!Q127","v":1},null,null,{"$f":"データ一覧!Q184","v":1},null,null,{"$f":"データ一覧!Q128","v":"…"},null,null,{"$f":"データ一覧!Q185","v":"…"},null,null,"  ７  商        　　　業 ",null,null,null,null,null,null,{"$f":"データ一覧!$A$294","v":"3.6.1(令和2年実績）"},null,null,null,null,null,null,null,null,null,null,null,null,null,null,null,null,null,null,null,null,null,null,null,null,null,null,null,null,null,null,null,null,null,null," ","医療",null,null,null,null,null,null,null,null,"人",null,null,null,null,"人",null,null,null,null,"人",null,null,null,null,"人",null,null,null,null,"人",null,null,null,null,"人"]
["不動産業、物品賃貸業",null,null,null,null,null,null,{"$f":"データ一覧!Q129","v":"…"},null,null,{"$f":"データ一覧!Q186","v":"…"},null,null,{"$f":"データ一覧!Q130","v":"-"},null,null,{"$f":"データ一覧!Q187","v":"-"},null,null,{"$f":"データ一覧!Q131","v":"…"},null,null,{"$f":"データ一覧!Q188","v":"…"},null,null,null,null,null,null,null,null,null,null,null,null,null,null,null,null,"           ",null,null,null,"歳入",null,null,null,null,null,null,null,null,"(千円）"," ",null,null,null,"歳出",null,null,null,null,null,null,null,null,"(千円）",null,"関係者",null,null,null,null,{"$f":"データ一覧!Q666","v":2},null,null,null,null,{"$f":"データ一覧!Q667","v":21},null,null,null,null,{"$f":"データ一覧!Q668","v":0},null,null,null,null,{"$f":"データ一覧!Q669","v":4},null,null,null,null,{"$f":"データ一覧!Q670","v":0},null,null,null,null,{"$f":"データ一覧!Q671","v":15}]
["学術研究、専門・技術ｻｰﾋﾞｽ業",null,null,null,null,null,null,{"$f":"データ一覧!Q132","v":"…"},null,null,{"$f":"データ一覧!Q189","v":"…"},null,null,{"$f":"データ一覧!Q133","v":4},null,null,{"$f":"データ一覧!Q190","v":7},null,null,{"$f":"データ一覧!Q134","v":"…"},null,null,{"$f":"データ一覧!Q191","v":"…"},null,null,"  産   業　 分　 類",null,null,null," 事　業　所　数",null,null," 従　業　者　数",null,null,"年　間　販　売　額",null,null,null,"一人当たり歳入歳出予算決算額",null,null,null,null,null,null,null,null,null,null,null,null,null,null,null,null,null,null,null,null,null,null,null,null,null,null,null,"                   ",null,null,null,null,null,null,null,null,"死因別死亡数　　　    ",null,null,null,null,null,null,null,null,null,null,null,null,null,null,null,{"$f":"データ一覧!$A$672","v":"5年中"},null,null,null,null,null,null,null,null,"      単 位：人"]
["宿泊業、飲食サービス業",null,null,null,null,null,null,{"$f":"データ一覧!Q135","v":"…"},null,null,{"$f":"データ一覧!Q192","v":"…"},null,null,{"$f":"データ一覧!Q136","v":15},null,null,{"$f":"データ一覧!Q193","v":62},null,null,{"$f":"データ一覧!Q137","v":"…"},null,null,{"$f":"データ一覧!Q194","v":"…"},null,null,null,null,null,null,null,null,null,null,null,"　人",null,"         百万円",null,null,"区分",null,null,null,{"$f":"データ一覧!$A$438","v":"6年度"},null,null,null,null,{"$f":"データ一覧!$A$452","v":"5年度"},null,null,null,null,"区分",null,null,null,{"$f":"+AR68","v":"6年度"},null,null,null,null,{"$f":"データ一覧!$A$452","v":"5年度"},null,null,null,null," 死     因",null,null,null,null,null,null,null,null,null,null,null,"悪  性",null,null,"高血圧",null,null,null,null,null,"脳血管",null,null,null,null,null," ",null,null,"不慮の事故"]
["生活関連サービス業、娯楽業",null,null,null,null,null,null,{"$f":"データ一覧!Q138","v":"…"},null,null,{"$f":"データ一覧!Q195","v":"…"},null,null,{"$f":"データ一覧!Q139","v":11},null,null,{"$f":"データ一覧!Q196","v":35},null,null,{"$f":"データ一覧!Q140","v":"…"},null,null,{"$f":"データ一覧!Q197","v":"…"},null,null,"総　　　　　　計",null,null,null,{"$f":"データ一覧!Q294","v":25},null,null,{"$f":"データ一覧!Q303","v":101},null,null,{"$f":"データ一覧!Q312","v":721},null,null,null,null,null,null,null,{"$f":"データ一覧!Q434","v":1840316.5735567971},null,null,null,null,{"$f":"データ一覧!Q435","v":2391298.861047836},null,null,null,null,null,null,null,null,{"$f":"データ一覧!Q436","v":1840316.5735567971},null,null,null,null,{"$f":"データ一覧!Q437","v":2102860.5922551253},null,null,null,null,null,null,null,null,null,"全 死 因",null,null,null,"結 核",null,null,"新生物",null,null,"性疾患",null,null,"心疾患",null,null,"疾  患",null,null,"肺  炎",null,null,"老  衰",null,null,null,null," ","交通事故"]
["教育、学習支援業",null,null,null,null,null,null,{"$f":"データ一覧!Q141","v":"…"},null,null,{"$f":"データ一覧!Q198","v":"…"},null,null,{"$f":"データ一覧!Q142","v":1},null,null,{"$f":"データ一覧!Q199","v":1},null,null,{"$f":"データ一覧!Q143","v":"…"},null,null,{"$f":"データ一覧!Q200","v":"…"},null,null,"卸売業",null,null,null,{"$f":"データ一覧!Q295","v":1},null,null,{"$f":"データ一覧!Q304","v":4},null,null,{"$f":"データ一覧!Q313","v":"-"},null,null,null,"項目別歳入歳出予算決算額"]
["医療、福祉",null,null,null,null,null,null,{"$f":"データ一覧!Q144","v":"…"},null,null,{"$f":"データ一覧!Q201","v":"…"},null,null,{"$f":"データ一覧!Q145","v":5},null,null,{"$f":"データ一覧!Q202","v":122},null,null,{"$f":"データ一覧!Q146","v":"…"},null,null,{"$f":"データ一覧!Q203","v":"…"},null,null,"小売業",null,null,null,{"$f":"データ一覧!Q296","v":24},null,null,{"$f":"データ一覧!Q305","v":97},null,null,{"$f":"データ一覧!Q314","v":721},null,null,null,"区分",null,null,null,{"$f":"データ一覧!$A$438","v":"6年度"},null,null,null,null,{"$f":"データ一覧!$A$452","v":"5年度"},null,null,null,null,"区分",null,null,null,{"$f":"+AR71","v":"6年度"},null,null,null,null,{"$f":"データ一覧!$A$452","v":"5年度"},null,null,null,null,null,null,null,null,null,{"$f":"データ一覧!Q672","v":49},null,null,null,"   －",{"$f":"データ一覧!Q673","v":"-"},null,{"$f":"データ一覧!Q674","v":9},null,null,null,{"$f":"データ一覧!Q675","v":"-"},null,{"$f":"データ一覧!Q676","v":9},null,null,{"$f":"データ一覧!Q677","v":3},null,null,{"$f":"データ一覧!Q678","v":3},null,null,{"$f":"データ一覧!Q679","v":9},null,null,{"$f":"データ一覧!Q680","v":4},null,null,{"$f":"データ一覧!Q681","v":"-"}]
["複合サービス事業",null,null,null,null,null,null,{"$f":"データ一覧!Q147","v":"…"},null,null,{"$f":"データ一覧!Q204","v":"…"},null,null,{"$f":"データ一覧!Q148","v":3},null,null,{"$f":"データ一覧!Q205","v":18},null,null,{"$f":"データ一覧!Q149","v":"…"},null,null,{"$f":"データ一覧!Q206","v":"…"},null,null,"各種商品",null,null,null,{"$f":"データ一覧!Q297","v":"-"},null,null,{"$f":"データ一覧!Q306","v":"-"},null,null,{"$f":"データ一覧!Q315","v":"-"},null,null,null,"総額",null,null,null,{"$f":"SUM(AR73:AV85)","v":3953000},null,null,null,null,{"$f":"SUM(AW73:BA85)","v":5248901},null,null,null,null,"総額",null,null,null,{"$f":"SUM(BF73:BJ85)","v":3953000},null,null,null,null,{"$f":"SUM(BK73:BO85)","v":4615779},null,null,null,null," １９  警　察　・　消　防  ",null,null,null,null,null,null,null,null,null,null,null,null,null,null,null,{"$f":"+データ一覧!$A682","v":"6.4.1"}]
["サービス業",null,null,null,null,null,null,{"$f":"データ一覧!Q150","v":"…"},null,null,{"$f":"データ一覧!Q207","v":"…"},null,null,{"$f":"データ一覧!Q151","v":15},null,null,{"$f":"データ一覧!Q208","v":87},null,null,{"$f":"データ一覧!Q152","v":"…"},null,null,{"$f":"データ一覧!Q209","v":"…"},null,null,"織物・衣服・身の回り品",null,null,null,{"$f":"データ一覧!Q298","v":2},null,null,{"$f":"データ一覧!Q307","v":3},null,null,{"$f":"データ一覧!Q316","v":"-"},null,null,null,"地方税",null,null,null,{"$f":"データ一覧!Q439","v":256496},null,null,null,null,{"$f":"データ一覧!Q453","v":255206},null,null,null,null,"議会費",null,null,null,{"$f":"データ一覧!Q467","v":50262},null,null,null,null,{"$f":"データ一覧!Q481","v":50282}]
["公務",null,null,null,null,null,null,{"$f":"データ一覧!Q153","v":"…"},null,null,{"$f":"データ一覧!Q210","v":"…"},null,null,{"$f":"データ一覧!Q154","v":"…"},null,null,{"$f":"データ一覧!Q211","v":"…"},null,null,{"$f":"データ一覧!Q155","v":"…"},null,null,{"$f":"データ一覧!Q212","v":"…"},null,null,"飲食料品",null,null,null,{"$f":"データ一覧!Q299","v":8},null,null,{"$f":"データ一覧!Q308","v":44},null,null,{"$f":"データ一覧!Q317","v":248},null,null,null,"地方譲与税",null,null,null,{"$f":"データ一覧!Q440","v":72724},null,null,null,null,{"$f":"データ一覧!Q454","v":58242},null,null,null,null,"総務費",null,null,null,{"$f":"データ一覧!Q468","v":829470},null,null,null,null,{"$f":"データ一覧!Q482","v":854360},null,null,null,null,null,null,null,null,null,null,null,null,null,null,"交番・駐在所",null,null,null,null,null,null,null,null,"刑法犯認知件数",null,null,null,null,null,null,null,null,"交通人身事故発生件数"]
["  ４  農        　　　業 ",null,null,null,null,null,null,null,null,null,null,null,null,null,null,null,null,null,null,null,null,null,null,null,null,"機械器具",null,null,null,{"$f":"データ一覧!Q300","v":4},null,null,{"$f":"データ一覧!Q309","v":15},null,null,{"$f":"データ一覧!Q318","v":145},null,null,null,"各種交付金",null,null,null,{"$f":"データ一覧!Q441","v":75852},null,null,null,null,{"$f":"データ一覧!Q455","v":72953},null,null,null,null,"民生費",null,null,null,{"$f":"データ一覧!Q469","v":355884},null,null,null,null,{"$f":"データ一覧!Q483","v":481333},null,null,null,null,null,"警察署数",null,null,null,null,null,null,null,null,"検問所数",null,null,null,null,null,null,null,null,null,{"$f":"データ一覧!$A$684","v":"5年中"},null,null,null,null,null,null,null,null,{"$f":"データ一覧!$A$684","v":"5年中"}]
[null,null,null,null,null,null,null,null,null,null,null,null,null,null,null,null,null,null,null,null,null,null,null,null,null,"その他",null,null,null,{"$f":"データ一覧!Q301","v":9},null,null,{"$f":"データ一覧!Q310","v":32},null,null,{"$f":"データ一覧!Q319","v":"x"},null,null,null,"地方特例交付金",null,null,null,{"$f":"データ一覧!Q442","v":500},null,null,null,null,{"$f":"データ一覧!Q456","v":469},null,null,null,null,"衛生費",null,null,null,{"$f":"データ一覧!Q470","v":224873},null,null,null,null,{"$f":"データ一覧!Q484","v":207781},null,null,null,null,null,null,null,null,null,null,null,null,null,null,null,null,null,null,null,null,null,null,null,null,null,null,null,null," 件",null,null,null,null,null,null,null,null,"　件"]
[null,null,"農業経営体数",null,null,null,null,null,null,"農産物販売額規模別経営体数",null,null,null,null,null,null,null,"経営耕地面積規模別経営体数",null,null,null,null,null,null,null,"無店舗",null,null,null,{"$f":"データ一覧!Q302","v":1},null,null,{"$f":"データ一覧!Q311","v":3},null,null,{"$f":"データ一覧!Q320","v":"x"},null,null,null,"地方交付税",null,null,null,{"$f":"データ一覧!Q443","v":2067000},null,null,null,null,{"$f":"データ一覧!Q457","v":2239000},null,null,null,null,"労働費",null,null,null,{"$f":"データ一覧!Q471","v":2050},null,null,null,null,{"$f":"データ一覧!Q485","v":2050},null,null,null,null,null,null,{"$f":"データ一覧!Q682","v":0},null,null,null,null,null,null,null,null,{"$f":"データ一覧!Q683","v":2},null,null,null,null,null,null,null,null,{"$f":"データ一覧!Q684","v":1},null,null,null,null,null,null,null,null,{"$f":"データ一覧!Q685","v":0}]
["農",null,"区　分",null,null,null,"経営体数\n（経営体）",null,null,"区　分",null,null,null,null,"経営体数\n（経営体）",null,null,"区　分",null,null,null,null,"経営体数\n（経営体）",null,null,null,null,null,null,null,null,null,null,null,null,null,null,null,null,"分担金および負担金",null,null,null,{"$f":"データ一覧!Q444","v":13443},null,null,null,null,{"$f":"データ一覧!Q458","v":8138},null,null,null,null,"農林水産業費",null,null,null,{"$f":"データ一覧!Q472","v":538208},null,null,null,null,{"$f":"データ一覧!Q486","v":656000},null,null,null,null,"火災発生件数",null,null,null,null,null,null,null,null,null,"林野焼損",null,null,null,null,"損      害",null,null,null,null,"消 防 自",null,null,null,"その他の",null,null,null," ",null,null,null,null," "]
["業","令",null,null,null,null,null,null,null,null,null,null,null,null,null,null,null,null,null,null,null,null,null,null,null,"  ８  住　　　　　　 　宅",null,null,null,null,null,null,null,null,null,null,null,null,null,"使用料および手数料",null,null,null,{"$f":"データ一覧!Q445","v":62608},null,null,null,null,{"$f":"データ一覧!Q459","v":44211},null,null,null,null,"商工費",null,null,null,{"$f":"データ一覧!Q473","v":136456},null,null,null,null,{"$f":"データ一覧!Q487","v":925150},null,null,null,null,{"$f":"+データ一覧!$A$686","v":"5年中"},null,null,null,null,"焼損棟数",null,null,null,null,"面    積",null,null,null,null,"見  積  額",null,null,null,null,"動 車 数",null,null,null,"ﾎﾟﾝﾌﾟ数",null,null,null," 消防吏員",null,null,null," 消防団員"]
["経",{"$f":"+LEFT(データ一覧!$A$213)","v":"2"},"計",null,null,null,{"$f":"データ一覧!Q213","v":125},null,null,"総　　　 数",null,null,null,null,{"$f":"データ一覧!Q217","v":125},null,null,"総　　　 数",null,null,null,null,{"$f":"データ一覧!Q233","v":327},null,null,null,null,null,null,null,null,null,null,null,null,null,null,null,null,"国庫支出金",null,null,null,{"$f":"データ一覧!Q446","v":287724},null,null,null,null,{"$f":"データ一覧!Q460","v":163736},null,null,null,null,"土木費",null,null,null,{"$f":"データ一覧!Q474","v":539866},null,null,null,null,{"$f":"データ一覧!Q488","v":415721},null,null,null,null,"         件",null,null,null,null,null,"      棟",null,null,null,null,null,null,"  ａ",null,null,null,"  千円",null,null,"        ",null,null,null,null,null,null,null,null,null,"  人",null,null,null,"  人"]
["営","・","個人経営体",null,null,null,{"$f":"データ一覧!Q214","v":108},null,null,"販 売 な し",null,null,null,null,{"$f":"データ一覧!Q218","v":13},null,null,"0.5 ha 未満",null,null,null,null,{"$f":"データ一覧!Q234","v":15},null,null,{"$f":"+データ一覧!$A$321","v":"4年"},null,null,null,null,{"$f":"データ一覧!$A$324","v":"5年"},"中の増減",null,null,null,{"$f":"+データ一覧!$A$324","v":"5年"},null,null,null,"県支出金",null,null,null,{"$f":"データ一覧!Q447","v":303316},null,null,null,null,{"$f":"データ一覧!Q461","v":369612},null,null,null,null,"消防費",null,null,null,{"$f":"データ一覧!Q475","v":112446},null,null,null,null,{"$f":"データ一覧!Q489","v":102308},null,null,null,null,null,{"$f":"データ一覧!Q686","v":1},null,null,null,null,{"$f":"データ一覧!Q687","v":0},null,null,null,null,{"$f":"データ一覧!Q688","v":10},null,null,null,{"$f":"データ一覧!Q689","v":0},null,null,null,null,null,{"$f":"データ一覧!Q690","v":2},null,null,null,{"$f":"データ一覧!Q691","v":0},null,null,null,{"$f":"データ一覧!Q692","v":9},null,null,null,{"$f":"データ一覧!Q693","v":55}]
["体",{"$f":"+LEFT(データ一覧!$A$213,1)","v":"2"},"団体経営体",null,null,null,{"$f":"データ一覧!Q215","v":17},null,null,"50万円未満",null,null,null,null,{"$f":"データ一覧!Q219","v":58},null,null,"0.5 ha ～ 1.0 ha",null,null,null,null,{"$f":"データ一覧!Q235","v":26},null,null,null,null,null,null,"建設した住宅",null,null,"消失した住宅",null,null,null,null,null,null,"財産収入",null,null,null,{"$f":"データ一覧!Q448","v":29334},null,null,null,null,{"$f":"データ一覧!Q462","v":13873},null,null,null,null,"教育費",null,null,null,{"$f":"データ一覧!Q476","v":365651},null,null,null,null,{"$f":"データ一覧!Q490","v":438302},null,null,null,null," ２０  そ　　　の　　　他　"]
["数","・",null,"法人経営",null,null,{"$f":"データ一覧!Q216","v":12},null,null,"50～300万円",null,null,null,null,{"$f":"データ一覧!Q220","v":34},null,null,"1.0 ha ～ 2.0 ha",null,null,null,null,{"$f":"データ一覧!Q236","v":22},null,null,null,null,null,null,null,null,null,null,null,null,null,null,null,null,"繰入金",null,null,null,{"$f":"データ一覧!Q449","v":403581},null,null,null,null,{"$f":"データ一覧!Q463","v":205673},null,null,null,null,"災害復旧費",null,null,null,{"$f":"データ一覧!Q477","v":0},null,null,null,null,{"$f":"データ一覧!Q491","v":11133}]
["（",{"$f":"+RIGHT(データ一覧!$A$213)","v":"1"},null,null,null,null,null,null,null,"300～500万円",null,null,null,null,{"$f":"データ一覧!Q221","v":2},null,null,"2.0 ha ～ 3.0 ha",null,null,null,null,{"$f":"データ一覧!Q237","v":9},null,null,null,{"$f":"データ一覧!Q321","v":1036},null,"戸",{"$f":"データ一覧!Q322","v":3},null,"戸",{"$f":"データ一覧!Q323","v":10},null,"戸",null,{"$f":"データ一覧!Q324","v":1029},null,"戸","地方債",null,null,null,{"$f":"データ一覧!Q450","v":242500},null,null,null,null,{"$f":"データ一覧!Q464","v":943300},null,null,null,null,"公債費",null,null,null,{"$f":"データ一覧!Q478","v":535467},null,null,null,null,{"$f":"データ一覧!Q492","v":471359},null,null,null,null,null,null,null,null,null,"須波阿湏疑神社、冠山、部子山、龍双ヶ滝、稲荷の大杉、水海の田楽・能舞"]
["総",null,null,null,null,null,null,null,null,"500～1,000万円",null,null,null,null,{"$f":"データ一覧!Q222","v":9},null,null,"3.0 ha ～ 5.0 ha",null,null,null,null,{"$f":"データ一覧!Q238","v":11},null,null,null,null,null,null,null,null,null,null,null,null,null,null,null,null,"その他",null,null,null,{"$f":"データ一覧!Q451","v":137922},null,null,null,null,{"$f":"データ一覧!Q465","v":874488},null,null,null,null,"その他",null,null,null,{"$f":"データ一覧!Q479","v":262367},null,null,null,null,{"$f":"データ一覧!Q493","v":0},null,null,null,null,"　名所・旧跡",null,null,null,null,"堀口家住宅、梅田氏庭園、かずら橋"]
["数",null,null,null,null,null,null,null,null,"1,000万円以上",null,null,null,null,{"$f":"データ一覧!Q223","v":9},null,null,"5.0 ha以上",null,null,null,null,{"$f":"データ一覧!Q239","v":244},null,null,null,null,null,null,null,null,null,null,null,null,null,null,null,null,null,null,null,null,null,null,null,null,null,null,null,null,null,null,null,null,null,null,null,null,null,null,null,null,null,null,null,null,"  文化財等",null,null,null,null,0]
["）",null,"15歳以上の常雇い数",null,null,null,null,null,null,"農業に60日以上従事した世帯員、役員・構成員\n（経営主を含む）の平均年齢",null,null,null,null,null,null,null,null,null,null,null,null,null,null,null,"  ９  議　 員　・　職 　員",null,null,null,null,null,null,null,null,null,null,null,null,null," １４  文　　　化",null,null,null,null,null,null,null," ( ",{"$f":"\"令\"&データ一覧!$A$498","v":"令6.3.31"},null,null,"ただし図書館・公民館・児童館・ 社会教育学級講座",null,null,null,null,null,null,null,null,null,null,null,{"$f":"データ一覧!$A$494","v":"6.4.1"},null,null,null,null,null,null,null,null,0]
["と",null,null,null,null,null,null,null,null,null,null,null,null,null,null,null,null,null,null,null,null,null,null,null,null,null,null,null,null,null,null,null,null,null,null,null,null,null,null,null,null,null,null,null,null,null,null,null,null,null,null,null,"　宗教法人数 ",null,null,null,null,null,null,null,null,null,null,{"$f":"データ一覧!$A$502","v":"5.12.31"},null,null,null,"　　特産物",null,null,null,null,"うららの米(池田町こしひかり）、ばんこもち、きびだんご、おこもじ（漬物）、越のルビートマトジュース、米粉パン、ままの水、おろしそば、みそ、しょうゆ、木工品（池田町産材使用）、足羽杉、しめ縄"]
["就",null,null,null,null,null,null,null,null,"農業に60日以上従事",null,null,null,null,null,null,null,"農業に150日以上従事",null,null,null,null,null,null,null," 市 町 議 会",null,null,"有権者数",null,{"$f":"データ一覧!$A$328","v":"6.9.1"},null,"市 町 議 会",null,null,"  職      員      数",null,null,null,null,null,null,null,null,"図書館",null,null,null,null,null,"公　民　館",null,null,null,null,null,null,null,null,null,null," 社会教育学級講座"]
["業",null,"区分",null,null,null,"人",null,null,"区分",null,null,null,null,"歳",null,null,"区　　分",null,null,null,null,"歳",null,null," 議  員  定  数",null,null,"    男",null,"    女",null,"選 挙 投 票 率",null,null," 総     数",null,"一般行政職",null,"公    共",null,null,null," 館  数",null,null," 図書数",null,null," 本  館",null,null," 分  館",null,null," 公  園",null,null," 児童館",null,null,"学級講座数",null,null,"受講者数"]
["状",null,"総数",null,null,null,{"$f":"データ一覧!Q230","v":7},null,null,"総数",null,null,null,null,{"$f":"データ一覧!Q224","v":68.2},null,null,"総数",null,null,null,null,{"$f":"データ一覧!Q227","v":66},null,null,null,null,"人",null,"人",null,"人",null,null,"　％",null,"人",null,"人","施 設 数",null,null,null,null,{"$f":"データ一覧!Q494","v":1},null,{"$f":"データ一覧!Q495","v":46896},null,null,null,{"$f":"データ一覧!Q496","v":1},null,{"$f":"データ一覧!Q497","v":0},null,null,{"$f":"データ一覧!Q498","v":0},null,null,{"$f":"データ一覧!Q499","v":1},null,null,{"$f":"データ一覧!Q500","v":9},null,null,{"$f":"データ一覧!Q501","v":136},null,null," 　年中行事",null,null,null,null,"池田大祭（6月9日～11日）、葉月薪能（8月中旬）、"]
["況",null,"男",null,null,null,{"$f":"データ一覧!Q231","v":6},null,null,"男",null,null,null,null,{"$f":"データ一覧!Q225","v":67.400000000000006},null,null,"男",null,null,null,null,{"$f":"データ一覧!Q228","v":64},null,null,null,{"$f":"データ一覧!Q325","v":8},null,{"$f":"データ一覧!Q328","v":952},null,{"$f":"データ一覧!Q329","v":1044},null,{"$f":"データ一覧!Q327","v":"無投票"},null,null,{"$f":"データ一覧!Q330","v":67},null,{"$f":"データ一覧!Q331","v":44},null,"宗    教",null,null,null," 仏教系",null,null,"ｷﾘｽﾄ教系",null,null,"神道諸派",null,null,"公会堂・市民会館",null,null,null,null,null," テレビ",null,null,"衛星放送契約数",null,null,null,null,null,null,null,null,null,null,"いけだ食の文化祭（11月中旬）、水海の田楽能舞（2月15日）"]
[null,null,"女",null,null,null,{"$f":"データ一覧!Q232","v":1},null,null,"女",null,null,null,null,{"$f":"データ一覧!Q226","v":69.8},null,null,"女",null,null,null,null,{"$f":"データ一覧!Q229","v":69.8},null,null,null,null,null,null,null,null,null,{"$f":"データ一覧!Q326","v":"5.4.23"},null,null,null,null,null,null,"法 人 数",null,null,null,{"$f":"データ一覧!Q502","v":11},null,null,{"$f":"データ一覧!Q503","v":0},null,null,{"$f":"データ一覧!Q504","v":34},null,null,{"$f":"データ一覧!Q505","v":0},null,null,null,null,null,"      等",null,null,{"$f":"データ一覧!Q506","v":537},null,null,null,null,null,null,null,null,null,null,0]

{"sheet":"南越前町","index":16,"n_rows":93,"n_cols":103,"rows_kept":93,"cut":false,"hidden":false,"merged":[[71,53,71,56],[69,39,69,66],[70,53,70,56],[69,7,69,9],[68,7,68,9],[68,16,68,18],[68,19,68,21],[68,22,68,24],[69,22,69,24],[74,25,74,28],[74,29,74,30],[74,32,74,33],[74,35,74,37],[73,62,73,66],[72,62,72,66],[72,53,72,56],[72,57,72,61],[73,53,73,56],[73,57,73,61],[72,22,72,24],[68,48,68,52],[68,53,68,56],[70,25,70,28],[49,50,49,53],[49,54,49,57],[66,35,66,38],[67,39,67,42],[65,39,65,42],[61,29,61,30],[66,19,66,21],[60,29,60,30],[61,7,61,9],[61,10,61,12],[60,7,60,9],[54,47,54,50],[55,35,55,38],[55,31,55,34],[58,39,58,42],[68,57,68,61],[71,0,71,6],[56,39,56,42],[57,39,57,42],[60,39,60,42],[58,52,58,54],[60,36,60,37],[55,59,55,62],[69,35,69,37],[70,43,70,47],[71,39,71,42],[71,48,71,52],[71,22,71,24],[71,35,71,37],[70,35,70,37],[70,22,70,24],[65,0,65,6],[75,29,75,30],[75,32,75,33],[76,25,76,28],[48,0,48,1],[73,7,73,9],[76,2,76,8],[76,9,76,16],[76,17,76,24],[77,2,78,5],[77,6,78,8],[77,9,78,13],[77,14,78,16],[77,17,78,21],[77,22,78,24],[79,2,79,5],[79,6,79,8],[79,9,79,13],[79,14,79,16],[79,17,79,21],[79,22,79,24],[68,13,68,15],[58,22,58,24],[57,22,57,24],[60,13,60,15],[63,7,63,9],[64,13,64,15],[69,13,69,15],[59,7,59,9],[59,13,59,15],[63,13,63,15],[67,16,67,18],[66,13,66,15],[47,13,47,15],[47,22,47,24],[60,22,60,24],[59,22,59,24],[63,16,63,18],[48,22,48,24],[48,19,48,21],[56,7,56,9],[63,22,63,24],[80,6,80,8],[80,9,80,13],[80,14,80,16],[80,17,80,21],[80,22,80,24],[48,16,48,18],[47,0,47,1],[47,7,47,9],[71,13,71,15],[62,0,62,6],[61,0,61,6],[60,0,60,6],[55,19,55,21],[55,0,55,6],[57,7,57,9],[60,10,60,12],[64,10,64,12],[66,10,66,12],[57,16,57,18],[58,0,58,6],[57,0,57,6],[56,0,56,6],[64,7,64,9],[17,25,17,27],[18,25,18,27],[73,0,73,6],[35,5,35,7],[35,8,35,10],[35,11,35,13],[35,14,35,16],[35,18,35,19],[35,20,35,21],[27,5,27,7],[27,22,27,24],[35,22,35,24],[41,19,41,21],[41,22,41,24],[40,22,40,24],[42,10,42,12],[41,4,41,6],[41,13,41,15],[56,22,56,24],[64,0,64,6],[63,0,63,6],[25,25,25,26],[26,25,26,26],[26,27,26,28],[67,19,67,21],[66,16,66,18],[64,19,64,21],[71,7,71,9],[19,3,19,5],[20,11,20,13],[70,0,70,6],[46,0,46,1],[20,16,20,18],[20,21,20,23],[31,81,31,84],[29,73,29,76],[30,73,30,76],[30,81,30,84],[26,60,26,64],[27,73,27,76],[35,49,35,51],[34,49,34,51],[54,77,54,79],[30,49,30,51],[37,60,37,64],[29,22,29,24],[32,20,32,21],[32,22,32,24],[59,0,59,6],[27,0,27,4],[44,19,44,24],[30,22,30,24],[33,20,33,21],[40,4,40,6],[29,77,29,80],[54,25,54,32],[50,25,50,28],[50,29,50,32],[50,33,50,38],[51,25,51,28],[42,36,42,37],[44,32,44,35],[25,33,26,34],[25,27,25,28],[31,77,31,80],[29,18,29,19],[29,20,29,21],[73,13,73,15],[72,13,72,15],[72,7,72,9],[68,25,68,28],[73,16,73,18],[71,16,71,18],[55,7,55,9],[55,10,55,12],[58,10,58,12],[57,10,57,12],[56,10,56,12],[56,13,56,15],[57,13,57,15],[55,13,55,15],[59,19,59,21],[60,19,60,21],[65,16,65,18],[65,19,65,21],[56,16,56,18],[61,16,61,18],[59,16,59,18],[64,16,64,18],[62,7,62,9],[55,39,55,42],[55,16,55,18],[70,7,70,9],[73,10,73,12],[42,7,42,9],[64,22,64,24],[0,0,0,9],[1,0,3,9],[5,0,5,9],[17,53,17,57],[6,0,8,9],[17,40,17,46],[17,48,17,52],[14,25,15,25],[14,26,15,28],[15,29,15,30],[72,10,72,12],[71,10,71,12],[74,0,75,24],[22,7,22,8],[26,22,26,24],[31,8,31,10],[31,11,31,13],[31,14,31,16],[31,18,31,19],[60,16,60,18],[73,22,73,24],[73,19,73,21],[71,29,71,30],[69,32,69,33],[70,29,70,30],[68,29,68,30],[68,32,68,33],[69,25,69,28],[70,32,70,33],[69,29,69,30],[42,19,42,21],[47,19,47,21],[17,100,17,101],[19,40,19,46],[19,49,19,51],[19,53,19,56],[19,60,19,64],[17,59,17,65],[19,91,19,94],[17,91,17,94],[19,73,19,76],[19,77,19,80],[16,74,16,95],[18,31,18,34],[18,35,18,38],[17,68,17,71],[17,73,17,76],[17,82,17,83],[17,86,17,89],[17,36,17,38],[19,81,19,84],[19,95,19,98],[19,99,19,102],[19,29,19,31],[19,32,19,34],[19,35,19,38],[18,28,18,30],[16,32,16,33],[16,36,16,37],[17,32,17,34],[20,40,20,46],[20,49,20,51],[20,53,20,56],[20,95,20,98],[20,99,20,102],[20,86,20,90],[21,95,21,98],[21,35,21,38],[20,73,20,76],[20,77,20,80],[20,81,20,84],[22,29,22,31],[22,32,22,34],[22,35,22,38],[22,49,22,51],[22,68,22,72],[22,91,22,94],[21,73,21,76],[21,77,21,80],[21,81,21,84],[21,99,21,102],[21,40,21,46],[20,35,20,38],[20,60,20,64],[21,29,21,31],[21,32,21,34],[23,99,23,102],[24,53,24,56],[24,60,24,64],[24,99,24,102],[24,95,24,98],[22,53,22,56],[22,60,22,64],[24,68,24,72],[21,91,21,94],[21,86,21,90],[21,49,21,51],[21,53,21,56],[21,60,21,64],[22,86,22,90],[23,86,23,90],[24,86,24,90],[23,68,23,72],[23,73,23,76],[23,77,23,80],[23,81,23,84],[23,91,23,94],[23,95,23,98],[22,95,22,98],[22,99,22,102],[24,91,24,94],[25,99,25,102],[28,81,28,84],[27,77,27,80],[23,11,23,13],[23,16,23,18],[23,21,23,23],[24,40,24,46],[24,27,24,28],[23,40,23,46],[23,25,23,28],[23,29,23,31],[23,32,23,34],[23,35,23,38],[27,25,27,26],[27,27,27,28],[27,35,27,36],[25,29,26,30],[25,31,26,32],[25,35,26,36],[27,37,27,38],[25,37,26,38],[24,35,24,36],[24,37,24,38],[27,31,27,32],[27,33,27,34],[24,29,24,30],[24,31,24,32],[24,33,24,34],[27,40,27,46],[27,29,27,30],[28,68,28,72],[26,77,26,80],[26,81,26,84],[26,86,26,90],[28,95,28,98],[27,95,27,98],[28,60,28,64],[25,95,25,98],[28,53,28,56],[24,73,24,76],[25,86,25,90],[26,49,26,51],[24,81,24,84],[25,73,25,76],[25,77,25,80],[25,81,25,84],[24,77,24,80],[25,49,25,51],[25,53,25,56],[25,60,25,64],[24,49,24,51],[28,86,28,90],[27,81,27,84],[26,68,26,72],[26,73,26,76],[28,73,28,76],[28,77,28,80],[29,5,29,7],[29,8,29,10],[29,11,29,13],[29,14,29,16],[32,14,32,16],[31,5,31,7],[30,5,30,7],[30,8,30,10],[30,11,30,13],[30,14,30,16],[30,20,30,21],[31,22,31,24],[30,18,30,19],[26,99,26,102],[30,77,30,80],[29,99,29,102],[30,99,30,102],[26,53,26,56],[26,91,26,94],[29,91,29,94],[29,95,29,98],[27,49,27,51],[27,53,27,56],[27,60,27,64],[27,68,27,72],[28,91,28,94],[29,81,29,84],[30,60,30,64],[27,91,27,94],[29,86,29,90],[28,99,28,102],[27,86,27,90],[30,86,30,90],[32,99,32,102],[44,0,45,1],[58,13,58,15],[58,7,58,9],[48,13,48,15],[48,10,48,12],[48,7,48,9],[44,25,44,28],[58,64,58,66],[55,22,55,24],[31,53,31,56],[31,60,31,64],[40,32,40,35],[40,36,40,37],[36,36,36,37],[34,36,34,37],[33,5,33,7],[33,8,33,10],[33,11,33,13],[33,14,33,16],[33,18,33,19],[34,40,34,46],[32,5,32,7],[32,8,32,10],[32,18,32,19],[32,11,32,13],[31,68,31,72],[34,5,34,7],[34,8,34,10],[30,53,30,56],[31,73,31,76],[33,67,34,80],[33,83,34,96],[33,60,33,64],[34,20,34,21],[33,22,33,24],[34,29,34,30],[36,97,36,100],[38,79,38,82],[38,67,38,73],[37,97,37,100],[38,93,38,95],[37,85,37,91],[36,85,36,91],[35,68,35,72],[37,67,37,73],[35,86,35,90],[36,67,36,73],[34,60,34,64],[34,22,34,24],[36,29,36,30],[37,53,37,56],[48,87,48,90],[48,91,48,94],[48,80,48,82],[45,92,45,101],[46,95,46,98],[42,60,42,64],[40,97,40,100],[47,99,47,102],[48,99,48,102],[48,95,48,98],[46,69,46,74],[41,53,41,56],[39,49,39,51],[40,49,40,51],[48,83,48,86],[40,40,40,46],[38,85,38,91],[39,75,39,77],[39,67,39,73],[39,53,39,56],[47,95,47,98],[43,40,43,46],[42,75,42,77],[42,49,42,51],[41,60,41,64],[40,60,40,64],[39,79,39,82],[39,40,39,46],[43,60,43,64],[42,53,42,56],[40,29,40,30],[42,32,42,35],[44,36,44,37],[45,84,45,89],[40,10,40,12],[40,19,40,21],[40,7,40,9],[43,83,44,102],[46,29,46,30],[39,97,39,100],[41,36,41,37],[42,93,42,95],[42,79,42,82],[42,97,42,100],[40,79,41,82],[39,85,39,91],[41,85,41,91],[40,93,40,95],[41,93,41,95],[41,7,41,9],[41,49,41,51],[41,29,41,30],[46,36,46,37],[41,16,41,18],[67,48,67,52],[66,32,66,34],[52,99,52,102],[50,87,50,90],[52,68,52,75],[50,68,50,75],[51,68,51,75],[46,99,46,102],[42,22,42,24],[40,2,40,3],[40,16,40,18],[42,4,42,6],[42,16,42,18],[45,29,45,30],[47,10,47,12],[46,32,46,35],[47,16,47,18],[47,83,47,86],[47,77,47,79],[47,87,47,90],[42,85,42,91],[42,40,42,46],[42,13,42,15],[40,85,40,91],[41,40,41,46],[45,32,45,35],[47,91,47,94],[49,80,49,82],[49,95,49,98],[52,83,52,86],[52,87,52,90],[50,63,50,66],[54,51,54,54],[54,68,54,75],[61,39,61,42],[54,39,54,42],[56,87,56,90],[53,77,53,79],[50,91,50,94],[51,33,51,35],[50,47,50,49],[66,29,66,31],[57,58,57,60],[57,61,57,63],[56,80,56,82],[58,16,58,18],[54,59,54,66],[54,55,54,58],[55,47,55,49],[55,51,55,53],[56,48,56,53],[54,43,54,46],[55,68,55,75],[55,63,55,65],[58,55,58,57],[55,77,55,79],[66,92,66,96],[51,29,51,32],[52,95,52,98],[61,68,61,71],[62,81,62,83],[61,80,61,83],[56,77,56,79],[54,87,54,90],[81,32,81,34],[74,68,74,74],[75,53,75,56],[74,53,74,56],[81,67,82,102],[79,101,79,102],[80,96,80,98],[80,92,80,94],[80,68,80,70],[80,73,80,75],[80,78,80,80],[75,25,75,28],[72,29,72,30],[72,32,72,33],[72,35,72,37],[73,25,73,28],[73,29,73,30],[73,32,73,33],[73,35,73,37],[72,43,72,47],[72,48,72,52],[73,39,73,42],[73,43,73,47],[73,48,73,52],[75,39,75,42],[75,43,75,47],[75,48,75,52],[74,39,74,42],[74,43,74,47],[74,48,74,52],[72,25,72,28],[72,39,72,42],[81,39,81,42],[81,43,81,47],[77,39,77,42],[77,43,77,47],[77,48,77,52],[77,53,77,56],[78,39,78,42],[81,53,81,56],[76,43,76,47],[78,48,78,52],[78,53,78,56],[76,35,76,37],[75,57,75,61],[75,62,75,66],[74,87,74,91],[76,57,76,61],[74,77,74,83],[76,78,76,81],[76,53,76,56],[75,35,75,37],[76,39,76,42],[74,57,74,61],[74,62,74,66],[80,82,80,86],[80,88,80,90],[81,22,81,24],[84,39,84,42],[84,43,84,47],[84,48,84,52],[84,53,84,56],[83,48,83,52],[88,61,88,66],[84,57,84,61],[84,62,84,66],[83,62,83,66],[83,26,83,27],[83,29,83,30],[83,53,83,56],[83,57,83,61],[82,53,82,56],[77,57,77,61],[78,43,78,47],[77,62,77,66],[80,35,81,38],[79,43,79,47],[80,62,80,66],[80,57,80,61],[80,48,80,52],[79,62,79,66],[88,28,88,29],[88,30,88,31],[80,25,81,28],[82,43,82,47],[82,48,82,52],[82,57,82,61],[83,39,83,42],[83,43,83,47],[91,26,91,27],[91,28,91,29],[91,30,91,31],[91,32,91,34],[91,52,91,57],[91,61,91,66],[91,35,91,36],[91,37,91,38],[91,39,91,42],[90,58,90,60],[90,50,90,51],[90,52,90,54],[90,55,90,57],[90,39,90,42],[90,44,90,45],[91,43,91,45],[91,46,91,48],[89,32,89,34],[89,39,89,42],[89,61,89,63],[88,32,88,34],[25,91,25,94],[92,52,92,57],[92,61,92,66],[92,39,92,42],[92,43,92,45],[92,46,92,48],[92,49,92,51],[90,61,90,63],[90,64,90,66],[90,46,90,48],[80,100,80,102],[79,97,79,98],[81,48,81,52],[81,57,81,61],[80,53,80,56],[81,62,81,66],[80,39,80,42],[80,43,80,47],[79,39,79,42],[79,48,79,52],[79,53,79,56],[79,57,79,61],[76,62,76,66],[78,67,78,71],[78,72,78,76],[76,69,76,72],[83,32,83,33],[83,36,83,37],[65,93,65,96],[65,88,65,91],[56,91,56,94],[70,88,70,90],[78,95,78,98],[78,91,78,94],[76,87,76,90],[55,80,55,82],[55,83,55,86],[56,99,56,102],[60,85,60,90],[63,84,63,86],[54,91,54,94],[77,87,77,90],[78,82,78,86],[53,87,53,90],[53,91,53,94],[54,99,54,102],[54,80,54,82],[78,77,78,81],[67,82,67,84],[78,87,78,90],[78,99,78,102],[62,75,62,77],[53,68,53,75],[67,88,67,90],[60,97,60,102],[49,83,49,86],[49,77,49,79],[52,77,52,79],[52,80,52,82],[56,68,56,75],[76,96,76,99],[73,77,73,83],[73,86,73,92],[73,95,73,101],[74,96,74,100],[70,83,70,84],[70,85,70,87],[77,91,77,94],[77,77,77,81],[77,82,77,86],[67,79,67,81],[65,68,65,71],[68,100,68,102],[66,76,66,90],[68,88,68,90],[68,76,68,78],[62,87,62,89],[68,91,68,93],[70,101,70,102],[70,97,70,99],[68,72,68,75],[67,67,70,71],[68,82,68,84],[62,68,62,71],[53,83,53,86],[53,95,53,98],[55,99,55,102],[67,10,67,12],[67,13,67,15],[65,10,65,12],[65,13,65,15],[49,87,49,90],[51,99,51,102],[51,77,51,79],[51,80,51,82],[51,83,51,86],[51,95,51,98],[51,91,51,94],[51,87,51,90],[63,89,63,91],[56,83,56,86],[57,67,58,102],[49,91,49,94],[52,91,52,94],[50,99,50,102],[50,77,50,79],[50,95,50,98],[50,80,50,82],[50,83,50,86],[55,91,55,94],[55,87,55,90],[54,83,54,86],[54,95,54,98],[60,91,60,96],[55,95,55,98],[56,95,56,98],[53,99,53,102],[63,99,63,101],[53,80,53,82],[61,19,61,21],[62,29,62,30],[61,22,61,24],[63,10,63,12],[62,16,62,18],[59,43,59,56],[60,43,60,47],[60,48,60,52],[60,53,60,56],[61,43,61,47],[61,48,61,52],[61,53,61,56],[62,10,62,12],[62,13,62,15],[66,22,66,24],[62,22,62,24],[59,10,59,12],[67,62,67,66],[65,73,65,76],[65,78,65,81],[62,19,62,21],[64,68,64,71],[71,67,72,82],[71,83,72,102],[70,94,70,96],[70,39,70,42],[70,72,70,75],[70,77,70,78],[70,91,70,93],[70,79,70,81],[70,48,70,52],[63,74,63,76],[68,85,68,87],[62,99,62,101],[62,93,62,95],[65,83,65,86],[65,98,65,101],[63,94,63,96],[68,94,68,96],[68,79,68,81],[67,97,67,102],[68,39,68,42],[68,43,68,47],[65,43,65,49],[65,53,65,56],[67,22,67,24],[65,22,65,24],[67,57,67,61],[67,43,67,47],[30,40,30,46],[26,40,26,46],[22,40,22,46],[22,25,22,28],[45,57,45,61],[33,40,33,46],[49,58,49,61],[35,98,35,101],[35,75,35,77],[49,62,49,66],[44,29,44,30],[45,36,45,37],[47,80,47,82],[49,46,49,49],[49,39,49,45],[48,56,48,59],[48,50,48,53],[45,77,45,82],[47,68,47,75],[41,97,41,100],[36,93,36,95],[38,40,38,46],[31,99,31,102],[27,99,27,102],[30,95,30,98],[35,93,35,95],[39,93,39,95],[33,49,33,51],[31,40,31,46],[30,68,30,72],[30,91,30,94],[49,99,49,102],[14,67,15,81],[37,75,37,77],[36,75,36,77],[23,49,23,51],[23,53,23,56],[23,60,23,64],[25,40,25,46],[22,73,22,76],[22,77,22,80],[22,81,22,84],[14,82,15,95],[37,93,37,95],[32,95,32,98],[29,53,29,56],[29,60,29,64],[29,40,29,46],[29,49,29,51],[28,40,28,46],[28,49,28,51],[32,49,32,51],[32,53,32,56],[32,60,32,64],[35,40,35,46],[36,40,36,46],[37,40,37,46],[37,49,37,51],[36,49,36,51],[35,80,35,83],[32,91,32,94],[32,40,32,46],[26,95,26,98],[20,91,20,94],[31,91,31,94],[31,95,31,98],[32,68,32,72],[33,53,33,56],[35,60,35,64],[35,53,35,56],[40,67,41,73],[39,60,39,64],[49,68,49,75],[48,68,48,75],[42,67,42,73],[50,59,50,61],[50,50,50,53],[50,55,50,57],[48,62,48,65],[40,75,41,77],[43,67,44,82],[31,49,31,51],[38,75,38,77],[38,60,38,64],[37,79,37,82],[38,49,38,51],[38,53,38,56],[36,60,36,64],[34,53,34,56],[48,77,48,79],[43,49,43,51],[38,97,38,100],[36,53,36,56],[36,79,36,82],[40,53,40,56],[43,53,43,56],[92,32,92,34],[88,50,88,53],[58,61,58,63],[70,57,70,61],[68,62,68,66],[82,62,82,66],[60,63,60,66],[71,62,71,66],[57,64,57,66],[57,55,57,57],[59,59,59,62],[71,57,71,61],[60,59,60,62],[61,59,61,62],[61,63,61,66],[66,39,66,66],[57,31,57,33],[57,35,57,37],[65,57,65,63],[67,53,67,56],[61,36,61,37],[58,44,58,46],[68,35,68,37],[58,48,58,50],[58,58,58,60],[78,57,78,61],[78,62,78,66],[88,44,88,47],[76,48,76,52],[71,43,71,47],[81,29,81,31],[82,39,82,42],[51,36,51,38],[70,62,70,66],[14,0,15,24],[24,0,25,24],[72,0,72,6],[66,7,66,9],[58,19,58,21],[57,19,57,21]],"merged_total":1107,"flags":["merged_cut"]}
[{"$f":"+データ一覧!R2","v":"なんじょうぐん"}]
[{"$f":"+データ一覧!R5","v":"南条郡"},null,null,null,null,null,null,null,null,null,null,null,null,null,null,null,null,null,null,null,null,null,null,null,null,null,null,null,null,null,null,null,null,null,null,null,null,null,null,0]
[null,null,null,null,null,null,null,null,null,null,null,null,null,null,null,null,null,null,null,null,null,null,null,null,null,null,null,null,null,null,null,null,null,null,null,null,null,null,null,0]
[null,null,null,null,null,null,null,null,null,null,null,null,null,null,null,null,null,null,null,null,null,null,null,null,null,null,null,"【町章とそのいわれ】    「南越前町」の「み」をモチーフに、",null,null,null,null,null,null,null,null,null,null,null,"【位置および地勢 】南越前町は福井県のほぼ中央、嶺北地域の南端に位置している。",null,null,null,null,null,null,null,null,null,null,null,null,null,null,null,null,null,null,null,null,null,null,null,null,null,null,null,null,null,null,"所在地",null,null,null,null,null,null,null,"〒919-0292"]
[null,null,null,null,null,null,null,null,null,null,null,null,null,null,null,null,null,null,null,null,null,null,null,null,null,null,null,"　　　　　　　　　青・濃い緑・橙色を使用し、海と緑と歴史を",null,null,null,null,null,null,null,null,null,null,null,"　　　　　　　　　","越前市と接する福井平野の南端部、池田町、岐阜県、滋賀県、敦賀市と接する",null,null,null,null,null,null,null,null,null,null,null,null,null,null,null,null,null,null,null,null,null,null,null,null,null,null,null,null,null,null,null,null,null,null,null,null,null,"南条郡南越前町東大道２９-１"]
[{"$f":"+データ一覧!R3","v":"みなみえちぜんちょう"},null,null,null,null,null,null,null,null,null,null,null,null,null,null,null,null,null,null,null,null,null,null,null,null,null,null,"　　　　　　　　　イメージしている。",null,null,null,null,null,null,null,null,null,null,null,null,"日野川上流の山間部と越前町、敦賀市と接する日本海沿岸の海岸部からなり、"]
[{"$f":"データ一覧!R6","v":"南越前町"},null,null,null,null,null,null,null,null,null,null,null,null,null,null,null,null,null,null,null,null,null,null,null,null,null,null,0,null,null,null,null,null,null,null,null,null,null,null,null,"面積は343.69平方キロメートルと福井県全体の8.2％を占めている。",null,null,null,null,null,null,null,null,null,null,null,null,null,null,null,null,null,null,null,null,null,null,null,null,null,null,null,null,null,"電話番号",null,null,null,null,null,null,null,"（０７７８）４７－３０００ 　"]
[null,null,null,null,null,null,null,null,null,null,null,null,null,null,null,null,null,null,null,null,null,null,null,null,null,null,null,0,null,null,null,null,null,null,null,null,null,null,null,null,"日野川上流部の山間地に位置する今庄地区は、豊かな森林に恵まれ、その下流に",null,null,null,null,null,null,null,null,null,null,null,null,null,null,null,null,null,null,null,null,null,null,null,null,null,null,null,null,null,"FAX番号",null,null,null,null,null,null,null,"     〃     ４７－３２６１　"]
[null,null,null,null,null,null,null,null,null,null,null,null,null,null,null,null,null,null,null,null,null,null,null,null,null,null,null,0,null,null,null,null,null,null,null,null,null,null,null,null,"位置する南条地区は、日野川の両岸に整備された田園地帯が広がっている。"]
[null,null,null,null,null,null,null,null,null,null,null,null,null,null,null,null,null,null,null,null,null,null,null,null,null,null,null,0,null,null,null,null,null,null,null,null,null,null,null,null,"また、西側に位置する河野地区は、暖流と寒流が合流する好漁場である若狭湾に",null,null,null,null,null,null,null,null,null,null,null,null,null,null,null,null,null,null,null,null,null,null,null,null,null,null,null,null,null,"最寄駅および距離",null,null,null,null,null,null,null,"ハピラインふくい線南条駅　下車５００ｍ"]
[null,null,null,null,null,null,null,null,null,null,null,null,null,null,null,null,null,null,null,null,null,null,null,null,null,null,null,0,null,null,null,null,null,null,null,null,null,null,null,null,"面しており、河野川などの複数の河川が日本海へ注いでいる。"]
[]
[null,null,null,null,null,null,null,null,null,null,null,null,null,null,null,null,null,null,null,null,null,null,null,null,null,null,null,"【町が掲げる標語】海と緑と歴史の恵みに抱かれて、出会いから活力の花ひらく町",null,null,null,null,null,null,null,null,null,null,null,null,null,null,null,null,null,null,null,null,null,null,null,null,null,null,null,null,null,null,null,null,null,null,null,null,null,null,null,null,null,null,"ホームページ",null,null,null,null,null,null,null,"https://www.town.minamiechizen.lg.jp/"]
[]
["  １  土            　　地",null,null,null,null,null,null,null,null,null,null,null,null,null,null,null,null,null,null,null,null,null,null,null,null,{"$f":"データ一覧!$A$240","v":"5年"},"産米収穫量",null,null,"　 収　穫　量",null,null," 　作 付 面 積",null,null,"   10a当たり収量",null,null,null,null,null,null,null,null,null,null,null,null,null,null,null,null,null,null,null,null,null,null,null,null,null,null,null,null,null,null,null," １５  労　　　　　　　働",null,null,null,null,null,null,null,null,null,null,null,null,null,null,"2.10.1"]
[null,null,null,null,null,null,null,null,null,null,null,null,null,null,null,null,null,null,null,null,null,null,null,null,null,null,null,null,null,{"$f":"データ一覧!$R$240","v":2770},null,"t",{"$f":"データ一覧!$R$241","v":590},null,"ha",{"$f":"データ一覧!R242","v":469},null,null,"kg"," １０  工　　　　　　業 ",null,null,null,null,null,null,null,null,null,null,null,null,null,{"$f":"データ一覧!$A$332","v":"4.6.1（令和3年実績）"}]
["   総          面           積",null,null,null,null,null,null,null,null,null," 固 定 資 産 概 要 調 書 に よ る 地 目 別 面 積",null,null,null,null,null,null,null,null,null,null,null,null,null,null,null,null,null,"   総　　　数",null,null,null,"うち　　田",null,null,null,"うち　　畑",null,null,null,null,null,null,null,null,null,null,null,null,null,null,null,null,null,null,null,null,null,null,null,null,null,null,null,null,null,null,null,null,null,null,null,null,null,"産業別就業者数   "]
[null,null,{"$f":"データ一覧!$A$7","v":"6.10.1"},null,null,null,null,null,null,null,null,null,null,null,null,null,{"$f":"データ一覧!$A$9","v":"6.1.1"},null,null,null,null,null,null,null,null," 耕  地  面  積",null,null,null,"       ha",null,null,"ha ",null,null,null,"ha ",null,null,"      ","産業分類",null,null,null,null,null,null,null,"事業所数",null,null,null,null,"従業者数",null,null,null,null,null,"年間製造品出荷額等",null,null,null,null,null,null,null,null,"区  分",null,null,null,null,"総    数",null,null,null,null,"男",null,null,null,"女",null,null,"  ","区  分",null,null,null,null,"総    数",null,null,null,null,"男",null,null,null,"女"]
[null,null,null,null,null,null,"㎢",null,null,null,"   総       数",null,null,null,null,"  う ち     田",null,null,null,null,"  う ち     畑",null,null,null,null,{"$f":"データ一覧!A243","v":"5.7.15"},null,null,{"$f":"データ一覧!$R$243","v":1030},null,null,{"$f":"データ一覧!$R$244","v":934},null,null,null,{"$f":"データ一覧!$R$245","v":99},null,null,null,null,null,null,null,null,null,null,null,null,"　　   ",null,null,"事業所",null,"　　　　　　　 人",null,null,"人",null,"　　　　　　　　　　　　　　万円",null,null,null,null,null,null,"万円",null,null,null,null,null,null,null,"      人",null,null,null,null,null," 人",null,null,null," 人",null,null,null,null,null,null,null,"      人",null,null,null,"      人",null,null,null,"      人"]
[null,null,null,{"$f":"データ一覧!R7","v":343.69},null,null,null,null,null,null,null,null,null,null,"ha",null,null,null,null,"ha",null,null,null,null,"ha","農 業 生 産 物",null,null,null,"作 付 面 積",null,null,"収 穫 量",null,null,"10a当たり収量",null,null,null,"     ","総数",null,null,null,null,null,null,null,null,{"$f":"データ一覧!R332","v":13},null,null,null,{"$f":"+データ一覧!R357","v":429},null,null,null,null,null,null,{"$f":"データ一覧!R382","v":1032113},null,null,null,null,null,null," 総　　　数",null,null,null,null,null,{"$f":"BZ20+CD20","v":5088},null,null,null,{"$f":"データ一覧!R507","v":2712},null,null,null,{"$f":"データ一覧!R532","v":2376}]
[null,null,null,null,null,null,null,null,null,null,null,{"$f":"データ一覧!R9","v":13048.1},null,null,null,null,{"$f":"データ一覧!R10","v":994.7},null,null,null,null,{"$f":"データ一覧!R11","v":143.1},null,null,null,{"$f":"データ一覧!$A$246","v":"5年産"},null,null,null,"ha",null,null,"t",null,null,"kg",null,null,null,"     食料品","食料品",null,null,null,null,null,null,null,null,{"$f":"データ一覧!R333","v":1},null,null,null,{"$f":"+データ一覧!R358","v":9},null,null,null,null,null,null,{"$f":"データ一覧!R383","v":"x"},null,null,null,null,null,null,null,null,null,null,null,null,null,null,null,null,null,null,null,null,null,null,null,null,null,"卸売業,小売業",null,null,null,null,{"$f":"CR21+CV21","v":609},null,null,null,{"$f":"データ一覧!R520","v":257},null,null,null,{"$f":"データ一覧!R545","v":352}]
["  町 ･ 丁 ･ 大 字",null,null,null,null,null,null,null,null,null,"  う ち  宅 地",null,null,null,null,"  う ち  山 林",null,null,null,null,"  う ち  原 野",null,null,null,null,"水　　　　　稲",null,null,null,{"$f":"データ一覧!R246","v":590},null,null,{"$f":"データ一覧!R247","v":2770},null,null,{"$f":"データ一覧!R248","v":469},null,null,null,"     飲料・飼料","飲料・飼料",null,null,null,null,null,null,null,null,{"$f":"データ一覧!R334","v":0},null,null,null,{"$f":"+データ一覧!R359","v":0},null,null,null,null,null,null,{"$f":"データ一覧!R384","v":0},null,null,null,null,null,null," 第１次産業",null,null,null,null,null,{"$f":"BZ22+CD22","v":291},null,null,null,{"$f":"データ一覧!R508","v":202},null,null,null,{"$f":"データ一覧!R533","v":89},null,null,null,null,"金融業,保険業",null,null,null,null,{"$f":"CR22+CV22","v":72},null,null,null,{"$f":"データ一覧!R521","v":23},null,null,null,{"$f":"データ一覧!R546","v":49}]
["  区    画    数",null,null,null,null,null,null,{"$f":"データ一覧!R8","v":63},null,null,null,null,null,null,"ha",null,null,null,null,"ha",null,null,null,null,"ha","六　条　大　麦",null,null,null,{"$f":"データ一覧!R249","v":45},null,null,{"$f":"データ一覧!R250","v":123},null,null,{"$f":"データ一覧!R251","v":273},null,null,null,"     繊維","繊維",null,null,null,null,null,null,null,null,{"$f":"データ一覧!R335","v":3},null,null,null,{"$f":"+データ一覧!R360","v":104},null,null,null,null,null,null,{"$f":"データ一覧!R385","v":129714},null,null,null,null,null,null,"  ","農業",null,null,null,null,{"$f":"BZ23+CD23","v":218},null,null,null,{"$f":"データ一覧!R509","v":138},null,null,null,{"$f":"データ一覧!R534","v":80},null,null,null,"  ","不動産業",null,null,null,null,28,null,null,null,{"$f":"データ一覧!R522","v":14},null,null,null,{"$f":"データ一覧!R547","v":14}]
[{"$f":"データ一覧!$A$8","v":"5.4.1"},null,null,null,null,null,null,null,null,null,null,{"$f":"データ一覧!R12","v":284.10000000000002},null,null,null,null,{"$f":"データ一覧!R13","v":6125.4},null,null,null,null,{"$f":"データ一覧!R14","v":199.9},null,null,null,"大　　      豆",null,null,null,{"$f":"データ一覧!R252","v":14},null,null,{"$f":"データ一覧!R253","v":13},null,null,{"$f":"データ一覧!R254","v":93},null,null,null,"     衣服","木材",null,null,null,null,null,null,null,null,{"$f":"データ一覧!R336","v":2},null,null,null,{"$f":"+データ一覧!R361","v":14},null,null,null,null,null,null,{"$f":"データ一覧!R386","v":"x"},null,null,null,null,null,null,"  ","林業",null,null,null,null,24,null,null,null,{"$f":"データ一覧!R510","v":21},null,null,null,{"$f":"データ一覧!R535","v":3},null,null,null,"  ","学術研究",null,null,null,null,84,null,null,null,{"$f":"データ一覧!R523","v":61},null,null,null,{"$f":"データ一覧!R548","v":23}]
["  ２  世　帯　数　と　人　口",null,null,null,null,null,null,null,null,null,null,null,null,null,null,null,null,null,null,null,null,null,null,null,null,null,null,"  区　分",null," 乳 用 牛",null," 肉 用 牛",null,"豚",null,"採卵鶏",null,"ブロイラー",null,"     木材","家具",null,null,null,null,null,null,null,null,{"$f":"データ一覧!R337","v":0},null,null,null,{"$f":"+データ一覧!R362","v":0},null,null,null,null,null,null,{"$f":"データ一覧!R387","v":0},null,null,null,null,null,null,"  ","漁業",null,null,null,null,49,null,null,null,{"$f":"データ一覧!R511","v":43},null,null,null,{"$f":"データ一覧!R536","v":6},null,null,null,"  ","宿泊業,飲食ｻｰﾋﾞｽ",null,null,null,null,277,null,null,null,{"$f":"データ一覧!R524","v":82},null,null,null,{"$f":"データ一覧!R549","v":195}]
[null,null,null,null,null,null,null,null,null,null,null,null,null,null,null,null,null,null,null,null,null,null,null,null,null,"畜　産",null," 飼養農家",null,{"$f":"データ一覧!$R$255","v":0},null,{"$f":"データ一覧!$R$257","v":0},null,{"$f":"データ一覧!$R$259","v":0},null,{"$f":"データ一覧!$R$261","v":1},null,{"$f":"データ一覧!$R$263","v":0},null,"     家具","パルプ・紙",null,null,null,null,null,null,null,null,{"$f":"データ一覧!R338","v":0},null,null,null,{"$f":"+データ一覧!R363","v":0},null,null,null,null,null,null,{"$f":"データ一覧!R388","v":0},null,null,null,null,null,null," 第２次産業",null,null,null,null,null,1803,null,null,null,{"$f":"データ一覧!R512","v":1239},null,null,null,{"$f":"データ一覧!R537","v":564},null,null,null,"  ","生活関連ｻｰﾋﾞｽ業",null,null,null,null,118,null,null,null,{"$f":"データ一覧!R525","v":31},null,null,null,{"$f":"データ一覧!R550","v":87}]
[null,null,null,null,null,null,null,null,"        人　　　　　　　　　　口",null,null,null,null,null,null,null,null,null,null,null,"１世帯当",null,"人    口",null,null,{"$f":"データ一覧!$A$255","v":"6.3.31"},null,"（戸）",null,null,null,null,null,null,null,null,null,null,null,"     パルプ・紙","印刷",null,null,null,null,null,null,null,null,{"$f":"データ一覧!R339","v":0},null,null,null,{"$f":"+データ一覧!R364","v":0},null,null,null,null,null,null,{"$f":"データ一覧!R389","v":0},null,null,null,null,null,null,null,"鉱業，採石業",null,null,null,null,16,null,null,null,{"$f":"データ一覧!R513","v":13},null,null,null,{"$f":"データ一覧!R538","v":3},null,null,null,"  ","教育,学習支援業",null,null,null,null,226,null,null,null,{"$f":"データ一覧!R526","v":65},null,null,null,{"$f":"データ一覧!R551","v":161}]
[" 区　　　　分",null,null,null,null,"世帯数",null,null," 総   数",null,null,"    男",null,null,"    女",null,null,"  男／女",null,null,"たり人員",null,"密    度",null,null,null,null," 頭 羽",null,{"$f":"データ一覧!$R$256","v":0},null,{"$f":"データ一覧!$R$258","v":0},null,{"$f":"データ一覧!$R$260","v":0},null,{"$f":"データ一覧!$R$262","v":300},null,{"$f":"データ一覧!$R$264","v":0},null,"     出版・印刷","化学",null,null,null,null,null,null,null,null,{"$f":"データ一覧!R340","v":0},null,null,null,{"$f":"+データ一覧!R365","v":0},null,null,null,null,null,null,{"$f":"データ一覧!R390","v":0},null,null,null,null,null,null,"  ","建設業",null,null,null,null,482,null,null,null,{"$f":"データ一覧!R514","v":407},null,null,null,{"$f":"データ一覧!R539","v":75},null,null,null,null,"医療，福祉",null,null,null,null,704,null,null,null,{"$f":"データ一覧!R527","v":106},null,null,null,{"$f":"データ一覧!R552","v":598}]
[null,null,null,null,null,"    世 帯",null,null,"       人",null,null,"       人",null,null,"       人",null,null,null,"　　％",null,"    人",null,"    人/㎢",null,null,null,null,null,null,null,null,null,null,null,null,null,null,null,null,"     化学","石油・石炭",null,null,null,null,null,null,null,null,{"$f":"データ一覧!R341","v":0},null,null,null,{"$f":"+データ一覧!R366","v":0},null,null,null,null,null,null,{"$f":"データ一覧!R391","v":0},null,null,null,null,null,null,null,"製造業",null,null,null,null,1305,null,null,null,{"$f":"データ一覧!R515","v":819},null,null,null,{"$f":"データ一覧!R540","v":486},null,null,null,null,"複合サービス事業",null,null,null,null,79,null,null,null,{"$f":"データ一覧!R528","v":44},null,null,null,{"$f":"データ一覧!R553","v":35}]
[{"$f":"データ一覧!$A$22","v":" 2.10.1"},null,null,null,null,{"$f":"データ一覧!R22","v":3484},null,null,{"$f":"+L30+O30","v":13804},null,null,{"$f":"データ一覧!R24","v":6628},null,null,{"$f":"データ一覧!R25","v":7176},null,null,null,{"$f":"+L30/O30*100","v":92.363433667781493},null,{"$f":"データ一覧!R27","v":3.96},null,{"$f":"データ一覧!R21","v":0},null,null,"  ５  林               業",null,null,null,null,null,null,null,null,null,null,null,null,null,"     石油・石炭","プラスチック",null,null,null,null,null,null,null,null,{"$f":"データ一覧!R342","v":3},null,null,null,{"$f":"+データ一覧!R367","v":97},null,null,null,null,null,null,{"$f":"データ一覧!R392","v":477533},null,null,null,null,null,null," 第３次産業",null,null,null,null,null,2963,null,null,null,{"$f":"データ一覧!R516","v":1257},null,null,null,{"$f":"データ一覧!R541","v":1706},null,null,null,null,"サービス業",null,null,null,null,291,null,null,null,{"$f":"データ一覧!R529","v":189},null,null,null,{"$f":"データ一覧!R554","v":102}]
[{"$f":"データ一覧!$A$29","v":" 7.10.1"},null,null,null,null,{"$f":"データ一覧!R29","v":3634},null,null,{"$f":"+L31+O31","v":13616},null,null,{"$f":"データ一覧!R31","v":6555},null,null,{"$f":"データ一覧!R32","v":7061},null,null,null,92.833876221498372,null,{"$f":"データ一覧!R34","v":3.75},null,{"$f":"データ一覧!R28","v":0},null,null,null,null,null,null,null,null,null,null,null,null,null,null,null,null,"     プラスチック","ゴム",null,null,null,null,null,null,null,null,{"$f":"データ一覧!R343","v":0},null,null,null,{"$f":"+データ一覧!R368","v":0},null,null,null,null,null,null,{"$f":"データ一覧!R393","v":0},null,null,null,null,null,null,null,"電気･ｶﾞｽ･水道業",null,null,null,null,22,null,null,null,{"$f":"データ一覧!R517","v":17},null,null,null,{"$f":"データ一覧!R542","v":5},null,null,null,null,"公務",null,null,null,null,200,null,null,null,{"$f":"データ一覧!R530","v":153},null,null,null,{"$f":"データ一覧!R555","v":47}]
[{"$f":"データ一覧!$A$36","v":"12.10.1"},null,null,null,null,{"$f":"データ一覧!R36","v":3744},null,null,{"$f":"+L32+O32","v":13221},null,null,{"$f":"データ一覧!R38","v":6437},null,null,{"$f":"データ一覧!R39","v":6784},null,null,null,94.885023584905653,null,{"$f":"データ一覧!R41","v":3.53},null,{"$f":"データ一覧!R35","v":0},null,null,"    　森　　　林　　　総　　　面　　　積   ",null,null,null,null,null,null,null,{"$f":"データ一覧!$A$265","v":"5.3.31"},null,null,null,null,null,"     ゴム","皮革",null,null,null,null,null,null,null,null,{"$f":"データ一覧!R344","v":0},null,null,null,{"$f":"+データ一覧!R369","v":0},null,null,null,null,null,null,{"$f":"データ一覧!R394","v":0},null,null,null,null,null,null,null,"情報通信業",null,null,null,null,44,null,null,null,{"$f":"データ一覧!R518","v":37},null,null,null,{"$f":"データ一覧!R543","v":7},null,null,null," 分類不能の産業",null,null,null,null,null,31,null,null,null,{"$f":"データ一覧!R531","v":14},null,null,null,{"$f":"データ一覧!R556","v":17}]
[{"$f":"+データ一覧!$A$43","v":"17.10.1"},null,null,null,null,{"$f":"データ一覧!R43","v":3542},null,null,{"$f":"+L33+O33","v":12274},null,null,{"$f":"データ一覧!R45","v":5850},null,null,{"$f":"データ一覧!R46","v":6424},null,null,null,91.064757160647574,null,{"$f":"データ一覧!R48","v":3.47},null,{"$f":"データ一覧!R49","v":35.700000000000003},null,null,"　　　森　　　　　　　林　　　　　　　の　　　　　　　構　　　　　　　成",null,null,null,null,null,null,null,null,null,null,null,null,null,"     皮革","窯業・土石",null,null,null,null,null,null,null,null,{"$f":"データ一覧!R345","v":0},null,null,null,{"$f":"+データ一覧!R370","v":0},null,null,null,null,null,null,{"$f":"データ一覧!R395","v":0},null,null,null,null,null,null,"  ","運輸業,郵便業",null,null,null,null,{"$f":"BZ33+CD33","v":209},null,null,null,{"$f":"データ一覧!R519","v":178},null,null,null,{"$f":"データ一覧!R544","v":31}]
[{"$f":"+データ一覧!$A$50","v":"22.10.1"},null,null,null,null,{"$f":"+データ一覧!R50","v":3483},null,null,{"$f":"+L34+O34","v":11551},null,null,{"$f":"+データ一覧!R52","v":5501},null,null,{"$f":"+データ一覧!R53","v":6050},null,null,null,90.925619834710744,null,{"$f":"+データ一覧!R55","v":3.32},null,{"$f":"+データ一覧!R56","v":33.6},null,null,null,null,null,null,null,"       ha",null,null,null,null,null,null,"       ha",null,"     窯業・土石","鉄鋼",null,null,null,null,null,null,null,null,{"$f":"データ一覧!R346","v":0},null,null,null,{"$f":"+データ一覧!R371","v":0},null,null,null,null,null,null,{"$f":"データ一覧!R396","v":0},null,null,null,null,null,null," １６  社　 会 　福　 祉",null,null,null,null,null,null,null,null,null,null,null,null,null,null,null,{"$f":"データ一覧!$A$557","v":"6.4.1"}]
[{"$f":"データ一覧!$A$57","v":"27.10.1"},null,null,null,null,{"$f":"データ一覧!R57","v":3353},null,null,{"$f":"データ一覧!R58","v":10799},null,null,{"$f":"データ一覧!R59","v":5173},null,null,{"$f":"データ一覧!R60","v":5626},null,null,null,91.948098115890502,null,{"$f":"データ一覧!R62","v":3.2206978824932895},null,{"$f":"データ一覧!R63","v":31.4},null,null,"  総　　　　　   数",null,null,null,{"$f":"データ一覧!R265","v":31452.839999999997},null,null," 天然林       針葉樹",null,null,null,{"$f":"データ一覧!R268","v":340.89},null,null,"     鉄鋼","非鉄金属",null,null,null,null,null,null,null,null,{"$f":"データ一覧!R347","v":0},null,null,null,{"$f":"+データ一覧!R372","v":0},null,null,null,null,null,null,{"$f":"データ一覧!R397","v":0}]
["令　2.10.1（国調）",null,null,null,null,{"$f":"データ一覧!R64","v":3266},null,null,{"$f":"データ一覧!R65","v":10002},null,null,{"$f":"データ一覧!R66","v":4804},null,null,{"$f":"データ一覧!R67","v":5198},null,null,null,{"$f":"+L36/O36*100","v":92.420161600615629},null,{"$f":"データ一覧!R69","v":3.0624617268830372},null,{"$f":"データ一覧!R70","v":29.101806860833893},null,null,"  人工林     針葉樹",null,null,null,{"$f":"データ一覧!R266","v":9174.15},null,null," 天然林       広葉樹",null,null,null,{"$f":"データ一覧!R269","v":20735.27},null,null,"     非鉄金属","金属",null,null,null,null,null,null,null,null,{"$f":"データ一覧!R348","v":2},null,null,null,{"$f":"+データ一覧!R373","v":26},null,null,null,null,null,null,{"$f":"データ一覧!R398","v":"x"},null,null,null,null,null,null,"    ","区分",null,null,null,null,null,null,"施設数",null,null,null,null,"収容定員",null,null,null,null,null,"区分",null,null,null,null,null,null,"施設数",null,null,null,null,"収容定員"]
["年",null,"  区",null," 0歳",null,null,"15歳",null,null,"25歳",null,null,"35歳",null,null,"45歳",null,null,"55歳",null,null,"65歳",null,null,"  人工林     広葉樹",null,null,null,{"$f":"データ一覧!R267","v":300.49},null,null," 竹               林",null,null,null,{"$f":"データ一覧!R270","v":56.19},null,null,"     金属","はん用機械",null,null,null,null,null,null,null,null,{"$f":"データ一覧!R349","v":0},null,null,null,{"$f":"+データ一覧!R374","v":0},null,null,null,null,null,null,{"$f":"データ一覧!R399","v":0},null,null,null,null,null,null,"生活保護施設",null,null,null,null,null,null,null,{"$f":"データ一覧!R557","v":"-"},null,null,null,{"$f":"データ一覧!R570","v":"-"},null,null,null,"人",null,"指定障害者支援施設",null,null,null,null,null,null,null,{"$f":"データ一覧!R563","v":"-"},null,null,null,{"$f":"データ一覧!R576","v":"-"},null,null,null,"人"]
["齢","令",null,null,null,"～",null,null,"～",null,null,"～",null,null,"～",null,null,"～",null,null,"～",null,null,null,null,null,null,null,null,null,null,null,null,null,null,null,null,null,null,"     一般機械","生産用機械",null,null,null,null,null,null,null,null,{"$f":"データ一覧!R350","v":0},null,null,null,{"$f":"+データ一覧!R375","v":0},null,null,null,null,null,null,{"$f":"データ一覧!R400","v":0},null,null,null,null,null,null,"地域福祉施設",null,null,null,null,null,null,null,{"$f":"データ一覧!R558","v":"-"},null,null,null,{"$f":"データ一覧!R571","v":"-"},null,null,null,null,null,"指定相談支援事業所",null,null,null,null,null,null,null,{"$f":"データ一覧!R564","v":"-"},null,null,null,{"$f":"データ一覧!R577","v":"-"}]
["階",{"$f":"+LEFT(データ一覧!$A$83,1)","v":"6"},"  分",null,null,null,"14歳",null,null,"24歳",null,null,"34歳",null,null,"44歳",null,null,"54歳",null,null,"64歳",null,null,"以上","    林     野     の     構     成",null,null,null,null,null,null,"保     有     形     態     別",null,null,null,null,null,null,"     電気機械","業務用機械",null,null,null,null,null,null,null,null,{"$f":"データ一覧!R351","v":0},null,null,null,{"$f":"+データ一覧!R376","v":0},null,null,null,null,null,null,{"$f":"データ一覧!R401","v":0},null,null,null,null,null,null,"老人福祉施設",null,null,null,null,null,null,null,{"$f":"データ一覧!R559","v":4},null,null,null,{"$f":"データ一覧!R572","v":75},null,null,null,null,null,"児童福祉施設",null,null,null,null,null,null,null,{"$f":"データ一覧!R565","v":8},null,null,null,{"$f":"データ一覧!R578","v":435}]
["級","・",null,null,null,null,"人",null,null,"人",null,"    人",null,null,"    人",null,null,"    人",null,null,"    人",null,null,"    人",null,null,null,null,null,null,null,"ha",null,null,null,null,null,"       ha",null,null,"電子・デバイス",null,null,null,null,null,null,null,null,{"$f":"データ一覧!R352","v":0},null,null,null,{"$f":"+データ一覧!R377","v":0},null,null,null,null,null,null,{"$f":"データ一覧!R402","v":0},null,null,null,null,null,null,"介護保険施設",null,null,null,null,null,null,null,{"$f":"データ一覧!R560","v":20},null,null,null,{"$f":"データ一覧!R573","v":462},null,null,null,null,null,"母子福祉施設",null,null,null,null,null,null,null,{"$f":"データ一覧!R566","v":"-"},null,null,null,{"$f":"データ一覧!R579","v":"-"}]
["別",{"$f":"+MID(データ一覧!$A$83,3,2)","v":"10"},"総 数",null,{"$f":"+E42+E43","v":1001},null,null,{"$f":"+H42+H43","v":775},null,null,{"$f":"+K42+K43","v":547},null,null,{"$f":"+N42+N43","v":907},null,null,{"$f":"+Q42+Q43","v":1106},null,null,{"$f":"+T42+T43","v":1158},null,null,{"$f":"+W42+W43","v":3676},null,null," 無立木地   伐採跡地",null,null,null,{"$f":"データ一覧!R271","v":0},null,null,"国   　　　 　 有",null,null,null,{"$f":"データ一覧!R273","v":6530.63},null,null,null,"電気機械",null,null,null,null,null,null,null,null,{"$f":"データ一覧!R353","v":1},null,null,null,{"$f":"+データ一覧!R378","v":85},null,null,null,null,null,null,{"$f":"データ一覧!R403","v":"x"},null,null,null,null,null,null,"障害者自立支援法施行前からの身体障害者福祉施設",null,null,null,null,null,null,null,{"$f":"データ一覧!R561","v":"-"},null,null,null,{"$f":"データ一覧!R574","v":"-"},null,null,null,null,null,"婦人保護施設",null,null,null,null,null,null,null,{"$f":"データ一覧!R567","v":"-"},null,null,null,{"$f":"データ一覧!R580","v":"-"}]
["人","・","  男",null,{"$f":"データ一覧!R83","v":535},null,null,{"$f":"データ一覧!R84","v":421},null,null,{"$f":"データ一覧!R85","v":293},null,null,{"$f":"データ一覧!R86","v":466},null,null,{"$f":"データ一覧!R87","v":569},null,null,{"$f":"データ一覧!R88","v":579},null,null,{"$f":"データ一覧!R89","v":1559},null,null," 無立木地   未立木地",null,null,null,{"$f":"データ一覧!R272","v":845.85},null,null,"公       　　  有",null,null,null,{"$f":"データ一覧!R274","v":4611.41},null,null,"     輸送機械","情報通信機械",null,null,null,null,null,null,null,null,{"$f":"データ一覧!R354","v":0},null,null,null,{"$f":"+データ一覧!R379","v":0},null,null,null,null,null,null,{"$f":"データ一覧!R404","v":0},null,null,null,null,null,null,null,null,null,null,null,null,null,null,null,null,null,null,null,null,null,null,null,null,"その他の社会福祉施設",null,null,null,null,null,null,null,{"$f":"データ一覧!R568+データ一覧!R569","v":0},null,null,null,0]
["口",{"$f":"+RIGHT(データ一覧!$A$83,1)","v":"1"},"  女",null,{"$f":"データ一覧!R91","v":466},null,null,{"$f":"データ一覧!R92","v":354},null,null,{"$f":"データ一覧!R93","v":254},null,null,{"$f":"データ一覧!R94","v":441},null,null,{"$f":"データ一覧!R95","v":537},null,null,{"$f":"データ一覧!R96","v":579},null,null,{"$f":"データ一覧!R97","v":2117},null,null,null,null,null,null,null,null,null,"私          　 有",null,null,null,{"$f":"データ一覧!R275","v":20310.8},null,null,"     精密機械","輸送機械",null,null,null,null,null,null,null,null,{"$f":"データ一覧!R355","v":0},null,null,null,{"$f":"+データ一覧!R380","v":0},null,null,null,null,null,null,{"$f":"データ一覧!R405","v":0},null,null,null,null,null,null,"障害福祉サービス事業所",null,null,null,null,null,null,null,{"$f":"データ一覧!R562","v":6},null,null,null,{"$f":"データ一覧!R575","v":44}]
[null,null,null,null,null,null,null,null,null,null,null,null,null,null,null,null,null,null,null,null,null,null,null,null,null,"            林     産     物     生     産     量 ",null,null,null,null,null,null,null,null,null,{"$f":"データ一覧!$A$276","v":"5年中"},null,null,null,"     その他","その他",null,null,null,null,null,null,null,null,{"$f":"データ一覧!R356","v":1},null,null,null,{"$f":"+データ一覧!R381","v":94},null,null,null,null,null,null,{"$f":"データ一覧!R406","v":"x"},null,null,null,null,null,null," １７  教　　　　　　　育",null,null,null,null,null,null,null,null,null,null,null,null,null,null,null,{"$f":"データ一覧!$A$583","v":"6.5.1"}]
["人口動態",null,null,null,null,null,null,"   自　然　動　態",null,null,null,null,null,"   社  会  動  態",null,null,null,null,null,{"$f":"データ一覧!$A78","v":"5.1.1～5.12.31"},null,null,null,null,null,"生椎茸",null,null,null,{"$f":"データ一覧!R276","v":0},null,"㎏","乾椎茸",null,null,null,{"$f":"データ一覧!R277","v":0},null,"㎏"]
[null,null,"   区       分",null,null,null,null," 出   生",null,null," 死   亡",null,null," 転   入",null,null," 転   出",null,null," 婚   姻",null,null," 離   婚",null,null,"えのきだけ",null,null,null,{"$f":"データ一覧!R279","v":0},null,"㎏","なめこ",null,null,null,{"$f":"データ一覧!R278","v":0},null,"㎏","    ","工　業　用　水　量",null,null,null,null,null,"（従業者30人以上の事業所）",null,null,null,null,null,null,null,null,null,null,{"$f":"データ一覧!R407","v":184},null,null,null,null,"㎥／日",null,null,null,null,null,null,null,null,null,null,null,null,null,null,"学校数（校）",null,null,null,null,null,null,"教員数（人）",null,null,null,null,null,null,null,"学生・生徒・児童数（人）"]
[{"$f":"LEFT(データ一覧!$A74,6)","v":"5.10.1"},null,null,null,null,null,null,"       人",null,null,"       人",null,null,"       人",null,null,"       人",null,null,null,"    件",null,null,"    件",null,"ひらたけ",null,null,null,{"$f":"+データ一覧!R280","v":0},null,"㎏","まいたけ",null,null,null,{"$f":"+データ一覧!R281","v":0},null,"㎏",null,null,null,null,null,null,null,null,null,null,null,null,null,null,null,null,null,null,null,null,null,null,null,null,null,null,null,null,null,"　","区分",null,null,null,null,null,null,null," 本 校",null,null," 分 校",null,null," 本   務",null,null,null," 兼   務",null,null,null," 総   数",null,null,null,"男",null,null,null,"女"]
["～",null," 実          数",null,null,null,null,{"$f":"データ一覧!R74","v":40},null,null,{"$f":"データ一覧!R75","v":166},null,null,{"$f":"データ一覧!R76","v":184},null,null,{"$f":"データ一覧!R77","v":205},null,null,{"$f":"データ一覧!R78","v":18},null,null,{"$f":"データ一覧!R79","v":10},null,null,null,null,null,null,null,null,null,null,null,null,null,null,null,null," １１ 　上　・　下　水　道",null,null,null,null,null,null,null,null,null,null,null,null,null,null,null,null,null,null,null,null,null,null,null,null,null,null,null,null,"小学校",null,null,null,null,null,null,null,null,{"$f":"データ一覧!R584","v":4},null,null,{"$f":"データ一覧!R585","v":0},null,null,{"$f":"データ一覧!R586","v":55},null,null,null,{"$f":"データ一覧!R587","v":9},null,null,null,{"$f":"データ一覧!R588","v":428},null,null,null,{"$f":"データ一覧!R589","v":220},null,null,null,{"$f":"データ一覧!R590","v":208}]
[{"$f":"RIGHT(データ一覧!$A76,6)","v":"6.9.30"},null,"比率(対1,000人)",null,null,null,null,{"$f":"+H48/I36*1000","v":3.9992001599680065},null,null,{"$f":"+K48/I36*1000","v":16.596680663867229},null,null,"- ",null,null,"- ",null,null,{"$f":"+T48/I36*1000","v":1.7996400719856029},null,null,{"$f":"+W48/I36*1000","v":0.99980003999200162},null,null,"  ６  漁               業",null,null,null,null,null,null,null,null,null,null,null,null,null,null,null,null,null,null,null,null,null,null,null,null,null,null,null,null,null,null,null,null,null,null,null,null,null,null,null,null,null,"  ","中学校",null,null,null,null,null,null,null,null,{"$f":"データ一覧!R592","v":1},null,null,{"$f":"データ一覧!R593","v":0},null,null,{"$f":"データ一覧!R594","v":24},null,null,null,{"$f":"データ一覧!R595","v":3},null,null,null,{"$f":"データ一覧!R596","v":253},null,null,null,{"$f":"データ一覧!R597","v":150},null,null,null,{"$f":"データ一覧!R598","v":103}]
[null,null,null,null,null,null,null,null,null,null,null,null,null,null,null,null,null,null,null,null,null,null,null,null,null,null,null,null,null,null,null,null,null,null,null,null,null,null,null,"水 道 供 給 人 口",null,null,null,null,null,null,"上 水 道",null,null,null,"簡易水道",null,null,null,"専用水道",null,null,null,"飲料水供給施設",null,null,null,"下水道処理人口",null,null,null,null,"  ","高等学校",null,null,null,null,null,null,null,null,{"$f":"データ一覧!R600","v":0},null,null,{"$f":"データ一覧!R601","v":0},null,null,{"$f":"データ一覧!R602","v":0},null,null,null,{"$f":"データ一覧!R603","v":0},null,null,null,{"$f":"データ一覧!R604","v":0},null,null,null,{"$f":"データ一覧!R605","v":0},null,null,null,{"$f":"データ一覧!R606","v":0}]
["  ３  事　　業　　所（民　　営）",null,null,null,null,null,null,null,null,null,null,"3.6.1",null,null,null,null,null,null,null,null,null,null,null,null,null,"漁船隻数・トン数",null,null,null,{"$f":"データ一覧!$A$282","v":"5.12.31"},null,null,null,"動　力　船",null,null,null,null,null,{"$f":"データ一覧!$A$408","v":"6.3.31"},null,null,null,null,null,"人",null,{"$f":"データ一覧!R408","v":9375},null,null,{"$f":"データ一覧!R409","v":0},null,null,null,null,{"$f":"データ一覧!R410","v":0},null,null,null,{"$f":"データ一覧!R411","v":1},null,null,null,{"$f":"データ一覧!R412","v":3827},null,null,null,"  ","大学・短期大学",null,null,null,null,null,null,null,null,{"$f":"データ一覧!R607","v":0},null,null,{"$f":"データ一覧!R608","v":0},null,null,{"$f":"データ一覧!R609","v":0},null,null,null,{"$f":"データ一覧!R610","v":0},null,null,null,{"$f":"データ一覧!R611","v":0},null,null,null,{"$f":"データ一覧!R612","v":0},null,null,null,{"$f":"データ一覧!R613","v":0}]
[null,null,null,null,null,null,null,null,null,null,null,null,null,null,null,null,null,null,null,null,null,null,null,null,null,"無動力船隻数",null,null,null,"船外機付漁船隻数",null,null,null,"隻　数",null,null,"総 ト ン 数",null,null,null,null,null,null,null,null,null,null,null,null,null,null,null,null,null,null,null,null,null,null,null,null,null,null,null,null,null,null,"  ","高等専門学校",null,null,null,null,null,null,null,null,{"$f":"データ一覧!R614","v":0},null,null,{"$f":"データ一覧!R615","v":0},null,null,{"$f":"データ一覧!R616","v":0},null,null,null,{"$f":"データ一覧!R617","v":0},null,null,null,{"$f":"データ一覧!R618","v":0},null,null,null,{"$f":"データ一覧!R619","v":0},null,null,null,{"$f":"データ一覧!R620","v":0}]
[null,null,null,null,null,null,null,"    総　　　　　数",null,null,null,null,null,"    民　　　　　営",null,null,null,null,null,"  国 ･ 地方公共団体",null,null,null,null,null,null,null,null,"隻",null,null,null,"隻",null,null,"隻",null,null,"t"," １２  交   通　・　通   信",null,null,null,null,null,null,null,null,null,null,null,null,null,null,null,null,null,null,null,null,null,null,null,null,null,null,null,"  ","特別支援学校",null,null,null,null,null,null,null,null,{"$f":"+データ一覧!R622","v":0},null,null,{"$f":"+データ一覧!R623","v":0},null,null,{"$f":"+データ一覧!R624","v":0},null,null,null,{"$f":"+データ一覧!R625","v":0},null,null,null,{"$f":"+データ一覧!R626","v":0},null,null,null,{"$f":"+データ一覧!R627","v":0},null,null,null,{"$f":"+データ一覧!R628","v":0}]
["  　区　　　　　　分",null,null,null,null,null,null," 事業所数",null,null," 従業者数",null,null," 事業所数",null,null," 従業者数",null,null," 事業所数",null,null," 従業者数",null,null,{"$f":"データ一覧!$R$282","v":0},null,null,null,{"$f":"データ一覧!$R$283","v":88},null,null,null,{"$f":"データ一覧!R284","v":20},null,null,{"$f":"データ一覧!R285","v":132.16},null,null,null,null,null,null,null,null,null,null,null,null,null,null,null,null,null,null,null,null,null,null,null,null,null,null,null,null,null,null,"  ","幼稚園",null,null,null,null,null,null,null,null,{"$f":"データ一覧!R630","v":0},null,null,{"$f":"データ一覧!R631","v":0},null,null,{"$f":"データ一覧!R632","v":0},null,null,null,{"$f":"データ一覧!R633","v":0},null,null,null,{"$f":"データ一覧!R634","v":0},null,null,null,{"$f":"データ一覧!R635","v":0},null,null,null,{"$f":"データ一覧!R636","v":0}]
[null,null,null,null,null,null,null,null,null,null,"       人",null,null,null,null,null,"       人",null,null,null,null,null,"       人",null,null,"  男女別就業者数",null,null,null,null,null,null,null,{"$f":"データ一覧!$A$286","v":"5.11.1"},null,null,null,null,null,"道     路",null,null,null,"実 延 長",null,null,null,"国     道",null,null,null,"県     道",null,null,null,"市町道",null,null,null," 鉄 道 営 業 キ ロ 数",null,null,null,null,null,null,null,"  ","幼保連携認定こども園",null,null,null,null,null,null,null,null,{"$f":"データ一覧!R638","v":2},null,null,{"$f":"データ一覧!R639","v":0},null,null,{"$f":"データ一覧!R640","v":36},null,null,null,{"$f":"データ一覧!R641","v":18},null,null,null,{"$f":"データ一覧!R642","v":229},null,null,null,{"$f":"データ一覧!R643","v":121},null,null,null,{"$f":"データ一覧!R644","v":108}]
["総数",null,null,null,null,null,null,{"$f":"データ一覧!R99","v":"…"},null,null,{"$f":"データ一覧!R156","v":"…"},null,null,{"$f":"データ一覧!R100","v":382},null,null,{"$f":"データ一覧!R157","v":2596},null,null,{"$f":"データ一覧!R101","v":"…"},null,null,{"$f":"データ一覧!R158","v":"…"},null,null,"総　　数",null,null,null,null,null,"男",null,null,null,"女",null,null,null,{"$f":"データ一覧!$A$413","v":"5.4.1"},null,null,null,{"$f":"データ一覧!R413","v":420.70000000000005},null,null,"㎞",{"$f":"データ一覧!R414","v":72.400000000000006},null,null,"㎞",{"$f":"データ一覧!R415","v":50.5},null,null,"㎞",{"$f":"データ一覧!R416","v":297.8},null,null,"km",{"$f":"データ一覧!$A$417","v":"6.4.1"},null,null,null,{"$f":"データ一覧!R417","v":0},null,null,"㎞","  ","各種学校",null,null,null,null,null,null,null,null,{"$f":"データ一覧!R646","v":0},null,null,{"$f":"データ一覧!R647","v":0},null,null,{"$f":"データ一覧!R648","v":0},null,null,null,{"$f":"データ一覧!R649","v":0},null,null,null,{"$f":"データ一覧!R650","v":0},null,null,null,{"$f":"データ一覧!R651","v":0},null,null,null,{"$f":"データ一覧!R652","v":0}]
["農林漁業",null,null,null,null,null,null,{"$f":"データ一覧!R102","v":"…"},null,null,{"$f":"データ一覧!R159","v":"…"},null,null,{"$f":"データ一覧!R103","v":21},null,null,{"$f":"データ一覧!R160","v":269},null,null,{"$f":"データ一覧!R104","v":"…"},null,null,{"$f":"データ一覧!R161","v":"…"},null,null,null,null,null,null,null,"人",null,null,"　　　　人",null,null,null,null,"  人","自動車",null,null,null,null,null,null,null,null,"乗用車",null,null,null,null,null,null,null,null,null,null,null,null,null,null,null,null,null,null,"  ","専修学校",null,null,null,null,null,null,null,null,{"$f":"データ一覧!R654","v":0},null,null,{"$f":"データ一覧!R655","v":0},null,null,{"$f":"データ一覧!R656","v":0},null,null,null,{"$f":"データ一覧!R657","v":0},null,null,null,{"$f":"データ一覧!R658","v":0},null,null,null,{"$f":"データ一覧!R659","v":0},null,null,null,{"$f":"データ一覧!R660","v":0}]
["鉱業",null,null,null,null,null,null,{"$f":"データ一覧!R105","v":"…"},null,null,{"$f":"データ一覧!R162","v":"…"},null,null,{"$f":"データ一覧!R106","v":2},null,null,{"$f":"データ一覧!R163","v":35},null,null,{"$f":"データ一覧!R107","v":"…"},null,null,{"$f":"データ一覧!R164","v":"…"},null,null,{"$f":"データ一覧!R286","v":75},null,null,null,null,null,{"$f":"データ一覧!$R$287","v":0},null,null,null,{"$f":"データ一覧!R288","v":0},null,null,null,"台  数",null,null,null,"貨    物",null,null,null,"普     通",null,null,null,"小     型",null,null,null,"乗  合",null,null,"特  種",null,null,"小型二輪",null,null,"軽自動車",null,null," １８  衛　　　　　　　生"]
["建設業",null,null,null,null,null,null,{"$f":"データ一覧!R108","v":"…"},null,null,{"$f":"データ一覧!R165","v":"…"},null,null,{"$f":"データ一覧!R109","v":55},null,null,{"$f":"データ一覧!R166","v":283},null,null,{"$f":"データ一覧!R110","v":"…"},null,null,{"$f":"データ一覧!R167","v":"…"},null,null,"　　　　海 面 漁 業 漁 獲 量 （属人）",null,null,null,null,null,null,null,{"$f":"データ一覧!$A$289","v":"30年中"},null,null,null,null,null,{"$f":"データ一覧!$A$418","v":"6.3.31"},null,null,null,null,{"$f":"データ一覧!R418","v":394},null,null,null,{"$f":"データ一覧!R420","v":1979},null,null,null,{"$f":"データ一覧!R421","v":1787},null,null,{"$f":"データ一覧!R419","v":21},null,null,{"$f":"データ一覧!R422","v":165},null,null,{"$f":"データ一覧!R423","v":157},null,null,{"$f":"データ一覧!R424","v":4426}]
["製造業",null,null,null,null,null,null,{"$f":"データ一覧!R111","v":"…"},null,null,{"$f":"データ一覧!R168","v":"…"},null,null,{"$f":"データ一覧!R112","v":31},null,null,{"$f":"データ一覧!R169","v":481},null,null,{"$f":"データ一覧!R113","v":"…"},null,null,{"$f":"データ一覧!R170","v":"…"},null,null,null,null,null,null,null,"       ","ｔ",null,null,null,null,null,null,"t",null,null,"     ",null,"郵　便　局　数",null,null,null,null,null,null,null,null,null,null,null,null,null,{"$f":"+MID(データ一覧!$A$428,3,2)","v":"3."},"令","一般加入",null,null,null,"ＩＮＳネット",null,null,null,null,null,null,null,"医療関係施設",null,null,null,null,null,{"$f":"データ一覧!$A$661","v":"5.10.1"},null,null,null,null,null,null,"および医療関係者数",null,null,null,null,null,null,null,{"$f":"データ一覧!$A$666","v":"4.12.31"}]
["電気・ｶﾞ ｽ・熱供給・水道業",null,null,null,null,null,null,{"$f":"データ一覧!R114","v":"…"},null,null,{"$f":"データ一覧!R171","v":"…"},null,null,{"$f":"データ一覧!R115","v":"-"},null,null,{"$f":"データ一覧!R172","v":"-"},null,null,{"$f":"データ一覧!R116","v":"…"},null,null,{"$f":"データ一覧!R173","v":"…"},null,null,"   総　　　　　　数",null,null,null,{"$f":"データ一覧!R289","v":1516},null,null,"   藻　　　　　　類",null,null,null,{"$f":"データ一覧!R292","v":3},null,null,"通  信",null,null,null," 総     数",null,null,null,null," 郵 便 局",null,null,null,null," 簡 易 局",null,null,null,"・",{"$f":"+LEFT(データ一覧!$A$428,1)","v":"6"},"電話数",null,null,null,"加入数",null,null,null,null,null,null,null,null,null,"　","病",null,null,"院",null,"　",null,null,null,null," ","一般診療所",null,null,null,null,null,null,null,null,null,null,null,"歯科診療所"]
["情報通信業",null,null,null,null,null,null,{"$f":"データ一覧!R117","v":"…"},null,null,{"$f":"データ一覧!R174","v":"…"},null,null,{"$f":"データ一覧!R118","v":"-"},null,null,{"$f":"データ一覧!R175","v":"-"},null,null,{"$f":"データ一覧!R119","v":"…"},null,null,{"$f":"データ一覧!R176","v":"…"},null,null,"   魚　　　　　　類",null,null,null,{"$f":"データ一覧!R290","v":1455},null,null,"   そ　   の　　 他",null,null,null,{"$f":"データ一覧!R293","v":54},null,null,{"$f":"データ一覧!$A$428","v":"6.3.31"},null,null,null,{"$f":"データ一覧!R425","v":6},null,null,null,null,{"$f":"データ一覧!R426","v":6},null,null,null,null,{"$f":"データ一覧!R427","v":0},null,null,null,{"$f":"+RIGHT(データ一覧!$A$428,2)","v":"31"},"・",{"$f":"データ一覧!R428","v":609},null,null,null,{"$f":"データ一覧!R429","v":201},null,null,null," ","医療関係",null,null,null,null,null,null,null,null,null,null,null,"一般病院",null,null,null,null,null,null,null,null,null,null,null,"有",null,null,"床"]
["運輸業、郵便業",null,null,null,null,null,null,{"$f":"データ一覧!R120","v":"…"},null,null,{"$f":"データ一覧!R177","v":"…"},null,null,{"$f":"データ一覧!R121","v":8},null,null,{"$f":"データ一覧!R178","v":50},null,null,{"$f":"データ一覧!R122","v":"…"},null,null,{"$f":"データ一覧!R179","v":"…"},null,null,"   貝　　　　　　類",null,null,null,{"$f":"データ一覧!R291","v":4},null,null,null,null,null,null,null,null,null,null,null,null,null,null,null,null,null,null,null,null,null,null,null,null,null,null,null,null,null,null,null,null,null,null,null,null,null,null,"施設数",null,null,null,null,null,null,{"$f":"データ一覧!R661","v":0},null,null,null,null,null,{"$f":"データ一覧!R662","v":0},null,null,null,null,null,{"$f":"データ一覧!R663","v":8},null,null,null,null,null,{"$f":"データ一覧!R664","v":2},null,null,null,null,null,{"$f":"データ一覧!R665","v":2}]
["卸売業、小売業",null,null,null,null,null,null,{"$f":"データ一覧!R123","v":"…"},null,null,{"$f":"データ一覧!R180","v":"…"},null,null,{"$f":"データ一覧!R124","v":68},null,null,{"$f":"データ一覧!R181","v":434},null,null,{"$f":"データ一覧!R125","v":"…"},null,null,{"$f":"データ一覧!R182","v":"…"},null,null,null,null,null,null,null,null,null,null,null,null,null,null,null,null," １３  税　　・　　財　　政",null,null,null,null,null,null,null,null,null,null,null,null,null,null,null,null,null,null,null,null,null,null,null,null,null,null,null,null,null,null,null,null,null,null,"医師",null,null,null,null,"歯科医師",null,null,null,null,"薬剤師",null,null,null,null,"保健師",null,null,null,null,"助産師",null,null," ",null,"看護師",null,null," "]
["金融業、保険業",null,null,null,null,null,null,{"$f":"データ一覧!R126","v":"…"},null,null,{"$f":"データ一覧!R183","v":"…"},null,null,{"$f":"データ一覧!R127","v":3},null,null,{"$f":"データ一覧!R184","v":12},null,null,{"$f":"データ一覧!R128","v":"…"},null,null,{"$f":"データ一覧!R185","v":"…"},null,null,"  ７  商        　　　業 ",null,null,null,null,null,null,{"$f":"データ一覧!$A$294","v":"3.6.1(令和2年実績）"},null,null,null,null,null,null,null,null,null,null,null,null,null,null,null,null,null,null,null,null,null,null,null,null,null,null,null,null,null,null,null,null,null,null," ","医療",null,null,null,null,null,null,null,null,"人",null,null,null,null,"人",null,null,null,null,"人",null,null,null,null,"人",null,null,null,null,"人",null,null,null,null,"人"]
["不動産業、物品賃貸業",null,null,null,null,null,null,{"$f":"データ一覧!R129","v":"…"},null,null,{"$f":"データ一覧!R186","v":"…"},null,null,{"$f":"データ一覧!R130","v":3},null,null,{"$f":"データ一覧!R187","v":5},null,null,{"$f":"データ一覧!R131","v":"…"},null,null,{"$f":"データ一覧!R188","v":"…"},null,null,null,null,null,null,null,null,null,null,null,null,null,null,null,null,"           ",null,null,null,"歳入",null,null,null,null,null,null,null,null,"(千円）"," ",null,null,null,"歳出",null,null,null,null,null,null,null,null,"(千円）",null,"関係者",null,null,null,null,{"$f":"データ一覧!R666","v":9},null,null,null,null,{"$f":"データ一覧!R667","v":2},null,null,null,null,{"$f":"データ一覧!R668","v":2},null,null,null,null,{"$f":"データ一覧!R669","v":11},null,null,null,null,{"$f":"データ一覧!R670","v":0},null,null,null,null,{"$f":"データ一覧!R671","v":63}]
["学術研究、専門・技術ｻｰﾋﾞｽ業",null,null,null,null,null,null,{"$f":"データ一覧!R132","v":"…"},null,null,{"$f":"データ一覧!R189","v":"…"},null,null,{"$f":"データ一覧!R133","v":10},null,null,{"$f":"データ一覧!R190","v":20},null,null,{"$f":"データ一覧!R134","v":"…"},null,null,{"$f":"データ一覧!R191","v":"…"},null,null,"  産   業　 分　 類",null,null,null," 事　業　所　数",null,null," 従　業　者　数",null,null,"年　間　販　売　額",null,null,null,"一人当たり歳入歳出予算決算額",null,null,null,null,null,null,null,null,null,null,null,null,null,null,null,null,null,null,null,null,null,null,null,null,null,null,null,"                   ",null,null,null,null,null,null,null,null,"死因別死亡数　　　    ",null,null,null,null,null,null,null,null,null,null,null,null,null,null,null,{"$f":"データ一覧!$A$672","v":"5年中"},null,null,null,null,null,null,null,null,"      単 位：人"]
["宿泊業、飲食サービス業",null,null,null,null,null,null,{"$f":"データ一覧!R135","v":"…"},null,null,{"$f":"データ一覧!R192","v":"…"},null,null,{"$f":"データ一覧!R136","v":61},null,null,{"$f":"データ一覧!R193","v":264},null,null,{"$f":"データ一覧!R137","v":"…"},null,null,{"$f":"データ一覧!R194","v":"…"},null,null,null,null,null,null,null,null,null,null,null,"　人",null,"         百万円",null,null,"区分",null,null,null,{"$f":"データ一覧!$A$438","v":"6年度"},null,null,null,null,{"$f":"データ一覧!$A$452","v":"5年度"},null,null,null,null,"区分",null,null,null,{"$f":"+AR68","v":"6年度"},null,null,null,null,{"$f":"データ一覧!$A$452","v":"5年度"},null,null,null,null," 死     因",null,null,null,null,null,null,null,null,null,null,null,"悪  性",null,null,"高血圧",null,null,null,null,null,"脳血管",null,null,null,null,null," ",null,null,"不慮の事故"]
["生活関連サービス業、娯楽業",null,null,null,null,null,null,{"$f":"データ一覧!R138","v":"…"},null,null,{"$f":"データ一覧!R195","v":"…"},null,null,{"$f":"データ一覧!R139","v":27},null,null,{"$f":"データ一覧!R196","v":64},null,null,{"$f":"データ一覧!R140","v":"…"},null,null,{"$f":"データ一覧!R197","v":"…"},null,null,"総　　　　　　計",null,null,null,{"$f":"データ一覧!R294","v":64},null,null,{"$f":"データ一覧!R303","v":335},null,null,{"$f":"データ一覧!R312","v":5165},null,null,null,null,null,null,null,{"$f":"データ一覧!R434","v":1285649.8364231188},null,null,null,null,{"$f":"データ一覧!R435","v":1228130.9434367286},null,null,null,null,null,null,null,null,{"$f":"データ一覧!R436","v":1285649.8364231188},null,null,null,null,{"$f":"データ一覧!R437","v":1169770.7416550394},null,null,null,null,null,null,null,null,null,"全 死 因",null,null,null,"結 核",null,null,"新生物",null,null,"性疾患",null,null,"心疾患",null,null,"疾  患",null,null,"肺  炎",null,null,"老  衰",null,null,null,null," ","交通事故"]
["教育、学習支援業",null,null,null,null,null,null,{"$f":"データ一覧!R141","v":"…"},null,null,{"$f":"データ一覧!R198","v":"…"},null,null,{"$f":"データ一覧!R142","v":16},null,null,{"$f":"データ一覧!R199","v":47},null,null,{"$f":"データ一覧!R143","v":"…"},null,null,{"$f":"データ一覧!R200","v":"…"},null,null,"卸売業",null,null,null,{"$f":"データ一覧!R295","v":2},null,null,{"$f":"データ一覧!R304","v":2},null,null,{"$f":"データ一覧!R313","v":"-"},null,null,null,"項目別歳入歳出予算決算額"]
["医療、福祉",null,null,null,null,null,null,{"$f":"データ一覧!R144","v":"…"},null,null,{"$f":"データ一覧!R201","v":"…"},null,null,{"$f":"データ一覧!R145","v":35},null,null,{"$f":"データ一覧!R202","v":456},null,null,{"$f":"データ一覧!R146","v":"…"},null,null,{"$f":"データ一覧!R203","v":"…"},null,null,"小売業",null,null,null,{"$f":"データ一覧!R296","v":62},null,null,{"$f":"データ一覧!R305","v":333},null,null,{"$f":"データ一覧!R314","v":5165},null,null,null,"区分",null,null,null,{"$f":"データ一覧!$A$438","v":"6年度"},null,null,null,null,{"$f":"データ一覧!$A$452","v":"5年度"},null,null,null,null,"区分",null,null,null,{"$f":"+AR71","v":"6年度"},null,null,null,null,{"$f":"データ一覧!$A$452","v":"5年度"},null,null,null,null,null,null,null,null,null,{"$f":"データ一覧!R672","v":175},null,null,null,"   －",{"$f":"データ一覧!R673","v":"-"},null,{"$f":"データ一覧!R674","v":49},null,null,null,{"$f":"データ一覧!R675","v":4},null,{"$f":"データ一覧!R676","v":28},null,null,{"$f":"データ一覧!R677","v":14},null,null,{"$f":"データ一覧!R678","v":5},null,null,{"$f":"データ一覧!R679","v":10},null,null,{"$f":"データ一覧!R680","v":4},null,null,null,{"$f":"データ一覧!R681","v":1}]
["複合サービス事業",null,null,null,null,null,null,{"$f":"データ一覧!R147","v":"…"},null,null,{"$f":"データ一覧!R204","v":"…"},null,null,{"$f":"データ一覧!R148","v":9},null,null,{"$f":"データ一覧!R205","v":69},null,null,{"$f":"データ一覧!R149","v":"…"},null,null,{"$f":"データ一覧!R206","v":"…"},null,null,"各種商品",null,null,null,{"$f":"データ一覧!R297","v":"-"},null,null,{"$f":"データ一覧!R306","v":"-"},null,null,{"$f":"データ一覧!R315","v":"-"},null,null,null,"総額",null,null,null,{"$f":"SUM(AR73:AV85)","v":11789409},null,null,null,null,{"$f":"SUM(AW73:BA85)","v":11442496},null,null,null,null,"総額",null,null,null,{"$f":"SUM(BF73:BJ85)","v":11789409},null,null,null,null,{"$f":"SUM(BK73:BO85)","v":10898754},null,null,null,null," １９  警　察　・　消　防  ",null,null,null,null,null,null,null,null,null,null,null,null,null,null,null,{"$f":"+データ一覧!$A682","v":"6.4.1"}]
["サービス業",null,null,null,null,null,null,{"$f":"データ一覧!R150","v":"…"},null,null,{"$f":"データ一覧!R207","v":"…"},null,null,{"$f":"データ一覧!R151","v":33},null,null,{"$f":"データ一覧!R208","v":107},null,null,{"$f":"データ一覧!R152","v":"…"},null,null,{"$f":"データ一覧!R209","v":"…"},null,null,"織物・衣服・身の回り品",null,null,null,{"$f":"データ一覧!R298","v":6},null,null,{"$f":"データ一覧!R307","v":14},null,null,{"$f":"データ一覧!R316","v":20},null,null,null,"地方税",null,null,null,{"$f":"データ一覧!R439","v":1265256},null,null,null,null,{"$f":"データ一覧!R453","v":1280250},null,null,null,null,"議会費",null,null,null,{"$f":"データ一覧!R467","v":76740},null,null,null,null,{"$f":"データ一覧!R481","v":74946}]
["公務",null,null,null,null,null,null,{"$f":"データ一覧!R153","v":"…"},null,null,{"$f":"データ一覧!R210","v":"…"},null,null,{"$f":"データ一覧!R154","v":"…"},null,null,{"$f":"データ一覧!R211","v":"…"},null,null,{"$f":"データ一覧!R155","v":"…"},null,null,{"$f":"データ一覧!R212","v":"…"},null,null,"飲食料品",null,null,null,{"$f":"データ一覧!R299","v":26},null,null,{"$f":"データ一覧!R308","v":185},null,null,{"$f":"データ一覧!R317","v":2697},null,null,null,"地方譲与税",null,null,null,{"$f":"データ一覧!R440","v":116300},null,null,null,null,{"$f":"データ一覧!R454","v":111190},null,null,null,null,"総務費",null,null,null,{"$f":"データ一覧!R468","v":1600943},null,null,null,null,{"$f":"データ一覧!R482","v":1957697},null,null,null,null,null,null,null,null,null,null,null,null,null,null,"交番・駐在所",null,null,null,null,null,null,null,null,"刑法犯認知件数",null,null,null,null,null,null,null,null,"交通人身事故発生件数"]
["  ４  農        　　　業 ",null,null,null,null,null,null,null,null,null,null,null,null,null,null,null,null,null,null,null,null,null,null,null,null,"機械器具",null,null,null,{"$f":"データ一覧!R300","v":10},null,null,{"$f":"データ一覧!R309","v":36},null,null,{"$f":"データ一覧!R318","v":378},null,null,null,"各種交付金",null,null,null,{"$f":"データ一覧!R441","v":279300},null,null,null,null,{"$f":"データ一覧!R455","v":276278},null,null,null,null,"民生費",null,null,null,{"$f":"データ一覧!R469","v":1957401},null,null,null,null,{"$f":"データ一覧!R483","v":1881467},null,null,null,null,null,"警察署数",null,null,null,null,null,null,null,null,"検問所数",null,null,null,null,null,null,null,null,null,{"$f":"データ一覧!$A$684","v":"5年中"},null,null,null,null,null,null,null,null,{"$f":"データ一覧!$A$684","v":"5年中"}]
[null,null,null,null,null,null,null,null,null,null,null,null,null,null,null,null,null,null,null,null,null,null,null,null,null,"その他",null,null,null,{"$f":"データ一覧!R301","v":20},null,null,{"$f":"データ一覧!R310","v":98},null,null,{"$f":"データ一覧!R319","v":2070},null,null,null,"地方特例交付金",null,null,null,{"$f":"データ一覧!R442","v":4200},null,null,null,null,{"$f":"データ一覧!R456","v":4902},null,null,null,null,"衛生費",null,null,null,{"$f":"データ一覧!R470","v":884586},null,null,null,null,{"$f":"データ一覧!R484","v":787759},null,null,null,null,null,null,null,null,null,null,null,null,null,null,null,null,null,null,null,null,null,null,null,null,null,null,null,null," 件",null,null,null,null,null,null,null,null,"　件"]
[null,null,"農業経営体数",null,null,null,null,null,null,"農産物販売額規模別経営体数",null,null,null,null,null,null,null,"経営耕地面積規模別経営体数",null,null,null,null,null,null,null,"無店舗",null,null,null,{"$f":"データ一覧!R302","v":"-"},null,null,{"$f":"データ一覧!R311","v":"-"},null,null,{"$f":"データ一覧!R320","v":"-"},null,null,null,"地方交付税",null,null,null,{"$f":"データ一覧!R443","v":3900000},null,null,null,null,{"$f":"データ一覧!R457","v":4351295},null,null,null,null,"労働費",null,null,null,{"$f":"データ一覧!R471","v":15000},null,null,null,null,{"$f":"データ一覧!R485","v":15000},null,null,null,null,null,null,{"$f":"データ一覧!R682","v":0},null,null,null,null,null,null,null,null,{"$f":"データ一覧!R683","v":4},null,null,null,null,null,null,null,null,{"$f":"データ一覧!R684","v":16},null,null,null,null,null,null,null,null,{"$f":"データ一覧!R685","v":8}]
["農",null,"区　分",null,null,null,"経営体数\n（経営体）",null,null,"区　分",null,null,null,null,"経営体数\n（経営体）",null,null,"区　分",null,null,null,null,"経営体数\n（経営体）",null,null,null,null,null,null,null,null,null,null,null,null,null,null,null,null,"分担金および負担金",null,null,null,{"$f":"データ一覧!R444","v":20829},null,null,null,null,{"$f":"データ一覧!R458","v":52208},null,null,null,null,"農林水産業費",null,null,null,{"$f":"データ一覧!R472","v":2785945},null,null,null,null,{"$f":"データ一覧!R486","v":949982},null,null,null,null,"火災発生件数",null,null,null,null,null,null,null,null,null,"林野焼損",null,null,null,null,"損      害",null,null,null,null,"消 防 自",null,null,null,"その他の",null,null,null," ",null,null,null,null," "]
["業","令",null,null,null,null,null,null,null,null,null,null,null,null,null,null,null,null,null,null,null,null,null,null,null,"  ８  住　　　　　　 　宅",null,null,null,null,null,null,null,null,null,null,null,null,null,"使用料および手数料",null,null,null,{"$f":"データ一覧!R445","v":70616},null,null,null,null,{"$f":"データ一覧!R459","v":70290},null,null,null,null,"商工費",null,null,null,{"$f":"データ一覧!R473","v":782109},null,null,null,null,{"$f":"データ一覧!R487","v":726676},null,null,null,null,{"$f":"+データ一覧!$A$686","v":"5年中"},null,null,null,null,"焼損棟数",null,null,null,null,"面    積",null,null,null,null,"見  積  額",null,null,null,null,"動 車 数",null,null,null,"ﾎﾟﾝﾌﾟ数",null,null,null," 消防吏員",null,null,null," 消防団員"]
["経",{"$f":"+LEFT(データ一覧!$A$213)","v":"2"},"計",null,null,null,{"$f":"データ一覧!R213","v":251},null,null,"総　　　 数",null,null,null,null,{"$f":"データ一覧!R217","v":251},null,null,"総　　　 数",null,null,null,null,{"$f":"データ一覧!R233","v":837},null,null,null,null,null,null,null,null,null,null,null,null,null,null,null,null,"国庫支出金",null,null,null,{"$f":"データ一覧!R446","v":814717},null,null,null,null,{"$f":"データ一覧!R460","v":1394696},null,null,null,null,"土木費",null,null,null,{"$f":"データ一覧!R474","v":1121480},null,null,null,null,{"$f":"データ一覧!R488","v":1015461},null,null,null,null,"         件",null,null,null,null,null,"      棟",null,null,null,null,null,null,"  ａ",null,null,null,"  千円",null,null,"        ",null,null,null,null,null,null,null,null,null,"  人",null,null,null,"  人"]
["営","・","個人経営体",null,null,null,{"$f":"データ一覧!R214","v":229},null,null,"販 売 な し",null,null,null,null,{"$f":"データ一覧!R218","v":20},null,null,"0.5 ha 未満",null,null,null,null,{"$f":"データ一覧!R234","v":14},null,null,{"$f":"+データ一覧!$A$321","v":"4年"},null,null,null,null,{"$f":"データ一覧!$A$324","v":"5年"},"中の増減",null,null,null,{"$f":"+データ一覧!$A$324","v":"5年"},null,null,null,"県支出金",null,null,null,{"$f":"データ一覧!R447","v":3062625},null,null,null,null,{"$f":"データ一覧!R461","v":1645033},null,null,null,null,"消防費",null,null,null,{"$f":"データ一覧!R475","v":370512},null,null,null,null,{"$f":"データ一覧!R489","v":368041},null,null,null,null,null,{"$f":"データ一覧!R686","v":5},null,null,null,null,{"$f":"データ一覧!R687","v":6},null,null,null,null,{"$f":"データ一覧!R688","v":0},null,null,null,{"$f":"データ一覧!R689","v":3078},null,null,null,null,null,{"$f":"データ一覧!R690","v":5},null,null,null,{"$f":"データ一覧!R691","v":1},null,null,null,{"$f":"データ一覧!R692","v":38},null,null,null,{"$f":"データ一覧!R693","v":207}]
["体",{"$f":"+LEFT(データ一覧!$A$213,1)","v":"2"},"団体経営体",null,null,null,{"$f":"データ一覧!R215","v":22},null,null,"50万円未満",null,null,null,null,{"$f":"データ一覧!R219","v":90},null,null,"0.5 ha ～ 1.0 ha",null,null,null,null,{"$f":"データ一覧!R235","v":61},null,null,null,null,null,null,"建設した住宅",null,null,"消失した住宅",null,null,null,null,null,null,"財産収入",null,null,null,{"$f":"データ一覧!R448","v":29134},null,null,null,null,{"$f":"データ一覧!R462","v":31325},null,null,null,null,"教育費",null,null,null,{"$f":"データ一覧!R476","v":1422018},null,null,null,null,{"$f":"データ一覧!R490","v":1071155},null,null,null,null," ２０  そ　　　の　　　他　"]
["数","・",null,"法人経営",null,null,{"$f":"データ一覧!R216","v":11},null,null,"50～300万円",null,null,null,null,{"$f":"データ一覧!R220","v":107},null,null,"1.0 ha ～ 2.0 ha",null,null,null,null,{"$f":"データ一覧!R236","v":82},null,null,null,null,null,null,null,null,null,null,null,null,null,null,null,null,"繰入金",null,null,null,{"$f":"データ一覧!R449","v":798870},null,null,null,null,{"$f":"データ一覧!R463","v":112678},null,null,null,null,"災害復旧費",null,null,null,{"$f":"データ一覧!R477","v":98270},null,null,null,null,{"$f":"データ一覧!R491","v":1407159}]
["（",{"$f":"+RIGHT(データ一覧!$A$213)","v":"1"},null,null,null,null,null,null,null,"300～500万円",null,null,null,null,{"$f":"データ一覧!R221","v":8},null,null,"2.0 ha ～ 3.0 ha",null,null,null,null,{"$f":"データ一覧!R237","v":40},null,null,null,{"$f":"データ一覧!R321","v":4159},null,"戸",{"$f":"データ一覧!R322","v":13},null,"戸",{"$f":"データ一覧!R323","v":27},null,"戸",null,{"$f":"データ一覧!R324","v":4145},null,"戸","地方債",null,null,null,{"$f":"データ一覧!R450","v":1040100},null,null,null,null,{"$f":"データ一覧!R464","v":974800},null,null,null,null,"公債費",null,null,null,{"$f":"データ一覧!R478","v":661595},null,null,null,null,{"$f":"データ一覧!R492","v":643411},null,null,null,null,null,null,null,null,null,"越前加賀海海岸国定公園（夫婦岩、坊主岩）、夜叉ケ池、不動ヶ滝、武周ヶ池、"]
["総",null,null,null,null,null,null,null,null,"500～1,000万円",null,null,null,null,{"$f":"データ一覧!R222","v":9},null,null,"3.0 ha ～ 5.0 ha",null,null,null,null,{"$f":"データ一覧!R238","v":30},null,null,null,null,null,null,null,null,null,null,null,null,null,null,null,null,"その他",null,null,null,{"$f":"データ一覧!R451","v":387462},null,null,null,null,{"$f":"データ一覧!R465","v":1137551},null,null,null,null,"その他",null,null,null,{"$f":"データ一覧!R479","v":12810},null,null,null,null,{"$f":"データ一覧!R493","v":0},null,null,null,null,"　名所・旧跡",null,null,null,null,"花はす公園、妙泰寺、慈眼寺、杣山城跡、湯尾峠、木ノ芽峠、栃ノ木峠、山中峠、"]
["数",null,null,null,null,null,null,null,null,"1,000万円以上",null,null,null,null,{"$f":"データ一覧!R223","v":17},null,null,"5.0 ha以上",null,null,null,null,{"$f":"データ一覧!R239","v":614},null,null,null,null,null,null,null,null,null,null,null,null,null,null,null,null,null,null,null,null,null,null,null,null,null,null,null,null,null,null,null,null,null,null,null,null,null,null,null,null,null,null,null,null,"  文化財等",null,null,null,null,"馬借街道、今庄宿､板取宿、旧京藤家住宅、伊藤氏庭園、旧北陸線トンネル群、"]
["）",null,"15歳以上の常雇い数",null,null,null,null,null,null,"農業に60日以上従事した世帯員、役員・構成員\n（経営主を含む）の平均年齢",null,null,null,null,null,null,null,null,null,null,null,null,null,null,null,"  ９  議　 員　・　職 　員",null,null,null,null,null,null,null,null,null,null,null,null,null," １４  文　　　化",null,null,null,null,null,null,null," ( ",{"$f":"\"令\"&データ一覧!$A$498","v":"令6.3.31"},null,null,"ただし図書館・公民館・児童館・ 社会教育学級講座",null,null,null,null,null,null,null,null,null,null,null,{"$f":"データ一覧!$A$494","v":"6.4.1"},null,null,null,null,null,null,null,null,"ｱｶﾀﾝ砂防堰提群､北前船主の館右近家、中村家住宅、今庄羽根曽踊、上野の盆踊り､"]
["と",null,null,null,null,null,null,null,null,null,null,null,null,null,null,null,null,null,null,null,null,null,null,null,null,null,null,null,null,null,null,null,null,null,null,null,null,null,null,null,null,null,null,null,null,null,null,null,null,null,null,null,"　宗教法人数 ",null,null,null,null,null,null,null,null,null,null,{"$f":"データ一覧!$A$502","v":"5.12.31"},null,null,null,null,null,null,null,null,"八坂神社の獅子舞、糠どっさり"]
["就",null,null,null,null,null,null,null,null,"農業に60日以上従事",null,null,null,null,null,null,null,"農業に150日以上従事",null,null,null,null,null,null,null," 市 町 議 会",null,null,"有権者数",null,{"$f":"データ一覧!$A$328","v":"6.9.1"},null,"市 町 議 会",null,null,"  職      員      数",null,null,null,null,null,null,null,null,"図書館",null,null,null,null,null,"公　民　館",null,null,null,null,null,null,null,null,null,null," 社会教育学級講座",null,null,null,null,null,"　　特産物",null,null,null,null,"花はす、越前がに、水仙、へしこ、青梅、つるし柿、梅肉、蕎麦、地酒"]
["業",null,"区分",null,null,null,"人",null,null,"区分",null,null,null,null,"歳",null,null,"区　　分",null,null,null,null,"歳",null,null," 議  員  定  数",null,null,"    男",null,"    女",null,"選 挙 投 票 率",null,null," 総     数",null,"一般行政職",null,"公    共",null,null,null," 館  数",null,null," 図書数",null,null," 本  館",null,null," 分  館",null,null," 公  園",null,null," 児童館",null,null,"学級講座数",null,null,"受講者数",null,null," 　年中行事",null,null,null,null,"今庄そばまつり（5月）、河野うめまつり(6月)、はすまつり(6月～8月)、"]
["状",null,"総数",null,null,null,{"$f":"データ一覧!R230","v":58},null,null,"総数",null,null,null,null,{"$f":"データ一覧!R224","v":67.3},null,null,"総数",null,null,null,null,{"$f":"データ一覧!R227","v":65.8},null,null,null,null,"人",null,"人",null,"人",null,null,"　％",null,"人",null,"人","施 設 数",null,null,null,null,{"$f":"データ一覧!R494","v":3},null,{"$f":"データ一覧!R495","v":123058},null,null,null,{"$f":"データ一覧!R496","v":3},null,{"$f":"データ一覧!R497","v":7},null,null,{"$f":"データ一覧!R498","v":0},null,null,{"$f":"データ一覧!R499","v":4},null,null,{"$f":"データ一覧!R500","v":74},null,null,{"$f":"データ一覧!R501","v":963},null,null,null,null,null,null,null,"花はす早朝マラソン（6月）、河野夏まつり（7月）、街道浪漫今庄宿(9月)、"]
["況",null,"男",null,null,null,{"$f":"データ一覧!R231","v":29},null,null,"男",null,null,null,null,{"$f":"データ一覧!R225","v":65.8},null,null,"男",null,null,null,null,{"$f":"データ一覧!R228","v":64.099999999999994},null,null,null,{"$f":"データ一覧!R325","v":12},null,{"$f":"データ一覧!R328","v":3926},null,{"$f":"データ一覧!R329","v":4271},null,{"$f":"データ一覧!R327","v":70.709999999999994},null,null,{"$f":"データ一覧!R330","v":211},null,{"$f":"データ一覧!R331","v":119},null,"宗    教",null,null,null," 仏教系",null,null,"ｷﾘｽﾄ教系",null,null,"神道諸派",null,null,"公会堂・市民会館",null,null,null,null,null," テレビ",null,null,"衛星放送契約数",null,null,null,null,null,null,null,null,null,null,"灯りゃんせ(10月)、南越前町ふれあい産業物産フェア(11月)、"]
[null,null,"女",null,null,null,{"$f":"データ一覧!R232","v":29},null,null,"女",null,null,null,null,{"$f":"データ一覧!R226","v":71},null,null,"女",null,null,null,null,{"$f":"データ一覧!R229","v":70.599999999999994},null,null,null,null,null,null,null,null,null,{"$f":"データ一覧!R326","v":"4.4.17"},null,null,null,null,null,null,"法 人 数",null,null,null,{"$f":"データ一覧!R502","v":71},null,null,{"$f":"データ一覧!R503","v":0},null,null,{"$f":"データ一覧!R504","v":60},null,null,{"$f":"データ一覧!R505","v":1},null,null,null,null,null,"      等",null,null,{"$f":"データ一覧!R506","v":1902},null,null,null,null,null,null,null,null,null,null,"水仙まつり・荒波フェスタ(12月～1月)"]

{"sheet":"越前町","index":17,"n_rows":93,"n_cols":103,"rows_kept":93,"cut":false,"hidden":false,"merged":[[84,22,84,24],[85,6,85,8],[86,2,88,8],[86,9,87,24],[88,9,88,16],[88,17,88,24],[89,2,89,5],[89,9,89,13],[89,17,89,21],[90,2,90,5],[90,9,90,13],[90,17,90,21],[91,2,91,5],[91,9,91,13],[91,17,91,21],[92,2,92,5],[92,9,92,13],[92,14,92,16],[92,17,92,21],[85,9,85,13],[85,14,85,16],[85,22,85,24],[92,6,92,8],[92,22,92,24],[89,6,89,8],[89,14,89,16],[89,22,89,24],[90,6,90,8],[90,14,90,16],[90,22,90,24],[91,6,91,8],[91,14,91,16],[82,6,82,8],[82,9,82,13],[82,14,82,16],[83,6,83,8],[83,9,83,13],[83,14,83,16],[84,6,84,8],[84,9,84,13],[84,14,84,16],[35,5,35,7],[22,40,22,46],[20,49,20,51],[31,18,31,19],[31,14,31,16],[31,20,31,21],[34,14,34,16],[71,13,71,15],[30,49,30,51],[29,49,29,51],[48,10,48,12],[48,13,48,15],[42,22,42,24],[41,13,41,15],[41,16,41,18],[42,49,42,51],[40,19,40,21],[47,13,47,15],[39,49,39,51],[39,40,39,46],[77,2,78,5],[77,6,78,8],[77,9,78,13],[40,2,40,3],[34,20,34,21],[42,4,42,6],[42,7,42,9],[47,0,47,1],[41,40,41,46],[17,25,17,27],[18,25,18,27],[30,8,30,10],[26,73,26,76],[27,27,27,28],[27,40,27,46],[27,49,27,51],[25,31,26,32],[25,53,25,56],[25,29,26,30],[25,33,26,34],[26,40,26,46],[26,49,26,51],[30,11,30,13],[30,14,30,16],[29,60,29,64],[44,19,44,24],[20,25,20,28],[41,10,41,12],[41,22,41,24],[40,7,40,9],[34,29,34,30],[47,16,47,18],[47,19,47,21],[32,5,32,7],[34,5,34,7],[33,5,33,7],[33,8,33,10],[34,8,34,10],[40,10,40,12],[40,13,40,15],[41,7,41,9],[48,19,48,21],[29,20,29,21],[29,22,29,24],[34,18,34,19],[27,29,27,30],[32,8,32,10],[33,22,33,24],[29,14,29,16],[29,18,29,19],[30,18,30,19],[31,22,31,24],[29,11,29,13],[48,7,48,9],[27,5,27,7],[31,11,31,13],[44,25,44,28],[32,20,32,21],[33,18,33,19],[34,11,34,13],[32,18,32,19],[35,14,35,16],[35,18,35,19],[35,20,35,21],[40,16,40,18],[40,4,40,6],[41,4,41,6],[89,32,89,34],[55,31,55,34],[80,25,81,28],[26,81,26,84],[27,73,27,76],[27,77,27,80],[27,81,27,84],[27,0,27,4],[26,27,26,28],[27,25,27,26],[27,60,27,64],[28,53,28,56],[26,22,26,24],[28,40,28,46],[28,49,28,51],[27,22,27,24],[30,20,30,21],[30,22,30,24],[30,5,30,7],[33,20,33,21],[42,16,42,18],[35,8,35,10],[35,11,35,13],[38,40,38,46],[37,40,37,46],[40,75,41,77],[26,77,26,80],[48,0,48,1],[29,5,29,7],[31,5,31,7],[31,8,31,10],[29,8,29,10],[63,94,63,96],[65,88,65,91],[51,80,51,82],[39,75,39,77],[40,67,41,73],[39,97,39,100],[39,93,39,95],[24,99,24,102],[25,81,25,84],[31,73,31,76],[31,77,31,80],[26,68,26,72],[47,83,47,86],[47,87,47,90],[48,68,48,75],[42,75,42,77],[48,80,48,82],[38,97,38,100],[37,85,37,91],[37,79,37,82],[36,85,36,91],[27,95,27,98],[26,95,26,98],[28,95,28,98],[31,99,31,102],[29,73,29,76],[29,77,29,80],[29,81,29,84],[30,86,30,90],[32,99,32,102],[25,86,25,90],[24,86,24,90],[90,72,92,102],[28,73,28,76],[28,77,28,80],[28,81,28,84],[28,86,28,90],[29,86,29,90],[30,68,30,72],[30,73,30,76],[30,77,30,80],[30,81,30,84],[88,67,88,71],[52,77,52,79],[50,77,50,79],[48,62,48,65],[48,87,48,90],[52,80,52,82],[56,91,56,94],[56,87,56,90],[60,85,60,90],[65,78,65,81],[63,99,63,101],[62,99,62,101],[62,87,62,89],[62,93,62,95],[63,89,63,91],[30,95,30,98],[38,60,38,64],[45,84,45,89],[49,80,49,82],[49,83,49,86],[51,77,51,79],[31,95,31,98],[17,100,17,101],[19,95,19,98],[19,99,19,102],[73,48,73,52],[17,59,17,65],[21,95,21,98],[20,60,20,64],[25,95,25,98],[20,91,20,94],[24,95,24,98],[25,99,25,102],[30,99,30,102],[29,99,29,102],[28,99,28,102],[23,99,23,102],[26,99,26,102],[47,99,47,102],[46,99,46,102],[45,92,45,101],[45,77,45,82],[46,95,46,98],[46,69,46,74],[52,99,52,102],[52,95,52,98],[53,99,53,102],[53,83,53,86],[52,87,52,90],[52,91,52,94],[47,95,47,98],[27,99,27,102],[24,81,24,84],[31,91,31,94],[20,99,20,102],[73,25,73,28],[72,32,72,33],[73,29,73,30],[71,32,71,33],[72,25,72,28],[73,32,73,33],[71,25,71,28],[29,95,29,98],[23,81,23,84],[21,99,21,102],[22,99,22,102],[36,60,36,64],[37,53,37,56],[35,98,35,101],[36,97,36,100],[35,53,35,56],[43,67,44,82],[48,99,48,102],[49,54,49,57],[23,40,23,46],[23,49,23,51],[23,53,23,56],[24,60,24,64],[49,62,49,66],[50,55,50,57],[32,73,32,76],[32,77,32,80],[31,68,31,72],[66,92,66,96],[31,81,31,84],[36,75,36,77],[30,40,30,46],[32,95,32,98],[31,53,31,56],[34,53,34,56],[35,80,35,83],[35,68,35,72],[26,91,26,94],[24,53,24,56],[25,27,25,28],[24,40,24,46],[24,49,24,51],[23,29,23,31],[29,53,29,56],[31,60,31,64],[31,49,31,51],[31,40,31,46],[32,81,32,84],[25,49,25,51],[26,86,26,90],[27,86,27,90],[33,40,33,46],[33,53,33,56],[26,53,26,56],[25,37,26,38],[25,40,25,46],[27,37,27,38],[30,60,30,64],[35,75,35,77],[27,91,27,94],[29,91,29,94],[35,93,35,95],[28,68,28,72],[88,28,88,29],[81,67,82,102],[70,48,70,52],[71,35,71,37],[71,39,71,42],[73,35,73,37],[70,97,70,99],[72,57,72,61],[70,79,70,81],[70,57,70,61],[72,53,72,56],[88,30,88,31],[68,57,68,61],[73,77,73,83],[73,86,73,92],[46,32,46,35],[53,95,53,98],[55,51,55,53],[56,68,56,75],[52,68,52,75],[53,80,53,82],[57,51,57,54],[50,99,50,102],[49,99,49,102],[49,77,49,79],[49,95,49,98],[47,91,47,94],[50,50,50,53],[50,47,50,49],[61,59,61,62],[61,36,61,37],[47,68,47,75],[38,67,38,73],[34,22,34,24],[35,49,35,51],[32,53,32,56],[33,60,33,64],[32,68,32,72],[37,93,37,95],[37,75,37,77],[38,79,38,82],[38,85,38,91],[36,79,36,82],[35,29,35,30],[35,36,35,37],[34,40,34,46],[37,49,37,51],[32,40,32,46],[35,86,35,90],[33,67,34,80],[32,91,32,94],[33,83,34,96],[32,22,32,24],[38,75,38,77],[32,60,32,64],[34,60,34,64],[34,36,34,37],[27,53,27,56],[28,91,28,94],[28,60,28,64],[30,91,30,94],[22,81,22,84],[22,73,22,76],[25,60,25,64],[48,95,48,98],[50,83,50,86],[48,83,48,86],[27,68,27,72],[25,91,25,94],[30,53,30,56],[32,49,32,51],[33,49,33,51],[35,60,35,64],[36,53,36,56],[37,60,37,64],[48,50,48,53],[48,77,48,79],[36,67,36,73],[36,93,36,95],[49,87,49,90],[48,91,48,94],[50,91,50,94],[49,91,49,94],[49,68,49,75],[42,93,42,95],[43,53,43,56],[42,60,42,64],[42,67,42,73],[42,97,42,100],[14,82,15,95],[23,60,23,64],[22,91,22,94],[23,77,23,80],[22,60,22,64],[22,86,22,90],[26,60,26,64],[24,37,24,38],[24,91,24,94],[23,95,23,98],[24,68,24,72],[24,73,24,76],[23,68,23,72],[23,73,23,76],[22,68,22,72],[24,77,24,80],[25,73,25,76],[17,91,17,94],[17,82,17,83],[17,86,17,89],[17,53,17,57],[17,40,17,46],[19,77,19,80],[17,36,17,38],[21,35,21,38],[23,86,23,90],[25,77,25,80],[21,91,21,94],[15,35,15,37],[20,95,20,98],[22,95,22,98],[24,35,24,36],[23,11,23,13],[23,16,23,18],[22,7,22,8],[20,11,20,13],[20,53,20,56],[23,21,23,23],[17,68,17,71],[17,73,17,76],[20,40,20,46],[21,49,21,51],[21,53,21,56],[17,48,17,52],[24,29,24,30],[24,31,24,32],[24,33,24,34],[18,28,18,30],[18,35,18,38],[22,77,22,80],[23,25,23,28],[19,53,19,56],[21,60,21,64],[21,40,21,46],[21,81,21,84],[19,3,19,5],[27,33,27,34],[27,35,27,36],[20,86,20,90],[21,77,21,80],[19,60,19,64],[21,86,21,90],[23,91,23,94],[22,25,22,28],[23,32,23,34],[23,35,23,38],[20,29,20,31],[20,32,20,34],[20,35,20,38],[19,81,19,84],[22,29,22,31],[22,32,22,34],[22,35,22,38],[24,27,24,28],[25,35,26,36],[27,31,27,32],[26,25,26,26],[25,25,25,26],[22,49,22,51],[22,53,22,56],[24,0,25,24],[0,0,0,9],[1,0,3,9],[5,0,5,9],[16,74,16,95],[14,25,15,25],[14,26,15,28],[16,32,16,33],[15,29,15,30],[15,32,15,33],[14,67,15,81],[6,0,8,9],[19,73,19,76],[21,73,21,76],[20,73,20,76],[20,77,20,80],[20,81,20,84],[18,31,18,34],[16,36,16,37],[17,32,17,34],[19,25,19,28],[19,29,19,31],[19,32,19,34],[19,35,19,38],[21,25,21,28],[21,29,21,31],[21,32,21,34],[14,0,15,24],[19,91,19,94],[19,40,19,46],[19,49,19,51],[20,16,20,18],[20,21,20,23],[44,0,45,1],[42,10,42,12],[42,13,42,15],[42,19,42,21],[46,0,46,1],[47,10,47,12],[45,25,45,28],[41,93,41,95],[37,97,37,100],[38,93,38,95],[38,53,38,56],[39,79,39,82],[39,67,39,73],[39,53,39,56],[39,60,39,64],[41,19,41,21],[41,85,41,91],[41,53,41,56],[41,60,41,64],[44,29,44,30],[40,49,40,51],[45,32,45,35],[40,97,40,100],[41,97,41,100],[47,7,47,9],[40,53,40,56],[44,32,44,35],[42,53,42,56],[41,36,41,37],[38,49,38,51],[45,57,45,61],[37,67,37,73],[55,87,55,90],[53,77,53,79],[51,83,51,86],[55,68,55,75],[54,77,54,79],[43,60,43,64],[50,87,50,90],[50,80,50,82],[50,63,50,66],[47,77,47,79],[47,80,47,82],[48,56,48,59],[49,58,49,61],[50,95,50,98],[42,85,42,91],[40,93,40,95],[39,85,39,91],[42,79,42,82],[40,79,41,82],[50,59,50,61],[50,68,50,75],[40,85,40,91],[40,60,40,64],[43,83,44,102],[56,13,56,15],[61,13,61,15],[59,13,59,15],[57,61,57,63],[57,19,57,21],[55,16,55,18],[57,13,57,15],[57,16,57,18],[58,13,58,15],[59,16,59,18],[58,19,58,21],[60,36,60,37],[60,29,60,30],[60,97,60,102],[58,22,58,24],[51,99,51,102],[51,91,51,94],[51,87,51,90],[51,95,51,98],[53,68,53,75],[51,68,51,75],[59,43,59,56],[60,43,60,47],[60,48,60,52],[60,53,60,56],[53,87,53,90],[52,83,52,86],[53,91,53,94],[54,99,54,102],[55,80,55,82],[55,99,55,102],[55,95,55,98],[56,99,56,102],[57,55,57,57],[59,59,59,62],[57,39,57,42],[60,39,60,42],[61,19,61,21],[61,16,61,18],[55,91,55,94],[56,83,56,86],[55,77,55,79],[56,77,56,79],[56,80,56,82],[55,22,55,24],[61,68,61,71],[60,91,60,96],[55,13,55,15],[58,44,58,46],[55,47,55,49],[56,39,56,42],[55,83,55,86],[61,63,61,66],[58,16,58,18],[60,16,60,18],[60,13,60,15],[60,19,60,21],[57,67,58,102],[57,22,57,24],[61,43,61,47],[56,48,56,53],[56,16,56,18],[56,19,56,21],[56,22,56,24],[65,83,65,86],[66,76,66,90],[68,79,68,81],[68,72,68,75],[68,88,68,90],[62,29,62,30],[61,48,61,52],[61,53,61,56],[62,81,62,83],[63,74,63,76],[62,68,62,71],[62,75,62,77],[64,68,64,71],[65,68,65,71],[62,22,62,24],[55,19,55,21],[54,95,54,98],[54,68,54,75],[58,48,58,50],[54,87,54,90],[54,83,54,86],[56,95,56,98],[54,91,54,94],[57,43,57,46],[63,84,63,86],[57,35,57,37],[55,63,55,65],[57,47,57,50],[58,58,58,60],[61,80,61,83],[54,55,54,58],[54,51,54,54],[76,96,76,99],[77,82,77,86],[77,87,77,90],[77,62,77,66],[76,78,76,81],[67,39,67,42],[70,100,70,102],[70,91,70,93],[70,94,70,96],[65,53,65,56],[65,57,65,63],[66,39,66,66],[67,43,67,47],[67,82,67,84],[65,43,65,49],[68,48,68,52],[79,101,79,102],[67,57,67,61],[73,62,73,66],[73,95,73,101],[79,53,79,56],[78,95,78,98],[76,53,76,56],[75,43,75,47],[70,72,70,75],[70,77,70,78],[70,83,70,84],[68,76,68,78],[67,88,67,90],[68,82,68,84],[70,88,70,90],[70,85,70,87],[74,68,74,74],[71,57,71,61],[71,83,72,102],[71,67,72,82],[72,62,72,66],[71,62,71,66],[68,53,68,56],[70,53,70,56],[70,62,70,66],[65,39,65,42],[65,10,65,12],[72,10,72,12],[74,0,75,24],[74,77,74,83],[67,97,67,102],[71,48,71,52],[68,25,68,28],[69,10,69,12],[69,13,69,15],[66,16,66,18],[73,43,73,47],[70,32,70,33],[68,29,68,30],[65,98,65,101],[65,93,65,96],[68,32,68,33],[65,13,65,15],[68,91,68,93],[68,94,68,96],[68,100,68,102],[65,73,65,76],[68,85,68,87],[80,78,80,80],[80,96,80,98],[80,82,80,86],[80,73,80,75],[80,62,80,66],[80,68,80,70],[80,92,80,94],[79,97,79,98],[78,77,78,81],[78,43,78,47],[79,62,79,66],[79,57,79,61],[74,87,74,91],[74,96,74,100],[80,100,80,102],[78,62,78,66],[78,82,78,86],[78,87,78,90],[78,67,78,71],[80,88,80,90],[78,72,78,76],[75,57,75,61],[75,62,75,66],[76,69,76,72],[77,77,77,81],[78,99,78,102],[78,91,78,94],[77,91,77,94],[76,62,76,66],[76,87,76,90],[76,57,76,61],[77,57,77,61],[88,44,88,47],[91,26,91,27],[91,28,91,29],[91,30,91,31],[91,49,91,51],[91,52,91,57],[74,29,74,30],[75,25,75,28],[71,29,71,30],[71,53,71,56],[83,39,83,42],[83,43,83,47],[83,48,83,52],[83,36,83,37],[72,48,72,52],[74,39,74,42],[74,32,74,33],[73,57,73,61],[73,53,73,56],[74,53,74,56],[82,57,82,61],[76,35,76,37],[76,32,76,33],[74,57,74,61],[76,48,76,52],[81,43,81,47],[81,48,81,52],[77,43,77,47],[77,48,77,52],[79,39,79,42],[79,48,79,52],[88,32,88,34],[92,32,92,34],[91,32,91,34],[92,61,92,66],[92,39,92,42],[92,43,92,45],[92,46,92,48],[92,49,92,51],[91,61,91,66],[91,43,91,45],[91,46,91,48],[91,39,91,42],[92,52,92,57],[91,35,91,36],[91,37,91,38],[75,39,75,42],[78,48,78,52],[78,53,78,56],[78,57,78,61],[79,43,79,47],[77,53,77,56],[76,43,76,47],[90,58,90,60],[81,32,81,34],[82,48,82,52],[82,53,82,56],[80,43,80,47],[82,43,82,47],[80,48,80,52],[80,53,80,56],[80,57,80,61],[81,39,81,42],[83,57,83,61],[90,39,90,42],[88,50,88,53],[90,50,90,51],[90,61,90,63],[83,62,83,66],[90,64,90,66],[84,39,84,42],[84,43,84,47],[84,48,84,52],[84,53,84,56],[83,53,83,56],[66,19,66,21],[74,48,74,52],[90,44,90,45],[89,61,89,63],[84,57,84,61],[84,62,84,66],[88,61,88,66],[81,53,81,56],[81,57,81,61],[90,52,90,54],[90,55,90,57],[71,43,71,47],[69,35,69,37],[82,62,82,66],[75,53,75,56],[73,39,73,42],[75,48,75,52],[74,62,74,66],[74,43,74,47],[81,62,81,66],[89,39,89,42],[48,16,48,18],[55,0,55,6],[55,7,55,9],[33,14,33,16],[33,11,33,13],[34,49,34,51],[40,32,40,35],[41,29,41,30],[41,32,41,35],[35,40,35,46],[55,35,55,38],[55,39,55,42],[55,43,55,45],[57,7,57,9],[59,7,59,9],[62,10,62,12],[60,10,60,12],[57,0,57,6],[57,10,57,12],[62,7,62,9],[61,0,61,6],[60,0,60,6],[59,0,59,6],[61,7,61,9],[59,10,59,12],[58,0,58,6],[58,10,58,12],[58,7,58,9],[61,10,61,12],[54,43,54,46],[54,39,54,42],[59,22,59,24],[56,7,56,9],[56,10,56,12],[32,11,32,13],[32,14,32,16],[45,29,45,30],[51,36,51,38],[54,47,54,50],[55,10,55,12],[49,46,49,49],[41,49,41,51],[43,40,43,46],[43,49,43,51],[50,33,50,38],[46,29,46,30],[66,32,66,34],[61,39,61,42],[58,39,58,42],[55,25,55,30],[51,33,51,35],[44,36,44,37],[42,36,42,37],[50,29,50,32],[51,29,51,32],[46,36,46,37],[45,36,45,37],[53,25,53,27],[57,25,57,29],[36,36,36,37],[54,25,54,32],[53,29,53,31],[53,33,53,34],[51,25,51,28],[91,22,91,24],[73,0,73,6],[70,0,70,6],[67,0,67,6],[66,0,66,6],[58,64,58,66],[58,55,58,57],[57,64,57,66],[58,61,58,63],[58,52,58,54],[57,58,57,60],[60,59,60,62],[60,63,60,66],[72,0,72,6],[69,0,69,6],[71,7,71,9],[81,29,81,31],[76,25,76,28],[85,17,85,21],[64,7,64,9],[65,7,65,9],[63,7,63,9],[68,0,68,6],[67,7,67,9],[63,10,63,12],[66,7,66,9],[68,7,68,9],[68,10,68,12],[64,10,64,12],[67,10,67,12],[66,10,66,12],[90,46,90,48],[29,40,29,46],[53,36,53,37],[67,79,67,81],[68,62,68,66],[67,48,67,52],[67,53,67,56],[67,67,70,71],[67,62,67,66],[69,39,69,66],[68,39,68,42],[68,43,68,47],[50,25,50,28],[49,39,49,45],[49,50,49,53],[40,40,40,46],[42,40,42,46],[40,22,40,24],[40,36,40,37],[46,25,46,28],[36,29,36,30],[40,29,40,30],[47,22,47,24],[35,22,35,24],[48,22,48,24],[54,59,54,66],[54,80,54,82],[55,59,55,62],[55,55,55,57],[57,31,57,33],[42,32,42,35],[36,40,36,46],[36,49,36,51],[82,39,82,42],[83,26,83,27],[83,29,83,30],[83,32,83,33],[74,25,74,28],[66,35,66,38]],"merged_total":1109,"flags":["merged_cut"]}
[{"$f":"+データ一覧!S2","v":"にゅうぐん"}]
[{"$f":"+データ一覧!S5","v":"丹生郡"}]
[null,null,null,null,null,null,null,null,null,null,null,null,null,null,null,null,null,null,null,null,null,null,null,null,null,null,null,null,null,null,null,null,null,null,null,null,null,null,null," 【位置および地勢】 越前町は、福井県嶺北地方の西端に位置し、 "]
[null,null,null,null,null,null,null,null,null,null,null,null,null,null,null,null,null,null,null,null,null,null,null,null,null,"【町章とそのいわれ】　越前町のイニシャル『Ｅ』をモチーフに、 ",null,null,null,null,null,null,null,null,null,null,null,null,null,null,"東西17.9km、南北17.3km、面積153.15k㎡で、西は日本海に面し、",null,null,null,null,null,null,null,null,null,null,null,null,null,null,null,null,null,null,null,null,null,null,null,null,null,null,null,null,null,"所在地",null,null,null,null,null,null,null,"〒916-0192"]
[null,null,null,null,null,null,null,null,null,null,null,null,null,null,null,null,null,null,null,null,null,null,null,null,null,"                   ",null,null,null,"「生き生きとした町民の姿」と「人と技 海土里(みどり)",null,null,null,null,null,null,null,null,null,null,"東は鯖江市、南は越前市、南越前町、北は福井市に接している。",null,null,null,null,null,null,null,null,null,null,null,null,null,null,null,null,null,null,null,null,null,null,null,null,null,null,null,null,null,null,null,null,null,null,null,null,null,"丹生郡越前町西田中第１３号５番地１"]
[{"$f":"+データ一覧!S3","v":"えちぜんちょう"},null,null,null,null,null,null,null,null,null,null,null,null,null,null,null,null,null,null,null,null,null,null,null,null,"                    ",null,null,null,"織りなす快適なまち」をイメージし、緑は自然豊かな里や",null,null,null,null,null,null,null,null,null,null,"地勢的には、その大半が丹生山地に属し、全体的に標高は高く、"]
[{"$f":"データ一覧!S6","v":"越前町"},null,null,null,null,null,null,null,null,null,null,null,null,null,null,null,null,null,null,null,null,null,null,null,null,"                   ",null,null,null,"山を、青は幸豊かな海を表現している。",null,null,null,null,null,null,null,null,null,null,"沿岸の南部にかけて500m級の山々が連なっている。",null,null,null,null,null,null,null,null,null,null,null,null,null,null,null,null,null,null,null,null,null,null,null,null,null,null,null,null,null,"電話番号",null,null,null,null,null,null,null,"(０７７８）３４－１２３４"]
[null,null,null,null,null,null,null,null,null,null,null,null,null,null,null,null,null,null,null,null,null,null,null,null,null,"                    ",null,null,null,"全体で「未来に向かって発展する越前町」を力強く",null,null,null,null,null,null,null,null,null,null,"このため、林野率は74.4%と高く、東部に広がる越前平野を除けば、",null,null,null,null,null,null,null,null,null,null,null,null,null,null,null,null,null,null,null,null,null,null,null,null,null,null,null,null,null,"FAX番号",null,null,null,null,null,null,null,"　　〃　　 ３４－１２３６"]
[null,null,null,null,null,null,null,null,null,null,null,null,null,null,null,null,null,null,null,null,null,null,null,null,null,null,null,0,null,"シンボライズしている。",null,null,null,null,null,null,null,null,null,null,"中央部の織田盆地や宮崎盆地などに小規模な平地を残すのみで、"]
[null,null,null,null,null,null,null,null,null,null,null,null,null,null,null,null,null,null,null,null,null,null,null,null,null,null,null,0,null,null,null,null,null,null,null,null,null,null,null,null,"耕地面積は少なくなっている。また、沿岸部の山を分水嶺として、",null,null,null,null,null,null,null,null,null,null,null,null,null,null,null,null,null,null,null,null,null,null,null,null,null,null,null,null,null,"最寄駅および距離",null,null,null,null,null,null,null,"福鉄バス鯖浦線・福浦線越前町役場前　下車０ｍ"]
[null,null,null,null,null,null,null,null,null,null,null,null,null,null,null,null,null,null,null,null,null,null,null,null,null,null,null,0,null,null,null,null,null,null,null,null,null,null,null,null,"東側は大半が天王川流域で、沿岸部は梅浦川など複数の小河川の流域と"]
[null,null,null,null,null,null,null,null,null,null,null,null,null,null,null,null,null,null,null,null,null,null,null,null,null,null,null,null,null,null,null,null,null,null,null,null,null,null,null,null,"なっている。天王川流域では、山地の間を縫うように小規模な谷や"]
[null,null,null,null,null,null,null,null,null,null,null,null,null,null,null,null,null,null,null,null,null,null,null,null,null,"【町が掲げる標語】人と技　海土里　織りなす　快適なまち",null,null,null,null,null,null,null,null,null,null,null,null,null,null,"盆地、河川が入り組んでいる。",null,null,null,null,null,null,null,null,null,null,null,null,null,null,null,null,null,null,null,null,null,null,null,null,null,null,null,null,null,"ホームページ",null,null,null,null,null,null,null,"https://www.town.echizen.fukui.jp/"]
[]
["  １  土            　　地",null,null,null,null,null,null,null,null,null,null,null,null,null,null,null,null,null,null,null,null,null,null,null,null,{"$f":"データ一覧!$A$240","v":"5年"},"産米収穫量",null,null,"　 収　穫　量",null,null," 　作 付 面 積",null,null,"   10a当たり収量",null,null,null,null,null,null,null,null,null,null,null,null,null,null,null,null,null,null,null,null,null,null,null,null,null,null,null,null,null,null,null," １５  労　　　　　　　働",null,null,null,null,null,null,null,null,null,null,null,null,null,null,"2.10.1"]
[null,null,null,null,null,null,null,null,null,null,null,null,null,null,null,null,null,null,null,null,null,null,null,null,null,null,null,null,null,{"$f":"データ一覧!$S$240","v":3660},null,"t",{"$f":"データ一覧!$S$241","v":754},null,"ha",{"$f":"データ一覧!S242","v":485},null,null,"kg"," １０  工　　　　　　業 ",null,null,null,null,null,null,null,null,null,null,null,null,null,{"$f":"データ一覧!$A$332","v":"4.6.1（令和3年実績）"}]
["   総          面           積",null,null,null,null,null,null,null,null,null," 固 定 資 産 概 要 調 書 に よ る 地 目 別 面 積",null,null,null,null,null,null,null,null,null,null,null,null,null,null,null,null,null,"   総　　　数",null,null,null,"うち　　田",null,null,null,"うち　　畑",null,null,null,null,null,null,null,null,null,null,null,null,null,null,null,null,null,null,null,null,null,null,null,null,null,null,null,null,null,null,null,null,null,null,null,null,null,"産業別就業者数   "]
[null,null,{"$f":"データ一覧!$A$7","v":"6.10.1"},null,null,null,null,null,null,null,null,null,null,null,null,null,{"$f":"データ一覧!$A$9","v":"6.1.1"},null,null,null,null,null,null,null,null," 耕  地  面  積",null,null,null,"       ha",null,null,"ha ",null,null,null,"ha ",null,null,"      ","産業分類",null,null,null,null,null,null,null,"事業所数",null,null,null,null,"従業者数",null,null,null,null,null,"年間製造品出荷額等",null,null,null,null,null,null,null,null,"区  分",null,null,null,null,"総    数",null,null,null,null,"男",null,null,null,"女",null,null,"  ","区  分",null,null,null,null,"総    数",null,null,null,null,"男",null,null,null,"女"]
[null,null,null,null,null,null,"㎢",null,null,null,"   総       数",null,null,null,null,"  う ち     田",null,null,null,null,"  う ち     畑",null,null,null,null,{"$f":"データ一覧!A243","v":"5.7.15"},null,null,{"$f":"データ一覧!$S$243","v":1400},null,null,{"$f":"データ一覧!$S$244","v":1230},null,null,null,{"$f":"データ一覧!$S$245","v":169},null,null,null,null,null,null,null,null,null,null,null,null,"　　   ",null,null,"事業所",null,"　　　　　　　 人",null,null,"人",null,"　　　　　　　　　　　　　　万円",null,null,null,null,null,null,"万円",null,null,null,null,null,null,null,"      人",null,null,null,null,null," 人",null,null,null," 人",null,null,null,null,null,null,null,"      人",null,null,null,"      人",null,null,null,"      人"]
[null,null,null,{"$f":"データ一覧!S7","v":153.15},null,null,null,null,null,null,null,null,null,null,"ha",null,null,null,null,"ha",null,null,null,null,"ha","農 業 生 産 物",null,null,null,"作 付 面 積",null,null,"収 穫 量",null,null,"10a当たり収量",null,null,null,"     ","総数",null,null,null,null,null,null,null,null,{"$f":"データ一覧!S332","v":51},null,null,null,{"$f":"+データ一覧!S357","v":1811},null,null,null,null,null,null,{"$f":"データ一覧!S382","v":5225789},null,null,null,null,null,null," 総　　　数",null,null,null,null,null,{"$f":"BZ20+CD20","v":10351},null,null,null,{"$f":"データ一覧!S507","v":5591},null,null,null,{"$f":"データ一覧!S532","v":4760}]
[null,null,null,null,null,null,null,null,null,null,null,{"$f":"データ一覧!S9","v":10419.1},null,null,null,null,{"$f":"データ一覧!S10","v":1369},null,null,null,null,{"$f":"データ一覧!S11","v":298.89999999999998},null,null,null,{"$f":"データ一覧!$A$246","v":"5年産"},null,null,null,"ha",null,null,"t",null,null,"kg",null,null,null,"     食料品","食料品",null,null,null,null,null,null,null,null,{"$f":"データ一覧!S333","v":5},null,null,null,{"$f":"+データ一覧!S358","v":73},null,null,null,null,null,null,{"$f":"データ一覧!S383","v":61371},null,null,null,null,null,null,null,null,null,null,null,null,null,null,null,null,null,null,null,null,null,null,null,null,null,"卸売業,小売業",null,null,null,null,{"$f":"CR21+CV21","v":1321},null,null,null,{"$f":"データ一覧!S520","v":584},null,null,null,{"$f":"データ一覧!S545","v":737}]
["  町 ･ 丁 ･ 大 字",null,null,null,null,null,null,null,null,null,"  う ち  宅 地",null,null,null,null,"  う ち  山 林",null,null,null,null,"  う ち  原 野",null,null,null,null,"水　　　　　稲",null,null,null,{"$f":"データ一覧!S246","v":754},null,null,{"$f":"データ一覧!S247","v":3660},null,null,{"$f":"データ一覧!S248","v":485},null,null,null,"     飲料・飼料","飲料・飼料",null,null,null,null,null,null,null,null,{"$f":"データ一覧!S334","v":0},null,null,null,{"$f":"+データ一覧!S359","v":0},null,null,null,null,null,null,{"$f":"データ一覧!S384","v":0},null,null,null,null,null,null," 第１次産業",null,null,null,null,null,{"$f":"BZ22+CD22","v":682},null,null,null,{"$f":"データ一覧!S508","v":545},null,null,null,{"$f":"データ一覧!S533","v":137},null,null,null,null,"金融業,保険業",null,null,null,null,{"$f":"CR22+CV22","v":185},null,null,null,{"$f":"データ一覧!S521","v":60},null,null,null,{"$f":"データ一覧!S546","v":125}]
["  区    画    数",null,null,null,null,null,null,{"$f":"データ一覧!S8","v":99},null,null,null,null,null,null,"ha",null,null,null,null,"ha",null,null,null,null,"ha","六　条　大　麦",null,null,null,{"$f":"データ一覧!S249","v":112},null,null,{"$f":"データ一覧!S250","v":242},null,null,{"$f":"データ一覧!S251","v":216},null,null,null,"     繊維","繊維",null,null,null,null,null,null,null,null,{"$f":"データ一覧!S335","v":10},null,null,null,{"$f":"+データ一覧!S360","v":157},null,null,null,null,null,null,{"$f":"データ一覧!S385","v":240660},null,null,null,null,null,null,"  ","農業",null,null,null,null,{"$f":"BZ23+CD23","v":345},null,null,null,{"$f":"データ一覧!S509","v":234},null,null,null,{"$f":"データ一覧!S534","v":111},null,null,null,"  ","不動産業",null,null,null,null,41,null,null,null,{"$f":"データ一覧!S522","v":23},null,null,null,{"$f":"データ一覧!S547","v":18}]
[{"$f":"データ一覧!$A$8","v":"5.4.1"},null,null,null,null,null,null,null,null,null,null,{"$f":"データ一覧!S12","v":495.4},null,null,null,null,{"$f":"データ一覧!S13","v":4563.8},null,null,null,null,{"$f":"データ一覧!S14","v":82.1},null,null,null,"大　　      豆",null,null,null,{"$f":"データ一覧!S252","v":27},null,null,{"$f":"データ一覧!S253","v":25},null,null,{"$f":"データ一覧!S254","v":93},null,null,null,"     衣服","木材",null,null,null,null,null,null,null,null,{"$f":"データ一覧!S336","v":6},null,null,null,{"$f":"+データ一覧!S361","v":65},null,null,null,null,null,null,{"$f":"データ一覧!S386","v":92618},null,null,null,null,null,null,"  ","林業",null,null,null,null,29,null,null,null,{"$f":"データ一覧!S510","v":25},null,null,null,{"$f":"データ一覧!S535","v":4},null,null,null,"  ","学術研究",null,null,null,null,230,null,null,null,{"$f":"データ一覧!S523","v":148},null,null,null,{"$f":"データ一覧!S548","v":82}]
["  ２  世　帯　数　と　人　口",null,null,null,null,null,null,null,null,null,null,null,null,null,null,null,null,null,null,null,null,null,null,null,null,null,null,"  区　分",null," 乳 用 牛",null," 肉 用 牛",null,"豚",null,"採卵鶏",null,"ブロイラー",null,"     木材","家具",null,null,null,null,null,null,null,null,{"$f":"データ一覧!S337","v":2},null,null,null,{"$f":"+データ一覧!S362","v":36},null,null,null,null,null,null,{"$f":"データ一覧!S387","v":"x"},null,null,null,null,null,null,"  ","漁業",null,null,null,null,308,null,null,null,{"$f":"データ一覧!S511","v":286},null,null,null,{"$f":"データ一覧!S536","v":22},null,null,null,"  ","宿泊業,飲食ｻｰﾋﾞｽ",null,null,null,null,521,null,null,null,{"$f":"データ一覧!S524","v":184},null,null,null,{"$f":"データ一覧!S549","v":337}]
[null,null,null,null,null,null,null,null,null,null,null,null,null,null,null,null,null,null,null,null,null,null,null,null,null,"畜　産",null," 飼養農家",null,{"$f":"データ一覧!$S$255","v":0},null,{"$f":"データ一覧!$S$257","v":0},null,{"$f":"データ一覧!$S$259","v":0},null,{"$f":"データ一覧!$S$261","v":1},null,{"$f":"データ一覧!$S$263","v":0},null,"     家具","パルプ・紙",null,null,null,null,null,null,null,null,{"$f":"データ一覧!S338","v":0},null,null,null,{"$f":"+データ一覧!S363","v":0},null,null,null,null,null,null,{"$f":"データ一覧!S388","v":0},null,null,null,null,null,null," 第２次産業",null,null,null,null,null,3667,null,null,null,{"$f":"データ一覧!S512","v":2434},null,null,null,{"$f":"データ一覧!S537","v":1233},null,null,null,"  ","生活関連ｻｰﾋﾞｽ業",null,null,null,null,277,null,null,null,{"$f":"データ一覧!S525","v":94},null,null,null,{"$f":"データ一覧!S550","v":183}]
[null,null,null,null,null,null,null,null,"        人　　　　　　　　　　口",null,null,null,null,null,null,null,null,null,null,null,"１世帯当",null,"人    口",null,null,{"$f":"データ一覧!$A$255","v":"6.3.31"},null,"（戸）",null,null,null,null,null,null,null,null,null,null,null,"     パルプ・紙","印刷",null,null,null,null,null,null,null,null,{"$f":"データ一覧!S339","v":2},null,null,null,{"$f":"+データ一覧!S364","v":26},null,null,null,null,null,null,{"$f":"データ一覧!S389","v":"x"},null,null,null,null,null,null,null,"鉱業，採石業",null,null,null,null,7,null,null,null,{"$f":"データ一覧!S513","v":5},null,null,null,{"$f":"データ一覧!S538","v":2},null,null,null,"  ","教育,学習支援業",null,null,null,null,471,null,null,null,{"$f":"データ一覧!S526","v":189},null,null,null,{"$f":"データ一覧!S551","v":282}]
[" 区　　　　分",null,null,null,null,"世帯数",null,null," 総   数",null,null,"    男",null,null,"    女",null,null,"  男／女",null,null,"たり人員",null,"密    度",null,null,null,null," 頭 羽",null,{"$f":"データ一覧!$S$256","v":0},null,{"$f":"データ一覧!$S$258","v":0},null,{"$f":"データ一覧!$S$260","v":0},null,{"$f":"データ一覧!$S$262","v":150},null,{"$f":"データ一覧!$S$264","v":0},null,"     出版・印刷","化学",null,null,null,null,null,null,null,null,{"$f":"データ一覧!S340","v":0},null,null,null,{"$f":"+データ一覧!S365","v":0},null,null,null,null,null,null,{"$f":"データ一覧!S390","v":0},null,null,null,null,null,null,"  ","建設業",null,null,null,null,852,null,null,null,{"$f":"データ一覧!S514","v":718},null,null,null,{"$f":"データ一覧!S539","v":134},null,null,null,null,"医療，福祉",null,null,null,null,1428,null,null,null,{"$f":"データ一覧!S527","v":292},null,null,null,{"$f":"データ一覧!S552","v":1136}]
[null,null,null,null,null,"    世 帯",null,null,"       人",null,null,"       人",null,null,"       人",null,null,null,"　　％",null,"    人",null,"    人/㎢",null,null,null,null,null,null,null,null,null,null,null,null,null,null,null,null,"     化学","石油・石炭",null,null,null,null,null,null,null,null,{"$f":"データ一覧!S341","v":0},null,null,null,{"$f":"+データ一覧!S366","v":0},null,null,null,null,null,null,{"$f":"データ一覧!S391","v":0},null,null,null,null,null,null,null,"製造業",null,null,null,null,2808,null,null,null,{"$f":"データ一覧!S515","v":1711},null,null,null,{"$f":"データ一覧!S540","v":1097},null,null,null,null,"複合サービス事業",null,null,null,null,178,null,null,null,{"$f":"データ一覧!S528","v":106},null,null,null,{"$f":"データ一覧!S553","v":72}]
[{"$f":"データ一覧!$A$22","v":" 2.10.1"},null,null,null,null,{"$f":"データ一覧!S22","v":6223},null,null,{"$f":"+L30+O30","v":25448},null,null,{"$f":"データ一覧!S24","v":12249},null,null,{"$f":"データ一覧!S25","v":13199},null,null,null,{"$f":"+L30/O30*100","v":92.80248503674521},null,{"$f":"データ一覧!S27","v":4.09},null,{"$f":"データ一覧!S21","v":0},null,null,"  ５  林               業",null,null,null,null,null,null,null,null,null,null,null,null,null,"     石油・石炭","プラスチック",null,null,null,null,null,null,null,null,{"$f":"データ一覧!S342","v":7},null,null,null,{"$f":"+データ一覧!S367","v":148},null,null,null,null,null,null,{"$f":"データ一覧!S392","v":305638},null,null,null,null,null,null," 第３次産業",null,null,null,null,null,5915,null,null,null,{"$f":"データ一覧!S516","v":2565},null,null,null,{"$f":"データ一覧!S541","v":3350},null,null,null,null,"サービス業",null,null,null,null,492,null,null,null,{"$f":"データ一覧!S529","v":307},null,null,null,{"$f":"データ一覧!S554","v":185}]
[{"$f":"データ一覧!$A$29","v":" 7.10.1"},null,null,null,null,{"$f":"データ一覧!S29","v":6379},null,null,{"$f":"+L31+O31","v":25158},null,null,{"$f":"データ一覧!S31","v":12060},null,null,{"$f":"データ一覧!S32","v":13098},null,null,null,92.075125973431057,null,{"$f":"データ一覧!S34","v":3.94},null,{"$f":"データ一覧!S28","v":0},null,null,null,null,null,null,null,null,null,null,null,null,null,null,null,null,"     プラスチック","ゴム",null,null,null,null,null,null,null,null,{"$f":"データ一覧!S343","v":0},null,null,null,{"$f":"+データ一覧!S368","v":0},null,null,null,null,null,null,{"$f":"データ一覧!S393","v":0},null,null,null,null,null,null,null,"電気･ｶﾞｽ･水道業",null,null,null,null,36,null,null,null,{"$f":"データ一覧!S517","v":32},null,null,null,{"$f":"データ一覧!S542","v":4},null,null,null,null,"公務",null,null,null,null,305,null,null,null,{"$f":"データ一覧!S530","v":194},null,null,null,{"$f":"データ一覧!S555","v":111}]
[{"$f":"データ一覧!$A$36","v":"12.10.1"},null,null,null,null,{"$f":"データ一覧!S36","v":6619},null,null,{"$f":"+L32+O32","v":25017},null,null,{"$f":"データ一覧!S38","v":11973},null,null,{"$f":"データ一覧!S39","v":13044},null,null,null,91.789328426862923,null,{"$f":"データ一覧!S41","v":3.78},null,{"$f":"データ一覧!S35","v":0},null,null,"    　森　　　林　　　総　　　面　　　積   ",null,null,null,null,null,null,null,{"$f":"データ一覧!$A$265","v":"5.3.31"},null,null,null,null,null,"     ゴム","皮革",null,null,null,null,null,null,null,null,{"$f":"データ一覧!S344","v":0},null,null,null,{"$f":"+データ一覧!S369","v":0},null,null,null,null,null,null,{"$f":"データ一覧!S394","v":0},null,null,null,null,null,null,null,"情報通信業",null,null,null,null,90,null,null,null,{"$f":"データ一覧!S518","v":62},null,null,null,{"$f":"データ一覧!S543","v":28},null,null,null," 分類不能の産業",null,null,null,null,null,87,null,null,null,{"$f":"データ一覧!S531","v":47},null,null,null,{"$f":"データ一覧!S556","v":40}]
[{"$f":"+データ一覧!$A$43","v":"17.10.1"},null,null,null,null,{"$f":"データ一覧!S43","v":6670},null,null,{"$f":"+L33+O33","v":23995},null,null,{"$f":"データ一覧!S45","v":11447},null,null,{"$f":"データ一覧!S46","v":12548},null,null,null,91.225693337583678,null,{"$f":"データ一覧!S48","v":3.6},null,{"$f":"データ一覧!S49","v":156.9},null,null,"　　　森　　　　　　　林　　　　　　　の　　　　　　　構　　　　　　　成",null,null,null,null,null,null,null,null,null,null,null,null,null,"     皮革","窯業・土石",null,null,null,null,null,null,null,null,{"$f":"データ一覧!S345","v":3},null,null,null,{"$f":"+データ一覧!S370","v":56},null,null,null,null,null,null,{"$f":"データ一覧!S395","v":69824},null,null,null,null,null,null,"  ","運輸業,郵便業",null,null,null,null,{"$f":"BZ33+CD33","v":340},null,null,null,{"$f":"データ一覧!S519","v":290},null,null,null,{"$f":"データ一覧!S544","v":50}]
[{"$f":"+データ一覧!$A$50","v":"22.10.1"},null,null,null,null,{"$f":"+データ一覧!S50","v":6728},null,null,{"$f":"+L34+O34","v":23160},null,null,{"$f":"+データ一覧!S52","v":11036},null,null,{"$f":"+データ一覧!S53","v":12124},null,null,null,91.026064005278783,null,{"$f":"+データ一覧!S55","v":3.44},null,{"$f":"+データ一覧!S56","v":151.4},null,null,null,null,null,null,null,"       ha",null,null,null,null,null,null,"       ha",null,"     窯業・土石","鉄鋼",null,null,null,null,null,null,null,null,{"$f":"データ一覧!S346","v":0},null,null,null,{"$f":"+データ一覧!S371","v":0},null,null,null,null,null,null,{"$f":"データ一覧!S396","v":0},null,null,null,null,null,null," １６  社　 会 　福　 祉",null,null,null,null,null,null,null,null,null,null,null,null,null,null,null,{"$f":"データ一覧!$A$557","v":"6.4.1"}]
[{"$f":"データ一覧!$A$57","v":"27.10.1"},null,null,null,null,{"$f":"データ一覧!S57","v":6560},null,null,{"$f":"データ一覧!S58","v":21538},null,null,{"$f":"データ一覧!S59","v":10333},null,null,{"$f":"データ一覧!S60","v":11205},null,null,null,92.2177599286033,null,{"$f":"データ一覧!S62","v":3.2832317073170731},null,{"$f":"データ一覧!S63","v":140.6},null,null,"  総　　　　　   数",null,null,null,{"$f":"データ一覧!S265","v":11385.099999999999},null,null," 天然林       針葉樹",null,null,null,{"$f":"データ一覧!S268","v":147.41},null,null,"     鉄鋼","非鉄金属",null,null,null,null,null,null,null,null,{"$f":"データ一覧!S347","v":2},null,null,null,{"$f":"+データ一覧!S372","v":60},null,null,null,null,null,null,{"$f":"データ一覧!S397","v":"x"}]
["令　2.10.1（国調）",null,null,null,null,{"$f":"データ一覧!S64","v":6581},null,null,{"$f":"データ一覧!S65","v":20118},null,null,{"$f":"データ一覧!S66","v":9725},null,null,{"$f":"データ一覧!S67","v":10393},null,null,null,{"$f":"+L36/O36*100","v":93.572596940248246},null,{"$f":"データ一覧!S69","v":3.0569822215468774},null,{"$f":"データ一覧!S70","v":131.36141038197846},null,null,"  人工林     針葉樹",null,null,null,{"$f":"データ一覧!S266","v":6045.19},null,null," 天然林       広葉樹",null,null,null,{"$f":"データ一覧!S269","v":4910.96},null,null,"     非鉄金属","金属",null,null,null,null,null,null,null,null,{"$f":"データ一覧!S348","v":3},null,null,null,{"$f":"+データ一覧!S373","v":105},null,null,null,null,null,null,{"$f":"データ一覧!S398","v":246162},null,null,null,null,null,null,"    ","区分",null,null,null,null,null,null,"施設数",null,null,null,null,"収容定員",null,null,null,null,null,"区分",null,null,null,null,null,null,"施設数",null,null,null,null,"収容定員"]
["年",null,"  区",null," 0歳",null,null,"15歳",null,null,"25歳",null,null,"35歳",null,null,"45歳",null,null,"55歳",null,null,"65歳",null,null,"  人工林     広葉樹",null,null,null,{"$f":"データ一覧!S267","v":30.74},null,null," 竹               林",null,null,null,{"$f":"データ一覧!S270","v":160.9},null,null,"     金属","はん用機械",null,null,null,null,null,null,null,null,{"$f":"データ一覧!S349","v":1},null,null,null,{"$f":"+データ一覧!S374","v":81},null,null,null,null,null,null,{"$f":"データ一覧!S399","v":"x"},null,null,null,null,null,null,"生活保護施設",null,null,null,null,null,null,null,{"$f":"データ一覧!S557","v":"-"},null,null,null,{"$f":"データ一覧!S570","v":"-"},null,null,null,"人",null,"指定障害者支援施設",null,null,null,null,null,null,null,{"$f":"データ一覧!S563","v":2},null,null,null,{"$f":"データ一覧!S576","v":185},null,null,null,"人"]
["齢","令",null,null,null,"～",null,null,"～",null,null,"～",null,null,"～",null,null,"～",null,null,"～",null,null,null,null,null,null,null,null,null,null,null,null,null,null,null,null,null,null,"     一般機械","生産用機械",null,null,null,null,null,null,null,null,{"$f":"データ一覧!S350","v":1},null,null,null,{"$f":"+データ一覧!S375","v":26},null,null,null,null,null,null,{"$f":"データ一覧!S400","v":"x"},null,null,null,null,null,null,"地域福祉施設",null,null,null,null,null,null,null,{"$f":"データ一覧!S558","v":1},null,null,null,{"$f":"データ一覧!S571","v":"-"},null,null,null,null,null,"指定相談支援事業所",null,null,null,null,null,null,null,{"$f":"データ一覧!S564","v":1},null,null,null,{"$f":"データ一覧!S577","v":"-"}]
["階",{"$f":"+LEFT(データ一覧!$A$83,1)","v":"6"},"  分",null,null,null,"14歳",null,null,"24歳",null,null,"34歳",null,null,"44歳",null,null,"54歳",null,null,"64歳",null,null,"以上","    林     野     の     構     成",null,null,null,null,null,null,"保     有     形     態     別",null,null,null,null,null,null,"     電気機械","業務用機械",null,null,null,null,null,null,null,null,{"$f":"データ一覧!S351","v":"-"},null,null,null,{"$f":"+データ一覧!S376","v":0},null,null,null,null,null,null,{"$f":"データ一覧!S401","v":0},null,null,null,null,null,null,"老人福祉施設",null,null,null,null,null,null,null,{"$f":"データ一覧!S559","v":7},null,null,null,{"$f":"データ一覧!S572","v":208},null,null,null,null,null,"児童福祉施設",null,null,null,null,null,null,null,{"$f":"データ一覧!S565","v":22},null,null,null,{"$f":"データ一覧!S578","v":869}]
["級","・",null,null,null,null,"人",null,null,"人",null,"    人",null,null,"    人",null,null,"    人",null,null,"    人",null,null,"    人",null,null,null,null,null,null,null,"ha",null,null,null,null,null,"       ha",null,null,"電子・デバイス",null,null,null,null,null,null,null,null,{"$f":"データ一覧!S352","v":1},null,null,null,{"$f":"+データ一覧!S377","v":743},null,null,null,null,null,null,{"$f":"データ一覧!S402","v":"x"},null,null,null,null,null,null,"介護保険施設",null,null,null,null,null,null,null,{"$f":"データ一覧!S560","v":27},null,null,null,{"$f":"データ一覧!S573","v":696},null,null,null,null,null,"母子福祉施設",null,null,null,null,null,null,null,{"$f":"データ一覧!S566","v":"-"},null,null,null,{"$f":"データ一覧!S579","v":"-"}]
["別",{"$f":"+MID(データ一覧!$A$83,3,2)","v":"10"},"総 数",null,{"$f":"+E42+E43","v":2080},null,null,{"$f":"+H42+H43","v":1667},null,null,{"$f":"+K42+K43","v":1298},null,null,{"$f":"+N42+N43","v":1857},null,null,{"$f":"+Q42+Q43","v":2496},null,null,{"$f":"+T42+T43","v":2534},null,null,{"$f":"+W42+W43","v":6937},null,null," 無立木地   伐採跡地",null,null,null,{"$f":"データ一覧!S271","v":2.58},null,null,"国   　　　 　 有",null,null,null,{"$f":"データ一覧!S273","v":16.89},null,null,null,"電気機械",null,null,null,null,null,null,null,null,{"$f":"データ一覧!S353","v":1},null,null,null,{"$f":"+データ一覧!S378","v":154},null,null,null,null,null,null,{"$f":"データ一覧!S403","v":"x"},null,null,null,null,null,null,"障害者自立支援法施行前からの身体障害者福祉施設",null,null,null,null,null,null,null,{"$f":"データ一覧!S561","v":"-"},null,null,null,{"$f":"データ一覧!S574","v":"-"},null,null,null,null,null,"婦人保護施設",null,null,null,null,null,null,null,{"$f":"データ一覧!S567","v":"-"},null,null,null,{"$f":"データ一覧!S580","v":"-"}]
["人","・","  男",null,{"$f":"データ一覧!S83","v":1064},null,null,{"$f":"データ一覧!S84","v":839},null,null,{"$f":"データ一覧!S85","v":715},null,null,{"$f":"データ一覧!S86","v":973},null,null,{"$f":"データ一覧!S87","v":1286},null,null,{"$f":"データ一覧!S88","v":1247},null,null,{"$f":"データ一覧!S89","v":3020},null,null," 無立木地   未立木地",null,null,null,{"$f":"データ一覧!S272","v":87.32},null,null,"公       　　  有",null,null,null,{"$f":"データ一覧!S274","v":1666.03},null,null,"     輸送機械","情報通信機械",null,null,null,null,null,null,null,null,{"$f":"データ一覧!S354","v":0},null,null,null,{"$f":"+データ一覧!S379","v":0},null,null,null,null,null,null,{"$f":"データ一覧!S404","v":0},null,null,null,null,null,null,null,null,null,null,null,null,null,null,null,null,null,null,null,null,null,null,null,null,"その他の社会福祉施設",null,null,null,null,null,null,null,{"$f":"データ一覧!S568+データ一覧!S569","v":0},null,null,null,0]
["口",{"$f":"+RIGHT(データ一覧!$A$83,1)","v":"1"},"  女",null,{"$f":"データ一覧!S91","v":1016},null,null,{"$f":"データ一覧!S92","v":828},null,null,{"$f":"データ一覧!S93","v":583},null,null,{"$f":"データ一覧!S94","v":884},null,null,{"$f":"データ一覧!S95","v":1210},null,null,{"$f":"データ一覧!S96","v":1287},null,null,{"$f":"データ一覧!S97","v":3917},null,null,null,null,null,null,null,null,null,"私          　 有",null,null,null,{"$f":"データ一覧!S275","v":9702.18},null,null,"     精密機械","輸送機械",null,null,null,null,null,null,null,null,{"$f":"データ一覧!S355","v":1},null,null,null,{"$f":"+データ一覧!S380","v":8},null,null,null,null,null,null,{"$f":"データ一覧!S405","v":"x"},null,null,null,null,null,null,"障害福祉サービス事業所",null,null,null,null,null,null,null,{"$f":"データ一覧!S562","v":12},null,null,null,{"$f":"データ一覧!S575","v":68}]
[null,null,null,null,null,null,null,null,null,null,null,null,null,null,null,null,null,null,null,null,null,null,null,null,null,"            林     産     物     生     産     量 ",null,null,null,null,null,null,null,null,null,{"$f":"データ一覧!$A$276","v":"5年中"},null,null,null,"     その他","その他",null,null,null,null,null,null,null,null,{"$f":"データ一覧!S356","v":6},null,null,null,{"$f":"+データ一覧!S381","v":73},null,null,null,null,null,null,{"$f":"データ一覧!S406","v":90967},null,null,null,null,null,null," １７  教　　　　　　　育",null,null,null,null,null,null,null,null,null,null,null,null,null,null,null,{"$f":"データ一覧!$A$583","v":"6.5.1"}]
["人口動態",null,null,null,null,null,null,"   自　然　動　態",null,null,null,null,null,"   社  会  動  態",null,null,null,null,null,{"$f":"データ一覧!$A78","v":"5.1.1～5.12.31"},null,null,null,null,null,"生椎茸",null,null,null,{"$f":"データ一覧!S276","v":2670},null,"㎏","乾椎茸",null,null,null,{"$f":"データ一覧!S277","v":1410},null,"㎏"]
[null,null,"   区       分",null,null,null,null," 出   生",null,null," 死   亡",null,null," 転   入",null,null," 転   出",null,null," 婚   姻",null,null," 離   婚",null,null,"えのきだけ",null,null,null,{"$f":"データ一覧!S279","v":0},null,"㎏","なめこ",null,null,null,{"$f":"データ一覧!S278","v":0},null,"㎏","    ","工　業　用　水　量",null,null,null,null,null,"（従業者30人以上の事業所）",null,null,null,null,null,null,null,null,null,null,{"$f":"データ一覧!S407","v":1206},null,null,null,null,"㎥／日",null,null,null,null,null,null,null,null,null,null,null,null,null,null,"学校数（校）",null,null,null,null,null,null,"教員数（人）",null,null,null,null,null,null,null,"学生・生徒・児童数（人）"]
[{"$f":"LEFT(データ一覧!$A74,6)","v":"5.10.1"},null,null,null,null,null,null,"       人",null,null,"       人",null,null,"       人",null,null,"       人",null,null,null,"    件",null,null,"    件",null,"ひらたけ",null,null,null,{"$f":"+データ一覧!S280","v":20},null,"㎏","まいたけ",null,null,null,{"$f":"+データ一覧!S281","v":0},null,"㎏",null,null,null,null,null,null,null,null,null,null,null,null,null,null,null,null,null,null,null,null,null,null,null,null,null,null,null,null,null,"　","区分",null,null,null,null,null,null,null," 本 校",null,null," 分 校",null,null," 本   務",null,null,null," 兼   務",null,null,null," 総   数",null,null,null,"男",null,null,null,"女"]
["～",null," 実          数",null,null,null,null,{"$f":"データ一覧!S74","v":110},null,null,{"$f":"データ一覧!S75","v":366},null,null,{"$f":"データ一覧!S76","v":482},null,null,{"$f":"データ一覧!S77","v":575},null,null,{"$f":"データ一覧!S78","v":56},null,null,{"$f":"データ一覧!S79","v":21},null,null,null,null,null,null,null,null,null,null,null,null,null,null,null,null," １１ 　上　・　下　水　道",null,null,null,null,null,null,null,null,null,null,null,null,null,null,null,null,null,null,null,null,null,null,null,null,null,null,null,null,"小学校",null,null,null,null,null,null,null,null,{"$f":"データ一覧!S584","v":8},null,null,{"$f":"データ一覧!S585","v":0},null,null,{"$f":"データ一覧!S586","v":97},null,null,null,{"$f":"データ一覧!S587","v":13},null,null,null,{"$f":"データ一覧!S588","v":883},null,null,null,{"$f":"データ一覧!S589","v":456},null,null,null,{"$f":"データ一覧!S590","v":427}]
[{"$f":"RIGHT(データ一覧!$A76,6)","v":"6.9.30"},null,"比率(対1,000人)",null,null,null,null,{"$f":"+H48/I36*1000","v":5.4677403320409583},null,null,{"$f":"+K48/I36*1000","v":18.192663286609005},null,null,"- ",null,null,"- ",null,null,{"$f":"+T48/I36*1000","v":2.7835768963117609},null,null,{"$f":"+W48/I36*1000","v":1.0438413361169101},null,null,"  ６  漁               業",null,null,null,null,null,null,null,null,null,null,null,null,null,null,null,null,null,null,null,null,null,null,null,null,null,null,null,null,null,null,null,null,null,null,null,null,null,null,null,null,null,"  ","中学校",null,null,null,null,null,null,null,null,{"$f":"データ一覧!S592","v":4},null,null,{"$f":"データ一覧!S593","v":0},null,null,{"$f":"データ一覧!S594","v":64},null,null,null,{"$f":"データ一覧!S595","v":11},null,null,null,{"$f":"データ一覧!S596","v":513},null,null,null,{"$f":"データ一覧!S597","v":257},null,null,null,{"$f":"データ一覧!S598","v":256}]
[null,null,null,null,null,null,null,null,null,null,null,null,null,null,null,null,null,null,null,null,null,null,null,null,null,null,null,null,null,null,null,null,null,null,null,null,null,null,null,"水 道 供 給 人 口",null,null,null,null,null,null,"上 水 道",null,null,null,"簡易水道",null,null,null,"専用水道",null,null,null,"飲料水供給施設",null,null,null,"下水道処理人口",null,null,null,null,"  ","高等学校",null,null,null,null,null,null,null,null,{"$f":"データ一覧!S600","v":1},null,null,{"$f":"データ一覧!S601","v":0},null,null,{"$f":"データ一覧!S602","v":33},null,null,null,{"$f":"データ一覧!S603","v":16},null,null,null,{"$f":"データ一覧!S604","v":330},null,null,null,{"$f":"データ一覧!S605","v":173},null,null,null,{"$f":"データ一覧!S606","v":157}]
["  ３  事　　業　　所（民　　営）",null,null,null,null,null,null,null,null,null,null,"3.6.1",null,null,null,null,null,null,null,null,null,null,null,null,null,"漁船隻数・トン数",null,null,null,{"$f":"データ一覧!$A$282","v":"5.12.31"},null,null,null,"動　力　船",null,null,null,null,null,{"$f":"データ一覧!$A$408","v":"6.3.31"},null,null,null,null,null,"人",null,{"$f":"データ一覧!S408","v":9656},null,null,{"$f":"データ一覧!S409","v":10266},null,null,null,null,{"$f":"データ一覧!S410","v":0},null,null,null,{"$f":"データ一覧!S411","v":18},null,null,null,{"$f":"データ一覧!S412","v":13509},null,null,null,"  ","大学・短期大学",null,null,null,null,null,null,null,null,{"$f":"データ一覧!S607","v":0},null,null,{"$f":"データ一覧!S608","v":0},null,null,{"$f":"データ一覧!S609","v":0},null,null,null,{"$f":"データ一覧!S610","v":0},null,null,null,{"$f":"データ一覧!S611","v":0},null,null,null,{"$f":"データ一覧!S612","v":0},null,null,null,{"$f":"データ一覧!S613","v":0}]
[null,null,null,null,null,null,null,null,null,null,null,null,null,null,null,null,null,null,null,null,null,null,null,null,null,"無動力船隻数",null,null,null,"船外機付漁船隻数",null,null,null,"隻　数",null,null,"総 ト ン 数",null,null,null,null,null,null,null,null,null,null,null,null,null,null,null,null,null,null,null,null,null,null,null,null,null,null,null,null,null,null,"  ","高等専門学校",null,null,null,null,null,null,null,null,{"$f":"データ一覧!S614","v":0},null,null,{"$f":"データ一覧!S615","v":0},null,null,{"$f":"データ一覧!S616","v":0},null,null,null,{"$f":"データ一覧!S617","v":0},null,null,null,{"$f":"データ一覧!S618","v":0},null,null,null,{"$f":"データ一覧!S619","v":0},null,null,null,{"$f":"データ一覧!S620","v":0}]
[null,null,null,null,null,null,null,"    総　　　　　数",null,null,null,null,null,"    民　　　　　営",null,null,null,null,null,"  国 ･ 地方公共団体",null,null,null,null,null,null,null,null,"隻",null,null,null,"隻",null,null,"隻",null,null,"t"," １２  交   通　・　通   信",null,null,null,null,null,null,null,null,null,null,null,null,null,null,null,null,null,null,null,null,null,null,null,null,null,null,null,"  ","特別支援学校",null,null,null,null,null,null,null,null,{"$f":"+データ一覧!S622","v":0},null,null,{"$f":"+データ一覧!S623","v":0},null,null,{"$f":"+データ一覧!S624","v":0},null,null,null,{"$f":"+データ一覧!S625","v":0},null,null,null,{"$f":"+データ一覧!S626","v":0},null,null,null,{"$f":"+データ一覧!S627","v":0},null,null,null,{"$f":"+データ一覧!S628","v":0}]
["  　区　　　　　　分",null,null,null,null,null,null," 事業所数",null,null," 従業者数",null,null," 事業所数",null,null," 従業者数",null,null," 事業所数",null,null," 従業者数",null,null,{"$f":"データ一覧!$S$282","v":0},null,null,null,{"$f":"データ一覧!$S$283","v":131},null,null,null,{"$f":"データ一覧!S284","v":129},null,null,{"$f":"データ一覧!S285","v":1411.74},null,null,null,null,null,null,null,null,null,null,null,null,null,null,null,null,null,null,null,null,null,null,null,null,null,null,null,null,null,null,"  ","幼稚園",null,null,null,null,null,null,null,null,{"$f":"データ一覧!S630","v":0},null,null,{"$f":"データ一覧!S631","v":0},null,null,{"$f":"データ一覧!S632","v":0},null,null,null,{"$f":"データ一覧!S633","v":0},null,null,null,{"$f":"データ一覧!S634","v":0},null,null,null,{"$f":"データ一覧!S635","v":0},null,null,null,{"$f":"データ一覧!S636","v":0}]
[null,null,null,null,null,null,null,null,null,null,"       人",null,null,null,null,null,"       人",null,null,null,null,null,"       人",null,null,"  男女別就業者数",null,null,null,null,null,null,null,{"$f":"データ一覧!$A$286","v":"5.11.1"},null,null,null,null,null,"道     路",null,null,null,"実 延 長",null,null,null,"国     道",null,null,null,"県     道",null,null,null,"市町道",null,null,null," 鉄 道 営 業 キ ロ 数",null,null,null,null,null,null,null,"  ","幼保連携認定こども園",null,null,null,null,null,null,null,null,{"$f":"データ一覧!S638","v":5},null,null,{"$f":"データ一覧!S639","v":0},null,null,{"$f":"データ一覧!S640","v":59},null,null,null,{"$f":"データ一覧!S641","v":15},null,null,null,{"$f":"データ一覧!S642","v":240},null,null,null,{"$f":"データ一覧!S643","v":133},null,null,null,{"$f":"データ一覧!S644","v":107}]
["総数",null,null,null,null,null,null,{"$f":"データ一覧!S99","v":"…"},null,null,{"$f":"データ一覧!S156","v":"…"},null,null,{"$f":"データ一覧!S100","v":967},null,null,{"$f":"データ一覧!S157","v":6753},null,null,{"$f":"データ一覧!S101","v":"…"},null,null,{"$f":"データ一覧!S158","v":"…"},null,null,"総　　数",null,null,null,null,null,"男",null,null,null,"女",null,null,null,{"$f":"データ一覧!$A$413","v":"5.4.1"},null,null,null,{"$f":"データ一覧!S413","v":476.8},null,null,"㎞",{"$f":"データ一覧!S414","v":45.1},null,null,"㎞",{"$f":"データ一覧!S415","v":73.099999999999994},null,null,"㎞",{"$f":"データ一覧!S416","v":358.6},null,null,"km",{"$f":"データ一覧!$A$417","v":"6.4.1"},null,null,null,{"$f":"データ一覧!S417","v":0},null,null,"㎞","  ","各種学校",null,null,null,null,null,null,null,null,{"$f":"データ一覧!S646","v":0},null,null,{"$f":"データ一覧!S647","v":0},null,null,{"$f":"データ一覧!S648","v":0},null,null,null,{"$f":"データ一覧!S649","v":0},null,null,null,{"$f":"データ一覧!S650","v":0},null,null,null,{"$f":"データ一覧!S651","v":0},null,null,null,{"$f":"データ一覧!S652","v":0}]
["農林漁業",null,null,null,null,null,null,{"$f":"データ一覧!S102","v":"…"},null,null,{"$f":"データ一覧!S159","v":"…"},null,null,{"$f":"データ一覧!S103","v":26},null,null,{"$f":"データ一覧!S160","v":255},null,null,{"$f":"データ一覧!S104","v":"…"},null,null,{"$f":"データ一覧!S161","v":"…"},null,null,null,null,null,null,null,"人",null,null,"　　　　人",null,null,null,null,"  人","自動車",null,null,null,null,null,null,null,null,"乗用車",null,null,null,null,null,null,null,null,null,null,null,null,null,null,null,null,null,null,"  ","専修学校",null,null,null,null,null,null,null,null,{"$f":"データ一覧!S654","v":0},null,null,{"$f":"データ一覧!S655","v":0},null,null,{"$f":"データ一覧!S656","v":0},null,null,null,{"$f":"データ一覧!S657","v":0},null,null,null,{"$f":"データ一覧!S658","v":0},null,null,null,{"$f":"データ一覧!S659","v":0},null,null,null,{"$f":"データ一覧!S660","v":0}]
["鉱業",null,null,null,null,null,null,{"$f":"データ一覧!S105","v":"…"},null,null,{"$f":"データ一覧!S162","v":"…"},null,null,{"$f":"データ一覧!S106","v":"-"},null,null,{"$f":"データ一覧!S163","v":"-"},null,null,{"$f":"データ一覧!S107","v":"…"},null,null,{"$f":"データ一覧!S164","v":"…"},null,null,{"$f":"データ一覧!S286","v":262},null,null,null,null,null,{"$f":"データ一覧!$S$287","v":0},null,null,null,{"$f":"データ一覧!S288","v":0},null,null,null,"台  数",null,null,null,"貨    物",null,null,null,"普     通",null,null,null,"小     型",null,null,null,"乗  合",null,null,"特  種",null,null,"小型二輪",null,null,"軽自動車",null,null," １８  衛　　　　　　　生"]
["建設業",null,null,null,null,null,null,{"$f":"データ一覧!S108","v":"…"},null,null,{"$f":"データ一覧!S165","v":"…"},null,null,{"$f":"データ一覧!S109","v":148},null,null,{"$f":"データ一覧!S166","v":617},null,null,{"$f":"データ一覧!S110","v":"…"},null,null,{"$f":"データ一覧!S167","v":"…"},null,null,"　　　　海 面 漁 業 漁 獲 量 （属人）",null,null,null,null,null,null,null,{"$f":"データ一覧!$A$289","v":"30年中"},null,null,null,null,null,{"$f":"データ一覧!$A$418","v":"6.3.31"},null,null,null,null,{"$f":"データ一覧!S418","v":911},null,null,null,{"$f":"データ一覧!S420","v":4011},null,null,null,{"$f":"データ一覧!S421","v":3703},null,null,{"$f":"データ一覧!S419","v":39},null,null,{"$f":"データ一覧!S422","v":405},null,null,{"$f":"データ一覧!S423","v":218},null,null,{"$f":"データ一覧!S424","v":8893}]
["製造業",null,null,null,null,null,null,{"$f":"データ一覧!S111","v":"…"},null,null,{"$f":"データ一覧!S168","v":"…"},null,null,{"$f":"データ一覧!S112","v":157},null,null,{"$f":"データ一覧!S169","v":2157},null,null,{"$f":"データ一覧!S113","v":"…"},null,null,{"$f":"データ一覧!S170","v":"…"},null,null,null,null,null,null,null,"       ","ｔ",null,null,null,null,null,null,"t",null,null,"     ",null,"郵　便　局　数",null,null,null,null,null,null,null,null,null,null,null,null,null,{"$f":"+MID(データ一覧!$A$428,3,2)","v":"3."},"令","一般加入",null,null,null,"ＩＮＳネット",null,null,null,null,null,null,null,"医療関係施設",null,null,null,null,null,{"$f":"データ一覧!$A$661","v":"5.10.1"},null,null,null,null,null,null,"および医療関係者数",null,null,null,null,null,null,null,{"$f":"データ一覧!$A$666","v":"4.12.31"}]
["電気・ｶﾞ ｽ・熱供給・水道業",null,null,null,null,null,null,{"$f":"データ一覧!S114","v":"…"},null,null,{"$f":"データ一覧!S171","v":"…"},null,null,{"$f":"データ一覧!S115","v":"-"},null,null,{"$f":"データ一覧!S172","v":"-"},null,null,{"$f":"データ一覧!S116","v":"…"},null,null,{"$f":"データ一覧!S173","v":"…"},null,null,"   総　　　　　　数",null,null,null,{"$f":"データ一覧!S289","v":3155},null,null,"   藻　　　　　　類",null,null,null,{"$f":"データ一覧!S292","v":1},null,null,"通  信",null,null,null," 総     数",null,null,null,null," 郵 便 局",null,null,null,null," 簡 易 局",null,null,null,"・",{"$f":"+LEFT(データ一覧!$A$428,1)","v":"6"},"電話数",null,null,null,"加入数",null,null,null,null,null,null,null,null,null,"　","病",null,null,"院",null,"　",null,null,null,null," ","一般診療所",null,null,null,null,null,null,null,null,null,null,null,"歯科診療所"]
["情報通信業",null,null,null,null,null,null,{"$f":"データ一覧!S117","v":"…"},null,null,{"$f":"データ一覧!S174","v":"…"},null,null,{"$f":"データ一覧!S118","v":3},null,null,{"$f":"データ一覧!S175","v":9},null,null,{"$f":"データ一覧!S119","v":"…"},null,null,{"$f":"データ一覧!S176","v":"…"},null,null,"   魚　　　　　　類",null,null,null,{"$f":"データ一覧!S290","v":1901},null,null,"   そ　   の　　 他",null,null,null,{"$f":"データ一覧!S293","v":1133},null,null,{"$f":"データ一覧!$A$428","v":"6.3.31"},null,null,null,{"$f":"データ一覧!S425","v":10},null,null,null,null,{"$f":"データ一覧!S426","v":8},null,null,null,null,{"$f":"データ一覧!S427","v":2},null,null,null,{"$f":"+RIGHT(データ一覧!$A$428,2)","v":"31"},"・",{"$f":"データ一覧!S428","v":1547},null,null,null,{"$f":"データ一覧!S429","v":164},null,null,null," ","医療関係",null,null,null,null,null,null,null,null,null,null,null,"一般病院",null,null,null,null,null,null,null,null,null,null,null,"有",null,null,"床"]
["運輸業、郵便業",null,null,null,null,null,null,{"$f":"データ一覧!S120","v":"…"},null,null,{"$f":"データ一覧!S177","v":"…"},null,null,{"$f":"データ一覧!S121","v":13},null,null,{"$f":"データ一覧!S178","v":94},null,null,{"$f":"データ一覧!S122","v":"…"},null,null,{"$f":"データ一覧!S179","v":"…"},null,null,"   貝　　　　　　類",null,null,null,{"$f":"データ一覧!S291","v":120},null,null,null,null,null,null,null,null,null,null,null,null,null,null,null,null,null,null,null,null,null,null,null,null,null,null,null,null,null,null,null,null,null,null,null,null,null,null,"施設数",null,null,null,null,null,null,{"$f":"データ一覧!S661","v":2},null,null,null,null,null,{"$f":"データ一覧!S662","v":2},null,null,null,null,null,{"$f":"データ一覧!S663","v":9},null,null,null,null,null,{"$f":"データ一覧!S664","v":0},null,null,null,null,null,{"$f":"データ一覧!S665","v":5}]
["卸売業、小売業",null,null,null,null,null,null,{"$f":"データ一覧!S123","v":"…"},null,null,{"$f":"データ一覧!S180","v":"…"},null,null,{"$f":"データ一覧!S124","v":223},null,null,{"$f":"データ一覧!S181","v":1114},null,null,{"$f":"データ一覧!S125","v":"…"},null,null,{"$f":"データ一覧!S182","v":"…"},null,null,null,null,null,null,null,null,null,null,null,null,null,null,null,null," １３  税　　・　　財　　政",null,null,null,null,null,null,null,null,null,null,null,null,null,null,null,null,null,null,null,null,null,null,null,null,null,null,null,null,null,null,null,null,null,null,"医師",null,null,null,null,"歯科医師",null,null,null,null,"薬剤師",null,null,null,null,"保健師",null,null,null,null,"助産師",null,null," ",null,"看護師",null,null," "]
["金融業、保険業",null,null,null,null,null,null,{"$f":"データ一覧!S126","v":"…"},null,null,{"$f":"データ一覧!S183","v":"…"},null,null,{"$f":"データ一覧!S127","v":12},null,null,{"$f":"データ一覧!S184","v":71},null,null,{"$f":"データ一覧!S128","v":"…"},null,null,{"$f":"データ一覧!S185","v":"…"},null,null,"  ７  商        　　　業 ",null,null,null,null,null,null,{"$f":"データ一覧!$A$294","v":"3.6.1(令和2年実績）"},null,null,null,null,null,null,null,null,null,null,null,null,null,null,null,null,null,null,null,null,null,null,null,null,null,null,null,null,null,null,null,null,null,null," ","医療",null,null,null,null,null,null,null,null,"人",null,null,null,null,"人",null,null,null,null,"人",null,null,null,null,"人",null,null,null,null,"人",null,null,null,null,"人"]
["不動産業、物品賃貸業",null,null,null,null,null,null,{"$f":"データ一覧!S129","v":"…"},null,null,{"$f":"データ一覧!S186","v":"…"},null,null,{"$f":"データ一覧!S130","v":12},null,null,{"$f":"データ一覧!S187","v":30},null,null,{"$f":"データ一覧!S131","v":"…"},null,null,{"$f":"データ一覧!S188","v":"…"},null,null,null,null,null,null,null,null,null,null,null,null,null,null,null,null,"           ",null,null,null,"歳入",null,null,null,null,null,null,null,null,"(千円）"," ",null,null,null,"歳出",null,null,null,null,null,null,null,null,"(千円）",null,"関係者",null,null,null,null,{"$f":"データ一覧!S666","v":17},null,null,null,null,{"$f":"データ一覧!S667","v":7},null,null,null,null,{"$f":"データ一覧!S668","v":21},null,null,null,null,{"$f":"データ一覧!S669","v":13},null,null,null,null,{"$f":"データ一覧!S670","v":1},null,null,null,null,{"$f":"データ一覧!S671","v":148}]
["学術研究、専門・技術ｻｰﾋﾞｽ業",null,null,null,null,null,null,{"$f":"データ一覧!S132","v":"…"},null,null,{"$f":"データ一覧!S189","v":"…"},null,null,{"$f":"データ一覧!S133","v":20},null,null,{"$f":"データ一覧!S190","v":47},null,null,{"$f":"データ一覧!S134","v":"…"},null,null,{"$f":"データ一覧!S191","v":"…"},null,null,"  産   業　 分　 類",null,null,null," 事　業　所　数",null,null," 従　業　者　数",null,null,"年　間　販　売　額",null,null,null,"一人当たり歳入歳出予算決算額",null,null,null,null,null,null,null,null,null,null,null,null,null,null,null,null,null,null,null,null,null,null,null,null,null,null,null,"                   ",null,null,null,null,null,null,null,null,"死因別死亡数　　　　　　    ",null,null,null,null,null,null,null,null,null,null,null,null,null,null,null,{"$f":"データ一覧!$A$672","v":"5年中"},null,null,null,null,null,null,null,null,"      単 位：人"]
["宿泊業、飲食サービス業",null,null,null,null,null,null,{"$f":"データ一覧!S135","v":"…"},null,null,{"$f":"データ一覧!S192","v":"…"},null,null,{"$f":"データ一覧!S136","v":111},null,null,{"$f":"データ一覧!S193","v":610},null,null,{"$f":"データ一覧!S137","v":"…"},null,null,{"$f":"データ一覧!S194","v":"…"},null,null,null,null,null,null,null,null,null,null,null,"　人",null,"         百万円",null,null,"区分",null,null,null,{"$f":"データ一覧!$A$438","v":"6年度"},null,null,null,null,{"$f":"データ一覧!$A$452","v":"5年度"},null,null,null,null,"区分",null,null,null,{"$f":"+AR68","v":"6年度"},null,null,null,null,{"$f":"データ一覧!$A$452","v":"5年度"},null,null,null,null," 死     因",null,null,null,null,null,null,null,null,null,null,null,"悪  性",null,null,"高血圧",null,null,null,null,null,"脳血管",null,null,null,null,null," ",null,null,"不慮の事故"]
["生活関連サービス業、娯楽業",null,null,null,null,null,null,{"$f":"データ一覧!S138","v":"…"},null,null,{"$f":"データ一覧!S195","v":"…"},null,null,{"$f":"データ一覧!S139","v":68},null,null,{"$f":"データ一覧!S196","v":141},null,null,{"$f":"データ一覧!S140","v":"…"},null,null,{"$f":"データ一覧!S197","v":"…"},null,null,"総　　　　　　計",null,null,null,{"$f":"データ一覧!S294","v":212},null,null,{"$f":"データ一覧!S303","v":1008},null,null,{"$f":"データ一覧!S312","v":14982},null,null,null,null,null,null,null,{"$f":"データ一覧!S434","v":766785.20753917831},null,null,null,null,{"$f":"データ一覧!S435","v":779437.43827000051},null,null,null,null,null,null,null,null,{"$f":"データ一覧!S436","v":766785.20753917831},null,null,null,null,{"$f":"データ一覧!S437","v":745692.77953942923},null,null,null,null,null,null,null,null,null,"全 死 因",null,null,null,"結 核",null,null,"新生物",null,null,"性疾患",null,null,"心疾患",null,null,"疾  患",null,null,"肺  炎",null,null,"老  衰",null,null,null,null," ","交通事故"]
["教育、学習支援業",null,null,null,null,null,null,{"$f":"データ一覧!S141","v":"…"},null,null,{"$f":"データ一覧!S198","v":"…"},null,null,{"$f":"データ一覧!S142","v":18},null,null,{"$f":"データ一覧!S199","v":73},null,null,{"$f":"データ一覧!S143","v":"…"},null,null,{"$f":"データ一覧!S200","v":"…"},null,null,"卸売業",null,null,null,{"$f":"データ一覧!S295","v":19},null,null,{"$f":"データ一覧!S304","v":97},null,null,{"$f":"データ一覧!S313","v":3289},null,null,null,"項目別歳入歳出予算決算額"]
["医療、福祉",null,null,null,null,null,null,{"$f":"データ一覧!S144","v":"…"},null,null,{"$f":"データ一覧!S201","v":"…"},null,null,{"$f":"データ一覧!S145","v":59},null,null,{"$f":"データ一覧!S202","v":1125},null,null,{"$f":"データ一覧!S146","v":"…"},null,null,{"$f":"データ一覧!S203","v":"…"},null,null,"小売業",null,null,null,{"$f":"データ一覧!S296","v":193},null,null,{"$f":"データ一覧!S305","v":911},null,null,{"$f":"データ一覧!S314","v":11694},null,null,null,"区分",null,null,null,{"$f":"データ一覧!$A$438","v":"6年度"},null,null,null,null,{"$f":"データ一覧!$A$452","v":"5年度"},null,null,null,null,"区分",null,null,null,{"$f":"+AR71","v":"6年度"},null,null,null,null,{"$f":"データ一覧!$A$452","v":"5年度"},null,null,null,null,null,null,null,null,null,{"$f":"データ一覧!S672","v":357},null,null,null,"   －",{"$f":"データ一覧!S673","v":"-"},null,{"$f":"データ一覧!S674","v":66},null,null,null,{"$f":"データ一覧!S675","v":3},null,{"$f":"データ一覧!S676","v":72},null,null,{"$f":"データ一覧!S677","v":16},null,null,{"$f":"データ一覧!S678","v":9},null,null,{"$f":"データ一覧!S679","v":67},null,null,{"$f":"データ一覧!S680","v":13},null,null,{"$f":"データ一覧!S681","v":1}]
["複合サービス事業",null,null,null,null,null,null,{"$f":"データ一覧!S147","v":"…"},null,null,{"$f":"データ一覧!S204","v":"…"},null,null,{"$f":"データ一覧!S148","v":14},null,null,{"$f":"データ一覧!S205","v":89},null,null,{"$f":"データ一覧!S149","v":"…"},null,null,{"$f":"データ一覧!S206","v":"…"},null,null,"各種商品",null,null,null,{"$f":"データ一覧!S297","v":"-"},null,null,{"$f":"データ一覧!S306","v":"-"},null,null,{"$f":"データ一覧!S315","v":"-"},null,null,null,"総額",null,null,null,{"$f":"SUM(AR73:AV85)","v":14483039},null,null,null,null,{"$f":"SUM(AW73:BA85)","v":14994038},null,null,null,null,"総額",null,null,null,{"$f":"SUM(BF73:BJ85)","v":14483039},null,null,null,null,{"$f":"SUM(BK73:BO85)","v":14344892},null,null,null,null," １９  警　察　・　消　防  ",null,null,null,null,null,null,null,null,null,null,null,null,null,null,null,{"$f":"+データ一覧!$A682","v":"6.4.1"}]
["サービス業",null,null,null,null,null,null,{"$f":"データ一覧!S150","v":"…"},null,null,{"$f":"データ一覧!S207","v":"…"},null,null,{"$f":"データ一覧!S151","v":83},null,null,{"$f":"データ一覧!S208","v":321},null,null,{"$f":"データ一覧!S152","v":"…"},null,null,{"$f":"データ一覧!S209","v":"…"},null,null,"織物・衣服・身の回り品",null,null,null,{"$f":"データ一覧!S298","v":12},null,null,{"$f":"データ一覧!S307","v":27},null,null,{"$f":"データ一覧!S316","v":20},null,null,null,"地方税",null,null,null,{"$f":"データ一覧!S439","v":2132567},null,null,null,null,{"$f":"データ一覧!S453","v":2286933},null,null,null,null,"議会費",null,null,null,{"$f":"データ一覧!S467","v":99133},null,null,null,null,{"$f":"データ一覧!S481","v":96951}]
["公務",null,null,null,null,null,null,{"$f":"データ一覧!S153","v":"…"},null,null,{"$f":"データ一覧!S210","v":"…"},null,null,{"$f":"データ一覧!S154","v":"…"},null,null,{"$f":"データ一覧!S211","v":"…"},null,null,{"$f":"データ一覧!S155","v":"…"},null,null,{"$f":"データ一覧!S212","v":"…"},null,null,"飲食料品",null,null,null,{"$f":"データ一覧!S299","v":78},null,null,{"$f":"データ一覧!S308","v":433},null,null,{"$f":"データ一覧!S317","v":6465},null,null,null,"地方譲与税",null,null,null,{"$f":"データ一覧!S440","v":141672},null,null,null,null,{"$f":"データ一覧!S454","v":135826},null,null,null,null,"総務費",null,null,null,{"$f":"データ一覧!S468","v":3530747},null,null,null,null,{"$f":"データ一覧!S482","v":3564226},null,null,null,null,null,null,null,null,null,null,null,null,null,null,"交番・駐在所",null,null,null,null,null,null,null,null,"刑法犯認知件数",null,null,null,null,null,null,null,null,"交通人身事故発生件数"]
["  ４  農        　　　業 ",null,null,null,null,null,null,null,null,null,null,null,null,null,null,null,null,null,null,null,null,null,null,null,null,"機械器具",null,null,null,{"$f":"データ一覧!S300","v":16},null,null,{"$f":"データ一覧!S309","v":49},null,null,{"$f":"データ一覧!S318","v":386},null,null,null,"各種交付金",null,null,null,{"$f":"データ一覧!S441","v":588050},null,null,null,null,{"$f":"データ一覧!S455","v":575743},null,null,null,null,"民生費",null,null,null,{"$f":"データ一覧!S469","v":3788885},null,null,null,null,{"$f":"データ一覧!S483","v":3744452},null,null,null,null,null,"警察署数",null,null,null,null,null,null,null,null,"検問所数",null,null,null,null,null,null,null,null,null,{"$f":"データ一覧!$A$684","v":"5年中"},null,null,null,null,null,null,null,null,{"$f":"データ一覧!$A$684","v":"5年中"}]
[null,null,null,null,null,null,null,null,null,null,null,null,null,null,null,null,null,null,null,null,null,null,null,null,null,"その他",null,null,null,{"$f":"データ一覧!S301","v":82},null,null,{"$f":"データ一覧!S310","v":360},null,null,{"$f":"データ一覧!S319","v":4715},null,null,null,"地方特例交付金",null,null,null,{"$f":"データ一覧!S442","v":13800},null,null,null,null,{"$f":"データ一覧!S456","v":17091},null,null,null,null,"衛生費",null,null,null,{"$f":"データ一覧!S470","v":1257266},null,null,null,null,{"$f":"データ一覧!S484","v":1223184},null,null,null,null,null,null,null,null,null,null,null,null,null,null,null,null,null,null,null,null,null,null,null,null,null,null,null,null," 件",null,null,null,null,null,null,null,null,"　件"]
[null,null,"農業経営体数",null,null,null,null,null,null,"農産物販売額規模別経営体数",null,null,null,null,null,null,null,"経営耕地面積規模別経営体数",null,null,null,null,null,null,null,"無店舗",null,null,null,{"$f":"データ一覧!S302","v":5},null,null,{"$f":"データ一覧!S311","v":42},null,null,{"$f":"データ一覧!S320","v":107},null,null,null,"地方交付税",null,null,null,{"$f":"データ一覧!S443","v":5400000},null,null,null,null,{"$f":"データ一覧!S457","v":5734858},null,null,null,null,"労働費",null,null,null,{"$f":"データ一覧!S471","v":34056},null,null,null,null,{"$f":"データ一覧!S485","v":65898},null,null,null,null,null,null,{"$f":"データ一覧!S682","v":0},null,null,null,null,null,null,null,null,{"$f":"データ一覧!S683","v":6},null,null,null,null,null,null,null,null,{"$f":"データ一覧!S684","v":30},null,null,null,null,null,null,null,null,{"$f":"データ一覧!S685","v":11}]
["農",null,"区　分",null,null,null,"経営体数\n（経営体）",null,null,"区　分",null,null,null,null,"経営体数\n（経営体）",null,null,"区　分",null,null,null,null,"経営体数\n（経営体）",null,null,null,null,null,null,null,null,null,null,null,null,null,null,null,null,"分担金および負担金",null,null,null,{"$f":"データ一覧!S444","v":19051},null,null,null,null,{"$f":"データ一覧!S458","v":32662},null,null,null,null,"農林水産業費",null,null,null,{"$f":"データ一覧!S472","v":688736},null,null,null,null,{"$f":"データ一覧!S486","v":711947},null,null,null,null,"火災発生件数",null,null,null,null,null,null,null,null,null,"林野焼損",null,null,null,null,"損      害",null,null,null,null,"消 防 自",null,null,null,"その他の",null,null,null," ",null,null,null,null," "]
["業","令",null,null,null,null,null,null,null,null,null,null,null,null,null,null,null,null,null,null,null,null,null,null,null,"  ８  住　　　　　　 　宅",null,null,null,null,null,null,null,null,null,null,null,null,null,"使用料および手数料",null,null,null,{"$f":"データ一覧!S445","v":121515},null,null,null,null,{"$f":"データ一覧!S459","v":122233},null,null,null,null,"商工費",null,null,null,{"$f":"データ一覧!S473","v":777218},null,null,null,null,{"$f":"データ一覧!S487","v":756853},null,null,null,null,{"$f":"+データ一覧!$A$686","v":"5年中"},null,null,null,null,"焼損棟数",null,null,null,null,"面    積",null,null,null,null,"見  積  額",null,null,null,null,"動 車 数",null,null,null,"ﾎﾟﾝﾌﾟ数",null,null,null," 消防吏員",null,null,null," 消防団員"]
["経",{"$f":"+LEFT(データ一覧!$A$213)","v":"2"},"計",null,null,null,{"$f":"データ一覧!S213","v":447},null,null,"総　　　 数",null,null,null,null,{"$f":"データ一覧!S217","v":447},null,null,"総　　　 数",null,null,null,null,{"$f":"データ一覧!S233","v":964},null,null,null,null,null,null,null,null,null,null,null,null,null,null,null,null,"国庫支出金",null,null,null,{"$f":"データ一覧!S446","v":1545995},null,null,null,null,{"$f":"データ一覧!S460","v":1276642},null,null,null,null,"土木費",null,null,null,{"$f":"データ一覧!S474","v":900495},null,null,null,null,{"$f":"データ一覧!S488","v":843755},null,null,null,null,"         件",null,null,null,null,null,"      棟",null,null,null,null,null,null,"  ａ",null,null,null,"  千円",null,null,"        ",null,null,null,null,null,null,null,null,null,"  人",null,null,null,"  人"]
["営","・","個人経営体",null,null,null,{"$f":"データ一覧!S214","v":426},null,null,"販 売 な し",null,null,null,null,{"$f":"データ一覧!S218","v":28},null,null,"0.5 ha 未満",null,null,null,null,{"$f":"データ一覧!S234","v":47},null,null,{"$f":"+データ一覧!$A$321","v":"4年"},null,null,null,null,{"$f":"データ一覧!$A$324","v":"5年"},"中の増減",null,null,null,{"$f":"+データ一覧!$A$324","v":"5年"},null,null,null,"県支出金",null,null,null,{"$f":"データ一覧!S447","v":988423},null,null,null,null,{"$f":"データ一覧!S461","v":1076504},null,null,null,null,"消防費",null,null,null,{"$f":"データ一覧!S475","v":546122},null,null,null,null,{"$f":"データ一覧!S489","v":501393},null,null,null,null,null,{"$f":"データ一覧!S686","v":8},null,null,null,null,{"$f":"データ一覧!S687","v":7},null,null,null,null,{"$f":"データ一覧!S688","v":0},null,null,null,{"$f":"データ一覧!S689","v":11528},null,null,null,null,null,{"$f":"データ一覧!S690","v":24},null,null,null,{"$f":"データ一覧!S691","v":4},null,null,null,{"$f":"データ一覧!S692","v":44},null,null,null,{"$f":"データ一覧!S693","v":326}]
["体",{"$f":"+LEFT(データ一覧!$A$213,1)","v":"2"},"団体経営体",null,null,null,{"$f":"データ一覧!S215","v":21},null,null,"50万円未満",null,null,null,null,{"$f":"データ一覧!S219","v":229},null,null,"0.5 ha ～ 1.0 ha",null,null,null,null,{"$f":"データ一覧!S235","v":122},null,null,null,null,null,null,"建設した住宅",null,null,"消失した住宅",null,null,null,null,null,null,"財産収入",null,null,null,{"$f":"データ一覧!S448","v":82741},null,null,null,null,{"$f":"データ一覧!S462","v":128135},null,null,null,null,"教育費",null,null,null,{"$f":"データ一覧!S476","v":1425968},null,null,null,null,{"$f":"データ一覧!S490","v":1254452},null,null,null,null," ２０  そ　　　の　　　他　"]
["数","・",null,"法人経営",null,null,{"$f":"データ一覧!S216","v":20},null,null,"50～300万円",null,null,null,null,{"$f":"データ一覧!S220","v":152},null,null,"1.0 ha ～ 2.0 ha",null,null,null,null,{"$f":"データ一覧!S236","v":118},null,null,null,null,null,null,null,null,null,null,null,null,null,null,null,null,"繰入金",null,null,null,{"$f":"データ一覧!S449","v":1780717},null,null,null,null,{"$f":"データ一覧!S463","v":1433820},null,null,null,null,"災害復旧費",null,null,null,{"$f":"データ一覧!S477","v":0},null,null,null,null,{"$f":"データ一覧!S491","v":122737}]
["（",{"$f":"+RIGHT(データ一覧!$A$213)","v":"1"},null,null,null,null,null,null,null,"300～500万円",null,null,null,null,{"$f":"データ一覧!S221","v":8},null,null,"2.0 ha ～ 3.0 ha",null,null,null,null,{"$f":"データ一覧!S237","v":57},null,null,null,{"$f":"データ一覧!S321","v":9651},null,"戸",{"$f":"データ一覧!S322","v":76},null,"戸",{"$f":"データ一覧!S323","v":69},null,"戸",null,{"$f":"データ一覧!S324","v":9658},null,"戸","地方債",null,null,null,{"$f":"データ一覧!S450","v":666100},null,null,null,null,{"$f":"データ一覧!S464","v":257200},null,null,null,null,"公債費",null,null,null,{"$f":"データ一覧!S478","v":1424113},null,null,null,null,{"$f":"データ一覧!S492","v":1459044},null,null,null,null,null,null,null,null,null,"越前加賀海岸国定公園（呼鳥門、鳥糞岩、玉川洞窟観音）、越前海岸の水仙畑　上岬の文化的景観"]
["総",null,null,null,null,null,null,null,null,"500～1,000万円",null,null,null,null,{"$f":"データ一覧!S222","v":9},null,null,"3.0 ha ～ 5.0 ha",null,null,null,null,{"$f":"データ一覧!S238","v":37},null,null,null,null,null,null,null,null,null,null,null,null,null,null,null,null,"その他",null,null,null,{"$f":"データ一覧!S451","v":1002408},null,null,null,null,{"$f":"データ一覧!S465","v":1916391},null,null,null,null,"その他",null,null,null,{"$f":"データ一覧!S479","v":10300},null,null,null,null,{"$f":"データ一覧!S493","v":0},null,null,null,null,"　名所・旧跡",null,null,null,null,"（千枚田水仙園、貧谷の滝）、越前二の宮劔神社、越前陶芸村、蝉丸の墓、岩本観音、"]
["数",null,null,null,null,null,null,null,null,"1,000万円以上",null,null,null,null,{"$f":"データ一覧!S223","v":21},null,null,"5.0 ha以上",null,null,null,null,{"$f":"データ一覧!S239","v":583},null,null,null,null,null,null,null,null,null,null,null,null,null,null,null,null,null,null,null,null,null,null,null,null,null,null,null,null,null,null,null,null,null,null,null,null,null,null,null,null,null,null,null,null,"  文化財等",null,null,null,null,"神明ヶ谷須恵器窯跡、古墳公園(朝日山古墳群)、越知山(山岳信仰跡)、梵鐘、大谷寺九重塔、"]
["）",null,"15歳以上の常雇い数",null,null,null,null,null,null,"農業に60日以上従事した世帯員、役員・構成員\n（経営主を含む）の平均年齢",null,null,null,null,null,null,null,null,null,null,null,null,null,null,null,"  ９  議　 員　・　職 　員",null,null,null,null,null,null,null,null,null,null,null,null,null," １４  文　　　化",null,null,null,null,null,null,null," ( ",{"$f":"\"令\"&データ一覧!$A$498","v":"令6.3.31"},null,null,"ただし図書館・公民館・児童館・ 社会教育学級講座",null,null,null,null,null,null,null,null,null,null,null,{"$f":"データ一覧!$A$494","v":"6.4.1"},null,null,null,null,null,null,null,null,"相木家住宅、絹本著色八相涅槃図、木造阿弥陀如来坐像・阿弥陀如来坐像・釈迦如来坐像・"]
["と",null,null,null,null,null,null,null,null,null,null,null,null,null,null,null,null,null,null,null,null,null,null,null,null,null,null,null,null,null,null,null,null,null,null,null,null,null,null,null,null,null,null,null,null,null,null,null,null,null,null,null,"　宗教法人数 ",null,null,null,null,null,null,null,null,null,null,{"$f":"データ一覧!$A$502","v":"5.12.31"},null,null,null,null,null,null,null,null,"菩薩型坐像、木造牛頭天王坐像・女神坐像"]
["就",null,null,null,null,null,null,null,null,"農業に60日以上従事",null,null,null,null,null,null,null,"農業に150日以上従事",null,null,null,null,null,null,null," 市 町 議 会",null,null,"有権者数",null,{"$f":"データ一覧!$A$328","v":"6.9.1"},null,"市 町 議 会",null,null,"  職      員      数",null,null,null,null,null,null,null,null,"図書館",null,null,null,null,null,"公　民　館",null,null,null,null,null,null,null,null,null,null," 社会教育学級講座",null,null,null,null,null,"特産物・特産品",null,null,null,null,"越前がに、越前がれい、へしこ、織田の豆腐、織田きゅうり、しいたけ、宮崎たけのこ、"]
["業",null,"区分",null,null,null,"人",null,null,"区分",null,null,null,null,"歳",null,null,"区　　分",null,null,null,null,"歳",null,null," 議  員  定  数",null,null,"    男",null,"    女",null,"選 挙 投 票 率",null,null," 総     数",null,"一般行政職",null,"公    共",null,null,null," 館  数",null,null," 図書数",null,null," 本  館",null,null," 分  館",null,null," 公  園",null,null," 児童館",null,null,"学級講座数",null,null,"受講者数",null,null,null,null,null,null,null,"雪ん子餅(タンチョウモチ)、越前焼、越前水仙"]
["状",null,"総数",null,null,null,{"$f":"データ一覧!S230","v":9},null,null,"総数",null,null,null,null,{"$f":"データ一覧!S224","v":70.2},null,null,"総数",null,null,null,null,{"$f":"データ一覧!S227","v":70},null,null,null,null,"人",null,"人",null,"人",null,null,"　％",null,"人",null,"人","施 設 数",null,null,null,null,{"$f":"データ一覧!S494","v":4},null,{"$f":"データ一覧!S495","v":215265},null,null,null,{"$f":"データ一覧!S496","v":1},null,{"$f":"データ一覧!S497","v":4},null,null,{"$f":"データ一覧!S498","v":16},null,null,{"$f":"データ一覧!S499","v":5},null,null,{"$f":"データ一覧!S500","v":123},null,null,{"$f":"データ一覧!S501","v":1691},null,null," 　年中行事",null,null,null,null,"<4月>越前陶芸村しだれ桜まつり <5月>越前陶芸まつり、越知山泰澄登山 <7月>越前金刀比羅神社大祭、越知山まつり、玉川観音祭、越前みなと大花火、あさひまつり <8月>O・TA・I・KO響 <9月>越前さかなまつり、糸生ｴｺｷｬﾝﾄﾞﾙ <10月>秋季例大祭（劔神社）、越前秋季陶芸祭・秋季茶会 <11月>越知山泰澄ｳｫｰｸ、万灯会（大谷寺）、越前かにまつり<12月>水仙・ｶﾆﾌｪｱ <3月>、越前かに感謝祭"]
["況",null,"男",null,null,null,{"$f":"データ一覧!S231","v":8},null,null,"男",null,null,null,null,{"$f":"データ一覧!S225","v":69.3},null,null,"男",null,null,null,null,{"$f":"データ一覧!S228","v":69.599999999999994},null,null,null,{"$f":"データ一覧!S325","v":14},null,{"$f":"データ一覧!S328","v":8178},null,{"$f":"データ一覧!S329","v":8710},null,{"$f":"データ一覧!S327","v":74.36},null,null,{"$f":"データ一覧!S330","v":238},null,{"$f":"データ一覧!S331","v":164},null,"宗    教",null,null,null," 仏教系",null,null,"ｷﾘｽﾄ教系",null,null,"神道諸派",null,null,"公会堂・市民会館",null,null,null,null,null," テレビ",null,null,"衛星放送契約数"]
[null,null,"女",null,null,null,{"$f":"データ一覧!S232","v":1},null,null,"女",null,null,null,null,{"$f":"データ一覧!S226","v":72.2},null,null,"女",null,null,null,null,{"$f":"データ一覧!S229","v":71},null,null,null,null,null,null,null,null,null,{"$f":"データ一覧!S326","v":"3.3.7"},null,null,null,null,null,null,"法 人 数",null,null,null,{"$f":"データ一覧!S502","v":80},null,null,{"$f":"データ一覧!S503","v":0},null,null,{"$f":"データ一覧!S504","v":94},null,null,{"$f":"データ一覧!S505","v":2},null,null,null,null,null,"      等",null,null,{"$f":"データ一覧!S506","v":4443}]

{"sheet":"美浜町","index":18,"n_rows":93,"n_cols":103,"rows_kept":93,"cut":false,"hidden":false,"merged":[[90,2,90,5],[90,9,90,13],[90,17,90,21],[91,2,91,5],[91,9,91,13],[91,17,91,21],[92,2,92,5],[92,9,92,13],[92,14,92,16],[92,17,92,21],[66,92,66,96],[83,6,83,8],[83,9,83,13],[83,14,83,16],[84,6,84,8],[84,9,84,13],[84,14,84,16],[84,22,84,24],[85,6,85,8],[85,9,85,13],[85,14,85,16],[85,22,85,24],[81,22,81,24],[86,2,88,8],[86,9,87,24],[88,9,88,16],[88,17,88,24],[89,2,89,5],[89,9,89,13],[89,17,89,21],[79,2,79,5],[79,6,79,8],[82,14,82,16],[17,25,17,27],[18,25,18,27],[41,4,41,6],[26,22,26,24],[26,25,26,26],[26,27,26,28],[72,16,72,18],[72,22,72,24],[66,0,66,6],[72,0,72,6],[66,7,66,9],[68,7,68,9],[68,10,68,12],[57,7,57,9],[65,7,65,9],[56,7,56,9],[55,7,55,9],[62,19,62,21],[64,16,64,18],[55,16,55,18],[29,20,29,21],[40,13,40,15],[34,14,34,16],[47,7,47,9],[47,16,47,18],[47,19,47,21],[30,22,30,24],[31,22,31,24],[42,22,42,24],[40,2,40,3],[54,25,54,32],[30,81,30,84],[30,86,30,90],[31,68,31,72],[31,73,31,76],[31,77,31,80],[31,81,31,84],[35,22,35,24],[35,5,35,7],[35,8,35,10],[35,11,35,13],[35,14,35,16],[35,18,35,19],[35,20,35,21],[40,16,40,18],[40,4,40,6],[30,5,30,7],[30,8,30,10],[30,11,30,13],[32,40,32,46],[31,40,31,46],[30,40,30,46],[38,53,38,56],[38,49,38,51],[30,49,30,51],[34,22,34,24],[35,36,35,37],[34,53,34,56],[35,49,35,51],[34,49,34,51],[57,43,57,46],[19,73,19,76],[23,68,23,72],[23,73,23,76],[24,68,24,72],[26,68,26,72],[20,73,20,76],[20,77,20,80],[20,81,20,84],[20,86,20,90],[21,73,21,76],[21,77,21,80],[21,81,21,84],[21,86,21,90],[24,77,24,80],[24,81,24,84],[24,86,24,90],[25,73,25,76],[25,77,25,80],[25,81,25,84],[25,86,25,90],[26,73,26,76],[26,77,26,80],[26,81,26,84],[26,86,26,90],[28,81,28,84],[28,86,28,90],[29,73,29,76],[29,77,29,80],[29,81,29,84],[29,86,29,90],[22,68,22,72],[62,29,62,30],[60,29,60,30],[55,25,55,30],[55,31,55,34],[61,29,61,30],[55,22,55,24],[55,35,55,38],[53,25,53,27],[53,29,53,31],[53,33,53,34],[40,36,40,37],[36,29,36,30],[36,36,36,37],[51,25,51,28],[50,33,50,38],[47,22,47,24],[48,22,48,24],[44,19,44,24],[42,19,42,21],[44,32,44,35],[57,31,57,33],[41,36,41,37],[51,36,51,38],[51,29,51,32],[56,19,56,21],[81,67,82,102],[70,32,70,33],[75,35,75,37],[70,48,70,52],[71,62,71,66],[72,53,72,56],[71,53,71,56],[73,62,73,66],[51,33,51,35],[28,91,28,94],[28,99,28,102],[76,29,76,30],[48,10,48,12],[71,57,71,61],[71,43,71,47],[71,0,71,6],[69,35,69,37],[50,25,50,28],[62,0,62,6],[61,59,61,62],[65,0,65,6],[60,0,60,6],[79,9,79,13],[79,14,79,16],[79,17,79,21],[79,22,79,24],[80,6,80,8],[80,9,80,13],[80,14,80,16],[80,17,80,21],[80,22,80,24],[30,95,30,98],[27,99,27,102],[20,91,20,94],[21,99,21,102],[26,99,26,102],[24,95,24,98],[25,95,25,98],[21,95,21,98],[29,91,29,94],[29,95,29,98],[29,99,29,102],[26,91,26,94],[25,91,25,94],[27,95,27,98],[27,91,27,94],[22,99,22,102],[26,95,26,98],[40,29,40,30],[28,95,28,98],[24,33,24,34],[27,77,27,80],[20,35,20,38],[22,35,22,38],[20,60,20,64],[22,29,22,31],[22,32,22,34],[23,29,23,31],[23,32,23,34],[25,31,26,32],[29,53,29,56],[25,99,25,102],[24,99,24,102],[25,40,25,46],[66,10,66,12],[57,10,57,12],[58,13,58,15],[59,22,59,24],[69,0,69,6],[71,22,71,24],[65,57,65,63],[66,39,66,66],[20,11,20,13],[20,16,20,18],[20,21,20,23],[69,19,69,21],[66,19,66,21],[61,16,61,18],[61,22,61,24],[63,16,63,18],[23,53,23,56],[23,60,23,64],[24,37,24,38],[24,29,24,30],[24,31,24,32],[24,35,24,36],[25,29,26,30],[25,37,26,38],[20,32,20,34],[22,40,22,46],[22,49,22,51],[22,53,22,56],[22,60,22,64],[21,49,21,51],[25,35,26,36],[21,25,21,28],[20,95,20,98],[20,99,20,102],[20,25,20,28],[19,81,19,84],[17,91,17,94],[70,43,70,47],[21,53,21,56],[21,60,21,64],[20,40,20,46],[20,49,20,51],[20,53,20,56],[21,32,21,34],[21,91,21,94],[21,35,21,38],[22,95,22,98],[23,91,23,94],[23,95,23,98],[22,77,22,80],[22,81,22,84],[22,86,22,90],[23,77,23,80],[61,36,61,37],[68,32,68,33],[70,62,70,66],[24,73,24,76],[23,99,23,102],[21,29,21,31],[23,35,23,38],[23,81,23,84],[23,86,23,90],[23,40,23,46],[23,49,23,51],[17,73,17,76],[0,0,0,9],[1,0,3,9],[5,0,5,9],[14,25,15,25],[19,3,19,5],[29,5,29,7],[31,5,31,7],[31,8,31,10],[29,8,29,10],[41,16,41,18],[42,13,42,15],[47,13,47,15],[56,0,56,6],[56,16,56,18],[22,7,22,8],[42,4,42,6],[42,7,42,9],[44,0,45,1],[42,16,42,18],[22,25,22,28],[18,28,18,30],[19,25,19,28],[19,29,19,31],[20,29,20,31],[23,11,23,13],[23,16,23,18],[23,21,23,23],[23,25,23,28],[24,27,24,28],[25,25,25,26],[25,27,25,28],[26,60,26,64],[16,32,16,33],[16,36,16,37],[17,82,17,83],[17,100,17,101],[19,40,19,46],[19,49,19,51],[19,53,19,56],[19,60,19,64],[19,91,19,94],[19,95,19,98],[14,26,15,28],[15,29,15,30],[14,0,15,24],[16,74,16,95],[17,59,17,65],[6,0,8,9],[17,40,17,46],[17,48,17,52],[17,53,17,57],[15,32,15,33],[19,32,19,34],[15,35,15,37],[19,99,19,102],[17,86,17,89],[19,77,19,80],[19,35,19,38],[17,32,17,34],[17,36,17,38],[18,31,18,34],[18,35,18,38],[17,68,17,71],[25,60,25,64],[29,22,29,24],[38,40,38,46],[32,49,32,51],[36,40,36,46],[33,40,33,46],[34,18,34,19],[31,49,31,51],[31,53,31,56],[24,91,24,94],[27,60,27,64],[26,40,26,46],[26,49,26,51],[26,53,26,56],[24,40,24,46],[24,49,24,51],[24,0,25,24],[24,53,24,56],[24,60,24,64],[27,33,27,34],[27,37,27,38],[27,25,27,26],[27,27,27,28],[27,29,27,30],[27,35,27,36],[25,49,25,51],[25,53,25,56],[27,0,27,4],[27,5,27,7],[27,22,27,24],[27,31,27,32],[27,73,27,76],[28,60,28,64],[27,40,27,46],[34,36,34,37],[29,40,29,46],[28,49,28,51],[27,49,27,51],[27,53,27,56],[41,19,41,21],[30,14,30,16],[32,53,32,56],[31,14,31,16],[41,22,41,24],[28,40,28,46],[27,68,27,72],[31,60,31,64],[39,49,39,51],[33,67,34,80],[34,60,34,64],[35,60,35,64],[40,53,40,56],[21,40,21,46],[25,33,26,34],[44,25,44,28],[44,29,44,30],[39,53,39,56],[27,81,27,84],[27,86,27,90],[28,68,28,72],[29,18,29,19],[28,53,28,56],[40,22,40,24],[40,19,40,21],[29,60,29,64],[29,49,29,51],[29,11,29,13],[29,14,29,16],[42,10,42,12],[40,10,40,12],[34,8,34,10],[34,11,34,13],[41,10,41,12],[41,13,41,15],[40,60,40,64],[41,60,41,64],[42,79,42,82],[42,60,42,64],[34,20,34,21],[31,11,31,13],[35,29,35,30],[30,18,30,19],[30,20,30,21],[22,73,22,76],[46,0,46,1],[47,0,47,1],[48,16,48,18],[48,19,48,21],[48,13,48,15],[48,0,48,1],[32,5,32,7],[32,8,32,10],[32,11,32,13],[32,14,32,16],[32,18,32,19],[32,20,32,21],[32,22,32,24],[34,40,34,46],[45,25,45,28],[45,29,45,30],[46,25,46,28],[46,29,46,30],[45,32,45,35],[46,32,46,35],[45,36,45,37],[39,40,39,46],[34,29,34,30],[44,36,44,37],[42,32,42,35],[41,7,41,9],[47,10,47,12],[40,7,40,9],[42,36,42,37],[48,7,48,9],[39,97,39,100],[40,97,40,100],[41,97,41,100],[32,99,32,102],[32,95,32,98],[32,91,32,94],[33,83,34,96],[33,53,33,56],[33,60,33,64],[35,68,35,72],[32,73,32,76],[36,79,36,82],[38,60,38,64],[38,75,38,77],[38,79,38,82],[38,67,38,73],[36,85,36,91],[32,60,32,64],[38,97,38,100],[35,80,35,83],[35,86,35,90],[36,97,36,100],[36,75,36,77],[30,99,30,102],[35,75,35,77],[33,5,33,7],[33,8,33,10],[33,11,33,13],[33,14,33,16],[37,67,37,73],[37,49,37,51],[35,53,35,56],[35,40,35,46],[34,5,34,7],[37,40,37,46],[33,18,33,19],[33,20,33,21],[33,22,33,24],[37,60,37,64],[36,49,36,51],[36,53,36,56],[36,60,36,64],[33,49,33,51],[30,60,30,64],[31,91,31,94],[31,95,31,98],[31,99,31,102],[35,93,35,95],[30,91,30,94],[31,18,31,19],[31,20,31,21],[30,53,30,56],[30,68,30,72],[30,73,30,76],[30,77,30,80],[55,87,55,90],[53,68,53,75],[53,77,53,79],[55,91,55,94],[53,91,53,94],[52,99,52,102],[54,99,54,102],[55,68,55,75],[43,53,43,56],[43,60,43,64],[43,67,44,82],[43,83,44,102],[47,99,47,102],[55,63,55,65],[48,95,48,98],[40,40,40,46],[42,85,42,91],[48,99,48,102],[49,46,49,49],[48,77,48,79],[52,68,52,75],[52,77,52,79],[42,67,42,73],[45,92,45,101],[45,84,45,89],[46,99,46,102],[47,68,47,75],[47,77,47,79],[47,80,47,82],[48,68,48,75],[48,80,48,82],[50,68,50,75],[69,13,69,15],[69,16,69,18],[60,19,60,21],[71,35,71,37],[58,39,58,42],[63,89,63,91],[65,73,65,76],[65,22,65,24],[57,67,58,102],[63,74,63,76],[65,39,65,42],[61,63,61,66],[57,35,57,37],[61,68,61,71],[62,93,62,95],[62,68,62,71],[71,29,71,30],[57,61,57,63],[62,99,62,101],[63,22,63,24],[62,87,62,89],[62,81,62,83],[62,75,62,77],[67,13,67,15],[67,16,67,18],[67,19,67,21],[70,13,70,15],[70,16,70,18],[67,48,67,52],[67,53,67,56],[68,82,68,84],[68,85,68,87],[56,99,56,102],[56,68,56,75],[56,77,56,79],[56,80,56,82],[56,83,56,86],[72,57,72,61],[72,48,72,52],[72,13,72,15],[72,43,72,47],[70,19,70,21],[72,25,72,28],[72,29,72,30],[71,39,71,42],[68,25,68,28],[69,25,69,28],[59,59,59,62],[60,85,60,90],[60,91,60,96],[60,36,60,37],[57,22,57,24],[58,22,58,24],[60,22,60,24],[58,52,58,54],[57,47,57,50],[57,51,57,54],[71,19,71,21],[71,48,71,52],[65,93,65,96],[56,95,56,98],[68,94,68,96],[67,97,67,102],[70,100,70,102],[80,100,80,102],[78,99,78,102],[80,92,80,94],[80,96,80,98],[78,91,78,94],[77,82,77,86],[77,87,77,90],[77,77,77,81],[73,43,73,47],[73,39,73,42],[75,57,75,61],[70,97,70,99],[80,78,80,80],[80,82,80,86],[78,82,78,86],[78,87,78,90],[80,68,80,70],[80,73,80,75],[80,88,80,90],[79,39,79,42],[78,67,78,71],[79,97,79,98],[78,72,78,76],[78,77,78,81],[77,43,77,47],[77,48,77,52],[77,53,77,56],[70,94,70,96],[74,68,74,74],[72,62,72,66],[74,57,74,61],[74,62,74,66],[79,101,79,102],[74,87,74,91],[68,48,68,52],[68,53,68,56],[68,57,68,61],[68,62,68,66],[75,43,75,47],[75,62,75,66],[76,62,76,66],[76,87,76,90],[76,69,76,72],[76,57,76,61],[72,39,72,42],[70,79,70,81],[76,43,76,47],[76,48,76,52],[73,48,73,52],[73,53,73,56],[75,53,75,56],[68,91,68,93],[68,88,68,90],[70,57,70,61],[70,53,70,56],[70,85,70,87],[67,67,70,71],[68,72,68,75],[68,76,68,78],[68,79,68,81],[70,83,70,84],[67,82,67,84],[67,79,67,81],[75,48,75,52],[78,95,78,98],[77,57,77,61],[77,62,77,66],[78,62,78,66],[71,83,72,102],[67,57,67,61],[67,62,67,66],[73,77,73,83],[73,86,73,92],[73,95,73,101],[74,77,74,83],[76,96,76,99],[74,96,74,100],[76,78,76,81],[70,88,70,90],[76,53,76,56],[70,91,70,93],[73,57,73,61],[70,72,70,75],[70,77,70,78],[71,67,72,82],[77,91,77,94],[67,88,67,90],[68,16,68,18],[63,19,63,21],[67,39,67,42],[67,22,67,24],[68,35,68,37],[72,19,72,21],[72,35,72,37],[71,32,71,33],[68,19,68,21],[66,16,66,18],[66,35,66,38],[71,16,71,18],[63,99,63,101],[64,19,64,21],[64,22,64,24],[63,84,63,86],[66,76,66,90],[68,100,68,102],[66,29,66,31],[68,22,68,24],[68,29,68,30],[70,25,70,28],[70,35,70,37],[67,43,67,47],[69,32,69,33],[71,25,71,28],[57,16,57,18],[66,22,66,24],[57,58,57,60],[59,19,59,21],[58,19,58,21],[57,19,57,21],[70,22,70,24],[61,39,61,42],[60,97,60,102],[60,59,60,62],[60,63,60,66],[65,53,65,56],[90,50,90,51],[91,46,91,48],[91,49,91,51],[70,39,70,42],[69,29,69,30],[70,29,70,30],[83,26,83,27],[83,32,83,33],[77,39,77,42],[75,39,75,42],[72,32,72,33],[83,39,83,42],[74,29,74,30],[82,53,82,56],[82,48,82,52],[84,48,84,52],[84,53,84,56],[83,53,83,56],[84,39,84,42],[84,43,84,47],[82,43,82,47],[83,43,83,47],[90,52,90,54],[81,53,81,56],[78,53,78,56],[69,39,69,66],[78,57,78,61],[80,57,80,61],[80,62,80,66],[78,39,78,42],[78,43,78,47],[78,48,78,52],[92,52,92,57],[92,61,92,66],[92,39,92,42],[92,43,92,45],[92,46,92,48],[92,49,92,51],[79,48,79,52],[79,53,79,56],[79,57,79,61],[79,62,79,66],[82,39,82,42],[80,43,80,47],[80,48,80,52],[80,53,80,56],[81,48,81,52],[74,43,74,47],[74,53,74,56],[73,22,73,24],[73,29,73,30],[74,0,75,24],[73,25,73,28],[80,25,81,28],[91,26,91,27],[91,28,91,29],[91,30,91,31],[91,32,91,34],[91,52,91,57],[91,43,91,45],[89,39,89,42],[83,36,83,37],[89,32,89,34],[84,57,84,61],[91,61,91,66],[90,46,90,48],[90,64,90,66],[90,61,90,63],[89,61,89,63],[88,44,88,47],[84,62,84,66],[88,61,88,66],[88,50,88,53],[91,35,91,36],[91,37,91,38],[91,39,91,42],[90,58,90,60],[90,55,90,57],[88,32,88,34],[83,48,83,52],[90,39,90,42],[74,35,74,37],[74,39,74,42],[74,32,74,33],[74,48,74,52],[76,2,76,8],[76,9,76,16],[76,17,76,24],[77,2,78,5],[77,6,78,8],[77,9,78,13],[77,14,78,16],[77,17,78,21],[77,22,78,24],[81,6,81,8],[81,9,81,13],[81,14,81,16],[81,39,81,42],[81,43,81,47],[76,39,76,42],[79,43,79,47],[56,10,56,12],[57,13,57,15],[55,13,55,15],[63,7,63,9],[59,16,59,18],[58,16,58,18],[60,16,60,18],[66,13,66,15],[70,0,70,6],[68,0,68,6],[67,0,67,6],[63,0,63,6],[64,0,64,6],[55,0,55,6],[61,19,61,21],[56,13,56,15],[62,10,62,12],[60,10,60,12],[59,10,59,12],[69,10,69,12],[58,10,58,12],[69,7,69,9],[70,10,70,12],[70,7,70,9],[67,10,67,12],[58,0,58,6],[57,0,57,6],[60,13,60,15],[59,13,59,15],[61,0,61,6],[65,19,65,21],[68,13,68,15],[61,80,61,83],[65,98,65,101],[56,87,56,90],[56,91,56,94],[65,78,65,81],[64,68,64,71],[65,68,65,71],[63,94,63,96],[65,83,65,86],[65,88,65,91],[46,36,46,37],[67,7,67,9],[69,22,69,24],[62,22,62,24],[56,22,56,24],[65,10,65,12],[64,10,64,12],[65,43,65,49],[61,13,61,15],[61,10,61,12],[68,39,68,42],[68,43,68,47],[56,39,56,42],[57,39,57,42],[60,39,60,42],[57,25,57,29],[47,83,47,86],[47,87,47,90],[61,53,61,56],[61,7,61,9],[62,7,62,9],[66,32,66,34],[55,10,55,12],[55,19,55,21],[55,77,55,79],[55,80,55,82],[55,83,55,86],[55,99,55,102],[54,77,54,79],[54,83,54,86],[54,87,54,90],[54,91,54,94],[52,95,52,98],[53,80,53,82],[54,95,54,98],[53,99,53,102],[53,83,53,86],[51,83,51,86],[43,49,43,51],[48,62,48,65],[50,0,51,10],[50,11,51,24],[55,95,55,98],[53,87,53,90],[53,95,53,98],[54,68,54,75],[54,80,54,82],[49,95,49,98],[49,83,49,86],[52,80,52,82],[50,83,50,86],[51,77,51,79],[49,39,49,45],[50,47,50,49],[14,67,15,81],[14,82,15,95],[39,93,39,95],[38,93,38,95],[52,87,52,90],[52,91,52,94],[40,93,40,95],[50,80,50,82],[51,68,51,75],[49,80,49,82],[35,98,35,101],[36,67,36,73],[48,87,48,90],[48,91,48,94],[50,91,50,94],[50,87,50,90],[49,87,49,90],[51,91,51,94],[49,99,49,102],[50,99,50,102],[45,77,45,82],[50,77,50,79],[49,77,49,79],[49,68,49,75],[36,93,36,95],[37,75,37,77],[37,79,37,82],[37,85,37,91],[37,97,37,100],[37,93,37,95],[38,85,38,91],[39,85,39,91],[48,83,48,86],[41,40,41,46],[42,40,42,46],[40,49,40,51],[41,49,41,51],[42,49,42,51],[51,95,51,98],[50,95,50,98],[50,59,50,61],[50,63,50,66],[45,57,45,61],[41,93,41,95],[48,50,48,53],[48,56,48,59],[43,40,43,46],[42,97,42,100],[46,69,46,74],[46,95,46,98],[42,93,42,95],[42,75,42,77],[42,53,42,56],[22,91,22,94],[41,29,41,30],[41,32,41,35],[40,32,40,35],[28,73,28,76],[28,77,28,80],[32,68,32,72],[54,55,54,58],[55,59,55,62],[32,77,32,80],[32,81,32,84],[56,48,56,53],[54,59,54,66],[51,80,51,82],[55,43,55,45],[55,55,55,57],[39,60,39,64],[39,67,39,73]],"merged_total":1110,"flags":["merged_cut"]}
[{"$f":"+データ一覧!T2","v":"みかたぐん"}]
[{"$f":"+データ一覧!T5","v":"三方郡"},null,null,null,null,null,null,null,null,null,null,null,null,null,null,null,null,null,null,null,null,null,null,null,null,null,null,null,null,null,null,null,null,null,null,null,null,null,null,0]
[null,null,null,null,null,null,null,null,null,null,null,null,null,null,null,null,null,null,null,null,null,null,null,null,null,null,null,null,null,null,null,null,null,null,null,null,null,null,null,0]
[null,null,null,null,null,null,null,null,null,null,null,null,null,null,null,null,null,null,null,null,null,null,null,null,null,null,null,"【町章とそのいわれ】町名「ミハマ」をカタカナで表現し、本町の",null,null,null,null,null,null,null,null,null,null,null,"【位置および地勢】美浜町は福井県の南西部に位置し、東は敦賀市、西は若狭町、",null,null,null,null,null,null,null,null,null,null,null,null,null,null,null,null,null,null,null,null,null,null,null,null,null,null,null,null,null,null,"所在地",null,null,null,null,null,null,null,"〒919-1192"]
[null,null,null,null,null,null,null,null,null,null,null,null,null,null,null,null,null,null,null,null,null,null,null,null,null,null,null,"                  豊かな海岸線を図案化したものである。構図は",null,null,null,null,null,null,null,null,null,null,null,"　南は滋賀県に接し、北は日本海に面する。 中央部には、源を滋賀県境に発する",null,null,null,null,null,null,null,null,null,null,null,null,null,null,null,null,null,null,null,null,null,null,null,null,null,null,null,null,null,null,null,null,null,null,null,null,null,null,"三方郡美浜町郷市第２５号２５番地"]
[{"$f":"+データ一覧!T3","v":"みはまちょう"},null,null,null,null,null,null,null,null,null,null,null,null,null,null,null,null,null,null,null,null,null,null,null,null,null,null,"                  円からなり、美浜町の円満な将来への発展を",null,null,null,null,null,null,null,null,null,null,null,"  延長約12㎞の耳川が縦貫し、日本海へ注ぐ。交通ではＪＲ小浜線並びに国道27号が"]
[{"$f":"データ一覧!T6","v":"美浜町"},null,null,null,null,null,null,null,null,null,null,null,null,null,null,null,null,null,null,null,null,null,null,null,null,null,null,"                  意味する。",null,null,null,null,null,null,null,null,null,null,null,"  横断し、産業経済の動脈となっている。",null,null,null,null,null,null,null,null,null,null,null,null,null,null,null,null,null,null,null,null,null,null,null,null,null,null,null,null,null,null,"電話番号",null,null,null,null,null,null,null," （０７７０）３２－１１１１"]
[null,null,null,null,null,null,null,null,null,null,null,null,null,null,null,null,null,null,null,null,null,null,null,null,null,null,null,0,null,null,null,null,null,null,null,null,null,null,null,"　また、南に標高900ｍ前後の山地を控え、北は若狭湾国定公園である若狭湾に接し、",null,null,null,null,null,null,null,null,null,null,null,null,null,null,null,null,null,null,null,null,null,null,null,null,null,null,null,null,null,null,"FAX番号",null,null,null,null,null,null,null,"      〃     ３２－１１１５"]
[null,null,null,null,null,null,null,null,null,null,null,null,null,null,null,null,null,null,null,null,null,null,null,null,null,null,null,0,null,null,null,null,null,null,null,null,null,null,null,"　東の敦賀半島には日本の水浴場八十八選にも選ばれた水晶浜、西は名勝三方五湖"]
[null,null,null,null,null,null,null,null,null,null,null,null,null,null,null,null,null,null,null,null,null,null,null,null,null,null,null,0,null,null,null,null,null,null,null,null,null,null,null,"　で知られる久々子湖、日向湖があり、海・山・川・湖の変化に富んだ自然景観に恵まれている。",null,null,null,null,null,null,null,null,null,null,null,null,null,null,null,null,null,null,null,null,null,null,null,null,null,null,null,null,null,null,"最寄駅および距離",null,null,null,null,null,null,null,"ＪＲ小浜線美浜駅  下車５５０ｍ"]
[null,null,null,null,null,null,null,null,null,null,null,null,null,null,null,null,null,null,null,null,null,null,null,null,null,null,null,0,null,null,null,null,null,null,null,null,null,null,null,0]
[]
[null,null,null,null,null,null,null,null,null,null,null,null,null,null,null,null,null,null,null,null,null,null,null,null,null,null,null,"【町が掲げる標語】おいしい自然　ハートフル美浜",null,null,null,null,null,null,null,null,null,null,null,null,null,null,null,null,null,null,null,null,null,null,null,null,null,null,null,null,null,null,null,null,null,null,null,null,null,null,null,null,null,null,"ホームページ",null,null,null,null,null,null,null,"https://www.town.fukui-mihama.lg.jp/"]
[]
["  １  土            　　地",null,null,null,null,null,null,null,null,null,null,null,null,null,null,null,null,null,null,null,null,null,null,null,null,{"$f":"データ一覧!$A$240","v":"5年"},"産米収穫量",null,null,"　 収　穫　量",null,null," 　作 付 面 積",null,null,"   10a当たり収量",null,null,null,null,null,null,null,null,null,null,null,null,null,null,null,null,null,null,null,null,null,null,null,null,null,null,null,null,null,null,null," １５  労　　　　　　　働",null,null,null,null,null,null,null,null,null,null,null,null,null,null,"2.10.1"]
[null,null,null,null,null,null,null,null,null,null,null,null,null,null,null,null,null,null,null,null,null,null,null,null,null,null,null,null,null,{"$f":"データ一覧!$T$240","v":2020},null,"t",{"$f":"データ一覧!$T$241","v":426},null,"ha",{"$f":"データ一覧!T242","v":474},null,null,"kg"," １０  工　　　　　　業 ",null,null,null,null,null,null,null,null,null,null,null,null,null,{"$f":"データ一覧!$A$332","v":"4.6.1（令和3年実績）"}]
["   総          面           積",null,null,null,null,null,null,null,null,null," 固 定 資 産 概 要 調 書 に よ る 地 目 別 面 積",null,null,null,null,null,null,null,null,null,null,null,null,null,null,null,null,null,"   総　　　数",null,null,null,"うち　　田",null,null,null,"うち　　畑",null,null,null,null,null,null,null,null,null,null,null,null,null,null,null,null,null,null,null,null,null,null,null,null,null,null,null,null,null,null,null,null,null,null,null,null,null,"産業別就業者数   "]
[null,null,{"$f":"データ一覧!$A$7","v":"6.10.1"},null,null,null,null,null,null,null,null,null,null,null,null,null,{"$f":"データ一覧!$A$9","v":"6.1.1"},null,null,null,null,null,null,null,null," 耕  地  面  積",null,null,null,"       ha",null,null,"ha ",null,null,null,"ha ",null,null,"      ","産業分類",null,null,null,null,null,null,null,"事業所数",null,null,null,null,"従業者数",null,null,null,null,null,"年間製造品出荷額等",null,null,null,null,null,null,null,null,"区  分",null,null,null,null,"総    数",null,null,null,null,"男",null,null,null,"女",null,null,"  ","区  分",null,null,null,null,"総    数",null,null,null,null,"男",null,null,null,"女"]
[null,null,null,null,null,null,"㎢",null,null,null,"   総       数",null,null,null,null,"  う ち     田",null,null,null,null,"  う ち     畑",null,null,null,null,{"$f":"データ一覧!A243","v":"5.7.15"},null,null,{"$f":"データ一覧!$T$243","v":821},null,null,{"$f":"データ一覧!$T$244","v":760},null,null,null,{"$f":"データ一覧!$T$245","v":61},null,null,null,null,null,null,null,null,null,null,null,null,"　　   ",null,null,"事業所",null,"　　　　　　　 人",null,null,"人",null,"　　　　　　　　　　　　　　万円",null,null,null,null,null,null,"万円",null,null,null,null,null,null,null,"      人",null,null,null,null,null," 人",null,null,null," 人",null,null,null,null,null,null,null,"      人",null,null,null,"      人",null,null,null,"      人"]
[null,null,null,{"$f":"データ一覧!T7","v":152.38},null,null,null,null,null,null,null,null,null,null,"ha",null,null,null,null,"ha",null,null,null,null,"ha","農 業 生 産 物",null,null,null,"作 付 面 積",null,null,"収 穫 量",null,null,"10a当たり収量",null,null,null,"     ","総数",null,null,null,null,null,null,null,null,{"$f":"データ一覧!T332","v":14},null,null,null,{"$f":"+データ一覧!T357","v":253},null,null,null,null,null,null,{"$f":"データ一覧!T382","v":541738},null,null,null,null,null,null," 総　　　数",null,null,null,null,null,{"$f":"BZ20+CD20","v":4921},null,null,null,{"$f":"データ一覧!T507","v":2888},null,null,null,{"$f":"データ一覧!T532","v":2033}]
[null,null,null,null,null,null,null,null,null,null,null,{"$f":"データ一覧!T9","v":15235},null,null,null,null,{"$f":"データ一覧!T10","v":918.8},null,null,null,null,{"$f":"データ一覧!T11","v":123.6},null,null,null,{"$f":"データ一覧!$A$246","v":"5年産"},null,null,null,"ha",null,null,"t",null,null,"kg",null,null,null,"     食料品","食料品",null,null,null,null,null,null,null,null,{"$f":"データ一覧!T333","v":1},null,null,null,{"$f":"+データ一覧!T358","v":4},null,null,null,null,null,null,{"$f":"データ一覧!T383","v":"x"},null,null,null,null,null,null,null,null,null,null,null,null,null,null,null,null,null,null,null,null,null,null,null,null,null,"卸売業,小売業",null,null,null,null,{"$f":"CR21+CV21","v":537},null,null,null,{"$f":"データ一覧!T520","v":241},null,null,null,{"$f":"データ一覧!T545","v":296}]
["  町 ･ 丁 ･ 大 字",null,null,null,null,null,null,null,null,null,"  う ち  宅 地",null,null,null,null,"  う ち  山 林",null,null,null,null,"  う ち  原 野",null,null,null,null,"水　　　　　稲",null,null,null,{"$f":"データ一覧!T246","v":426},null,null,{"$f":"データ一覧!T247","v":2020},null,null,{"$f":"データ一覧!T248","v":474},null,null,null,"     飲料・飼料","飲料・飼料",null,null,null,null,null,null,null,null,{"$f":"データ一覧!T334","v":1},null,null,null,{"$f":"+データ一覧!T359","v":13},null,null,null,null,null,null,{"$f":"データ一覧!T384","v":"x"},null,null,null,null,null,null," 第１次産業",null,null,null,null,null,{"$f":"BZ22+CD22","v":326},null,null,null,{"$f":"データ一覧!T508","v":223},null,null,null,{"$f":"データ一覧!T533","v":103},null,null,null,null,"金融業,保険業",null,null,null,null,{"$f":"CR22+CV22","v":62},null,null,null,{"$f":"データ一覧!T521","v":18},null,null,null,{"$f":"データ一覧!T546","v":44}]
["  区    画    数",null,null,null,null,null,null,{"$f":"データ一覧!T8","v":31},null,null,null,null,null,null,"ha",null,null,null,null,"ha",null,null,null,null,"ha","六　条　大　麦",null,null,null,{"$f":"データ一覧!T249","v":40},null,null,{"$f":"データ一覧!T250","v":65},null,null,{"$f":"データ一覧!T251","v":162},null,null,null,"     繊維","繊維",null,null,null,null,null,null,null,null,{"$f":"データ一覧!T335","v":1},null,null,null,{"$f":"+データ一覧!T360","v":7},null,null,null,null,null,null,{"$f":"データ一覧!T385","v":"x"},null,null,null,null,null,null,"  ","農業",null,null,null,null,{"$f":"BZ23+CD23","v":234},null,null,null,{"$f":"データ一覧!T509","v":141},null,null,null,{"$f":"データ一覧!T534","v":93},null,null,null,"  ","不動産業",null,null,null,null,31,null,null,null,{"$f":"データ一覧!T522","v":15},null,null,null,{"$f":"データ一覧!T547","v":16}]
[{"$f":"データ一覧!$A$8","v":"5.4.1"},null,null,null,null,null,null,null,null,null,null,{"$f":"データ一覧!T12","v":284.89999999999998},null,null,null,null,{"$f":"データ一覧!T13","v":4178.1000000000004},null,null,null,null,{"$f":"データ一覧!T14","v":86},null,null,null,"大　　      豆",null,null,null,{"$f":"データ一覧!T252","v":4},null,null,{"$f":"データ一覧!T253","v":3},null,null,{"$f":"データ一覧!T254","v":73},null,null,null,"     衣服","木材",null,null,null,null,null,null,null,null,{"$f":"データ一覧!T336","v":0},null,null,null,{"$f":"+データ一覧!T361","v":0},null,null,null,null,null,null,{"$f":"データ一覧!T386","v":0},null,null,null,null,null,null,"  ","林業",null,null,null,null,6,null,null,null,{"$f":"データ一覧!T510","v":5},null,null,null,{"$f":"データ一覧!T535","v":1},null,null,null,"  ","学術研究",null,null,null,null,143,null,null,null,{"$f":"データ一覧!T523","v":111},null,null,null,{"$f":"データ一覧!T548","v":32}]
["  ２  世　帯　数　と　人　口",null,null,null,null,null,null,null,null,null,null,null,null,null,null,null,null,null,null,null,null,null,null,null,null,null,null,"  区　分",null," 乳 用 牛",null," 肉 用 牛",null,"豚",null,"採卵鶏",null,"ブロイラー",null,"     木材","家具",null,null,null,null,null,null,null,null,{"$f":"データ一覧!T337","v":2},null,null,null,{"$f":"+データ一覧!T362","v":31},null,null,null,null,null,null,{"$f":"データ一覧!T387","v":"x"},null,null,null,null,null,null,"  ","漁業",null,null,null,null,86,null,null,null,{"$f":"データ一覧!T511","v":77},null,null,null,{"$f":"データ一覧!T536","v":9},null,null,null,"  ","宿泊業,飲食ｻｰﾋﾞｽ",null,null,null,null,299,null,null,null,{"$f":"データ一覧!T524","v":84},null,null,null,{"$f":"データ一覧!T549","v":215}]
[null,null,null,null,null,null,null,null,null,null,null,null,null,null,null,null,null,null,null,null,null,null,null,null,null,"畜　産",null," 飼養農家",null,{"$f":"データ一覧!$T$255","v":1},null,{"$f":"データ一覧!$T$257","v":3},null,{"$f":"データ一覧!$T$259","v":0},null,{"$f":"データ一覧!$T$261","v":0},null,{"$f":"データ一覧!$T$263","v":0},null,"     家具","パルプ・紙",null,null,null,null,null,null,null,null,{"$f":"データ一覧!T338","v":0},null,null,null,{"$f":"+データ一覧!T363","v":0},null,null,null,null,null,null,{"$f":"データ一覧!T388","v":0},null,null,null,null,null,null," 第２次産業",null,null,null,null,null,1050,null,null,null,{"$f":"データ一覧!T512","v":737},null,null,null,{"$f":"データ一覧!T537","v":313},null,null,null,"  ","生活関連ｻｰﾋﾞｽ業",null,null,null,null,131,null,null,null,{"$f":"データ一覧!T525","v":56},null,null,null,{"$f":"データ一覧!T550","v":75}]
[null,null,null,null,null,null,null,null,"        人　　　　　　　　　　口",null,null,null,null,null,null,null,null,null,null,null,"１世帯当",null,"人    口",null,null,{"$f":"データ一覧!$A$255","v":"6.3.31"},null,"（戸）",null,null,null,null,null,null,null,null,null,null,null,"     パルプ・紙","印刷",null,null,null,null,null,null,null,null,{"$f":"データ一覧!T339","v":0},null,null,null,{"$f":"+データ一覧!T364","v":0},null,null,null,null,null,null,{"$f":"データ一覧!T389","v":0},null,null,null,null,null,null,null,"鉱業，採石業",null,null,null,null,0,null,null,null,0,null,null,null,0,null,null,null,"  ","教育,学習支援業",null,null,null,null,215,null,null,null,{"$f":"データ一覧!T526","v":85},null,null,null,{"$f":"データ一覧!T551","v":130}]
[" 区　　　　分",null,null,null,null,"世帯数",null,null," 総   数",null,null,"    男",null,null,"    女",null,null,"  男／女",null,null,"たり人員",null,"密    度",null,null,null,null," 頭 羽",null,{"$f":"データ一覧!$T$256","v":62},null,{"$f":"データ一覧!$T$258","v":122},null,{"$f":"データ一覧!$T$260","v":0},null,{"$f":"データ一覧!$T$262","v":0},null,{"$f":"データ一覧!$T$264","v":0},null,"     出版・印刷","化学",null,null,null,null,null,null,null,null,{"$f":"データ一覧!T340","v":1},null,null,null,{"$f":"+データ一覧!T365","v":4},null,null,null,null,null,null,{"$f":"データ一覧!T390","v":"x"},null,null,null,null,null,null,"  ","建設業",null,null,null,null,544,null,null,null,{"$f":"データ一覧!T514","v":438},null,null,null,{"$f":"データ一覧!T539","v":106},null,null,null,null,"医療，福祉",null,null,null,null,553,null,null,null,{"$f":"データ一覧!T527","v":90},null,null,null,{"$f":"データ一覧!T552","v":463}]
[null,null,null,null,null,"    世 帯",null,null,"       人",null,null,"       人",null,null,"       人",null,null,null,"　　％",null,"    人",null,"    人/㎢",null,null,null,null,null,null,null,null,null,null,null,null,null,null,null,null,"     化学","石油・石炭",null,null,null,null,null,null,null,null,{"$f":"データ一覧!T341","v":0},null,null,null,{"$f":"+データ一覧!T366","v":0},null,null,null,null,null,null,{"$f":"データ一覧!T391","v":0},null,null,null,null,null,null,null,"製造業",null,null,null,null,506,null,null,null,{"$f":"データ一覧!T515","v":299},null,null,null,{"$f":"データ一覧!T540","v":207},null,null,null,null,"複合サービス事業",null,null,null,null,66,null,null,null,{"$f":"データ一覧!T528","v":45},null,null,null,{"$f":"データ一覧!T553","v":21}]
[{"$f":"データ一覧!$A$22","v":" 2.10.1"},null,null,null,null,{"$f":"データ一覧!T22","v":4019},null,null,{"$f":"+L30+O30","v":13222},null,null,{"$f":"データ一覧!T24","v":6672},null,null,{"$f":"データ一覧!T25","v":6550},null,null,null,{"$f":"+L30/O30*100","v":101.86259541984732},null,{"$f":"データ一覧!T27","v":3.29},null,{"$f":"データ一覧!T28","v":86.9},null,null,"  ５  林               業",null,null,null,null,null,null,null,null,null,null,null,null,null,"     石油・石炭","プラスチック",null,null,null,null,null,null,null,null,{"$f":"データ一覧!T342","v":1},null,null,null,{"$f":"+データ一覧!T367","v":38},null,null,null,null,null,null,{"$f":"データ一覧!T392","v":"x"},null,null,null,null,null,null," 第３次産業",null,null,null,null,null,3497,null,null,null,{"$f":"データ一覧!T516","v":1897},null,null,null,{"$f":"データ一覧!T541","v":1600},null,null,null,null,"サービス業",null,null,null,null,447,null,null,null,{"$f":"データ一覧!T529","v":278},null,null,null,{"$f":"データ一覧!T554","v":169}]
[{"$f":"データ一覧!$A$29","v":" 7.10.1"},null,null,null,null,{"$f":"データ一覧!T29","v":3687},null,null,{"$f":"+L31+O31","v":12362},null,null,{"$f":"データ一覧!T31","v":6087},null,null,{"$f":"データ一覧!T32","v":6275},null,null,null,97.003984063745023,null,{"$f":"データ一覧!T34","v":3.35},null,{"$f":"データ一覧!T35","v":81.2},null,null,null,null,null,null,null,null,null,null,null,null,null,null,null,null,"     プラスチック","ゴム",null,null,null,null,null,null,null,null,{"$f":"データ一覧!T343","v":1},null,null,null,{"$f":"+データ一覧!T368","v":4},null,null,null,null,null,null,{"$f":"データ一覧!T393","v":"x"},null,null,null,null,null,null,null,"電気･ｶﾞｽ･水道業",null,null,null,null,623,null,null,null,{"$f":"データ一覧!T517","v":588},null,null,null,{"$f":"データ一覧!T542","v":35},null,null,null,null,"公務",null,null,null,null,200,null,null,null,{"$f":"データ一覧!T530","v":130},null,null,null,{"$f":"データ一覧!T555","v":70}]
[{"$f":"データ一覧!$A$36","v":"12.10.1"},null,null,null,null,{"$f":"データ一覧!T36","v":3713},null,null,{"$f":"+L32+O32","v":11630},null,null,{"$f":"データ一覧!T38","v":5672},null,null,{"$f":"データ一覧!T39","v":5958},null,null,null,95.19973145350788,null,{"$f":"データ一覧!T41","v":3.13},null,{"$f":"データ一覧!T42","v":76.400000000000006},null,null,"    　森　　　林　　　総　　　面　　　積   ",null,null,null,null,null,null,null,{"$f":"データ一覧!$A$265","v":"5.3.31"},null,null,null,null,null,"     ゴム","皮革",null,null,null,null,null,null,null,null,{"$f":"データ一覧!T344","v":1},null,null,null,{"$f":"+データ一覧!T369","v":50},null,null,null,null,null,null,{"$f":"データ一覧!T394","v":"x"},null,null,null,null,null,null,null,"情報通信業",null,null,null,null,{"$f":"BZ32+CD32","v":29},null,null,null,{"$f":"データ一覧!T518","v":20},null,null,null,{"$f":"データ一覧!T543","v":9},null,null,null," 分類不能の産業",null,null,null,null,null,48,null,null,null,{"$f":"データ一覧!T531","v":31},null,null,null,{"$f":"データ一覧!T556","v":17}]
[{"$f":"+データ一覧!$A$43","v":"17.10.1"},null,null,null,null,{"$f":"データ一覧!T43","v":3760},null,null,{"$f":"+L33+O33","v":11023},null,null,{"$f":"データ一覧!T45","v":5364},null,null,{"$f":"データ一覧!T46","v":5659},null,null,null,94.787064852447429,null,{"$f":"データ一覧!T48","v":2.93},null,{"$f":"データ一覧!T49","v":72.400000000000006},null,null,"　　　森　　　　　　　林　　　　　　　の　　　　　　　構　　　　　　　成",null,null,null,null,null,null,null,null,null,null,null,null,null,"     皮革","窯業・土石",null,null,null,null,null,null,null,null,{"$f":"データ一覧!T345","v":3},null,null,null,{"$f":"+データ一覧!T370","v":69},null,null,null,null,null,null,{"$f":"データ一覧!T395","v":270891},null,null,null,null,null,null,"  ","運輸業,郵便業",null,null,null,null,{"$f":"BZ33+CD33","v":161},null,null,null,{"$f":"データ一覧!T519","v":136},null,null,null,{"$f":"データ一覧!T544","v":25}]
[{"$f":"+データ一覧!$A$50","v":"22.10.1"},null,null,null,null,{"$f":"+データ一覧!T50","v":3879},null,null,{"$f":"+L34+O34","v":10563},null,null,{"$f":"データ一覧!T52","v":5292},null,null,{"$f":"データ一覧!T53","v":5271},null,null,null,100.39840637450199,null,{"$f":"データ一覧!T55","v":2.72},null,{"$f":"+データ一覧!T56","v":69.3},null,null,null,null,null,null,null,"       ha",null,null,null,null,null,null,"       ha",null,"     窯業・土石","鉄鋼",null,null,null,null,null,null,null,null,{"$f":"データ一覧!T346","v":0},null,null,null,{"$f":"+データ一覧!T371","v":0},null,null,null,null,null,null,{"$f":"データ一覧!T396","v":0},null,null,null,null,null,null," １６  社　 会 　福　 祉",null,null,null,null,null,null,null,null,null,null,null,null,null,null,null,{"$f":"データ一覧!$A$557","v":"6.4.1"}]
[{"$f":"データ一覧!$A$57","v":"27.10.1"},null,null,null,null,{"$f":"データ一覧!T57","v":3899},null,null,{"$f":"データ一覧!T58","v":9914},null,null,{"$f":"データ一覧!T59","v":4988},null,null,{"$f":"データ一覧!T60","v":4926},null,null,null,101.25862768980917,null,{"$f":"データ一覧!T62","v":2.5427032572454475},null,{"$f":"データ一覧!T63","v":65.099999999999994},null,null,"  総　　　　　   数",null,null,null,{"$f":"データ一覧!T265","v":12567.300000000001},null,null," 天然林       針葉樹",null,null,null,{"$f":"データ一覧!T268","v":856.77},null,null,"     鉄鋼","非鉄金属",null,null,null,null,null,null,null,null,{"$f":"データ一覧!T347","v":0},null,null,null,{"$f":"+データ一覧!T372","v":0},null,null,null,null,null,null,{"$f":"データ一覧!T397","v":0}]
["令　2.10.1（国調）",null,null,null,null,{"$f":"データ一覧!T64","v":3745},null,null,{"$f":"データ一覧!T65","v":9179},null,null,{"$f":"データ一覧!T66","v":4610},null,null,{"$f":"データ一覧!T67","v":4569},null,null,null,{"$f":"+L36/O36*100","v":100.89735171810024},null,{"$f":"データ一覧!T69","v":2.4510013351134847},null,{"$f":"データ一覧!T70","v":60.237563984774908},null,null,"  人工林     針葉樹",null,null,null,{"$f":"データ一覧!T266","v":2620.5700000000002},null,null," 天然林       広葉樹",null,null,null,{"$f":"データ一覧!T269","v":8592.9500000000007},null,null,"     非鉄金属","金属",null,null,null,null,null,null,null,null,{"$f":"データ一覧!T348","v":1},null,null,null,{"$f":"+データ一覧!T373","v":10},null,null,null,null,null,null,{"$f":"データ一覧!T398","v":"x"},null,null,null,null,null,null,"    ","区分",null,null,null,null,null,null,"施設数",null,null,null,null,"収容定員",null,null,null,null,null,"区分",null,null,null,null,null,null,"施設数",null,null,null,null,"収容定員"]
["年",null,"  区",null," 0歳",null,null,"15歳",null,null,"25歳",null,null,"35歳",null,null,"45歳",null,null,"55歳",null,null,"65歳",null,null,"  人工林     広葉樹",null,null,null,{"$f":"データ一覧!T267","v":3.93},null,null," 竹               林",null,null,null,{"$f":"データ一覧!T270","v":27.74},null,null,"     金属","はん用機械",null,null,null,null,null,null,null,null,{"$f":"データ一覧!T349","v":0},null,null,null,{"$f":"+データ一覧!T374","v":0},null,null,null,null,null,null,{"$f":"データ一覧!T399","v":0},null,null,null,null,null,null,"生活保護施設",null,null,null,null,null,null,null,{"$f":"データ一覧!T557","v":"-"},null,null,null,{"$f":"データ一覧!T570","v":"-"},null,null,null,"人",null,"指定障害者支援施設",null,null,null,null,null,null,null,{"$f":"データ一覧!T563","v":"-"},null,null,null,{"$f":"データ一覧!T576","v":"-"},null,null,null,"人"]
["齢","令",null,null,null,"～",null,null,"～",null,null,"～",null,null,"～",null,null,"～",null,null,"～",null,null,null,null,null,null,null,null,null,null,null,null,null,null,null,null,null,null,"     一般機械","生産用機械",null,null,null,null,null,null,null,null,{"$f":"データ一覧!T350","v":0},null,null,null,{"$f":"+データ一覧!T375","v":0},null,null,null,null,null,null,{"$f":"データ一覧!T400","v":0},null,null,null,null,null,null,"地域福祉施設",null,null,null,null,null,null,null,{"$f":"データ一覧!T558","v":"-"},null,null,null,{"$f":"データ一覧!T571","v":"-"},null,null,null,null,null,"指定相談支援事業所",null,null,null,null,null,null,null,{"$f":"データ一覧!T564","v":"-"},null,null,null,{"$f":"データ一覧!T577","v":"-"}]
["階",{"$f":"+LEFT(データ一覧!$A$83,1)","v":"6"},"  分",null,null,null,"14歳",null,null,"24歳",null,null,"34歳",null,null,"44歳",null,null,"54歳",null,null,"64歳",null,null,"以上","    林     野     の     構     成",null,null,null,null,null,null,"保     有     形     態     別",null,null,null,null,null,null,"     電気機械","業務用機械",null,null,null,null,null,null,null,null,{"$f":"データ一覧!T351","v":0},null,null,null,{"$f":"+データ一覧!T376","v":0},null,null,null,null,null,null,{"$f":"データ一覧!T401","v":0},null,null,null,null,null,null,"老人福祉施設",null,null,null,null,null,null,null,{"$f":"データ一覧!T559","v":1},null,null,null,{"$f":"データ一覧!T572","v":0},null,null,null,null,null,"児童福祉施設",null,null,null,null,null,null,null,{"$f":"データ一覧!T565","v":7},null,null,null,{"$f":"データ一覧!T578","v":350}]
["級","・",null,null,null,null,"人",null,null,"人",null,"    人",null,null,"    人",null,null,"    人",null,null,"    人",null,null,"    人",null,null,null,null,null,null,null,"ha",null,null,null,null,null,"       ha",null,null,"電子・デバイス",null,null,null,null,null,null,null,null,{"$f":"データ一覧!T352","v":0},null,null,null,{"$f":"+データ一覧!T377","v":0},null,null,null,null,null,null,{"$f":"データ一覧!T402","v":0},null,null,null,null,null,null,"介護保険施設",null,null,null,null,null,null,null,{"$f":"データ一覧!T560","v":15},null,null,null,{"$f":"データ一覧!T573","v":262},null,null,null,null,null,"母子福祉施設",null,null,null,null,null,null,null,{"$f":"データ一覧!T566","v":"-"},null,null,null,{"$f":"データ一覧!T579","v":"-"}]
["別",{"$f":"+MID(データ一覧!$A$83,3,2)","v":"10"},"総 数",null,{"$f":"+E42+E43","v":883},null,null,{"$f":"+H42+H43","v":657},null,null,{"$f":"+K42+K43","v":674},null,null,{"$f":"+N42+N43","v":865},null,null,{"$f":"+Q42+Q43","v":1076},null,null,{"$f":"+T42+T43","v":1121},null,null,{"$f":"+W42+W43","v":3223},null,null," 無立木地   伐採跡地",null,null,null,{"$f":"データ一覧!T271","v":0.37},null,null,"国   　　　 　 有",null,null,null,{"$f":"データ一覧!T273","v":6.6},null,null,null,"電気機械",null,null,null,null,null,null,null,null,{"$f":"データ一覧!T353","v":1},null,null,null,{"$f":"+データ一覧!T378","v":23},null,null,null,null,null,null,{"$f":"データ一覧!T403","v":"x"},null,null,null,null,null,null,"障害者自立支援法施行前からの身体障害者福祉施設",null,null,null,null,null,null,null,{"$f":"データ一覧!T561","v":"-"},null,null,null,{"$f":"データ一覧!T574","v":"-"},null,null,null,null,null,"婦人保護施設",null,null,null,null,null,null,null,{"$f":"データ一覧!T567","v":"-"},null,null,null,{"$f":"データ一覧!T580","v":"-"}]
["人","・","  男",null,{"$f":"データ一覧!T83","v":465},null,null,{"$f":"データ一覧!T84","v":359},null,null,{"$f":"データ一覧!T85","v":386},null,null,{"$f":"データ一覧!T86","v":456},null,null,{"$f":"データ一覧!T87","v":594},null,null,{"$f":"データ一覧!T88","v":609},null,null,{"$f":"データ一覧!T89","v":1429},null,null," 無立木地   未立木地",null,null,null,{"$f":"データ一覧!T272","v":464.97},null,null,"公       　　  有",null,null,null,{"$f":"データ一覧!T274","v":1040.1500000000001},null,null,"     輸送機械","情報通信機械",null,null,null,null,null,null,null,null,{"$f":"データ一覧!T354","v":0},null,null,null,{"$f":"+データ一覧!T379","v":0},null,null,null,null,null,null,{"$f":"データ一覧!T404","v":0},null,null,null,null,null,null,null,null,null,null,null,null,null,null,null,null,null,null,null,null,null,null,null,null,"その他の社会福祉施設",null,null,null,null,null,null,null,{"$f":"データ一覧!T568+データ一覧!T569","v":2},null,null,null,0]
["口",{"$f":"+RIGHT(データ一覧!$A$83,1)","v":"1"},"  女",null,{"$f":"データ一覧!T91","v":418},null,null,{"$f":"データ一覧!T92","v":298},null,null,{"$f":"データ一覧!T93","v":288},null,null,{"$f":"データ一覧!T94","v":409},null,null,{"$f":"データ一覧!T95","v":482},null,null,{"$f":"データ一覧!T96","v":512},null,null,{"$f":"データ一覧!T97","v":1794},null,null,null,null,null,null,null,null,null,"私          　 有",null,null,null,{"$f":"データ一覧!T275","v":11520.55},null,null,"     精密機械","輸送機械",null,null,null,null,null,null,null,null,{"$f":"データ一覧!T355","v":0},null,null,null,{"$f":"+データ一覧!T380","v":0},null,null,null,null,null,null,{"$f":"データ一覧!T405","v":0},null,null,null,null,null,null,"障害福祉サービス事業所",null,null,null,null,null,null,null,{"$f":"データ一覧!T562","v":8},null,null,null,{"$f":"データ一覧!T575","v":71}]
[null,null,null,null,null,null,null,null,null,null,null,null,null,null,null,null,null,null,null,null,null,null,null,null,null,"            林     産     物     生     産     量 ",null,null,null,null,null,null,null,null,null,{"$f":"データ一覧!$A$276","v":"5年中"},null,null,null,"     その他","その他",null,null,null,null,null,null,null,null,{"$f":"データ一覧!T356","v":0},null,null,null,{"$f":"+データ一覧!T381","v":0},null,null,null,null,null,null,{"$f":"データ一覧!T406","v":0},null,null,null,null,null,null," １７  教　　　　　　　育",null,null,null,null,null,null,null,null,null,null,null,null,null,null,null,{"$f":"データ一覧!$A$583","v":"6.5.1"}]
["人口動態",null,null,null,null,null,null,"   自　然　動　態",null,null,null,null,null,"   社  会  動  態",null,null,null,null,null,{"$f":"データ一覧!$A78","v":"5.1.1～5.12.31"},null,null,null,null,null,"生椎茸",null,null,null,{"$f":"データ一覧!T276","v":3},null,"㎏","乾椎茸",null,null,null,{"$f":"データ一覧!T277","v":0},null,"㎏"]
[null,null,"   区       分",null,null,null,null," 出   生",null,null," 死   亡",null,null," 転   入",null,null," 転   出",null,null," 婚   姻",null,null," 離   婚",null,null,"えのきだけ",null,null,null,{"$f":"データ一覧!T279","v":0},null,"㎏","なめこ",null,null,null,{"$f":"データ一覧!T278","v":0},null,"㎏","    ","工　業　用　水　量",null,null,null,null,null,"（従業者30人以上の事業所）",null,null,null,null,null,null,null,null,null,null,{"$f":"データ一覧!T407","v":59},null,null,null,null,"㎥／日",null,null,null,null,null,null,null,null,null,null,null,null,null,null,"学校数（校）",null,null,null,null,null,null,"教員数（人）",null,null,null,null,null,null,null,"学生・生徒・児童数（人）"]
[{"$f":"LEFT(データ一覧!$A74,6)","v":"5.10.1"},null,null,null,null,null,null,"       人",null,null,"       人",null,null,"       人",null,null,"       人",null,null,null,"    件",null,null,"    件",null,"ひらたけ",null,null,null,{"$f":"+データ一覧!T280","v":0},null,"㎏","まいたけ",null,null,null,{"$f":"+データ一覧!T281","v":0},null,"㎏",null,null,null,null,null,null,null,null,null,null,null,null,null,null,null,null,null,null,null,null,null,null,null,null,null,null,null,null,null,"　","区分",null,null,null,null,null,null,null," 本 校",null,null," 分 校",null,null," 本   務",null,null,null," 兼   務",null,null,null," 総   数",null,null,null,"男",null,null,null,"女"]
["～",null," 実          数",null,null,null,null,{"$f":"データ一覧!T74","v":58},null,null,{"$f":"データ一覧!T75","v":172},null,null,{"$f":"データ一覧!T76","v":275},null,null,{"$f":"データ一覧!T77","v":298},null,null,{"$f":"データ一覧!T78","v":31},null,null,{"$f":"データ一覧!T79","v":8},null,null,null,null,null,null,null,null,null,null,null,null,null,null,null,null," １１ 　上　・　下　水　道",null,null,null,null,null,null,null,null,null,null,null,null,null,null,null,null,null,null,null,null,null,null,null,null,null,null,null,null,"小学校",null,null,null,null,null,null,null,null,{"$f":"データ一覧!T584","v":3},null,null,{"$f":"データ一覧!T585","v":0},null,null,{"$f":"データ一覧!T586","v":43},null,null,null,{"$f":"データ一覧!T587","v":6},null,null,null,{"$f":"データ一覧!T588","v":367},null,null,null,{"$f":"データ一覧!T589","v":201},null,null,null,{"$f":"データ一覧!T590","v":166}]
[{"$f":"RIGHT(データ一覧!$A76,6)","v":"6.9.30"},null,"比率(対1,000人)",null,null,null,null,{"$f":"+H48/I36*1000","v":6.3187711079638307},null,null,{"$f":"+K48/I36*1000","v":18.738424664996188},null,null,"- ",null,null,"- ",null,null,{"$f":"+T48/I36*1000","v":3.3772742128772197},null,null,{"$f":"+W48/I36*1000","v":0.87155463558121804},null,null,"  ６  漁               業",null,null,null,null,null,null,null,null,null,null,null,null,null,null,null,null,null,null,null,null,null,null,null,null,null,null,null,null,null,null,null,null,null,null,null,null,null,null,null,null,null,"  ","中学校",null,null,null,null,null,null,null,null,{"$f":"データ一覧!T592","v":1},null,null,{"$f":"データ一覧!T593","v":0},null,null,{"$f":"データ一覧!T594","v":21},null,null,null,{"$f":"データ一覧!T595","v":1},null,null,null,{"$f":"データ一覧!T596","v":187},null,null,null,{"$f":"データ一覧!T597","v":95},null,null,null,{"$f":"データ一覧!T598","v":92}]
[null,null,null,null,null,null,null,null,null,null,null,null,null,null,null,null,null,null,null,null,null,null,null,null,null,null,null,null,null,null,null,null,null,null,null,null,null,null,null,"水 道 供 給 人 口",null,null,null,null,null,null,"上 水 道",null,null,null,"簡易水道",null,null,null,"専用水道",null,null,null,"飲料水供給施設",null,null,null,"下水道処理人口",null,null,null,null,"  ","高等学校",null,null,null,null,null,null,null,null,{"$f":"データ一覧!T600","v":0},null,null,{"$f":"データ一覧!T601","v":0},null,null,{"$f":"データ一覧!T602","v":0},null,null,null,{"$f":"データ一覧!T603","v":0},null,null,null,{"$f":"データ一覧!T604","v":0},null,null,null,{"$f":"データ一覧!T605","v":0},null,null,null,{"$f":"データ一覧!T606","v":0}]
["  ３  事　　業　　所（民　　営）",null,null,null,null,null,null,null,null,null,null,"3.6.1",null,null,null,null,null,null,null,null,null,null,null,null,null,"漁船隻数・トン数",null,null,null,{"$f":"データ一覧!$A$282","v":"5.12.31"},null,null,null,"動　力　船",null,null,null,null,null,{"$f":"データ一覧!$A$408","v":"6.3.31"},null,null,null,null,null,"人",null,{"$f":"データ一覧!T408","v":5854},null,null,{"$f":"データ一覧!T409","v":2573},null,null,null,null,{"$f":"データ一覧!T410","v":251},null,null,null,{"$f":"データ一覧!T411","v":63},null,null,null,{"$f":"データ一覧!T412","v":5365},null,null,null,"  ","大学・短期大学",null,null,null,null,null,null,null,null,{"$f":"データ一覧!T607","v":0},null,null,{"$f":"データ一覧!T608","v":0},null,null,{"$f":"データ一覧!T609","v":0},null,null,null,{"$f":"データ一覧!T610","v":0},null,null,null,{"$f":"データ一覧!T611","v":0},null,null,null,{"$f":"データ一覧!T612","v":0},null,null,null,{"$f":"データ一覧!T613","v":0}]
[null,null,null,null,null,null,null,null,null,null,null,null,null,null,null,null,null,null,null,null,null,null,null,null,null,"無動力船隻数",null,null,null,"船外機付漁船隻数",null,null,null,"隻　数",null,null,"総 ト ン 数",null,null,null,null,null,null,null,null,null,null,null,null,null,null,null,null,null,null,null,null,null,null,null,null,null,null,null,null,null,null,"  ","高等専門学校",null,null,null,null,null,null,null,null,{"$f":"データ一覧!T614","v":0},null,null,{"$f":"データ一覧!T615","v":0},null,null,{"$f":"データ一覧!T616","v":0},null,null,null,{"$f":"データ一覧!T617","v":0},null,null,null,{"$f":"データ一覧!T618","v":0},null,null,null,{"$f":"データ一覧!T619","v":0},null,null,null,{"$f":"データ一覧!T620","v":0}]
[null,null,null,null,null,null,null,"    総　　　　　数",null,null,null,null,null,"    民　　　　　営",null,null,null,null,null,"  国 ･ 地方公共団体",null,null,null,null,null,null,null,null,"隻",null,null,null,"隻",null,null,"隻",null,null,"t"," １２  交   通　・　通   信",null,null,null,null,null,null,null,null,null,null,null,null,null,null,null,null,null,null,null,null,null,null,null,null,null,null,null,"  ","特別支援学校",null,null,null,null,null,null,null,null,{"$f":"+データ一覧!T622","v":1},null,null,{"$f":"+データ一覧!T623","v":0},null,null,{"$f":"+データ一覧!T624","v":84},null,null,null,{"$f":"+データ一覧!T625","v":4},null,null,null,{"$f":"+データ一覧!T626","v":130},null,null,null,{"$f":"+データ一覧!T627","v":87},null,null,null,{"$f":"+データ一覧!T628","v":43}]
["  　区　　　　　　分",null,null,null,null,null,null," 事業所数",null,null," 従業者数",null,null," 事業所数",null,null," 従業者数",null,null," 事業所数",null,null," 従業者数",null,null,{"$f":"データ一覧!$T$282","v":0},null,null,null,{"$f":"データ一覧!$T$283","v":98},null,null,null,{"$f":"データ一覧!T284","v":92},null,null,{"$f":"データ一覧!T285","v":426.74},null,null,null,null,null,null,null,null,null,null,null,null,null,null,null,null,null,null,null,null,null,null,null,null,null,null,null,null,null,null,"  ","幼稚園",null,null,null,null,null,null,null,null,{"$f":"データ一覧!T630","v":0},null,null,{"$f":"データ一覧!T631","v":0},null,null,{"$f":"データ一覧!T632","v":0},null,null,null,{"$f":"データ一覧!T633","v":0},null,null,null,{"$f":"データ一覧!T634","v":0},null,null,null,{"$f":"データ一覧!T635","v":0},null,null,null,{"$f":"データ一覧!T636","v":0}]
[null,null,null,null,null,null,null,null,null,null,"       人",null,null,null,null,null,"       人",null,null,null,null,null,"       人",null,null,"  男女別就業者数",null,null,null,null,null,null,null,{"$f":"データ一覧!$A$286","v":"5.11.1"},null,null,null,null,null,"道     路",null,null,null,"実 延 長",null,null,null,"国     道",null,null,null,"県     道",null,null,null,"市町道",null,null,null," 鉄 道 営 業 キ ロ 数",null,null,null,null,null,null,null,"  ","幼保連携認定こども園",null,null,null,null,null,null,null,null,{"$f":"データ一覧!T638","v":0},null,null,{"$f":"データ一覧!T639","v":0},null,null,{"$f":"データ一覧!T640","v":0},null,null,null,{"$f":"データ一覧!T641","v":0},null,null,null,{"$f":"データ一覧!T642","v":0},null,null,null,{"$f":"データ一覧!T643","v":0},null,null,null,{"$f":"データ一覧!T644","v":0}]
["総数",null,null,null,null,null,null,{"$f":"データ一覧!T99","v":"…"},null,null,{"$f":"データ一覧!T156","v":"…"},null,null,{"$f":"データ一覧!T100","v":483},null,null,{"$f":"データ一覧!T157","v":4885},null,null,{"$f":"データ一覧!T101","v":"…"},null,null,{"$f":"データ一覧!T158","v":"…"},null,null,"総　　数",null,null,null,null,null,"男",null,null,null,"女",null,null,null,{"$f":"データ一覧!$A$413","v":"5.4.1"},null,null,null,{"$f":"データ一覧!T413","v":225.9},null,null,"㎞",{"$f":"データ一覧!T414","v":0},null,null,"㎞",{"$f":"データ一覧!T415","v":49.9},null,null,"㎞",{"$f":"データ一覧!T416","v":176},null,null,"km",{"$f":"データ一覧!$A$417","v":"6.4.1"},null,null,null,{"$f":"データ一覧!T417","v":0},null,null,"㎞","  ","各種学校",null,null,null,null,null,null,null,null,{"$f":"データ一覧!T646","v":0},null,null,{"$f":"データ一覧!T647","v":0},null,null,{"$f":"データ一覧!T648","v":0},null,null,null,{"$f":"データ一覧!T649","v":0},null,null,null,{"$f":"データ一覧!T650","v":0},null,null,null,{"$f":"データ一覧!T651","v":0},null,null,null,{"$f":"データ一覧!T652","v":0}]
["農林漁業",null,null,null,null,null,null,{"$f":"データ一覧!T102","v":"…"},null,null,{"$f":"データ一覧!T159","v":"…"},null,null,{"$f":"データ一覧!T103","v":16},null,null,{"$f":"データ一覧!T160","v":157},null,null,{"$f":"データ一覧!T104","v":"…"},null,null,{"$f":"データ一覧!T161","v":"…"},null,null,null,null,null,null,null,"人",null,null,"　　　　人",null,null,null,null,"  人","自動車",null,null,null,null,null,null,null,null,"乗用車",null,null,null,null,null,null,null,null,null,null,null,null,null,null,null,null,null,null,"  ","専修学校",null,null,null,null,null,null,null,null,{"$f":"データ一覧!T654","v":1},null,null,{"$f":"データ一覧!T655","v":0},null,null,{"$f":"データ一覧!T656","v":11},null,null,null,{"$f":"データ一覧!T657","v":25},null,null,null,{"$f":"データ一覧!T658","v":99},null,null,null,{"$f":"データ一覧!T659","v":21},null,null,null,{"$f":"データ一覧!T660","v":78}]
["鉱業",null,null,null,null,null,null,{"$f":"データ一覧!T105","v":"…"},null,null,{"$f":"データ一覧!T162","v":"…"},null,null,{"$f":"データ一覧!T106","v":"-"},null,null,{"$f":"データ一覧!T163","v":"-"},null,null,{"$f":"データ一覧!T107","v":"…"},null,null,{"$f":"データ一覧!T164","v":"…"},null,null,{"$f":"データ一覧!T286","v":81},null,null,null,null,null,{"$f":"データ一覧!$T$287","v":0},null,null,null,{"$f":"データ一覧!T288","v":0},null,null,null,"台  数",null,null,null,"貨    物",null,null,null,"普     通",null,null,null,"小     型",null,null,null,"乗  合",null,null,"特  種",null,null,"小型二輪",null,null,"軽自動車",null,null," １８  衛　　　　　　　生"]
["建設業",null,null,null,null,null,null,{"$f":"データ一覧!T108","v":"…"},null,null,{"$f":"データ一覧!T165","v":"…"},null,null,{"$f":"データ一覧!T109","v":75},null,null,{"$f":"データ一覧!T166","v":976},null,null,{"$f":"データ一覧!T110","v":"…"},null,null,{"$f":"データ一覧!T167","v":"…"},null,null,"　　　　海 面 漁 業 漁 獲 量 （属人）",null,null,null,null,null,null,null,{"$f":"データ一覧!$A$289","v":"30年中"},null,null,null,null,null,{"$f":"データ一覧!$A$418","v":"6.3.31"},null,null,null,null,{"$f":"データ一覧!T418","v":529},null,null,null,{"$f":"データ一覧!T420","v":1697},null,null,null,{"$f":"データ一覧!T421","v":1492},null,null,{"$f":"データ一覧!T419","v":62},null,null,{"$f":"データ一覧!T422","v":256},null,null,{"$f":"データ一覧!T423","v":131},null,null,{"$f":"データ一覧!T424","v":4591}]
["製造業",null,null,null,null,null,null,{"$f":"データ一覧!T111","v":"…"},null,null,{"$f":"データ一覧!T168","v":"…"},null,null,{"$f":"データ一覧!T112","v":29},null,null,{"$f":"データ一覧!T169","v":287},null,null,{"$f":"データ一覧!T113","v":"…"},null,null,{"$f":"データ一覧!T170","v":"…"},null,null,null,null,null,null,null,"       ","ｔ",null,null,null,null,null,null,"t",null,null,"     ",null,"郵　便　局　数",null,null,null,null,null,null,null,null,null,null,null,null,null,{"$f":"+MID(データ一覧!$A$428,3,2)","v":"3."},"令","一般加入",null,null,null,"ＩＮＳネット",null,null,null,null,null,null,null,"医療関係施設",null,null,null,null,null,{"$f":"データ一覧!$A$661","v":"5.10.1"},null,null,null,null,null,null,"および医療関係者数",null,null,null,null,null,null,null,{"$f":"データ一覧!$A$666","v":"4.12.31"}]
["電気・ｶﾞ ｽ・熱供給・水道業",null,null,null,null,null,null,{"$f":"データ一覧!T114","v":"…"},null,null,{"$f":"データ一覧!T171","v":"…"},null,null,{"$f":"データ一覧!T115","v":3},null,null,{"$f":"データ一覧!T172","v":1010},null,null,{"$f":"データ一覧!T116","v":"…"},null,null,{"$f":"データ一覧!T173","v":"…"},null,null,"   総　　　　　　数",null,null,null,{"$f":"データ一覧!T289","v":1409},null,null,"   藻　　　　　　類",null,null,null,{"$f":"データ一覧!T292","v":18},null,null,"通  信",null,null,null," 総     数",null,null,null,null," 郵 便 局",null,null,null,null," 簡 易 局",null,null,null,"・",{"$f":"+LEFT(データ一覧!$A$428,1)","v":"6"},"電話数",null,null,null,"加入数",null,null,null,null,null,null,null,null,null,"　","病",null,null,"院",null,"　",null,null,null,null," ","一般診療所",null,null,null,null,null,null,null,null,null,null,null,"歯科診療所"]
["情報通信業",null,null,null,null,null,null,{"$f":"データ一覧!T117","v":"…"},null,null,{"$f":"データ一覧!T174","v":"…"},null,null,{"$f":"データ一覧!T118","v":6},null,null,{"$f":"データ一覧!T175","v":22},null,null,{"$f":"データ一覧!T119","v":"…"},null,null,{"$f":"データ一覧!T176","v":"…"},null,null,"   魚　　　　　　類",null,null,null,{"$f":"データ一覧!T290","v":1278},null,null,"   そ　   の　　 他",null,null,null,{"$f":"データ一覧!T293","v":92},null,null,{"$f":"データ一覧!$A$428","v":"6.3.31"},null,null,null,{"$f":"データ一覧!T425","v":5},null,null,null,null,{"$f":"データ一覧!T426","v":4},null,null,null,null,{"$f":"データ一覧!T427","v":1},null,null,null,{"$f":"+RIGHT(データ一覧!$A$428,2)","v":"31"},"・",{"$f":"データ一覧!T428","v":2013},null,null,null,{"$f":"データ一覧!T429","v":211},null,null,null," ","医療関係",null,null,null,null,null,null,null,null,null,null,null,"一般病院",null,null,null,null,null,null,null,null,null,null,null,"有",null,null,"床"]
["運輸業、郵便業",null,null,null,null,null,null,{"$f":"データ一覧!T120","v":"…"},null,null,{"$f":"データ一覧!T177","v":"…"},null,null,{"$f":"データ一覧!T121","v":10},null,null,{"$f":"データ一覧!T178","v":104},null,null,{"$f":"データ一覧!T122","v":"…"},null,null,{"$f":"データ一覧!T179","v":"…"},null,null,"   貝　　　　　　類",null,null,null,{"$f":"データ一覧!T291","v":21},null,null,null,null,null,null,null,null,null,null,null,null,null,null,null,null,null,null,null,null,null,null,null,null,null,null,null,null,null,null,null,null,null,null,null,null,null,null,"施設数",null,null,null,null,null,null,{"$f":"データ一覧!T661","v":0},null,null,null,null,null,{"$f":"データ一覧!T662","v":0},null,null,null,null,null,{"$f":"データ一覧!T663","v":10},null,null,null,null,null,{"$f":"データ一覧!T664","v":0},null,null,null,null,null,{"$f":"データ一覧!T665","v":2}]
["卸売業、小売業",null,null,null,null,null,null,{"$f":"データ一覧!T123","v":"…"},null,null,{"$f":"データ一覧!T180","v":"…"},null,null,{"$f":"データ一覧!T124","v":78},null,null,{"$f":"データ一覧!T181","v":437},null,null,{"$f":"データ一覧!T125","v":"…"},null,null,{"$f":"データ一覧!T182","v":"…"},null,null,null,null,null,null,null,null,null,null,null,null,null,null,null,null," １３  税　　・　　財　　政",null,null,null,null,null,null,null,null,null,null,null,null,null,null,null,null,null,null,null,null,null,null,null,null,null,null,null,null,null,null,null,null,null,null,"医師",null,null,null,null,"歯科医師",null,null,null,null,"薬剤師",null,null,null,null,"保健師",null,null,null,null,"助産師",null,null," ",null,"看護師",null,null," "]
["金融業、保険業",null,null,null,null,null,null,{"$f":"データ一覧!T126","v":"…"},null,null,{"$f":"データ一覧!T183","v":"…"},null,null,{"$f":"データ一覧!T127","v":4},null,null,{"$f":"データ一覧!T184","v":30},null,null,{"$f":"データ一覧!T128","v":"…"},null,null,{"$f":"データ一覧!T185","v":"…"},null,null,"  ７  商        　　　業 ",null,null,null,null,null,null,{"$f":"データ一覧!$A$294","v":"3.6.1(令和2年実績）"},null,null,null,null,null,null,null,null,null,null,null,null,null,null,null,null,null,null,"19年度の予算は、6月補正肉付後予算額",null,null,null,null,null,null,null,null,null,null,null,null,null,null,null," ","医療",null,null,null,null,null,null,null,null,"人",null,null,null,null,"人",null,null,null,null,"人",null,null,null,null,"人",null,null,null,null,"人",null,null,null,null,"人"]
["不動産業、物品賃貸業",null,null,null,null,null,null,{"$f":"データ一覧!T129","v":"…"},null,null,{"$f":"データ一覧!T186","v":"…"},null,null,{"$f":"データ一覧!T130","v":11},null,null,{"$f":"データ一覧!T187","v":42},null,null,{"$f":"データ一覧!T131","v":"…"},null,null,{"$f":"データ一覧!T188","v":"…"},null,null,null,null,null,null,null,null,null,null,null,null,null,null,null,null,"           ",null,null,null,"歳入",null,null,null,null,null,null,null,null,"(千円）"," ",null,null,null,"歳出",null,null,null,null,null,null,null,null,"(千円）",null,"関係者",null,null,null,null,{"$f":"データ一覧!T666","v":6},null,null,null,null,{"$f":"データ一覧!T667","v":4},null,null,null,null,{"$f":"データ一覧!T668","v":3},null,null,null,null,{"$f":"データ一覧!T669","v":10},null,null,null,null,{"$f":"データ一覧!T670","v":1},null,null,null,null,{"$f":"データ一覧!T671","v":57}]
["学術研究、専門・技術ｻｰﾋﾞｽ業",null,null,null,null,null,null,{"$f":"データ一覧!T132","v":"…"},null,null,{"$f":"データ一覧!T189","v":"…"},null,null,{"$f":"データ一覧!T133","v":19},null,null,{"$f":"データ一覧!T190","v":204},null,null,{"$f":"データ一覧!T134","v":"…"},null,null,{"$f":"データ一覧!T191","v":"…"},null,null,"  産   業　 分　 類",null,null,null," 事　業　所　数",null,null," 従　業　者　数",null,null,"年　間　販　売　額",null,null,null,"一人当たり歳入歳出予算決算額",null,null,null,null,null,null,null,null,null,null,null,null,null,null,null,null,null,null,null,null,null,null,null,null,null,null,null,"                   ",null,null,null,null,null,null,null,null,"死因別死亡数　　　　　　    ",null,null,null,null,null,null,null,null,null,null,null,null,null,null,null,{"$f":"データ一覧!$A$672","v":"5年中"},null,null,null,null,null,null,null,null,"      単 位：人"]
["宿泊業、飲食サービス業",null,null,null,null,null,null,{"$f":"データ一覧!T135","v":"…"},null,null,{"$f":"データ一覧!T192","v":"…"},null,null,{"$f":"データ一覧!T136","v":87},null,null,{"$f":"データ一覧!T193","v":402},null,null,{"$f":"データ一覧!T137","v":"…"},null,null,{"$f":"データ一覧!T194","v":"…"},null,null,null,null,null,null,null,null,null,null,null,"　人",null,"         百万円",null,null,"区分",null,null,null,{"$f":"データ一覧!$A$438","v":"6年度"},null,null,null,null,{"$f":"データ一覧!$A$452","v":"5年度"},null,null,null,null,"区分",null,null,null,{"$f":"+AR68","v":"6年度"},null,null,null,null,{"$f":"データ一覧!$A$452","v":"5年度"},null,null,null,null," 死     因",null,null,null,null,null,null,null,null,null,null,null,"悪  性",null,null,"高血圧",null,null,null,null,null,"脳血管",null,null,null,null,null," ",null,null,"不慮の事故"]
["生活関連サービス業、娯楽業",null,null,null,null,null,null,{"$f":"データ一覧!T138","v":"…"},null,null,{"$f":"データ一覧!T195","v":"…"},null,null,{"$f":"データ一覧!T139","v":36},null,null,{"$f":"データ一覧!T196","v":106},null,null,{"$f":"データ一覧!T140","v":"…"},null,null,{"$f":"データ一覧!T197","v":"…"},null,null,"総　　　　　　計",null,null,null,{"$f":"データ一覧!T294","v":64},null,null,{"$f":"データ一覧!T303","v":337},null,null,{"$f":"データ一覧!T312","v":9171},null,null,null,null,null,null,null,{"$f":"データ一覧!T434","v":919772.02193443011},null,null,null,null,{"$f":"データ一覧!T435","v":1450760.6798346348},null,null,null,null,null,null,null,null,{"$f":"データ一覧!T436","v":919772.02193443011},null,null,null,null,{"$f":"データ一覧!T437","v":1320856.7983463481},null,null,null,null,null,null,null,null,null,"全 死 因",null,null,null,"結 核",null,null,"新生物",null,null,"性疾患",null,null,"心疾患",null,null,"疾  患",null,null,"肺  炎",null,null,"老  衰",null,null,null,null," ","交通事故"]
["教育、学習支援業",null,null,null,null,null,null,{"$f":"データ一覧!T141","v":"…"},null,null,{"$f":"データ一覧!T198","v":"…"},null,null,{"$f":"データ一覧!T142","v":4},null,null,{"$f":"データ一覧!T199","v":24},null,null,{"$f":"データ一覧!T143","v":"…"},null,null,{"$f":"データ一覧!T200","v":"…"},null,null,"卸売業",null,null,null,{"$f":"データ一覧!T295","v":11},null,null,{"$f":"データ一覧!T304","v":53},null,null,{"$f":"データ一覧!T313","v":3997},null,null,null,"項目別歳入歳出予算決算額"]
["医療、福祉",null,null,null,null,null,null,{"$f":"データ一覧!T144","v":"…"},null,null,{"$f":"データ一覧!T201","v":"…"},null,null,{"$f":"データ一覧!T145","v":28},null,null,{"$f":"データ一覧!T202","v":346},null,null,{"$f":"データ一覧!T146","v":"…"},null,null,{"$f":"データ一覧!T203","v":"…"},null,null,"小売業",null,null,null,{"$f":"データ一覧!T296","v":53},null,null,{"$f":"データ一覧!T305","v":284},null,null,{"$f":"データ一覧!T314","v":5174},null,null,null,"区分",null,null,null,{"$f":"データ一覧!$A$438","v":"6年度"},null,null,null,null,{"$f":"データ一覧!$A$452","v":"5年度"},null,null,null,null,"区分",null,null,null,{"$f":"+AR71","v":"6年度"},null,null,null,null,{"$f":"データ一覧!$A$452","v":"5年度"},null,null,null,null,null,null,null,null,null,{"$f":"データ一覧!T672","v":142},null,null,null,"   －",{"$f":"データ一覧!T673","v":"-"},null,{"$f":"データ一覧!T674","v":25},null,null,null,{"$f":"データ一覧!T675","v":2},null,{"$f":"データ一覧!T676","v":26},null,null,{"$f":"データ一覧!T677","v":5},null,null,{"$f":"データ一覧!T678","v":13},null,null,{"$f":"データ一覧!T679","v":25},null,null,{"$f":"データ一覧!T680","v":6},null,null,{"$f":"データ一覧!T681","v":1}]
["複合サービス事業",null,null,null,null,null,null,{"$f":"データ一覧!T147","v":"…"},null,null,{"$f":"データ一覧!T204","v":"…"},null,null,{"$f":"データ一覧!T148","v":8},null,null,{"$f":"データ一覧!T205","v":47},null,null,{"$f":"データ一覧!T149","v":"…"},null,null,{"$f":"データ一覧!T206","v":"…"},null,null,"各種商品",null,null,null,{"$f":"データ一覧!T297","v":"-"},null,null,{"$f":"データ一覧!T306","v":"-"},null,null,{"$f":"データ一覧!T315","v":"-"},null,null,null,"総額",null,null,null,{"$f":"SUM(AR73:AV85)","v":7883366},null,null,null,null,{"$f":"SUM(AW73:BA85)","v":12633224},null,null,null,null,"総額",null,null,null,{"$f":"SUM(BF73:BJ85)","v":7883366},null,null,null,null,{"$f":"SUM(BK73:BO85)","v":11502021},null,null,null,null," １９  警　察　・　消　防  ",null,null,null,null,null,null,null,null,null,null,null,null,null,null,null,{"$f":"+データ一覧!$A682","v":"6.4.1"}]
["サービス業",null,null,null,null,null,null,{"$f":"データ一覧!T150","v":"…"},null,null,{"$f":"データ一覧!T207","v":"…"},null,null,{"$f":"データ一覧!T151","v":69},null,null,{"$f":"データ一覧!T208","v":691},null,null,{"$f":"データ一覧!T152","v":"…"},null,null,{"$f":"データ一覧!T209","v":"…"},null,null,"織物・衣服・身の回り品",null,null,null,{"$f":"データ一覧!T298","v":4},null,null,{"$f":"データ一覧!T307","v":7},null,null,{"$f":"データ一覧!T316","v":"x"},null,null,null,"地方税",null,null,null,{"$f":"データ一覧!T439","v":4192306},null,null,null,null,{"$f":"データ一覧!T453","v":5337860},null,null,null,null,"議会費",null,null,null,{"$f":"データ一覧!T467","v":106411},null,null,null,null,{"$f":"データ一覧!T481","v":138121}]
["公務",null,null,null,null,null,null,{"$f":"データ一覧!T153","v":"…"},null,null,{"$f":"データ一覧!T210","v":"…"},null,null,{"$f":"データ一覧!T154","v":"…"},null,null,{"$f":"データ一覧!T211","v":"…"},null,null,{"$f":"データ一覧!T155","v":"…"},null,null,{"$f":"データ一覧!T212","v":"…"},null,null,"飲食料品",null,null,null,{"$f":"データ一覧!T299","v":21},null,null,{"$f":"データ一覧!T308","v":133},null,null,{"$f":"データ一覧!T317","v":2425},null,null,null,"地方譲与税",null,null,null,{"$f":"データ一覧!T440","v":53000},null,null,null,null,{"$f":"データ一覧!T454","v":61428},null,null,null,null,"総務費",null,null,null,{"$f":"データ一覧!T468","v":1546137},null,null,null,null,{"$f":"データ一覧!T482","v":2414897},null,null,null,null,null,null,null,null,null,null,null,null,null,null,"交番・駐在所",null,null,null,null,null,null,null,null,"刑法犯認知件数",null,null,null,null,null,null,null,null,"交通人身事故発生件数"]
["  ４  農        　　　業 ",null,null,null,null,null,null,null,null,null,null,null,null,null,null,null,null,null,null,null,null,null,null,null,null,"機械器具",null,null,null,{"$f":"データ一覧!T300","v":9},null,null,{"$f":"データ一覧!T309","v":51},null,null,{"$f":"データ一覧!T318","v":949},null,null,null,"各種交付金",null,null,null,{"$f":"データ一覧!T441","v":262100},null,null,null,null,{"$f":"データ一覧!T455","v":297649},null,null,null,null,"民生費",null,null,null,{"$f":"データ一覧!T469","v":1599130},null,null,null,null,{"$f":"データ一覧!T483","v":2172539},null,null,null,null,null,"警察署数",null,null,null,null,null,null,null,null,"検問所数",null,null,null,null,null,null,null,null,null,{"$f":"データ一覧!$A$684","v":"5年中"},null,null,null,null,null,null,null,null,{"$f":"データ一覧!$A$684","v":"5年中"}]
[null,null,null,null,null,null,null,null,null,null,null,null,null,null,null,null,null,null,null,null,null,null,null,null,null,"その他",null,null,null,{"$f":"データ一覧!T301","v":17},null,null,{"$f":"データ一覧!T310","v":77},null,null,{"$f":"データ一覧!T319","v":1449},null,null,null,"地方特例交付金",null,null,null,{"$f":"データ一覧!T442","v":6000},null,null,null,null,{"$f":"データ一覧!T456","v":8757},null,null,null,null,"衛生費",null,null,null,{"$f":"データ一覧!T470","v":1273765},null,null,null,null,{"$f":"データ一覧!T484","v":1377639},null,null,null,null,null,null,null,null,null,null,null,null,null,null,null,null,null,null,null,null,null,null,null,null,null,null,null,null," 件",null,null,null,null,null,null,null,null,"　件"]
[null,null,"農業経営体数",null,null,null,null,null,null,"農産物販売額規模別経営体数",null,null,null,null,null,null,null,"経営耕地面積規模別経営体数",null,null,null,null,null,null,null,"無店舗",null,null,null,{"$f":"データ一覧!T302","v":2},null,null,{"$f":"データ一覧!T311","v":16},null,null,{"$f":"データ一覧!T320","v":"x"},null,null,null,"地方交付税",null,null,null,{"$f":"データ一覧!T443","v":50000},null,null,null,null,{"$f":"データ一覧!T457","v":37720},null,null,null,null,"労働費",null,null,null,{"$f":"データ一覧!T471","v":35340},null,null,null,null,{"$f":"データ一覧!T485","v":32940},null,null,null,null,null,null,{"$f":"データ一覧!T682","v":0},null,null,null,null,null,null,null,null,{"$f":"データ一覧!T683","v":3},null,null,null,null,null,null,null,null,{"$f":"データ一覧!T684","v":16},null,null,null,null,null,null,null,null,{"$f":"データ一覧!T685","v":11}]
["農",null,"区　分",null,null,null,"経営体数\n（経営体）",null,null,"区　分",null,null,null,null,"経営体数\n（経営体）",null,null,"区　分",null,null,null,null,"経営体数\n（経営体）",null,null,null,null,null,null,null,null,null,null,null,null,null,null,null,null,"分担金および負担金",null,null,null,{"$f":"データ一覧!T444","v":62780},null,null,null,null,{"$f":"データ一覧!T458","v":57118},null,null,null,null,"農林水産業費",null,null,null,{"$f":"データ一覧!T472","v":399574},null,null,null,null,{"$f":"データ一覧!T486","v":814890},null,null,null,null,"火災発生件数",null,null,null,null,null,null,null,null,null,"林野焼損",null,null,null,null,"損      害",null,null,null,null,"消 防 自",null,null,null,"その他の",null,null,null," ",null,null,null,null," "]
["業","令",null,null,null,null,null,null,null,null,null,null,null,null,null,null,null,null,null,null,null,null,null,null,null,"  ８  住　　　　　　 　宅",null,null,null,null,null,null,null,null,null,null,null,null,null,"使用料および手数料",null,null,null,{"$f":"データ一覧!T445","v":140373},null,null,null,null,{"$f":"データ一覧!T459","v":173894},null,null,null,null,"商工費",null,null,null,{"$f":"データ一覧!T473","v":247451},null,null,null,null,{"$f":"データ一覧!T487","v":890597},null,null,null,null,{"$f":"+データ一覧!$A$686","v":"5年中"},null,null,null,null,"焼損棟数",null,null,null,null,"面    積",null,null,null,null,"見  積  額",null,null,null,null,"動 車 数",null,null,null,"ﾎﾟﾝﾌﾟ数",null,null,null," 消防吏員",null,null,null," 消防団員"]
["経",{"$f":"+LEFT(データ一覧!$A$213)","v":"2"},"計",null,null,null,{"$f":"データ一覧!T213","v":213},null,null,"総　　　 数",null,null,null,null,{"$f":"データ一覧!T217","v":213},null,null,"総　　　 数",null,null,null,null,{"$f":"データ一覧!T233","v":530},null,null,null,null,null,null,null,null,null,null,null,null,null,null,null,null,"国庫支出金",null,null,null,{"$f":"データ一覧!T446","v":1309148},null,null,null,null,{"$f":"データ一覧!T460","v":1949561},null,null,null,null,"土木費",null,null,null,{"$f":"データ一覧!T474","v":526090},null,null,null,null,{"$f":"データ一覧!T488","v":1529057},null,null,null,null,"         件",null,null,null,null,null,"      棟",null,null,null,null,null,null,"  ａ",null,null,null,"  千円",null,null,"        ",null,null,null,null,null,null,null,null,null,"  人",null,null,null,"  人"]
["営","・","個人経営体",null,null,null,{"$f":"データ一覧!T214","v":197},null,null,"販 売 な し",null,null,null,null,{"$f":"データ一覧!T218","v":35},null,null,"0.5 ha 未満",null,null,null,null,{"$f":"データ一覧!T234","v":25},null,null,{"$f":"+データ一覧!$A$321","v":"4年"},null,null,null,null,{"$f":"データ一覧!$A$324","v":"5年"},"中の増減",null,null,null,{"$f":"+データ一覧!$A$324","v":"5年"},null,null,null,"県支出金",null,null,null,{"$f":"データ一覧!T447","v":1128659},null,null,null,null,{"$f":"データ一覧!T461","v":1585954},null,null,null,null,"消防費",null,null,null,{"$f":"データ一覧!T475","v":358179},null,null,null,null,{"$f":"データ一覧!T489","v":368584},null,null,null,null,null,{"$f":"データ一覧!T686","v":2},null,null,null,null,{"$f":"データ一覧!T687","v":1},null,null,null,null,{"$f":"データ一覧!T688","v":0},null,null,null,{"$f":"データ一覧!T689","v":480},null,null,null,null,null,{"$f":"データ一覧!T690","v":9},null,null,null,{"$f":"データ一覧!T691","v":15},null,null,null,{"$f":"データ一覧!T692","v":20},null,null,null,{"$f":"データ一覧!T693","v":234}]
["体",{"$f":"+LEFT(データ一覧!$A$213,1)","v":"2"},"団体経営体",null,null,null,{"$f":"データ一覧!T215","v":16},null,null,"50万円未満",null,null,null,null,{"$f":"データ一覧!T219","v":96},null,null,"0.5 ha ～ 1.0 ha",null,null,null,null,{"$f":"データ一覧!T235","v":49},null,null,null,null,null,null,"建設した住宅",null,null,"消失した住宅",null,null,null,null,null,null,"財産収入",null,null,null,{"$f":"データ一覧!T448","v":5484},null,null,null,null,{"$f":"データ一覧!T462","v":10443},null,null,null,null,"教育費",null,null,null,{"$f":"データ一覧!T476","v":1035859},null,null,null,null,{"$f":"データ一覧!T490","v":1115708},null,null,null,null," ２０  そ　　　の　　　他　"]
["数","・",null,"法人経営",null,null,{"$f":"データ一覧!T216","v":12},null,null,"50～300万円",null,null,null,null,{"$f":"データ一覧!T220","v":51},null,null,"1.0 ha ～ 2.0 ha",null,null,null,null,{"$f":"データ一覧!T236","v":46},null,null,null,null,null,null,null,null,null,null,null,null,null,null,null,null,"繰入金",null,null,null,{"$f":"データ一覧!T449","v":290670},null,null,null,null,{"$f":"データ一覧!T463","v":1045407},null,null,null,null,"災害復旧費",null,null,null,{"$f":"データ一覧!T477","v":0},null,null,null,null,{"$f":"データ一覧!T491","v":0}]
["（",{"$f":"+RIGHT(データ一覧!$A$213)","v":"1"},null,null,null,null,null,null,null,"300～500万円",null,null,null,null,{"$f":"データ一覧!T221","v":9},null,null,"2.0 ha ～ 3.0 ha",null,null,null,null,{"$f":"データ一覧!T237","v":27},null,null,null,{"$f":"データ一覧!T321","v":4667},null,"戸",{"$f":"データ一覧!T322","v":18},null,"戸",{"$f":"データ一覧!T323","v":51},null,"戸",null,{"$f":"データ一覧!T324","v":4634},null,"戸","地方債",null,null,null,{"$f":"データ一覧!T450","v":25000},null,null,null,null,{"$f":"データ一覧!T464","v":385000},null,null,null,null,"公債費",null,null,null,{"$f":"データ一覧!T478","v":735430},null,null,null,null,{"$f":"データ一覧!T492","v":647049},null,null,null,null,null,null,null,null,null,"若狭湾国定公園(三方五湖・レインボーライン・水晶浜海水浴場、エネルギー環境教育体験館きいぱす、健康楽膳拠点施設こるぱ、美浜町レイクセンター)、屏風ヶ滝（新庄）、秀吉朱印状（金山）、一石六体仏（宮代）、九重塔（竹波）、獅子塚古墳（郷市）、阿弥陀如来像（早瀬）、若狭国吉城歴史資料館（佐柿）、歴史文化館（河原市）、道の駅若狭美浜はまびより"]
["総",null,null,null,null,null,null,null,null,"500～1,000万円",null,null,null,null,{"$f":"データ一覧!T222","v":7},null,null,"3.0 ha ～ 5.0 ha",null,null,null,null,{"$f":"データ一覧!T238","v":29},null,null,null,null,null,null,null,null,null,null,null,null,null,null,null,null,"その他",null,null,null,{"$f":"データ一覧!T451","v":357846},null,null,null,null,{"$f":"データ一覧!T465","v":1682433},null,null,null,null,"その他",null,null,null,{"$f":"データ一覧!T479","v":20000},null,null,null,null,{"$f":"データ一覧!T493","v":0},null,null,null,null,"　名所・旧跡"]
["数",null,null,null,null,null,null,null,null,"1,000万円以上",null,null,null,null,{"$f":"データ一覧!T223","v":15},null,null,"5.0 ha以上",null,null,null,null,{"$f":"データ一覧!T239","v":354},null,null,null,null,null,null,null,null,null,null,null,null,null,null,null,null,null,null,null,null,null,null,null,null,null,null,null,null,null,null,null,null,null,null,null,null,null,null,null,null,null,null,null,null,"  文化財等"]
["）",null,"15歳以上の常雇い数",null,null,null,null,null,null,"農業に60日以上従事した世帯員、役員・構成員\n（経営主を含む）の平均年齢",null,null,null,null,null,null,null,null,null,null,null,null,null,null,null,"  ９  議　 員　・　職 　員",null,null,null,null,null,null,null,null,null,null,null,null,null," １４  文　　　化",null,null,null,null,null,null,null," ( ",{"$f":"\"令\"&データ一覧!$A$498","v":"令6.3.31"},null,null,"ただし図書館・公民館・児童館・ 社会教育学級講座",null,null,null,null,null,null,null,null,null,null,null,{"$f":"データ一覧!$A$494","v":"6.4.1"}]
["と",null,null,null,null,null,null,null,null,null,null,null,null,null,null,null,null,null,null,null,null,null,null,null,null,null,null,null,null,null,null,null,null,null,null,null,null,null,null,null,null,null,null,null,null,null,null,null,null,null,null,null,"　宗教法人数 ",null,null,null,null,null,null,null,null,null,null,{"$f":"データ一覧!$A$502","v":"5.12.31"},null,null,null,"　　特産物",null,null,null,null,"美浜のへしこ、寒ぶり（ひるが響）、フグ、美浜熟成魚、塩熟ぶり、コシヒカリ、地酒、さつまいも、シジミ、ワカメ、ウニ"]
["就",null,null,null,null,null,null,null,null,"農業に60日以上従事",null,null,null,null,null,null,null,"農業に150日以上従事",null,null,null,null,null,null,null," 市 町 議 会",null,null,"有権者数",null,{"$f":"データ一覧!$A$328","v":"6.9.1"},null,"市 町 議 会",null,null,"  職      員      数",null,null,null,null,null,null,null,null,"図書館",null,null,null,null,null,"公　民　館",null,null,null,null,null,null,null,null,null,null," 社会教育学級講座"]
["業",null,"区分",null,null,null,"人",null,null,"区分",null,null,null,null,"歳",null,null,"区　　分",null,null,null,null,"歳",null,null," 議  員  定  数",null,null,"    男",null,"    女",null,"選 挙 投 票 率",null,null," 総     数",null,"一般行政職",null,"公    共",null,null,null," 館  数",null,null," 図書数",null,null," 本  館",null,null," 分  館",null,null," 公  園",null,null," 児童館",null,null,"学級講座数",null,null,"受講者数",null,null," 　年中行事",null,null,null,null,"弓打ち講（１月）、日向水中綱引（1月）、早瀬子供歌舞伎（5月）、美浜・五木ひろしふるさとマラソン（5月）、彌美神社例大祭(5月)、織田神社例祭(5月)、弁天祭（7月）、水無月祭（7月）、夏フェスタ美浜（8月）、精霊船送り（8月）､八朔祭（9月）、町民レガッタ（10月）、みはまナビフェス(11月)"]
["状",null,"総数",null,null,null,{"$f":"データ一覧!T230","v":18},null,null,"総数",null,null,null,null,{"$f":"データ一覧!T224","v":67.3},null,null,"総数",null,null,null,null,{"$f":"データ一覧!T227","v":66.599999999999994},null,null,null,null,"人",null,"人",null,"人",null,null,"　％",null,"人",null,"人","施 設 数",null,null,null,null,{"$f":"データ一覧!T494","v":1},null,{"$f":"データ一覧!T495","v":84796},null,null,null,{"$f":"データ一覧!T496","v":4},null,{"$f":"データ一覧!T497","v":3},null,null,{"$f":"データ一覧!T498","v":2},null,null,{"$f":"データ一覧!T499","v":1},null,null,{"$f":"データ一覧!T500","v":461},null,null,{"$f":"データ一覧!T501","v":8190}]
["況",null,"男",null,null,null,{"$f":"データ一覧!T231","v":3},null,null,"男",null,null,null,null,{"$f":"データ一覧!T225","v":66.3},null,null,"男",null,null,null,null,{"$f":"データ一覧!T228","v":66.3},null,null,null,{"$f":"データ一覧!T325","v":14},null,{"$f":"データ一覧!T328","v":3690},null,{"$f":"データ一覧!T329","v":3846},null,{"$f":"データ一覧!T327","v":65.75},null,null,{"$f":"データ一覧!T330","v":169},null,{"$f":"データ一覧!T331","v":107},null,"宗    教",null,null,null," 仏教系",null,null,"ｷﾘｽﾄ教系",null,null,"神道諸派",null,null,"公会堂・市民会館",null,null,null,null,null," テレビ",null,null,"衛星放送契約数"]
[null,null,"女",null,null,null,{"$f":"データ一覧!T232","v":15},null,null,"女",null,null,null,null,{"$f":"データ一覧!T226","v":69.5},null,null,"女",null,null,null,null,{"$f":"データ一覧!T229","v":67.2},null,null,null,null,null,null,null,null,null,{"$f":"データ一覧!T326","v":"4.3.6"},null,null,null,null,null,null,"法 人 数",null,null,null,{"$f":"データ一覧!T502","v":34},null,null,{"$f":"データ一覧!T503","v":1},null,null,{"$f":"データ一覧!T504","v":40},null,null,{"$f":"データ一覧!T505","v":0},null,null,null,null,null,"      等",null,null,{"$f":"データ一覧!T506","v":2398}]

{"sheet":"高浜町","index":19,"n_rows":93,"n_cols":103,"rows_kept":93,"cut":false,"hidden":false,"merged":[[90,2,90,5],[90,9,90,13],[90,17,90,21],[71,53,71,56],[73,43,73,47],[72,57,72,61],[73,57,73,61],[71,62,71,66],[73,35,73,37],[72,16,72,18],[73,13,73,15],[73,16,73,18],[71,19,71,21],[72,43,72,47],[72,48,72,52],[72,39,72,42],[73,48,73,52],[84,6,84,8],[84,9,84,13],[84,14,84,16],[84,22,84,24],[85,6,85,8],[85,9,85,13],[85,14,85,16],[85,22,85,24],[86,2,88,8],[86,9,87,24],[88,9,88,16],[88,17,88,24],[89,2,89,5],[89,9,89,13],[89,17,89,21],[82,9,82,13],[82,14,82,16],[81,22,81,24],[82,22,82,24],[69,35,69,37],[57,39,57,42],[60,39,60,42],[17,25,17,27],[18,25,18,27],[74,43,74,47],[74,48,74,52],[74,68,74,74],[71,67,72,82],[74,57,74,61],[35,14,35,16],[35,18,35,19],[35,20,35,21],[35,22,35,24],[31,81,31,84],[33,83,34,96],[33,60,33,64],[30,40,30,46],[31,68,31,72],[55,13,55,15],[51,33,51,35],[27,60,27,64],[30,95,30,98],[28,91,28,94],[28,68,28,72],[73,39,73,42],[73,77,73,83],[27,95,27,98],[64,0,64,6],[50,25,50,28],[46,0,46,1],[47,0,47,1],[47,13,47,15],[47,7,47,9],[47,10,47,12],[42,13,42,15],[42,4,42,6],[57,22,57,24],[73,7,73,9],[73,19,73,21],[72,13,72,15],[27,68,27,72],[48,0,48,1],[48,16,48,18],[48,7,48,9],[48,10,48,12],[48,13,48,15],[54,55,54,58],[44,0,45,1],[42,10,42,12],[31,22,31,24],[36,36,36,37],[27,5,27,7],[30,5,30,7],[29,60,29,64],[29,20,29,21],[29,8,29,10],[29,11,29,13],[50,29,50,32],[50,33,50,38],[73,95,73,101],[68,57,68,61],[68,62,68,66],[69,39,69,66],[65,43,65,49],[65,53,65,56],[65,57,65,63],[66,39,66,66],[67,43,67,47],[67,48,67,52],[67,53,67,56],[68,79,68,81],[68,82,68,84],[68,100,68,102],[52,68,52,75],[52,95,52,98],[71,39,71,42],[58,39,58,42],[58,44,58,46],[54,47,54,50],[54,51,54,54],[57,55,57,57],[71,48,71,52],[68,94,68,96],[57,43,57,46],[57,51,57,54],[58,52,58,54],[63,99,63,101],[68,76,68,78],[52,83,52,86],[67,62,67,66],[66,76,66,90],[19,77,19,80],[19,81,19,84],[20,73,20,76],[20,77,20,80],[20,81,20,84],[20,86,20,90],[24,73,24,76],[24,77,24,80],[24,81,24,84],[24,86,24,90],[21,73,21,76],[21,77,21,80],[21,81,21,84],[21,86,21,90],[22,77,22,80],[22,81,22,84],[23,77,23,80],[23,81,23,84],[23,86,23,90],[42,7,42,9],[47,16,47,18],[47,19,47,21],[40,75,41,77],[40,79,41,82],[38,79,38,82],[50,50,50,53],[50,47,50,49],[48,50,48,53],[49,80,49,82],[48,87,48,90],[49,46,49,49],[48,56,48,59],[49,87,49,90],[55,22,55,24],[56,22,56,24],[55,51,55,53],[56,19,56,21],[55,55,55,57],[40,10,40,12],[41,13,41,15],[48,22,48,24],[41,10,41,12],[48,83,48,86],[45,84,45,89],[42,22,42,24],[47,22,47,24],[44,19,44,24],[51,25,51,28],[55,25,55,30],[49,39,49,45],[50,55,50,57],[59,0,59,6],[50,99,50,102],[57,64,57,66],[54,80,54,82],[52,99,52,102],[73,86,73,92],[51,36,51,38],[55,31,55,34],[50,80,50,82],[50,83,50,86],[51,83,51,86],[56,83,56,86],[56,99,56,102],[63,74,63,76],[64,68,64,71],[61,80,61,83],[57,61,57,63],[55,77,55,79],[55,80,55,82],[56,87,56,90],[56,91,56,94],[56,95,56,98],[55,83,55,86],[55,87,55,90],[51,95,51,98],[50,87,50,90],[50,95,50,98],[51,99,51,102],[51,87,51,90],[51,91,51,94],[62,93,62,95],[62,68,62,71],[41,19,41,21],[37,75,37,77],[37,85,37,91],[36,75,36,77],[33,49,33,51],[33,53,33,56],[33,20,33,21],[33,22,33,24],[34,8,34,10],[40,32,40,35],[33,18,33,19],[34,40,34,46],[33,14,33,16],[48,19,48,21],[49,83,49,86],[65,68,65,71],[58,48,58,50],[57,67,58,102],[61,36,61,37],[54,39,54,42],[54,25,54,32],[62,75,62,77],[63,94,63,96],[62,87,62,89],[62,81,62,83],[50,91,50,94],[54,99,54,102],[54,91,54,94],[54,95,54,98],[53,99,53,102],[49,77,49,79],[52,91,52,94],[42,16,42,18],[35,68,35,72],[37,67,37,73],[0,0,0,9],[1,0,3,9],[5,0,5,9],[19,3,19,5],[6,0,8,9],[15,29,15,30],[15,32,15,33],[22,7,22,8],[24,31,24,32],[23,29,23,31],[23,32,23,34],[23,25,23,28],[36,29,36,30],[24,0,25,24],[27,0,27,4],[30,14,30,16],[31,14,31,16],[30,11,30,13],[32,5,32,7],[35,11,35,13],[24,33,24,34],[23,11,23,13],[23,21,23,23],[25,27,25,28],[24,27,24,28],[34,5,34,7],[41,4,41,6],[41,7,41,9],[32,11,32,13],[41,16,41,18],[23,40,23,46],[28,40,28,46],[27,40,27,46],[23,35,23,38],[40,7,40,9],[29,40,29,46],[34,11,34,13],[34,29,34,30],[37,40,37,46],[35,29,35,30],[35,36,35,37],[24,37,24,38],[31,11,31,13],[29,14,29,16],[35,5,35,7],[35,8,35,10],[32,8,32,10],[34,14,34,16],[30,8,30,10],[32,14,32,16],[31,18,31,19],[31,20,31,21],[30,18,30,19],[40,16,40,18],[30,20,30,21],[30,22,30,24],[29,18,29,19],[40,13,40,15],[41,40,41,46],[41,29,41,30],[34,18,34,19],[40,2,40,3],[40,4,40,6],[32,22,32,24],[31,5,31,7],[31,8,31,10],[26,22,26,24],[17,40,17,46],[22,40,22,46],[20,25,20,28],[24,40,24,46],[25,29,26,30],[25,25,25,26],[27,25,27,26],[27,27,27,28],[27,37,27,38],[27,31,27,32],[27,33,27,34],[25,31,26,32],[25,33,26,34],[34,22,34,24],[34,20,34,21],[40,19,40,21],[24,29,24,30],[27,22,27,24],[29,22,29,24],[23,16,23,18],[29,5,29,7],[33,5,33,7],[31,40,31,46],[24,35,24,36],[33,8,33,10],[33,11,33,13],[14,25,15,25],[14,26,15,28],[19,29,19,31],[19,32,19,34],[17,32,17,34],[14,0,15,24],[18,28,18,30],[16,32,16,33],[19,25,19,28],[21,25,21,28],[21,29,21,31],[21,32,21,34],[21,35,21,38],[22,29,22,31],[20,40,20,46],[22,25,22,28],[20,32,20,34],[20,11,20,13],[20,16,20,18],[20,21,20,23],[21,40,21,46],[18,31,18,34],[20,29,20,31],[17,36,17,38],[18,35,18,38],[31,99,31,102],[31,73,31,76],[19,35,19,38],[22,32,22,34],[22,35,22,38],[20,35,20,38],[15,35,15,37],[21,99,21,102],[22,95,22,98],[21,91,21,94],[22,91,22,94],[22,99,22,102],[17,100,17,101],[19,49,19,51],[19,53,19,56],[19,60,19,64],[20,99,20,102],[20,49,20,51],[19,91,19,94],[19,99,19,102],[20,53,20,56],[20,91,20,94],[20,60,20,64],[19,95,19,98],[23,99,23,102],[22,68,22,72],[17,48,17,52],[27,53,27,56],[30,86,30,90],[22,86,22,90],[17,86,17,89],[19,73,19,76],[24,99,24,102],[23,68,23,72],[23,73,23,76],[24,49,24,51],[24,53,24,56],[24,68,24,72],[24,91,24,94],[25,49,25,51],[25,53,25,56],[24,95,24,98],[25,91,25,94],[24,60,24,64],[23,49,23,51],[26,91,26,94],[25,95,25,98],[26,73,26,76],[23,60,23,64],[26,99,26,102],[25,99,25,102],[26,86,26,90],[26,95,26,98],[26,77,26,80],[26,81,26,84],[29,99,29,102],[30,91,30,94],[27,99,27,102],[36,67,36,73],[36,79,36,82],[28,77,28,80],[25,73,25,76],[25,77,25,80],[32,73,32,76],[32,77,32,80],[32,81,32,84],[32,18,32,19],[32,20,32,21],[25,81,25,84],[26,68,26,72],[25,40,25,46],[28,49,28,51],[27,49,27,51],[28,53,28,56],[28,60,28,64],[29,53,29,56],[28,73,28,76],[31,77,31,80],[26,25,26,26],[26,27,26,28],[27,29,27,30],[30,49,30,51],[31,60,31,64],[30,81,30,84],[32,95,32,98],[28,95,28,98],[28,99,28,102],[27,81,27,84],[31,95,31,98],[30,73,30,76],[30,77,30,80],[31,91,31,94],[30,68,30,72],[32,53,32,56],[34,49,34,51],[27,86,27,90],[29,81,29,84],[29,86,29,90],[29,77,29,80],[28,81,28,84],[28,86,28,90],[29,73,29,76],[34,53,34,56],[30,60,30,64],[32,60,32,64],[30,53,30,56],[29,91,29,94],[29,95,29,98],[35,98,35,101],[36,97,36,100],[35,40,35,46],[36,40,36,46],[35,53,35,56],[35,60,35,64],[35,93,35,95],[38,40,38,46],[37,49,37,51],[39,49,39,51],[37,53,37,56],[36,85,36,91],[42,85,42,91],[42,79,42,82],[35,75,35,77],[35,80,35,83],[32,49,32,51],[32,40,32,46],[32,99,32,102],[39,97,39,100],[38,97,38,100],[42,75,42,77],[42,67,42,73],[41,97,41,100],[42,97,42,100],[41,93,41,95],[41,85,41,91],[40,67,41,73],[41,53,41,56],[47,83,47,86],[47,87,47,90],[47,68,47,75],[47,77,47,79],[41,22,41,24],[40,40,40,46],[40,60,40,64],[39,93,39,95],[40,53,40,56],[39,79,39,82],[41,60,41,64],[38,85,38,91],[39,85,39,91],[40,85,40,91],[39,75,39,77],[38,75,38,77],[39,60,39,64],[42,93,42,95],[42,53,42,56],[42,49,42,51],[43,49,43,51],[47,99,47,102],[45,25,45,28],[46,29,46,30],[43,53,43,56],[42,19,42,21],[41,36,41,37],[37,97,37,100],[37,93,37,95],[33,40,33,46],[30,99,30,102],[36,93,36,95],[41,32,41,35],[40,29,40,30],[40,22,40,24],[38,49,38,51],[40,93,40,95],[38,93,38,95],[39,67,39,73],[38,67,38,73],[43,83,44,102],[43,40,43,46],[37,79,37,82],[37,60,37,64],[36,60,36,64],[36,49,36,51],[35,49,35,51],[35,86,35,90],[33,67,34,80],[40,97,40,100],[38,53,38,56],[39,53,39,56],[47,80,47,82],[48,80,48,82],[46,95,46,98],[55,99,55,102],[53,33,53,34],[46,69,46,74],[46,32,46,35],[47,95,47,98],[56,48,56,53],[47,91,47,94],[48,91,48,94],[48,62,48,65],[46,25,46,28],[42,32,42,35],[43,60,43,64],[44,29,44,30],[43,67,44,82],[46,99,46,102],[45,57,45,61],[42,60,42,64],[49,54,49,57],[49,62,49,66],[48,68,48,75],[45,36,45,37],[48,77,48,79],[45,92,45,101],[48,95,48,98],[48,99,48,102],[49,91,49,94],[49,99,49,102],[45,77,45,82],[42,40,42,46],[42,36,42,37],[56,80,56,82],[55,43,55,45],[67,57,67,61],[50,68,50,75],[50,77,50,79],[55,95,55,98],[51,80,51,82],[49,58,49,61],[52,80,52,82],[52,77,52,79],[49,68,49,75],[49,50,49,53],[53,91,53,94],[50,63,50,66],[51,77,51,79],[54,68,54,75],[54,77,54,79],[58,64,58,66],[53,68,53,75],[53,77,53,79],[54,83,54,86],[53,83,53,86],[53,87,53,90],[53,80,53,82],[54,59,54,66],[54,87,54,90],[49,95,49,98],[53,95,53,98],[50,59,50,61],[51,68,51,75],[52,87,52,90],[57,10,57,12],[57,19,57,21],[61,19,61,21],[55,39,55,42],[62,99,62,101],[66,29,66,31],[55,59,55,62],[56,77,56,79],[65,98,65,101],[55,91,55,94],[60,97,60,102],[60,59,60,62],[61,59,61,62],[61,68,61,71],[63,84,63,86],[63,89,63,91],[60,91,60,96],[60,85,60,90],[55,68,55,75],[61,39,61,42],[66,32,66,34],[61,63,61,66],[58,16,58,18],[59,43,59,56],[60,43,60,47],[60,48,60,52],[60,53,60,56],[57,58,57,60],[59,59,59,62],[66,92,66,96],[55,63,55,65],[56,68,56,75],[73,22,73,24],[70,13,70,15],[72,7,72,9],[72,25,72,28],[73,10,73,12],[55,0,55,6],[57,0,57,6],[56,0,56,6],[57,7,57,9],[56,7,56,9],[55,10,55,12],[56,10,56,12],[55,16,55,18],[58,10,58,12],[58,13,58,15],[55,19,55,21],[58,19,58,21],[57,13,57,15],[56,13,56,15],[57,16,57,18],[56,16,56,18],[61,0,61,6],[59,16,59,18],[60,16,60,18],[59,19,59,21],[58,7,58,9],[61,16,61,18],[71,0,71,6],[60,19,60,21],[69,25,69,28],[55,7,55,9],[58,0,58,6],[71,7,71,9],[70,7,70,9],[60,63,60,66],[70,57,70,61],[71,25,71,28],[71,57,71,61],[66,35,66,38],[68,39,68,42],[68,43,68,47],[68,48,68,52],[68,53,68,56],[70,39,70,42],[64,13,64,15],[64,16,64,18],[65,39,65,42],[65,22,65,24],[64,19,64,21],[65,16,65,18],[70,35,70,37],[62,19,62,21],[62,13,62,15],[71,43,71,47],[71,16,71,18],[71,13,71,15],[60,36,60,37],[61,29,61,30],[68,35,68,37],[68,13,68,15],[68,16,68,18],[68,19,68,21],[66,13,66,15],[66,16,66,18],[68,91,68,93],[70,62,70,66],[68,32,68,33],[67,16,67,18],[69,13,69,15],[69,16,69,18],[61,43,61,47],[61,48,61,52],[61,53,61,56],[63,16,63,18],[63,19,63,21],[66,19,66,21],[66,22,66,24],[67,22,67,24],[63,22,63,24],[61,13,61,15],[61,22,61,24],[67,19,67,21],[69,29,69,30],[68,22,68,24],[70,43,70,47],[70,29,70,30],[70,53,70,56],[70,48,70,52],[67,39,67,42],[70,72,70,75],[77,82,77,86],[75,62,75,66],[76,69,76,72],[76,29,76,30],[76,35,76,37],[75,32,75,33],[76,39,76,42],[76,43,76,47],[76,25,76,28],[77,43,77,47],[74,62,74,66],[70,94,70,96],[70,83,70,84],[70,79,70,81],[71,83,72,102],[70,77,70,78],[67,67,70,71],[70,97,70,99],[70,85,70,87],[70,101,70,102],[70,88,70,90],[70,91,70,93],[68,72,68,75],[67,88,67,90],[68,88,68,90],[68,85,68,87],[67,79,67,81],[67,82,67,84],[67,97,67,102],[74,77,74,83],[74,87,74,91],[74,96,74,100],[80,73,80,75],[80,39,80,42],[77,39,77,42],[76,48,76,52],[78,67,78,71],[80,68,80,70],[80,53,80,56],[75,25,75,28],[75,29,75,30],[76,57,76,61],[75,53,75,56],[75,43,75,47],[75,35,75,37],[75,39,75,42],[76,32,76,33],[77,57,77,61],[77,62,77,66],[81,67,82,102],[76,78,76,81],[79,101,79,102],[79,39,79,42],[79,43,79,47],[79,48,79,52],[79,53,79,56],[79,97,79,98],[78,82,78,86],[78,87,78,90],[80,100,80,102],[78,72,78,76],[78,77,78,81],[80,92,80,94],[80,96,80,98],[78,91,78,94],[78,95,78,98],[80,78,80,80],[77,91,77,94],[76,87,76,90],[80,88,80,90],[78,99,78,102],[78,39,78,42],[78,43,78,47],[78,48,78,52],[78,53,78,56],[78,57,78,61],[78,62,78,66],[77,87,77,90],[77,77,77,81],[76,96,76,99],[80,82,80,86],[88,32,88,34],[88,44,88,47],[83,62,83,66],[84,39,84,42],[84,43,84,47],[84,48,84,52],[83,39,83,42],[83,32,83,33],[83,36,83,37],[83,43,83,47],[83,48,83,52],[83,53,83,56],[82,43,82,47],[82,53,82,56],[80,35,81,38],[70,32,70,33],[72,35,72,37],[71,35,71,37],[75,57,75,61],[81,62,81,66],[81,32,81,34],[81,39,81,42],[81,43,81,47],[80,43,80,47],[80,48,80,52],[81,48,81,52],[74,32,74,33],[74,35,74,37],[74,39,74,42],[74,53,74,56],[72,62,72,66],[73,62,73,66],[92,39,92,42],[92,43,92,45],[92,46,92,48],[92,49,92,51],[91,61,91,66],[65,10,65,12],[65,13,65,15],[67,13,67,15],[69,10,69,12],[70,25,70,28],[91,26,91,27],[91,28,91,29],[91,30,91,31],[91,32,91,34],[91,52,91,57],[91,35,91,36],[91,37,91,38],[91,39,91,42],[90,52,90,54],[90,55,90,57],[90,39,90,42],[90,44,90,45],[90,49,90,51],[91,43,91,45],[91,46,91,48],[91,49,91,51],[90,46,90,48],[81,29,81,31],[74,0,75,24],[73,0,73,6],[69,0,69,6],[67,7,67,9],[14,67,15,81],[16,74,16,95],[17,59,17,65],[14,82,15,95],[17,91,17,94],[17,68,17,71],[17,73,17,76],[17,82,17,83],[22,49,22,51],[22,53,22,56],[22,60,22,64],[22,73,22,76],[21,49,21,51],[21,53,21,56],[21,60,21,64],[21,95,21,98],[32,91,32,94],[31,49,31,51],[31,53,31,56],[25,60,25,64],[26,53,26,56],[29,49,29,51],[27,91,27,94],[27,73,27,76],[27,77,27,80],[32,68,32,72],[26,60,26,64],[25,86,25,90],[23,91,23,94],[23,95,23,98],[20,95,20,98],[17,53,17,57],[71,29,71,30],[57,35,57,37],[72,29,72,30],[73,25,73,28],[77,53,77,56],[76,53,76,56],[44,32,44,35],[45,32,45,35],[53,25,53,27],[53,36,53,37],[57,25,57,29],[57,31,57,33],[51,29,51,32],[73,29,73,30],[73,32,73,33],[71,32,71,33],[72,32,72,33],[44,25,44,28],[60,29,60,30],[73,53,73,56],[72,53,72,56],[68,25,68,28],[69,32,69,33],[55,47,55,49],[57,47,57,50],[56,39,56,42],[55,35,55,38],[58,55,58,57],[45,29,45,30],[54,43,54,46],[44,36,44,37],[92,14,92,16],[90,61,90,63],[88,50,88,53],[58,58,58,60],[58,61,58,63],[84,53,84,56],[84,62,84,66],[75,48,75,52],[88,61,88,66],[84,57,84,61],[81,53,81,56],[76,62,76,66],[82,39,82,42],[16,36,16,37],[25,37,26,38],[46,36,46,37],[19,40,19,46],[41,49,41,51],[40,49,40,51],[40,36,40,37],[25,35,26,36],[27,35,27,36],[39,40,39,46],[34,36,34,37],[34,60,34,64],[36,53,36,56],[26,40,26,46],[26,49,26,51],[38,60,38,64],[23,53,23,56],[89,61,89,63],[53,29,53,31],[92,32,92,34],[65,73,65,76],[65,78,65,81],[65,83,65,86],[68,0,68,6],[67,0,67,6],[66,0,66,6],[82,57,82,61],[82,48,82,52],[92,61,92,66],[65,88,65,91],[65,93,65,96],[90,64,90,66],[90,58,90,60],[82,62,82,66],[80,62,80,66],[80,57,80,61],[79,57,79,61],[79,62,79,66],[81,57,81,61],[92,52,92,57]],"merged_total":1107,"flags":["merged_cut"]}
[{"$f":"+データ一覧!U2","v":"おおいぐん"}]
[{"$f":"+データ一覧!U5","v":"大飯郡"}]
[]
[null,null,null,null,null,null,null,null,null,null,null,null,null,null,null,null,null,null,null,null,null,null,null,null,null,null,"　　【町章とそのいわれ】昭和３８年に町民から募集し、３９年に制定。",null,null,null,null,null,null,null,null,null,null,null,null,"【位置および地勢】高浜町は福井県の西の玄関口に位置し、南東はおおい町西",null,null,null,null,null,null,null,null,null,null,null,null,null,null,null,null,null,null,null,null,null,null,null,null,null,null,null,null,null,null,"所在地",null,null,null,null,null,null,null,"〒919-2292"]
[null,null,null,null,null,null,null,null,null,null,null,null,null,null,null,null,null,null,null,null,null,null,null,null,null,null,null,"                 輪部は高浜町の高とハマの文字を図案化した",null,null,null,null,null,null,null,null,null,null,null,"　は京都府と境する。南西の飯盛山脈を背にして北は日本海に面する。",null,null,null,null,null,null,null,null,null,null,null,null,null,null,null,null,null,null,null,null,null,null,null,null,null,null,null,null,null,null,null,null,null,null,null,null,null,null,"大飯郡高浜町宮崎第８６号２３番地２"]
[{"$f":"+データ一覧!U3","v":"たかはまちょう"},null,null,null,null,null,null,null,null,null,null,null,null,null,null,null,null,null,null,null,null,null,null,null,null,null,null,"                もので、中の輪は風光明媚な若狭湾国定公園の",null,null,null,null,null,null,null,null,null,null,null,"  リアス式海岸の特徴を示す内浦地区には原子力発電所があり、一方、和田地区から"]
[{"$f":"データ一覧!U6","v":"高浜町"},null,null,null,null,null,null,null,null,null,null,null,null,null,null,null,null,null,null,null,null,null,null,null,null,null,null,"                 中心なる高浜町を象徴する明鏡洞を表している。",null,null,null,null,null,null,null,null,null,null,null,"  高浜地区を経て青郷地区に至る８㎞は広い白砂の海岸と松林など変化に富み、",null,null,null,null,null,null,null,null,null,null,null,null,null,null,null,null,null,null,null,null,null,null,null,null,null,null,null,null,null,null,"電話番号",null,null,null,null,null,null,null,"（０７７０）７２－１１１１"]
[null,null,null,null,null,null,null,null,null,null,null,null,null,null,null,null,null,null,null,null,null,null,null,null,null,null,null,"                 上部の錐角は永遠の希望と限りなき前進を示し、",null,null,null,null,null,null,null,null,null,null,null,"  ことに夏は関西・中京方面よりの海水浴客でにぎわう。",null,null,null,null,null,null,null,null,null,null,null,null,null,null,null,null,null,null,null,null,null,null,null,null,null,null,null,null,null,null,"FAX番号",null,null,null,null,null,null,null,"     〃     ７２－４０００"]
[null,null,null,null,null,null,null,null,null,null,null,null,null,null,null,null,null,null,null,null,null,null,null,null,null,null,null,"                 周囲の錐角は明鏡洞を中心に観光都市として",null,null,null,null,null,null,null,null,null,null,null,"  町の西部にある青葉山は標高 693ｍで、その雄姿は一名若狭富士と呼ばれている。"]
[null,null,null,null,null,null,null,null,null,null,null,null,null,null,null,null,null,null,null,null,null,null,null,null,null,null,null,"  　　           伸びゆくタカハマの未来像をシンボライズした",null,null,null,null,null,null,null,null,null,null,null,"  町の約70％は山林で、日本海に注ぐ河川の流域に耕地が広がっている。",null,null,null,null,null,null,null,null,null,null,null,null,null,null,null,null,null,null,null,null,null,null,null,null,null,null,null,null,null,null,"最寄駅および距離",null,null,null,null,null,null,null,"ＪＲ小浜線若狭高浜駅  下車２３０ｍ"]
[null,null,null,null,null,null,null,null,null,null,null,null,null,null,null,null,null,null,null,null,null,null,null,null,null,null,null,"                 ものである。"]
[]
[null,null,null,null,null,null,null,null,null,null,null,null,null,null,null,null,null,null,null,null,null,null,null,null,null,null,"　【町が掲げる標語】くるむ　つなぐ　かがやく～ 自然とともにある暮らし　若狭たかはま～",null,null,null,null,null,null,null,null,null,null,null,null,null,null,null,null,null,null,null,null,null,null,null,null,null,null,null,null,null,null,null,null,null,null,null,null,null,null,null,null,null,null,null,"ホームページ",null,null,null,null,null,null,null,"https://www.town.takahama.fukui.jp/"]
[]
["  １  土            　　地",null,null,null,null,null,null,null,null,null,null,null,null,null,null,null,null,null,null,null,null,null,null,null,null,{"$f":"データ一覧!$A$240","v":"5年"},"産米収穫量",null,null,"　 収　穫　量",null,null," 　作 付 面 積",null,null,"   10a当たり収量",null,null,null,null,null,null,null,null,null,null,null,null,null,null,null,null,null,null,null,null,null,null,null,null,null,null,null,null,null,null,null," １５  労　　　　　　　働",null,null,null,null,null,null,null,null,null,null,null,null,null,null,"2.10.1"]
[null,null,null,null,null,null,null,null,null,null,null,null,null,null,null,null,null,null,null,null,null,null,null,null,null,null,null,null,null,{"$f":"データ一覧!$U$240","v":854},null,"t",{"$f":"データ一覧!$U$241","v":182},null,"ha",{"$f":"データ一覧!U242","v":469},null,null,"kg"," １０  工　　　　　　業 ",null,null,null,null,null,null,null,null,null,null,null,null,null,{"$f":"データ一覧!$A$332","v":"4.6.1（令和3年実績）"}]
["   総          面           積",null,null,null,null,null,null,null,null,null," 固 定 資 産 概 要 調 書 に よ る 地 目 別 面 積",null,null,null,null,null,null,null,null,null,null,null,null,null,null,null,null,null,"   総　　　数",null,null,null,"うち　　田",null,null,null,"うち　　畑",null,null,null,null,null,null,null,null,null,null,null,null,null,null,null,null,null,null,null,null,null,null,null,null,null,null,null,null,null,null,null,null,null,null,null,null,null,"産業別就業者数   "]
[null,null,{"$f":"データ一覧!$A$7","v":"6.10.1"},null,null,null,null,null,null,null,null,null,null,null,null,null,{"$f":"データ一覧!$A$9","v":"6.1.1"},null,null,null,null,null,null,null,null," 耕  地  面  積",null,null,null,"       ha",null,null,"ha ",null,null,null,"ha ",null,null,"      ","産業分類",null,null,null,null,null,null,null,"事業所数",null,null,null,null,"従業者数",null,null,null,null,null,"年間製造品出荷額等",null,null,null,null,null,null,null,null,"区  分",null,null,null,null,"総    数",null,null,null,null,"男",null,null,null,"女",null,null,"  ","区  分",null,null,null,null,"総    数",null,null,null,null,"男",null,null,null,"女"]
[null,null,null,null,null,null,"㎢",null,null,null,"   総       数",null,null,null,null,"  う ち     田",null,null,null,null,"  う ち     畑",null,null,null,null,{"$f":"データ一覧!A243","v":"5.7.15"},null,null,{"$f":"データ一覧!$U$243","v":424},null,null,{"$f":"データ一覧!$U$244","v":345},null,null,null,{"$f":"データ一覧!$U$245","v":79},null,null,null,null,null,null,null,null,null,null,null,null,"　　   ",null,null,"事業所",null,"　　　　　　　 人",null,null,"人",null,"　　　　　　　　　　　　　　万円",null,null,null,null,null,null,"万円",null,null,null,null,null,null,null,"      人",null,null,null,null,null," 人",null,null,null," 人",null,null,null,null,null,null,null,"      人",null,null,null,"      人",null,null,null,"      人"]
[null,null,null,{"$f":"データ一覧!U7","v":72.400000000000006},null,null,null,null,null,null,null,null,null,null,"ha",null,null,null,null,"ha",null,null,null,null,"ha","農 業 生 産 物",null,null,null,"作 付 面 積",null,null,"収 穫 量",null,null,"10a当たり収量",null,null,null,"     ","総数",null,null,null,null,null,null,null,null,{"$f":"データ一覧!U332","v":11},null,null,null,{"$f":"+データ一覧!U357","v":270},null,null,null,null,null,null,{"$f":"データ一覧!U382","v":671257},null,null,null,null,null,null," 総　　　数",null,null,null,null,null,{"$f":"BZ20+CD20","v":5554},null,null,null,{"$f":"データ一覧!U507","v":3332},null,null,null,{"$f":"データ一覧!U532","v":2222}]
[null,null,null,null,null,null,null,null,null,null,null,{"$f":"データ一覧!U9","v":7240},null,null,null,null,{"$f":"データ一覧!U10","v":452.2},null,null,null,null,{"$f":"データ一覧!U11","v":158.19999999999999},null,null,null,{"$f":"データ一覧!$A$246","v":"5年産"},null,null,null,"ha",null,null,"t",null,null,"kg",null,null,null,"     食料品","食料品",null,null,null,null,null,null,null,null,{"$f":"データ一覧!U333","v":1},null,null,null,{"$f":"+データ一覧!U358","v":5},null,null,null,null,null,null,{"$f":"データ一覧!U383","v":"x"},null,null,null,null,null,null,null,null,null,null,null,null,null,null,null,null,null,null,null,null,null,null,null,null,null,"卸売業,小売業",null,null,null,null,{"$f":"CR21+CV21","v":508},null,null,null,{"$f":"データ一覧!U520","v":198},null,null,null,{"$f":"データ一覧!U545","v":310}]
["  町 ･ 丁 ･ 大 字",null,null,null,null,null,null,null,null,null,"  う ち  宅 地",null,null,null,null,"  う ち  山 林",null,null,null,null,"  う ち  原 野",null,null,null,null,"水　　　　　稲",null,null,null,{"$f":"データ一覧!U246","v":182},null,null,{"$f":"データ一覧!U247","v":854},null,null,{"$f":"データ一覧!U248","v":469},null,null,null,"     飲料・飼料","飲料・飼料",null,null,null,null,null,null,null,null,{"$f":"データ一覧!U334","v":0},null,null,null,{"$f":"+データ一覧!U359","v":0},null,null,null,null,null,null,{"$f":"データ一覧!U384","v":0},null,null,null,null,null,null," 第１次産業",null,null,null,null,null,{"$f":"BZ22+CD22","v":333},null,null,null,{"$f":"データ一覧!U508","v":189},null,null,null,{"$f":"データ一覧!U533","v":144},null,null,null,null,"金融業,保険業",null,null,null,null,{"$f":"CR22+CV22","v":29},null,null,null,{"$f":"データ一覧!U521","v":12},null,null,null,{"$f":"データ一覧!U546","v":17}]
["  区    画    数",null,null,null,null,null,null,{"$f":"データ一覧!U8","v":54},null,null,null,null,null,null,"ha",null,null,null,null,"ha",null,null,null,null,"ha","六　条　大　麦",null,null,null,{"$f":"データ一覧!U249","v":4},null,null,{"$f":"データ一覧!U250","v":10},null,null,{"$f":"データ一覧!U251","v":248},null,null,null,"     繊維","繊維",null,null,null,null,null,null,null,null,{"$f":"データ一覧!U335","v":2},null,null,null,{"$f":"+データ一覧!U360","v":46},null,null,null,null,null,null,{"$f":"データ一覧!U385","v":"x"},null,null,null,null,null,null,"  ","農業",null,null,null,null,{"$f":"BZ23+CD23","v":268},null,null,null,{"$f":"データ一覧!U509","v":137},null,null,null,{"$f":"データ一覧!U534","v":131},null,null,null,"  ","不動産業",null,null,null,null,{"$f":"CR23+CV23","v":37},null,null,null,{"$f":"データ一覧!U522","v":22},null,null,null,{"$f":"データ一覧!U547","v":15}]
[{"$f":"データ一覧!$A$8","v":"5.4.1"},null,null,null,null,null,null,null,null,null,null,{"$f":"データ一覧!U12","v":324.89999999999998},null,null,null,null,{"$f":"データ一覧!U13","v":2242.6999999999998},null,null,null,null,{"$f":"データ一覧!U14","v":122},null,null,null,"大　　      豆",null,null,null,{"$f":"データ一覧!U252","v":0},null,null,{"$f":"データ一覧!U253","v":"-"},null,null,{"$f":"データ一覧!U254","v":"-"},null,null,null,"     衣服","木材",null,null,null,null,null,null,null,null,{"$f":"データ一覧!U336","v":1},null,null,null,{"$f":"+データ一覧!U361","v":25},null,null,null,null,null,null,{"$f":"データ一覧!U386","v":"x"},null,null,null,null,null,null,"  ","林業",null,null,null,null,5,null,null,null,{"$f":"データ一覧!U510","v":4},null,null,null,{"$f":"データ一覧!U535","v":1},null,null,null,"  ","学術研究",null,null,null,null,157,null,null,null,{"$f":"データ一覧!U523","v":115},null,null,null,{"$f":"データ一覧!U548","v":42}]
["  ２  世　帯　数　と　人　口",null,null,null,null,null,null,null,null,null,null,null,null,null,null,null,null,null,null,null,null,null,null,null,null,null,null,"  区　分",null," 乳 用 牛",null," 肉 用 牛",null,"豚",null,"採卵鶏",null,"ブロイラー",null,"     木材","家具",null,null,null,null,null,null,null,null,{"$f":"データ一覧!U337","v":2},null,null,null,{"$f":"+データ一覧!U362","v":89},null,null,null,null,null,null,{"$f":"データ一覧!U387","v":"x"},null,null,null,null,null,null,"  ","漁業",null,null,null,null,60,null,null,null,{"$f":"データ一覧!U511","v":48},null,null,null,{"$f":"データ一覧!U536","v":12},null,null,null,"  ","宿泊業,飲食ｻｰﾋﾞｽ",null,null,null,null,412,null,null,null,{"$f":"データ一覧!U524","v":124},null,null,null,{"$f":"データ一覧!U549","v":288}]
[null,null,null,null,null,null,null,null,null,null,null,null,null,null,null,null,null,null,null,null,null,null,null,null,null,"畜　産",null," 飼養農家",null,{"$f":"データ一覧!$U$255","v":0},null,{"$f":"データ一覧!$U$257","v":0},null,{"$f":"データ一覧!$U$259","v":0},null,{"$f":"データ一覧!$U$261","v":0},null,{"$f":"データ一覧!$U$263","v":0},null,"     家具","パルプ・紙",null,null,null,null,null,null,null,null,{"$f":"データ一覧!U338","v":0},null,null,null,{"$f":"+データ一覧!U363","v":0},null,null,null,null,null,null,{"$f":"データ一覧!U388","v":0},null,null,null,null,null,null," 第２次産業",null,null,null,null,null,1429,null,null,null,{"$f":"データ一覧!U512","v":1110},null,null,null,{"$f":"データ一覧!U537","v":319},null,null,null,"  ","生活関連ｻｰﾋﾞｽ業",null,null,null,null,127,null,null,null,{"$f":"データ一覧!U525","v":47},null,null,null,{"$f":"データ一覧!U550","v":80}]
[null,null,null,null,null,null,null,null,"        人　　　　　　　　　　口",null,null,null,null,null,null,null,null,null,null,null,"１世帯当",null,"人    口",null,null,{"$f":"データ一覧!$A$255","v":"6.3.31"},null,"（戸）",null,null,null,null,null,null,null,null,null,null,null,"     パルプ・紙","印刷",null,null,null,null,null,null,null,null,{"$f":"データ一覧!U339","v":1},null,null,null,{"$f":"+データ一覧!U364","v":6},null,null,null,null,null,null,{"$f":"データ一覧!U389","v":"x"},null,null,null,null,null,null,null,"鉱業，採石業",null,null,null,null,0,null,null,null,0,null,null,null,0,null,null,null,"  ","教育,学習支援業",null,null,null,null,182,null,null,null,{"$f":"データ一覧!U526","v":74},null,null,null,{"$f":"データ一覧!U551","v":108}]
[" 区　　　　分",null,null,null,null,"世帯数",null,null," 総   数",null,null,"    男",null,null,"    女",null,null,"  男／女",null,null,"たり人員",null,"密    度",null,null,null,null," 頭 羽",null,{"$f":"データ一覧!$U$256","v":0},null,{"$f":"データ一覧!$U$258","v":0},null,{"$f":"データ一覧!$U$260","v":0},null,{"$f":"データ一覧!$U$262","v":0},null,{"$f":"データ一覧!$U$264","v":0},null,"     出版・印刷","化学",null,null,null,null,null,null,null,null,{"$f":"データ一覧!U340","v":0},null,null,null,{"$f":"+データ一覧!U365","v":0},null,null,null,null,null,null,{"$f":"データ一覧!U390","v":0},null,null,null,null,null,null,"  ","建設業",null,null,null,null,923,null,null,null,{"$f":"データ一覧!U514","v":788},null,null,null,{"$f":"データ一覧!U539","v":135},null,null,null,null,"医療，福祉",null,null,null,null,618,null,null,null,{"$f":"データ一覧!U527","v":123},null,null,null,{"$f":"データ一覧!U552","v":495}]
[null,null,null,null,null,"    世 帯",null,null,"       人",null,null,"       人",null,null,"       人",null,null,null,"　　％",null,"    人",null,"    人/㎢",null,null,null,null,null,null,null,null,null,null,null,null,null,null,null,null,"     化学","石油・石炭",null,null,null,null,null,null,null,null,{"$f":"データ一覧!U341","v":0},null,null,null,{"$f":"+データ一覧!U366","v":0},null,null,null,null,null,null,{"$f":"データ一覧!U391","v":0},null,null,null,null,null,null,null,"製造業",null,null,null,null,506,null,null,null,{"$f":"データ一覧!U515","v":322},null,null,null,{"$f":"データ一覧!U540","v":184},null,null,null,null,"複合サービス事業",null,null,null,null,80,null,null,null,{"$f":"データ一覧!U528","v":52},null,null,null,{"$f":"データ一覧!U553","v":28}]
[{"$f":"データ一覧!$A$22","v":" 2.10.1"},null,null,null,null,{"$f":"データ一覧!U22","v":3822},null,null,{"$f":"+L30+O30","v":12425},null,null,{"$f":"データ一覧!U24","v":6250},null,null,{"$f":"データ一覧!U25","v":6175},null,null,null,{"$f":"+L30/O30*100","v":101.21457489878543},null,{"$f":"データ一覧!U27","v":3.25},null,{"$f":"データ一覧!U28","v":172.6},null,null,"  ５  林               業",null,null,null,null,null,null,null,null,null,null,null,null,null,"     石油・石炭","プラスチック",null,null,null,null,null,null,null,null,{"$f":"データ一覧!U342","v":0},null,null,null,{"$f":"+データ一覧!U367","v":0},null,null,null,null,null,null,{"$f":"データ一覧!U392","v":0},null,null,null,null,null,null," 第３次産業",null,null,null,null,null,3586,null,null,null,{"$f":"データ一覧!U516","v":1921},null,null,null,{"$f":"データ一覧!U541","v":1665},null,null,null,null,"サービス業",null,null,null,null,527,null,null,null,{"$f":"データ一覧!U529","v":367},null,null,null,{"$f":"データ一覧!U554","v":160}]
[{"$f":"データ一覧!$A$29","v":" 7.10.1"},null,null,null,null,{"$f":"データ一覧!U29","v":3816},null,null,{"$f":"+L31+O31","v":12201},null,null,{"$f":"データ一覧!U31","v":6086},null,null,{"$f":"データ一覧!U32","v":6115},null,null,null,99.52575633687654,null,{"$f":"データ一覧!U34","v":3.2},null,{"$f":"データ一覧!U35","v":169.4},null,null,null,null,null,null,null,null,null,null,null,null,null,null,null,null,"     プラスチック","ゴム",null,null,null,null,null,null,null,null,{"$f":"データ一覧!U343","v":0},null,null,null,{"$f":"+データ一覧!U368","v":0},null,null,null,null,null,null,{"$f":"データ一覧!U393","v":0},null,null,null,null,null,null,null,"電気･ｶﾞｽ･水道業",null,null,null,null,524,null,null,null,{"$f":"データ一覧!U517","v":497},null,null,null,{"$f":"データ一覧!U542","v":27},null,null,null,null,"公務",null,null,null,null,235,null,null,null,{"$f":"データ一覧!U530","v":171},null,null,null,{"$f":"データ一覧!U555","v":64}]
[{"$f":"データ一覧!$A$36","v":"12.10.1"},null,null,null,null,{"$f":"データ一覧!U36","v":4015},null,null,{"$f":"+L32+O32","v":12119},null,null,{"$f":"データ一覧!U38","v":6076},null,null,{"$f":"データ一覧!U39","v":6043},null,null,null,100.54608638093663,null,{"$f":"データ一覧!U41","v":3.02},null,{"$f":"データ一覧!U42","v":168.2},null,null,"    　森　　　林　　　総　　　面　　　積   ",null,null,null,null,null,null,null,{"$f":"データ一覧!$A$265","v":"5.3.31"},null,null,null,null,null,"     ゴム","皮革",null,null,null,null,null,null,null,null,{"$f":"データ一覧!U344","v":0},null,null,null,{"$f":"+データ一覧!U369","v":0},null,null,null,null,null,null,{"$f":"データ一覧!U394","v":0},null,null,null,null,null,null,null,"情報通信業",null,null,null,null,16,null,null,null,{"$f":"データ一覧!U518","v":9},null,null,null,{"$f":"データ一覧!U543","v":7},null,null,null," 分類不能の産業",null,null,null,null,null,206,null,null,null,{"$f":"データ一覧!U531","v":112},null,null,null,{"$f":"データ一覧!U556","v":94}]
[{"$f":"+データ一覧!$A$43","v":"17.10.1"},null,null,null,null,{"$f":"データ一覧!U43","v":4014},null,null,{"$f":"+L33+O33","v":11630},null,null,{"$f":"データ一覧!U45","v":5729},null,null,{"$f":"データ一覧!U46","v":5901},null,null,null,97.085239789866122,null,{"$f":"データ一覧!U48","v":2.9},null,{"$f":"データ一覧!U49","v":161.30000000000001},null,null,"　　　森　　　　　　　林　　　　　　　の　　　　　　　構　　　　　　　成",null,null,null,null,null,null,null,null,null,null,null,null,null,"     皮革","窯業・土石",null,null,null,null,null,null,null,null,{"$f":"データ一覧!U345","v":2},null,null,null,{"$f":"+データ一覧!U370","v":46},null,null,null,null,null,null,{"$f":"データ一覧!U395","v":"x"},null,null,null,null,null,null,"  ","運輸業,郵便業",null,null,null,null,{"$f":"BZ33+CD33","v":134},null,null,null,{"$f":"データ一覧!U519","v":110},null,null,null,{"$f":"データ一覧!U544","v":24}]
[{"$f":"+データ一覧!$A$50","v":"22.10.1"},null,null,null,null,{"$f":"データ一覧!U50","v":4044},null,null,{"$f":"+L34+O34","v":11062},null,null,{"$f":"データ一覧!U52","v":5521},null,null,{"$f":"データ一覧!U53","v":5541},null,null,null,99.639054322324498,null,{"$f":"+データ一覧!U55","v":2.74},null,{"$f":"データ一覧!U56","v":153.30000000000001},null,null,null,null,null,null,null,"       ha",null,null,null,null,null,null,"       ha",null,"     窯業・土石","鉄鋼",null,null,null,null,null,null,null,null,{"$f":"データ一覧!U346","v":1},null,null,null,{"$f":"+データ一覧!U371","v":47},null,null,null,null,null,null,{"$f":"データ一覧!U396","v":"x"},null,null,null,null,null,null," １６  社　 会 　福　 祉",null,null,null,null,null,null,null,null,null,null,null,null,null,null,null,{"$f":"データ一覧!$A$557","v":"6.4.1"}]
[{"$f":"データ一覧!$A$57","v":"27.10.1"},null,null,null,null,{"$f":"データ一覧!U57","v":4191},null,null,{"$f":"データ一覧!U58","v":10596},null,null,{"$f":"データ一覧!U59","v":5417},null,null,{"$f":"データ一覧!U60","v":5179},null,null,null,104.59548175323421,null,{"$f":"データ一覧!U62","v":2.5282748747315678},null,{"$f":"データ一覧!U63","v":146.4},null,null,"  総　　　　　   数",null,null,null,{"$f":"データ一覧!U265","v":5332.7699999999995},null,null," 天然林       針葉樹",null,null,null,{"$f":"データ一覧!U268","v":348.62},null,null,"     鉄鋼","非鉄金属",null,null,null,null,null,null,null,null,{"$f":"データ一覧!U347","v":0},null,null,null,{"$f":"+データ一覧!U372","v":0},null,null,null,null,null,null,{"$f":"データ一覧!U397","v":0}]
["令　2.10.1（国調）",null,null,null,null,{"$f":"データ一覧!U64","v":4500},null,null,{"$f":"データ一覧!U65","v":10326},null,null,{"$f":"データ一覧!U66","v":5424},null,null,{"$f":"データ一覧!U67","v":4902},null,null,null,{"$f":"+L36/O36*100","v":110.64871481028152},null,{"$f":"データ一覧!U69","v":2.2946666666666666},null,{"$f":"データ一覧!U70","v":142.62430939226519},null,null,"  人工林     針葉樹",null,null,null,{"$f":"データ一覧!U266","v":2341.06},null,null," 天然林       広葉樹",null,null,null,{"$f":"データ一覧!U269","v":2190.37},null,null,"     非鉄金属","金属",null,null,null,null,null,null,null,null,{"$f":"データ一覧!U348","v":0},null,null,null,{"$f":"+データ一覧!U373","v":0},null,null,null,null,null,null,{"$f":"データ一覧!U398","v":0},null,null,null,null,null,null,"    ","区分",null,null,null,null,null,null,"施設数",null,null,null,null,"収容定員",null,null,null,null,null,"区分",null,null,null,null,null,null,"施設数",null,null,null,null,"収容定員"]
["年",null,"  区",null," 0歳",null,null,"15歳",null,null,"25歳",null,null,"35歳",null,null,"45歳",null,null,"55歳",null,null,"65歳",null,null,"  人工林     広葉樹",null,null,null,{"$f":"データ一覧!U267","v":2.31},null,null," 竹               林",null,null,null,{"$f":"データ一覧!U270","v":249.45},null,null,"     金属","はん用機械",null,null,null,null,null,null,null,null,{"$f":"データ一覧!U349","v":1},null,null,null,{"$f":"+データ一覧!U374","v":6},null,null,null,null,null,null,{"$f":"データ一覧!U399","v":"x"},null,null,null,null,null,null,"生活保護施設",null,null,null,null,null,null,null,{"$f":"データ一覧!U557","v":"-"},null,null,null,{"$f":"データ一覧!U570","v":"-"},null,null,null,"人",null,"指定障害者支援施設",null,null,null,null,null,null,null,{"$f":"データ一覧!U563","v":"-"},null,null,null,{"$f":"データ一覧!U576","v":"-"},null,null,null,"人"]
["齢","令",null,null,null,"～",null,null,"～",null,null,"～",null,null,"～",null,null,"～",null,null,"～",null,null,null,null,null,null,null,null,null,null,null,null,null,null,null,null,null,null,"     一般機械","生産用機械",null,null,null,null,null,null,null,null,{"$f":"データ一覧!U350","v":0},null,null,null,{"$f":"+データ一覧!U375","v":0},null,null,null,null,null,null,{"$f":"データ一覧!U400","v":0},null,null,null,null,null,null,"地域福祉施設",null,null,null,null,null,null,null,{"$f":"データ一覧!U558","v":"-"},null,null,null,{"$f":"データ一覧!U571","v":"-"},null,null,null,null,null,"指定相談支援事業所",null,null,null,null,null,null,null,{"$f":"データ一覧!U564","v":"-"},null,null,null,{"$f":"データ一覧!U577","v":"-"}]
["階",{"$f":"+LEFT(データ一覧!$A$83,1)","v":"6"},"  分",null,null,null,"14歳",null,null,"24歳",null,null,"34歳",null,null,"44歳",null,null,"54歳",null,null,"64歳",null,null,"以上","    林     野     の     構     成",null,null,null,null,null,null,"保     有     形     態     別",null,null,null,null,null,null,"     電気機械","業務用機械",null,null,null,null,null,null,null,null,{"$f":"データ一覧!U351","v":0},null,null,null,{"$f":"+データ一覧!U376","v":0},null,null,null,null,null,null,{"$f":"データ一覧!U401","v":0},null,null,null,null,null,null,"老人福祉施設",null,null,null,null,null,null,null,{"$f":"データ一覧!U559","v":5},null,null,null,{"$f":"データ一覧!U572","v":54},null,null,null,null,null,"児童福祉施設",null,null,null,null,null,null,null,{"$f":"データ一覧!U565","v":11},null,null,null,{"$f":"データ一覧!U578","v":430}]
["級","・",null,null,null,null,"人",null,null,"人",null,"    人",null,null,"    人",null,null,"    人",null,null,"    人",null,null,"    人",null,null,null,null,null,null,null,"ha",null,null,null,null,null,"       ha",null,null,"電子・デバイス",null,null,null,null,null,null,null,null,{"$f":"データ一覧!U352","v":0},null,null,null,{"$f":"+データ一覧!U377","v":0},null,null,null,null,null,null,{"$f":"データ一覧!U402","v":0},null,null,null,null,null,null,"介護保険施設",null,null,null,null,null,null,null,{"$f":"データ一覧!U560","v":19},null,null,null,{"$f":"データ一覧!U573","v":310},null,null,null,null,null,"母子福祉施設",null,null,null,null,null,null,null,{"$f":"データ一覧!U566","v":"-"},null,null,null,{"$f":"データ一覧!U579","v":"-"}]
["別",{"$f":"+MID(データ一覧!$A$83,3,2)","v":"10"},"総 数",null,{"$f":"+E42+E43","v":1060},null,null,{"$f":"+H42+H43","v":739},null,null,{"$f":"+K42+K43","v":777},null,null,{"$f":"+N42+N43","v":952},null,null,{"$f":"+Q42+Q43","v":1410},null,null,{"$f":"+T42+T43","v":1238},null,null,{"$f":"+W42+W43","v":3217},null,null," 無立木地   伐採跡地",null,null,null,{"$f":"データ一覧!U271","v":9.14},null,null,"国   　　　 　 有",null,null,null,{"$f":"データ一覧!U273","v":3.79},null,null,null,"電気機械",null,null,null,null,null,null,null,null,{"$f":"データ一覧!U353","v":0},null,null,null,{"$f":"+データ一覧!U378","v":0},null,null,null,null,null,null,{"$f":"データ一覧!U403","v":0},null,null,null,null,null,null,"障害者自立支援法施行前からの身体障害者福祉施設",null,null,null,null,null,null,null,{"$f":"データ一覧!U561","v":"-"},null,null,null,{"$f":"データ一覧!U574","v":"-"},null,null,null,null,null,"婦人保護施設",null,null,null,null,null,null,null,{"$f":"データ一覧!U567","v":"-"},null,null,null,{"$f":"データ一覧!U580","v":"-"}]
["人","・","  男",null,{"$f":"データ一覧!U83","v":548},null,null,{"$f":"データ一覧!U84","v":411},null,null,{"$f":"データ一覧!U85","v":486},null,null,{"$f":"データ一覧!U86","v":520},null,null,{"$f":"データ一覧!U87","v":762},null,null,{"$f":"データ一覧!U88","v":669},null,null,{"$f":"データ一覧!U89","v":1457},null,null," 無立木地   未立木地",null,null,null,{"$f":"データ一覧!U272","v":191.82},null,null,"公       　　  有",null,null,null,{"$f":"データ一覧!U274","v":428.31},null,null,"     輸送機械","情報通信機械",null,null,null,null,null,null,null,null,{"$f":"データ一覧!U354","v":0},null,null,null,{"$f":"+データ一覧!U379","v":0},null,null,null,null,null,null,{"$f":"データ一覧!U404","v":0},null,null,null,null,null,null,null,null,null,null,null,null,null,null,null,null,null,null,null,null,null,null,null,null,"その他の社会福祉施設",null,null,null,null,null,null,null,{"$f":"データ一覧!U568+データ一覧!U569","v":1},null,null,null,0]
["口",{"$f":"+RIGHT(データ一覧!$A$83,1)","v":"1"},"  女",null,{"$f":"データ一覧!U91","v":512},null,null,{"$f":"データ一覧!U92","v":328},null,null,{"$f":"データ一覧!U93","v":291},null,null,{"$f":"データ一覧!U94","v":432},null,null,{"$f":"データ一覧!U95","v":648},null,null,{"$f":"データ一覧!U96","v":569},null,null,{"$f":"データ一覧!U97","v":1760},null,null,null,null,null,null,null,null,null,"私          　 有",null,null,null,{"$f":"データ一覧!U275","v":4900.67},null,null,"     精密機械","輸送機械",null,null,null,null,null,null,null,null,{"$f":"データ一覧!U355","v":0},null,null,null,{"$f":"+データ一覧!U380","v":0},null,null,null,null,null,null,{"$f":"データ一覧!U405","v":0},null,null,null,null,null,null,"障害福祉サービス事業所",null,null,null,null,null,null,null,{"$f":"データ一覧!U562","v":4},null,null,null,{"$f":"データ一覧!U575","v":20}]
[null,null,null,null,null,null,null,null,null,null,null,null,null,null,null,null,null,null,null,null,null,null,null,null,null,"            林     産     物     生     産     量 ",null,null,null,null,null,null,null,null,null,{"$f":"データ一覧!$A$276","v":"5年中"},null,null,null,"     その他","その他",null,null,null,null,null,null,null,null,{"$f":"データ一覧!U356","v":0},null,null,null,{"$f":"+データ一覧!U381","v":0},null,null,null,null,null,null,{"$f":"データ一覧!U406","v":0},null,null,null,null,null,null," １７  教　　　　　　　育",null,null,null,null,null,null,null,null,null,null,null,null,null,null,null,{"$f":"データ一覧!$A$583","v":"6.5.1"}]
["人口動態",null,null,null,null,null,null,"   自　然　動　態",null,null,null,null,null,"   社  会  動  態",null,null,null,null,null,{"$f":"データ一覧!$A78","v":"5.1.1～5.12.31"},null,null,null,null,null,"生椎茸",null,null,null,{"$f":"データ一覧!U276","v":0},null,"㎏","乾椎茸",null,null,null,{"$f":"データ一覧!U277","v":0},null,"㎏"]
[null,null,"   区       分",null,null,null,null," 出   生",null,null," 死   亡",null,null," 転   入",null,null," 転   出",null,null," 婚   姻",null,null," 離   婚",null,null,"えのきだけ",null,null,null,{"$f":"データ一覧!U279","v":0},null,"㎏","なめこ",null,null,null,{"$f":"データ一覧!U278","v":0},null,"㎏","    ","工　業　用　水　量",null,null,null,null,null,"（従業者30人以上の事業所）",null,null,null,null,null,null,null,null,null,null,{"$f":"データ一覧!U407","v":39},null,null,null,null,"㎥／日",null,null,null,null,null,null,null,null,null,null,null,null,null,null,"学校数（校）",null,null,null,null,null,null,"教員数（人）",null,null,null,null,null,null,null,"学生・生徒・児童数（人）"]
[{"$f":"LEFT(データ一覧!$A74,6)","v":"5.10.1"},null,null,null,null,null,null,"       人",null,null,"       人",null,null,"       人",null,null,"       人",null,null,null,"    件",null,null,"    件",null,"ひらたけ",null,null,null,{"$f":"+データ一覧!U280","v":0},null,"㎏","まいたけ",null,null,null,{"$f":"+データ一覧!U281","v":0},null,"㎏",null,null,null,null,null,null,null,null,null,null,null,null,null,null,null,null,null,null,null,null,null,null,null,null,null,null,null,null,null,"　","区分",null,null,null,null,null,null,null," 本 校",null,null," 分 校",null,null," 本   務",null,null,null," 兼   務",null,null,null," 総   数",null,null,null,"男",null,null,null,"女"]
["～",null," 実          数",null,null,null,null,{"$f":"データ一覧!U74","v":66},null,null,{"$f":"データ一覧!U75","v":145},null,null,{"$f":"データ一覧!U76","v":264},null,null,{"$f":"データ一覧!U77","v":341},null,null,{"$f":"データ一覧!U78","v":39},null,null,{"$f":"データ一覧!U79","v":7},null,null,null,null,null,null,null,null,null,null,null,null,null,null,null,null," １１ 　上　・　下　水　道",null,null,null,null,null,null,null,null,null,null,null,null,null,null,null,null,null,null,null,null,null,null,null,null,null,null,null,null,"小学校",null,null,null,null,null,null,null,null,{"$f":"データ一覧!U584","v":4},null,null,{"$f":"データ一覧!U585","v":1},null,null,{"$f":"データ一覧!U586","v":50},null,null,null,{"$f":"データ一覧!U587","v":6},null,null,null,{"$f":"データ一覧!U588","v":457},null,null,null,{"$f":"データ一覧!U589","v":250},null,null,null,{"$f":"データ一覧!U590","v":207}]
[{"$f":"RIGHT(データ一覧!$A76,6)","v":"6.9.30"},null,"比率(対1,000人)",null,null,null,null,{"$f":"+H48/I36*1000","v":6.3916327716443933},null,null,{"$f":"+K48/I36*1000","v":14.042223513461165},null,null,"- ",null,null,"- ",null,null,{"$f":"+T48/I36*1000","v":3.7768739105171414},null,null,{"$f":"+W48/I36*1000","v":0.67790044547743555},null,null,"  ６  漁               業",null,null,null,null,null,null,null,null,null,null,null,null,null,null,null,null,null,null,null,null,null,null,null,null,null,null,null,null,null,null,null,null,null,null,null,null,null,null,null,null,null,"  ","中学校",null,null,null,null,null,null,null,null,{"$f":"データ一覧!U592","v":2},null,null,{"$f":"データ一覧!U593","v":0},null,null,{"$f":"データ一覧!U594","v":31},null,null,null,{"$f":"データ一覧!U595","v":7},null,null,null,{"$f":"データ一覧!U596","v":247},null,null,null,{"$f":"データ一覧!U597","v":124},null,null,null,{"$f":"データ一覧!U598","v":123}]
[null,null,null,null,null,null,null,null,null,null,null,null,null,null,null,null,null,null,null,null,null,null,null,null,null,null,null,null,null,null,null,null,null,null,null,null,null,null,null,"水 道 供 給 人 口",null,null,null,null,null,null,"上 水 道",null,null,null,"簡易水道",null,null,null,"専用水道",null,null,null,"飲料水供給施設",null,null,null,"下水道処理人口",null,null,null,null,"  ","高等学校",null,null,null,null,null,null,null,null,{"$f":"データ一覧!U600","v":0},null,null,{"$f":"データ一覧!U601","v":0},null,null,{"$f":"データ一覧!U602","v":0},null,null,null,{"$f":"データ一覧!U603","v":0},null,null,null,{"$f":"データ一覧!U604","v":0},null,null,null,{"$f":"データ一覧!U605","v":0},null,null,null,{"$f":"データ一覧!U606","v":0}]
["  ３  事　　業　　所（民　　営）",null,null,null,null,null,null,null,null,null,null,"3.6.1",null,null,null,null,null,null,null,null,null,null,null,null,null,"漁船隻数・トン数",null,null,null,{"$f":"データ一覧!$A$282","v":"5.12.31"},null,null,null,"動　力　船",null,null,null,null,null,{"$f":"データ一覧!$A$408","v":"6.3.31"},null,null,null,null,null,"人",null,{"$f":"データ一覧!U408","v":9244},null,null,{"$f":"データ一覧!U409","v":293},null,null,null,null,{"$f":"データ一覧!U410","v":0},null,null,null,{"$f":"データ一覧!U411","v":98},null,null,null,{"$f":"データ一覧!U412","v":7773},null,null,null,"  ","大学・短期大学",null,null,null,null,null,null,null,null,{"$f":"データ一覧!U607","v":0},null,null,{"$f":"データ一覧!U608","v":0},null,null,{"$f":"データ一覧!U609","v":0},null,null,null,{"$f":"データ一覧!U610","v":0},null,null,null,{"$f":"データ一覧!U611","v":0},null,null,null,{"$f":"データ一覧!U612","v":0},null,null,null,{"$f":"データ一覧!U613","v":0}]
[null,null,null,null,null,null,null,null,null,null,null,null,null,null,null,null,null,null,null,null,null,null,null,null,null,"無動力船隻数",null,null,null,"船外機付漁船隻数",null,null,null,"隻　数",null,null,"総 ト ン 数",null,null,null,null,null,null,null,null,null,null,null,null,null,null,null,null,null,null,null,null,null,null,null,null,null,null,null,null,null,null,"  ","高等専門学校",null,null,null,null,null,null,null,null,{"$f":"データ一覧!U614","v":0},null,null,{"$f":"データ一覧!U615","v":0},null,null,{"$f":"データ一覧!U616","v":0},null,null,null,{"$f":"データ一覧!U617","v":0},null,null,null,{"$f":"データ一覧!U618","v":0},null,null,null,{"$f":"データ一覧!U619","v":0},null,null,null,{"$f":"データ一覧!U620","v":0}]
[null,null,null,null,null,null,null,"    総　　　　　数",null,null,null,null,null,"    民　　　　　営",null,null,null,null,null,"  国 ･ 地方公共団体",null,null,null,null,null,null,null,null,"隻",null,null,null,"隻",null,null,"隻",null,null,"t"," １２  交   通　・　通   信",null,null,null,null,null,null,null,null,null,null,null,null,null,null,null,null,null,null,null,null,null,null,null,null,null,null,null,"  ","特別支援学校",null,null,null,null,null,null,null,null,{"$f":"+データ一覧!U622","v":0},null,null,{"$f":"+データ一覧!U623","v":0},null,null,{"$f":"+データ一覧!U624","v":0},null,null,null,{"$f":"+データ一覧!U625","v":0},null,null,null,{"$f":"+データ一覧!U626","v":0},null,null,null,{"$f":"+データ一覧!U627","v":0},null,null,null,{"$f":"+データ一覧!U628","v":0}]
["  　区　　　　　　分",null,null,null,null,null,null," 事業所数",null,null," 従業者数",null,null," 事業所数",null,null," 従業者数",null,null," 事業所数",null,null," 従業者数",null,null,{"$f":"データ一覧!$U$282","v":17},null,null,null,{"$f":"データ一覧!$U$283","v":67},null,null,null,{"$f":"データ一覧!U284","v":91},null,null,{"$f":"データ一覧!U285","v":298.7},null,null,null,null,null,null,null,null,null,null,null,null,null,null,null,null,null,null,null,null,null,null,null,null,null,null,null,null,null,null,"  ","幼稚園",null,null,null,null,null,null,null,null,{"$f":"データ一覧!U630","v":0},null,null,{"$f":"データ一覧!U631","v":0},null,null,{"$f":"データ一覧!U632","v":0},null,null,null,{"$f":"データ一覧!U633","v":0},null,null,null,{"$f":"データ一覧!U634","v":0},null,null,null,{"$f":"データ一覧!U635","v":0},null,null,null,{"$f":"データ一覧!U636","v":0}]
[null,null,null,null,null,null,null,null,null,null,"       人",null,null,null,null,null,"       人",null,null,null,null,null,"       人",null,null,"  男女別就業者数",null,null,null,null,null,null,null,{"$f":"データ一覧!$A$286","v":"5.11.1"},null,null,null,null,null,"道     路",null,null,null,"実 延 長",null,null,null,"国     道",null,null,null,"県     道",null,null,null,"市町道",null,null,null," 鉄 道 営 業 キ ロ 数",null,null,null,null,null,null,null,"  ","幼保連携認定こども園",null,null,null,null,null,null,null,null,{"$f":"データ一覧!U638","v":2},null,null,{"$f":"データ一覧!U639","v":0},null,null,{"$f":"データ一覧!U640","v":45},null,null,null,{"$f":"データ一覧!U641","v":0},null,null,null,{"$f":"データ一覧!U642","v":144},null,null,null,{"$f":"データ一覧!U643","v":68},null,null,null,{"$f":"データ一覧!U644","v":76}]
["総数",null,null,null,null,null,null,{"$f":"データ一覧!U99","v":"…"},null,null,{"$f":"データ一覧!U156","v":"…"},null,null,{"$f":"データ一覧!U100","v":522},null,null,{"$f":"データ一覧!U157","v":5175},null,null,{"$f":"データ一覧!U101","v":"…"},null,null,{"$f":"データ一覧!U158","v":"…"},null,null,"総　　数",null,null,null,null,null,"男",null,null,null,"女",null,null,null,{"$f":"データ一覧!$A$413","v":"5.4.1"},null,null,null,{"$f":"データ一覧!U413","v":212.9},null,null,"㎞",{"$f":"データ一覧!U414","v":0},null,null,"㎞",{"$f":"データ一覧!U415","v":38},null,null,"㎞",{"$f":"データ一覧!U416","v":174.9},null,null,"km",{"$f":"データ一覧!$A$417","v":"6.4.1"},null,null,null,{"$f":"データ一覧!U417","v":0},null,null,"㎞","  ","各種学校",null,null,null,null,null,null,null,null,{"$f":"データ一覧!U646","v":0},null,null,{"$f":"データ一覧!U647","v":0},null,null,{"$f":"データ一覧!U648","v":0},null,null,null,{"$f":"データ一覧!U649","v":0},null,null,null,{"$f":"データ一覧!U650","v":0},null,null,null,{"$f":"データ一覧!U651","v":0},null,null,null,{"$f":"データ一覧!U652","v":0}]
["農林漁業",null,null,null,null,null,null,{"$f":"データ一覧!U102","v":"…"},null,null,{"$f":"データ一覧!U159","v":"…"},null,null,{"$f":"データ一覧!U103","v":13},null,null,{"$f":"データ一覧!U160","v":305},null,null,{"$f":"データ一覧!U104","v":"…"},null,null,{"$f":"データ一覧!U161","v":"…"},null,null,null,null,null,null,null,"人",null,null,"　　　　人",null,null,null,null,"  人","自動車",null,null,null,null,null,null,null,null,"乗用車",null,null,null,null,null,null,null,null,null,null,null,null,null,null,null,null,null,null,"  ","専修学校",null,null,null,null,null,null,null,null,{"$f":"データ一覧!U654","v":0},null,null,{"$f":"データ一覧!U655","v":0},null,null,{"$f":"データ一覧!U656","v":0},null,null,null,{"$f":"データ一覧!U657","v":0},null,null,null,{"$f":"データ一覧!U658","v":0},null,null,null,{"$f":"データ一覧!U659","v":0},null,null,null,{"$f":"データ一覧!U660","v":0}]
["鉱業",null,null,null,null,null,null,{"$f":"データ一覧!U105","v":"…"},null,null,{"$f":"データ一覧!U162","v":"…"},null,null,{"$f":"データ一覧!U106","v":"-"},null,null,{"$f":"データ一覧!U163","v":"-"},null,null,{"$f":"データ一覧!U107","v":"…"},null,null,{"$f":"データ一覧!U164","v":"…"},null,null,{"$f":"データ一覧!U286","v":66},null,null,null,null,null,{"$f":"データ一覧!$U$287","v":0},null,null,null,{"$f":"データ一覧!U288","v":0},null,null,null,"台  数",null,null,null,"貨    物",null,null,null,"普     通",null,null,null,"小     型",null,null,null,"乗  合",null,null,"特  種",null,null,"小型二輪",null,null,"軽自動車",null,null," １８  衛　　　　　　　生"]
["建設業",null,null,null,null,null,null,{"$f":"データ一覧!U108","v":"…"},null,null,{"$f":"データ一覧!U165","v":"…"},null,null,{"$f":"データ一覧!U109","v":92},null,null,{"$f":"データ一覧!U166","v":1230},null,null,{"$f":"データ一覧!U110","v":"…"},null,null,{"$f":"データ一覧!U167","v":"…"},null,null,"　　　　海 面 漁 業 漁 獲 量 （属人）",null,null,null,null,null,null,null,{"$f":"データ一覧!$A$289","v":"30年中"},null,null,null,null,null,{"$f":"データ一覧!$A$418","v":"6.3.31"},null,null,null,null,{"$f":"データ一覧!U418","v":535},null,null,null,{"$f":"データ一覧!U420","v":1742},null,null,null,{"$f":"データ一覧!U421","v":1586},null,null,{"$f":"データ一覧!U419","v":38},null,null,{"$f":"データ一覧!U422","v":199},null,null,{"$f":"データ一覧!U423","v":153},null,null,{"$f":"データ一覧!U424","v":4170}]
["製造業",null,null,null,null,null,null,{"$f":"データ一覧!U111","v":"…"},null,null,{"$f":"データ一覧!U168","v":"…"},null,null,{"$f":"データ一覧!U112","v":26},null,null,{"$f":"データ一覧!U169","v":348},null,null,{"$f":"データ一覧!U113","v":"…"},null,null,{"$f":"データ一覧!U170","v":"…"},null,null,null,null,null,null,null,"       ","ｔ",null,null,null,null,null,null,"t",null,null,"     ",null,"郵　便　局　数",null,null,null,null,null,null,null,null,null,null,null,null,null,{"$f":"+MID(データ一覧!$A$428,3,2)","v":"3."},"令","一般加入",null,null,null,"ＩＮＳネット",null,null,null,null,null,null,null,"医療関係施設",null,null,null,null,null,{"$f":"データ一覧!$A$661","v":"5.10.1"},null,null,null,null,null,null,"および医療関係者数",null,null,null,null,null,null,null,{"$f":"データ一覧!$A$666","v":"4.12.31"}]
["電気・ｶﾞ ｽ・熱供給・水道業",null,null,null,null,null,null,{"$f":"データ一覧!U114","v":"…"},null,null,{"$f":"データ一覧!U171","v":"…"},null,null,{"$f":"データ一覧!U115","v":1},null,null,{"$f":"データ一覧!U172","v":567},null,null,{"$f":"データ一覧!U116","v":"…"},null,null,{"$f":"データ一覧!U173","v":"…"},null,null,"   総　　　　　　数",null,null,null,{"$f":"データ一覧!U289","v":681},null,null,"   藻　　　　　　類",null,null,null,{"$f":"データ一覧!U292","v":0},null,null,"通  信",null,null,null," 総     数",null,null,null,null," 郵 便 局",null,null,null,null," 簡 易 局",null,null,null,"・",{"$f":"+LEFT(データ一覧!$A$428,1)","v":"6"},"電話数",null,null,null,"加入数",null,null,null,null,null,null,null,null,null,"　","病",null,null,"院",null,"　",null,null,null,null," ","一般診療所",null,null,null,null,null,null,null,null,null,null,null,"歯科診療所"]
["情報通信業",null,null,null,null,null,null,{"$f":"データ一覧!U117","v":"…"},null,null,{"$f":"データ一覧!U174","v":"…"},null,null,{"$f":"データ一覧!U118","v":1},null,null,{"$f":"データ一覧!U175","v":4},null,null,{"$f":"データ一覧!U119","v":"…"},null,null,{"$f":"データ一覧!U176","v":"…"},null,null,"   魚　　　　　　類",null,null,null,{"$f":"データ一覧!U290","v":588},null,null,"   そ　   の　　 他",null,null,null,{"$f":"データ一覧!U293","v":84},null,null,{"$f":"データ一覧!$A$428","v":"6.3.31"},null,null,null,{"$f":"データ一覧!U425","v":5},null,null,null,null,{"$f":"データ一覧!U426","v":4},null,null,null,null,{"$f":"データ一覧!U427","v":1},null,null,null,{"$f":"+RIGHT(データ一覧!$A$428,2)","v":"31"},"・",{"$f":"データ一覧!U428","v":1181},null,null,null,{"$f":"データ一覧!U429","v":185},null,null,null," ","医療関係",null,null,null,null,null,null,null,null,null,null,null,"一般病院",null,null,null,null,null,null,null,null,null,null,null,"有",null,null,"床"]
["運輸業、郵便業",null,null,null,null,null,null,{"$f":"データ一覧!U120","v":"…"},null,null,{"$f":"データ一覧!U177","v":"…"},null,null,{"$f":"データ一覧!U121","v":12},null,null,{"$f":"データ一覧!U178","v":111},null,null,{"$f":"データ一覧!U122","v":"…"},null,null,{"$f":"データ一覧!U179","v":"…"},null,null,"   貝　　　　　　類",null,null,null,{"$f":"データ一覧!U291","v":9},null,null,null,null,null,null,null,null,null,null,null,null,null,null,null,null,null,null,null,null,null,null,null,null,null,null,null,null,null,null,null,null,null,null,null,null,null,null,"施設数",null,null,null,null,null,null,{"$f":"データ一覧!U661","v":1},null,null,null,null,null,{"$f":"データ一覧!U662","v":1},null,null,null,null,null,{"$f":"データ一覧!U663","v":8},null,null,null,null,null,{"$f":"データ一覧!U664","v":0},null,null,null,null,null,{"$f":"データ一覧!U665","v":2}]
["卸売業、小売業",null,null,null,null,null,null,{"$f":"データ一覧!U123","v":"…"},null,null,{"$f":"データ一覧!U180","v":"…"},null,null,{"$f":"データ一覧!U124","v":83},null,null,{"$f":"データ一覧!U181","v":469},null,null,{"$f":"データ一覧!U125","v":"…"},null,null,{"$f":"データ一覧!U182","v":"…"},null,null,null,null,null,null,null,null,null,null,null,null,null,null,null,null," １３  税　　・　　財　　政",null,null,null,null,null,null,null,null,null,null,null,null,null,null,null,null,null,null,null,null,null,null,null,null,null,null,null,null,null,null,null,null,null,null,"医師",null,null,null,null,"歯科医師",null,null,null,null,"薬剤師",null,null,null,null,"保健師",null,null,null,null,"助産師",null,null," ",null,"看護師",null,null," "]
["金融業、保険業",null,null,null,null,null,null,{"$f":"データ一覧!U126","v":"…"},null,null,{"$f":"データ一覧!U183","v":"…"},null,null,{"$f":"データ一覧!U127","v":5},null,null,{"$f":"データ一覧!U184","v":39},null,null,{"$f":"データ一覧!U128","v":"…"},null,null,{"$f":"データ一覧!U185","v":"…"},null,null,"  ７  商        　　　業 ",null,null,null,null,null,null,{"$f":"データ一覧!$A$294","v":"3.6.1(令和2年実績）"},null,null,null,null,null,null,null,null,null,null,null,null,null,null,null,null,null,null,null,null,null,null,null,null,null,null,null,null,null,null,null,null,null,null," ","医療",null,null,null,null,null,null,null,null,"人",null,null,null,null,"人",null,null,null,null,"人",null,null,null,null,"人",null,null,null,null,"人",null,null,null,null,"人"]
["不動産業、物品賃貸業",null,null,null,null,null,null,{"$f":"データ一覧!U129","v":"…"},null,null,{"$f":"データ一覧!U186","v":"…"},null,null,{"$f":"データ一覧!U130","v":13},null,null,{"$f":"データ一覧!U187","v":40},null,null,{"$f":"データ一覧!U131","v":"…"},null,null,{"$f":"データ一覧!U188","v":"…"},null,null,null,null,null,null,null,null,null,null,null,null,null,null,null,null,"           ",null,null,null,"歳入",null,null,null,null,null,null,null,null,"(千円）"," ",null,null,null,"歳出",null,null,null,null,null,null,null,null,"(千円）",null,"関係者",null,null,null,null,{"$f":"データ一覧!U666","v":11},null,null,null,null,{"$f":"データ一覧!U667","v":3},null,null,null,null,{"$f":"データ一覧!U668","v":14},null,null,null,null,{"$f":"データ一覧!U669","v":10},null,null,null,null,{"$f":"データ一覧!U670","v":4},null,null,null,null,{"$f":"データ一覧!U671","v":133}]
["学術研究、専門・技術ｻｰﾋﾞｽ業",null,null,null,null,null,null,{"$f":"データ一覧!U132","v":"…"},null,null,{"$f":"データ一覧!U189","v":"…"},null,null,{"$f":"データ一覧!U133","v":18},null,null,{"$f":"データ一覧!U190","v":223},null,null,{"$f":"データ一覧!U134","v":"…"},null,null,{"$f":"データ一覧!U191","v":"…"},null,null,"  産   業　 分　 類",null,null,null," 事　業　所　数",null,null," 従　業　者　数",null,null,"年　間　販　売　額",null,null,null,"一人当たり歳入歳出予算決算額",null,null,null,null,null,null,null,null,null,null,null,null,null,null,null,null,null,null,null,null,null,null,null,null,null,null,null,"                   ",null,null,null,null,null,null,null,null,"死因別死亡数　　　　　    ",null,null,null,null,null,null,null,null,null,null,null,null,null,null,null,{"$f":"データ一覧!$A$672","v":"5年中"},null,null,null,null,null,null,null,null,"      単 位：人"]
["宿泊業、飲食サービス業",null,null,null,null,null,null,{"$f":"データ一覧!U135","v":"…"},null,null,{"$f":"データ一覧!U192","v":"…"},null,null,{"$f":"データ一覧!U136","v":122},null,null,{"$f":"データ一覧!U193","v":525},null,null,{"$f":"データ一覧!U137","v":"…"},null,null,{"$f":"データ一覧!U194","v":"…"},null,null,null,null,null,null,null,null,null,null,null,"　人",null,"         百万円",null,null,"区分",null,null,null,{"$f":"データ一覧!$A$438","v":"6年度"},null,null,null,null,{"$f":"データ一覧!$A$452","v":"5年度"},null,null,null,null,"区分",null,null,null,{"$f":"+AR68","v":"6年度"},null,null,null,null,{"$f":"データ一覧!$A$452","v":"5年度"},null,null,null,null," 死     因",null,null,null,null,null,null,null,null,null,null,null,"悪  性",null,null,"高血圧",null,null,null,null,null,"脳血管",null,null,null,null,null," ",null,null,"不慮の事故"]
["生活関連サービス業、娯楽業",null,null,null,null,null,null,{"$f":"データ一覧!U138","v":"…"},null,null,{"$f":"データ一覧!U195","v":"…"},null,null,{"$f":"データ一覧!U139","v":40},null,null,{"$f":"データ一覧!U196","v":108},null,null,{"$f":"データ一覧!U140","v":"…"},null,null,{"$f":"データ一覧!U197","v":"…"},null,null,"総　　　　　　計",null,null,null,{"$f":"データ一覧!U294","v":76},null,null,{"$f":"データ一覧!U303","v":428},null,null,{"$f":"データ一覧!U312","v":9624},null,null,null,null,null,null,null,{"$f":"データ一覧!U434","v":1240232.8710411922},null,null,null,null,{"$f":"データ一覧!U435","v":1452113.0576492157},null,null,null,null,null,null,null,null,{"$f":"データ一覧!U436","v":1240232.8710411922},null,null,null,null,{"$f":"データ一覧!U437","v":1342968.7309024241},null,null,null,null,null,null,null,null,null,"全 死 因",null,null,null,"結 核",null,null,"新生物",null,null,"性疾患",null,null,"心疾患",null,null,"疾  患",null,null,"肺  炎",null,null,"老  衰",null,null,null,null," ","交通事故"]
["教育、学習支援業",null,null,null,null,null,null,{"$f":"データ一覧!U141","v":"…"},null,null,{"$f":"データ一覧!U198","v":"…"},null,null,{"$f":"データ一覧!U142","v":11},null,null,{"$f":"データ一覧!U199","v":47},null,null,{"$f":"データ一覧!U143","v":"…"},null,null,{"$f":"データ一覧!U200","v":"…"},null,null,"卸売業",null,null,null,{"$f":"データ一覧!U295","v":14},null,null,{"$f":"データ一覧!U304","v":55},null,null,{"$f":"データ一覧!U313","v":3193},null,null,null,"項目別歳入歳出予算決算額"]
["医療、福祉",null,null,null,null,null,null,{"$f":"データ一覧!U144","v":"…"},null,null,{"$f":"データ一覧!U201","v":"…"},null,null,{"$f":"データ一覧!U145","v":19},null,null,{"$f":"データ一覧!U202","v":538},null,null,{"$f":"データ一覧!U146","v":"…"},null,null,{"$f":"データ一覧!U203","v":"…"},null,null,"小売業",null,null,null,{"$f":"データ一覧!U296","v":62},null,null,{"$f":"データ一覧!U305","v":373},null,null,{"$f":"データ一覧!U314","v":6431},null,null,null,"区分",null,null,null,{"$f":"データ一覧!$A$438","v":"6年度"},null,null,null,null,{"$f":"データ一覧!$A$452","v":"5年度"},null,null,null,null,"区分",null,null,null,{"$f":"+AR71","v":"6年度"},null,null,null,null,{"$f":"データ一覧!$A$452","v":"5年度"},null,null,null,null,null,null,null,null,null,{"$f":"データ一覧!U672","v":150},null,null,null,"   －",{"$f":"データ一覧!U673","v":"-"},null,{"$f":"データ一覧!U674","v":32},null,null,null,{"$f":"データ一覧!U675","v":"-"},null,{"$f":"データ一覧!U676","v":31},null,null,{"$f":"データ一覧!U677","v":15},null,null,{"$f":"データ一覧!U678","v":3},null,null,{"$f":"データ一覧!U679","v":22},null,null,{"$f":"データ一覧!U680","v":7},null,null,null,{"$f":"データ一覧!U681","v":"-"}]
["複合サービス事業",null,null,null,null,null,null,{"$f":"データ一覧!U147","v":"…"},null,null,{"$f":"データ一覧!U204","v":"…"},null,null,{"$f":"データ一覧!U148","v":13},null,null,{"$f":"データ一覧!U205","v":87},null,null,{"$f":"データ一覧!U149","v":"…"},null,null,{"$f":"データ一覧!U206","v":"…"},null,null,"各種商品",null,null,null,{"$f":"データ一覧!U297","v":1},null,null,{"$f":"データ一覧!U306","v":2},null,null,{"$f":"データ一覧!U315","v":"x"},null,null,null,"総額",null,null,null,{"$f":"SUM(AR73:AV85)","v":11983130},null,null,null,null,{"$f":"SUM(AW73:BA85)","v":14256846},null,null,null,null,"総額",null,null,null,{"$f":"SUM(BF73:BJ85)","v":11983130},null,null,null,null,{"$f":"SUM(BK73:BO85)","v":13185267},null,null,null,null," １９  警　察　・　消　防  ",null,null,null,null,null,null,null,null,null,null,null,null,null,null,null,{"$f":"+データ一覧!$A682","v":"6.4.1"}]
["サービス業",null,null,null,null,null,null,{"$f":"データ一覧!U150","v":"…"},null,null,{"$f":"データ一覧!U207","v":"…"},null,null,{"$f":"データ一覧!U151","v":53},null,null,{"$f":"データ一覧!U208","v":534},null,null,{"$f":"データ一覧!U152","v":"…"},null,null,{"$f":"データ一覧!U209","v":"…"},null,null,"織物・衣服・身の回り品",null,null,null,{"$f":"データ一覧!U298","v":3},null,null,{"$f":"データ一覧!U307","v":3},null,null,{"$f":"データ一覧!U316","v":"-"},null,null,null,"地方税",null,null,null,{"$f":"データ一覧!U439","v":5211547},null,null,null,null,{"$f":"データ一覧!U453","v":5989437},null,null,null,null,"議会費",null,null,null,{"$f":"データ一覧!U467","v":102555},null,null,null,null,{"$f":"データ一覧!U481","v":101937}]
["公務",null,null,null,null,null,null,{"$f":"データ一覧!U153","v":"…"},null,null,{"$f":"データ一覧!U210","v":"…"},null,null,{"$f":"データ一覧!U154","v":"…"},null,null,{"$f":"データ一覧!U211","v":"…"},null,null,{"$f":"データ一覧!U155","v":"…"},null,null,{"$f":"データ一覧!U212","v":"…"},null,null,"飲食料品",null,null,null,{"$f":"データ一覧!U299","v":21},null,null,{"$f":"データ一覧!U308","v":161},null,null,{"$f":"データ一覧!U317","v":2171},null,null,null,"地方譲与税",null,null,null,{"$f":"データ一覧!U440","v":56890},null,null,null,null,{"$f":"データ一覧!U454","v":58632},null,null,null,null,"総務費",null,null,null,{"$f":"データ一覧!U468","v":1713357},null,null,null,null,{"$f":"データ一覧!U482","v":2930634},null,null,null,null,null,null,null,null,null,null,null,null,null,null,"交番・駐在所",null,null,null,null,null,null,null,null,"刑法犯認知件数",null,null,null,null,null,null,null,null,"交通人身事故発生件数"]
["  ４  農        　　　業 ",null,null,null,null,null,null,null,null,null,null,null,null,null,null,null,null,null,null,null,null,null,null,null,null,"機械器具",null,null,null,{"$f":"データ一覧!U300","v":11},null,null,{"$f":"データ一覧!U309","v":44},null,null,{"$f":"データ一覧!U318","v":309},null,null,null,"各種交付金",null,null,null,{"$f":"データ一覧!U441","v":279131},null,null,null,null,{"$f":"データ一覧!U455","v":324745},null,null,null,null,"民生費",null,null,null,{"$f":"データ一覧!U469","v":3901135},null,null,null,null,{"$f":"データ一覧!U483","v":2402764},null,null,null,null,null,"警察署数",null,null,null,null,null,null,null,null,"検問所数",null,null,null,null,null,null,null,null,null,{"$f":"データ一覧!$A$684","v":"5年中"},null,null,null,null,null,null,null,null,{"$f":"データ一覧!$A$684","v":"5年中"}]
[null,null,null,null,null,null,null,null,null,null,null,null,null,null,null,null,null,null,null,null,null,null,null,null,null,"その他",null,null,null,{"$f":"データ一覧!U301","v":25},null,null,{"$f":"データ一覧!U310","v":160},null,null,{"$f":"データ一覧!U319","v":"x"},null,null,null,"地方特例交付金",null,null,null,{"$f":"データ一覧!U442","v":8500},null,null,null,null,{"$f":"データ一覧!U456","v":9093},null,null,null,null,"衛生費",null,null,null,{"$f":"データ一覧!U470","v":1967750},null,null,null,null,{"$f":"データ一覧!U484","v":786675},null,null,null,null,null,null,null,null,null,null,null,null,null,null,null,null,null,null,null,null,null,null,null,null,null,null,null,null," 件",null,null,null,null,null,null,null,null,"　件"]
[null,null,"農業経営体数",null,null,null,null,null,null,"農産物販売額規模別経営体数",null,null,null,null,null,null,null,"経営耕地面積規模別経営体数",null,null,null,null,null,null,null,"無店舗",null,null,null,{"$f":"データ一覧!U302","v":1},null,null,{"$f":"データ一覧!U311","v":3},null,null,{"$f":"データ一覧!U320","v":"x"},null,null,null,"地方交付税",null,null,null,{"$f":"データ一覧!U443","v":20000},null,null,null,null,{"$f":"データ一覧!U457","v":34980},null,null,null,null,"労働費",null,null,null,{"$f":"データ一覧!U471","v":45565},null,null,null,null,{"$f":"データ一覧!U485","v":45927},null,null,null,null,null,null,{"$f":"データ一覧!U682","v":0},null,null,null,null,null,null,null,null,{"$f":"データ一覧!U683","v":3},null,null,null,null,null,null,null,null,{"$f":"データ一覧!U684","v":27},null,null,null,null,null,null,null,null,{"$f":"データ一覧!U685","v":5}]
["農",null,"区　分",null,null,null,"経営体数\n（経営体）",null,null,"区　分",null,null,null,null,"経営体数\n（経営体）",null,null,"区　分",null,null,null,null,"経営体数\n（経営体）",null,null,null,null,null,null,null,null,null,null,null,null,null,null,null,null,"分担金および負担金",null,null,null,{"$f":"データ一覧!U444","v":61555},null,null,null,null,{"$f":"データ一覧!U458","v":433746},null,null,null,null,"農林水産業費",null,null,null,{"$f":"データ一覧!U472","v":777207},null,null,null,null,{"$f":"データ一覧!U486","v":1612218},null,null,null,null,"火災発生件数",null,null,null,null,null,null,null,null,null,"林野焼損",null,null,null,null,"損      害",null,null,null,null,"消 防 自",null,null,null,"その他の",null,null,null," ",null,null,null,null," "]
["業","令",null,null,null,null,null,null,null,null,null,null,null,null,null,null,null,null,null,null,null,null,null,null,null,"  ８  住　　　　　　 　宅",null,null,null,null,null,null,null,null,null,null,null,null,null,"使用料および手数料",null,null,null,{"$f":"データ一覧!U445","v":57544},null,null,null,null,{"$f":"データ一覧!U459","v":56376},null,null,null,null,"商工費",null,null,null,{"$f":"データ一覧!U473","v":543864},null,null,null,null,{"$f":"データ一覧!U487","v":630358},null,null,null,null,{"$f":"+データ一覧!$A$686","v":"5年中"},null,null,null,null,"焼損棟数",null,null,null,null,"面    積",null,null,null,null,"見  積  額",null,null,null,null,"動 車 数",null,null,null,"ﾎﾟﾝﾌﾟ数",null,null,null," 消防吏員",null,null,null," 消防団員"]
["経",{"$f":"+LEFT(データ一覧!$A$213)","v":"2"},"計",null,null,null,{"$f":"データ一覧!U213","v":198},null,null,"総　　　 数",null,null,null,null,{"$f":"データ一覧!U217","v":198},null,null,"総　　　 数",null,null,null,null,{"$f":"データ一覧!U233","v":205},null,null,null,null,null,null,null,null,null,null,null,null,null,null,null,null,"国庫支出金",null,null,null,{"$f":"データ一覧!U446","v":3218221},null,null,null,null,{"$f":"データ一覧!U460","v":2997445},null,null,null,null,"土木費",null,null,null,{"$f":"データ一覧!U474","v":925277},null,null,null,null,{"$f":"データ一覧!U488","v":2478047},null,null,null,null,"         件",null,null,null,null,null,"      棟",null,null,null,null,null,null,"  ａ",null,null,null,"  千円",null,null,"        ",null,null,null,null,null,null,null,null,null,"  人",null,null,null,"  人"]
["営","・","個人経営体",null,null,null,{"$f":"データ一覧!U214","v":194},null,null,"販 売 な し",null,null,null,null,{"$f":"データ一覧!U218","v":21},null,null,"0.5 ha 未満",null,null,null,null,{"$f":"データ一覧!U234","v":26},null,null,{"$f":"+データ一覧!$A$321","v":"4年"},null,null,null,null,{"$f":"データ一覧!$A$324","v":"5年"},"中の増減",null,null,null,{"$f":"+データ一覧!$A$324","v":"5年"},null,null,null,"県支出金",null,null,null,{"$f":"データ一覧!U447","v":1515473},null,null,null,null,{"$f":"データ一覧!U461","v":1726100},null,null,null,null,"消防費",null,null,null,{"$f":"データ一覧!U475","v":642569},null,null,null,null,{"$f":"データ一覧!U489","v":640281},null,null,null,null,null,{"$f":"データ一覧!U686","v":4},null,null,null,null,{"$f":"データ一覧!U687","v":1},null,null,null,null,{"$f":"データ一覧!U688","v":0},null,null,null,{"$f":"データ一覧!U689","v":97},null,null,null,null,null,{"$f":"データ一覧!U690","v":3},null,null,null,{"$f":"データ一覧!U691","v":23},null,null,null,{"$f":"データ一覧!U692","v":17},null,null,null,{"$f":"データ一覧!U693","v":170}]
["体",{"$f":"+LEFT(データ一覧!$A$213,1)","v":"2"},"団体経営体",null,null,null,{"$f":"データ一覧!U215","v":4},null,null,"50万円未満",null,null,null,null,{"$f":"データ一覧!U219","v":116},null,null,"0.5 ha ～ 1.0 ha",null,null,null,null,{"$f":"データ一覧!U235","v":60},null,null,null,null,null,null,"建設した住宅",null,null,"消失した住宅",null,null,null,null,null,null,"財産収入",null,null,null,{"$f":"データ一覧!U448","v":44727},null,null,null,null,{"$f":"データ一覧!U462","v":30727},null,null,null,null,"教育費",null,null,null,{"$f":"データ一覧!U476","v":1059425},null,null,null,null,{"$f":"データ一覧!U490","v":1229946},null,null,null,null," ２０  そ　　　の　　　他　"]
["数","・",null,"法人経営",null,null,{"$f":"データ一覧!U216","v":4},null,null,"50～300万円",null,null,null,null,{"$f":"データ一覧!U220","v":53},null,null,"1.0 ha ～ 2.0 ha",null,null,null,null,{"$f":"データ一覧!U236","v":41},null,null,null,null,null,null,null,null,null,null,null,null,null,null,null,null,"繰入金",null,null,null,{"$f":"データ一覧!U449","v":341346},null,null,null,null,{"$f":"データ一覧!U463","v":617912},null,null,null,null,"災害復旧費",null,null,null,{"$f":"データ一覧!U477","v":0},null,null,null,null,{"$f":"データ一覧!U491","v":0}]
["（",{"$f":"+RIGHT(データ一覧!$A$213)","v":"1"},null,null,null,null,null,null,null,"300～500万円",null,null,null,null,{"$f":"データ一覧!U221","v":2},null,null,"2.0 ha ～ 3.0 ha",null,null,null,null,{"$f":"データ一覧!U237","v":19},null,null,null,{"$f":"データ一覧!U321","v":5252},null,"戸",{"$f":"データ一覧!U322","v":89},null,"戸",{"$f":"データ一覧!U323","v":44},null,"戸",null,{"$f":"データ一覧!U324","v":5297},null,"戸","地方債",null,null,null,{"$f":"データ一覧!U450","v":542700},null,null,null,null,{"$f":"データ一覧!U464","v":29200},null,null,null,null,"公債費",null,null,null,{"$f":"データ一覧!U478","v":281524},null,null,null,null,{"$f":"データ一覧!U492","v":324426},null,null,null,null,null,null,null,null,null,"若狭湾国定公園（若狭和田、白浜、鳥居浜、城山、若宮、三松、"]
["総",null,null,null,null,null,null,null,null,"500～1,000万円",null,null,null,null,{"$f":"データ一覧!U222","v":2},null,null,"3.0 ha ～ 5.0 ha",null,null,null,null,{"$f":"データ一覧!U238","v":11},null,null,null,null,null,null,null,null,null,null,null,null,null,null,null,null,"その他",null,null,null,{"$f":"データ一覧!U451","v":625496},null,null,null,null,{"$f":"データ一覧!U465","v":1948453},null,null,null,null,"その他",null,null,null,{"$f":"データ一覧!U479","v":22902},null,null,null,null,{"$f":"データ一覧!U493","v":2054},null,null,null,null,"　名所・旧跡",null,null,null,null,"今戸鼻、高浜八穴（明鏡洞）)、中山寺本堂・木造金剛力士立像、"]
["数",null,null,null,null,null,null,null,null,"1,000万円以上",null,null,null,null,{"$f":"データ一覧!U223","v":4},null,null,"5.0 ha以上",null,null,null,null,{"$f":"データ一覧!U239","v":48},null,null,null,null,null,null,null,null,null,null,null,null,null,null,null,null,null,null,null,null,null,null,null,null,null,null,null,null,null,null,null,null,null,null,null,null,null,null,null,null,null,null,null,null,"  文化財等",null,null,null,null,"馬頭観音坐像（馬居寺）、杉森神社のオハツキイチョウ（六路谷）、"]
["）",null,"15歳以上の常雇い数",null,null,null,null,null,null,"農業に60日以上従事した世帯員、役員・構成員\n（経営主を含む）の平均年齢",null,null,null,null,null,null,null,null,null,null,null,null,null,null,null,"  ９  議　 員　・　職 　員",null,null,null,null,null,null,null,null,null,null,null,null,null," １４  文　　　化",null,null,null,null,null,null,null," ( ",{"$f":"\"令\"&データ一覧!$A$498","v":"令6.3.31"},null,null,"ただし図書館・公民館・児童館・ 社会教育学級講座",null,null,null,null,null,null,null,null,null,null,null,{"$f":"データ一覧!$A$494","v":"6.4.1"},null,null,null,null,null,null,null,null,"オオキンレイカ群落（青葉山）\t\t\t\t\t\t\t\t\t\t\t\t\t\t\t\t\t\t\t\t\t\t\t\t\t\t\t\t\t\t"]
["と",null,null,null,null,null,null,null,null,null,null,null,null,null,null,null,null,null,null,null,null,null,null,null,null,null,null,null,null,null,null,null,null,null,null,null,null,null,null,null,null,null,null,null,null,null,null,null,null,null,null,null,"　宗教法人数 ",null,null,null,null,null,null,null,null,null,null,{"$f":"データ一覧!$A$502","v":"5.12.31"},null,null,null,"　　特産物",null,null,null,null,"若狭漬、かまぼこ、若狭ふぐ、杜仲茶、煮干し、マハタ"]
["就",null,null,null,null,null,null,null,null,"農業に60日以上従事",null,null,null,null,null,null,null,"農業に150日以上従事",null,null,null,null,null,null,null," 市 町 議 会",null,null,"有権者数",null,{"$f":"データ一覧!$A$328","v":"6.9.1"},null,"市 町 議 会",null,null,"  職      員      数",null,null,null,null,null,null,null,null,"図書館",null,null,null,null,null,"公　民　館",null,null,null,null,null,null,null,null,null,null," 社会教育学級講座",null,null,null,null,null,null,null,null,null,null,"さばへしこ、若狭ぐじ、若狭たかはま鮨、鎌倉ぶどう"]
["業",null,"区分",null,null,null,"人",null,null,"区分",null,null,null,null,"歳",null,null,"区　　分",null,null,null,null,"歳",null,null," 議  員  定  数",null,null,"    男",null,"    女",null,"選 挙 投 票 率",null,null," 総     数",null,"一般行政職",null,"公    共",null,null,null," 館  数",null,null," 図書数",null,null," 本  館",null,null," 分  館",null,null," 公  園",null,null," 児童館",null,null,"学級講座数",null,null,"受講者数",null,null," 　年中行事",null,null,null,null,"海水浴場海開き、花火大会、秋祭、産業まつり、"]
["状",null,"総数",null,null,null,{"$f":"データ一覧!U230","v":63},null,null,"総数",null,null,null,null,{"$f":"データ一覧!U224","v":71.7},null,null,"総数",null,null,null,null,{"$f":"データ一覧!U227","v":73.599999999999994},null,null,null,null,"人",null,"人",null,"人",null,null,"　％",null,"人",null,"人","施 設 数",null,null,null,null,{"$f":"データ一覧!U494","v":1},null,{"$f":"データ一覧!U495","v":97788},null,null,{"$f":"データ一覧!U496","v":4},null,null,{"$f":"データ一覧!U497","v":0},null,null,{"$f":"データ一覧!U498","v":1},null,null,{"$f":"データ一覧!U499","v":1},null,null,{"$f":"データ一覧!U500","v":273},null,null,{"$f":"データ一覧!U501","v":3533},null,null,null,null,null,null,null,"ビーチラグビー中部大会、はまなすマラソン、ふれあい広場、"]
["況",null,"男",null,null,null,{"$f":"データ一覧!U231","v":37},null,null,"男",null,null,null,null,{"$f":"データ一覧!U225","v":71.2},null,null,"男",null,null,null,null,{"$f":"データ一覧!U228","v":72.7},null,null,null,{"$f":"データ一覧!U325","v":14},null,{"$f":"データ一覧!U328","v":4102},null,{"$f":"データ一覧!U329","v":3982},null,{"$f":"データ一覧!U327","v":70.72},null,null,{"$f":"データ一覧!U330","v":191},null,{"$f":"データ一覧!U331","v":123},null,"宗    教",null,null,null," 仏教系",null,null,"ｷﾘｽﾄ教系",null,null,"神道諸派",null,null,"公会堂・市民会館",null,null,null,null,null," テレビ",null,null,"衛星放送契約数",null,null,null,null,null,null,null,null,null,null,"高浜七年祭（６年に一度。次の開催は令和7年）、若狭高浜ふぐまつり"]
[null,null,"女",null,null,null,{"$f":"データ一覧!U232","v":26},null,null,"女",null,null,null,null,{"$f":"データ一覧!U226","v":72.400000000000006},null,null,"女",null,null,null,null,{"$f":"データ一覧!U229","v":75.400000000000006},null,null,null,null,null,null,null,null,null,{"$f":"データ一覧!U326","v":"6.4.21"},null,null,null,null,null,null,"法 人 数",null,null,null,{"$f":"データ一覧!U502","v":39},null,null,{"$f":"データ一覧!U503","v":1},null,null,{"$f":"データ一覧!U504","v":26},null,null,{"$f":"データ一覧!U505","v":1},null,null,null,null,null,"      等",null,null,{"$f":"データ一覧!U506","v":1556}]

{"sheet":"おおい町","index":20,"n_rows":93,"n_cols":103,"rows_kept":93,"cut":false,"hidden":false,"merged":[[92,2,92,5],[92,9,92,13],[92,14,92,16],[92,17,92,21],[66,92,66,96],[76,9,76,16],[76,17,76,24],[77,2,78,5],[77,6,78,8],[77,9,78,13],[77,14,78,16],[77,17,78,21],[77,22,78,24],[79,2,79,5],[79,6,79,8],[79,9,79,13],[79,14,79,16],[79,17,79,21],[79,22,79,24],[80,6,80,8],[80,9,80,13],[69,35,69,37],[70,94,70,96],[68,94,68,96],[74,53,74,56],[76,78,76,81],[74,39,74,42],[70,0,70,6],[69,0,69,6],[67,0,67,6],[68,0,68,6],[71,39,71,42],[34,49,34,51],[35,53,35,56],[36,49,36,51],[44,25,44,28],[45,25,45,28],[42,49,42,51],[44,36,44,37],[45,29,45,30],[66,29,66,31],[90,17,90,21],[91,2,91,5],[91,9,91,13],[91,17,91,21],[43,40,43,46],[44,32,44,35],[73,13,73,15],[73,16,73,18],[62,19,62,21],[69,16,69,18],[58,13,58,15],[36,36,36,37],[47,7,47,9],[47,10,47,12],[47,13,47,15],[47,16,47,18],[47,19,47,21],[47,22,47,24],[48,19,48,21],[48,22,48,24],[56,0,56,6],[57,7,57,9],[56,22,56,24],[33,49,33,51],[33,53,33,56],[30,73,30,76],[30,77,30,80],[30,81,30,84],[30,68,30,72],[76,57,76,61],[18,28,18,30],[19,25,19,28],[19,29,19,31],[20,49,20,51],[20,53,20,56],[20,25,20,28],[22,40,22,46],[22,49,22,51],[22,25,22,28],[27,60,27,64],[27,49,27,51],[21,29,21,31],[21,32,21,34],[21,35,21,38],[22,32,22,34],[22,35,22,38],[23,29,23,31],[71,32,71,33],[27,53,27,56],[23,32,23,34],[23,35,23,38],[21,40,21,46],[21,49,21,51],[27,33,27,34],[41,40,41,46],[25,95,25,98],[25,86,25,90],[56,39,56,42],[57,39,57,42],[60,39,60,42],[73,77,73,83],[73,86,73,92],[73,95,73,101],[60,36,60,37],[61,29,61,30],[65,43,65,49],[65,53,65,56],[65,57,65,63],[66,39,66,66],[67,43,67,47],[70,91,70,93],[70,77,70,78],[63,84,63,86],[63,89,63,91],[63,99,63,101],[63,74,63,76],[31,95,31,98],[33,67,34,80],[32,60,32,64],[34,60,34,64],[33,40,33,46],[31,68,31,72],[31,73,31,76],[31,77,31,80],[26,95,26,98],[25,73,25,76],[27,73,27,76],[27,22,27,24],[27,29,27,30],[27,31,27,32],[34,18,34,19],[34,5,34,7],[34,8,34,10],[34,11,34,13],[34,14,34,16],[34,20,34,21],[41,22,41,24],[41,10,41,12],[41,32,41,35],[33,11,33,13],[40,22,40,24],[30,5,30,7],[30,8,30,10],[36,29,36,30],[41,29,41,30],[27,25,27,26],[27,27,27,28],[27,35,27,36],[35,29,35,30],[30,11,30,13],[30,14,30,16],[32,14,32,16],[31,5,31,7],[31,8,31,10],[44,0,45,1],[22,29,22,31],[24,29,24,30],[24,31,24,32],[24,33,24,34],[24,35,24,36],[24,37,24,38],[58,0,58,6],[58,10,58,12],[33,5,33,7],[32,18,32,19],[32,20,32,21],[32,8,32,10],[32,11,32,13],[40,32,40,35],[40,4,40,6],[51,29,51,32],[51,33,51,35],[55,25,55,30],[55,35,55,38],[55,31,55,34],[51,36,51,38],[44,29,44,30],[48,13,48,15],[33,14,33,16],[45,32,45,35],[40,16,40,18],[42,16,42,18],[42,22,42,24],[33,18,33,19],[33,20,33,21],[33,8,33,10],[55,0,55,6],[57,13,57,15],[60,29,60,30],[57,10,57,12],[57,0,57,6],[46,0,46,1],[58,7,58,9],[46,29,46,30],[51,25,51,28],[47,0,47,1],[48,0,48,1],[48,7,48,9],[48,10,48,12],[56,19,56,21],[48,16,48,18],[46,25,46,28],[60,16,60,18],[60,7,60,9],[50,0,51,10],[50,11,51,24],[22,7,22,8],[24,0,25,24],[28,49,28,51],[29,49,29,51],[25,25,25,26],[25,31,26,32],[25,27,25,28],[25,33,26,34],[27,77,27,80],[27,81,27,84],[27,86,27,90],[26,68,26,72],[26,73,26,76],[26,77,26,80],[26,81,26,84],[26,86,26,90],[27,68,27,72],[25,81,25,84],[23,25,23,28],[27,0,27,4],[29,86,29,90],[29,73,29,76],[29,77,29,80],[29,81,29,84],[29,40,29,46],[29,60,29,64],[28,40,28,46],[25,37,26,38],[26,25,26,26],[26,27,26,28],[27,37,27,38],[25,35,26,36],[42,4,42,6],[42,7,42,9],[5,0,5,9],[6,0,8,9],[14,25,15,25],[14,26,15,28],[15,29,15,30],[15,32,15,33],[14,0,15,24],[29,5,29,7],[35,5,35,7],[35,8,35,10],[35,11,35,13],[35,14,35,16],[35,18,35,19],[41,13,41,15],[42,10,42,12],[42,13,42,15],[40,7,40,9],[40,10,40,12],[41,19,41,21],[41,16,41,18],[35,20,35,21],[31,14,31,16],[32,5,32,7],[24,27,24,28],[25,29,26,30],[30,18,30,19],[40,19,40,21],[41,4,41,6],[41,7,41,9],[35,22,35,24],[14,67,15,81],[14,82,15,95],[40,13,40,15],[23,11,23,13],[23,16,23,18],[23,21,23,23],[26,22,26,24],[30,95,30,98],[30,91,30,94],[17,91,17,94],[29,8,29,10],[30,20,30,21],[30,22,30,24],[29,22,29,24],[22,73,22,76],[22,77,22,80],[22,81,22,84],[26,91,26,94],[16,74,16,95],[16,32,16,33],[16,36,16,37],[17,32,17,34],[17,36,17,38],[17,68,17,71],[17,73,17,76],[17,82,17,83],[17,86,17,89],[19,81,19,84],[18,25,18,27],[20,73,20,76],[20,77,20,80],[20,81,20,84],[19,99,19,102],[19,73,19,76],[19,77,19,80],[19,91,19,94],[19,32,19,34],[19,35,19,38],[18,31,18,34],[18,35,18,38],[20,40,20,46],[20,29,20,31],[20,32,20,34],[20,35,20,38],[21,25,21,28],[23,40,23,46],[23,49,23,51],[23,53,23,56],[17,100,17,101],[19,40,19,46],[19,49,19,51],[19,53,19,56],[19,60,19,64],[17,40,17,46],[17,48,17,52],[17,53,17,57],[17,59,17,65],[19,95,19,98],[21,99,21,102],[21,95,21,98],[22,99,22,102],[23,60,23,64],[22,95,22,98],[17,25,17,27],[23,99,23,102],[23,91,23,94],[23,95,23,98],[22,91,22,94],[22,68,22,72],[22,86,22,90],[23,68,23,72],[22,53,22,56],[22,60,22,64],[20,91,20,94],[20,95,20,98],[20,99,20,102],[20,60,20,64],[23,73,23,76],[23,77,23,80],[23,81,23,84],[23,86,23,90],[20,86,20,90],[21,73,21,76],[21,77,21,80],[21,81,21,84],[21,86,21,90],[21,91,21,94],[21,53,21,56],[21,60,21,64],[24,99,24,102],[24,40,24,46],[24,49,24,51],[24,53,24,56],[24,60,24,64],[24,86,24,90],[24,91,24,94],[24,95,24,98],[24,68,24,72],[24,73,24,76],[24,77,24,80],[24,81,24,84],[30,40,30,46],[25,91,25,94],[25,40,25,46],[25,49,25,51],[25,53,25,56],[25,60,25,64],[29,91,29,94],[29,95,29,98],[30,49,30,51],[27,99,27,102],[26,99,26,102],[25,99,25,102],[26,40,26,46],[26,49,26,51],[26,53,26,56],[26,60,26,64],[27,40,27,46],[25,77,25,80],[27,91,27,94],[27,95,27,98],[31,81,31,84],[32,22,32,24],[29,53,29,56],[29,11,29,13],[32,99,32,102],[28,60,28,64],[28,91,28,94],[30,53,30,56],[30,60,30,64],[31,53,31,56],[32,68,32,72],[32,73,32,76],[32,77,32,80],[32,81,32,84],[28,95,28,98],[28,99,28,102],[28,53,28,56],[28,68,28,72],[30,99,30,102],[31,99,31,102],[29,99,29,102],[28,73,28,76],[28,77,28,80],[30,86,30,90],[31,11,31,13],[28,81,28,84],[28,86,28,90],[33,83,34,96],[32,91,32,94],[32,95,32,98],[31,91,31,94],[31,18,31,19],[31,20,31,21],[31,22,31,24],[32,49,32,51],[32,53,32,56],[32,40,32,46],[31,40,31,46],[33,60,33,64],[31,49,31,51],[31,60,31,64],[38,49,38,51],[40,40,40,46],[40,49,40,51],[33,22,33,24],[35,36,35,37],[35,40,35,46],[34,22,34,24],[34,53,34,56],[34,36,34,37],[34,29,34,30],[34,40,34,46],[37,40,37,46],[37,49,37,51],[37,53,37,56],[36,40,36,46],[39,40,39,46],[39,49,39,51],[35,49,35,51],[42,32,42,35],[35,93,35,95],[39,53,39,56],[37,79,37,82],[38,67,38,73],[39,93,39,95],[36,79,36,82],[36,85,36,91],[36,93,36,95],[36,75,36,77],[38,85,38,91],[39,85,39,91],[41,93,41,95],[38,93,38,95],[40,85,40,91],[40,93,40,95],[40,60,40,64],[40,36,40,37],[41,36,41,37],[38,40,38,46],[41,49,41,51],[41,53,41,56],[41,60,41,64],[36,53,36,56],[42,40,42,46],[38,79,38,82],[35,60,35,64],[39,60,39,64],[39,67,39,73],[39,75,39,77],[35,86,35,90],[42,97,42,100],[42,67,42,73],[43,83,44,102],[42,60,42,64],[45,57,45,61],[43,60,43,64],[46,69,46,74],[46,95,46,98],[43,53,43,56],[42,75,42,77],[42,79,42,82],[41,85,41,91],[42,85,42,91],[40,67,41,73],[40,79,41,82],[40,53,40,56],[40,75,41,77],[42,93,42,95],[42,53,42,56],[41,97,41,100],[50,83,50,86],[48,99,48,102],[50,55,50,57],[50,77,50,79],[50,80,50,82],[50,68,50,75],[50,63,50,66],[49,58,49,61],[49,99,49,102],[49,77,49,79],[49,80,49,82],[43,49,43,51],[49,68,49,75],[48,56,48,59],[48,62,48,65],[46,99,46,102],[45,84,45,89],[43,67,44,82],[45,92,45,101],[48,68,48,75],[48,77,48,79],[48,80,48,82],[48,83,48,86],[48,91,48,94],[45,36,45,37],[50,95,50,98],[48,50,48,53],[46,36,46,37],[49,91,49,94],[49,95,49,98],[49,39,49,45],[49,46,49,49],[55,68,55,75],[55,77,55,79],[55,91,55,94],[54,59,54,66],[54,55,54,58],[50,47,50,49],[54,68,54,75],[55,43,55,45],[49,50,49,53],[50,50,50,53],[55,59,55,62],[54,77,54,79],[51,91,51,94],[52,87,52,90],[52,91,52,94],[51,77,51,79],[51,80,51,82],[52,95,52,98],[55,63,55,65],[49,54,49,57],[49,62,49,66],[48,95,48,98],[51,68,51,75],[50,91,50,94],[53,33,53,34],[55,7,55,9],[53,25,53,27],[53,29,53,31],[50,25,50,28],[50,29,50,32],[50,33,50,38],[53,68,53,75],[53,77,53,79],[54,80,54,82],[53,36,53,37],[55,16,55,18],[55,22,55,24],[58,39,58,42],[58,52,58,54],[58,22,58,24],[57,22,57,24],[58,58,58,60],[57,31,57,33],[57,67,58,102],[58,64,58,66],[53,99,53,102],[56,77,56,79],[56,80,56,82],[56,83,56,86],[55,99,55,102],[55,83,55,86],[53,80,53,82],[53,83,53,86],[53,87,53,90],[56,91,56,94],[54,91,54,94],[58,55,58,57],[68,7,68,9],[66,19,66,21],[68,48,68,52],[68,53,68,56],[69,25,69,28],[70,35,70,37],[67,57,67,61],[59,19,59,21],[59,16,59,18],[60,0,60,6],[61,0,61,6],[62,0,62,6],[63,0,63,6],[62,29,62,30],[63,22,63,24],[61,19,61,21],[61,22,61,24],[63,13,63,15],[69,32,69,33],[58,61,58,63],[60,63,60,66],[66,35,66,38],[60,19,60,21],[58,16,58,18],[66,0,66,6],[67,16,67,18],[64,16,64,18],[66,22,66,24],[65,22,65,24],[70,25,70,28],[66,13,66,15],[60,97,60,102],[60,85,60,90],[60,91,60,96],[67,97,67,102],[68,100,68,102],[70,85,70,87],[68,76,68,78],[67,82,67,84],[68,57,68,61],[67,48,67,52],[61,63,61,66],[65,68,65,71],[67,39,67,42],[65,39,65,42],[65,93,65,96],[65,73,65,76],[60,22,60,24],[67,62,67,66],[68,39,68,42],[68,35,68,37],[68,43,68,47],[70,100,70,102],[70,79,70,81],[64,68,64,71],[70,83,70,84],[63,94,63,96],[62,93,62,95],[62,75,62,77],[62,81,62,83],[62,99,62,101],[62,87,62,89],[61,68,61,71],[61,80,61,83],[66,76,66,90],[67,67,70,71],[68,72,68,75],[67,79,67,81],[70,57,70,61],[69,39,69,66],[70,43,70,47],[70,39,70,42],[70,53,70,56],[70,72,70,75],[68,85,68,87],[67,88,67,90],[68,88,68,90],[68,79,68,81],[68,82,68,84],[68,91,68,93],[70,62,70,66],[65,88,65,91],[65,98,65,101],[70,88,70,90],[61,59,61,62],[71,35,71,37],[72,22,72,24],[62,68,62,71],[72,35,72,37],[72,29,72,30],[78,67,78,71],[80,73,80,75],[78,53,78,56],[78,57,78,61],[78,87,78,90],[80,96,80,98],[80,68,80,70],[76,96,76,99],[77,87,77,90],[77,48,77,52],[78,48,78,52],[77,91,77,94],[74,62,74,66],[75,62,75,66],[76,62,76,66],[74,57,74,61],[74,77,74,83],[74,87,74,91],[74,96,74,100],[78,72,78,76],[79,53,79,56],[80,88,80,90],[77,77,77,81],[78,95,78,98],[70,97,70,99],[72,57,72,61],[71,48,71,52],[77,43,77,47],[74,43,74,47],[74,29,74,30],[65,78,65,81],[65,83,65,86],[71,62,71,66],[78,82,78,86],[79,48,79,52],[64,0,64,6],[70,22,70,24],[67,22,67,24],[71,16,71,18],[71,25,71,28],[71,0,71,6],[76,2,76,8],[75,29,75,30],[76,29,76,30],[65,7,65,9],[69,10,69,12],[68,10,68,12],[69,29,69,30],[65,16,65,18],[66,16,66,18],[73,62,73,66],[75,48,75,52],[76,48,76,52],[76,53,76,56],[75,57,75,61],[75,53,75,56],[75,43,75,47],[75,39,75,42],[74,68,74,74],[81,67,82,102],[81,62,81,66],[80,100,80,102],[78,99,78,102],[82,57,82,61],[71,67,72,82],[73,48,73,52],[73,53,73,56],[73,57,73,61],[81,57,81,61],[80,78,80,80],[79,57,79,61],[77,62,77,66],[77,57,77,61],[79,101,79,102],[79,62,79,66],[80,57,80,61],[71,53,71,56],[71,83,72,102],[81,48,81,52],[81,53,81,56],[71,57,71,61],[72,48,72,52],[88,32,88,34],[88,61,88,66],[87,72,89,102],[83,48,83,52],[82,62,82,66],[81,39,81,42],[82,39,82,42],[79,39,79,42],[77,39,77,42],[83,32,83,33],[76,32,76,33],[75,32,75,33],[68,16,68,18],[67,13,67,15],[65,13,65,15],[75,35,75,37],[74,32,74,33],[77,53,77,56],[72,53,72,56],[68,22,68,24],[76,43,76,47],[72,39,72,42],[71,43,71,47],[72,62,72,66],[83,57,83,61],[83,72,86,102],[80,92,80,94],[78,77,78,81],[79,97,79,98],[78,91,78,94],[80,82,80,86],[77,82,77,86],[83,26,83,27],[83,36,83,37],[83,39,83,42],[83,29,83,30],[80,35,81,38],[80,25,81,28],[76,69,76,72],[76,35,76,37],[76,87,76,90],[55,10,55,12],[72,13,72,15],[71,13,71,15],[70,13,70,15],[62,13,62,15],[55,13,55,15],[64,19,64,21],[66,32,66,34],[70,29,70,30],[81,29,81,31],[72,32,72,33],[68,32,68,33],[69,19,69,21],[73,25,73,28],[73,32,73,33],[70,19,70,21],[72,19,72,21],[71,29,71,30],[68,29,68,30],[55,19,55,21],[81,43,81,47],[69,22,69,24],[66,10,66,12],[0,0,0,9],[1,0,3,9],[92,39,92,42],[92,43,92,45],[92,46,92,48],[40,29,40,30],[73,10,73,12],[60,10,60,12],[55,39,55,42],[54,47,54,50],[92,49,92,51],[59,22,59,24],[72,7,72,9],[69,7,69,9],[72,10,72,12],[92,32,92,34],[73,7,73,9],[91,32,91,34],[70,7,70,9],[80,48,80,52],[91,39,91,42],[91,37,91,38],[91,26,91,27],[89,32,89,34],[89,39,89,42],[90,39,90,42],[91,30,91,31],[91,28,91,29],[91,35,91,36],[61,13,61,15],[71,10,71,12],[84,39,84,42],[91,43,91,45],[91,46,91,48],[91,49,91,51],[83,53,83,56],[90,52,90,54],[90,55,90,57],[83,43,83,47],[84,48,84,52],[84,53,84,56],[84,57,84,61],[50,59,50,61],[91,52,91,57],[91,61,91,66],[90,58,90,60],[90,61,90,63],[90,64,90,66],[88,50,88,53],[83,62,83,66],[90,44,90,45],[90,46,90,48],[90,50,90,51],[89,61,89,63],[84,62,84,66],[82,43,82,47],[79,43,79,47],[88,44,88,47],[74,48,74,52],[84,43,84,47],[80,62,80,66],[78,62,78,66],[67,53,67,56],[70,48,70,52],[54,95,54,98],[56,95,56,98],[55,87,55,90],[54,83,54,86],[54,87,54,90],[53,91,53,94],[53,95,53,98],[35,98,35,101],[36,97,36,100],[37,85,37,91],[37,97,37,100],[36,67,36,73],[38,60,38,64],[37,93,37,95],[37,60,37,64],[37,67,37,73],[37,75,37,77],[38,75,38,77],[35,68,35,72],[35,75,35,77],[51,83,51,86],[52,83,52,86],[52,68,52,75],[49,83,49,86],[49,87,49,90],[48,87,48,90],[35,80,35,83],[39,79,39,82],[50,99,50,102],[50,87,50,90],[51,95,51,98],[51,99,51,102],[38,97,38,100],[39,97,39,100],[40,97,40,100],[68,62,68,66],[15,35,15,37],[46,32,46,35],[59,43,59,56],[60,43,60,47],[60,48,60,52],[60,53,60,56],[61,43,61,47],[61,48,61,52],[61,53,61,56],[56,48,56,53],[57,61,57,63],[57,64,57,66],[55,55,55,57],[55,47,55,49],[61,39,61,42],[61,36,61,37],[57,55,57,57],[54,25,54,32],[36,60,36,64],[38,53,38,56],[42,36,42,37],[57,25,57,29],[57,35,57,37],[60,59,60,62],[52,99,52,102],[52,80,52,82],[54,99,54,102],[56,99,56,102],[74,25,74,28],[81,22,81,24],[71,19,71,21],[76,25,76,28],[70,10,70,12],[72,16,72,18],[65,19,65,21],[67,19,67,21],[71,7,71,9],[68,19,68,21],[75,25,75,28],[70,32,70,33],[57,58,57,60],[57,43,57,46],[57,47,57,50],[57,51,57,54],[58,48,58,50],[59,59,59,62],[58,44,58,46],[72,43,72,47],[80,14,80,16],[80,17,80,21],[80,22,80,24],[81,32,81,34],[80,39,80,42],[78,39,78,42],[78,43,78,47],[76,39,76,42],[74,35,74,37],[73,39,73,42],[73,43,73,47],[72,25,72,28],[62,7,62,9],[63,10,63,12],[63,16,63,18],[64,10,64,12],[64,13,64,15],[57,16,57,18],[58,19,58,21],[70,16,70,18],[69,13,69,15],[71,22,71,24],[68,13,68,15],[64,22,64,24],[67,10,67,12]],"merged_total":1110,"flags":["merged_cut"]}
[{"$f":"+データ一覧!V2","v":"おおいぐん"}]
[{"$f":"+データ一覧!V5","v":"大飯郡"}]
[]
[null,null,null,null,null,null,null,null,null,null,null,null,null,null,null,null,null,null,null,null,null,null,null,null,null,null,null,"【町章とそのいわれ】 ",null,null,null,"おおい町のイニシャル「Ｏ」をモチーフに",null,null,null,null,null,null,null,null,"【位置および地勢】おおい町は、福井県の南西部に位置し､西は高浜町、京都府",null,null,null,null,null,null,null,null,null,null,null,null,null,null,null,null,null,null,null,null,null,null,null,null,null,null,null,null,null,"所在地",null,null,null,null,null,null,"〒919-2111"]
[null,null,null,null,null,null,null,null,null,null,null,null,null,null,null,null,null,null,null,null,null,null,null,null,null,null,null,null,null,null,null,"デザイン化している。円は和と団結、２つの",null,null,null,null,null,null,null,null,"　綾部市、南は南丹市、東は小浜市、滋賀県高島市に接している。佐分利川沿いから",null,null,null,null,null,null,null,null,null,null,null,null,null,null,null,null,null,null,null,null,null,null,null,null,null,null,null,null,null,null,null,null,null,null,null,null,"大飯郡おおい町本郷第１３６号１番地１"]
[{"$f":"+データ一覧!V3","v":"おおいちょう"},null,null,null,null,null,null,null,null,null,null,null,null,null,null,null,null,null,null,null,null,null,null,null,null,null,null,null,null,null,null,"ブルーウェーブは、旧町村の融合を表し、",null,null,null,null,null,null,null,null,"　海岸部に向かって開けた平野、南川とその支流沿いの平地、大島の小浜湾岸の"]
[{"$f":"データ一覧!V6","v":"おおい町"},null,null,null,null,null,null,null,null,null,null,null,null,null,null,null,null,null,null,null,null,null,null,null,null,null,null,null,null,null,null,"日本海・若狭湾の雄大な風景や清流と緑",null,null,null,null,null,null,null,null,"平地が居住地となっている。",null,null,null,null,null,null,null,null,null,null,null,null,null,null,null,null,null,null,null,null,null,null,null,null,null,null,null,null,null,"電話番号",null,null,null,null,null,null,"（０７７０）７７－１１１１"]
[null,null,null,null,null,null,null,null,null,null,null,null,null,null,null,null,null,null,null,null,null,null,null,null,null,null,null,null,null,null,null,"あふれる大地の恩恵、歴史を背景にやすらぎと",null,null,null,null,null,null,null,null,"西側の京都府との県境に標高８７１ｍの頭巾山（とうきんざん）、南側には",null,null,null,null,null,null,null,null,null,null,null,null,null,null,null,null,null,null,null,null,null,null,null,null,null,null,null,null,null,"FAX番号",null,null,null,null,null,null,"     〃     ７７－１２８９"]
[null,null,null,null,null,null,null,null,null,null,null,null,null,null,null,null,null,null,null,null,null,null,null,null,null,null,null,null,null,null,null,"活力にあふれた未来を創造する「おおい町」の",null,null,null,null,null,null,null,null,"標高８００ｍの八ヶ峰（はちがみね）、東側の京都府・滋賀県との県境には"]
[null,null,null,null,null,null,null,null,null,null,null,null,null,null,null,null,null,null,null,null,null,null,null,null,null,null,null,null,null,null,null,"姿をイメージしています。",null,null,null,null,null,null,null,null,"標高７７６ｍの三国岳（みくにだけ）があり、大島には標高４7８ｍの大山",null,null,null,null,null,null,null,null,null,null,null,null,null,null,null,null,null,null,null,null,null,null,null,null,null,null,null,null,null,"最寄駅および距離",null,null,null,null,null,null,null,"（おおい町役場）　　ＪＲ小浜線若狭本郷駅　下車３００ｍ"]
[null,null,null,null,null,null,null,null,null,null,null,null,null,null,null,null,null,null,null,null,null,null,null,null,null,null,null,null,null,null,null,null,null,null,null,null,null,null,null,null,"（おおやま）がある。",null,null,null,null,null,null,null,null,null,null,null,null,null,null,null,null,null,null,null,null,null,null,null,null,null,null,null,null,null,null,null,null,null,null,null,null,null,"（里山文化交流センター）路線バス流星あきない館前　下車"]
[]
[null,null,null,null,null,null,null,null,null,null,null,null,null,null,null,null,null,null,null,null,null,null,null,null,null,null,null,"【町が掲げる標語】輝く笑顔がうみだす希望　情熱よせ合うふるさと“おおい”",null,null,null,null,null,null,null,null,null,null,null,null,null,null,null,null,null,null,null,null,null,null,null,null,null,null,null,null,null,null,null,null,null,null,null,null,null,null,null,null,null,null,"ホームページ",null,null,null,null,null,null,"https://www.town.ohi.fukui.jp/"]
[]
["  １  土            　　地",null,null,null,null,null,null,null,null,null,null,null,null,null,null,null,null,null,null,null,null,null,null,null,null,{"$f":"データ一覧!$A$240","v":"5年"},"産米収穫量",null,null,"　 収　穫　量",null,null," 　作 付 面 積",null,null,"   10a当たり収量",null,null,null,null,null,null,null,null,null,null,null,null,null,null,null,null,null,null,null,null,null,null,null,null,null,null,null,null,null,null,null," １５  労　　　　　　　働",null,null,null,null,null,null,null,null,null,null,null,null,null,null,"2.10.1"]
[null,null,null,null,null,null,null,null,null,null,null,null,null,null,null,null,null,null,null,null,null,null,null,null,null,null,null,null,null,{"$f":"データ一覧!$V$240","v":1850},null,"t",{"$f":"データ一覧!$V$241","v":398},null,"ha",{"$f":"データ一覧!V242","v":465},null,null,"kg"," １０  工　　　　　　業 ",null,null,null,null,null,null,null,null,null,null,null,null,null,{"$f":"データ一覧!$A$332","v":"4.6.1（令和3年実績）"}]
["   総          面           積",null,null,null,null,null,null,null,null,null," 固 定 資 産 概 要 調 書 に よ る 地 目 別 面 積",null,null,null,null,null,null,null,null,null,null,null,null,null,null,null,null,null,"   総　　　数",null,null,null,"うち　　田",null,null,null,"うち　　畑",null,null,null,null,null,null,null,null,null,null,null,null,null,null,null,null,null,null,null,null,null,null,null,null,null,null,null,null,null,null,null,null,null,null,null,null,null,"産業別就業者数   "]
[null,null,{"$f":"データ一覧!$A$7","v":"6.10.1"},null,null,null,null,null,null,null,null,null,null,null,null,null,{"$f":"データ一覧!$A$9","v":"6.1.1"},null,null,null,null,null,null,null,null," 耕  地  面  積",null,null,null,"       ha",null,null,"ha ",null,null,null,"ha ",null,null,"      ","産業分類",null,null,null,null,null,null,null,"事業所数",null,null,null,null,"従業者数",null,null,null,null,null,"年間製造品出荷額等",null,null,null,null,null,null,null,null,"区  分",null,null,null,null,"総    数",null,null,null,null,"男",null,null,null,"女",null,null,"  ","区  分",null,null,null,null,"総    数",null,null,null,null,"男",null,null,null,"女"]
[null,null,null,null,null,null,"㎢",null,null,null,"   総       数",null,null,null,null,"  う ち     田",null,null,null,null,"  う ち     畑",null,null,null,null,{"$f":"データ一覧!A243","v":"5.7.15"},null,null,{"$f":"データ一覧!$V$243","v":730},null,null,{"$f":"データ一覧!$V$244","v":650},null,null,null,{"$f":"データ一覧!$V$245","v":80},null,null,null,null,null,null,null,null,null,null,null,null,"　　   ",null,null,"事業所",null,"　　　　　　　 人",null,null,"人",null,"　　　　　　　　　　　　　　万円",null,null,null,null,null,null,"万円",null,null,null,null,null,null,null,"      人",null,null,null,null,null," 人",null,null,null," 人",null,null,null,null,null,null,null,"      人",null,null,null,"      人",null,null,null,"      人"]
[null,null,null,{"$f":"データ一覧!V7","v":212.19},null,null,null,null,null,null,null,null,null,null,"ha",null,null,null,null,"ha",null,null,null,null,"ha","農 業 生 産 物",null,null,null,"作 付 面 積",null,null,"収 穫 量",null,null,"10a当たり収量",null,null,null,"     ","総数",null,null,null,null,null,null,null,null,{"$f":"データ一覧!V332","v":10},null,null,null,{"$f":"+データ一覧!V357","v":202},null,null,null,null,null,null,{"$f":"データ一覧!V382","v":315159},null,null,null,null,null,null," 総　　　数",null,null,null,null,null,{"$f":"BZ20+CD20","v":4252},null,null,null,{"$f":"データ一覧!V507","v":2489},null,null,null,{"$f":"データ一覧!V532","v":1763}]
[null,null,null,null,null,null,null,null,null,null,null,{"$f":"データ一覧!V9","v":11812.2},null,null,null,null,{"$f":"データ一覧!V10","v":686.2},null,null,null,null,{"$f":"データ一覧!V11","v":138.1},null,null,null,{"$f":"データ一覧!$A$246","v":"5年産"},null,null,null,"ha",null,null,"t",null,null,"kg",null,null,null,"     食料品","食料品",null,null,null,null,null,null,null,null,{"$f":"データ一覧!V333","v":5},null,null,null,{"$f":"+データ一覧!V358","v":43},null,null,null,null,null,null,{"$f":"データ一覧!V383","v":26751},null,null,null,null,null,null,null,null,null,null,null,null,null,null,null,null,null,null,null,null,null,null,null,null,null,"卸売業,小売業",null,null,null,null,{"$f":"CR21+CV21","v":326},null,null,null,{"$f":"データ一覧!V520","v":130},null,null,null,{"$f":"データ一覧!V545","v":196}]
["  町 ･ 丁 ･ 大 字",null,null,null,null,null,null,null,null,null,"  う ち  宅 地",null,null,null,null,"  う ち  山 林",null,null,null,null,"  う ち  原 野",null,null,null,null,"水　　　　　稲",null,null,null,{"$f":"データ一覧!V246","v":398},null,null,{"$f":"データ一覧!V247","v":1850},null,null,{"$f":"データ一覧!V248","v":465},null,null,null,"     飲料・飼料","飲料・飼料",null,null,null,null,null,null,null,null,{"$f":"データ一覧!V334","v":0},null,null,null,{"$f":"+データ一覧!V359","v":0},null,null,null,null,null,null,{"$f":"データ一覧!V384","v":0},null,null,null,null,null,null," 第１次産業",null,null,null,null,null,{"$f":"BZ22+CD22","v":366},null,null,null,{"$f":"データ一覧!V508","v":244},null,null,null,{"$f":"データ一覧!V533","v":122},null,null,null,null,"金融業,保険業",null,null,null,null,{"$f":"CR22+CV22","v":46},null,null,null,{"$f":"データ一覧!V521","v":21},null,null,null,{"$f":"データ一覧!V546","v":25}]
["  区    画    数",null,null,null,null,null,null,{"$f":"データ一覧!V8","v":48},null,null,null,null,null,null,"ha",null,null,null,null,"ha",null,null,null,null,"ha","六　条　大　麦",null,null,null,{"$f":"データ一覧!V249","v":34},null,null,{"$f":"データ一覧!V250","v":72},null,null,{"$f":"データ一覧!V251","v":212},null,null,null,"     繊維","繊維",null,null,null,null,null,null,null,null,{"$f":"データ一覧!V335","v":3},null,null,null,{"$f":"+データ一覧!V360","v":106},null,null,null,null,null,null,{"$f":"データ一覧!V385","v":170633},null,null,null,null,null,null,"  ","農業",null,null,null,null,{"$f":"BZ23+CD23","v":269},null,null,null,{"$f":"データ一覧!V509","v":158},null,null,null,{"$f":"データ一覧!V534","v":111},null,null,null,"  ","不動産業",null,null,null,null,24,null,null,null,{"$f":"データ一覧!V522","v":12},null,null,null,{"$f":"データ一覧!V547","v":12}]
[{"$f":"データ一覧!$A$8","v":"5.4.1"},null,null,null,null,null,null,null,null,null,null,{"$f":"データ一覧!V12","v":287.7},null,null,null,null,{"$f":"データ一覧!V13","v":5968.2},null,null,null,null,{"$f":"データ一覧!V14","v":72.900000000000006},null,null,null,"大　　      豆",null,null,null,{"$f":"データ一覧!V252","v":3},null,null,{"$f":"データ一覧!V253","v":2},null,null,{"$f":"データ一覧!V254","v":68},null,null,null,"     衣服","木材",null,null,null,null,null,null,null,null,{"$f":"データ一覧!V336","v":0},null,null,null,{"$f":"+データ一覧!V361","v":0},null,null,null,null,null,null,{"$f":"データ一覧!V386","v":0},null,null,null,null,null,null,"  ","林業",null,null,null,null,30,null,null,null,{"$f":"データ一覧!V510","v":28},null,null,null,{"$f":"データ一覧!V535","v":2},null,null,null,"  ","学術研究",null,null,null,null,94,null,null,null,{"$f":"データ一覧!V523","v":53},null,null,null,{"$f":"データ一覧!V548","v":41}]
["  ２  世　帯　数　と　人　口",null,null,null,null,null,null,null,null,null,null,null,null,null,null,null,null,null,null,null,null,null,null,null,null,null,null,"  区　分",null," 乳 用 牛",null," 肉 用 牛",null,"豚",null,"採卵鶏",null,"ブロイラー",null,"     木材","家具",null,null,null,null,null,null,null,null,{"$f":"データ一覧!V337","v":0},null,null,null,{"$f":"+データ一覧!V362","v":0},null,null,null,null,null,null,{"$f":"データ一覧!V387","v":0},null,null,null,null,null,null,"  ","漁業",null,null,null,null,67,null,null,null,{"$f":"データ一覧!V511","v":58},null,null,null,{"$f":"データ一覧!V536","v":9},null,null,null,"  ","宿泊業,飲食ｻｰﾋﾞｽ",null,null,null,null,232,null,null,null,{"$f":"データ一覧!V524","v":67},null,null,null,{"$f":"データ一覧!V549","v":165}]
[null,null,null,null,null,null,null,null,null,null,null,null,null,null,null,null,null,null,null,null,null,null,null,null,null,"畜　産",null," 飼養農家",null,{"$f":"データ一覧!$V$255","v":0},null,{"$f":"データ一覧!$V$257","v":1},null,{"$f":"データ一覧!$V$259","v":0},null,{"$f":"データ一覧!$V$261","v":1},null,{"$f":"データ一覧!$V$263","v":0},null,"     家具","パルプ・紙",null,null,null,null,null,null,null,null,{"$f":"データ一覧!V338","v":1},null,null,null,{"$f":"+データ一覧!V363","v":4},null,null,null,null,null,null,{"$f":"データ一覧!V388","v":"x"},null,null,null,null,null,null," 第２次産業",null,null,null,null,null,1051,null,null,null,{"$f":"データ一覧!V512","v":739},null,null,null,{"$f":"データ一覧!V537","v":312},null,null,null,"  ","生活関連ｻｰﾋﾞｽ業",null,null,null,null,123,null,null,null,{"$f":"データ一覧!V525","v":60},null,null,null,{"$f":"データ一覧!V550","v":63}]
[null,null,null,null,null,null,null,null,"        人　　　　　　　　　　口",null,null,null,null,null,null,null,null,null,null,null,"１世帯当",null,"人    口",null,null,{"$f":"データ一覧!$A$255","v":"6.3.31"},null,"（戸）",null,null,null,null,null,null,null,null,null,null,null,"     パルプ・紙","印刷",null,null,null,null,null,null,null,null,{"$f":"データ一覧!V339","v":0},null,null,null,{"$f":"+データ一覧!V364","v":0},null,null,null,null,null,null,{"$f":"データ一覧!V389","v":0},null,null,null,null,null,null,null,"鉱業，採石業",null,null,null,null,0,null,null,null,0,null,null,null,0,null,null,null,"  ","教育,学習支援業",null,null,null,null,210,null,null,null,{"$f":"データ一覧!V526","v":82},null,null,null,{"$f":"データ一覧!V551","v":128}]
[" 区　　　　分",null,null,null,null,"世帯数",null,null," 総   数",null,null,"    男",null,null,"    女",null,null,"  男／女",null,null,"たり人員",null,"密    度",null,null,null,null," 頭 羽",null,{"$f":"データ一覧!$V$256","v":0},null,{"$f":"データ一覧!$V$258","v":17},null,{"$f":"データ一覧!$V$260","v":0},null,{"$f":"データ一覧!$V$262","v":195},null,{"$f":"データ一覧!$V$264","v":0},null,"     出版・印刷","化学",null,null,null,null,null,null,null,null,{"$f":"データ一覧!V340","v":0},null,null,null,{"$f":"+データ一覧!V365","v":0},null,null,null,null,null,null,{"$f":"データ一覧!V390","v":0},null,null,null,null,null,null,"  ","建設業",null,null,null,null,638,null,null,null,{"$f":"データ一覧!V514","v":528},null,null,null,{"$f":"データ一覧!V539","v":110},null,null,null,null,"医療，福祉",null,null,null,null,465,null,null,null,{"$f":"データ一覧!V527","v":95},null,null,null,{"$f":"データ一覧!V552","v":370}]
[null,null,null,null,null,"    世 帯",null,null,"       人",null,null,"       人",null,null,"       人",null,null,null,"　　％",null,"    人",null,"    人/㎢",null,null,null,null,null,null,null,null,null,null,null,null,null,null,null,null,"     化学","石油・石炭",null,null,null,null,null,null,null,null,{"$f":"データ一覧!V341","v":0},null,null,null,{"$f":"+データ一覧!V366","v":0},null,null,null,null,null,null,{"$f":"データ一覧!V391","v":0},null,null,null,null,null,null,null,"製造業",null,null,null,null,413,null,null,null,{"$f":"データ一覧!V515","v":211},null,null,null,{"$f":"データ一覧!V540","v":202},null,null,null,null,"複合サービス事業",null,null,null,null,63,null,null,null,{"$f":"データ一覧!V528","v":37},null,null,null,{"$f":"データ一覧!V553","v":26}]
[{"$f":"データ一覧!$A$22","v":" 2.10.1"},null,null,null,null,{"$f":"データ一覧!V22","v":3775},null,null,{"$f":"+L30+O30","v":10598},null,null,{"$f":"データ一覧!V24","v":5767},null,null,{"$f":"データ一覧!V25","v":4831},null,null,null,{"$f":"+L30/O30*100","v":119.37487062719934},null,{"$f":"データ一覧!V27","v":2.81},null,{"$f":"データ一覧!V21","v":0},null,null,"  ５  林               業",null,null,null,null,null,null,null,null,null,null,null,null,null,"     石油・石炭","プラスチック",null,null,null,null,null,null,null,null,{"$f":"データ一覧!V342","v":0},null,null,null,{"$f":"+データ一覧!V367","v":0},null,null,null,null,null,null,{"$f":"データ一覧!V392","v":0},null,null,null,null,null,null," 第３次産業",null,null,null,null,null,2758,null,null,null,{"$f":"データ一覧!V516","v":1467},null,null,null,{"$f":"データ一覧!V541","v":1291},null,null,null,null,"サービス業",null,null,null,null,401,null,null,null,{"$f":"データ一覧!V529","v":254},null,null,null,{"$f":"データ一覧!V554","v":147}]
[{"$f":"データ一覧!$A$29","v":" 7.10.1"},null,null,null,null,{"$f":"データ一覧!V29","v":3469},null,null,{"$f":"+L31+O31","v":10251},null,null,{"$f":"データ一覧!V31","v":5400},null,null,{"$f":"データ一覧!V32","v":4851},null,null,null,111.31725417439704,null,{"$f":"データ一覧!V34","v":2.96},null,{"$f":"データ一覧!V28","v":0},null,null,null,null,null,null,null,null,null,null,null,null,null,null,null,null,"     プラスチック","ゴム",null,null,null,null,null,null,null,null,{"$f":"データ一覧!V343","v":0},null,null,null,{"$f":"+データ一覧!V368","v":0},null,null,null,null,null,null,{"$f":"データ一覧!V393","v":0},null,null,null,null,null,null,null,"電気･ｶﾞｽ･水道業",null,null,null,null,459,null,null,null,{"$f":"データ一覧!V517","v":431},null,null,null,{"$f":"データ一覧!V542","v":28},null,null,null,null,"公務",null,null,null,null,227,null,null,null,{"$f":"データ一覧!V530","v":153},null,null,null,{"$f":"データ一覧!V555","v":74}]
[{"$f":"データ一覧!$A$36","v":"12.10.1"},null,null,null,null,{"$f":"データ一覧!V36","v":3490},null,null,{"$f":"+L32+O32","v":9983},null,null,{"$f":"データ一覧!V38","v":5192},null,null,{"$f":"データ一覧!V39","v":4791},null,null,null,108.36986015445626,null,{"$f":"データ一覧!V41","v":2.86},null,{"$f":"データ一覧!V35","v":0},null,null,"    　森　　　林　　　総　　　面　　　積   ",null,null,null,null,null,null,null,{"$f":"データ一覧!$A$265","v":"5.3.31"},null,null,null,null,null,"     ゴム","皮革",null,null,null,null,null,null,null,null,{"$f":"データ一覧!V344","v":0},null,null,null,{"$f":"+データ一覧!V369","v":0},null,null,null,null,null,null,{"$f":"データ一覧!V394","v":0},null,null,null,null,null,null,null,"情報通信業",null,null,null,null,4,null,null,null,{"$f":"データ一覧!V518","v":3},null,null,null,{"$f":"データ一覧!V543","v":1},null,null,null," 分類不能の産業",null,null,null,null,null,77,null,null,null,{"$f":"データ一覧!V531","v":39},null,null,null,{"$f":"データ一覧!V556","v":38}]
[{"$f":"+データ一覧!$A$43","v":"17.10.1"},null,null,null,null,{"$f":"データ一覧!V43","v":3258},null,null,{"$f":"+L33+O33","v":9217},null,null,{"$f":"データ一覧!V45","v":4649},null,null,{"$f":"データ一覧!V46","v":4568},null,null,null,101.77320490367777,null,{"$f":"データ一覧!V48","v":2.83},null,{"$f":"データ一覧!V49","v":43.4},null,null,"　　　森　　　　　　　林　　　　　　　の　　　　　　　構　　　　　　　成",null,null,null,null,null,null,null,null,null,null,null,null,null,"     皮革","窯業・土石",null,null,null,null,null,null,null,null,{"$f":"データ一覧!V345","v":0},null,null,null,{"$f":"+データ一覧!V370","v":0},null,null,null,null,null,null,{"$f":"データ一覧!V395","v":0},null,null,null,null,null,null,"  ","運輸業,郵便業",null,null,null,null,{"$f":"BZ33+CD33","v":84},null,null,null,{"$f":"データ一覧!V519","v":69},null,null,null,{"$f":"データ一覧!V544","v":15}]
[{"$f":"+データ一覧!$A$50","v":"22.10.1"},null,null,null,null,{"$f":"データ一覧!V50","v":3144},null,null,{"$f":"+L34+O34","v":8580},null,null,{"$f":"データ一覧!V52","v":4280},null,null,{"$f":"+データ一覧!V53","v":4300},null,null,null,99.534883720930239,null,{"$f":"+データ一覧!V55","v":2.73},null,{"$f":"+データ一覧!V56","v":40.4},null,null,null,null,null,null,null,"       ha",null,null,null,null,null,null,"       ha",null,"     窯業・土石","鉄鋼",null,null,null,null,null,null,null,null,{"$f":"データ一覧!V346","v":0},null,null,null,{"$f":"+データ一覧!V371","v":0},null,null,null,null,null,null,{"$f":"データ一覧!V396","v":0},null,null,null,null,null,null," １６  社　 会 　福　 祉",null,null,null,null,null,null,null,null,null,null,null,null,null,null,null,{"$f":"データ一覧!$A$557","v":"6.4.1"}]
[{"$f":"データ一覧!$A$57","v":"27.10.1"},null,null,null,null,{"$f":"データ一覧!V57","v":3222},null,null,{"$f":"データ一覧!V58","v":8325},null,null,{"$f":"データ一覧!V59","v":4201},null,null,{"$f":"データ一覧!V60","v":4124},null,null,null,101.86711930164888,null,{"$f":"データ一覧!V62","v":2.5837988826815641},null,{"$f":"データ一覧!V63","v":39.200000000000003},null,null,"  総　　　　　   数",null,null,null,{"$f":"データ一覧!V265","v":18707.62},null,null," 天然林       針葉樹",null,null,null,{"$f":"データ一覧!V268","v":614.91999999999996},null,null,"     鉄鋼","非鉄金属",null,null,null,null,null,null,null,null,{"$f":"データ一覧!V347","v":0},null,null,null,{"$f":"+データ一覧!V372","v":0},null,null,null,null,null,null,{"$f":"データ一覧!V397","v":0}]
["令　2.10.1（国調）",null,null,null,null,{"$f":"データ一覧!V64","v":3165},null,null,{"$f":"データ一覧!V65","v":7910},null,null,{"$f":"データ一覧!V66","v":3968},null,null,{"$f":"データ一覧!V67","v":3942},null,null,null,{"$f":"+L36/O36*100","v":100.6595636732623},null,{"$f":"データ一覧!V69","v":2.4992101105845181},null,{"$f":"データ一覧!V70","v":37.277911305905086},null,null,"  人工林     針葉樹",null,null,null,{"$f":"データ一覧!V266","v":9587.81},null,null," 天然林       広葉樹",null,null,null,{"$f":"データ一覧!V269","v":8175.04},null,null,"     非鉄金属","金属",null,null,null,null,null,null,null,null,{"$f":"データ一覧!V348","v":1},null,null,null,{"$f":"+データ一覧!V373","v":49},null,null,null,null,null,null,{"$f":"データ一覧!V398","v":"x"},null,null,null,null,null,null,"    ","区分",null,null,null,null,null,null,"施設数",null,null,null,null,"収容定員",null,null,null,null,null,"区分",null,null,null,null,null,null,"施設数",null,null,null,null,"収容定員"]
["年",null,"  区",null," 0歳",null,null,"15歳",null,null,"25歳",null,null,"35歳",null,null,"45歳",null,null,"55歳",null,null,"65歳",null,null,"  人工林     広葉樹",null,null,null,{"$f":"データ一覧!V267","v":188.63},null,null," 竹               林",null,null,null,{"$f":"データ一覧!V270","v":62.81},null,null,"     金属","はん用機械",null,null,null,null,null,null,null,null,{"$f":"データ一覧!V349","v":0},null,null,null,{"$f":"+データ一覧!V374","v":0},null,null,null,null,null,null,{"$f":"データ一覧!V399","v":0},null,null,null,null,null,null,"生活保護施設",null,null,null,null,null,null,null,{"$f":"データ一覧!V557","v":"-"},null,null,null,{"$f":"データ一覧!V570","v":"-"},null,null,null,"人",null,"指定障害者支援施設",null,null,null,null,null,null,null,{"$f":"データ一覧!V563","v":"-"},null,null,null,{"$f":"データ一覧!V576","v":"-"},null,null,null,"人"]
["齢","令",null,null,null,"～",null,null,"～",null,null,"～",null,null,"～",null,null,"～",null,null,"～",null,null,null,null,null,null,null,null,null,null,null,null,null,null,null,null,null,null,"     一般機械","生産用機械",null,null,null,null,null,null,null,null,{"$f":"データ一覧!V350","v":"-"},null,null,null,{"$f":"+データ一覧!V375","v":0},null,null,null,null,null,null,{"$f":"データ一覧!V400","v":0},null,null,null,null,null,null,"地域福祉施設",null,null,null,null,null,null,null,{"$f":"データ一覧!V558","v":"-"},null,null,null,{"$f":"データ一覧!V571","v":"-"},null,null,null,null,null,"指定相談支援事業所",null,null,null,null,null,null,null,{"$f":"データ一覧!V564","v":"-"},null,null,null,{"$f":"データ一覧!V577","v":"-"}]
["階",{"$f":"+LEFT(データ一覧!$A$83,1)","v":"6"},"  分",null,null,null,"14歳",null,null,"24歳",null,null,"34歳",null,null,"44歳",null,null,"54歳",null,null,"64歳",null,null,"以上","    林     野     の     構     成",null,null,null,null,null,null,"保     有     形     態     別",null,null,null,null,null,null,"     電気機械","業務用機械",null,null,null,null,null,null,null,null,{"$f":"データ一覧!V351","v":0},null,null,null,{"$f":"+データ一覧!V376","v":0},null,null,null,null,null,null,{"$f":"データ一覧!V401","v":0},null,null,null,null,null,null,"老人福祉施設",null,null,null,null,null,null,null,{"$f":"データ一覧!V559","v":2},null,null,null,{"$f":"データ一覧!V572","v":10},null,null,null,null,null,"児童福祉施設",null,null,null,null,null,null,null,{"$f":"データ一覧!V565","v":7},null,null,null,{"$f":"データ一覧!V578","v":390}]
["級","・",null,null,null,null,"人",null,null,"人",null,"    人",null,null,"    人",null,null,"    人",null,null,"    人",null,null,"    人",null,null,null,null,null,null,null,"ha",null,null,null,null,null,"       ha",null,null,"電子・デバイス",null,null,null,null,null,null,null,null,{"$f":"データ一覧!V352","v":0},null,null,null,{"$f":"+データ一覧!V377","v":0},null,null,null,null,null,null,{"$f":"データ一覧!V402","v":0},null,null,null,null,null,null,"介護保険施設",null,null,null,null,null,null,null,{"$f":"データ一覧!V560","v":15},null,null,null,{"$f":"データ一覧!V573","v":306},null,null,null,null,null,"母子福祉施設",null,null,null,null,null,null,null,{"$f":"データ一覧!V566","v":"-"},null,null,null,{"$f":"データ一覧!V579","v":"-"}]
["別",{"$f":"+MID(データ一覧!$A$83,3,2)","v":"10"},"総 数",null,{"$f":"+E42+E43","v":962},null,null,{"$f":"+H42+H43","v":564},null,null,{"$f":"+K42+K43","v":556},null,null,{"$f":"+N42+N43","v":761},null,null,{"$f":"+Q42+Q43","v":977},null,null,{"$f":"+T42+T43","v":1002},null,null,{"$f":"+W42+W43","v":2554},null,null," 無立木地   伐採跡地",null,null,null,{"$f":"データ一覧!V271","v":0.94},null,null,"国   　　　 　 有",null,null,null,{"$f":"データ一覧!V273","v":1441.77},null,null,null,"電気機械",null,null,null,null,null,null,null,null,{"$f":"データ一覧!V353","v":0},null,null,null,{"$f":"+データ一覧!V378","v":0},null,null,null,null,null,null,{"$f":"データ一覧!V403","v":0},null,null,null,null,null,null,"障害者自立支援法施行前からの身体障害者福祉施設",null,null,null,null,null,null,null,{"$f":"データ一覧!V561","v":"-"},null,null,null,{"$f":"データ一覧!V574","v":"-"},null,null,null,null,null,"婦人保護施設",null,null,null,null,null,null,null,{"$f":"データ一覧!V567","v":"-"},null,null,null,{"$f":"データ一覧!V580","v":"-"}]
["人","・","  男",null,{"$f":"データ一覧!V83","v":474},null,null,{"$f":"データ一覧!V84","v":304},null,null,{"$f":"データ一覧!V85","v":342},null,null,{"$f":"データ一覧!V86","v":390},null,null,{"$f":"データ一覧!V87","v":531},null,null,{"$f":"データ一覧!V88","v":547},null,null,{"$f":"データ一覧!V89","v":1123},null,null," 無立木地   未立木地",null,null,null,{"$f":"データ一覧!V272","v":77.47},null,null,"公       　　  有",null,null,null,{"$f":"データ一覧!V274","v":3072.75},null,null,"     輸送機械","情報通信機械",null,null,null,null,null,null,null,null,{"$f":"データ一覧!V354","v":0},null,null,null,{"$f":"+データ一覧!V379","v":0},null,null,null,null,null,null,{"$f":"データ一覧!V404","v":0},null,null,null,null,null,null,null,null,null,null,null,null,null,null,null,null,null,null,null,null,null,null,null,null,"その他の社会福祉施設",null,null,null,null,null,null,null,{"$f":"データ一覧!V568+データ一覧!V569","v":1},null,null,null,0]
["口",{"$f":"+RIGHT(データ一覧!$A$83,1)","v":"1"},"  女",null,{"$f":"データ一覧!V91","v":488},null,null,{"$f":"データ一覧!V92","v":260},null,null,{"$f":"データ一覧!V93","v":214},null,null,{"$f":"データ一覧!V94","v":371},null,null,{"$f":"データ一覧!V95","v":446},null,null,{"$f":"データ一覧!V96","v":455},null,null,{"$f":"データ一覧!V97","v":1431},null,null,null,null,null,null,null,null,null,"私          　 有",null,null,null,{"$f":"データ一覧!V275","v":14193.1},null,null,"     精密機械","輸送機械",null,null,null,null,null,null,null,null,{"$f":"データ一覧!V355","v":0},null,null,null,{"$f":"+データ一覧!V380","v":0},null,null,null,null,null,null,{"$f":"データ一覧!V405","v":0},null,null,null,null,null,null,"障害福祉サービス事業所",null,null,null,null,null,null,null,{"$f":"データ一覧!V562","v":6},null,null,null,{"$f":"データ一覧!V575","v":46}]
[null,null,null,null,null,null,null,null,null,null,null,null,null,null,null,null,null,null,null,null,null,null,null,null,null,"            林     産     物     生     産     量 ",null,null,null,null,null,null,null,null,null,{"$f":"データ一覧!$A$276","v":"5年中"},null,null,null,"     その他","その他",null,null,null,null,null,null,null,null,{"$f":"データ一覧!V356","v":0},null,null,null,{"$f":"+データ一覧!V381","v":0},null,null,null,null,null,null,{"$f":"データ一覧!V406","v":0},null,null,null,null,null,null," １７  教　　　　　　　育",null,null,null,null,null,null,null,null,null,null,null,null,null,null,null,{"$f":"データ一覧!$A$583","v":"6.5.1"}]
["人口動態",null,null,null,null,null,null,"   自　然　動　態",null,null,null,null,null,"   社  会  動  態",null,null,null,null,null,{"$f":"データ一覧!$A78","v":"5.1.1～5.12.31"},null,null,null,null,null,"生椎茸",null,null,null,{"$f":"データ一覧!V276","v":84573},null,"㎏","乾椎茸",null,null,null,{"$f":"データ一覧!V277","v":584},null,"㎏"]
[null,null,"   区       分",null,null,null,null," 出   生",null,null," 死   亡",null,null," 転   入",null,null," 転   出",null,null," 婚   姻",null,null," 離   婚",null,null,"えのきだけ",null,null,null,{"$f":"データ一覧!V279","v":0},null,"㎏","なめこ",null,null,null,{"$f":"データ一覧!V278","v":0},null,"㎏","    ","工　業　用　水　量",null,null,null,null,null,"（従業者30人以上の事業所）",null,null,null,null,null,null,null,null,null,null,{"$f":"データ一覧!V407","v":"x"},null,null,null,null,"㎥／日",null,null,null,null,null,null,null,null,null,null,null,null,null,null,"学校数（校）",null,null,null,null,null,null,"教員数（人）",null,null,null,null,null,null,null,"学生・生徒・児童数（人）"]
[{"$f":"LEFT(データ一覧!$A74,6)","v":"5.10.1"},null,null,null,null,null,null,"       人",null,null,"       人",null,null,"       人",null,null,"       人",null,null,null,"    件",null,null,"    件",null,"ひらたけ",null,null,null,{"$f":"+データ一覧!V280","v":24},null,"㎏","まいたけ",null,null,null,{"$f":"+データ一覧!V281","v":0},null,"㎏",null,null,null,null,null,null,null,null,null,null,null,null,null,null,null,null,null,null,null,null,null,null,null,null,null,null,null,null,null,"　","区分",null,null,null,null,null,null,null," 本 校",null,null," 分 校",null,null," 本   務",null,null,null," 兼   務",null,null,null," 総   数",null,null,null,"男",null,null,null,"女"]
["～",null," 実          数",null,null,null,null,{"$f":"データ一覧!V74","v":46},null,null,{"$f":"データ一覧!V75","v":121},null,null,{"$f":"データ一覧!V76","v":236},null,null,{"$f":"データ一覧!V77","v":285},null,null,{"$f":"データ一覧!V78","v":36},null,null,{"$f":"データ一覧!V79","v":13},null,null,null,null,null,null,null,null,null,null,null,null,null,null,null,null," １１ 　上　・　下　水　道",null,null,null,null,null,null,null,null,null,null,null,null,null,null,null,null,null,null,null,null,null,null,null,null,null,null,null,null,"小学校",null,null,null,null,null,null,null,null,{"$f":"データ一覧!V584","v":4},null,null,{"$f":"データ一覧!V585","v":0},null,null,{"$f":"データ一覧!V586","v":55},null,null,null,{"$f":"データ一覧!V587","v":9},null,null,null,{"$f":"データ一覧!V588","v":413},null,null,null,{"$f":"データ一覧!V589","v":200},null,null,null,{"$f":"データ一覧!V590","v":213}]
[{"$f":"RIGHT(データ一覧!$A76,6)","v":"6.9.30"},null,"比率(対1,000人)",null,null,null,null,{"$f":"+H48/I36*1000","v":5.8154235145385584},null,null,{"$f":"+K48/I36*1000","v":15.29709228824273},null,null,"- ",null,null,"- ",null,null,{"$f":"+T48/I36*1000","v":4.5512010113780024},null,null,{"$f":"+W48/I36*1000","v":1.6434892541087232},null,null,"  ６  漁               業",null,null,null,null,null,null,null,null,null,null,null,null,null,null,null,null,null,null,null,null,null,null,null,null,null,null,null,null,null,null,null,null,null,null,null,null,null,null,null,null,null,"  ","中学校",null,null,null,null,null,null,null,null,{"$f":"データ一覧!V592","v":2},null,null,{"$f":"データ一覧!V593","v":0},null,null,{"$f":"データ一覧!V594","v":34},null,null,null,{"$f":"データ一覧!V595","v":3},null,null,null,{"$f":"データ一覧!V596","v":249},null,null,null,{"$f":"データ一覧!V597","v":124},null,null,null,{"$f":"データ一覧!V598","v":125}]
[null,null,null,null,null,null,null,null,null,null,null,null,null,null,null,null,null,null,null,null,null,null,null,null,null,null,null,null,null,null,null,null,null,null,null,null,null,null,null,"水 道 供 給 人 口",null,null,null,null,null,null,"上 水 道",null,null,null,"簡易水道",null,null,null,"専用水道",null,null,null,"飲料水供給施設",null,null,null,"下水道処理人口",null,null,null,null,"  ","高等学校",null,null,null,null,null,null,null,null,{"$f":"データ一覧!V600","v":0},null,null,{"$f":"データ一覧!V601","v":0},null,null,{"$f":"データ一覧!V602","v":0},null,null,null,{"$f":"データ一覧!V603","v":0},null,null,null,{"$f":"データ一覧!V604","v":0},null,null,null,{"$f":"データ一覧!V605","v":0},null,null,null,{"$f":"データ一覧!V606","v":0}]
["  ３  事　　業　　所（民　　営）",null,null,null,null,null,null,null,null,null,null,"3.6.1",null,null,null,null,null,null,null,null,null,null,null,null,null,"漁船隻数・トン数",null,null,null,{"$f":"データ一覧!$A$282","v":"5.12.31"},null,null,null,"動　力　船",null,null,null,null,null,{"$f":"データ一覧!$A$408","v":"6.3.31"},null,null,null,null,null,"人",null,{"$f":"データ一覧!V408","v":0},null,null,{"$f":"データ一覧!V409","v":7574},null,null,null,null,{"$f":"データ一覧!V410","v":30},null,null,null,{"$f":"データ一覧!V411","v":83},null,null,null,{"$f":"データ一覧!V412","v":1263},null,null,null,"  ","大学・短期大学",null,null,null,null,null,null,null,null,{"$f":"データ一覧!V607","v":0},null,null,{"$f":"データ一覧!V608","v":0},null,null,{"$f":"データ一覧!V609","v":0},null,null,null,{"$f":"データ一覧!V610","v":0},null,null,null,{"$f":"データ一覧!V611","v":0},null,null,null,{"$f":"データ一覧!V612","v":0},null,null,null,{"$f":"データ一覧!V613","v":0}]
[null,null,null,null,null,null,null,null,null,null,null,null,null,null,null,null,null,null,null,null,null,null,null,null,null,"無動力船隻数",null,null,null,"船外機付漁船隻数",null,null,null,"隻　数",null,null,"総 ト ン 数",null,null,null,null,null,null,null,null,null,null,null,null,null,null,null,null,null,null,null,null,null,null,null,null,null,null,null,null,null,null,"  ","高等専門学校",null,null,null,null,null,null,null,null,{"$f":"データ一覧!V614","v":0},null,null,{"$f":"データ一覧!V615","v":0},null,null,{"$f":"データ一覧!V616","v":0},null,null,null,{"$f":"データ一覧!V617","v":0},null,null,null,{"$f":"データ一覧!V618","v":0},null,null,null,{"$f":"データ一覧!V619","v":0},null,null,null,{"$f":"データ一覧!V620","v":0}]
[null,null,null,null,null,null,null,"    総　　　　　数",null,null,null,null,null,"    民　　　　　営",null,null,null,null,null,"  国 ･ 地方公共団体",null,null,null,null,null,null,null,null,"隻",null,null,null,"隻",null,null,"隻",null,null,"t"," １２  交   通　・　通   信",null,null,null,null,null,null,null,null,null,null,null,null,null,null,null,null,null,null,null,null,null,null,null,null,null,null,null,"  ","特別支援学校",null,null,null,null,null,null,null,null,{"$f":"+データ一覧!V622","v":0},null,null,{"$f":"+データ一覧!V623","v":0},null,null,{"$f":"+データ一覧!V624","v":0},null,null,null,{"$f":"+データ一覧!V625","v":0},null,null,null,{"$f":"+データ一覧!V626","v":0},null,null,null,{"$f":"+データ一覧!V627","v":0},null,null,null,{"$f":"+データ一覧!V628","v":0}]
["  　区　　　　　　分",null,null,null,null,null,null," 事業所数",null,null," 従業者数",null,null," 事業所数",null,null," 従業者数",null,null," 事業所数",null,null," 従業者数",null,null,{"$f":"データ一覧!$V$282","v":1},null,null,null,{"$f":"データ一覧!$V$283","v":33},null,null,null,{"$f":"データ一覧!V284","v":119},null,null,{"$f":"データ一覧!V285","v":523.13},null,null,null,null,null,null,null,null,null,null,null,null,null,null,null,null,null,null,null,null,null,null,null,null,null,null,null,null,null,null,"  ","幼稚園",null,null,null,null,null,null,null,null,{"$f":"データ一覧!V630","v":0},null,null,{"$f":"データ一覧!V631","v":0},null,null,{"$f":"データ一覧!V632","v":0},null,null,null,{"$f":"データ一覧!V633","v":0},null,null,null,{"$f":"データ一覧!V634","v":0},null,null,null,{"$f":"データ一覧!V635","v":0},null,null,null,{"$f":"データ一覧!V636","v":0}]
[null,null,null,null,null,null,null,null,null,null,"       人",null,null,null,null,null,"       人",null,null,null,null,null,"       人",null,null,"  男女別就業者数",null,null,null,null,null,null,null,{"$f":"データ一覧!$A$286","v":"5.11.1"},null,null,null,null,null,"道     路",null,null,null,"実 延 長",null,null,null,"国     道",null,null,null,"県     道",null,null,null,"市町道",null,null,null," 鉄 道 営 業 キ ロ 数",null,null,null,null,null,null,null,"  ","幼保連携認定こども園",null,null,null,null,null,null,null,null,{"$f":"データ一覧!V638","v":4},null,null,{"$f":"データ一覧!V639","v":0},null,null,{"$f":"データ一覧!V640","v":65},null,null,null,{"$f":"データ一覧!V641","v":3},null,null,null,{"$f":"データ一覧!V642","v":292},null,null,null,{"$f":"データ一覧!V643","v":148},null,null,null,{"$f":"データ一覧!V644","v":144}]
["総数",null,null,null,null,null,null,{"$f":"データ一覧!V99","v":"…"},null,null,{"$f":"データ一覧!V156","v":"…"},null,null,{"$f":"データ一覧!V100","v":463},null,null,{"$f":"データ一覧!V157","v":4179},null,null,{"$f":"データ一覧!V101","v":"…"},null,null,{"$f":"データ一覧!V158","v":"…"},null,null,"総　　数",null,null,null,null,null,"男",null,null,null,"女",null,null,null,{"$f":"データ一覧!$A$413","v":"5.4.1"},null,null,null,{"$f":"データ一覧!V413","v":320},null,null,"㎞",{"$f":"データ一覧!V414","v":19.5},null,null,"㎞",{"$f":"データ一覧!V415","v":70.3},null,null,"㎞",{"$f":"データ一覧!V416","v":230.2},null,null,"km",{"$f":"データ一覧!$A$417","v":"6.4.1"},null,null,null,{"$f":"データ一覧!V417","v":0},null,null,"㎞","  ","各種学校",null,null,null,null,null,null,null,null,{"$f":"データ一覧!V646","v":0},null,null,{"$f":"データ一覧!V647","v":0},null,null,{"$f":"データ一覧!V648","v":0},null,null,null,{"$f":"データ一覧!V649","v":0},null,null,null,{"$f":"データ一覧!V650","v":0},null,null,null,{"$f":"データ一覧!V651","v":0},null,null,null,{"$f":"データ一覧!V652","v":0}]
["農林漁業",null,null,null,null,null,null,{"$f":"データ一覧!V102","v":"…"},null,null,{"$f":"データ一覧!V159","v":"…"},null,null,{"$f":"データ一覧!V103","v":17},null,null,{"$f":"データ一覧!V160","v":142},null,null,{"$f":"データ一覧!V104","v":"…"},null,null,{"$f":"データ一覧!V161","v":"…"},null,null,null,null,null,null,null,"人",null,null,"　　　　人",null,null,null,null,"  人","自動車",null,null,null,null,null,null,null,null,"乗用車",null,null,null,null,null,null,null,null,null,null,null,null,null,null,null,null,null,null,"  ","専修学校",null,null,null,null,null,null,null,null,{"$f":"データ一覧!V654","v":0},null,null,{"$f":"データ一覧!V655","v":0},null,null,{"$f":"データ一覧!V656","v":0},null,null,null,{"$f":"データ一覧!V657","v":0},null,null,null,{"$f":"データ一覧!V658","v":0},null,null,null,{"$f":"データ一覧!V659","v":0},null,null,null,{"$f":"データ一覧!V660","v":0}]
["鉱業",null,null,null,null,null,null,{"$f":"データ一覧!V105","v":"…"},null,null,{"$f":"データ一覧!V162","v":"…"},null,null,{"$f":"データ一覧!V106","v":"-"},null,null,{"$f":"データ一覧!V163","v":"-"},null,null,{"$f":"データ一覧!V107","v":"…"},null,null,{"$f":"データ一覧!V164","v":"…"},null,null,{"$f":"データ一覧!V286","v":111},null,null,null,null,null,{"$f":"データ一覧!$V$287","v":0},null,null,null,{"$f":"データ一覧!V288","v":0},null,null,null,"台  数",null,null,null,"貨    物",null,null,null,"普     通",null,null,null,"小     型",null,null,null,"乗  合",null,null,"特  種",null,null,"小型二輪",null,null,"軽自動車",null,null," １８  衛　　　　　　　生"]
["建設業",null,null,null,null,null,null,{"$f":"データ一覧!V108","v":"…"},null,null,{"$f":"データ一覧!V165","v":"…"},null,null,{"$f":"データ一覧!V109","v":96},null,null,{"$f":"データ一覧!V166","v":1065},null,null,{"$f":"データ一覧!V110","v":"…"},null,null,{"$f":"データ一覧!V167","v":"…"},null,null,"　　　　海 面 漁 業 漁 獲 量 （属人）",null,null,null,null,null,null,null,{"$f":"データ一覧!$A$289","v":"30年中"},null,null,null,null,null,{"$f":"データ一覧!$A$418","v":"6.3.31"},null,null,null,null,{"$f":"データ一覧!V418","v":381},null,null,null,{"$f":"データ一覧!V420","v":1508},null,null,null,{"$f":"データ一覧!V421","v":1409},null,null,{"$f":"データ一覧!V419","v":77},null,null,{"$f":"データ一覧!V422","v":197},null,null,{"$f":"データ一覧!V423","v":111},null,null,{"$f":"データ一覧!V424","v":3594}]
["製造業",null,null,null,null,null,null,{"$f":"データ一覧!V111","v":"…"},null,null,{"$f":"データ一覧!V168","v":"…"},null,null,{"$f":"データ一覧!V112","v":26},null,null,{"$f":"データ一覧!V169","v":274},null,null,{"$f":"データ一覧!V113","v":"…"},null,null,{"$f":"データ一覧!V170","v":"…"},null,null,null,null,null,null,null,"       ","ｔ",null,null,null,null,null,null,"t",null,null,"     ",null,"郵　便　局　数",null,null,null,null,null,null,null,null,null,null,null,null,null,{"$f":"+MID(データ一覧!$A$428,3,2)","v":"3."},"令","一般加入",null,null,null,"ＩＮＳネット",null,null,null,null,null,null,null,"医療関係施設",null,null,null,null,null,{"$f":"データ一覧!$A$661","v":"5.10.1"},null,null,null,null,null,null,"および医療関係者数",null,null,null,null,null,null,null,{"$f":"データ一覧!$A$666","v":"4.12.31"}]
["電気・ｶﾞ ｽ・熱供給・水道業",null,null,null,null,null,null,{"$f":"データ一覧!V114","v":"…"},null,null,{"$f":"データ一覧!V171","v":"…"},null,null,{"$f":"データ一覧!V115","v":1},null,null,{"$f":"データ一覧!V172","v":464},null,null,{"$f":"データ一覧!V116","v":"…"},null,null,{"$f":"データ一覧!V173","v":"…"},null,null,"   総　　　　　　数",null,null,null,{"$f":"データ一覧!V289","v":972},null,null,"   藻　　　　　　類",null,null,null,{"$f":"データ一覧!V292","v":1},null,null,"通  信",null,null,null," 総     数",null,null,null,null," 郵 便 局",null,null,null,null," 簡 易 局",null,null,null,"・",{"$f":"+LEFT(データ一覧!$A$428,1)","v":"6"},"電話数",null,null,null,"加入数",null,null,null,null,null,null,null,null,null,"　","病",null,null,"院",null,"　",null,null,null,null," ","一般診療所",null,null,null,null,null,null,null,null,null,null,null,"歯科診療所"]
["情報通信業",null,null,null,null,null,null,{"$f":"データ一覧!V117","v":"…"},null,null,{"$f":"データ一覧!V174","v":"…"},null,null,{"$f":"データ一覧!V118","v":"-"},null,null,{"$f":"データ一覧!V175","v":"-"},null,null,{"$f":"データ一覧!V119","v":"…"},null,null,{"$f":"データ一覧!V176","v":"…"},null,null,"   魚　　　　　　類",null,null,null,{"$f":"データ一覧!V290","v":814},null,null,"   そ　   の　　 他",null,null,null,{"$f":"データ一覧!V293","v":130},null,null,{"$f":"データ一覧!$A$428","v":"6.3.31"},null,null,null,{"$f":"データ一覧!V425","v":5},null,null,null,null,{"$f":"データ一覧!V426","v":5},null,null,null,null,{"$f":"データ一覧!V427","v":0},null,null,null,{"$f":"+RIGHT(データ一覧!$A$428,2)","v":"31"},"・",{"$f":"データ一覧!V428","v":1228},null,null,null,{"$f":"データ一覧!V429","v":185},null,null,null," ","医療関係",null,null,null,null,null,null,null,null,null,null,null,"一般病院",null,null,null,null,null,null,null,null,null,null,null,"有",null,null,"床"]
["運輸業、郵便業",null,null,null,null,null,null,{"$f":"データ一覧!V120","v":"…"},null,null,{"$f":"データ一覧!V177","v":"…"},null,null,{"$f":"データ一覧!V121","v":6},null,null,{"$f":"データ一覧!V178","v":108},null,null,{"$f":"データ一覧!V122","v":"…"},null,null,{"$f":"データ一覧!V179","v":"…"},null,null,"   貝　　　　　　類",null,null,null,{"$f":"データ一覧!V291","v":27},null,null,null,null,null,null,null,null,null,null,null,null,null,null,null,null,null,null,null,null,null,null,null,null,null,null,null,null,null,null,null,null,null,null,null,null,null,null,"施設数",null,null,null,null,null,null,{"$f":"データ一覧!V661","v":0},null,null,null,null,null,{"$f":"データ一覧!V662","v":0},null,null,null,null,null,{"$f":"データ一覧!V663","v":7},null,null,null,null,null,{"$f":"データ一覧!V664","v":1},null,null,null,null,null,{"$f":"データ一覧!V665","v":3}]
["卸売業、小売業",null,null,null,null,null,null,{"$f":"データ一覧!V123","v":"…"},null,null,{"$f":"データ一覧!V180","v":"…"},null,null,{"$f":"データ一覧!V124","v":62},null,null,{"$f":"データ一覧!V181","v":342},null,null,{"$f":"データ一覧!V125","v":"…"},null,null,{"$f":"データ一覧!V182","v":"…"},null,null,null,null,null,null,null,null,null,null,null,null,null,null,null,null," １３  税　　・　　財　　政",null,null,null,null,null,null,null,null,null,null,null,null,null,null,null,null,null,null,null,null,null,null,null,null,null,null,null,null,null,null,null,null,null,null,"医師",null,null,null,null,"歯科医師",null,null,null,null,"薬剤師",null,null,null,null,"保健師",null,null,null,null,"助産師",null,null," ",null,"看護師",null,null," "]
["金融業、保険業",null,null,null,null,null,null,{"$f":"データ一覧!V126","v":"…"},null,null,{"$f":"データ一覧!V183","v":"…"},null,null,{"$f":"データ一覧!V127","v":2},null,null,{"$f":"データ一覧!V184","v":13},null,null,{"$f":"データ一覧!V128","v":"…"},null,null,{"$f":"データ一覧!V185","v":"…"},null,null,"  ７  商        　　　業 ",null,null,null,null,null,null,{"$f":"データ一覧!$A$294","v":"3.6.1(令和2年実績）"},null,null,null,null,null,null,null,null,null,null,null,null,null,null,null,null,null,null,null,null,null,null,null,null,null,null,null,null,null,null,null,null,null,null," ","医療",null,null,null,null,null,null,null,null,"人",null,null,null,null,"人",null,null,null,null,"人",null,null,null,null,"人",null,null,null,null,"人",null,null,null,null,"人"]
["不動産業、物品賃貸業",null,null,null,null,null,null,{"$f":"データ一覧!V129","v":"…"},null,null,{"$f":"データ一覧!V186","v":"…"},null,null,{"$f":"データ一覧!V130","v":13},null,null,{"$f":"データ一覧!V187","v":45},null,null,{"$f":"データ一覧!V131","v":"…"},null,null,{"$f":"データ一覧!V188","v":"…"},null,null,null,null,null,null,null,null,null,null,null,null,null,null,null,null,"           ",null,null,null,"歳入",null,null,null,null,null,null,null,null,"(千円）"," ",null,null,null,"歳出",null,null,null,null,null,null,null,null,"(千円）",null,"関係者",null,null,null,null,{"$f":"データ一覧!V666","v":6},null,null,null,null,{"$f":"データ一覧!V667","v":4},null,null,null,null,{"$f":"データ一覧!V668","v":4},null,null,null,null,{"$f":"データ一覧!V669","v":11},null,null,null,null,{"$f":"データ一覧!V670","v":0},null,null,null,null,{"$f":"データ一覧!V671","v":38}]
["学術研究、専門・技術ｻｰﾋﾞｽ業",null,null,null,null,null,null,{"$f":"データ一覧!V132","v":"…"},null,null,{"$f":"データ一覧!V189","v":"…"},null,null,{"$f":"データ一覧!V133","v":12},null,null,{"$f":"データ一覧!V190","v":206},null,null,{"$f":"データ一覧!V134","v":"…"},null,null,{"$f":"データ一覧!V191","v":"…"},null,null,"  産   業　 分　 類",null,null,null," 事　業　所　数",null,null," 従　業　者　数",null,null,"年　間　販　売　額",null,null,null,"一人当たり歳入歳出予算決算額",null,null,null,null,null,null,null,null,null,null,null,null,null,null,null,null,null,null,null,null,null,null,null,null,null,null,null,"                   ",null,null,null,null,null,null,null,null,"死因別死亡数　　　　　　    ",null,null,null,null,null,null,null,null,null,null,null,null,null,null,null,{"$f":"データ一覧!$A$672","v":"5年中"},null,null,null,null,null,null,null,null,"      単 位：人"]
["宿泊業、飲食サービス業",null,null,null,null,null,null,{"$f":"データ一覧!V135","v":"…"},null,null,{"$f":"データ一覧!V192","v":"…"},null,null,{"$f":"データ一覧!V136","v":76},null,null,{"$f":"データ一覧!V193","v":272},null,null,{"$f":"データ一覧!V137","v":"…"},null,null,{"$f":"データ一覧!V194","v":"…"},null,null,null,null,null,null,null,null,null,null,null,"　人",null,"         百万円",null,null,"区分",null,null,null,{"$f":"データ一覧!$A$438","v":"6年度"},null,null,null,null,{"$f":"データ一覧!$A$452","v":"5年度"},null,null,null,null,"区分",null,null,null,{"$f":"+AR68","v":"6年度"},null,null,null,null,{"$f":"データ一覧!$A$452","v":"5年度"},null,null,null,null," 死     因",null,null,null,null,null,null,null,null,null,null,null,"悪  性",null,null,"高血圧",null,null,null,null,null,"脳血管",null,null,null,null,null," ",null,null,"不慮の事故"]
["生活関連サービス業、娯楽業",null,null,null,null,null,null,{"$f":"データ一覧!V138","v":"…"},null,null,{"$f":"データ一覧!V195","v":"…"},null,null,{"$f":"データ一覧!V139","v":46},null,null,{"$f":"データ一覧!V196","v":163},null,null,{"$f":"データ一覧!V140","v":"…"},null,null,{"$f":"データ一覧!V197","v":"…"},null,null,"総　　　　　　計",null,null,null,{"$f":"データ一覧!V294","v":51},null,null,{"$f":"データ一覧!V303","v":247},null,null,{"$f":"データ一覧!V312","v":3186},null,null,null,null,null,null,null,{"$f":"データ一覧!V434","v":1664192.1986772844},null,null,null,null,{"$f":"データ一覧!V435","v":1660079.3840435417},null,null,null,null,null,null,null,null,{"$f":"データ一覧!V436","v":1664192.1986772844},null,null,null,null,{"$f":"データ一覧!V437","v":1602250.2323111643},null,null,null,null,null,null,null,null,null,"全 死 因",null,null,null,"結 核",null,null,"新生物",null,null,"性疾患",null,null,"心疾患",null,null,"疾  患",null,null,"肺  炎",null,null,"老  衰",null,null,null,null," ","交通事故"]
["教育、学習支援業",null,null,null,null,null,null,{"$f":"データ一覧!V141","v":"…"},null,null,{"$f":"データ一覧!V198","v":"…"},null,null,{"$f":"データ一覧!V142","v":11},null,null,{"$f":"データ一覧!V199","v":63},null,null,{"$f":"データ一覧!V143","v":"…"},null,null,{"$f":"データ一覧!V200","v":"…"},null,null,"卸売業",null,null,null,{"$f":"データ一覧!V295","v":4},null,null,{"$f":"データ一覧!V304","v":14},null,null,{"$f":"データ一覧!V313","v":248},null,null,null,"項目別歳入歳出予算決算額"]
["医療、福祉",null,null,null,null,null,null,{"$f":"データ一覧!V144","v":"…"},null,null,{"$f":"データ一覧!V201","v":"…"},null,null,{"$f":"データ一覧!V145","v":21},null,null,{"$f":"データ一覧!V202","v":276},null,null,{"$f":"データ一覧!V146","v":"…"},null,null,{"$f":"データ一覧!V203","v":"…"},null,null,"小売業",null,null,null,{"$f":"データ一覧!V296","v":47},null,null,{"$f":"データ一覧!V305","v":233},null,null,{"$f":"データ一覧!V314","v":2938},null,null,null,"区分",null,null,null,{"$f":"データ一覧!$A$438","v":"6年度"},null,null,null,null,{"$f":"データ一覧!$A$452","v":"5年度"},null,null,null,null,"区分",null,null,null,{"$f":"+AR71","v":"6年度"},null,null,null,null,{"$f":"データ一覧!$A$452","v":"5年度"},null,null,null,null,null,null,null,null,null,{"$f":"データ一覧!V672","v":124},null,null,null,"   －",{"$f":"データ一覧!V673","v":"-"},null,{"$f":"データ一覧!V674","v":19},null,null,null,{"$f":"データ一覧!V675","v":"-"},null,{"$f":"データ一覧!V676","v":15},null,null,{"$f":"データ一覧!V677","v":10},null,null,{"$f":"データ一覧!V678","v":7},null,null,{"$f":"データ一覧!V679","v":21},null,null,{"$f":"データ一覧!V680","v":3},null,null,{"$f":"データ一覧!V681","v":"-"}]
["複合サービス事業",null,null,null,null,null,null,{"$f":"データ一覧!V147","v":"…"},null,null,{"$f":"データ一覧!V204","v":"…"},null,null,{"$f":"データ一覧!V148","v":6},null,null,{"$f":"データ一覧!V205","v":43},null,null,{"$f":"データ一覧!V149","v":"…"},null,null,{"$f":"データ一覧!V206","v":"…"},null,null,"各種商品",null,null,null,{"$f":"データ一覧!V297","v":"-"},null,null,{"$f":"データ一覧!V306","v":"-"},null,null,{"$f":"データ一覧!V315","v":"-"},null,null,null,"総額",null,null,null,{"$f":"SUM(AR73:AV85)","v":12330000},null,null,null,null,{"$f":"SUM(AW73:BA85)","v":12505378},null,null,null,null,"総額",null,null,null,{"$f":"SUM(BF73:BJ85)","v":12330000},null,null,null,null,{"$f":"SUM(BK73:BO85)","v":12069751},null,null,null,null," １９  警　察　・　消　防  ",null,null,null,null,null,null,null,null,null,null,null,null,null,null,null,{"$f":"+データ一覧!$A682","v":"6.4.1"}]
["サービス業",null,null,null,null,null,null,{"$f":"データ一覧!V150","v":"…"},null,null,{"$f":"データ一覧!V207","v":"…"},null,null,{"$f":"データ一覧!V151","v":68},null,null,{"$f":"データ一覧!V208","v":703},null,null,{"$f":"データ一覧!V152","v":"…"},null,null,{"$f":"データ一覧!V209","v":"…"},null,null,"織物・衣服・身の回り品",null,null,null,{"$f":"データ一覧!V298","v":2},null,null,{"$f":"データ一覧!V307","v":4},null,null,{"$f":"データ一覧!V316","v":"x"},null,null,null,"地方税",null,null,null,{"$f":"データ一覧!V439","v":5166972},null,null,null,null,{"$f":"データ一覧!V453","v":5403168},null,null,null,null,"議会費",null,null,null,{"$f":"データ一覧!V467","v":114435},null,null,null,null,{"$f":"データ一覧!V481","v":106558}]
["公務",null,null,null,null,null,null,{"$f":"データ一覧!V153","v":"…"},null,null,{"$f":"データ一覧!V210","v":"…"},null,null,{"$f":"データ一覧!V154","v":"…"},null,null,{"$f":"データ一覧!V211","v":"…"},null,null,{"$f":"データ一覧!V155","v":"…"},null,null,{"$f":"データ一覧!V212","v":"…"},null,null,"飲食料品",null,null,null,{"$f":"データ一覧!V299","v":14},null,null,{"$f":"データ一覧!V308","v":96},null,null,{"$f":"データ一覧!V317","v":1481},null,null,null,"地方譲与税",null,null,null,{"$f":"データ一覧!V440","v":105400},null,null,null,null,{"$f":"データ一覧!V454","v":91996},null,null,null,null,"総務費",null,null,null,{"$f":"データ一覧!V468","v":1953708},null,null,null,null,{"$f":"データ一覧!V482","v":2351584},null,null,null,null,null,null,null,null,null,null,null,null,null,null,"交番・駐在所",null,null,null,null,null,null,null,null,"刑法犯認知件数",null,null,null,null,null,null,null,null,"交通人身事故発生件数"]
["  ４  農        　　　業 ",null,null,null,null,null,null,null,null,null,null,null,null,null,null,null,null,null,null,null,null,null,null,null,null,"機械器具",null,null,null,{"$f":"データ一覧!V300","v":8},null,null,{"$f":"データ一覧!V309","v":20},null,null,{"$f":"データ一覧!V318","v":84},null,null,null,"各種交付金",null,null,null,{"$f":"データ一覧!V441","v":261300},null,null,null,null,{"$f":"データ一覧!V455","v":258758},null,null,null,null,"民生費",null,null,null,{"$f":"データ一覧!V469","v":2058594},null,null,null,null,{"$f":"データ一覧!V483","v":1954360},null,null,null,null,null,"警察署数",null,null,null,null,null,null,null,null,"検問所数",null,null,null,null,null,null,null,null,null,{"$f":"データ一覧!$A$684","v":"5年中"},null,null,null,null,null,null,null,null,{"$f":"データ一覧!$A$684","v":"5年中"}]
[null,null,null,null,null,null,null,null,null,null,null,null,null,null,null,null,null,null,null,null,null,null,null,null,null,"その他",null,null,null,{"$f":"データ一覧!V301","v":22},null,null,{"$f":"データ一覧!V310","v":109},null,null,{"$f":"データ一覧!V319","v":1336},null,null,null,"地方特例交付金",null,null,null,{"$f":"データ一覧!V442","v":6000},null,null,null,null,{"$f":"データ一覧!V456","v":7343},null,null,null,null,"衛生費",null,null,null,{"$f":"データ一覧!V470","v":1055415},null,null,null,null,{"$f":"データ一覧!V484","v":870736},null,null,null,null,null,null,null,null,null,null,null,null,null,null,null,null,null,null,null,null,null,null,null,null,null,null,null,null," 件",null,null,null,null,null,null,null,null,"　件"]
[null,null,"農業経営体数",null,null,null,null,null,null,"農産物販売額規模別経営体数",null,null,null,null,null,null,null,"経営耕地面積規模別経営体数",null,null,null,null,null,null,null,"無店舗",null,null,null,{"$f":"データ一覧!V302","v":1},null,null,{"$f":"データ一覧!V311","v":4},null,null,{"$f":"データ一覧!V320","v":"x"},null,null,null,"地方交付税",null,null,null,{"$f":"データ一覧!V443","v":10000},null,null,null,null,{"$f":"データ一覧!V457","v":77838},null,null,null,null,"労働費",null,null,null,{"$f":"データ一覧!V471","v":48105},null,null,null,null,{"$f":"データ一覧!V485","v":48102},null,null,null,null,null,null,{"$f":"データ一覧!V682","v":0},null,null,null,null,null,null,null,null,{"$f":"データ一覧!V683","v":5},null,null,null,null,null,null,null,null,{"$f":"データ一覧!V684","v":14},null,null,null,null,null,null,null,null,{"$f":"データ一覧!V685","v":6}]
["農",null,"区　分",null,null,null,"経営体数\n（経営体）",null,null,"区　分",null,null,null,null,"経営体数\n（経営体）",null,null,"区　分",null,null,null,null,"経営体数\n（経営体）",null,null,null,null,null,null,null,null,null,null,null,null,null,null,null,null,"分担金および負担金",null,null,null,{"$f":"データ一覧!V444","v":21666},null,null,null,null,{"$f":"データ一覧!V458","v":26680},null,null,null,null,"農林水産業費",null,null,null,{"$f":"データ一覧!V472","v":1189521},null,null,null,null,{"$f":"データ一覧!V486","v":1898014},null,null,null,null,"火災発生件数",null,null,null,null,null,null,null,null,null,"林野焼損",null,null,null,null,"損      害",null,null,null,null,"消 防 自",null,null,null,"その他の",null,null,null," ",null,null,null,null," "]
["業","令",null,null,null,null,null,null,null,null,null,null,null,null,null,null,null,null,null,null,null,null,null,null,null,"  ８  住　　　　　　 　宅",null,null,null,null,null,null,null,null,null,null,null,null,null,"使用料および手数料",null,null,null,{"$f":"データ一覧!V445","v":43874},null,null,null,null,{"$f":"データ一覧!V459","v":41506},null,null,null,null,"商工費",null,null,null,{"$f":"データ一覧!V473","v":1607423},null,null,null,null,{"$f":"データ一覧!V487","v":2111289},null,null,null,null,{"$f":"+データ一覧!$A$686","v":"5年中"},null,null,null,null,"焼損棟数",null,null,null,null,"面    積",null,null,null,null,"見  積  額",null,null,null,null,"動 車 数",null,null,null,"ﾎﾟﾝﾌﾟ数",null,null,null," 消防吏員",null,null,null," 消防団員"]
["経",{"$f":"+LEFT(データ一覧!$A$213)","v":"2"},"計",null,null,null,{"$f":"データ一覧!V213","v":270},null,null,"総　　　 数",null,null,null,null,{"$f":"データ一覧!V217","v":270},null,null,"総　　　 数",null,null,null,null,{"$f":"データ一覧!V233","v":605},null,null,null,null,null,null,null,null,null,null,null,null,null,null,null,null,"国庫支出金",null,null,null,{"$f":"データ一覧!V446","v":2826107},null,null,null,null,{"$f":"データ一覧!V460","v":2660060},null,null,null,null,"土木費",null,null,null,{"$f":"データ一覧!V474","v":1451234},null,null,null,null,{"$f":"データ一覧!V488","v":820717},null,null,null,null,"         件",null,null,null,null,null,"      棟",null,null,null,null,null,null,"  ａ",null,null,null,"  千円",null,null,"        ",null,null,null,null,null,null,null,null,null,"  人",null,null,null,"  人"]
["営","・","個人経営体",null,null,null,{"$f":"データ一覧!V214","v":255},null,null,"販 売 な し",null,null,null,null,{"$f":"データ一覧!V218","v":50},null,null,"0.5 ha 未満",null,null,null,null,{"$f":"データ一覧!V234","v":29},null,null,{"$f":"+データ一覧!$A$321","v":"4年"},null,null,null,null,{"$f":"データ一覧!$A$324","v":"5年"},"中の増減",null,null,null,{"$f":"+データ一覧!$A$324","v":"5年"},null,null,null,"県支出金",null,null,null,{"$f":"データ一覧!V447","v":2317926},null,null,null,null,{"$f":"データ一覧!V461","v":2714441},null,null,null,null,"消防費",null,null,null,{"$f":"データ一覧!V475","v":295295},null,null,null,null,{"$f":"データ一覧!V489","v":464423},null,null,null,null,null,{"$f":"データ一覧!V686","v":2},null,null,null,null,{"$f":"データ一覧!V687","v":1},null,null,null,null,{"$f":"データ一覧!V688","v":0},null,null,null,{"$f":"データ一覧!V689","v":6},null,null,null,null,null,{"$f":"データ一覧!V690","v":5},null,null,null,{"$f":"データ一覧!V691","v":21},null,null,null,{"$f":"データ一覧!V692","v":24},null,null,null,{"$f":"データ一覧!V693","v":275}]
["体",{"$f":"+LEFT(データ一覧!$A$213,1)","v":"2"},"団体経営体",null,null,null,{"$f":"データ一覧!V215","v":15},null,null,"50万円未満",null,null,null,null,{"$f":"データ一覧!V219","v":119},null,null,"0.5 ha ～ 1.0 ha",null,null,null,null,{"$f":"データ一覧!V235","v":67},null,null,null,null,null,null,"建設した住宅",null,null,"消失した住宅",null,null,null,null,null,null,"財産収入",null,null,null,{"$f":"データ一覧!V448","v":66460},null,null,null,null,{"$f":"データ一覧!V462","v":82151},null,null,null,null,"教育費",null,null,null,{"$f":"データ一覧!V476","v":2292514},null,null,null,null,{"$f":"データ一覧!V490","v":1237089},null,null,null,null," ２０  そ　　　の　　　他　"]
["数","・",null,"法人経営",null,null,{"$f":"データ一覧!V216","v":9},null,null,"50～300万円",null,null,null,null,{"$f":"データ一覧!V220","v":71},null,null,"1.0 ha ～ 2.0 ha",null,null,null,null,{"$f":"データ一覧!V236","v":61},null,null,null,null,null,null,null,null,null,null,null,null,null,null,null,null,"繰入金",null,null,null,{"$f":"データ一覧!V449","v":1200168},null,null,null,null,{"$f":"データ一覧!V463","v":708623},null,null,null,null,"災害復旧費",null,null,null,{"$f":"データ一覧!V477","v":73964},null,null,null,null,{"$f":"データ一覧!V491","v":27392}]
["（",{"$f":"+RIGHT(データ一覧!$A$213)","v":"1"},null,null,null,null,null,null,null,"300～500万円",null,null,null,null,{"$f":"データ一覧!V221","v":8},null,null,"2.0 ha ～ 3.0 ha",null,null,null,null,{"$f":"データ一覧!V237","v":44},null,null,null,{"$f":"データ一覧!V321","v":3837},null,"戸",{"$f":"データ一覧!V322","v":22},null,"戸",{"$f":"データ一覧!V323","v":6},null,"戸",null,{"$f":"データ一覧!V324","v":3853},null,"戸","地方債",null,null,null,{"$f":"データ一覧!V450","v":0},null,null,null,null,{"$f":"データ一覧!V464","v":0},null,null,null,null,"公債費",null,null,null,{"$f":"データ一覧!V478","v":169792},null,null,null,null,{"$f":"データ一覧!V492","v":179487},null,null,null,null,null,null,null,null,null,"不動の滝、野鹿の滝、若州一滴文庫、松木庄吉美術記念館・郷土史料館、暦会館、土御門家墓所、薬師堂、小浜藩台場跡・松ヶ瀬台場跡・鋸崎台場跡、木造阿弥陀如来坐像・木造多聞天立像(長楽寺)、木造不動明王坐像(常禅寺)、木造毘沙門天立像・木造吉祥天立像・木造善膩師童子立像(清雲寺)、木造千手観音立像(意足寺)、大島半島のニソの杜、研炭製造"]
["総",null,null,null,null,null,null,null,null,"500～1,000万円",null,null,null,null,{"$f":"データ一覧!V222","v":12},null,null,"3.0 ha ～ 5.0 ha",null,null,null,null,{"$f":"データ一覧!V238","v":12},null,null,null,null,null,null,null,null,null,null,null,null,null,null,null,null,"その他",null,null,null,{"$f":"データ一覧!V451","v":304127},null,null,null,null,{"$f":"データ一覧!V465","v":432814},null,null,null,null,"その他",null,null,null,{"$f":"データ一覧!V479","v":20000},null,null,null,null,{"$f":"データ一覧!V493","v":0},null,null,null,null,"　名所・旧跡"]
["数",null,null,null,null,null,null,null,null,"1,000万円以上",null,null,null,null,{"$f":"データ一覧!V223","v":10},null,null,"5.0 ha以上",null,null,null,null,{"$f":"データ一覧!V239","v":392},null,null,null,null,null,null,null,null,null,null,null,null,null,null,null,null,null,null,null,null,null,null,null,null,null,null,null,null,null,null,null,null,null,null,null,null,null,null,null,null,null,null,null,null,"  文化財等"]
["）",null,"15歳以上の常雇い数",null,null,null,null,null,null,"農業に60日以上従事した世帯員、役員・構成員\n（経営主を含む）の平均年齢",null,null,null,null,null,null,null,null,null,null,null,null,null,null,null,"  ９  議　 員　・　職 　員",null,null,null,null,null,null,null,null,null,null,null,null,null," １４  文　　　化",null,null,null,null,null,null,null," ( ",{"$f":"\"令\"&データ一覧!$A$498","v":"令6.3.31"},null,null,"ただし図書館・公民館・児童館・ 社会教育学級講座",null,null,null,null,null,null,null,null,null,null,null,{"$f":"データ一覧!$A$494","v":"6.4.1"}]
["と",null,null,null,null,null,null,null,null,null,null,null,null,null,null,null,null,null,null,null,null,null,null,null,null,null,null,null,null,null,null,null,null,null,null,null,null,null,null,null,null,null,null,null,null,null,null,null,null,null,null,null,"　宗教法人数 ",null,null,null,null,null,null,null,null,null,null,{"$f":"データ一覧!$A$502","v":"5.12.31"},null,null,null,"　　特産物",null,null,null,null,"しいたけ、梅、自然薯、びわ、若狭ぐじ、しし肉、名田庄漬、鯖へしこ、若狭パール、今谷焼、研炭、ふくいサーモン"]
["就",null,null,null,null,null,null,null,null,"農業に60日以上従事",null,null,null,null,null,null,null,"農業に150日以上従事",null,null,null,null,null,null,null," 市 町 議 会",null,null,"有権者数",null,{"$f":"データ一覧!$A$328","v":"6.9.1"},null,"市 町 議 会",null,null,"  職      員      数",null,null,null,null,null,null,null,null,"図書館",null,null,null,null,null,"公　民　館",null,null,null,null,null,null,null,null,null,null," 社会教育学級講座"]
["業",null,"区分",null,null,null,"人",null,null,"区分",null,null,null,null,"歳",null,null,"区　　分",null,null,null,null,"歳",null,null," 議  員  定  数",null,null,"    男",null,"    女",null,"選 挙 投 票 率",null,null," 総     数",null,"一般行政職",null,"公    共",null,null,null," 館  数",null,null," 図書数",null,null," 本  館",null,null," 分  館",null,null," 公  園",null,null," 児童館",null,null,"学級講座数",null,null,"受講者数"]
["状",null,"総数",null,null,null,{"$f":"データ一覧!V230","v":28},null,null,"総数",null,null,null,null,{"$f":"データ一覧!V224","v":66.900000000000006},null,null,"総数",null,null,null,null,{"$f":"データ一覧!V227","v":66.3},null,null,null,null,"人",null,"人",null,"人",null,null,"　％",null,"人",null,"人","施 設 数",null,null,null,null,{"$f":"データ一覧!V494","v":2},null,{"$f":"データ一覧!V495","v":157621},null,null,null,{"$f":"データ一覧!V496","v":4},null,{"$f":"データ一覧!V497","v":0},null,null,{"$f":"データ一覧!V498","v":0},null,null,{"$f":"データ一覧!V499","v":3},null,null,{"$f":"データ一覧!V500","v":220},null,null,{"$f":"データ一覧!V501","v":4991},null,null," 　年中行事",null,null,null,null,"ふるさとファミリーウォーク、水無月祭、若狭おおいのスーパー大火勢、\n名田庄星のフィエスタ、暦イベント、帰雁忌、うみんぴあフェスタ、\nじねんじょまつり、本郷踊、大火勢、文七踊、下村の獅子舞"]
["況",null,"男",null,null,null,{"$f":"データ一覧!V231","v":10},null,null,"男",null,null,null,null,{"$f":"データ一覧!V225","v":65.599999999999994},null,null,"男",null,null,null,null,{"$f":"データ一覧!V228","v":64.5},null,null,null,{"$f":"データ一覧!V325","v":13},null,{"$f":"データ一覧!V328","v":3185},null,{"$f":"データ一覧!V329","v":3215},null,{"$f":"データ一覧!V327","v":"無投票"},null,null,{"$f":"データ一覧!V330","v":174},null,{"$f":"データ一覧!V331","v":134},null,"宗    教",null,null,null," 仏教系",null,null,"ｷﾘｽﾄ教系",null,null,"神道諸派",null,null,"公会堂・市民会館",null,null,null,null,null," テレビ",null,null,"衛星放送契約数"]
[null,null,"女",null,null,null,{"$f":"データ一覧!V232","v":18},null,null,"女",null,null,null,null,{"$f":"データ一覧!V226","v":69.099999999999994},null,null,"女",null,null,null,null,{"$f":"データ一覧!V229","v":69.5},null,null,null,null,null,null,null,null,null,{"$f":"データ一覧!V326","v":"5.4.23"},null,null,null,null,null,null,"法 人 数",null,null,null,{"$f":"データ一覧!V502","v":45},null,null,{"$f":"データ一覧!V503","v":0},null,null,{"$f":"データ一覧!V504","v":32},null,null,{"$f":"データ一覧!V505","v":6},null,null,null,null,null,"      等",null,null,{"$f":"データ一覧!V506","v":1292}]

{"sheet":"若狭町","index":21,"n_rows":93,"n_cols":103,"rows_kept":93,"cut":false,"hidden":false,"merged":[[91,2,91,5],[91,9,91,13],[91,17,91,21],[92,2,92,5],[92,9,92,13],[92,14,92,16],[92,17,92,21],[81,14,81,16],[82,6,82,8],[82,9,82,13],[82,14,82,16],[83,6,83,8],[83,9,83,13],[83,14,83,16],[84,6,84,8],[84,9,84,13],[84,14,84,16],[85,6,85,8],[85,9,85,13],[85,14,85,16],[86,2,88,8],[86,9,87,24],[88,9,88,16],[88,17,88,24],[83,22,83,24],[81,22,81,24],[79,2,79,5],[79,6,79,8],[79,9,79,13],[79,14,79,16],[79,17,79,21],[79,22,79,24],[80,6,80,8],[80,9,80,13],[80,14,80,16],[80,17,80,21],[80,22,80,24],[89,2,89,5],[89,9,89,13],[89,17,89,21],[90,2,90,5],[90,9,90,13],[90,17,90,21],[82,22,82,24],[81,6,81,8],[81,9,81,13],[85,17,85,21],[84,22,84,24],[85,22,85,24],[24,49,24,51],[34,36,34,37],[27,40,27,46],[27,31,27,32],[27,33,27,34],[27,35,27,36],[25,33,26,34],[25,29,26,30],[24,27,24,28],[21,29,21,31],[20,25,20,28],[25,95,25,98],[25,77,25,80],[25,81,25,84],[25,86,25,90],[26,73,26,76],[24,86,24,90],[24,81,24,84],[22,86,22,90],[25,60,25,64],[31,91,31,94],[31,95,31,98],[20,40,20,46],[20,49,20,51],[21,35,21,38],[20,29,20,31],[25,49,25,51],[30,49,30,51],[29,49,29,51],[28,81,28,84],[28,86,28,90],[30,81,30,84],[46,0,46,1],[47,0,47,1],[38,49,38,51],[41,32,41,35],[28,40,28,46],[31,49,31,51],[26,99,26,102],[25,99,25,102],[24,99,24,102],[26,91,26,94],[26,95,26,98],[31,81,31,84],[27,86,27,90],[27,53,27,56],[27,60,27,64],[28,77,28,80],[27,99,27,102],[30,99,30,102],[29,99,29,102],[30,68,30,72],[30,73,30,76],[27,68,27,72],[27,73,27,76],[27,77,27,80],[29,86,29,90],[25,25,25,26],[26,25,26,26],[27,49,27,51],[26,49,26,51],[24,40,24,46],[30,77,30,80],[29,73,29,76],[22,99,22,102],[23,68,23,72],[22,81,22,84],[21,73,21,76],[22,68,22,72],[22,73,22,76],[26,77,26,80],[26,81,26,84],[26,86,26,90],[25,91,25,94],[23,99,23,102],[23,91,23,94],[24,91,24,94],[24,95,24,98],[22,91,22,94],[22,95,22,98],[23,95,23,98],[26,68,26,72],[25,73,25,76],[24,73,24,76],[24,77,24,80],[21,86,21,90],[21,95,21,98],[55,31,55,34],[29,95,29,98],[36,29,36,30],[36,36,36,37],[40,36,40,37],[55,0,55,6],[41,10,41,12],[42,7,42,9],[55,16,55,18],[30,18,30,19],[30,5,30,7],[30,8,30,10],[30,11,30,13],[30,14,30,16],[30,20,30,21],[30,22,30,24],[29,18,29,19],[29,20,29,21],[29,5,29,7],[31,20,31,21],[31,22,31,24],[31,77,31,80],[31,68,31,72],[31,73,31,76],[29,77,29,80],[32,40,32,46],[41,36,41,37],[29,81,29,84],[30,86,30,90],[29,91,29,94],[30,95,30,98],[30,91,30,94],[28,95,28,98],[62,29,62,30],[73,22,73,24],[68,43,68,47],[67,43,67,47],[27,95,27,98],[71,67,72,82],[71,83,72,102],[44,25,44,28],[27,29,27,30],[27,22,27,24],[41,22,41,24],[51,25,51,28],[50,25,50,28],[47,87,47,90],[39,60,39,64],[38,60,38,64],[43,83,44,102],[48,99,48,102],[50,29,50,32],[50,87,50,90],[50,91,50,94],[50,68,50,75],[70,32,70,33],[31,40,31,46],[28,68,28,72],[29,53,29,56],[28,73,28,76],[28,99,28,102],[73,32,73,33],[68,25,68,28],[69,25,69,28],[37,93,37,95],[28,49,28,51],[41,29,41,30],[34,40,34,46],[35,60,35,64],[51,29,51,32],[39,79,39,82],[38,79,38,82],[35,80,35,83],[35,75,35,77],[35,68,35,72],[34,29,34,30],[33,83,34,96],[44,32,44,35],[45,29,45,30],[45,36,45,37],[36,67,36,73],[38,67,38,73],[37,67,37,73],[36,75,36,77],[46,69,46,74],[42,67,42,73],[42,75,42,77],[37,49,37,51],[32,95,32,98],[41,97,41,100],[47,77,47,79],[47,80,47,82],[47,83,47,86],[30,40,30,46],[32,99,32,102],[42,36,42,37],[39,97,39,100],[55,25,55,30],[45,25,45,28],[0,0,0,9],[1,0,3,9],[5,0,5,9],[14,25,15,25],[14,26,15,28],[15,29,15,30],[14,0,15,24],[6,0,8,9],[44,0,45,1],[48,7,48,9],[48,10,48,12],[48,13,48,15],[48,0,48,1],[47,10,47,12],[47,13,47,15],[47,7,47,9],[48,16,48,18],[48,19,48,21],[48,22,48,24],[46,29,46,30],[27,0,27,4],[27,5,27,7],[40,29,40,30],[26,27,26,28],[17,25,17,27],[18,25,18,27],[19,3,19,5],[22,29,22,31],[41,7,41,9],[29,11,29,13],[24,29,24,30],[17,100,17,101],[19,40,19,46],[19,49,19,51],[19,53,19,56],[19,60,19,64],[19,99,19,102],[17,86,17,89],[17,40,17,46],[17,48,17,52],[31,99,31,102],[27,81,27,84],[20,11,20,13],[20,16,20,18],[20,21,20,23],[21,40,21,46],[21,49,21,51],[21,32,21,34],[20,73,20,76],[20,86,20,90],[20,77,20,80],[20,95,20,98],[20,32,20,34],[20,35,20,38],[27,91,27,94],[28,91,28,94],[20,99,20,102],[21,99,21,102],[20,60,20,64],[21,77,21,80],[21,81,21,84],[22,25,22,28],[20,81,20,84],[15,32,15,33],[14,67,15,81],[17,82,17,83],[14,82,15,95],[17,53,17,57],[15,35,15,37],[16,32,16,33],[16,36,16,37],[17,68,17,71],[17,73,17,76],[16,74,16,95],[17,91,17,94],[17,59,17,65],[19,32,19,34],[19,35,19,38],[17,32,17,34],[17,36,17,38],[18,31,18,34],[18,35,18,38],[19,91,19,94],[19,95,19,98],[19,73,19,76],[19,77,19,80],[19,81,19,84],[19,29,19,31],[24,53,24,56],[24,60,24,64],[25,40,25,46],[26,60,26,64],[21,53,21,56],[21,60,21,64],[21,91,21,94],[20,53,20,56],[18,28,18,30],[19,25,19,28],[22,7,22,8],[23,40,23,46],[23,49,23,51],[23,53,23,56],[23,60,23,64],[22,32,22,34],[22,35,22,38],[23,21,23,23],[23,11,23,13],[23,16,23,18],[21,25,21,28],[20,91,20,94],[23,32,23,34],[22,40,22,46],[22,49,22,51],[23,77,23,80],[23,81,23,84],[23,86,23,90],[23,25,23,28],[22,53,22,56],[22,77,22,80],[22,60,22,64],[25,35,26,36],[26,40,26,46],[27,37,27,38],[29,40,29,46],[24,37,24,38],[24,68,24,72],[24,31,24,32],[23,73,23,76],[23,35,23,38],[23,29,23,31],[24,33,24,34],[24,35,24,36],[40,4,40,6],[42,40,42,46],[24,0,25,24],[31,60,31,64],[32,60,32,64],[35,53,35,56],[36,49,36,51],[32,18,32,19],[29,8,29,10],[32,5,32,7],[25,37,26,38],[26,22,26,24],[27,25,27,26],[29,22,29,24],[27,27,27,28],[25,27,25,28],[29,14,29,16],[31,53,31,56],[34,49,34,51],[35,29,35,30],[36,40,36,46],[38,40,38,46],[35,36,35,37],[46,36,46,37],[39,49,39,51],[26,53,26,56],[40,7,40,9],[34,20,34,21],[33,22,33,24],[33,18,33,19],[33,20,33,21],[34,8,34,10],[34,11,34,13],[25,53,25,56],[37,40,37,46],[35,49,35,51],[35,40,35,46],[35,14,35,16],[35,18,35,19],[35,20,35,21],[32,53,32,56],[33,40,33,46],[33,53,33,56],[31,11,31,13],[32,8,32,10],[32,11,32,13],[40,32,40,35],[36,53,36,56],[32,20,32,21],[32,22,32,24],[34,22,34,24],[25,31,26,32],[46,32,46,35],[40,2,40,3],[47,19,47,21],[44,19,44,24],[33,11,33,13],[33,14,33,16],[35,5,35,7],[35,8,35,10],[35,11,35,13],[42,10,42,12],[34,14,34,16],[40,10,40,12],[40,13,40,15],[40,16,40,18],[42,13,42,15],[41,13,41,15],[42,16,42,18],[41,16,41,18],[41,19,41,21],[31,8,31,10],[47,16,47,18],[42,4,42,6],[34,5,34,7],[42,22,42,24],[42,19,42,21],[40,22,40,24],[34,18,34,19],[40,19,40,21],[35,22,35,24],[41,4,41,6],[31,5,31,7],[33,5,33,7],[33,8,33,10],[31,18,31,19],[31,14,31,16],[33,60,33,64],[47,22,47,24],[34,60,34,64],[36,60,36,64],[39,40,39,46],[40,49,40,51],[40,60,40,64],[42,49,42,51],[41,53,41,56],[37,53,37,56],[44,29,44,30],[42,32,42,35],[45,32,45,35],[37,60,37,64],[32,14,32,16],[32,49,32,51],[32,91,32,94],[35,98,35,101],[35,86,35,90],[39,53,39,56],[33,49,33,51],[33,67,34,80],[32,73,32,76],[32,77,32,80],[32,81,32,84],[32,68,32,72],[46,99,46,102],[45,92,45,101],[43,67,44,82],[42,93,42,95],[41,60,41,64],[40,75,41,77],[40,79,41,82],[40,93,40,95],[40,85,40,91],[36,97,36,100],[37,75,37,77],[36,79,36,82],[38,93,38,95],[36,85,36,91],[37,85,37,91],[37,79,37,82],[40,53,40,56],[41,49,41,51],[39,75,39,77],[38,85,38,91],[40,97,40,100],[34,53,34,56],[49,99,49,102],[49,68,49,75],[49,77,49,79],[49,80,49,82],[49,83,49,86],[49,91,49,94],[48,87,48,90],[49,95,49,98],[48,95,48,98],[48,68,48,75],[48,77,48,79],[48,50,48,53],[42,53,42,56],[55,47,55,49],[50,80,50,82],[49,50,49,53],[57,51,57,54],[50,83,50,86],[43,49,43,51],[48,56,48,59],[45,57,45,61],[43,53,43,56],[42,60,42,64],[42,97,42,100],[43,60,43,64],[45,77,45,82],[50,99,50,102],[50,95,50,98],[42,85,42,91],[54,95,54,98],[54,99,54,102],[55,95,55,98],[51,68,51,75],[51,95,51,98],[56,87,56,90],[55,99,55,102],[56,95,56,98],[60,97,60,102],[53,87,53,90],[52,95,52,98],[53,91,53,94],[53,95,53,98],[54,68,54,75],[54,77,54,79],[54,80,54,82],[54,91,54,94],[52,91,52,94],[53,80,53,82],[52,87,52,90],[54,87,54,90],[60,85,60,90],[60,91,60,96],[52,99,52,102],[55,83,55,86],[66,10,66,12],[66,13,66,15],[61,19,61,21],[56,19,56,21],[60,59,60,62],[60,63,60,66],[63,74,63,76],[62,7,62,9],[63,7,63,9],[60,10,60,12],[59,10,59,12],[56,0,56,6],[60,19,60,21],[59,13,59,15],[61,10,61,12],[59,0,59,6],[57,0,57,6],[57,10,57,12],[57,19,57,21],[62,0,62,6],[57,7,57,9],[57,16,57,18],[56,16,56,18],[58,44,58,46],[57,47,57,50],[56,39,56,42],[57,39,57,42],[61,29,61,30],[58,19,58,21],[61,68,61,71],[65,57,65,63],[62,22,62,24],[63,0,63,6],[58,48,58,50],[58,0,58,6],[61,0,61,6],[60,0,60,6],[63,22,63,24],[67,0,67,6],[60,53,60,56],[61,43,61,47],[61,48,61,52],[61,53,61,56],[65,43,65,49],[65,0,65,6],[64,0,64,6],[66,29,66,31],[58,7,58,9],[60,7,60,9],[59,19,59,21],[60,39,60,42],[62,13,62,15],[58,10,58,12],[60,36,60,37],[66,7,66,9],[59,43,59,56],[60,43,60,47],[60,48,60,52],[59,7,59,9],[63,10,63,12],[65,39,65,42],[61,7,61,9],[60,22,60,24],[58,39,58,42],[68,100,68,102],[67,79,67,81],[67,88,67,90],[68,91,68,93],[68,82,68,84],[68,85,68,87],[67,97,67,102],[67,82,67,84],[65,53,65,56],[59,22,59,24],[61,22,61,24],[61,13,61,15],[60,13,60,15],[62,19,62,21],[64,16,64,18],[62,16,62,18],[70,62,70,66],[69,22,69,24],[68,32,68,33],[65,19,65,21],[66,16,66,18],[66,19,66,21],[66,22,66,24],[62,87,62,89],[65,73,65,76],[62,68,62,71],[61,80,61,83],[63,84,63,86],[61,59,61,62],[62,81,62,83],[61,39,61,42],[67,62,67,66],[67,67,70,71],[67,53,67,56],[62,93,62,95],[63,94,63,96],[67,57,67,61],[68,48,68,52],[68,53,68,56],[68,57,68,61],[68,62,68,66],[70,83,70,84],[70,79,70,81],[70,57,70,61],[69,39,69,66],[70,39,70,42],[66,39,66,66],[67,48,67,52],[68,39,68,42],[70,43,70,47],[67,39,67,42],[68,94,68,96],[63,89,63,91],[62,75,62,77],[55,10,55,12],[65,10,65,12],[64,10,64,12],[72,7,72,9],[68,10,68,12],[71,7,71,9],[67,19,67,21],[67,22,67,24],[58,22,58,24],[68,19,68,21],[63,13,63,15],[63,16,63,18],[63,19,63,21],[55,13,55,15],[71,13,71,15],[71,19,71,21],[67,13,67,15],[69,7,69,9],[61,16,61,18],[58,13,58,15],[57,13,57,15],[56,13,56,15],[64,22,64,24],[65,22,65,24],[59,16,59,18],[60,16,60,18],[58,16,58,18],[57,22,57,24],[56,22,56,24],[55,7,55,9],[62,10,62,12],[55,22,55,24],[55,19,55,21],[69,19,69,21],[56,7,56,9],[56,10,56,12],[64,7,64,9],[68,7,68,9],[66,0,66,6],[65,7,65,9],[70,7,70,9],[72,10,72,12],[71,10,71,12],[70,10,70,12],[65,16,65,18],[66,35,66,38],[65,13,65,15],[64,13,64,15],[64,19,64,21],[72,32,72,33],[72,35,72,37],[67,16,67,18],[70,22,70,24],[70,16,70,18],[70,19,70,21],[66,32,66,34],[68,29,68,30],[68,0,68,6],[68,13,68,15],[68,16,68,18],[68,35,68,37],[68,22,68,24],[71,22,71,24],[70,25,70,28],[67,7,67,9],[67,10,67,12],[72,29,72,30],[69,29,69,30],[76,62,76,66],[75,62,75,66],[75,57,75,61],[76,53,76,56],[76,57,76,61],[74,25,74,28],[76,35,76,37],[76,39,76,42],[76,78,76,81],[73,29,73,30],[72,39,72,42],[73,10,73,12],[73,7,73,9],[73,13,73,15],[73,16,73,18],[71,16,71,18],[73,39,73,42],[75,35,75,37],[71,53,71,56],[71,57,71,61],[70,53,70,56],[71,48,71,52],[68,79,68,81],[68,72,68,75],[68,76,68,78],[70,72,70,75],[70,77,70,78],[75,39,75,42],[77,2,78,5],[77,6,78,8],[77,9,78,13],[77,14,78,16],[77,17,78,21],[77,22,78,24],[75,25,75,28],[76,2,76,8],[73,77,73,83],[73,86,73,92],[73,48,73,52],[77,39,77,42],[77,43,77,47],[77,82,77,86],[77,87,77,90],[77,77,77,81],[76,9,76,16],[76,17,76,24],[73,53,73,56],[73,57,73,61],[73,35,73,37],[75,43,75,47],[76,69,76,72],[77,91,77,94],[73,62,73,66],[73,43,73,47],[74,39,74,42],[74,43,74,47],[74,35,74,37],[74,68,74,74],[74,77,74,83],[74,87,74,91],[81,29,81,31],[88,32,88,34],[92,32,92,34],[80,25,81,28],[81,48,81,52],[80,35,81,38],[80,39,80,42],[80,43,80,47],[80,48,80,52],[92,52,92,57],[76,96,76,99],[78,99,78,102],[91,52,91,57],[90,61,90,63],[54,55,54,58],[57,64,57,66],[54,47,54,50],[54,83,54,86],[76,87,76,90],[78,91,78,94],[72,57,72,61],[73,25,73,28],[74,32,74,33],[76,48,76,52],[75,48,75,52],[71,35,71,37],[74,96,74,100],[70,100,70,102],[70,88,70,90],[62,99,62,101],[66,76,66,90],[68,88,68,90],[91,61,91,66],[51,83,51,86],[52,83,52,86],[53,99,53,102],[92,46,92,48],[91,35,91,36],[91,37,91,38],[92,39,92,42],[92,43,92,45],[90,44,90,45],[90,39,90,42],[91,43,91,45],[91,46,91,48],[52,68,52,75],[53,68,53,75],[65,88,65,91],[66,92,66,96],[65,83,65,86],[72,53,72,56],[72,62,72,66],[70,91,70,93],[70,94,70,96],[70,97,70,99],[77,57,77,61],[91,49,91,51],[91,39,91,42],[70,85,70,87],[73,95,73,101],[71,43,71,47],[70,48,70,52],[64,68,64,71],[90,46,90,48],[90,49,90,51],[90,64,90,66],[83,48,83,52],[88,50,88,53],[84,62,84,66],[83,62,83,66],[78,39,78,42],[78,43,78,47],[78,82,78,86],[78,87,78,90],[78,48,78,52],[78,53,78,56],[78,57,78,61],[78,62,78,66],[51,33,51,35],[51,36,51,38],[51,99,51,102],[51,87,51,90],[55,35,55,38],[90,52,90,54],[80,68,80,70],[80,73,80,75],[79,101,79,102],[79,39,79,42],[79,43,79,47],[79,48,79,52],[79,53,79,56],[79,57,79,61],[79,62,79,66],[80,88,80,90],[54,39,54,42],[63,99,63,101],[54,43,54,46],[58,64,58,66],[58,58,58,60],[55,43,55,45],[56,68,56,75],[56,77,56,79],[56,80,56,82],[53,77,53,79],[55,80,55,82],[55,87,55,90],[55,77,55,79],[55,39,55,42],[56,83,56,86],[58,55,58,57],[52,77,52,79],[53,83,53,86],[52,80,52,82],[56,48,56,53],[58,61,58,63],[57,43,57,46],[55,68,55,75],[54,51,54,54],[55,51,55,53],[57,58,57,60],[49,46,49,49],[47,91,47,94],[36,93,36,95],[41,40,41,46],[39,85,39,91],[38,75,38,77],[42,79,42,82],[50,77,50,79],[49,87,49,90],[44,36,44,37],[38,53,38,56],[39,93,39,95],[39,67,39,73],[41,85,41,91],[41,93,41,95],[40,67,41,73],[49,39,49,45],[49,54,49,57],[50,47,50,49],[49,62,49,66],[49,58,49,61],[50,33,50,38],[46,95,46,98],[48,62,48,65],[48,80,48,82],[48,83,48,86],[50,63,50,66],[50,59,50,61],[43,40,43,46],[47,95,47,98],[47,68,47,75],[40,40,40,46],[90,55,90,57],[81,62,81,66],[80,62,80,66],[81,53,81,56],[28,60,28,64],[30,60,30,64],[29,60,29,64],[28,53,28,56],[30,53,30,56],[37,97,37,100],[38,97,38,100],[35,93,35,95],[65,93,65,96],[48,91,48,94],[57,67,58,102],[56,99,56,102],[51,77,51,79],[58,52,58,54],[61,63,61,66],[77,53,77,56],[45,84,45,89],[50,50,50,53],[47,99,47,102],[51,91,51,94],[51,80,51,82],[56,91,56,94],[55,91,55,94],[65,78,65,81],[65,98,65,101],[65,68,65,71],[72,48,72,52],[71,62,71,66],[53,29,53,31],[53,33,53,34],[53,36,53,37],[57,25,57,29],[57,31,57,33],[57,35,57,37],[72,43,72,47],[77,48,77,52],[77,62,77,66],[74,62,74,66],[61,36,61,37],[55,63,55,65],[59,59,59,62],[54,25,54,32]],"merged_total":1108,"flags":["merged_cut"]}
[{"$f":"+データ一覧!W2","v":"みかたかみなかぐん"}]
[{"$f":"+データ一覧!W5","v":"三方上中郡"}]
[]
[null,null,null,null,null,null,null,null,null,null,null,null,null,null,null,null,null,null,null,null,null,null,null,null,null,null,null,"【町章とそのいわれ】若狭町のｲﾆｼｬﾙ「Ｗ」をﾓﾁｰﾌにﾃﾞｻﾞｲﾝ化して",null,null,null,null,null,null,null,null,null,null,null,"【位置および地勢】若狭町は東西約17.8ｋｍ、面積は178.49K㎡で、嶺南地域の",null,null,null,null,null,null,null,null,null,null,null,null,null,null,null,null,null,null,null,null,null,null,null,null,null,null,null,null,null,null,"所在地",null,null,null,null,null,null,null,"〒919-1393"]
[null,null,null,null,null,null,null,null,null,null,null,null,null,null,null,null,null,null,null,null,null,null,null,null,null,null,null,"　　　　　　　　　いる。フレッシュ感のあるなめらかな",null,null,null,null,null,null,null,null,null,null,null,"　中心部に位置する。東は美浜町、西は小浜市､南は滋賀県に接しており、",null,null,null,null,null,null,null,null,null,null,null,null,null,null,null,null,null,null,null,null,null,null,null,null,null,null,null,null,null,null,null,null,null,null,null,null,null,null,"三方上中郡若狭町中央第1号1番地"]
[{"$f":"+データ一覧!W3","v":"わかさちょう"},null,null,null,null,null,null,null,null,null,null,null,null,null,null,null,null,null,null,null,null,null,null,null,null,null,null,"　　　　　　　　　造形により、豊かな里や山、生命力と未来に",null,null,null,null,null,null,null,null,null,null,null,"　北西部は若狭湾に面している。三方五湖、三十三間山をはじめとし、豊かな"]
[{"$f":"データ一覧!W6","v":"若狭町"},null,null,null,null,null,null,null,null,null,null,null,null,null,null,null,null,null,null,null,null,null,null,null,null,null,null,"　　　　　　　　　開こうとする姿を表現している。",null,null,null,null,null,null,null,null,null,null,null,"　自然美を形成している。また、JR小浜線及び国道27号、舞鶴若狭自動車道が",null,null,null,null,null,null,null,null,null,null,null,null,null,null,null,null,null,null,null,null,null,null,null,null,null,null,null,null,null,null,"電話番号",null,null,null,null,null,null,null,"(０７７０)４５－１１１１"]
[null,null,null,null,null,null,null,null,null,null,null,null,null,null,null,null,null,null,null,null,null,null,null,null,null,null,null,null,null,null,null,null,null,null,null,null,null,null,null,"　町を横断し、国道303号を経て関西方面へ通じる交通の要所となっている。",null,null,null,null,null,null,null,null,null,null,null,null,null,null,null,null,null,null,null,null,null,null,null,null,null,null,null,null,null,null,"FAX番号",null,null,null,null,null,null,null,"　　〃　　４５－１１１５"]
[]
[null,null,null,null,null,null,null,null,null,null,null,null,null,null,null,null,null,null,null,null,null,null,null,null,null,null,null,null,null,null,null,null,null,null,null,null,null,null,null,null,null,null,null,null,null,null,null,null,null,null,null,null,null,null,null,null,null,null,null,null,null,null,null,null,null,null,null,null,null,null,"最寄駅および距離",null,null,null,null,null,null,null,"ＪＲ小浜線三方駅　下車１ｋｍ"]
[]
[]
[null,null,null,null,null,null,null,null,null,null,null,null,null,null,null,null,null,null,null,null,null,null,null,null,null,null,null,"【町が掲げる標語】新しい感動と笑顔がひろがるまち",null,null,null,null,null,null,null,null,null,null,null,null,null,null,null,null,null,null,null,null,null,null,null,null,null,null,null,null,null,null,null,null,null,null,null,null,null,null,null,null,null,null,"ホームページ",null,null,null,null,null,null,null,"https://www.town.fukui-wakasa.lg.jp"]
[]
["  １  土            　　地",null,null,null,null,null,null,null,null,null,null,null,null,null,null,null,null,null,null,null,null,null,null,null,null,{"$f":"データ一覧!$A$240","v":"5年"},"産米収穫量",null,null,"　 収　穫　量",null,null," 　作 付 面 積",null,null,"   10a当たり収量",null,null,null,null,null,null,null,null,null,null,null,null,null,null,null,null,null,null,null,null,null,null,null,null,null,null,null,null,null,null,null," １５  労　　　　　　　働",null,null,null,null,null,null,null,null,null,null,null,null,null,null,"2.10.1"]
[null,null,null,null,null,null,null,null,null,null,null,null,null,null,null,null,null,null,null,null,null,null,null,null,null,null,null,null,null,{"$f":"データ一覧!$W$240","v":5140},null,"t",{"$f":"データ一覧!$W$241","v":1070},null,"ha",{"$f":"データ一覧!W242","v":479},null,null,"kg"," １０  工　　　　　　業 ",null,null,null,null,null,null,null,null,null,null,null,null,null,{"$f":"データ一覧!$A$332","v":"4.6.1（令和3年実績）"}]
["   総          面           積",null,null,null,null,null,null,null,null,null," 固 定 資 産 概 要 調 書 に よ る 地 目 別 面 積",null,null,null,null,null,null,null,null,null,null,null,null,null,null,null,null,null,"   総　　　数",null,null,null,"うち　　田",null,null,null,"うち　　畑",null,null,null,null,null,null,null,null,null,null,null,null,null,null,null,null,null,null,null,null,null,null,null,null,null,null,null,null,null,null,null,null,null,null,null,null,null,"産業別就業者数   "]
[null,null,{"$f":"データ一覧!$A$7","v":"6.10.1"},null,null,null,null,null,null,null,null,null,null,null,null,null,{"$f":"データ一覧!$A$9","v":"6.1.1"},null,null,null,null,null,null,null,null," 耕  地  面  積",null,null,null,"       ha",null,null,"ha ",null,null,null,"ha ",null,null,"      ","産業分類",null,null,null,null,null,null,null,"事業所数",null,null,null,null,"従業者数",null,null,null,null,null,"年間製造品出荷額等",null,null,null,null,null,null,null,null,"区  分",null,null,null,null,"総    数",null,null,null,null,"男",null,null,null,"女",null,null,"  ","区  分",null,null,null,null,"総    数",null,null,null,null,"男",null,null,null,"女"]
[null,null,null,null,null,null,"㎢",null,null,null,"   総       数",null,null,null,null,"  う ち     田",null,null,null,null,"  う ち     畑",null,null,null,null,{"$f":"データ一覧!A243","v":"5.7.15"},null,null,{"$f":"データ一覧!$W$243","v":2060},null,null,{"$f":"データ一覧!$W$244","v":1700},null,null,null,{"$f":"データ一覧!$W$245","v":359},null,null,null,null,null,null,null,null,null,null,null,null,"　　   ",null,null,"事業所",null,"　　　　　　　 人",null,null,"人",null,"　　　　　　　　　　　　　　万円",null,null,null,null,null,null,"万円",null,null,null,null,null,null,null,"      人",null,null,null,null,null," 人",null,null,null," 人",null,null,null,null,null,null,null,"      人",null,null,null,"      人",null,null,null,"      人"]
[null,null,null,{"$f":"データ一覧!W7","v":178.49},null,null,null,null,null,null,null,null,null,null,"ha",null,null,null,null,"ha",null,null,null,null,"ha","農 業 生 産 物",null,null,null,"作 付 面 積",null,null,"収 穫 量",null,null,"10a当たり収量",null,null,null,"     ","総数",null,null,null,null,null,null,null,null,{"$f":"データ一覧!W332","v":29},null,null,null,{"$f":"+データ一覧!W357","v":1857},null,null,null,null,null,null,{"$f":"データ一覧!W382","v":8492051},null,null,null,null,null,null," 総　　　数",null,null,null,null,null,{"$f":"BZ20+CD20","v":7230},null,null,null,{"$f":"データ一覧!W507","v":3957},null,null,null,{"$f":"データ一覧!W532","v":3273}]
[null,null,null,null,null,null,null,null,null,null,null,{"$f":"データ一覧!W9","v":12616.6},null,null,null,null,{"$f":"データ一覧!W10","v":1931},null,null,null,null,{"$f":"データ一覧!W11","v":412},null,null,null,{"$f":"データ一覧!$A$246","v":"5年産"},null,null,null,"ha",null,null,"t",null,null,"kg",null,null,null,"     食料品","食料品",null,null,null,null,null,null,null,null,{"$f":"データ一覧!W333","v":4},null,null,null,{"$f":"+データ一覧!W358","v":168},null,null,null,null,null,null,{"$f":"データ一覧!W383","v":222918},null,null,null,null,null,null,null,null,null,null,null,null,null,null,null,null,null,null,null,null,null,null,null,null,null,"卸売業,小売業",null,null,null,null,{"$f":"CR21+CV21","v":817},null,null,null,{"$f":"データ一覧!W520","v":350},null,null,null,{"$f":"データ一覧!W545","v":467}]
["  町 ･ 丁 ･ 大 字",null,null,null,null,null,null,null,null,null,"  う ち  宅 地",null,null,null,null,"  う ち  山 林",null,null,null,null,"  う ち  原 野",null,null,null,null,"水　　　　　稲",null,null,null,{"$f":"データ一覧!W246","v":1070},null,null,{"$f":"データ一覧!W247","v":5140},null,null,{"$f":"データ一覧!W248","v":479},null,null,null,"     飲料・飼料","飲料・飼料",null,null,null,null,null,null,null,null,{"$f":"データ一覧!W334","v":2},null,null,null,{"$f":"+データ一覧!W359","v":15},null,null,null,null,null,null,{"$f":"データ一覧!W384","v":"x"},null,null,null,null,null,null," 第１次産業",null,null,null,null,null,{"$f":"BZ22+CD22","v":653},null,null,null,{"$f":"データ一覧!W508","v":431},null,null,null,{"$f":"データ一覧!W533","v":222},null,null,null,null,"金融業,保険業",null,null,null,null,{"$f":"CR22+CV22","v":97},null,null,null,{"$f":"データ一覧!W521","v":40},null,null,null,{"$f":"データ一覧!W546","v":57}]
["  区    画    数",null,null,null,null,null,null,{"$f":"データ一覧!W8","v":76},null,null,null,null,null,null,"ha",null,null,null,null,"ha",null,null,null,null,"ha","六　条　大　麦",null,null,null,{"$f":"データ一覧!W249","v":46},null,null,{"$f":"データ一覧!W250","v":73},null,null,{"$f":"データ一覧!W251","v":158},null,null,null,"     繊維","繊維",null,null,null,null,null,null,null,null,{"$f":"データ一覧!W335","v":1},null,null,null,{"$f":"+データ一覧!W360","v":32},null,null,null,null,null,null,{"$f":"データ一覧!W385","v":"x"},null,null,null,null,null,null,"  ","農業",null,null,null,null,{"$f":"BZ23+CD23","v":583},null,null,null,{"$f":"データ一覧!W509","v":367},null,null,null,{"$f":"データ一覧!W534","v":216},null,null,null,"  ","不動産業",null,null,null,null,40,null,null,null,{"$f":"データ一覧!W522","v":25},null,null,null,{"$f":"データ一覧!W547","v":15}]
[{"$f":"データ一覧!$A$8","v":"5.4.1"},null,null,null,null,null,null,null,null,null,null,{"$f":"データ一覧!W12","v":530.70000000000005},null,null,null,null,{"$f":"データ一覧!W13","v":5396.5},null,null,null,null,{"$f":"データ一覧!W14","v":64.900000000000006},null,null,null,"大　　      豆",null,null,null,{"$f":"データ一覧!W252","v":2},null,null,{"$f":"データ一覧!W253","v":2},null,null,{"$f":"データ一覧!W254","v":65},null,null,null,"     衣服","木材",null,null,null,null,null,null,null,null,{"$f":"データ一覧!W336","v":4},null,null,null,{"$f":"+データ一覧!W361","v":37},null,null,null,null,null,null,{"$f":"データ一覧!W386","v":30279},null,null,null,null,null,null,"  ","林業",null,null,null,null,18,null,null,null,{"$f":"データ一覧!W510","v":14},null,null,null,{"$f":"データ一覧!W535","v":4},null,null,null,"  ","学術研究",null,null,null,null,179,null,null,null,{"$f":"データ一覧!W523","v":127},null,null,null,{"$f":"データ一覧!W548","v":52}]
["  ２  世　帯　数　と　人　口",null,null,null,null,null,null,null,null,null,null,null,null,null,null,null,null,null,null,null,null,null,null,null,null,null,null,"  区　分",null," 乳 用 牛",null," 肉 用 牛",null,"豚",null,"採卵鶏",null,"ブロイラー",null,"     木材","家具",null,null,null,null,null,null,null,null,{"$f":"データ一覧!W337","v":1},null,null,null,{"$f":"+データ一覧!W362","v":59},null,null,null,null,null,null,{"$f":"データ一覧!W387","v":"x"},null,null,null,null,null,null,"  ","漁業",null,null,null,null,52,null,null,null,{"$f":"データ一覧!W511","v":50},null,null,null,{"$f":"データ一覧!W536","v":2},null,null,null,"  ","宿泊業,飲食ｻｰﾋﾞｽ",null,null,null,null,490,null,null,null,{"$f":"データ一覧!W524","v":191},null,null,null,{"$f":"データ一覧!W549","v":299}]
[null,null,null,null,null,null,null,null,null,null,null,null,null,null,null,null,null,null,null,null,null,null,null,null,null,"畜　産",null," 飼養農家",null,{"$f":"データ一覧!$W$255","v":1},null,{"$f":"データ一覧!$W$257","v":2},null,{"$f":"データ一覧!$W$259","v":0},null,{"$f":"データ一覧!$W$261","v":1},null,{"$f":"データ一覧!$W$263","v":0},null,"     家具","パルプ・紙",null,null,null,null,null,null,null,null,{"$f":"データ一覧!W338","v":2},null,null,null,{"$f":"+データ一覧!W363","v":88},null,null,null,null,null,null,{"$f":"データ一覧!W388","v":"x"},null,null,null,null,null,null," 第２次産業",null,null,null,null,null,1901,null,null,null,{"$f":"データ一覧!W512","v":1310},null,null,null,{"$f":"データ一覧!W537","v":591},null,null,null,"  ","生活関連ｻｰﾋﾞｽ業",null,null,null,null,201,null,null,null,{"$f":"データ一覧!W525","v":66},null,null,null,{"$f":"データ一覧!W550","v":135}]
[null,null,null,null,null,null,null,null,"        人　　　　　　　　　　口",null,null,null,null,null,null,null,null,null,null,null,"１世帯当",null,"人    口",null,null,{"$f":"データ一覧!$A$255","v":"6.3.31"},null,"（戸）",null,null,null,null,null,null,null,null,null,null,null,"     パルプ・紙","印刷",null,null,null,null,null,null,null,null,{"$f":"データ一覧!W339","v":0},null,null,null,{"$f":"+データ一覧!W364","v":0},null,null,null,null,null,null,{"$f":"データ一覧!W389","v":0},null,null,null,null,null,null,null,"鉱業，採石業",null,null,null,null,5,null,null,null,{"$f":"データ一覧!W513","v":4},null,null,null,{"$f":"データ一覧!W538","v":1},null,null,null,"  ","教育,学習支援業",null,null,null,null,402,null,null,null,{"$f":"データ一覧!W526","v":184},null,null,null,{"$f":"データ一覧!W551","v":218}]
[" 区　　　　分",null,null,null,null,"世帯数",null,null," 総   数",null,null,"    男",null,null,"    女",null,null,"  男／女",null,null,"たり人員",null,"密    度",null,null,null,null," 頭 羽",null,{"$f":"データ一覧!$W$256","v":41},null,{"$f":"データ一覧!$W$258","v":70},null,{"$f":"データ一覧!$W$260","v":0},null,{"$f":"データ一覧!$W$262","v":6000},null,{"$f":"データ一覧!$W$264","v":0},null,"     出版・印刷","化学",null,null,null,null,null,null,null,null,{"$f":"データ一覧!W340","v":2},null,null,null,{"$f":"+データ一覧!W365","v":334},null,null,null,null,null,null,{"$f":"データ一覧!W390","v":"x"},null,null,null,null,null,null,"  ","建設業",null,null,null,null,729,null,null,null,{"$f":"データ一覧!W514","v":618},null,null,null,{"$f":"データ一覧!W539","v":111},null,null,null,null,"医療，福祉",null,null,null,null,1073,null,null,null,{"$f":"データ一覧!W527","v":204},null,null,null,{"$f":"データ一覧!W552","v":869}]
[null,null,null,null,null,"    世 帯",null,null,"       人",null,null,"       人",null,null,"       人",null,null,null,"　　％",null,"    人",null,"    人/㎢",null,null,null,null,null,null,null,null,null,null,null,null,null,null,null,null,"     化学","石油・石炭",null,null,null,null,null,null,null,null,{"$f":"データ一覧!W341","v":0},null,null,null,{"$f":"+データ一覧!W366","v":0},null,null,null,null,null,null,{"$f":"データ一覧!W391","v":0},null,null,null,null,null,null,null,"製造業",null,null,null,null,1167,null,null,null,{"$f":"データ一覧!W515","v":688},null,null,null,{"$f":"データ一覧!W540","v":479},null,null,null,null,"複合サービス事業",null,null,null,null,163,null,null,null,{"$f":"データ一覧!W528","v":90},null,null,null,{"$f":"データ一覧!W553","v":73}]
[{"$f":"データ一覧!$A$22","v":" 2.10.1"},null,null,null,null,{"$f":"データ一覧!W22","v":4499},null,null,{"$f":"+L30+O30","v":17835},null,null,{"$f":"データ一覧!W24","v":8656},null,null,{"$f":"データ一覧!W25","v":9179},null,null,null,{"$f":"+L30/O30*100","v":94.302211569887788},null,{"$f":"データ一覧!W27","v":3.96},null,{"$f":"データ一覧!W21","v":0},null,null,"  ５  林               業",null,null,null,null,null,null,null,null,null,null,null,null,null,"     石油・石炭","プラスチック",null,null,null,null,null,null,null,null,{"$f":"データ一覧!W342","v":2},null,null,null,{"$f":"+データ一覧!W367","v":172},null,null,null,null,null,null,{"$f":"データ一覧!W392","v":"x"},null,null,null,null,null,null," 第３次産業",null,null,null,null,null,4654,null,null,null,{"$f":"データ一覧!W516","v":2205},null,null,null,{"$f":"データ一覧!W541","v":2449},null,null,null,null,"サービス業",null,null,null,null,447,null,null,null,{"$f":"データ一覧!W529","v":319},null,null,null,{"$f":"データ一覧!W554","v":128}]
[{"$f":"データ一覧!$A$29","v":" 7.10.1"},null,null,null,null,{"$f":"データ一覧!W29","v":4589},null,null,{"$f":"+L31+O31","v":17567},null,null,{"$f":"データ一覧!W31","v":8450},null,null,{"$f":"データ一覧!W32","v":9117},null,null,null,92.68399692881431,null,{"$f":"データ一覧!W34","v":3.83},null,{"$f":"データ一覧!W28","v":0},null,null,null,null,null,null,null,null,null,null,null,null,null,null,null,null,"     プラスチック","ゴム",null,null,null,null,null,null,null,null,{"$f":"データ一覧!W343","v":0},null,null,null,{"$f":"+データ一覧!W368","v":0},null,null,null,null,null,null,{"$f":"データ一覧!W393","v":0},null,null,null,null,null,null,null,"電気･ｶﾞｽ･水道業",null,null,null,null,140,null,null,null,{"$f":"データ一覧!W517","v":130},null,null,null,{"$f":"データ一覧!W542","v":10},null,null,null,null,"公務",null,null,null,null,337,null,null,null,{"$f":"データ一覧!W530","v":254},null,null,null,{"$f":"データ一覧!W555","v":83}]
[{"$f":"データ一覧!$A$36","v":"12.10.1"},null,null,null,null,{"$f":"データ一覧!W36","v":4716},null,null,{"$f":"+L32+O32","v":17313},null,null,{"$f":"データ一覧!W38","v":8302},null,null,{"$f":"データ一覧!W39","v":9011},null,null,null,92.131838863611137,null,{"$f":"データ一覧!W41","v":3.67},null,{"$f":"データ一覧!W35","v":0},null,null,"    　森　　　林　　　総　　　面　　　積   ",null,null,null,null,null,null,null,{"$f":"データ一覧!$A$265","v":"5.3.31"},null,null,null,null,null,"     ゴム","皮革",null,null,null,null,null,null,null,null,{"$f":"データ一覧!W344","v":1},null,null,null,{"$f":"+データ一覧!W369","v":4},null,null,null,null,null,null,{"$f":"データ一覧!W394","v":"x"},null,null,null,null,null,null,null,"情報通信業",null,null,null,null,37,null,null,null,{"$f":"データ一覧!W518","v":30},null,null,null,{"$f":"データ一覧!W543","v":7},null,null,null," 分類不能の産業",null,null,null,null,null,22,null,null,null,{"$f":"データ一覧!W531","v":11},null,null,null,{"$f":"データ一覧!W556","v":11}]
[{"$f":"+データ一覧!$A$43","v":"17.10.1"},null,null,null,null,{"$f":"データ一覧!W43","v":4827},null,null,{"$f":"+L33+O33","v":16780},null,null,{"$f":"データ一覧!W45","v":8026},null,null,{"$f":"データ一覧!W46","v":8754},null,null,null,91.683801690655699,null,{"$f":"データ一覧!W48","v":3.48},null,{"$f":"データ一覧!W49","v":93.9},null,null,"　　　森　　　　　　　林　　　　　　　の　　　　　　　構　　　　　　　成",null,null,null,null,null,null,null,null,null,null,null,null,null,"     皮革","窯業・土石",null,null,null,null,null,null,null,null,{"$f":"データ一覧!W345","v":1},null,null,null,{"$f":"+データ一覧!W370","v":13},null,null,null,null,null,null,{"$f":"データ一覧!W395","v":"x"},null,null,null,null,null,null,"  ","運輸業,郵便業",null,null,null,null,{"$f":"BZ33+CD33","v":231},null,null,null,{"$f":"データ一覧!W519","v":195},null,null,null,{"$f":"データ一覧!W544","v":36}]
[{"$f":"+データ一覧!$A$50","v":"22.10.1"},null,null,null,null,{"$f":"データ一覧!W50","v":4994},null,null,{"$f":"+L34+O34","v":16099},null,null,{"$f":"データ一覧!W52","v":7781},null,null,{"$f":"+データ一覧!W53","v":8318},null,null,null,93.544121182976681,null,{"$f":"データ一覧!W55","v":3.22},null,{"$f":"データ一覧!W56","v":90.1},null,null,null,null,null,null,null,"       ha",null,null,null,null,null,null,"       ha",null,"     窯業・土石","鉄鋼",null,null,null,null,null,null,null,null,{"$f":"データ一覧!W346","v":0},null,null,null,{"$f":"+データ一覧!W371","v":0},null,null,null,null,null,null,{"$f":"データ一覧!W396","v":0},null,null,null,null,null,null," １６  社　 会 　福　 祉",null,null,null,null,null,null,null,null,null,null,null,null,null,null,null,{"$f":"データ一覧!$A$557","v":"6.4.1"}]
[{"$f":"データ一覧!$A$57","v":"27.10.1"},null,null,null,null,{"$f":"データ一覧!W57","v":4871},null,null,{"$f":"データ一覧!W58","v":15257},null,null,{"$f":"データ一覧!W59","v":7296},null,null,{"$f":"データ一覧!W60","v":7961},null,null,null,91.646778042959426,null,{"$f":"データ一覧!W62","v":3.1322110449599672},null,{"$f":"データ一覧!W63","v":85.5},null,null,"  総　　　　　   数",null,null,null,{"$f":"データ一覧!W265","v":11854.26},null,null," 天然林       針葉樹",null,null,null,{"$f":"データ一覧!W268","v":732.04},null,null,"     鉄鋼","非鉄金属",null,null,null,null,null,null,null,null,{"$f":"データ一覧!W347","v":0},null,null,null,{"$f":"+データ一覧!W372","v":0},null,null,null,null,null,null,{"$f":"データ一覧!W397","v":0}]
["令　2.10.1（国調）",null,null,null,null,{"$f":"データ一覧!W64","v":4830},null,null,{"$f":"データ一覧!W65","v":14003},null,null,{"$f":"データ一覧!W66","v":6702},null,null,{"$f":"データ一覧!W67","v":7301},null,null,null,{"$f":"+L36/O36*100","v":91.795644432269555},null,{"$f":"データ一覧!W69","v":2.8991718426501034},null,{"$f":"データ一覧!W70","v":78.452574373914501},null,null,"  人工林     針葉樹",null,null,null,{"$f":"データ一覧!W266","v":5564.73},null,null," 天然林       広葉樹",null,null,null,{"$f":"データ一覧!W269","v":5395.35},null,null,"     非鉄金属","金属",null,null,null,null,null,null,null,null,{"$f":"データ一覧!W348","v":1},null,null,null,{"$f":"+データ一覧!W373","v":6},null,null,null,null,null,null,{"$f":"データ一覧!W398","v":"x"},null,null,null,null,null,null,"    ","区分",null,null,null,null,null,null,"施設数",null,null,null,null,"収容定員",null,null,null,null,null,"区分",null,null,null,null,null,null,"施設数",null,null,null,null,"収容定員"]
["年",null,"  区",null," 0歳",null,null,"15歳",null,null,"25歳",null,null,"35歳",null,null,"45歳",null,null,"55歳",null,null,"65歳",null,null,"  人工林     広葉樹",null,null,null,{"$f":"データ一覧!W267","v":36.06},null,null," 竹               林",null,null,null,{"$f":"データ一覧!W270","v":66.22},null,null,"     金属","はん用機械",null,null,null,null,null,null,null,null,{"$f":"データ一覧!W349","v":0},null,null,null,{"$f":"+データ一覧!W374","v":0},null,null,null,null,null,null,{"$f":"データ一覧!W399","v":0},null,null,null,null,null,null,"生活保護施設",null,null,null,null,null,null,null,{"$f":"データ一覧!W557","v":"-"},null,null,null,{"$f":"データ一覧!W570","v":"-"},null,null,null,"人",null,"指定障害者支援施設",null,null,null,null,null,null,null,{"$f":"データ一覧!W563","v":"-"},null,null,null,{"$f":"データ一覧!W576","v":"-"},null,null,null,"人"]
["齢","令",null,null,null,"～",null,null,"～",null,null,"～",null,null,"～",null,null,"～",null,null,"～",null,null,null,null,null,null,null,null,null,null,null,null,null,null,null,null,null,null,"     一般機械","生産用機械",null,null,null,null,null,null,null,null,{"$f":"データ一覧!W350","v":1},null,null,null,{"$f":"+データ一覧!W375","v":31},null,null,null,null,null,null,{"$f":"データ一覧!W400","v":"x"},null,null,null,null,null,null,"地域福祉施設",null,null,null,null,null,null,null,{"$f":"データ一覧!W558","v":1},null,null,null,{"$f":"データ一覧!W571","v":"-"},null,null,null,null,null,"指定相談支援事業所",null,null,null,null,null,null,null,{"$f":"データ一覧!W564","v":1},null,null,null,{"$f":"データ一覧!W577","v":"-"}]
["階",{"$f":"+LEFT(データ一覧!$A$83,1)","v":"6"},"  分",null,null,null,"14歳",null,null,"24歳",null,null,"34歳",null,null,"44歳",null,null,"54歳",null,null,"64歳",null,null,"以上","    林     野     の     構     成",null,null,null,null,null,null,"保     有     形     態     別",null,null,null,null,null,null,"     電気機械","業務用機械",null,null,null,null,null,null,null,null,{"$f":"データ一覧!W351","v":"-"},null,null,null,{"$f":"+データ一覧!W376","v":0},null,null,null,null,null,null,{"$f":"データ一覧!W401","v":0},null,null,null,null,null,null,"老人福祉施設",null,null,null,null,null,null,null,{"$f":"データ一覧!W559","v":5},null,null,null,{"$f":"データ一覧!W572","v":135},null,null,null,null,null,"児童福祉施設",null,null,null,null,null,null,null,{"$f":"データ一覧!W565","v":14},null,null,null,{"$f":"データ一覧!W578","v":691}]
["級","・",null,null,null,null,"人",null,null,"人",null,"    人",null,null,"    人",null,null,"    人",null,null,"    人",null,null,"    人",null,null,null,null,null,null,null,"ha",null,null,null,null,null,"       ha",null,null,"電子・デバイス",null,null,null,null,null,null,null,null,{"$f":"データ一覧!W352","v":1},null,null,null,{"$f":"+データ一覧!W377","v":137},null,null,null,null,null,null,{"$f":"データ一覧!W402","v":"x"},null,null,null,null,null,null,"介護保険施設",null,null,null,null,null,null,null,{"$f":"データ一覧!W560","v":33},null,null,null,{"$f":"データ一覧!W573","v":494},null,null,null,null,null,"母子福祉施設",null,null,null,null,null,null,null,{"$f":"データ一覧!W566","v":"-"},null,null,null,{"$f":"データ一覧!W579","v":"-"}]
["別",{"$f":"+MID(データ一覧!$A$83,3,2)","v":"10"},"総 数",null,{"$f":"+E42+E43","v":1510},null,null,{"$f":"+H42+H43","v":966},null,null,{"$f":"+K42+K43","v":804},null,null,{"$f":"+N42+N43","v":1154},null,null,{"$f":"+Q42+Q43","v":1690},null,null,{"$f":"+T42+T43","v":1818},null,null,{"$f":"+W42+W43","v":4958},null,null," 無立木地   伐採跡地",null,null,null,{"$f":"データ一覧!W271","v":2.25},null,null,"国   　　　 　 有",null,null,null,{"$f":"データ一覧!W273","v":562.30999999999995},null,null,null,"電気機械",null,null,null,null,null,null,null,null,{"$f":"データ一覧!W353","v":3},null,null,null,{"$f":"+データ一覧!W378","v":370},null,null,null,null,null,null,{"$f":"データ一覧!W403","v":2300561},null,null,null,null,null,null,"障害者自立支援法施行前からの身体障害者福祉施設",null,null,null,null,null,null,null,{"$f":"データ一覧!W561","v":"-"},null,null,null,{"$f":"データ一覧!W574","v":"-"},null,null,null,null,null,"婦人保護施設",null,null,null,null,null,null,null,{"$f":"データ一覧!W567","v":"-"},null,null,null,{"$f":"データ一覧!W580","v":"-"}]
["人","・","  男",null,{"$f":"データ一覧!W83","v":761},null,null,{"$f":"データ一覧!W84","v":470},null,null,{"$f":"データ一覧!W85","v":447},null,null,{"$f":"データ一覧!W86","v":614},null,null,{"$f":"データ一覧!W87","v":859},null,null,{"$f":"データ一覧!W88","v":896},null,null,{"$f":"データ一覧!W89","v":2179},null,null," 無立木地   未立木地",null,null,null,{"$f":"データ一覧!W272","v":57.61},null,null,"公       　　  有",null,null,null,{"$f":"データ一覧!W274","v":1721.66},null,null,"     輸送機械","情報通信機械",null,null,null,null,null,null,null,null,{"$f":"データ一覧!W354","v":0},null,null,null,{"$f":"+データ一覧!W379","v":0},null,null,null,null,null,null,{"$f":"データ一覧!W404","v":0},null,null,null,null,null,null,null,null,null,null,null,null,null,null,null,null,null,null,null,null,null,null,null,null,"その他の社会福祉施設",null,null,null,null,null,null,null,{"$f":"データ一覧!W568+データ一覧!W569","v":0},null,null,null,0]
["口",{"$f":"+RIGHT(データ一覧!$A$83,1)","v":"1"},"  女",null,{"$f":"データ一覧!W91","v":749},null,null,{"$f":"データ一覧!W92","v":496},null,null,{"$f":"データ一覧!W93","v":357},null,null,{"$f":"データ一覧!W94","v":540},null,null,{"$f":"データ一覧!W95","v":831},null,null,{"$f":"データ一覧!W96","v":922},null,null,{"$f":"データ一覧!W97","v":2779},null,null,null,null,null,null,null,null,null,"私          　 有",null,null,null,{"$f":"データ一覧!W275","v":9570.2900000000009},null,null,"     精密機械","輸送機械",null,null,null,null,null,null,null,null,{"$f":"データ一覧!W355","v":3},null,null,null,{"$f":"+データ一覧!W380","v":391},null,null,null,null,null,null,{"$f":"データ一覧!W405","v":2795733},null,null,null,null,null,null,"障害福祉サービス事業所",null,null,null,null,null,null,null,{"$f":"データ一覧!W562","v":22},null,null,null,{"$f":"データ一覧!W575","v":238}]
[null,null,null,null,null,null,null,null,null,null,null,null,null,null,null,null,null,null,null,null,null,null,null,null,null,"            林     産     物     生     産     量 ",null,null,null,null,null,null,null,null,null,{"$f":"データ一覧!$A$276","v":"5年中"},null,null,null,"     その他","その他",null,null,null,null,null,null,null,null,{"$f":"データ一覧!W356","v":0},null,null,null,{"$f":"+データ一覧!W381","v":0},null,null,null,null,null,null,{"$f":"データ一覧!W406","v":0},null,null,null,null,null,null," １７  教　　　　　　　育",null,null,null,null,null,null,null,null,null,null,null,null,null,null,null,{"$f":"データ一覧!$A$583","v":"6.5.1"}]
["人口動態",null,null,null,null,null,null,"   自　然　動　態",null,null,null,null,null,"   社  会  動  態",null,null,null,null,null,{"$f":"データ一覧!$A78","v":"5.1.1～5.12.31"},null,null,null,null,null,"生椎茸",null,null,null,{"$f":"データ一覧!W276","v":500},null,"㎏","乾椎茸",null,null,null,{"$f":"データ一覧!W277","v":200},null,"㎏"]
[null,null,"   区       分",null,null,null,null," 出   生",null,null," 死   亡",null,null," 転   入",null,null," 転   出",null,null," 婚   姻",null,null," 離   婚",null,null,"えのきだけ",null,null,null,{"$f":"データ一覧!W279","v":0},null,"㎏","なめこ",null,null,null,{"$f":"データ一覧!W278","v":0},null,"㎏","    ","工　業　用　水　量",null,null,null,null,null,"（従業者30人以上の事業所）",null,null,null,null,null,null,null,null,null,null,{"$f":"データ一覧!W407","v":1526},null,null,null,null,"㎥／日",null,null,null,null,null,null,null,null,null,null,null,null,null,null,"学校数（校）",null,null,null,null,null,null,"教員数（人）",null,null,null,null,null,null,null,"学生・生徒・児童数（人）"]
[{"$f":"LEFT(データ一覧!$A74,6)","v":"5.10.1"},null,null,null,null,null,null,"       人",null,null,"       人",null,null,"       人",null,null,"       人",null,null,null,"    件",null,null,"    件",null,"ひらたけ",null,null,null,{"$f":"+データ一覧!W280","v":0},null,"㎏","まいたけ",null,null,null,{"$f":"+データ一覧!W281","v":0},null,"㎏",null,null,null,null,null,null,null,null,null,null,null,null,null,null,null,null,null,null,null,null,null,null,null,null,null,null,null,null,null,"　","区分",null,null,null,null,null,null,null," 本 校",null,null," 分 校",null,null," 本   務",null,null,null," 兼   務",null,null,null," 総   数",null,null,null,"男",null,null,null,"女"]
["～",null," 実          数",null,null,null,null,{"$f":"データ一覧!W74","v":68},null,null,{"$f":"データ一覧!W75","v":216},null,null,{"$f":"データ一覧!W76","v":255},null,null,{"$f":"データ一覧!W77","v":351},null,null,{"$f":"データ一覧!W78","v":40},null,null,{"$f":"データ一覧!W79","v":14},null,null,null,null,null,null,null,null,null,null,null,null,null,null,null,null," １１ 　上　・　下　水　道",null,null,null,null,null,null,null,null,null,null,null,null,null,null,null,null,null,null,null,null,null,null,null,null,null,null,null,null,"小学校",null,null,null,null,null,null,null,null,{"$f":"データ一覧!W584","v":9},null,null,{"$f":"データ一覧!W585","v":0},null,null,{"$f":"データ一覧!W586","v":105},null,null,null,{"$f":"データ一覧!W587","v":24},null,null,null,{"$f":"データ一覧!W588","v":662},null,null,null,{"$f":"データ一覧!W589","v":347},null,null,null,{"$f":"データ一覧!W590","v":315}]
[{"$f":"RIGHT(データ一覧!$A76,6)","v":"6.9.30"},null,"比率(対1,000人)",null,null,null,null,{"$f":"+H48/I36*1000","v":4.8561022638006142},null,null,{"$f":"+K48/I36*1000","v":15.42526601442548},null,null,"- ",null,null,"- ",null,null,{"$f":"+T48/I36*1000","v":2.8565307434121259},null,null,{"$f":"+W48/I36*1000","v":0.99978576019424414},null,null,"  ６  漁               業",null,null,null,null,null,null,null,null,null,null,null,null,null,null,null,null,null,null,null,null,null,null,null,null,null,null,null,null,null,null,null,null,null,null,null,null,null,null,null,null,null,"  ","中学校",null,null,null,null,null,null,null,null,{"$f":"データ一覧!W592","v":2},null,null,{"$f":"データ一覧!W593","v":0},null,null,{"$f":"データ一覧!W594","v":42},null,null,null,{"$f":"データ一覧!W595","v":5},null,null,null,{"$f":"データ一覧!W596","v":387},null,null,null,{"$f":"データ一覧!W597","v":184},null,null,null,{"$f":"データ一覧!W598","v":203}]
[null,null,null,null,null,null,null,null,null,null,null,null,null,null,null,null,null,null,null,null,null,null,null,null,null,null,null,null,null,null,null,null,null,null,null,null,null,null,null,"水 道 供 給 人 口",null,null,null,null,null,null,"上 水 道",null,null,null,"簡易水道",null,null,null,"専用水道",null,null,null,"飲料水供給施設",null,null,null,"下水道処理人口",null,null,null,null,"  ","高等学校",null,null,null,null,null,null,null,null,{"$f":"データ一覧!W600","v":1},null,null,{"$f":"データ一覧!W601","v":0},null,null,{"$f":"データ一覧!W602","v":41},null,null,null,{"$f":"データ一覧!W603","v":13},null,null,null,{"$f":"データ一覧!W604","v":440},null,null,null,{"$f":"データ一覧!W605","v":158},null,null,null,{"$f":"データ一覧!W606","v":282}]
["  ３  事　　業　　所（民　　営）",null,null,null,null,null,null,null,null,null,null,"3.6.1",null,null,null,null,null,null,null,null,null,null,null,null,null,"漁船隻数・トン数",null,null,null,{"$f":"データ一覧!$A$282","v":"5.12.31"},null,null,null,"動　力　船",null,null,null,null,null,{"$f":"データ一覧!$A$408","v":"6.3.31"},null,null,null,null,null,"人",null,{"$f":"データ一覧!W408","v":12539},null,null,{"$f":"データ一覧!W409","v":0},null,null,null,null,{"$f":"データ一覧!W410","v":0},null,null,null,{"$f":"データ一覧!W411","v":0},null,null,null,{"$f":"データ一覧!W412","v":5685},null,null,null,"  ","大学・短期大学",null,null,null,null,null,null,null,null,{"$f":"データ一覧!W607","v":0},null,null,{"$f":"データ一覧!W608","v":0},null,null,{"$f":"データ一覧!W609","v":0},null,null,null,{"$f":"データ一覧!W610","v":0},null,null,null,{"$f":"データ一覧!W611","v":0},null,null,null,{"$f":"データ一覧!W612","v":0},null,null,null,{"$f":"データ一覧!W613","v":0}]
[null,null,null,null,null,null,null,null,null,null,null,null,null,null,null,null,null,null,null,null,null,null,null,null,null,"無動力船隻数",null,null,null,"船外機付漁船隻数",null,null,null,"隻　数",null,null,"総 ト ン 数",null,null,null,null,null,null,null,null,null,null,null,null,null,null,null,null,null,null,null,null,null,null,null,null,null,null,null,null,null,null,"  ","高等専門学校",null,null,null,null,null,null,null,null,{"$f":"データ一覧!W614","v":0},null,null,{"$f":"データ一覧!W615","v":0},null,null,{"$f":"データ一覧!W616","v":0},null,null,null,{"$f":"データ一覧!W617","v":0},null,null,null,{"$f":"データ一覧!W618","v":0},null,null,null,{"$f":"データ一覧!W619","v":0},null,null,null,{"$f":"データ一覧!W620","v":0}]
[null,null,null,null,null,null,null,"    総　　　　　数",null,null,null,null,null,"    民　　　　　営",null,null,null,null,null,"  国 ･ 地方公共団体",null,null,null,null,null,null,null,null,"隻",null,null,null,"隻",null,null,"隻",null,null,"t"," １２  交   通　・　通   信",null,null,null,null,null,null,null,null,null,null,null,null,null,null,null,null,null,null,null,null,null,null,null,null,null,null,null,"  ","特別支援学校",null,null,null,null,null,null,null,null,{"$f":"+データ一覧!W622","v":0},null,null,{"$f":"+データ一覧!W623","v":0},null,null,{"$f":"+データ一覧!W624","v":0},null,null,null,{"$f":"+データ一覧!W625","v":0},null,null,null,{"$f":"+データ一覧!W626","v":0},null,null,null,{"$f":"+データ一覧!W627","v":0},null,null,null,{"$f":"+データ一覧!W628","v":0}]
["  　区　　　　　　分",null,null,null,null,null,null," 事業所数",null,null," 従業者数",null,null," 事業所数",null,null," 従業者数",null,null," 事業所数",null,null," 従業者数",null,null,{"$f":"データ一覧!$W$282","v":13},null,null,null,{"$f":"データ一覧!$W$283","v":156},null,null,null,{"$f":"データ一覧!W284","v":55},null,null,{"$f":"データ一覧!W285","v":230.62},null,null,null,null,null,null,null,null,null,null,null,null,null,null,null,null,null,null,null,null,null,null,null,null,null,null,null,null,null,null,"  ","幼稚園",null,null,null,null,null,null,null,null,{"$f":"データ一覧!W630","v":0},null,null,{"$f":"データ一覧!W631","v":0},null,null,{"$f":"データ一覧!W632","v":0},null,null,null,{"$f":"データ一覧!W633","v":0},null,null,null,{"$f":"データ一覧!W634","v":0},null,null,null,{"$f":"データ一覧!W635","v":0},null,null,null,{"$f":"データ一覧!W636","v":0}]
[null,null,null,null,null,null,null,null,null,null,"       人",null,null,null,null,null,"       人",null,null,null,null,null,"       人",null,null,"  男女別就業者数",null,null,null,null,null,null,null,{"$f":"データ一覧!$A$286","v":"5.11.1"},null,null,null,null,null,"道     路",null,null,null,"実 延 長",null,null,null,"国     道",null,null,null,"県     道",null,null,null,"市町道",null,null,null," 鉄 道 営 業 キ ロ 数",null,null,null,null,null,null,null,"  ","幼保連携認定こども園",null,null,null,null,null,null,null,null,{"$f":"データ一覧!W638","v":0},null,null,{"$f":"データ一覧!W639","v":0},null,null,{"$f":"データ一覧!W640","v":0},null,null,null,{"$f":"データ一覧!W641","v":0},null,null,null,{"$f":"データ一覧!W642","v":0},null,null,null,{"$f":"データ一覧!W643","v":0},null,null,null,{"$f":"データ一覧!W644","v":0}]
["総数",null,null,null,null,null,null,{"$f":"データ一覧!W99","v":"…"},null,null,{"$f":"データ一覧!W156","v":"…"},null,null,{"$f":"データ一覧!W100","v":736},null,null,{"$f":"データ一覧!W157","v":5926},null,null,{"$f":"データ一覧!W101","v":"…"},null,null,{"$f":"データ一覧!W158","v":"…"},null,null,"総　　数",null,null,null,null,null,"男",null,null,null,"女",null,null,null,{"$f":"データ一覧!$A$413","v":"5.4.1"},null,null,null,{"$f":"データ一覧!W413","v":567.9},null,null,"㎞",{"$f":"データ一覧!W414","v":15.9},null,null,"㎞",{"$f":"データ一覧!W415","v":69.099999999999994},null,null,"㎞",{"$f":"データ一覧!W416","v":482.9},null,null,"km",{"$f":"データ一覧!$A$417","v":"6.4.1"},null,null,null,{"$f":"データ一覧!W417","v":0},null,null,"㎞","  ","各種学校",null,null,null,null,null,null,null,null,{"$f":"データ一覧!W646","v":0},null,null,{"$f":"データ一覧!W647","v":0},null,null,{"$f":"データ一覧!W648","v":0},null,null,null,{"$f":"データ一覧!W649","v":0},null,null,null,{"$f":"データ一覧!W650","v":0},null,null,null,{"$f":"データ一覧!W651","v":0},null,null,null,{"$f":"データ一覧!W652","v":0}]
["農林漁業",null,null,null,null,null,null,{"$f":"データ一覧!W102","v":"…"},null,null,{"$f":"データ一覧!W159","v":"…"},null,null,{"$f":"データ一覧!W103","v":34},null,null,{"$f":"データ一覧!W160","v":458},null,null,{"$f":"データ一覧!W104","v":"…"},null,null,{"$f":"データ一覧!W161","v":"…"},null,null,null,null,null,null,null,"人",null,null,"　　　　人",null,null,null,null,"  人","自動車",null,null,null,null,null,null,null,null,"乗用車",null,null,null,null,null,null,null,null,null,null,null,null,null,null,null,null,null,null,"  ","専修学校",null,null,null,null,null,null,null,null,{"$f":"データ一覧!W654","v":0},null,null,{"$f":"データ一覧!W655","v":0},null,null,{"$f":"データ一覧!W656","v":0},null,null,null,{"$f":"データ一覧!W657","v":0},null,null,null,{"$f":"データ一覧!W658","v":0},null,null,null,{"$f":"データ一覧!W659","v":0},null,null,null,{"$f":"データ一覧!W660","v":0}]
["鉱業",null,null,null,null,null,null,{"$f":"データ一覧!W105","v":"…"},null,null,{"$f":"データ一覧!W162","v":"…"},null,null,{"$f":"データ一覧!W106","v":"-"},null,null,{"$f":"データ一覧!W163","v":"-"},null,null,{"$f":"データ一覧!W107","v":"…"},null,null,{"$f":"データ一覧!W164","v":"…"},null,null,{"$f":"データ一覧!W286","v":51},null,null,null,null,null,{"$f":"データ一覧!$W$287","v":0},null,null,null,{"$f":"データ一覧!W288","v":0},null,null,null,"台  数",null,null,null,"貨    物",null,null,null,"普     通",null,null,null,"小     型",null,null,null,"乗  合",null,null,"特  種",null,null,"小型二輪",null,null,"軽自動車",null,null," １８  衛　　　　　　　生"]
["建設業",null,null,null,null,null,null,{"$f":"データ一覧!W108","v":"…"},null,null,{"$f":"データ一覧!W165","v":"…"},null,null,{"$f":"データ一覧!W109","v":98},null,null,{"$f":"データ一覧!W166","v":533},null,null,{"$f":"データ一覧!W110","v":"…"},null,null,{"$f":"データ一覧!W167","v":"…"},null,null,"　　　　海 面 漁 業 漁 獲 量 （属人）",null,null,null,null,null,null,null,{"$f":"データ一覧!$A$289","v":"30年中"},null,null,null,null,null,{"$f":"データ一覧!$A$418","v":"6.3.31"},null,null,null,null,{"$f":"データ一覧!W418","v":674},null,null,null,{"$f":"データ一覧!W420","v":2472},null,null,null,{"$f":"データ一覧!W421","v":2309},null,null,{"$f":"データ一覧!W419","v":48},null,null,{"$f":"データ一覧!W422","v":316},null,null,{"$f":"データ一覧!W423","v":197},null,null,{"$f":"データ一覧!W424","v":7034}]
["製造業",null,null,null,null,null,null,{"$f":"データ一覧!W111","v":"…"},null,null,{"$f":"データ一覧!W168","v":"…"},null,null,{"$f":"データ一覧!W112","v":62},null,null,{"$f":"データ一覧!W169","v":1849},null,null,{"$f":"データ一覧!W113","v":"…"},null,null,{"$f":"データ一覧!W170","v":"…"},null,null,null,null,null,null,null,"       ","ｔ",null,null,null,null,null,null,"t",null,null,"     ",null,"郵　便　局　数",null,null,null,null,null,null,null,null,null,null,null,null,null,{"$f":"+MID(データ一覧!$A$428,3,2)","v":"3."},"令","一般加入",null,null,null,"ＩＮＳネット",null,null,null,null,null,null,null,"医療関係施設",null,null,null,null,null,{"$f":"データ一覧!$A$661","v":"5.10.1"},null,null,null,null,null,null,"および医療関係者数",null,null,null,null,null,null,null,{"$f":"データ一覧!$A$666","v":"4.12.31"}]
["電気・ｶﾞ ｽ・熱供給・水道業",null,null,null,null,null,null,{"$f":"データ一覧!W114","v":"…"},null,null,{"$f":"データ一覧!W171","v":"…"},null,null,{"$f":"データ一覧!W115","v":1},null,null,{"$f":"データ一覧!W172","v":4},null,null,{"$f":"データ一覧!W116","v":"…"},null,null,{"$f":"データ一覧!W173","v":"…"},null,null,"   総　　　　　　数",null,null,null,{"$f":"データ一覧!W289","v":858},null,null,"   藻　　　　　　類",null,null,null,{"$f":"データ一覧!W292","v":8},null,null,"通  信",null,null,null," 総     数",null,null,null,null," 郵 便 局",null,null,null,null," 簡 易 局",null,null,null,"・",{"$f":"+LEFT(データ一覧!$A$428,1)","v":"6"},"電話数",null,null,null,"加入数",null,null,null,null,null,null,null,null,null,"　","病",null,null,"院",null,"　",null,null,null,null," ","一般診療所",null,null,null,null,null,null,null,null,null,null,null,"歯科診療所"]
["情報通信業",null,null,null,null,null,null,{"$f":"データ一覧!W117","v":"…"},null,null,{"$f":"データ一覧!W174","v":"…"},null,null,{"$f":"データ一覧!W118","v":3},null,null,{"$f":"データ一覧!W175","v":5},null,null,{"$f":"データ一覧!W119","v":"…"},null,null,{"$f":"データ一覧!W176","v":"…"},null,null,"   魚　　　　　　類",null,null,null,{"$f":"データ一覧!W290","v":801},null,null,"   そ　   の　　 他",null,null,null,{"$f":"データ一覧!W293","v":37},null,null,{"$f":"データ一覧!$A$428","v":"6.3.31"},null,null,null,{"$f":"データ一覧!W425","v":7},null,null,null,null,{"$f":"データ一覧!W426","v":7},null,null,null,null,{"$f":"データ一覧!W427","v":0},null,null,null,{"$f":"+RIGHT(データ一覧!$A$428,2)","v":"31"},"・",{"$f":"データ一覧!W428","v":2661},null,null,null,{"$f":"データ一覧!W429","v":294},null,null,null," ","医療関係",null,null,null,null,null,null,null,null,null,null,null,"一般病院",null,null,null,null,null,null,null,null,null,null,null,"有",null,null,"床"]
["運輸業、郵便業",null,null,null,null,null,null,{"$f":"データ一覧!W120","v":"…"},null,null,{"$f":"データ一覧!W177","v":"…"},null,null,{"$f":"データ一覧!W121","v":10},null,null,{"$f":"データ一覧!W178","v":123},null,null,{"$f":"データ一覧!W122","v":"…"},null,null,{"$f":"データ一覧!W179","v":"…"},null,null,"   貝　　　　　　類",null,null,null,{"$f":"データ一覧!W291","v":12},null,null,null,null,null,null,null,null,null,null,null,null,null,null,null,null,null,null,null,null,null,null,null,null,null,null,null,null,null,null,null,null,null,null,null,null,null,null,"施設数",null,null,null,null,null,null,{"$f":"データ一覧!W661","v":2},null,null,null,null,null,{"$f":"データ一覧!W662","v":2},null,null,null,null,null,{"$f":"データ一覧!W663","v":8},null,null,null,null,null,{"$f":"データ一覧!W664","v":1},null,null,null,null,null,{"$f":"データ一覧!W665","v":3}]
["卸売業、小売業",null,null,null,null,null,null,{"$f":"データ一覧!W123","v":"…"},null,null,{"$f":"データ一覧!W180","v":"…"},null,null,{"$f":"データ一覧!W124","v":154},null,null,{"$f":"データ一覧!W181","v":855},null,null,{"$f":"データ一覧!W125","v":"…"},null,null,{"$f":"データ一覧!W182","v":"…"},null,null,null,null,null,null,null,null,null,null,null,null,null,null,null,null," １３  税　　・　　財　　政",null,null,null,null,null,null,null,null,null,null,null,null,null,null,null,null,null,null,null,null,null,null,null,null,null,null,null,null,null,null,null,null,null,null,"医師",null,null,null,null,"歯科医師",null,null,null,null,"薬剤師",null,null,null,null,"保健師",null,null,null,null,"助産師",null,null," ",null,"看護師",null,null," "]
["金融業、保険業",null,null,null,null,null,null,{"$f":"データ一覧!W126","v":"…"},null,null,{"$f":"データ一覧!W183","v":"…"},null,null,{"$f":"データ一覧!W127","v":8},null,null,{"$f":"データ一覧!W184","v":40},null,null,{"$f":"データ一覧!W128","v":"…"},null,null,{"$f":"データ一覧!W185","v":"…"},null,null,"  ７  商        　　　業 ",null,null,null,null,null,null,{"$f":"データ一覧!$A$294","v":"3.6.1(令和2年実績）"},null,null,null,null,null,null,null,null,null,null,null,null,null,null,null,null,null,null,null,null,null,null,null,null,null,null,null,null,null,null,null,null,null,null," ","医療",null,null,null,null,null,null,null,null,"人",null,null,null,null,"人",null,null,null,null,"人",null,null,null,null,"人",null,null,null,null,"人",null,null,null,null,"人"]
["不動産業、物品賃貸業",null,null,null,null,null,null,{"$f":"データ一覧!W129","v":"…"},null,null,{"$f":"データ一覧!W186","v":"…"},null,null,{"$f":"データ一覧!W130","v":10},null,null,{"$f":"データ一覧!W187","v":43},null,null,{"$f":"データ一覧!W131","v":"…"},null,null,{"$f":"データ一覧!W188","v":"…"},null,null,null,null,null,null,null,null,null,null,null,null,null,null,null,null,"           ",null,null,null,"歳入",null,null,null,null,null,null,null,null,"(千円）"," ",null,null,null,"歳出",null,null,null,null,null,null,null,null,"(千円）",null,"関係者",null,null,null,null,{"$f":"データ一覧!W666","v":18},null,null,null,null,{"$f":"データ一覧!W667","v":6},null,null,null,null,{"$f":"データ一覧!W668","v":16},null,null,null,null,{"$f":"データ一覧!W669","v":13},null,null,null,null,{"$f":"データ一覧!W670","v":1},null,null,null,null,{"$f":"データ一覧!W671","v":174}]
["学術研究、専門・技術ｻｰﾋﾞｽ業",null,null,null,null,null,null,{"$f":"データ一覧!W132","v":"…"},null,null,{"$f":"データ一覧!W189","v":"…"},null,null,{"$f":"データ一覧!W133","v":18},null,null,{"$f":"データ一覧!W190","v":37},null,null,{"$f":"データ一覧!W134","v":"…"},null,null,{"$f":"データ一覧!W191","v":"…"},null,null,"  産   業　 分　 類",null,null,null," 事　業　所　数",null,null," 従　業　者　数",null,null,"年　間　販　売　額",null,null,null,"一人当たり歳入歳出予算決算額",null,null,null,null,null,null,null,null,null,null,null,null,null,null,null,null,null,null,null,null,null,null,null,null,null,null,null,"                   ",null,null,null,null,null,null,null,null,"死因別死亡数　　　　　　    ",null,null,null,null,null,null,null,null,null,null,null,null,null,null,null,{"$f":"データ一覧!$A$672","v":"5年中"},null,null,null,null,null,null,null,null,"      単 位：人"]
["宿泊業、飲食サービス業",null,null,null,null,null,null,{"$f":"データ一覧!W135","v":"…"},null,null,{"$f":"データ一覧!W192","v":"…"},null,null,{"$f":"データ一覧!W136","v":143},null,null,{"$f":"データ一覧!W193","v":599},null,null,{"$f":"データ一覧!W137","v":"…"},null,null,{"$f":"データ一覧!W194","v":"…"},null,null,null,null,null,null,null,null,null,null,null,"　人",null,"         百万円",null,null,"区分",null,null,null,{"$f":"データ一覧!$A$438","v":"6年度"},null,null,null,null,{"$f":"データ一覧!$A$452","v":"5年度"},null,null,null,null,"区分",null,null,null,{"$f":"+AR68","v":"6年度"},null,null,null,null,{"$f":"データ一覧!$A$452","v":"5年度"},null,null,null,null," 死     因",null,null,null,null,null,null,null,null,null,null,null,"悪  性",null,null,"高血圧",null,null,null,null,null,"脳血管",null,null,null,null,null," ",null,null,"不慮の事故"]
["生活関連サービス業、娯楽業",null,null,null,null,null,null,{"$f":"データ一覧!W138","v":"…"},null,null,{"$f":"データ一覧!W195","v":"…"},null,null,{"$f":"データ一覧!W139","v":57},null,null,{"$f":"データ一覧!W196","v":184},null,null,{"$f":"データ一覧!W140","v":"…"},null,null,{"$f":"データ一覧!W197","v":"…"},null,null,"総　　　　　　計",null,null,null,{"$f":"データ一覧!W294","v":144},null,null,{"$f":"データ一覧!W303","v":771},null,null,{"$f":"データ一覧!W312","v":18417},null,null,null,null,null,null,null,{"$f":"データ一覧!W434","v":903971.02904820768},null,null,null,null,{"$f":"データ一覧!W435","v":1015174.3251440704},null,null,null,null,null,null,null,null,{"$f":"データ一覧!W436","v":903971.02904820768},null,null,null,null,{"$f":"データ一覧!W437","v":948169.77555353357},null,null,null,null,null,null,null,null,null,"全 死 因",null,null,null,"結 核",null,null,"新生物",null,null,"性疾患",null,null,"心疾患",null,null,"疾  患",null,null,"肺  炎",null,null,"老  衰",null,null,null,null," ","交通事故"]
["教育、学習支援業",null,null,null,null,null,null,{"$f":"データ一覧!W141","v":"…"},null,null,{"$f":"データ一覧!W198","v":"…"},null,null,{"$f":"データ一覧!W142","v":9},null,null,{"$f":"データ一覧!W199","v":11},null,null,{"$f":"データ一覧!W143","v":"…"},null,null,{"$f":"データ一覧!W200","v":"…"},null,null,"卸売業",null,null,null,{"$f":"データ一覧!W295","v":20},null,null,{"$f":"データ一覧!W304","v":108},null,null,{"$f":"データ一覧!W313","v":10382},null,null,null,"項目別歳入歳出予算決算額"]
["医療、福祉",null,null,null,null,null,null,{"$f":"データ一覧!W144","v":"…"},null,null,{"$f":"データ一覧!W201","v":"…"},null,null,{"$f":"データ一覧!W145","v":41},null,null,{"$f":"データ一覧!W202","v":829},null,null,{"$f":"データ一覧!W146","v":"…"},null,null,{"$f":"データ一覧!W203","v":"…"},null,null,"小売業",null,null,null,{"$f":"データ一覧!W296","v":124},null,null,{"$f":"データ一覧!W305","v":663},null,null,{"$f":"データ一覧!W314","v":8036},null,null,null,"区分",null,null,null,{"$f":"データ一覧!$A$438","v":"6年度"},null,null,null,null,{"$f":"データ一覧!$A$452","v":"5年度"},null,null,null,null,"区分",null,null,null,{"$f":"+AR71","v":"6年度"},null,null,null,null,{"$f":"データ一覧!$A$452","v":"5年度"},null,null,null,null,null,null,null,null,null,{"$f":"データ一覧!W672","v":230},null,null,null,"   －",{"$f":"データ一覧!W673","v":"-"},null,{"$f":"データ一覧!W674","v":48},null,null,null,{"$f":"データ一覧!W675","v":5},null,{"$f":"データ一覧!W676","v":31},null,null,{"$f":"データ一覧!W677","v":15},null,null,{"$f":"データ一覧!W678","v":5},null,null,{"$f":"データ一覧!W679","v":45},null,null,{"$f":"データ一覧!W680","v":7},null,null,{"$f":"データ一覧!W681","v":"-"}]
["複合サービス事業",null,null,null,null,null,null,{"$f":"データ一覧!W147","v":"…"},null,null,{"$f":"データ一覧!W204","v":"…"},null,null,{"$f":"データ一覧!W148","v":11},null,null,{"$f":"データ一覧!W205","v":86},null,null,{"$f":"データ一覧!W149","v":"…"},null,null,{"$f":"データ一覧!W206","v":"…"},null,null,"各種商品",null,null,null,{"$f":"データ一覧!W297","v":1},null,null,{"$f":"データ一覧!W306","v":153},null,null,{"$f":"データ一覧!W315","v":"x"},null,null,null,"総額",null,null,null,{"$f":"SUM(AR73:AV85)","v":11701001},null,null,null,null,{"$f":"SUM(AW73:BA85)","v":13388119},null,null,null,null,"総額",null,null,null,{"$f":"SUM(BF73:BJ85)","v":11701001},null,null,null,null,{"$f":"SUM(BK73:BO85)","v":12504463},null,null,null,null," １９  警　察　・　消　防  ",null,null,null,null,null,null,null,null,null,null,null,null,null,null,null,{"$f":"+データ一覧!$A682","v":"6.4.1"}]
["サービス業",null,null,null,null,null,null,{"$f":"データ一覧!W150","v":"…"},null,null,{"$f":"データ一覧!W207","v":"…"},null,null,{"$f":"データ一覧!W151","v":77},null,null,{"$f":"データ一覧!W208","v":270},null,null,{"$f":"データ一覧!W152","v":"…"},null,null,{"$f":"データ一覧!W209","v":"…"},null,null,"織物・衣服・身の回り品",null,null,null,{"$f":"データ一覧!W298","v":4},null,null,{"$f":"データ一覧!W307","v":5},null,null,{"$f":"データ一覧!W316","v":11},null,null,null,"地方税",null,null,null,{"$f":"データ一覧!W439","v":1750328},null,null,null,null,{"$f":"データ一覧!W453","v":1887517},null,null,null,null,"議会費",null,null,null,{"$f":"データ一覧!W467","v":95154},null,null,null,null,{"$f":"データ一覧!W481","v":84327}]
["公務",null,null,null,null,null,null,{"$f":"データ一覧!W153","v":"…"},null,null,{"$f":"データ一覧!W210","v":"…"},null,null,{"$f":"データ一覧!W154","v":"…"},null,null,{"$f":"データ一覧!W211","v":"…"},null,null,{"$f":"データ一覧!W155","v":"…"},null,null,{"$f":"データ一覧!W212","v":"…"},null,null,"飲食料品",null,null,null,{"$f":"データ一覧!W299","v":46},null,null,{"$f":"データ一覧!W308","v":212},null,null,{"$f":"データ一覧!W317","v":1424},null,null,null,"地方譲与税",null,null,null,{"$f":"データ一覧!W440","v":140710},null,null,null,null,{"$f":"データ一覧!W454","v":135132},null,null,null,null,"総務費",null,null,null,{"$f":"データ一覧!W468","v":2876087},null,null,null,null,{"$f":"データ一覧!W482","v":3120828},null,null,null,null,null,null,null,null,null,null,null,null,null,null,"交番・駐在所",null,null,null,null,null,null,null,null,"刑法犯認知件数",null,null,null,null,null,null,null,null,"交通人身事故発生件数"]
["  ４  農        　　　業 ",null,null,null,null,null,null,null,null,null,null,null,null,null,null,null,null,null,null,null,null,null,null,null,null,"機械器具",null,null,null,{"$f":"データ一覧!W300","v":18},null,null,{"$f":"データ一覧!W309","v":59},null,null,{"$f":"データ一覧!W318","v":534},null,null,null,"各種交付金",null,null,null,{"$f":"データ一覧!W441","v":464300},null,null,null,null,{"$f":"データ一覧!W455","v":448740},null,null,null,null,"民生費",null,null,null,{"$f":"データ一覧!W469","v":2519285},null,null,null,null,{"$f":"データ一覧!W483","v":2524499},null,null,null,null,null,"警察署数",null,null,null,null,null,null,null,null,"検問所数",null,null,null,null,null,null,null,null,null,{"$f":"データ一覧!$A$684","v":"5年中"},null,null,null,null,null,null,null,null,{"$f":"データ一覧!$A$684","v":"5年中"}]
[null,null,null,null,null,null,null,null,null,null,null,null,null,null,null,null,null,null,null,null,null,null,null,null,null,"その他",null,null,null,{"$f":"データ一覧!W301","v":54},null,null,{"$f":"データ一覧!W310","v":231},null,null,{"$f":"データ一覧!W319","v":"x"},null,null,null,"地方特例交付金",null,null,null,{"$f":"データ一覧!W442","v":69460},null,null,null,null,{"$f":"データ一覧!W456","v":11021},null,null,null,null,"衛生費",null,null,null,{"$f":"データ一覧!W470","v":1379527},null,null,null,null,{"$f":"データ一覧!W484","v":1325258},null,null,null,null,null,null,null,null,null,null,null,null,null,null,null,null,null,null,null,null,null,null,null,null,null,null,null,null," 件",null,null,null,null,null,null,null,null,"　件"]
[null,null,"農業経営体数",null,null,null,null,null,null,"農産物販売額規模別経営体数",null,null,null,null,null,null,null,"経営耕地面積規模別経営体数",null,null,null,null,null,null,null,"無店舗",null,null,null,{"$f":"データ一覧!W302","v":1},null,null,{"$f":"データ一覧!W311","v":3},null,null,{"$f":"データ一覧!W320","v":"x"},null,null,null,"地方交付税",null,null,null,{"$f":"データ一覧!W443","v":4300000},null,null,null,null,{"$f":"データ一覧!W457","v":4733646},null,null,null,null,"労働費",null,null,null,{"$f":"データ一覧!W471","v":19839},null,null,null,null,{"$f":"データ一覧!W485","v":19839},null,null,null,null,null,null,{"$f":"データ一覧!W682","v":0},null,null,null,null,null,null,null,null,{"$f":"データ一覧!W683","v":5},null,null,null,null,null,null,null,null,{"$f":"データ一覧!W684","v":30},null,null,null,null,null,null,null,null,{"$f":"データ一覧!W685","v":15}]
["農",null,"区　分",null,null,null,"経営体数\n（経営体）",null,null,"区　分",null,null,null,null,"経営体数\n（経営体）",null,null,"区　分",null,null,null,null,"経営体数\n（経営体）",null,null,null,null,null,null,null,null,null,null,null,null,null,null,null,null,"分担金および負担金",null,null,null,{"$f":"データ一覧!W444","v":42964},null,null,null,null,{"$f":"データ一覧!W458","v":107858},null,null,null,null,"農林水産業費",null,null,null,{"$f":"データ一覧!W472","v":596328},null,null,null,null,{"$f":"データ一覧!W486","v":649466},null,null,null,null,"火災発生件数",null,null,null,null,null,null,null,null,null,"林野焼損",null,null,null,null,"損      害",null,null,null,null,"消 防 自",null,null,null,"その他の",null,null,null," ",null,null,null,null," "]
["業","令",null,null,null,null,null,null,null,null,null,null,null,null,null,null,null,null,null,null,null,null,null,null,null,"  ８  住　　　　　　 　宅",null,null,null,null,null,null,null,null,null,null,null,null,null,"使用料および手数料",null,null,null,{"$f":"データ一覧!W445","v":76005},null,null,null,null,{"$f":"データ一覧!W459","v":82566},null,null,null,null,"商工費",null,null,null,{"$f":"データ一覧!W473","v":318925},null,null,null,null,{"$f":"データ一覧!W487","v":514123},null,null,null,null,{"$f":"+データ一覧!$A$686","v":"5年中"},null,null,null,null,"焼損棟数",null,null,null,null,"面    積",null,null,null,null,"見  積  額",null,null,null,null,"動 車 数",null,null,null,"ﾎﾟﾝﾌﾟ数",null,null,null," 消防吏員",null,null,null," 消防団員"]
["経",{"$f":"+LEFT(データ一覧!$A$213)","v":"2"},"計",null,null,null,{"$f":"データ一覧!W213","v":525},null,null,"総　　　 数",null,null,null,null,{"$f":"データ一覧!W217","v":525},null,null,"総　　　 数",null,null,null,null,{"$f":"データ一覧!W233","v":1696},null,null,null,null,null,null,null,null,null,null,null,null,null,null,null,null,"国庫支出金",null,null,null,{"$f":"データ一覧!W446","v":779455},null,null,null,null,{"$f":"データ一覧!W460","v":1039379},null,null,null,null,"土木費",null,null,null,{"$f":"データ一覧!W474","v":1046965},null,null,null,null,{"$f":"データ一覧!W488","v":1243155},null,null,null,null,"         件",null,null,null,null,null,"      棟",null,null,null,null,null,null,"  ａ",null,null,null,"  千円",null,null,"        ",null,null,null,null,null,null,null,null,null,"  人",null,null,null,"  人"]
["営","・","個人経営体",null,null,null,{"$f":"データ一覧!W214","v":487},null,null,"販 売 な し",null,null,null,null,{"$f":"データ一覧!W218","v":43},null,null,"0.5 ha 未満",null,null,null,null,{"$f":"データ一覧!W234","v":40},null,null,{"$f":"+データ一覧!$A$321","v":"4年"},null,null,null,null,{"$f":"データ一覧!$A$324","v":"5年"},"中の増減",null,null,null,{"$f":"+データ一覧!$A$324","v":"5年"},null,null,null,"県支出金",null,null,null,{"$f":"データ一覧!W447","v":1163460},null,null,null,null,{"$f":"データ一覧!W461","v":1250342},null,null,null,null,"消防費",null,null,null,{"$f":"データ一覧!W475","v":424500},null,null,null,null,{"$f":"データ一覧!W489","v":406644},null,null,null,null,null,{"$f":"データ一覧!W686","v":6},null,null,null,null,{"$f":"データ一覧!W687","v":10},null,null,null,null,{"$f":"データ一覧!W688","v":0},null,null,null,{"$f":"データ一覧!W689","v":79544},null,null,null,null,null,{"$f":"データ一覧!W690","v":8},null,null,null,{"$f":"データ一覧!W691","v":32},null,null,null,{"$f":"データ一覧!W692","v":33},null,null,null,{"$f":"データ一覧!W693","v":376}]
["体",{"$f":"+LEFT(データ一覧!$A$213,1)","v":"2"},"団体経営体",null,null,null,{"$f":"データ一覧!W215","v":38},null,null,"50万円未満",null,null,null,null,{"$f":"データ一覧!W219","v":183},null,null,"0.5 ha ～ 1.0 ha",null,null,null,null,{"$f":"データ一覧!W235","v":106},null,null,null,null,null,null,"建設した住宅",null,null,"消失した住宅",null,null,null,null,null,null,"財産収入",null,null,null,{"$f":"データ一覧!W448","v":37948},null,null,null,null,{"$f":"データ一覧!W462","v":42743},null,null,null,null,"教育費",null,null,null,{"$f":"データ一覧!W476","v":1198689},null,null,null,null,{"$f":"データ一覧!W490","v":1347654},null,null,null,null," ２０  そ　　　の　　　他　"]
["数","・",null,"法人経営",null,null,{"$f":"データ一覧!W216","v":35},null,null,"50～300万円",null,null,null,null,{"$f":"データ一覧!W220","v":211},null,null,"1.0 ha ～ 2.0 ha",null,null,null,null,{"$f":"データ一覧!W236","v":160},null,null,null,null,null,null,null,null,null,null,null,null,null,null,null,null,"繰入金",null,null,null,{"$f":"データ一覧!W449","v":963076},null,null,null,null,{"$f":"データ一覧!W463","v":810830},null,null,null,null,"災害復旧費",null,null,null,{"$f":"データ一覧!W477","v":0},null,null,null,null,{"$f":"データ一覧!W491","v":0}]
["（",{"$f":"+RIGHT(データ一覧!$A$213)","v":"1"},null,null,null,null,null,null,null,"300～500万円",null,null,null,null,{"$f":"データ一覧!W221","v":14},null,null,"2.0 ha ～ 3.0 ha",null,null,null,null,{"$f":"データ一覧!W237","v":88},null,null,null,{"$f":"データ一覧!W321","v":8035},null,"戸",{"$f":"データ一覧!W322","v":40},null,"戸",{"$f":"データ一覧!W323","v":24},null,"戸",null,{"$f":"データ一覧!W324","v":8051},null,"戸","地方債",null,null,null,{"$f":"データ一覧!W450","v":949000},null,null,null,null,{"$f":"データ一覧!W464","v":1102578},null,null,null,null,"公債費",null,null,null,{"$f":"データ一覧!W478","v":1222502},null,null,null,null,{"$f":"データ一覧!W492","v":1268670},null,null,null,null,null,null,null,null,null,"三方五湖、ﾚｲﾝﾎﾞｰﾗｲﾝ、水月湖年縞、鳥浜貝塚、三十三間山、三方石観世音、\n三方海域公園、河内川ダム、常神のｿﾃﾂ、常神社棟札類、神子の山桜、小川神社のカゴノキ、上村家のタブノキ、円成寺のみかえりのマツ、若狭瓜割名水公園、若狭鯖街道熊川宿、西塚古墳、中塚古墳、上ノ塚古墳、上船塚古墳、下船塚古墳、十善の森古墳、木造聖観世音菩薩立像(安楽寺)、木造十一面観世音菩薩立像(法順寺)、荻野家住宅、三宅火の見やぐら・火の見やぐら倉庫、鳥浜酒造店舗兼醸造所・煙突、若狭三方縄文博物館、若狭町歴史文化館、若狭鯖街道熊川宿資料館宿場館、佐久間記念交流会館、福井県年縞博物館、熊川城跡"]
["総",null,null,null,null,null,null,null,null,"500～1,000万円",null,null,null,null,{"$f":"データ一覧!W222","v":28},null,null,"3.0 ha ～ 5.0 ha",null,null,null,null,{"$f":"データ一覧!W238","v":63},null,null,null,null,null,null,null,null,null,null,null,null,null,null,null,null,"その他",null,null,null,{"$f":"データ一覧!W451","v":964295},null,null,null,null,{"$f":"データ一覧!W465","v":1735767},null,null,null,null,"その他",null,null,null,{"$f":"データ一覧!W479","v":3200},null,null,null,null,{"$f":"データ一覧!W493","v":0},null,null,null,null,"　名所・旧跡"]
["数",null,null,null,null,null,null,null,null,"1,000万円以上",null,null,null,null,{"$f":"データ一覧!W223","v":46},null,null,"5.0 ha以上",null,null,null,null,{"$f":"データ一覧!W239","v":1239},null,null,null,null,null,null,null,null,null,null,null,null,null,null,null,null,null,null,null,null,null,null,null,null,null,null,null,null,null,null,null,null,null,null,null,null,null,null,null,null,null,null,null,null,"  文化財等"]
["）",null,"15歳以上の常雇い数",null,null,null,null,null,null,"農業に60日以上従事した世帯員、役員・構成員\n（経営主を含む）の平均年齢",null,null,null,null,null,null,null,null,null,null,null,null,null,null,null,"  ９  議　 員　・　職 　員",null,null,null,null,null,null,null,null,null,null,null,null,null," １４  文　　　化",null,null,null,null,null,null,null," ( ",{"$f":"\"令\"&データ一覧!$A$498","v":"令6.3.31"},null,null,"ただし図書館・公民館・児童館・ 社会教育学級講座",null,null,null,null,null,null,null,null,null,null,null,{"$f":"データ一覧!$A$494","v":"6.4.1"}]
["と",null,null,null,null,null,null,null,null,null,null,null,null,null,null,null,null,null,null,null,null,null,null,null,null,null,null,null,null,null,null,null,null,null,null,null,null,null,null,null,null,null,null,null,null,null,null,null,null,null,null,null,"　宗教法人数 ",null,null,null,null,null,null,null,null,null,null,{"$f":"データ一覧!$A$502","v":"5.12.31"}]
["就",null,null,null,null,null,null,null,null,"農業に60日以上従事",null,null,null,null,null,null,null,"農業に150日以上従事",null,null,null,null,null,null,null," 市 町 議 会",null,null,"有権者数",null,{"$f":"データ一覧!$A$328","v":"6.9.1"},null,"市 町 議 会",null,null,"  職      員      数",null,null,null,null,null,null,null,null,"図書館",null,null,null,null,null,"公　民　館",null,null,null,null,null,null,null,null,null,null," 社会教育学級講座"]
["業",null,"区分",null,null,null,"人",null,null,"区分",null,null,null,null,"歳",null,null,"区　　分",null,null,null,null,"歳",null,null," 議  員  定  数",null,null,"    男",null,"    女",null,"選 挙 投 票 率",null,null," 総     数",null,"一般行政職",null,"公    共",null,null,null," 館  数",null,null," 図書数",null,null," 本  館",null,null," 分  館",null,null," 公  園",null,null," 児童館",null,null,"学級講座数",null,null,"受講者数",null,null,"　　特産物",null,null,null,null,"福井梅、ｳﾅｷﾞ、ﾌﾅ、ｺｲ、ｱｵﾘｲｶ、岩屋梨、瓜割名水、熊川葛、山内かぶら、須惠野焼"]
["状",null,"総数",null,null,null,{"$f":"データ一覧!W230","v":40},null,null,"総数",null,null,null,null,{"$f":"データ一覧!W224","v":67.3},null,null,"総数",null,null,null,null,{"$f":"データ一覧!W227","v":65.599999999999994},null,null,null,null,"人",null,"人",null,"人",null,null,"　％",null,"人",null,"人","施 設 数",null,null,null,null,{"$f":"データ一覧!W494","v":2},null,{"$f":"データ一覧!W495","v":121460},null,null,{"$f":"データ一覧!W496","v":9},null,null,{"$f":"データ一覧!W497","v":1},null,null,{"$f":"データ一覧!W498","v":0},null,null,{"$f":"データ一覧!W499","v":1},null,null,{"$f":"データ一覧!W500","v":570},null,null,{"$f":"データ一覧!W501","v":7095},null,null," 　年中行事",null,null,null,null,"若狭三方五湖ﾂｰﾃﾞｰﾏｰﾁ、熊川いっぷく時代村、河原神社神事、宇波西神社・国津神社、"]
["況",null,"男",null,null,null,{"$f":"データ一覧!W231","v":24},null,null,"男",null,null,null,null,{"$f":"データ一覧!W225","v":66.8},null,null,"男",null,null,null,null,{"$f":"データ一覧!W228","v":65},null,null,null,{"$f":"データ一覧!W325","v":13},null,{"$f":"データ一覧!W328","v":5499},null,{"$f":"データ一覧!W329","v":5889},null,{"$f":"データ一覧!W327","v":"無投票"},null,null,{"$f":"データ一覧!W330","v":236},null,{"$f":"データ一覧!W331","v":134},null,"宗    教",null,null,null," 仏教系",null,null,"ｷﾘｽﾄ教系",null,null,"神道諸派",null,null,"公会堂・市民会館",null,null,null,null,null," テレビ",null,null,"衛星放送契約数",null,null,null,null,null,null,null,null,null,null,"闇見神社・天満社・前川神社・多由比神社の祭礼(春)、若狭能倉座の神事能、戸祝い・"]
[null,null,"女",null,null,null,{"$f":"データ一覧!W232","v":16},null,null,"女",null,null,null,null,{"$f":"データ一覧!W226","v":68.3},null,null,"女",null,null,null,null,{"$f":"データ一覧!W229","v":67.2},null,null,null,null,null,null,null,null,null,{"$f":"データ一覧!W326","v":"3.4.11"},null,null,null,null,null,null,"法 人 数",null,null,null,{"$f":"データ一覧!W502","v":76},null,null,{"$f":"データ一覧!W503","v":0},null,null,{"$f":"データ一覧!W504","v":71},null,null,{"$f":"データ一覧!W505","v":0},null,null,null,null,null,"      等",null,null,{"$f":"データ一覧!W506","v":2908},null,null,null,null,null,null,null,null,null,null,"ｷﾂﾈｶﾞﾘ、上中の六斎念仏(三宅・瓜生)、海士坂の送り盆"]